Workbook

Sheet Feuil1
A1: N° | B1: QTE | C1: N° CAL | D1: N° PLAN | E1: DESIGNATION | F1: N°GPAO
A2: 1 | B2: 1 | C2: 12345 | D2: 13021M2 | E2: ASSEMBLAGE 1 | F2: PLA292-M2
A3: 1.1 | B3: 1 | C3: 12345 | D3: 13021M1 | E3: SOUS-ASSEMBLAGE 1 | F3: PLA292-M1
A4: 1.1.1 | B4: 1 | C4: 2468 | D4: 03910 | E4: COMPOSANT 1 | F4: PIE106
A5: 1.1.2 | B5: 2 | C5: 12345 | D5: 107 | E5: COMPOSANT 2 | F5: TEN359
A6: 1.1.3 | B6: 2 | C6: 2468 | D6: 03888 | E6: COMPOSANT 3 | F6: TEN353
A7: 1.2 | B7: 2 | C7: 121314 | D7: 13021M2 | E7: SOUS-ASSEMBLAGE 2 | F7: TEN356-M2
A8: 1.2.1 | B8: 1 | C8: 121314 | D8: 03910 | E8: COMPOSANT 1 | F8: PIE106
A9: 1.2.2 | B9: 1 | C9: 12345 | D9: 03912M1 | E9: SOUS-ASSEMBLAGE 3 | F9: TEN357-M1
A10: 1.2.2.1 | B10: 2 | C10: 12345 | D10: 03888 | E10: COMPOSANT 3 | F10: TEN353
A11: 1.2.2.2 | B11: 1 | C11: 12345 | D11: 51.83348 | E11: COMPOSANT 4 | F11: TEN360
A12: 2 | B12: 2 | C12: 2468 | D12: 03878M1 | E12: ASSEMBLAGE 2 | F12: TEN350-M1
A13: 2.1 | B13: 1 | C13: 12345 | D13: 03878 | E13: COMPOSANT 5 | F13: TEN351
A14: 2.2 | B14: 2 | C14: 00025 | D14: 250-110 | E14: COMPOSANT 6 | F14: GOU178
A15: 3 | B15: 1 | C15: 12345 | D15: 02097M1 | E15: ASSEMBLAGE 3 | F15: CAN058-M1
A16: 3.1 | B16: 1 | C16: 12345 | D16: 03878 | E16: COMPOSANT 5 | F16: TEN351
A17: 3.2 | B17: 3 | C17: 12345 | D17: 03909 | E17: COMPOSANT 7 | F17: EXC059
A18: 4 | B18: 5 | C18: 12345 | D18: 03880 | E18: COMPOSANT 8 | F18: EXC058

Sheet Feuil2
A1: =Feuil1!A1:G22 -> N° | B1: =Feuil1!B1:H22 -> QTE | C1: =Feuil1!C1:I22 -> N° CAL | D1: =Feuil1!D1:J22 -> N° PLAN | E1: =Feuil1!E1:K22 -> DESIGNATION | F1: =Feuil1!F1:L22 -> N°GPAO
A2: =Feuil1!A2:G23 -> 1 | B2: =Feuil1!B2:H23 -> 1 | C2: =Feuil1!C2:I23 -> 12345 | D2: =Feuil1!D2:J23 -> 13021M2 | E2: =IF(LEN(A2)=3," ",IF(LEN(A2)=5," ",""))&Feuil1!E2 -> ASSEMBLAGE 1 | F2: =Feuil1!F2:L23 -> PLA292-M2
A3: =Feuil1!A3:G24 -> 1.1 | B3: =Feuil1!B3:H24 -> 1 | C3: =Feuil1!C3:I24 -> 12345 | D3: =Feuil1!D3:J24 -> 13021M1 | E3: =IF(LEN(A3)=3," ",IF(LEN(A3)=5," ",""))&Feuil1!E3 -> SOUS-ASSEMBLAGE 1 | F3: =Feuil1!F3:L24 -> PLA292-M1
A4: =Feuil1!A4:G25 -> 1.1.1 | B4: =Feuil1!B4:H25 -> 1 | C4: =Feuil1!C4:I25 -> 2468 | D4: =Feuil1!D4:J25 -> 03910 | E4: =IF(LEN(A4)=3," ",IF(LEN(A4)=5," ",""))&Feuil1!E4 -> COMPOSANT 1 | F4: =Feuil1!F4:L25 -> PIE106
A5: =Feuil1!A5:G26 -> 1.1.2 | B5: =Feuil1!B5:H26 -> 2 | C5: =Feuil1!C5:I26 -> 12345 | D5: =Feuil1!D5:J26 -> 107 | E5: =IF(LEN(A5)=3," ",IF(LEN(A5)=5," ",""))&Feuil1!E5 -> COMPOSANT 2 | F5: =Feuil1!F5:L26 -> TEN359
A6: =Feuil1!A6:G27 -> 1.1.3 | B6: =Feuil1!B6:H27 -> 2 | C6: =Feuil1!C6:I27 -> 2468 | D6: =Feuil1!D6:J27 -> 03888 | E6: =IF(LEN(A6)=3," ",IF(LEN(A6)=5," ",""))&Feuil1!E6 -> COMPOSANT 3 | F6: =Feuil1!F6:L27 -> TEN353
A7: =Feuil1!A7:G28 -> 1.2 | B7: =Feuil1!B7:H28 -> 2 | C7: =Feuil1!C7:I28 -> 121314 | D7: =Feuil1!D7:J28 -> 13021M2 | E7: =IF(LEN(A7)=3," ",IF(LEN(A7)=5," ",""))&Feuil1!E7 -> SOUS-ASSEMBLAGE 2 | F7: =Feuil1!F7:L28 -> TEN356-M2
A8: =Feuil1!A8:G29 -> 1.2.1 | B8: =Feuil1!B8:H29 -> 1 | C8: =Feuil1!C8:I29 -> 121314 | D8: =Feuil1!D8:J29 -> 03910 | E8: =IF(LEN(A8)=3," ",IF(LEN(A8)=5," ",""))&Feuil1!E8 -> COMPOSANT 1 | F8: =Feuil1!F8:L29 -> PIE106
A9: =Feuil1!A9:G30 -> 1.2.2 | B9: =Feuil1!B9:H30 -> 1 | C9: =Feuil1!C9:I30 -> 12345 | D9: =Feuil1!D9:J30 -> 03912M1 | E9: =IF(LEN(A9)=3," ",IF(LEN(A9)=5," ",""))&Feuil1!E9 -> SOUS-ASSEMBLAGE 3 | F9: =Feuil1!F9:L30 -> TEN357-M1
A10: =Feuil1!A10:G31 -> 1.2.2.1 | B10: =Feuil1!B10:H31 -> 2 | C10: =Feuil1!C10:I31 -> 12345 | D10: =Feuil1!D10:J31 -> 03888 | E10: =IF(LEN(A10)=3," ",IF(LEN(A10)=5," ",""))&Feuil1!E10 -> COMPOSANT 3 | F10: =Feuil1!F10:L31 -> TEN353
A11: =Feuil1!A11:G32 -> 1.2.2.2 | B11: =Feuil1!B11:H32 -> 1 | C11: =Feuil1!C11:I32 -> 12345 | D11: =Feuil1!D11:J32 -> 51.83348 | E11: =IF(LEN(A11)=3," ",IF(LEN(A11)=5," ",""))&Feuil1!E11 -> COMPOSANT 4 | F11: =Feuil1!F11:L32 -> TEN360
A12: =Feuil1!A12:G33 -> 2 | B12: =Feuil1!B12:H33 -> 2 | C12: =Feuil1!C12:I33 -> 2468 | D12: =Feuil1!D12:J33 -> 03878M1 | E12: =IF(LEN(A12)=3," ",IF(LEN(A12)=5," ",""))&Feuil1!E12 -> ASSEMBLAGE 2 | F12: =Feuil1!F12:L33 -> TEN350-M1
A13: =Feuil1!A13:G34 -> 2.1 | B13: =Feuil1!B13:H34 -> 1 | C13: =Feuil1!C13:I34 -> 12345 | D13: =Feuil1!D13:J34 -> 03878 | E13: =IF(LEN(A13)=3," ",IF(LEN(A13)=5," ",""))&Feuil1!E13 -> COMPOSANT 5 | F13: =Feuil1!F13:L34 -> TEN351
... A18: =Feuil1!A18:G39 -> 4 | B18: =Feuil1!B18:H39 -> 5 | C18: =Feuil1!C18:I39 -> 12345 | D18: =Feuil1!D18:J39 -> 03880 | E18: =IF(LEN(A18)=3," ",IF(LEN(A18)=5," ",""))&Feuil1!E18 -> COMPOSANT 8 | F18: =Feuil1!F18:L39 -> EXC058

Sheet Feuil3
