Workbook
Name action: Base!$E$3:$E$11
Name article: Base!$A$3:$A$22

Sheet Base
A2: PRODUIT | B2: UVC | C2: kg | E2: Action | F2: Entrée/Sortie | G2: Calcul temps traitement
A3: Produit A | B3: 10 | C3: 1 | E3: Retour Commercial | F3: S | G3: N
A4: Produit B | B4: 10 | C4: 1 | E4: Retour Transporteur | F4: S | G4: N
A5: Produit C | B5: 8 | C5: 1.2 | E5: Retour Analyse | F5: S | G5: N
A6: Produit D | B6: 8 | C6: 1.2 | E6: Retour Autre | F6: S | G6: N
A7: Produit E | B7: 10 | C7: 0.9 | E7: Declassé Technique | F7: E | G7: N
A8: Produit F | B8: 10 | C8: 1 | E8: Declassé Commercial | F8: E | G8: O
A9: Produit G | B9: 8 | C9: 0.8 | E9: Declassé Analyse | F9: E | G9: O
A10: Produit H | B10: 8 | C10: 1.2 | E10: Arrivage Autre | F10: E | G10: O
A11: Produit I | B11: 8 | C11: 1.2 | E11: Fonte | F11: E | G11: O
A12: Produit J | B12: 8 | C12: 1.2
A13: Produit K | B13: 8 | C13: 1.2
A14: Produit L | B14: 10 | C14: 1
A15: Produit M | B15: 10 | C15: 1.5
A16: Produit N | B16: 10 | C16: 1
A17: Produit O | B17: 8 | C17: 1.5
A18: Produit P | B18: 8 | C18: 1.2
A19: Produit Q | B19: 8 | C19: 1.2
A20: Produit R | B20: 2 | C20: 1.6
A21: Produit S | B21: 2 | C21: 1.6
A22: Produit T | B22: 2 | C22: 1.6

Sheet Suivi
B1: Retours Levezou
B2: Retour declasse technique
B3: Retour produit reconditionné
B4: ERREUR
A6: DATE | B6: PRODUIT | C6: LOT | D6: QNTE COLIS | E6: ACTION | F6: UVC/S | G6: UVC/E | H6: KG | I6: Kg non Tech | J6: Semaine | K6: Mois | L6: Année | M6: COMMENTAIRE | N6: test2 | O6: Durée
A7: 42300 | B7: Produit A | C7: 150 | D7: 3 | E7: Retour Transporteur | F7: =IF(D7<>"",IF(VLOOKUP(E7,Base!$E$3:$F$11,2,FALSE)="S",VLOOKUP(B7,Base!$A$2:$B$23,2,FALSE)*D7,""),"") -> 30 | G7: =IF(D7<>"",IF(VLOOKUP(E7,Base!$E$3:$F$11,2,FALSE)="E",VLOOKUP(B7,Base!$A$2:$B$23,2,FALSE)*D7,""),"") | H7: =IF(G7<>"",VLOOKUP(B7,Base!$A$3:$C$22,3,FALSE)*D7,"") | I7: =IF(G7<>"",IF(VLOOKUP(E7,Base!#REF!,3,FALSE)="O",VLOOKUP(B7,Base!$A$3:$C$22,3,FALSE)*D7,""),"") | J7: =IF(A7<>"",+INT(MOD(INT((A7-2+(WEEKDAY(1)=7)*6)/7)+0.6+((WEEKDAY(1)=7)*208),52+5/28))+1,"") -> 43 | K7: =IF(A7<>"",MONTH(A7),"") -> 10 | L7: =IF(A7<>"",YEAR(A7),"") -> 2015 | N7: =IF(D7<>0,IF(VLOOKUP(E7,Base!$E$3:$G$11,3,FALSE)="O",SUMPRODUCT(($C$7:$C$104=C7)*(($F$7:$F$104)<>"")),""),"") | O7: =IF(D7<>0, IF(AND(VLOOKUP(E7,Base!$E$3:$G$11,3,FALSE)="O",N7=1),A7-SUMPRODUCT(($C$7:$C$104=C7)*($F$7:$F$104<>""),$A$7:$A$104), IF(AND(VLOOKUP(E7,Base!$E$3:$G$11,3,FALSE)="O",N7=0),"lot inexistant", IF(AND(VLOOKUP(E7,Base!$E$3:$G$11,3,FALSE)="O",N7>1),"Doublons",""))), "")
A8: 42278 | B8: Produit B | C8: 152 | D8: 2 | E8: Retour Analyse | F8: =IF(D8<>"",IF(VLOOKUP(E8,Base!$E$3:$F$11,2,FALSE)="S",VLOOKUP(B8,Base!$A$2:$B$23,2,FALSE)*D8,""),"") -> 20 | G8: =IF(D8<>"",IF(VLOOKUP(E8,Base!$E$3:$F$11,2,FALSE)="E",VLOOKUP(B8,Base!$A$2:$B$23,2,FALSE)*D8,""),"") | H8: =IF(G8<>"",VLOOKUP(B8,Base!$A$3:$C$22,3,FALSE)*D8,"") | I8: =IF(G8<>"",IF(VLOOKUP(E8,Base!#REF!,3,FALSE)="O",VLOOKUP(B8,Base!$A$3:$C$22,3,FALSE)*D8,""),"") | J8: =IF(A8<>"",+INT(MOD(INT((A8-2+(WEEKDAY(1)=7)*6)/7)+0.6+((WEEKDAY(1)=7)*208),52+5/28))+1,"") -> 40 | K8: =IF(A8<>"",MONTH(A8),"") -> 10 | L8: =IF(A8<>"",YEAR(A8),"") -> 2015 | N8: =IF(D8<>0,IF(VLOOKUP(E8,Base!$E$3:$G$11,3,FALSE)="O",SUMPRODUCT(($C$7:$C$104=C8)*(($F$7:$F$104)<>"")),""),"") | O8: =IF(D8<>0, IF(AND(VLOOKUP(E8,Base!$E$3:$G$11,3,FALSE)="O",N8=1),A8-SUMPRODUCT(($C$7:$C$104=C8)*($F$7:$F$104<>""),$A$7:$A$104), IF(AND(VLOOKUP(E8,Base!$E$3:$G$11,3,FALSE)="O",N8=0),"lot inexistant", IF(AND(VLOOKUP(E8,Base!$E$3:$G$11,3,FALSE)="O",N8>1),"Doublons",""))), "")
A9: 42278 | B9: Produit C | C9: 153 | D9: 2 | E9: Retour Autre | F9: =IF(D9<>"",IF(VLOOKUP(E9,Base!$E$3:$F$11,2,FALSE)="S",VLOOKUP(B9,Base!$A$2:$B$23,2,FALSE)*D9,""),"") -> 16 | G9: =IF(D9<>"",IF(VLOOKUP(E9,Base!$E$3:$F$11,2,FALSE)="E",VLOOKUP(B9,Base!$A$2:$B$23,2,FALSE)*D9,""),"") | H9: =IF(G9<>"",VLOOKUP(B9,Base!$A$3:$C$22,3,FALSE)*D9,"") | I9: =IF(G9<>"",IF(VLOOKUP(E9,Base!#REF!,3,FALSE)="O",VLOOKUP(B9,Base!$A$3:$C$22,3,FALSE)*D9,""),"") | J9: =IF(A9<>"",+INT(MOD(INT((A9-2+(WEEKDAY(1)=7)*6)/7)+0.6+((WEEKDAY(1)=7)*208),52+5/28))+1,"") -> 40 | K9: =IF(A9<>"",MONTH(A9),"") -> 10 | L9: =IF(A9<>"",YEAR(A9),"") -> 2015 | N9: =IF(D9<>0,IF(VLOOKUP(E9,Base!$E$3:$G$11,3,FALSE)="O",SUMPRODUCT(($C$7:$C$104=C9)*(($F$7:$F$104)<>"")),""),"") | O9: =IF(D9<>0, IF(AND(VLOOKUP(E9,Base!$E$3:$G$11,3,FALSE)="O",N9=1),A9-SUMPRODUCT(($C$7:$C$104=C9)*($F$7:$F$104<>""),$A$7:$A$104), IF(AND(VLOOKUP(E9,Base!$E$3:$G$11,3,FALSE)="O",N9=0),"lot inexistant", IF(AND(VLOOKUP(E9,Base!$E$3:$G$11,3,FALSE)="O",N9>1),"Doublons",""))), "")
A10: 42276 | B10: Produit C | C10: 154 | D10: 2 | E10: Retour Commercial | F10: =IF(D10<>"",IF(VLOOKUP(E10,Base!$E$3:$F$11,2,FALSE)="S",VLOOKUP(B10,Base!$A$2:$B$23,2,FALSE)*D10,""),"") -> 16 | G10: =IF(D10<>"",IF(VLOOKUP(E10,Base!$E$3:$F$11,2,FALSE)="E",VLOOKUP(B10,Base!$A$2:$B$23,2,FALSE)*D10,""),"") | H10: =IF(G10<>"",VLOOKUP(B10,Base!$A$3:$C$22,3,FALSE)*D10,"") | I10: =IF(G10<>"",IF(VLOOKUP(E10,Base!E1:G10,3,FALSE)="O",VLOOKUP(B10,Base!$A$3:$C$22,3,FALSE)*D10,""),"") | J10: =IF(A10<>"",+INT(MOD(INT((A10-2+(WEEKDAY(1)=7)*6)/7)+0.6+((WEEKDAY(1)=7)*208),52+5/28))+1,"") -> 40 | K10: =IF(A10<>"",MONTH(A10),"") -> 9 | L10: =IF(A10<>"",YEAR(A10),"") -> 2015 | N10: =IF(D10<>0,IF(VLOOKUP(E10,Base!$E$3:$G$11,3,FALSE)="O",SUMPRODUCT(($C$7:$C$104=C10)*(($F$7:$F$104)<>"")),""),"") | O10: =IF(D10<>0, IF(AND(VLOOKUP(E10,Base!$E$3:$G$11,3,FALSE)="O",N10=1),A10-SUMPRODUCT(($C$7:$C$104=C10)*($F$7:$F$104<>""),$A$7:$A$104), IF(AND(VLOOKUP(E10,Base!$E$3:$G$11,3,FALSE)="O",N10=0),"lot inexistant", IF(AND(VLOOKUP(E10,Base!$E$3:$G$11,3,FALSE)="O",N10>1),"Doublons",""))), "")
A11: 42303 | B11: Produit E | C11: 150 | D11: 3 | E11: Declassé Commercial | F11: =IF(D11<>"",IF(VLOOKUP(E11,Base!$E$3:$F$11,2,FALSE)="S",VLOOKUP(B11,Base!$A$2:$B$23,2,FALSE)*D11,""),"") | G11: =IF(D11<>"",IF(VLOOKUP(E11,Base!$E$3:$F$11,2,FALSE)="E",VLOOKUP(B11,Base!$A$2:$B$23,2,FALSE)*D11,""),"") -> 30 | H11: =IF(G11<>"",VLOOKUP(B11,Base!$A$3:$C$22,3,FALSE)*D11,"") -> 2.7 | I11: =IF(G11<>"",IF(VLOOKUP(E11,Base!E2:G11,3,FALSE)="O",VLOOKUP(B11,Base!$A$3:$C$22,3,FALSE)*D11,""),"") -> 2.7 | J11: =IF(A11<>"",+INT(MOD(INT((A11-2+(WEEKDAY(1)=7)*6)/7)+0.6+((WEEKDAY(1)=7)*208),52+5/28))+1,"") -> 44 | K11: =IF(A11<>"",MONTH(A11),"") -> 10 | L11: =IF(A11<>"",YEAR(A11),"") -> 2015 | N11: =IF(D11<>0,IF(VLOOKUP(E11,Base!$E$3:$G$11,3,FALSE)="O",SUMPRODUCT(($C$7:$C$104=C11)*(($F$7:$F$104)<>"")),""),"") -> 1 | O11: =IF(D11<>0, IF(AND(VLOOKUP(E11,Base!$E$3:$G$11,3,FALSE)="O",N11=1),A11-SUMPRODUCT(($C$7:$C$104=C11)*($F$7:$F$104<>""),$A$7:$A$104), IF(AND(VLOOKUP(E11,Base!$E$3:$G$11,3,FALSE)="O",N11=0),"lot inexistant", IF(AND(VLOOKUP(E11,Base!$E$3:$G$11,3,FALSE)="O",N11>1),"Doublons",""))), "") -> 3
A12: 42307 | B12: Produit H | C12: 154 | D12: 2 | E12: Declassé Technique | F12: =IF(D12<>"",IF(VLOOKUP(E12,Base!$E$3:$F$11,2,FALSE)="S",VLOOKUP(B12,Base!$A$2:$B$23,2,FALSE)*D12,""),"") | G12: =IF(D12<>"",IF(VLOOKUP(E12,Base!$E$3:$F$11,2,FALSE)="E",VLOOKUP(B12,Base!$A$2:$B$23,2,FALSE)*D12,""),"") -> 16 | H12: =IF(G12<>"",VLOOKUP(B12,Base!$A$3:$C$22,3,FALSE)*D12,"") -> 2.4 | I12: =IF(G12<>"",IF(VLOOKUP(E12,Base!E3:G12,3,FALSE)="O",VLOOKUP(B12,Base!$A$3:$C$22,3,FALSE)*D12,""),"") | J12: =IF(A12<>"",+INT(MOD(INT((A12-2+(WEEKDAY(1)=7)*6)/7)+0.6+((WEEKDAY(1)=7)*208),52+5/28))+1,"") -> 44 | K12: =IF(A12<>"",MONTH(A12),"") -> 10 | L12: =IF(A12<>"",YEAR(A12),"") -> 2015 | N12: =IF(D12<>0,IF(VLOOKUP(E12,Base!$E$3:$G$11,3,FALSE)="O",SUMPRODUCT(($C$7:$C$104=C12)*(($F$7:$F$104)<>"")),""),"") | O12: =IF(D12<>0, IF(AND(VLOOKUP(E12,Base!$E$3:$G$11,3,FALSE)="O",N12=1),A12-SUMPRODUCT(($C$7:$C$104=C12)*($F$7:$F$104<>""),$A$7:$A$104), IF(AND(VLOOKUP(E12,Base!$E$3:$G$11,3,FALSE)="O",N12=0),"lot inexistant", IF(AND(VLOOKUP(E12,Base!$E$3:$G$11,3,FALSE)="O",N12>1),"Doublons",""))), "")
A13: 42307 | B13: Produit E | C13: 152 | D13: 1 | E13: Declassé Analyse | F13: =IF(D13<>"",IF(VLOOKUP(E13,Base!$E$3:$F$11,2,FALSE)="S",VLOOKUP(B13,Base!$A$2:$B$23,2,FALSE)*D13,""),"") | G13: =IF(D13<>"",IF(VLOOKUP(E13,Base!$E$3:$F$11,2,FALSE)="E",VLOOKUP(B13,Base!$A$2:$B$23,2,FALSE)*D13,""),"") -> 10 | H13: =IF(G13<>"",VLOOKUP(B13,Base!$A$3:$C$22,3,FALSE)*D13,"") -> 0.9 | I13: =IF(G13<>"",IF(VLOOKUP(E13,Base!E4:G13,3,FALSE)="O",VLOOKUP(B13,Base!$A$3:$C$22,3,FALSE)*D13,""),"") -> 0.9 | J13: =IF(A13<>"",+INT(MOD(INT((A13-2+(WEEKDAY(1)=7)*6)/7)+0.6+((WEEKDAY(1)=7)*208),52+5/28))+1,"") -> 44 | K13: =IF(A13<>"",MONTH(A13),"") -> 10 | L13: =IF(A13<>"",YEAR(A13),"") -> 2015 | N13: =IF(D13<>0,IF(VLOOKUP(E13,Base!$E$3:$G$11,3,FALSE)="O",SUMPRODUCT(($C$7:$C$104=C13)*(($F$7:$F$104)<>"")),""),"") -> 1 | O13: =IF(D13<>0, IF(AND(VLOOKUP(E13,Base!$E$3:$G$11,3,FALSE)="O",N13=1),A13-SUMPRODUCT(($C$7:$C$104=C13)*($F$7:$F$104<>""),$A$7:$A$104), IF(AND(VLOOKUP(E13,Base!$E$3:$G$11,3,FALSE)="O",N13=0),"lot inexistant", IF(AND(VLOOKUP(E13,Base!$E$3:$G$11,3,FALSE)="O",N13>1),"Doublons",""))), "") -> 29
A14: 42280 | B14: Produit E | C14: 152 | D14: 1 | E14: Arrivage Autre | F14: =IF(D14<>"",IF(VLOOKUP(E14,Base!$E$3:$F$11,2,FALSE)="S",VLOOKUP(B14,Base!$A$2:$B$23,2,FALSE)*D14,""),"") | G14: =IF(D14<>"",IF(VLOOKUP(E14,Base!$E$3:$F$11,2,FALSE)="E",VLOOKUP(B14,Base!$A$2:$B$23,2,FALSE)*D14,""),"") -> 10 | H14: =IF(G14<>"",VLOOKUP(B14,Base!$A$3:$C$22,3,FALSE)*D14,"") -> 0.9 | I14: =IF(G14<>"",IF(VLOOKUP(E14,Base!E5:G14,3,FALSE)="O",VLOOKUP(B14,Base!$A$3:$C$22,3,FALSE)*D14,""),"") -> 0.9 | J14: =IF(A14<>"",+INT(MOD(INT((A14-2+(WEEKDAY(1)=7)*6)/7)+0.6+((WEEKDAY(1)=7)*208),52+5/28))+1,"") -> 40 | K14: =IF(A14<>"",MONTH(A14),"") -> 10 | L14: =IF(A14<>"",YEAR(A14),"") -> 2015 | N14: =IF(D14<>0,IF(VLOOKUP(E14,Base!$E$3:$G$11,3,FALSE)="O",SUMPRODUCT(($C$7:$C$104=C14)*(($F$7:$F$104)<>"")),""),"") -> 1 | O14: =IF(D14<>0, IF(AND(VLOOKUP(E14,Base!$E$3:$G$11,3,FALSE)="O",N14=1),A14-SUMPRODUCT(($C$7:$C$104=C14)*($F$7:$F$104<>""),$A$7:$A$104), IF(AND(VLOOKUP(E14,Base!$E$3:$G$11,3,FALSE)="O",N14=0),"lot inexistant", IF(AND(VLOOKUP(E14,Base!$E$3:$G$11,3,FALSE)="O",N14>1),"Doublons",""))), "") -> 2
A15: 42282 | B15: Produit I | C15: 153 | D15: 2 | E15: Fonte | F15: =IF(D15<>"",IF(VLOOKUP(E15,Base!$E$3:$F$11,2,FALSE)="S",VLOOKUP(B15,Base!$A$2:$B$23,2,FALSE)*D15,""),"") | G15: =IF(D15<>"",IF(VLOOKUP(E15,Base!$E$3:$F$11,2,FALSE)="E",VLOOKUP(B15,Base!$A$2:$B$23,2,FALSE)*D15,""),"") -> 16 | H15: =IF(G15<>"",VLOOKUP(B15,Base!$A$3:$C$22,3,FALSE)*D15,"") -> 2.4 | I15: =IF(G15<>"",IF(VLOOKUP(E15,Base!E6:G15,3,FALSE)="O",VLOOKUP(B15,Base!$A$3:$C$22,3,FALSE)*D15,""),"") -> 2.4 | J15: =IF(A15<>"",+INT(MOD(INT((A15-2+(WEEKDAY(1)=7)*6)/7)+0.6+((WEEKDAY(1)=7)*208),52+5/28))+1,"") -> 41 | K15: =IF(A15<>"",MONTH(A15),"") -> 10 | L15: =IF(A15<>"",YEAR(A15),"") -> 2015 | N15: =IF(D15<>0,IF(VLOOKUP(E15,Base!$E$3:$G$11,3,FALSE)="O",SUMPRODUCT(($C$7:$C$104=C15)*(($F$7:$F$104)<>"")),""),"") -> 1 | O15: =IF(D15<>0, IF(AND(VLOOKUP(E15,Base!$E$3:$G$11,3,FALSE)="O",N15=1),A15-SUMPRODUCT(($C$7:$C$104=C15)*($F$7:$F$104<>""),$A$7:$A$104), IF(AND(VLOOKUP(E15,Base!$E$3:$G$11,3,FALSE)="O",N15=0),"lot inexistant", IF(AND(VLOOKUP(E15,Base!$E$3:$G$11,3,FALSE)="O",N15>1),"Doublons",""))), "") -> 4
A16: 42292 | B16: Produit C | C16: 154 | D16: 2 | E16: Declassé Commercial | F16: =IF(D16<>"",IF(VLOOKUP(E16,Base!$E$3:$F$11,2,FALSE)="S",VLOOKUP(B16,Base!$A$2:$B$23,2,FALSE)*D16,""),"") | G16: =IF(D16<>"",IF(VLOOKUP(E16,Base!$E$3:$F$11,2,FALSE)="E",VLOOKUP(B16,Base!$A$2:$B$23,2,FALSE)*D16,""),"") -> 16 | H16: =IF(G16<>"",VLOOKUP(B16,Base!$A$3:$C$22,3,FALSE)*D16,"") -> 2.4 | I16: =IF(G16<>"",IF(VLOOKUP(E16,Base!E7:G16,3,FALSE)="O",VLOOKUP(B16,Base!$A$3:$C$22,3,FALSE)*D16,""),"") -> 2.4 | J16: =IF(A16<>"",+INT(MOD(INT((A16-2+(WEEKDAY(1)=7)*6)/7)+0.6+((WEEKDAY(1)=7)*208),52+5/28))+1,"") -> 42 | K16: =IF(A16<>"",MONTH(A16),"") -> 10 | L16: =IF(A16<>"",YEAR(A16),"") -> 2015 | N16: =IF(D16<>0,IF(VLOOKUP(E16,Base!$E$3:$G$11,3,FALSE)="O",SUMPRODUCT(($C$7:$C$104=C16)*(($F$7:$F$104)<>"")),""),"") -> 1 | O16: =IF(D16<>0, IF(AND(VLOOKUP(E16,Base!$E$3:$G$11,3,FALSE)="O",N16=1),A16-SUMPRODUCT(($C$7:$C$104=C16)*($F$7:$F$104<>""),$A$7:$A$104), IF(AND(VLOOKUP(E16,Base!$E$3:$G$11,3,FALSE)="O",N16=0),"lot inexistant", IF(AND(VLOOKUP(E16,Base!$E$3:$G$11,3,FALSE)="O",N16>1),"Doublons",""))), "") -> 16
F17: =IF(D17<>"",IF(VLOOKUP(E17,Base!$E$3:$F$11,2,FALSE)="S",VLOOKUP(B17,Base!$A$2:$B$23,2,FALSE)*D17,""),"") | G17: =IF(D17<>"",IF(VLOOKUP(E17,Base!$E$3:$F$11,2,FALSE)="E",VLOOKUP(B17,Base!$A$2:$B$23,2,FALSE)*D17,""),"") | I17: =IF(D17<>"",IF(AND(VLOOKUP(E17,Base!$E$3:$F$11,2,FALSE)="E",VLOOKUP(E17,Base!$E$3:$G$11,3,FALSE)="O"),VLOOKUP(B17,Base!$A$2:$B$23,2,FALSE)*D17,""),"") | N17: =IF(D17<>0,IF(VLOOKUP(E17,Base!$E$3:$G$11,3,FALSE)="O",SUMPRODUCT(($C$7:$C$104=C17)*($F$7:$F$104=G17)),""),"") | O17: =IF(D17<>0, IF(AND(VLOOKUP(E17,Base!$E$3:$G$11,3,FALSE)="O",N17=1),A17-SUMPRODUCT(($C$7:$C$104=C17)*($F$7:$F$104<>""),$A$7:$A$104), IF(AND(VLOOKUP(E17,Base!$E$3:$G$11,3,FALSE)="O",N17=0),"lot inexistant", IF(AND(VLOOKUP(E17,Base!$E$3:$G$11,3,FALSE)="O",N17>1),"Doublons",""))), "")
F18: =IF(D18<>"",IF(VLOOKUP(E18,Base!$E$3:$F$11,2,FALSE)="S",VLOOKUP(B18,Base!$A$2:$B$23,2,FALSE)*D18,""),"") | G18: =IF(D18<>"",IF(VLOOKUP(E18,Base!$E$3:$F$11,2,FALSE)="E",VLOOKUP(B18,Base!$A$2:$B$23,2,FALSE)*D18,""),"") | I18: =IF(D18<>"",IF(AND(VLOOKUP(E18,Base!$E$3:$F$11,2,FALSE)="E",VLOOKUP(E18,Base!$E$3:$G$11,3,FALSE)="O"),VLOOKUP(B18,Base!$A$2:$B$23,2,FALSE)*D18,""),"") | J18: =IF(A18<>"",+INT(MOD(INT((A18-2+(WEEKDAY(1)=7)*6)/7)+0.6+((WEEKDAY(1)=7)*208),52+5/28))+1,"") | K18: =IF(A18<>"",MONTH(A18),"") | L18: =IF(A18<>"",YEAR(A18),"") | N18: =IF(D18<>0,IF(VLOOKUP(E18,Base!$E$3:$G$11,3,FALSE)="O",SUMPRODUCT(($C$7:$C$104=C18)*($F$7:$F$104=G18)),""),"") | O18: =IF(D18<>0, IF(AND(VLOOKUP(E18,Base!$E$3:$G$11,3,FALSE)="O",N18=1),A18-SUMPRODUCT(($C$7:$C$104=C18)*($F$7:$F$104<>""),$A$7:$A$104), IF(AND(VLOOKUP(E18,Base!$E$3:$G$11,3,FALSE)="O",N18=0),"lot inexistant", IF(AND(VLOOKUP(E18,Base!$E$3:$G$11,3,FALSE)="O",N18>1),"Doublons",""))), "")
F19: =IF(D19<>"",IF(VLOOKUP(E19,Base!$E$3:$F$11,2,FALSE)="S",VLOOKUP(B19,Base!$A$2:$B$23,2,FALSE)*D19,""),"") | G19: =IF(D19<>"",IF(VLOOKUP(E19,Base!$E$3:$F$11,2,FALSE)="E",VLOOKUP(B19,Base!$A$2:$B$23,2,FALSE)*D19,""),"") | I19: =IF(D19<>"",IF(AND(VLOOKUP(E19,Base!$E$3:$F$11,2,FALSE)="E",VLOOKUP(E19,Base!$E$3:$G$11,3,FALSE)="O"),VLOOKUP(B19,Base!$A$2:$B$23,2,FALSE)*D19,""),"") | J19: =IF(A19<>"",+INT(MOD(INT((A19-2+(WEEKDAY(1)=7)*6)/7)+0.6+((WEEKDAY(1)=7)*208),52+5/28))+1,"") | K19: =IF(A19<>"",MONTH(A19),"") | L19: =IF(A19<>"",YEAR(A19),"") | N19: =IF(D19<>0,IF(VLOOKUP(E19,Base!$E$3:$G$11,3,FALSE)="O",SUMPRODUCT(($C$7:$C$104=C19)*($F$7:$F$104=G19)),""),"") | O19: =IF(D19<>0, IF(AND(VLOOKUP(E19,Base!$E$3:$G$11,3,FALSE)="O",N19=1),A19-SUMPRODUCT(($C$7:$C$104=C19)*($F$7:$F$104<>""),$A$7:$A$104), IF(AND(VLOOKUP(E19,Base!$E$3:$G$11,3,FALSE)="O",N19=0),"lot inexistant", IF(AND(VLOOKUP(E19,Base!$E$3:$G$11,3,FALSE)="O",N19>1),"Doublons",""))), "")
F20: =IF(D20<>"",IF(VLOOKUP(E20,Base!$E$3:$F$11,2,FALSE)="S",VLOOKUP(B20,Base!$A$2:$B$23,2,FALSE)*D20,""),"") | G20: =IF(D20<>"",IF(VLOOKUP(E20,Base!$E$3:$F$11,2,FALSE)="E",VLOOKUP(B20,Base!$A$2:$B$23,2,FALSE)*D20,""),"") | I20: =IF(D20<>"",IF(AND(VLOOKUP(E20,Base!$E$3:$F$11,2,FALSE)="E",VLOOKUP(E20,Base!$E$3:$G$11,3,FALSE)="O"),VLOOKUP(B20,Base!$A$2:$B$23,2,FALSE)*D20,""),"") | J20: =IF(A20<>"",+INT(MOD(INT((A20-2+(WEEKDAY(1)=7)*6)/7)+0.6+((WEEKDAY(1)=7)*208),52+5/28))+1,"") | K20: =IF(A20<>"",MONTH(A20),"") | L20: =IF(A20<>"",YEAR(A20),"") | N20: =IF(D20<>0,IF(VLOOKUP(E20,Base!$E$3:$G$11,3,FALSE)="O",SUMPRODUCT(($C$7:$C$104=C20)*($F$7:$F$104=G20)),""),"") | O20: =IF(D20<>0, IF(AND(VLOOKUP(E20,Base!$E$3:$G$11,3,FALSE)="O",N20=1),A20-SUMPRODUCT(($C$7:$C$104=C20)*($F$7:$F$104<>""),$A$7:$A$104), IF(AND(VLOOKUP(E20,Base!$E$3:$G$11,3,FALSE)="O",N20=0),"lot inexistant", IF(AND(VLOOKUP(E20,Base!$E$3:$G$11,3,FALSE)="O",N20>1),"Doublons",""))), "")
F21: =IF(D21<>"",IF(VLOOKUP(E21,Base!$E$3:$F$11,2,FALSE)="S",VLOOKUP(B21,Base!$A$2:$B$23,2,FALSE)*D21,""),"") | G21: =IF(D21<>"",IF(VLOOKUP(E21,Base!$E$3:$F$11,2,FALSE)="E",VLOOKUP(B21,Base!$A$2:$B$23,2,FALSE)*D21,""),"") | I21: =IF(D21<>"",IF(AND(VLOOKUP(E21,Base!$E$3:$F$11,2,FALSE)="E",VLOOKUP(E21,Base!$E$3:$G$11,3,FALSE)="O"),VLOOKUP(B21,Base!$A$2:$B$23,2,FALSE)*D21,""),"") | J21: =IF(A21<>"",+INT(MOD(INT((A21-2+(WEEKDAY(1)=7)*6)/7)+0.6+((WEEKDAY(1)=7)*208),52+5/28))+1,"") | K21: =IF(A21<>"",MONTH(A21),"") | L21: =IF(A21<>"",YEAR(A21),"") | N21: =IF(D21<>0,IF(VLOOKUP(E21,Base!$E$3:$G$11,3,FALSE)="O",SUMPRODUCT(($C$7:$C$104=C21)*($F$7:$F$104=G21)),""),"") | O21: =IF(D21<>0, IF(AND(VLOOKUP(E21,Base!$E$3:$G$11,3,FALSE)="O",N21=1),A21-SUMPRODUCT(($C$7:$C$104=C21)*($F$7:$F$104<>""),$A$7:$A$104), IF(AND(VLOOKUP(E21,Base!$E$3:$G$11,3,FALSE)="O",N21=0),"lot inexistant", IF(AND(VLOOKUP(E21,Base!$E$3:$G$11,3,FALSE)="O",N21>1),"Doublons",""))), "")
F22: =IF(D22<>"",IF(VLOOKUP(E22,Base!$E$3:$F$11,2,FALSE)="S",VLOOKUP(B22,Base!$A$2:$B$23,2,FALSE)*D22,""),"") | G22: =IF(D22<>"",IF(VLOOKUP(E22,Base!$E$3:$F$11,2,FALSE)="E",VLOOKUP(B22,Base!$A$2:$B$23,2,FALSE)*D22,""),"") | I22: =IF(D22<>"",IF(AND(VLOOKUP(E22,Base!$E$3:$F$11,2,FALSE)="E",VLOOKUP(E22,Base!$E$3:$G$11,3,FALSE)="O"),VLOOKUP(B22,Base!$A$2:$B$23,2,FALSE)*D22,""),"") | J22: =IF(A22<>"",+INT(MOD(INT((A22-2+(WEEKDAY(1)=7)*6)/7)+0.6+((WEEKDAY(1)=7)*208),52+5/28))+1,"") | K22: =IF(A22<>"",MONTH(A22),"") | L22: =IF(A22<>"",YEAR(A22),"") | N22: =IF(D22<>0,IF(VLOOKUP(E22,Base!$E$3:$G$11,3,FALSE)="O",SUMPRODUCT(($C$7:$C$104=C22)*($F$7:$F$104=G22)),""),"") | O22: =IF(D22<>0, IF(AND(VLOOKUP(E22,Base!$E$3:$G$11,3,FALSE)="O",N22=1),A22-SUMPRODUCT(($C$7:$C$104=C22)*($F$7:$F$104<>""),$A$7:$A$104), IF(AND(VLOOKUP(E22,Base!$E$3:$G$11,3,FALSE)="O",N22=0),"lot inexistant", IF(AND(VLOOKUP(E22,Base!$E$3:$G$11,3,FALSE)="O",N22>1),"Doublons",""))), "")
F23: =IF(D23<>"",IF(VLOOKUP(E23,Base!$E$3:$F$11,2,FALSE)="S",VLOOKUP(B23,Base!$A$2:$B$23,2,FALSE)*D23,""),"") | G23: =IF(D23<>"",IF(VLOOKUP(E23,Base!$E$3:$F$11,2,FALSE)="E",VLOOKUP(B23,Base!$A$2:$B$23,2,FALSE)*D23,""),"") | I23: =IF(D23<>"",IF(AND(VLOOKUP(E23,Base!$E$3:$F$11,2,FALSE)="E",VLOOKUP(E23,Base!$E$3:$G$11,3,FALSE)="O"),VLOOKUP(B23,Base!$A$2:$B$23,2,FALSE)*D23,""),"") | J23: =IF(A23<>"",+INT(MOD(INT((A23-2+(WEEKDAY(1)=7)*6)/7)+0.6+((WEEKDAY(1)=7)*208),52+5/28))+1,"") | K23: =IF(A23<>"",MONTH(A23),"") | L23: =IF(A23<>"",YEAR(A23),"") | N23: =IF(D23<>0,IF(VLOOKUP(E23,Base!$E$3:$G$11,3,FALSE)="O",SUMPRODUCT(($C$7:$C$104=C23)*($F$7:$F$104=G23)),""),"") | O23: =IF(D23<>0, IF(AND(VLOOKUP(E23,Base!$E$3:$G$11,3,FALSE)="O",N23=1),A23-SUMPRODUCT(($C$7:$C$104=C23)*($F$7:$F$104<>""),$A$7:$A$104), IF(AND(VLOOKUP(E23,Base!$E$3:$G$11,3,FALSE)="O",N23=0),"lot inexistant", IF(AND(VLOOKUP(E23,Base!$E$3:$G$11,3,FALSE)="O",N23>1),"Doublons",""))), "")
F24: =IF(D24<>"",IF(VLOOKUP(E24,Base!$E$3:$F$11,2,FALSE)="S",VLOOKUP(B24,Base!$A$2:$B$23,2,FALSE)*D24,""),"") | G24: =IF(D24<>"",IF(VLOOKUP(E24,Base!$E$3:$F$11,2,FALSE)="E",VLOOKUP(B24,Base!$A$2:$B$23,2,FALSE)*D24,""),"") | I24: =IF(D24<>"",IF(AND(VLOOKUP(E24,Base!$E$3:$F$11,2,FALSE)="E",VLOOKUP(E24,Base!$E$3:$G$11,3,FALSE)="O"),VLOOKUP(B24,Base!$A$2:$B$23,2,FALSE)*D24,""),"") | J24: =IF(A24<>"",+INT(MOD(INT((A24-2+(WEEKDAY(1)=7)*6)/7)+0.6+((WEEKDAY(1)=7)*208),52+5/28))+1,"") | K24: =IF(A24<>"",MONTH(A24),"") | L24: =IF(A24<>"",YEAR(A24),"") | N24: =IF(D24<>0,IF(VLOOKUP(E24,Base!$E$3:$G$11,3,FALSE)="O",SUMPRODUCT(($C$7:$C$104=C24)*($F$7:$F$104=G24)),""),"") | O24: =IF(D24<>0, IF(AND(VLOOKUP(E24,Base!$E$3:$G$11,3,FALSE)="O",N24=1),A24-SUMPRODUCT(($C$7:$C$104=C24)*($F$7:$F$104<>""),$A$7:$A$104), IF(AND(VLOOKUP(E24,Base!$E$3:$G$11,3,FALSE)="O",N24=0),"lot inexistant", IF(AND(VLOOKUP(E24,Base!$E$3:$G$11,3,FALSE)="O",N24>1),"Doublons",""))), "")
F25: =IF(D25<>"",IF(VLOOKUP(E25,Base!$E$3:$F$11,2,FALSE)="S",VLOOKUP(B25,Base!$A$2:$B$23,2,FALSE)*D25,""),"") | G25: =IF(D25<>"",IF(VLOOKUP(E25,Base!$E$3:$F$11,2,FALSE)="E",VLOOKUP(B25,Base!$A$2:$B$23,2,FALSE)*D25,""),"") | I25: =IF(D25<>"",IF(AND(VLOOKUP(E25,Base!$E$3:$F$11,2,FALSE)="E",VLOOKUP(E25,Base!$E$3:$G$11,3,FALSE)="O"),VLOOKUP(B25,Base!$A$2:$B$23,2,FALSE)*D25,""),"") | J25: =IF(A25<>"",+INT(MOD(INT((A25-2+(WEEKDAY(1)=7)*6)/7)+0.6+((WEEKDAY(1)=7)*208),52+5/28))+1,"") | K25: =IF(A25<>"",MONTH(A25),"") | L25: =IF(A25<>"",YEAR(A25),"") | N25: =IF(D25<>0,IF(VLOOKUP(E25,Base!$E$3:$G$11,3,FALSE)="O",SUMPRODUCT(($C$7:$C$104=C25)*($F$7:$F$104=G25)),""),"") | O25: =IF(D25<>0, IF(AND(VLOOKUP(E25,Base!$E$3:$G$11,3,FALSE)="O",N25=1),A25-SUMPRODUCT(($C$7:$C$104=C25)*($F$7:$F$104<>""),$A$7:$A$104), IF(AND(VLOOKUP(E25,Base!$E$3:$G$11,3,FALSE)="O",N25=0),"lot inexistant", IF(AND(VLOOKUP(E25,Base!$E$3:$G$11,3,FALSE)="O",N25>1),"Doublons",""))), "")
F26: =IF(D26<>"",IF(VLOOKUP(E26,Base!$E$3:$F$11,2,FALSE)="S",VLOOKUP(B26,Base!$A$2:$B$23,2,FALSE)*D26,""),"") | G26: =IF(D26<>"",IF(VLOOKUP(E26,Base!$E$3:$F$11,2,FALSE)="E",VLOOKUP(B26,Base!$A$2:$B$23,2,FALSE)*D26,""),"") | I26: =IF(D26<>"",IF(AND(VLOOKUP(E26,Base!$E$3:$F$11,2,FALSE)="E",VLOOKUP(E26,Base!$E$3:$G$11,3,FALSE)="O"),VLOOKUP(B26,Base!$A$2:$B$23,2,FALSE)*D26,""),"") | J26: =IF(A26<>"",+INT(MOD(INT((A26-2+(WEEKDAY(1)=7)*6)/7)+0.6+((WEEKDAY(1)=7)*208),52+5/28))+1,"") | K26: =IF(A26<>"",MONTH(A26),"") | L26: =IF(A26<>"",YEAR(A26),"") | N26: =IF(D26<>0,IF(VLOOKUP(E26,Base!$E$3:$G$11,3,FALSE)="O",SUMPRODUCT(($C$7:$C$104=C26)*($F$7:$F$104=G26)),""),"") | O26: =IF(D26<>0, IF(AND(VLOOKUP(E26,Base!$E$3:$G$11,3,FALSE)="O",N26=1),A26-SUMPRODUCT(($C$7:$C$104=C26)*($F$7:$F$104<>""),$A$7:$A$104), IF(AND(VLOOKUP(E26,Base!$E$3:$G$11,3,FALSE)="O",N26=0),"lot inexistant", IF(AND(VLOOKUP(E26,Base!$E$3:$G$11,3,FALSE)="O",N26>1),"Doublons",""))), "")
F27: =IF(D27<>"",IF(VLOOKUP(E27,Base!$E$3:$F$11,2,FALSE)="S",VLOOKUP(B27,Base!$A$2:$B$23,2,FALSE)*D27,""),"") | G27: =IF(D27<>"",IF(VLOOKUP(E27,Base!$E$3:$F$11,2,FALSE)="E",VLOOKUP(B27,Base!$A$2:$B$23,2,FALSE)*D27,""),"") | I27: =IF(D27<>"",IF(AND(VLOOKUP(E27,Base!$E$3:$F$11,2,FALSE)="E",VLOOKUP(E27,Base!$E$3:$G$11,3,FALSE)="O"),VLOOKUP(B27,Base!$A$2:$B$23,2,FALSE)*D27,""),"") | J27: =IF(A27<>"",+INT(MOD(INT((A27-2+(WEEKDAY(1)=7)*6)/7)+0.6+((WEEKDAY(1)=7)*208),52+5/28))+1,"") | K27: =IF(A27<>"",MONTH(A27),"") | L27: =IF(A27<>"",YEAR(A27),"") | N27: =IF(D27<>0,IF(VLOOKUP(E27,Base!$E$3:$G$11,3,FALSE)="O",SUMPRODUCT(($C$7:$C$104=C27)*($F$7:$F$104=G27)),""),"") | O27: =IF(D27<>0, IF(AND(VLOOKUP(E27,Base!$E$3:$G$11,3,FALSE)="O",N27=1),A27-SUMPRODUCT(($C$7:$C$104=C27)*($F$7:$F$104<>""),$A$7:$A$104), IF(AND(VLOOKUP(E27,Base!$E$3:$G$11,3,FALSE)="O",N27=0),"lot inexistant", IF(AND(VLOOKUP(E27,Base!$E$3:$G$11,3,FALSE)="O",N27>1),"Doublons",""))), "")
F28: =IF(D28<>"",IF(VLOOKUP(E28,Base!$E$3:$F$11,2,FALSE)="S",VLOOKUP(B28,Base!$A$2:$B$23,2,FALSE)*D28,""),"") | G28: =IF(D28<>"",IF(VLOOKUP(E28,Base!$E$3:$F$11,2,FALSE)="E",VLOOKUP(B28,Base!$A$2:$B$23,2,FALSE)*D28,""),"") | I28: =IF(D28<>"",IF(AND(VLOOKUP(E28,Base!$E$3:$F$11,2,FALSE)="E",VLOOKUP(E28,Base!$E$3:$G$11,3,FALSE)="O"),VLOOKUP(B28,Base!$A$2:$B$23,2,FALSE)*D28,""),"") | J28: =IF(A28<>"",+INT(MOD(INT((A28-2+(WEEKDAY(1)=7)*6)/7)+0.6+((WEEKDAY(1)=7)*208),52+5/28))+1,"") | K28: =IF(A28<>"",MONTH(A28),"") | L28: =IF(A28<>"",YEAR(A28),"") | N28: =IF(D28<>0,IF(VLOOKUP(E28,Base!$E$3:$G$11,3,FALSE)="O",SUMPRODUCT(($C$7:$C$104=C28)*($F$7:$F$104=G28)),""),"") | O28: =IF(D28<>0, IF(AND(VLOOKUP(E28,Base!$E$3:$G$11,3,FALSE)="O",N28=1),A28-SUMPRODUCT(($C$7:$C$104=C28)*($F$7:$F$104<>""),$A$7:$A$104), IF(AND(VLOOKUP(E28,Base!$E$3:$G$11,3,FALSE)="O",N28=0),"lot inexistant", IF(AND(VLOOKUP(E28,Base!$E$3:$G$11,3,FALSE)="O",N28>1),"Doublons",""))), "")
F29: =IF(D29<>"",IF(VLOOKUP(E29,Base!$E$3:$F$11,2,FALSE)="S",VLOOKUP(B29,Base!$A$2:$B$23,2,FALSE)*D29,""),"") | G29: =IF(D29<>"",IF(VLOOKUP(E29,Base!$E$3:$F$11,2,FALSE)="E",VLOOKUP(B29,Base!$A$2:$B$23,2,FALSE)*D29,""),"") | I29: =IF(D29<>"",IF(AND(VLOOKUP(E29,Base!$E$3:$F$11,2,FALSE)="E",VLOOKUP(E29,Base!$E$3:$G$11,3,FALSE)="O"),VLOOKUP(B29,Base!$A$2:$B$23,2,FALSE)*D29,""),"") | J29: =IF(A29<>"",+INT(MOD(INT((A29-2+(WEEKDAY(1)=7)*6)/7)+0.6+((WEEKDAY(1)=7)*208),52+5/28))+1,"") | K29: =IF(A29<>"",MONTH(A29),"") | L29: =IF(A29<>"",YEAR(A29),"") | N29: =IF(D29<>0,IF(VLOOKUP(E29,Base!$E$3:$G$11,3,FALSE)="O",SUMPRODUCT(($C$7:$C$104=C29)*($F$7:$F$104=G29)),""),"") | O29: =IF(D29<>0, IF(AND(VLOOKUP(E29,Base!$E$3:$G$11,3,FALSE)="O",N29=1),A29-SUMPRODUCT(($C$7:$C$104=C29)*($F$7:$F$104<>""),$A$7:$A$104), IF(AND(VLOOKUP(E29,Base!$E$3:$G$11,3,FALSE)="O",N29=0),"lot inexistant", IF(AND(VLOOKUP(E29,Base!$E$3:$G$11,3,FALSE)="O",N29>1),"Doublons",""))), "")
... F104: =IF(D104<>"",IF(VLOOKUP(E104,Base!$E$3:$F$11,2,FALSE)="S",VLOOKUP(B104,Base!$A$2:$B$23,2,FALSE)*D104,""),"") | G104: =IF(D104<>"",IF(VLOOKUP(E104,Base!$E$3:$F$11,2,FALSE)="E",VLOOKUP(B104,Base!$A$2:$B$23,2,FALSE)*D104,""),"") | I104: =IF(D104<>"",IF(AND(VLOOKUP(E104,Base!$E$3:$F$11,2,FALSE)="E",VLOOKUP(E104,Base!$E$3:$G$11,3,FALSE)="O"),VLOOKUP(B104,Base!$A$2:$B$23,2,FALSE)*D104,""),"") | J104: =IF(A104<>"",+INT(MOD(INT((A104-2+(WEEKDAY(1)=7)*6)/7)+0.6+((WEEKDAY(1)=7)*208),52+5/28))+1,"") | K104: =IF(A104<>"",MONTH(A104),"") | L104: =IF(A104<>"",YEAR(A104),"") | N104: =IF(D104<>0,IF(VLOOKUP(E104,Base!$E$3:$G$11,3,FALSE)="O",SUMPRODUCT(($C$7:$C$104=C104)*($F$7:$F$104=G104)),""),"") | O104: =IF(D104<>0, IF(AND(VLOOKUP(E104,Base!$E$3:$G$11,3,FALSE)="O",N104=1),A104-SUMPRODUCT(($C$7:$C$104=C104)*($F$7:$F$104<>""),$A$7:$A$104), IF(AND(VLOOKUP(E104,Base!$E$3:$G$11,3,FALSE)="O",N104=0),"lot inexistant", IF(AND(VLOOKUP(E104,Base!$E$3:$G$11,3,FALSE)="O",N104>1),"Doublons",""))), "")
O105: =IF(D105<>0,IF(AND(VLOOKUP(E105,Base!$E$3:$G$11,3,FALSE)="O",N105=1),A105-SUMPRODUCT(($C$7:$C$104=C105)*($F$7:$F$104=G105),$A$7:$A$104),IF(AND(VLOOKUP(E105,Base!$E$3:$G$11,3,FALSE)="O",N105=0),IF(#REF!<>"",A105-#REF!,"lot inexistant"),IF(AND(VLOOKUP(E105,Base!$E$3:$G$11,3,FALSE)="O",N105>1),"Doublons",""))),"")

Sheet Bilan
B1: SUIVI MATIERE DES RETOURS | J1: SUIVI TEMPS TRAITEMENT DES RETOURS
J3: test2 | K3: 1
E5: Valeurs | L5: Valeurs
B6: Étiquettes de lignes | C6: Semaine | D6: PRODUIT | E6: PAP-->VILL | F6: VILL-->PAP | G6: Ecart | J6: Étiquettes de lignes | K6: Semaine | L6: COLIS | M6: Poids (KG) | N6: Moyenne de Durée
B7: 150 | E7: 30 | F7: 30 | G7: 0 | J7: Produit C | L7: 2 | M7: 2.4 | N7: 16
B8: 152 | E8: 20 | F8: 20 | G8: 0 | J8: Produit E | L8: 5 | M8: 4.5 | N8: 11.333333
B9: 153 | E9: 16 | F9: 16 | G9: 0 | J9: Produit I | L9: 2 | M9: 2.4 | N9: 4
B10: 154 | E10: 16 | F10: 32 | G10: 16 | J10: Total général | L10: 9 | M10: 9.3 | N10: 10.8
B11: Total général | E11: 82 | F11: 98 | G11: 16

Sheet Feuil1
B3: Somme de KG | C3: Étiquettes de colonnes
B4: Étiquettes de lignes | C4: Arrivage Autre | D4: Declassé Analyse | E4: Declassé Commercial | F4: Declassé Technique | G4: Fonte | H4: Retour Analyse | I4: Retour Autre | J4: Retour Commercial | K4: Retour Transporteur | L4: Total général
B5: Produit A | K5: 0 | L5: 0
B6: Produit B | H6: 0 | L6: 0
B7: Produit C | E7: 2.4 | I7: 0 | J7: 0 | L7: 2.4
B8: Produit E | C8: 0.9 | D8: 0.9 | E8: 2.7 | L8: 4.5
B9: Produit H | F9: 2.4 | L9: 2.4
B10: Produit I | G10: 2.4 | L10: 2.4
B11: Total général | C11: 0.9 | D11: 0.9 | E11: 5.1 | F11: 2.4 | G11: 2.4 | H11: 0 | I11: 0 | J11: 0 | K11: 0 | L11: 11.7

Sheet Synthese
B2: DECLASSE % | I2: DECLASSE PIECES | Q2: DECLASSE KG
B4: Somme de UVC/E | C4: Étiquettes de colonnes | I4: Somme de UVC/E | J4: Étiquettes de colonnes | Q4: Somme de KG | R4: Étiquettes de colonnes
B5: Étiquettes de lignes | C5: Dec. Tech | D5: Dec. QLTE | E5: Dec. Com | F5: Fonte | G5: Dec. Autres | I5: Étiquettes de lignes | J5: Dec. Tech | K5: Dec. QLTE | L5: Dec. Com | M5: Fonte | N5: Decl Autre | O5: Total général | Q5: Étiquettes de lignes | R5: Dec. Tech | S5: Dec. QLTE | T5: Dec. Com | U5: Fonte | V5: Dec. Autres | W5: Total général
B6: Produit C | C6: 0 | D6: 0 | E6: 1 | F6: 0 | G6: 0 | I6: Produit C | J6: 0 | K6: 0 | L6: 16 | M6: 0 | N6: 0 | O6: 16 | Q6: Produit C | R6: 0 | S6: 0 | T6: 2.4 | U6: 0 | V6: 0 | W6: 2.4
B7: Produit H | C7: 1 | D7: 0 | E7: 0 | F7: 0 | G7: 0 | I7: Produit H | J7: 16 | K7: 0 | L7: 0 | M7: 0 | N7: 0 | O7: 16 | Q7: Produit H | R7: 2.4 | S7: 0 | T7: 0 | U7: 0 | V7: 0 | W7: 2.4
B8: Produit E | C8: 0 | D8: 0.2 | E8: 0.6 | F8: 0 | G8: 0.2 | I8: Produit E | J8: 0 | K8: 10 | L8: 30 | M8: 0 | N8: 10 | O8: 50 | Q8: Produit E | R8: 0 | S8: 0.9 | T8: 2.7 | U8: 0 | V8: 0.9 | W8: 4.5
B9: Produit I | C9: 0 | D9: 0 | E9: 0 | F9: 1 | G9: 0 | I9: Produit I | J9: 0 | K9: 0 | L9: 0 | M9: 16 | N9: 0 | O9: 16 | Q9: Produit I | R9: 0 | S9: 0 | T9: 0 | U9: 2.4 | V9: 0 | W9: 2.4
B10: Total général | C10: 0.16326531 | D10: 0.10204082 | E10: 0.46938776 | F10: 0.16326531 | G10: 0.10204082 | I10: Total général | J10: 16 | K10: 10 | L10: 46 | M10: 16 | N10: 10 | O10: 98 | Q10: Total général | R10: 2.4 | S10: 0.9 | T10: 5.1 | U10: 2.4 | V10: 0.9 | W10: 11.7
