Workbook

Sheet Matrice
A1: Milestones | B1: =TODAY() -> 43133 | C1: =TODAY()+1 -> 43134 | D1: =TODAY()+2 -> 43135 | E1: =TODAY()+3 -> 43136 | F1: =TODAY()+4 -> 43137 | G1: =TODAY()+5 -> 43138 | H1: =TODAY()+6 -> 43139 | I1: =TODAY()+7 -> 43140 | J1: =TODAY()+8 -> 43141 | K1: =TODAY()+9 -> 43142 | L1: =TODAY()+10 -> 43143 | M1: =TODAY()+11 -> 43144 | N1: =TODAY()+12 -> 43145 | O1: =TODAY()+13 -> 43146
A2: J1 | B2: =OFFSET(Milestones!A1,MATCH(B1,Milestones!B:B,0),0) -> 00183 | C2: =OFFSET(Milestones!A1,MATCH(C1,Milestones!B:B,0),0) -> #N/A | D2: =OFFSET(Milestones!A1,MATCH(D1,Milestones!B:B,0),0) -> #N/A | E2: =OFFSET(Milestones!A1,MATCH(E1,Milestones!B:B,0),0) -> 00184 | F2: =OFFSET(Milestones!A1,MATCH(F1,Milestones!B:B,0),0) -> #N/A | G2: =OFFSET(Milestones!A1,MATCH(G1,Milestones!B:B,0),0) -> 0 | H2: =OFFSET(Milestones!A1,MATCH(H1,Milestones!B:B,0),0) -> #N/A | I2: =OFFSET(Milestones!A1,MATCH(I1,Milestones!B:B,0),0) -> #N/A | J2: =OFFSET(Milestones!A1,MATCH(J1,Milestones!B:B,0),0) -> #N/A | K2: =OFFSET(Milestones!A1,MATCH(K1,Milestones!B:B,0),0) -> #N/A | L2: =OFFSET(Milestones!A1,MATCH(L1,Milestones!A:A,0),0) -> #N/A | M2: =OFFSET(Milestones!A1,MATCH(M1,Milestones!A:A,0),0) -> #N/A | N2: =OFFSET(Milestones!A1,MATCH(N1,Milestones!B:B,0),0) -> #N/A | O2: =OFFSET(Milestones!A1,MATCH(O1,Milestones!B:B,0),0) -> #N/A
A3: J2 | B3: =OFFSET(Milestones!A1,MATCH(B1,Milestones!C:C,0),0) -> 00183 | C3: =OFFSET(Milestones!A1,MATCH(C1,Milestones!C:C,0),0) -> #N/A | D3: =OFFSET(Milestones!A1,MATCH(D1,Milestones!C:C,0),0) -> #N/A | E3: =OFFSET(Milestones!A1,MATCH(E1,Milestones!C:C,0),0) -> 00189 | F3: =OFFSET(Milestones!A1,MATCH(F1,Milestones!C:C,0),0) -> 00192 | G3: =OFFSET(Milestones!A1,MATCH(G1,Milestones!C:C,0),0) -> #N/A | H3: =OFFSET(Milestones!A1,MATCH(H1,Milestones!C:C,0),0) -> #N/A | I3: =OFFSET(Milestones!A1,MATCH(I1,Milestones!C:C,0),0) -> #N/A | J3: =OFFSET(Milestones!A1,MATCH(J1,Milestones!C:C,0),0) -> 00185 | K3: =OFFSET(Milestones!A1,MATCH(K1,Milestones!C:C,0),0) -> #N/A | L3: =OFFSET(Milestones!A1,MATCH(L1,Milestones!B:B,0),0) -> #N/A | M3: =OFFSET(Milestones!A1,MATCH(M1,Milestones!B:B,0),0) -> #N/A | N3: =OFFSET(Milestones!A1,MATCH(N1,Milestones!C:C,0),0) -> #N/A | O3: =OFFSET(Milestones!A1,MATCH(O1,Milestones!C:C,0),0) -> #N/A
A4: J3 | B4: =OFFSET(Milestones!A1,MATCH(B1,Milestones!D:D,0),0) -> #N/A | C4: =OFFSET(Milestones!B1,MATCH(A1,Milestones!D:D,0),0) -> #N/A | D4: =OFFSET(Milestones!A1,MATCH(D1,Milestones!D:D,0),0) -> #N/A | E4: =OFFSET(Milestones!A1,MATCH(E1,Milestones!D:D,0),0) -> #N/A | F4: =OFFSET(Milestones!A1,MATCH(F1,Milestones!D:D,0),0) -> 00189 | G4: =OFFSET(Milestones!A1,MATCH(G1,Milestones!D:D,0),0) -> #N/A | H4: =OFFSET(Milestones!A1,MATCH(H1,Milestones!D:D,0),0) -> 00184 | I4: =OFFSET(Milestones!A1,MATCH(I1,Milestones!D:D,0),0) -> #N/A | J4: =OFFSET(Milestones!A1,MATCH(J1,Milestones!D:D,0),0) -> 00192 | K4: =OFFSET(Milestones!A1,MATCH(K1,Milestones!D:D,0),0) -> #N/A | L4: =OFFSET(Milestones!A1,MATCH(L1,Milestones!C:C,0),0) -> #N/A | M4: =OFFSET(Milestones!A1,MATCH(M1,Milestones!C:C,0),0) -> #N/A | N4: =OFFSET(Milestones!A1,MATCH(N1,Milestones!D:D,0),0) -> #N/A | O4: =OFFSET(Milestones!A1,MATCH(O1,Milestones!D:D,0),0) -> #N/A
A5: J4 | B5: =OFFSET(Milestones!A1,MATCH(B1,Milestones!E:E,0),0) -> #N/A | C5: =OFFSET(Milestones!B1,MATCH(A1,Milestones!E:E,0),0) -> #N/A | D5: =OFFSET(Milestones!A1,MATCH(D1,Milestones!E:E,0),0) -> #N/A | E5: =OFFSET(Milestones!A1,MATCH(E1,Milestones!E:E,0),0) -> 00186 | F5: =OFFSET(Milestones!A1,MATCH(F1,Milestones!E:E,0),0) -> #N/A | G5: =OFFSET(Milestones!A1,MATCH(G1,Milestones!E:E,0),0) -> #N/A | H5: =OFFSET(Milestones!A1,MATCH(H1,Milestones!E:E,0),0) -> #N/A | I5: =OFFSET(Milestones!A1,MATCH(I1,Milestones!E:E,0),0) -> #N/A | J5: =OFFSET(Milestones!A1,MATCH(J1,Milestones!E:E,0),0) -> 00184 | K5: =OFFSET(Milestones!A1,MATCH(K1,Milestones!E:E,0),0) -> #N/A | L5: =OFFSET(Milestones!A1,MATCH(L1,Milestones!E:E,0),0) -> #N/A | M5: =OFFSET(Milestones!A1,MATCH(M1,Milestones!E:E,0),0) -> #N/A | N5: =OFFSET(Milestones!A1,MATCH(N1,Milestones!E:E,0),0) -> #N/A | O5: =OFFSET(Milestones!A1,MATCH(O1,Milestones!E:E,0),0) -> 00189

Sheet Feuil1
A1: ITEM | B1: Attribut | C1: Valeur
A2: 182 | B2: J1 | C2: 43133
A3: 182 | B3: J2 | C3: 43133
A4: 183 | B4: J1 | C4: 43136
A5: 183 | B5: J3 | C5: 43139
A6: 183 | B6: J4 | C6: 43141
A7: 184 | B7: J2 | C7: 43141
A8: 185 | B8: J4 | C8: 43136
A9: 187 | B9: J1 | C9: 43133
A10: 187 | B10: J2 | C10: 43136
A11: 187 | B11: J3 | C11: 43137
A12: 187 | B12: J4 | C12: 43146
A13: 191 | B13: J1 | C13: 43133
... A17: 196 | B17: J1 | C17: 43138
E19: Somme de ITEM | F19: Étiquettes de colonnes
E20: Étiquettes de lignes | F20: 43133 | G20: 43136 | H20: 43137 | I20: 43138 | J20: 43139 | K20: 43141 | L20: 43146 | M20: Total général
E21: J1 | F21: 560 | G21: 183 | I21: 196 | M21: 939
E22: J2 | F22: 182 | G22: 187 | H22: 191 | K22: 184 | M22: 744
E23: J3 | H23: 187 | J23: 183 | K23: 191 | M23: 561
E24: J4 | G24: 185 | K24: 183 | L24: 378 | M24: 746
E25: Total général | F25: 742 | G25: 555 | H25: 378 | I25: 196 | J25: 183 | K25: 558 | L25: 378 | M25: 2990

Sheet Milestones
A1: ITEM | B1: J1 | C1: J2 | D1: J3 | E1: J4
A2: 00088
A3: 00182 | B3: 43133 | C3: 43133
A4: 00183 | B4: 43136 | D4: 43139 | E4: 43141
A5: 00184 | C5: 43141
A6: 00185 | E6: 43136
A7: 00186
A8: 00187 | B8: 43133 | C8: 43136 | D8: 43137 | E8: 43146
A9: 00189
A10: 00190
A11: 00191 | B11: 43133 | C11: 43137 | D11: 43141 | E11: 43146
A12: 00192
A13: 00196 | B13: 43138
