Workbook
Name FR: 'Cantons'!$A$547:$A$861
Name GE: 'Cantons'!$A$969:$A$1117
Name NE: 'Cantons'!$A$862:$A$968
Name NEc: [1]NPA!$P$2:$P$108
Name NordV: [1]NPA!$A$2:$A$157
Name NPA: 'Cantons'!$A$2:$P$546
Name Vaud: [1]NPA!$A$158:$A$531
Name VD: 'Cantons'!$A$2:$A$546

Sheet Feuil1
A1: No | B1: Sexe | C1: Nom | D1: Prénom | E1: Code postal | F1: Ville | G1: Section | H1: Secteur | I1: Canton
A2: 100 | B2: Féminin | C2: F | D2: c | E2: 1000 | F2: Lausanne | G2: Lausanne | H2: Tertiaire | I2: =INDEX('Cantons'!$A$1:$C$1117,MATCH(F2,'Cantons'!B:B,1),3) -> GE
A3: 101 | B3: Masculin | C3: B | D3: aaa | E3: 1000 | F3: Lausanne 27 | G3: Lausanne | H3: Construction | I3: =INDEX('Cantons'!$A$1:$C$1117,MATCH(F3,'Cantons'!B:B,1),3) -> GE
A4: 102 | B4: Masculin | C4: H | D4: c | E4: 1001 | F4: Lausanne | G4: Lausanne | H4: Industrie | I4: =INDEX('Cantons'!$A$1:$C$1117,MATCH(F4,'Cantons'!B:B,1),3) -> GE
A5: 103 | B5: Féminin | C5: A | D5: cc | E5: 1003 | F5: Lausanne | G5: Lausanne | H5: Industrie | I5: =INDEX('Cantons'!$A$1:$C$1117,MATCH(F5,'Cantons'!B:B,1),3) -> GE
A6: 104 | B6: Féminin | C6: F | D6: bbb | E6: 1004 | F6: Lausanne | G6: Fribourg | H6: Construction | I6: =INDEX('Cantons'!$A$1:$C$1117,MATCH(F6,'Cantons'!B:B,1),3) -> GE
A7: 105 | B7: Féminin | C7: B | D7: b | E7: 1004 | F7: Lausanne | G7: Neuchâtel | H7: Industrie | I7: =INDEX('Cantons'!$A$1:$C$1117,MATCH(F7,'Cantons'!B:B,1),3) -> GE
A8: 106 | B8: Masculin | C8: A | D8: cc | E8: 1004 | F8: Lausanne | G8: Nord Vaudois | H8: Artisanat | I8: =INDEX('Cantons'!$A$1:$C$1117,MATCH(F8,'Cantons'!B:B,1),3) -> GE
A9: 107 | B9: Masculin | C9: C | D9: a | E9: 1004 | F9: Lausanne | G9: Nord Vaudois | H9: Artisanat | I9: =INDEX('Cantons'!$A$1:$C$1117,MATCH(F9,'Cantons'!B:B,1),3) -> GE
A10: 108 | B10: Masculin | C10: C | D10: bbb | E10: 1008 | F10: Prilly | G10: Lausanne | H10: Artisanat | I10: =INDEX('Cantons'!$A$1:$C$1117,MATCH(F10,'Cantons'!B:B,1),3) -> GE
A11: 109 | B11: Masculin | C11: D | D11: c | E11: 1008 | F11: Prilly | G11: Lausanne | H11: Artisanat | I11: =INDEX('Cantons'!$A$1:$C$1117,MATCH(F11,'Cantons'!B:B,1),3) -> GE
A12: 110 | B12: Masculin | C12: G | D12: bb | E12: 1008 | F12: Prilly | G12: Neuchâtel | H12: Artisanat | I12: =INDEX('Cantons'!$A$1:$C$1117,MATCH(F12,'Cantons'!B:B,1),3) -> GE
A13: 111 | B13: Masculin | C13: H | D13: bbb | E13: 1010 | F13: Lausanne | G13: Neuchâtel | H13: Artisanat | I13: =INDEX('Cantons'!$A$1:$C$1117,MATCH(F13,'Cantons'!B:B,1),3) -> GE
... A422: 520 | B422: Masculin | C422: A | D422: aaa | E422: 3286 | F422: Muntelier | G422: Neuchâtel | H422: Tertiaire | I422: =INDEX('Cantons'!$A$1:$C$1117,MATCH(F422,'Cantons'!B:B,1),3) -> GE

Sheet Cantons
A1: NPA | B1: Lieu | C1: Canton
A2: 1000 | B2: Lausanne | C2: VD
A3: 1000 | B3: Lausanne 12 | C3: VD
A4: 1000 | B4: Lausanne 14 | C4: VD
A5: 1000 | B5: Lausanne 16 | C5: VD
A6: 1000 | B6: Lausanne 17 | C6: VD
A7: 1000 | B7: Lausanne 2 | C7: VD
A8: 1000 | B8: Lausanne 20 | C8: VD
A9: 1000 | B9: Lausanne 21 | C9: VD
A10: 1000 | B10: Lausanne 22 | C10: VD
A11: 1000 | B11: Lausanne 23 | C11: VD
A12: 1000 | B12: Lausanne 24 | C12: VD
A13: 1000 | B13: Lausanne 25 | C13: VD
... A1117: 1298 | B1117: Céligny | C1117: GE

Sheet TCD
B5: Nombre de Nom | C5: Étiquettes de colonnes
B6: Étiquettes de lignes | C6: Artisanat | D6: Construction | E6: Industrie | F6: Tertiaire | G6: Total général
B7: GE | C7: 63 | D7: 50 | E7: 105 | F7: 44 | G7: 262
B8: VD | C8: 29 | D8: 36 | E8: 62 | F8: 32 | G8: 159
B9: Total général | C9: 92 | D9: 86 | E9: 167 | F9: 76 | G9: 421

Sheet Stats
C3: Construction | F3: Tertiaire | I3: Artisanat | L3: Industrie
B4: Section | C4: Vaud (VD) | D4: Fribourg (FR) | E4: Neuchâtel (NE) | F4: Vaud (VD)2 | G4: Fribourg (FR)2 | H4: Neuchâtel (NE)2 | I4: Vaud (VD)3 | J4: Fribourg (FR)3 | K4: Neuchâtel (NE)3 | L4: Vaud (VD)4 | M4: Fribourg (FR)4 | N4: Neuchâtel (NE)4
A5: Vaud (VD) | B5: Lausanne | C5: =COUNTIFS(Feuil1!$G:$G,$B5,Feuil1!$H:$H,C$3) -> 22 | D5: =COUNTIFS(Feuil1!$G:$G,$B5,Feuil1!$H:$H,C$3,Feuil1!D:D,FR) -> 0 | E5: =COUNTIFS(Feuil1!$G:$G,$B5,Feuil1!$H:$H,C$3)+(COUNTIF(Feuil1!E:E,NE)) -> 22 | F5: =COUNTIFS(Feuil1!$G:$G,$B5,Feuil1!$H:$H,F$3) -> 1 | I5: =COUNTIFS(Feuil1!$G:$G,$B5,Feuil1!$H:$H,I$3) -> 26 | L5: =COUNTIFS(Feuil1!$G:$G,$B5,Feuil1!$H:$H,L$3) -> 24
B6: Nord Vaudois | C6: =COUNTIFS(Feuil1!$G:$G,$B6,Feuil1!$H:$H,C$3) -> 16 | D6: =COUNTIFS(Feuil1!$G:$G,$B6,Feuil1!$H:$H,B$3,Feuil1!D:D,FR) -> 0 | E6: {=COUNTIFS(Feuil1!$G:$G,$B6,Feuil1!$H:$H,C$3)+(COUNTIF(Feuil1!E:E,NE))} -> 31 | F6: =COUNTIFS(Feuil1!$G:$G,$B6,Feuil1!$H:$H,F$3) -> 20 | I6: =COUNTIFS(Feuil1!$G:$G,$B6,Feuil1!$H:$H,I$3) -> 26 | L6: =COUNTIFS(Feuil1!$G:$G,$B6,Feuil1!$H:$H,L$3) -> 74
B7: Riviera Est Vaudois | C7: =COUNTIFS(Feuil1!$G:$G,$B7,Feuil1!$H:$H,C$3) -> 0 | D7: =COUNTIFS(Feuil1!$G:$G,$B7,Feuil1!$H:$H,B$3,Feuil1!D:D,FR) -> 0 | E7: {=COUNTIFS(Feuil1!$G:$G,$B7,Feuil1!$H:$H,C$3)+(COUNTIF(Feuil1!E:E,NE))} -> 15 | F7: =COUNTIFS(Feuil1!$G:$G,$B7,Feuil1!$H:$H,F$3) -> 0 | I7: =COUNTIFS(Feuil1!$G:$G,$B7,Feuil1!$H:$H,I$3) -> 0 | L7: =COUNTIFS(Feuil1!$G:$G,$B7,Feuil1!$H:$H,L$3) -> 0
A8: Fribourg (FR) | B8: Fribourg | C8: =COUNTIFS(Feuil1!$G:$G,$B8,Feuil1!$H:$H,C$3) -> 29 | D8: =COUNTIFS(Feuil1!$G:$G,$B8,Feuil1!$H:$H,B$3,Feuil1!D:D,FR) -> 0 | E8: {=COUNTIFS(Feuil1!$G:$G,$B8,Feuil1!$H:$H,C$3)+(COUNTIF(Feuil1!E:E,NE))} -> 44 | F8: =COUNTIFS(Feuil1!$G:$G,$B8,Feuil1!$H:$H,F$3) -> 42 | I8: =COUNTIFS(Feuil1!$G:$G,$B8,Feuil1!$H:$H,I$3) -> 19 | L8: =COUNTIFS(Feuil1!$G:$G,$B8,Feuil1!$H:$H,L$3) -> 45
B9: Fribourg-Sud | C9: =COUNTIFS(Feuil1!$G:$G,$B9,Feuil1!$H:$H,C$3) -> 0 | D9: =COUNTIFS(Feuil1!$G:$G,$B9,Feuil1!$H:$H,B$3,Feuil1!D:D,FR) -> 0 | E9: {=COUNTIFS(Feuil1!$G:$G,$B9,Feuil1!$H:$H,C$3)+(COUNTIF(Feuil1!E:E,NE))} -> 15 | F9: =COUNTIFS(Feuil1!$G:$G,$B9,Feuil1!$H:$H,F$3) -> 0 | I9: =COUNTIFS(Feuil1!$G:$G,$B9,Feuil1!$H:$H,I$3) -> 0 | L9: =COUNTIFS(Feuil1!$G:$G,$B9,Feuil1!$H:$H,L$3) -> 0
A10: Neuchatel (NE) | B10: La Chaux-de-Fonds | C10: =COUNTIFS(Feuil1!$G:$G,$B10,Feuil1!$H:$H,C$3) -> 0 | D10: =COUNTIFS(Feuil1!$G:$G,$B10,Feuil1!$H:$H,B$3,Feuil1!D:D,FR) -> 0 | E10: {=COUNTIFS(Feuil1!$G:$G,$B10,Feuil1!$H:$H,C$3)+(COUNTIF(Feuil1!E:E,NE))} -> 15 | F10: =COUNTIFS(Feuil1!$G:$G,$B10,Feuil1!$H:$H,F$3) -> 0 | I10: =COUNTIFS(Feuil1!$G:$G,$B10,Feuil1!$H:$H,I$3) -> 0 | L10: =COUNTIFS(Feuil1!$G:$G,$B10,Feuil1!$H:$H,L$3) -> 0
B11: Neuchâtel | C11: =COUNTIFS(Feuil1!$G:$G,$B11,Feuil1!$H:$H,C$3) -> 19 | D11: =COUNTIFS(Feuil1!$G:$G,$B11,Feuil1!$H:$H,B$3,Feuil1!D:D,FR) -> 0 | E11: {=COUNTIFS(Feuil1!$G:$G,$B11,Feuil1!$H:$H,C$3)+(COUNTIF(Feuil1!E:E,NE))} -> 34 | F11: =COUNTIFS(Feuil1!$G:$G,$B11,Feuil1!$H:$H,F$3) -> 13 | I11: =COUNTIFS(Feuil1!$G:$G,$B11,Feuil1!$H:$H,I$3) -> 21 | L11: =COUNTIFS(Feuil1!$G:$G,$B11,Feuil1!$H:$H,L$3) -> 24
C12: =SUBTOTAL(109,Tableau3[Vaud (VD)]) -> 86 | F12: =SUBTOTAL(109,Tableau3[Vaud (VD)2]) -> 76 | I12: =SUBTOTAL(109,Tableau3[Vaud (VD)3]) -> 92 | L12: =SUBTOTAL(109,Tableau3[Vaud (VD)4]) -> 167
