Workbook
Name Projet1: 'Projet 1'!$A$2:$D$6
Name Projet2: 'Projet 2'!$A$2:$D$6
Name Projet3: 'Projet 3'!$A$2:$D$6
Name Tab: 'Projet 1'!$A$2:$D$6
Name Tob: 'Projet 2'!$A$2:$D$6
Name TT: Total!$A$5:$E$16

Sheet Projet 1
A1: Ville | B1: Hêtres | C1: Platanes | D1: Peupliers
A2: Paris | B2: 433 | C2: 234
A3: Lyon | B3: 315 | D3: 253
A4: Montpellier | B4: 104 | C4: 325 | D4: 243
A5: Rennes | D5: 245
A6: Bordeaux | B6: 213 | C6: 234 | D6: 543

Sheet Projet 2
A1: Ville | B1: Hêtres | C1: Platanes | D1: Peupliers
A2: Paris | C2: 243 | D2: 364
A3: Lyon | B3: 253 | D3: 384
A4: Marseille | C4: 325 | D4: 243
A5: Rennes | B5: 245 | C5: 322 | D5: 235
A6: Nantes | B6: 543 | C6: 234

Sheet Projet 3
A1: Ville | B1: Hêtres | C1: Platanes | D1: Peupliers
A2: Paris | B2: 348 | C2: 456
A3: Limoge | B3: 125 | C3: 347 | D3: 283
A4: Le Havre | C4: 154 | D4: 234
A5: Rennes | B5: 173
A6: Brest | C6: 122 | D6: 100

Sheet Total
A1: VILLE | B1: PROJET 1 | C1: PROJET 2 | E1: Total Hêtres | F1: Total Platanes | G1: Total Peupliers
A2: Je souhaiterais que les villes de chaque projet s'ajoutent à la colone A automatiquement sans doublons | B2: Dans cette colonne, j'aimerai une formule permettant de marquer "Projet 1" si la ville est présente dans la feuille "Projet 1" | C2: Dans cette colonne, j'aimerai une formule permettant de marquer "Projet 2" si la ville est présente dans la feuille "Projet 2" | D2: Dans cette colonne, j'aimerai une formule permettant de marquer "Projet 3" si la ville est présente dans la feuille "Projet 3" | E2: Dans cette colonne, je souhaiterais avoir la sommes des Hêtres des projets 1, 2 et 3 | F2: Dans cette colonne, je souhaiterais avoir la sommes des Platanes des projets 1, 2 et 3 | G2: Dans cette colonne, je souhaiterais avoir la sommes des Peupliers des projets 1, 2 et 3
A3: Ville | B3: PRESENCE PROJET 1 | C3: PRESENCE PROJET 2 | D3: PRESENCE PROJET 3 | E3: Hêtres | F3: Platanes | G3: Peupliers
A4: Paris | B4: =IF(COUNTIF(Projet1,A4),"Projet 1","") -> Projet 1 | C4: =IF(COUNTIF(Projet1,A4),"Projet 2","") -> Projet 2 | D4: =IF(COUNTIF(Projet3,A4),"Projet 3","") -> Projet 3 | E4: =IFERROR(SUM(VLOOKUP(A4,Projet1,2,FALSE)&VLOOKUP(A2,Projet2,2,FALSE)&VLOOKUP(A2,Projet3,2,FALSE)),"") | F4: =IFERROR(SUM(VLOOKUP(B4,Projet1,2,FALSE)&VLOOKUP(B2,Projet2,2,FALSE)&VLOOKUP(B2,Projet3,2,FALSE)),"") | G4: =IFERROR(SUM(VLOOKUP(C4,Projet1,2,FALSE)&VLOOKUP(C2,Projet2,2,FALSE)&VLOOKUP(C2,Projet3,2,FALSE)),"")
A5: Lyon | B5: =IF(COUNTIF(Projet1,A5),"Projet 1","") -> Projet 1 | C5: =IF(COUNTIF(Projet1,A5),"Projet 2","") -> Projet 2 | D5: =IF(COUNTIF(Projet3,A5),"Projet 3","") | E5: =IFERROR(SUM(VLOOKUP(A5,Projet1,2,FALSE)&VLOOKUP(A3,Projet2,2,FALSE)&VLOOKUP(A3,Projet3,2,FALSE)),"") | F5: =IFERROR(SUM(VLOOKUP(B5,Projet1,2,FALSE)&VLOOKUP(B3,Projet2,2,FALSE)&VLOOKUP(B3,Projet3,2,FALSE)),"") | G5: =IFERROR(SUM(VLOOKUP(C5,Projet1,2,FALSE)&VLOOKUP(C3,Projet2,2,FALSE)&VLOOKUP(C3,Projet3,2,FALSE)),"")
A6: Montpellier | B6: =IF(COUNTIF(Projet1,A6),"Projet 1","") -> Projet 1 | C6: =IF(COUNTIF(Projet1,A6),"Projet 2","") -> Projet 2 | D6: =IF(COUNTIF(Projet3,A6),"Projet 3","") | E6: =IFERROR(SUM(VLOOKUP(A6,Projet1,2,FALSE)&VLOOKUP(A4,Projet2,2,FALSE)&VLOOKUP(A4,Projet3,2,FALSE)),"") -> 104348 | F6: =IFERROR(SUM(VLOOKUP(B6,Projet1,2,FALSE)&VLOOKUP(B4,Projet2,2,FALSE)&VLOOKUP(B4,Projet3,2,FALSE)),"") | G6: =IFERROR(SUM(VLOOKUP(C6,Projet1,2,FALSE)&VLOOKUP(C4,Projet2,2,FALSE)&VLOOKUP(C4,Projet3,2,FALSE)),"")
A7: Rennes | B7: =IF(COUNTIF(Projet1,A7),"Projet 1","") -> Projet 1 | C7: =IF(COUNTIF(Projet1,A7),"Projet 2","") -> Projet 2 | D7: =IF(COUNTIF(Projet3,A7),"Projet 3","") -> Projet 3 | E7: =IFERROR(SUM(VLOOKUP(A7,Projet1,2,FALSE)&VLOOKUP(A5,Projet2,2,FALSE)&VLOOKUP(A5,Projet3,2,FALSE)),"") | F7: =IFERROR(SUM(VLOOKUP(B7,Projet1,2,FALSE)&VLOOKUP(B5,Projet2,2,FALSE)&VLOOKUP(B5,Projet3,2,FALSE)),"") | G7: =IFERROR(SUM(VLOOKUP(C7,Projet1,2,FALSE)&VLOOKUP(C5,Projet2,2,FALSE)&VLOOKUP(C5,Projet3,2,FALSE)),"")
A8: Bordeaux | B8: =IF(COUNTIF(Projet1,A8),"Projet 1","") -> Projet 1 | C8: =IF(COUNTIF(Projet1,A8),"Projet 2","") -> Projet 2 | D8: =IF(COUNTIF(Projet3,A8),"Projet 3","") | E8: =IFERROR(SUM(VLOOKUP(A8,Projet1,2,FALSE)&VLOOKUP(A6,Projet2,2,FALSE)&VLOOKUP(A6,Projet3,2,FALSE)),"") | F8: =IFERROR(SUM(VLOOKUP(B8,Projet1,2,FALSE)&VLOOKUP(B6,Projet2,2,FALSE)&VLOOKUP(B6,Projet3,2,FALSE)),"") | G8: =IFERROR(SUM(VLOOKUP(C8,Projet1,2,FALSE)&VLOOKUP(C6,Projet2,2,FALSE)&VLOOKUP(C6,Projet3,2,FALSE)),"")
A9: Marseille | B9: =IF(COUNTIF(Projet1,A9),"Projet 1","") | C9: =IF(COUNTIF(Projet1,A9),"Projet 2","") | D9: =IF(COUNTIF(Projet3,A9),"Projet 3","") | E9: =IFERROR(SUM(VLOOKUP(A9,Projet1,2,FALSE)&VLOOKUP(A7,Projet2,2,FALSE)&VLOOKUP(A7,Projet3,2,FALSE)),"") | F9: =IFERROR(SUM(VLOOKUP(B9,Projet1,2,FALSE)&VLOOKUP(B7,Projet2,2,FALSE)&VLOOKUP(B7,Projet3,2,FALSE)),"") | G9: =IFERROR(SUM(VLOOKUP(C9,Projet1,2,FALSE)&VLOOKUP(C7,Projet2,2,FALSE)&VLOOKUP(C7,Projet3,2,FALSE)),"")
A10: Rennes | B10: =IF(COUNTIF(Projet1,A10),"Projet 1","") -> Projet 1 | C10: =IF(COUNTIF(Projet1,A10),"Projet 2","") -> Projet 2 | D10: =IF(COUNTIF(Projet3,A10),"Projet 3","") -> Projet 3 | E10: =IFERROR(SUM(VLOOKUP(A10,Projet1,2,FALSE)&VLOOKUP(A8,Projet2,2,FALSE)&VLOOKUP(A8,Projet3,2,FALSE)),"") | F10: =IFERROR(SUM(VLOOKUP(B10,Projet1,2,FALSE)&VLOOKUP(B8,Projet2,2,FALSE)&VLOOKUP(B8,Projet3,2,FALSE)),"") | G10: =IFERROR(SUM(VLOOKUP(C10,Projet1,2,FALSE)&VLOOKUP(C8,Projet2,2,FALSE)&VLOOKUP(C8,Projet3,2,FALSE)),"")
A11: Nantes | B11: =IF(COUNTIF(Projet1,A11),"Projet 1","") | C11: =IF(COUNTIF(Projet1,A11),"Projet 2","") | D11: =IF(COUNTIF(Projet3,A11),"Projet 3","") | E11: =IFERROR(SUM(VLOOKUP(A11,Projet1,2,FALSE)&VLOOKUP(A9,Projet2,2,FALSE)&VLOOKUP(A9,Projet3,2,FALSE)),"") | F11: =IFERROR(SUM(VLOOKUP(B11,Projet1,2,FALSE)&VLOOKUP(B9,Projet2,2,FALSE)&VLOOKUP(B9,Projet3,2,FALSE)),"") | G11: =IFERROR(SUM(VLOOKUP(C11,Projet1,2,FALSE)&VLOOKUP(C9,Projet2,2,FALSE)&VLOOKUP(C9,Projet3,2,FALSE)),"")
A12: Limoge | B12: =IF(COUNTIF(Projet1,A12),"Projet 1","") | C12: =IF(COUNTIF(Projet1,A12),"Projet 2","") | D12: =IF(COUNTIF(Projet3,A12),"Projet 3","") -> Projet 3 | E12: =IFERROR(SUM(VLOOKUP(A12,Projet1,2,FALSE)&VLOOKUP(A10,Projet2,2,FALSE)&VLOOKUP(A10,Projet3,2,FALSE)),"") | F12: =IFERROR(SUM(VLOOKUP(B12,Projet1,2,FALSE)&VLOOKUP(B10,Projet2,2,FALSE)&VLOOKUP(B10,Projet3,2,FALSE)),"") | G12: =IFERROR(SUM(VLOOKUP(C12,Projet1,2,FALSE)&VLOOKUP(C10,Projet2,2,FALSE)&VLOOKUP(C10,Projet3,2,FALSE)),"")
A13: Le Havre | B13: =IF(COUNTIF(Projet1,A13),"Projet 1","") | C13: =IF(COUNTIF(Projet1,A13),"Projet 2","") | D13: =IF(COUNTIF(Projet3,A13),"Projet 3","") -> Projet 3 | E13: =IFERROR(SUM(VLOOKUP(A13,Projet1,2,FALSE)&VLOOKUP(A11,Projet2,2,FALSE)&VLOOKUP(A11,Projet3,2,FALSE)),"") | F13: =IFERROR(SUM(VLOOKUP(B13,Projet1,2,FALSE)&VLOOKUP(B11,Projet2,2,FALSE)&VLOOKUP(B11,Projet3,2,FALSE)),"") | G13: =IFERROR(SUM(VLOOKUP(C13,Projet1,2,FALSE)&VLOOKUP(C11,Projet2,2,FALSE)&VLOOKUP(C11,Projet3,2,FALSE)),"")
A14: Brest | B14: =IF(COUNTIF(Projet1,A14),"Projet 1","") | C14: =IF(COUNTIF(Projet1,A14),"Projet 2","") | D14: =IF(COUNTIF(Projet3,A14),"Projet 3","") -> Projet 3 | E14: =IFERROR(SUM(VLOOKUP(A14,Projet1,2,FALSE)&VLOOKUP(A12,Projet2,2,FALSE)&VLOOKUP(A12,Projet3,2,FALSE)),"") | F14: =IFERROR(SUM(VLOOKUP(B14,Projet1,2,FALSE)&VLOOKUP(B12,Projet2,2,FALSE)&VLOOKUP(B12,Projet3,2,FALSE)),"") | G14: =IFERROR(SUM(VLOOKUP(C14,Projet1,2,FALSE)&VLOOKUP(C12,Projet2,2,FALSE)&VLOOKUP(C12,Projet3,2,FALSE)),"")
B15: Solutionné | C15: Solutionné | D15: Solutionné

Sheet Feuil2
A3: Somme de Total | B3: Étiquettes de colonnes
A4: Étiquettes de lignes | B4: 1 | C4: 2 | D4: 3 | E4: (vide) | F4: Total général
A5: 0 | B5: 0 | C5: 0 | D5: 0 | F5: 0
A6: Bordeaux | B6: 990 | F6: 990
A7: Brest | D7: 222 | F7: 222
A8: Le Havre | D8: 388 | F8: 388
A9: Limoge | D9: 755 | F9: 755
A10: Lyon | B10: 568 | C10: 637 | F10: 1205
A11: Marseille | C11: 568 | F11: 568
A12: Montpellier | B12: 672 | F12: 672
A13: Nantes | C13: 777 | F13: 777
A14: Paris | B14: 667 | C14: 607 | D14: 804 | F14: 2078
A15: Rennes | B15: 245 | C15: 802 | D15: 173 | F15: 1220
A16: (vide) | E16: 0 | F16: 0
A17: Total général | B17: 3142 | C17: 3391 | D17: 2342 | E17: 0 | F17: 8875

Sheet Feuil1
A1: projet | B1: Ville | C1: Hêtres | D1: Platanes | E1: Peupliers | F1: Total
A2: 1 | B2: ='Projet 1'!A2 -> Paris | C2: ='Projet 1'!B2 -> 433 | D2: ='Projet 1'!C2 -> 234 | E2: ='Projet 1'!D2 -> 0 | F2: =Tableau1[[#This Row],[Hêtres]]+Tableau1[[#This Row],[Platanes]]+Tableau1[[#This Row],[Peupliers]] -> 667
A3: 1 | B3: ='Projet 1'!A3 -> Lyon | C3: ='Projet 1'!B3 -> 315 | D3: ='Projet 1'!C3 -> 0 | E3: ='Projet 1'!D3 -> 253 | F3: =Tableau1[[#This Row],[Hêtres]]+Tableau1[[#This Row],[Platanes]]+Tableau1[[#This Row],[Peupliers]] -> 568
A4: 1 | B4: ='Projet 1'!A4 -> Montpellier | C4: ='Projet 1'!B4 -> 104 | D4: ='Projet 1'!C4 -> 325 | E4: ='Projet 1'!D4 -> 243 | F4: =Tableau1[[#This Row],[Hêtres]]+Tableau1[[#This Row],[Platanes]]+Tableau1[[#This Row],[Peupliers]] -> 672
A5: 1 | B5: ='Projet 1'!A5 -> Rennes | C5: ='Projet 1'!B5 -> 0 | D5: ='Projet 1'!C5 -> 0 | E5: ='Projet 1'!D5 -> 245 | F5: =Tableau1[[#This Row],[Hêtres]]+Tableau1[[#This Row],[Platanes]]+Tableau1[[#This Row],[Peupliers]] -> 245
A6: 1 | B6: ='Projet 1'!A6 -> Bordeaux | C6: ='Projet 1'!B6 -> 213 | D6: ='Projet 1'!C6 -> 234 | E6: ='Projet 1'!D6 -> 543 | F6: =Tableau1[[#This Row],[Hêtres]]+Tableau1[[#This Row],[Platanes]]+Tableau1[[#This Row],[Peupliers]] -> 990
A7: 1 | B7: ='Projet 1'!A7 -> 0 | C7: ='Projet 1'!B7 -> 0 | D7: ='Projet 1'!C7 -> 0 | E7: ='Projet 1'!D7 -> 0 | F7: =Tableau1[[#This Row],[Hêtres]]+Tableau1[[#This Row],[Platanes]]+Tableau1[[#This Row],[Peupliers]] -> 0
A8: 1 | B8: ='Projet 1'!A8 -> 0 | C8: ='Projet 1'!B8 -> 0 | D8: ='Projet 1'!C8 -> 0 | E8: ='Projet 1'!D8 -> 0 | F8: =Tableau1[[#This Row],[Hêtres]]+Tableau1[[#This Row],[Platanes]]+Tableau1[[#This Row],[Peupliers]] -> 0
A9: 1 | B9: ='Projet 1'!A9 -> 0 | C9: ='Projet 1'!B9 -> 0 | D9: ='Projet 1'!C9 -> 0 | E9: ='Projet 1'!D9 -> 0 | F9: =Tableau1[[#This Row],[Hêtres]]+Tableau1[[#This Row],[Platanes]]+Tableau1[[#This Row],[Peupliers]] -> 0
A10: 1 | B10: ='Projet 1'!A10 -> 0 | C10: ='Projet 1'!B10 -> 0 | D10: ='Projet 1'!C10 -> 0 | E10: ='Projet 1'!D10 -> 0 | F10: =Tableau1[[#This Row],[Hêtres]]+Tableau1[[#This Row],[Platanes]]+Tableau1[[#This Row],[Peupliers]] -> 0
A11: 1 | B11: ='Projet 1'!A11 -> 0 | C11: ='Projet 1'!B11 -> 0 | D11: ='Projet 1'!C11 -> 0 | E11: ='Projet 1'!D11 -> 0 | F11: =Tableau1[[#This Row],[Hêtres]]+Tableau1[[#This Row],[Platanes]]+Tableau1[[#This Row],[Peupliers]] -> 0
A12: 1 | B12: ='Projet 1'!A12 -> 0 | C12: ='Projet 1'!B12 -> 0 | D12: ='Projet 1'!C12 -> 0 | E12: ='Projet 1'!D12 -> 0 | F12: =Tableau1[[#This Row],[Hêtres]]+Tableau1[[#This Row],[Platanes]]+Tableau1[[#This Row],[Peupliers]] -> 0
A13: 1 | B13: ='Projet 1'!A13 -> 0 | C13: ='Projet 1'!B13 -> 0 | D13: ='Projet 1'!C13 -> 0 | E13: ='Projet 1'!D13 -> 0 | F13: =Tableau1[[#This Row],[Hêtres]]+Tableau1[[#This Row],[Platanes]]+Tableau1[[#This Row],[Peupliers]] -> 0
F14: =Tableau1[[#This Row],[Hêtres]]+Tableau1[[#This Row],[Platanes]]+Tableau1[[#This Row],[Peupliers]] -> 0
F15: =Tableau1[[#This Row],[Hêtres]]+Tableau1[[#This Row],[Platanes]]+Tableau1[[#This Row],[Peupliers]] -> 0
A16: 2 | B16: ='Projet 2'!A2 -> Paris | C16: ='Projet 2'!B2 -> 0 | D16: ='Projet 2'!C2 -> 243 | E16: ='Projet 2'!D2 -> 364 | F16: =Tableau1[[#This Row],[Hêtres]]+Tableau1[[#This Row],[Platanes]]+Tableau1[[#This Row],[Peupliers]] -> 607
A17: 2 | B17: ='Projet 2'!A3 -> Lyon | C17: ='Projet 2'!B3 -> 253 | D17: ='Projet 2'!C3 -> 0 | E17: ='Projet 2'!D3 -> 384 | F17: =Tableau1[[#This Row],[Hêtres]]+Tableau1[[#This Row],[Platanes]]+Tableau1[[#This Row],[Peupliers]] -> 637
A18: 2 | B18: ='Projet 2'!A4 -> Marseille | C18: ='Projet 2'!B4 -> 0 | D18: ='Projet 2'!C4 -> 325 | E18: ='Projet 2'!D4 -> 243 | F18: =Tableau1[[#This Row],[Hêtres]]+Tableau1[[#This Row],[Platanes]]+Tableau1[[#This Row],[Peupliers]] -> 568
A19: 2 | B19: ='Projet 2'!A5 -> Rennes | C19: ='Projet 2'!B5 -> 245 | D19: ='Projet 2'!C5 -> 322 | E19: ='Projet 2'!D5 -> 235 | F19: =Tableau1[[#This Row],[Hêtres]]+Tableau1[[#This Row],[Platanes]]+Tableau1[[#This Row],[Peupliers]] -> 802
A20: 2 | B20: ='Projet 2'!A6 -> Nantes | C20: ='Projet 2'!B6 -> 543 | D20: ='Projet 2'!C6 -> 234 | E20: ='Projet 2'!D6 -> 0 | F20: =Tableau1[[#This Row],[Hêtres]]+Tableau1[[#This Row],[Platanes]]+Tableau1[[#This Row],[Peupliers]] -> 777
A21: 2 | B21: ='Projet 2'!A7 -> 0 | C21: ='Projet 2'!B7 -> 0 | D21: ='Projet 2'!C7 -> 0 | E21: ='Projet 2'!D7 -> 0 | F21: =Tableau1[[#This Row],[Hêtres]]+Tableau1[[#This Row],[Platanes]]+Tableau1[[#This Row],[Peupliers]] -> 0
A22: 2 | B22: ='Projet 2'!A8 -> 0 | C22: ='Projet 2'!B8 -> 0 | D22: ='Projet 2'!C8 -> 0 | E22: ='Projet 2'!D8 -> 0 | F22: =Tableau1[[#This Row],[Hêtres]]+Tableau1[[#This Row],[Platanes]]+Tableau1[[#This Row],[Peupliers]] -> 0
A23: 2 | B23: ='Projet 2'!A9 -> 0 | C23: ='Projet 2'!B9 -> 0 | D23: ='Projet 2'!C9 -> 0 | E23: ='Projet 2'!D9 -> 0 | F23: =Tableau1[[#This Row],[Hêtres]]+Tableau1[[#This Row],[Platanes]]+Tableau1[[#This Row],[Peupliers]] -> 0
F24: =Tableau1[[#This Row],[Hêtres]]+Tableau1[[#This Row],[Platanes]]+Tableau1[[#This Row],[Peupliers]] -> 0
F25: =Tableau1[[#This Row],[Hêtres]]+Tableau1[[#This Row],[Platanes]]+Tableau1[[#This Row],[Peupliers]] -> 0
A26: 3 | B26: ='Projet 3'!A2 -> Paris | C26: ='Projet 3'!B2 -> 348 | D26: ='Projet 3'!C2 -> 456 | E26: ='Projet 3'!D2 -> 0 | F26: =Tableau1[[#This Row],[Hêtres]]+Tableau1[[#This Row],[Platanes]]+Tableau1[[#This Row],[Peupliers]] -> 804
A27: 3 | B27: ='Projet 3'!A3 -> Limoge | C27: ='Projet 3'!B3 -> 125 | D27: ='Projet 3'!C3 -> 347 | E27: ='Projet 3'!D3 -> 283 | F27: =Tableau1[[#This Row],[Hêtres]]+Tableau1[[#This Row],[Platanes]]+Tableau1[[#This Row],[Peupliers]] -> 755
A28: 3 | B28: ='Projet 3'!A4 -> Le Havre | C28: ='Projet 3'!B4 -> 0 | D28: ='Projet 3'!C4 -> 154 | E28: ='Projet 3'!D4 -> 234 | F28: =Tableau1[[#This Row],[Hêtres]]+Tableau1[[#This Row],[Platanes]]+Tableau1[[#This Row],[Peupliers]] -> 388
A29: 3 | B29: ='Projet 3'!A5 -> Rennes | C29: ='Projet 3'!B5 -> 173 | D29: ='Projet 3'!C5 -> 0 | E29: ='Projet 3'!D5 -> 0 | F29: =Tableau1[[#This Row],[Hêtres]]+Tableau1[[#This Row],[Platanes]]+Tableau1[[#This Row],[Peupliers]] -> 173
A30: 3 | B30: ='Projet 3'!A6 -> Brest | C30: ='Projet 3'!B6 -> 0 | D30: ='Projet 3'!C6 -> 122 | E30: ='Projet 3'!D6 -> 100 | F30: =Tableau1[[#This Row],[Hêtres]]+Tableau1[[#This Row],[Platanes]]+Tableau1[[#This Row],[Peupliers]] -> 222
A31: 3 | B31: ='Projet 3'!A7 -> 0 | C31: ='Projet 3'!B7 -> 0 | D31: ='Projet 3'!C7 -> 0 | E31: ='Projet 3'!D7 -> 0 | F31: =Tableau1[[#This Row],[Hêtres]]+Tableau1[[#This Row],[Platanes]]+Tableau1[[#This Row],[Peupliers]] -> 0
A32: 3 | B32: ='Projet 3'!A8 -> 0 | C32: ='Projet 3'!B8 -> 0 | D32: ='Projet 3'!C8 -> 0 | E32: ='Projet 3'!D8 -> 0 | F32: =Tableau1[[#This Row],[Hêtres]]+Tableau1[[#This Row],[Platanes]]+Tableau1[[#This Row],[Peupliers]] -> 0
A33: 3 | B33: ='Projet 3'!A9 -> 0 | C33: ='Projet 3'!B9 -> 0 | D33: ='Projet 3'!C9 -> 0 | E33: ='Projet 3'!D9 -> 0 | F33: =Tableau1[[#This Row],[Hêtres]]+Tableau1[[#This Row],[Platanes]]+Tableau1[[#This Row],[Peupliers]] -> 0
