Workbook

Sheet plan_quotidien
A1: Planning des travaux quotidiens
B3: Nom Batch | C3: Resp | D3: Début | E3: Durée | F3: Fin | G3: =Paramètres!B1 -> 0.83333333 | H3: =G3+Paramètres!$B$2/(24*60) -> 0.84375 | I3: =H3+Paramètres!$B$2/(24*60) -> 0.85416667 | J3: =I3+Paramètres!$B$2/(24*60) -> 0.86458333 | K3: =J3+Paramètres!$B$2/(24*60) -> 0.875 | L3: =K3+Paramètres!$B$2/(24*60) -> 0.88541667 | M3: =L3+Paramètres!$B$2/(24*60) -> 0.89583333 | N3: =M3+Paramètres!$B$2/(24*60) -> 0.90625 | O3: =N3+Paramètres!$B$2/(24*60) -> 0.91666667 | ... BK3: =BJ3+Paramètres!$B$2/(24*60) -> 1.4166667
A4: Domaine A
A5: Opération 1 | C5: RTE | D5: 0.91666667 | E5: 15 | F5: =D5+E5/(24*60) -> 0.92708333 | G5: =IF(AND(G$3>=$D5,G$3<=$F5),1,0) -> 0 | H5: =IF(AND(H$3>=$D5,H$3<=$F5),1,0) -> 0 | I5: =IF(AND(I$3>=$D5,I$3<=$F5),1,0) -> 0 | J5: =IF(AND(J$3>=$D5,J$3<=$F5),1,0) -> 0 | K5: =IF(AND(K$3>=$D5,K$3<=$F5),1,0) -> 0 | L5: =IF(AND(L$3>=$D5,L$3<=$F5),1,0) -> 0 | M5: =IF(AND(M$3>=$D5,M$3<=$F5),1,0) -> 0 | N5: =IF(AND(N$3>=$D5,N$3<=$F5),1,0) -> 0 | ... BK5: =IF(AND(BK$3>=$D5,BK$3<=$F5),1,0) -> 0
A6: Opération 2 | C6: RTE | D6: 0.92708333 | E6: 15 | F6: =D6+E6/(24*60) -> 0.9375 | G6: =IF(AND(G$3>=$D6,G$3<=$F6),1,0) -> 0 | H6: =IF(AND(H$3>=$D6,H$3<=$F6),1,0) -> 0 | I6: =IF(AND(I$3>=$D6,I$3<=$F6),1,0) -> 0 | J6: =IF(AND(J$3>=$D6,J$3<=$F6),1,0) -> 0 | K6: =IF(AND(K$3>=$D6,K$3<=$F6),1,0) -> 0 | L6: =IF(AND(L$3>=$D6,L$3<=$F6),1,0) -> 0 | M6: =IF(AND(M$3>=$D6,M$3<=$F6),1,0) -> 0 | N6: =IF(AND(N$3>=$D6,N$3<=$F6),1,0) -> 0 | ... BK6: =IF(AND(BK$3>=$D6,BK$3<=$F6),1,0) -> 0
A7: Opération 3 | C7: RTE | D7: 0.9375 | E7: 15 | F7: =D7+E7/(24*60) -> 0.94791667 | G7: =IF(AND(G$3>=$D7,G$3<=$F7),1,0) -> 0 | H7: =IF(AND(H$3>=$D7,H$3<=$F7),1,0) -> 0 | I7: =IF(AND(I$3>=$D7,I$3<=$F7),1,0) -> 0 | J7: =IF(AND(J$3>=$D7,J$3<=$F7),1,0) -> 0 | K7: =IF(AND(K$3>=$D7,K$3<=$F7),1,0) -> 0 | L7: =IF(AND(L$3>=$D7,L$3<=$F7),1,0) -> 0 | M7: =IF(AND(M$3>=$D7,M$3<=$F7),1,0) -> 0 | N7: =IF(AND(N$3>=$D7,N$3<=$F7),1,0) -> 0 | ... BK7: =IF(AND(BK$3>=$D7,BK$3<=$F7),1,0) -> 0
A8: Opération 4 | C8: RTE | D8: 0.94791667 | E8: 15 | F8: =D8+E8/(24*60) -> 0.95833333 | G8: =IF(AND(G$3>=$D8,G$3<=$F8),1,0) -> 0 | H8: =IF(AND(H$3>=$D8,H$3<=$F8),1,0) -> 0 | I8: =IF(AND(I$3>=$D8,I$3<=$F8),1,0) -> 0 | J8: =IF(AND(J$3>=$D8,J$3<=$F8),1,0) -> 0 | K8: =IF(AND(K$3>=$D8,K$3<=$F8),1,0) -> 0 | L8: =IF(AND(L$3>=$D8,L$3<=$F8),1,0) -> 0 | M8: =IF(AND(M$3>=$D8,M$3<=$F8),1,0) -> 0 | N8: =IF(AND(N$3>=$D8,N$3<=$F8),1,0) -> 0 | ... BK8: =IF(AND(BK$3>=$D8,BK$3<=$F8),1,0) -> 0
A9: Opération 5 | C9: RTE | D9: 0.95833333 | E9: 15 | F9: =D9+E9/(24*60) -> 0.96875 | G9: =IF(AND(G$3>=$D9,G$3<=$F9),1,0) -> 0 | H9: =IF(AND(H$3>=$D9,H$3<=$F9),1,0) -> 0 | I9: =IF(AND(I$3>=$D9,I$3<=$F9),1,0) -> 0 | J9: =IF(AND(J$3>=$D9,J$3<=$F9),1,0) -> 0 | K9: =IF(AND(K$3>=$D9,K$3<=$F9),1,0) -> 0 | L9: =IF(AND(L$3>=$D9,L$3<=$F9),1,0) -> 0 | M9: =IF(AND(M$3>=$D9,M$3<=$F9),1,0) -> 0 | N9: =IF(AND(N$3>=$D9,N$3<=$F9),1,0) -> 0 | ... BK9: =IF(AND(BK$3>=$D9,BK$3<=$F9),1,0) -> 0
A10: Opération 6 | C10: RTE | D10: 0.96875 | E10: 15 | F10: =D10+E10/(24*60) -> 0.97916667 | G10: =IF(AND(G$3>=$D10,G$3<=$F10),1,0) -> 0 | H10: =IF(AND(H$3>=$D10,H$3<=$F10),1,0) -> 0 | I10: =IF(AND(I$3>=$D10,I$3<=$F10),1,0) -> 0 | J10: =IF(AND(J$3>=$D10,J$3<=$F10),1,0) -> 0 | K10: =IF(AND(K$3>=$D10,K$3<=$F10),1,0) -> 0 | L10: =IF(AND(L$3>=$D10,L$3<=$F10),1,0) -> 0 | M10: =IF(AND(M$3>=$D10,M$3<=$F10),1,0) -> 0 | N10: =IF(AND(N$3>=$D10,N$3<=$F10),1,0) -> 0 | ... BK10: =IF(AND(BK$3>=$D10,BK$3<=$F10),1,0) -> 0
A11: Opération 7 | C11: RTE | D11: 0.97916667 | E11: 15 | F11: =D11+E11/(24*60) -> 0.98958333 | G11: =IF(AND(G$3>=$D11,G$3<=$F11),1,0) -> 0 | H11: =IF(AND(H$3>=$D11,H$3<=$F11),1,0) -> 0 | I11: =IF(AND(I$3>=$D11,I$3<=$F11),1,0) -> 0 | J11: =IF(AND(J$3>=$D11,J$3<=$F11),1,0) -> 0 | K11: =IF(AND(K$3>=$D11,K$3<=$F11),1,0) -> 0 | L11: =IF(AND(L$3>=$D11,L$3<=$F11),1,0) -> 0 | M11: =IF(AND(M$3>=$D11,M$3<=$F11),1,0) -> 0 | N11: =IF(AND(N$3>=$D11,N$3<=$F11),1,0) -> 0 | ... BK11: =IF(AND(BK$3>=$D11,BK$3<=$F11),1,0) -> 0
A12: Opération 8 | C12: RTE | D12: 0.98958333 | E12: 15 | F12: =D12+E12/(24*60) -> 1 | G12: =IF(AND(G$3>=$D12,G$3<=$F12),1,0) -> 0 | H12: =IF(AND(H$3>=$D12,H$3<=$F12),1,0) -> 0 | I12: =IF(AND(I$3>=$D12,I$3<=$F12),1,0) -> 0 | J12: =IF(AND(J$3>=$D12,J$3<=$F12),1,0) -> 0 | K12: =IF(AND(K$3>=$D12,K$3<=$F12),1,0) -> 0 | L12: =IF(AND(L$3>=$D12,L$3<=$F12),1,0) -> 0 | M12: =IF(AND(M$3>=$D12,M$3<=$F12),1,0) -> 0 | N12: =IF(AND(N$3>=$D12,N$3<=$F12),1,0) -> 0 | ... BK12: =IF(AND(BK$3>=$D12,BK$3<=$F12),1,0) -> 0
A13: Opération 9 | C13: RTE | D13: 0 | E13: 15 | F13: =D13+E13/(24*60) -> 0.010416667 | G13: =IF(AND(G$3>=$D13,G$3<=$F13),1,0) -> 0 | H13: =IF(AND(H$3>=$D13,H$3<=$F13),1,0) -> 0 | I13: =IF(AND(I$3>=$D13,I$3<=$F13),1,0) -> 0 | J13: =IF(AND(J$3>=$D13,J$3<=$F13),1,0) -> 0 | K13: =IF(AND(K$3>=$D13,K$3<=$F13),1,0) -> 0 | L13: =IF(AND(L$3>=$D13,L$3<=$F13),1,0) -> 0 | M13: =IF(AND(M$3>=$D13,M$3<=$F13),1,0) -> 0 | N13: =IF(AND(N$3>=$D13,N$3<=$F13),1,0) -> 0 | ... BK13: =IF(AND(BK$3>=$D13,BK$3<=$F13),1,0) -> 0
A14: Opération 10 | C14: RTE | D14: 0.010416667 | E14: 15 | F14: =D14+E14/(24*60) -> 0.020833333 | G14: =IF(AND(G$3>=$D14,G$3<=$F14),1,0) -> 0 | H14: =IF(AND(H$3>=$D14,H$3<=$F14),1,0) -> 0 | I14: =IF(AND(I$3>=$D14,I$3<=$F14),1,0) -> 0 | J14: =IF(AND(J$3>=$D14,J$3<=$F14),1,0) -> 0 | K14: =IF(AND(K$3>=$D14,K$3<=$F14),1,0) -> 0 | L14: =IF(AND(L$3>=$D14,L$3<=$F14),1,0) -> 0 | M14: =IF(AND(M$3>=$D14,M$3<=$F14),1,0) -> 0 | N14: =IF(AND(N$3>=$D14,N$3<=$F14),1,0) -> 0 | ... BK14: =IF(AND(BK$3>=$D14,BK$3<=$F14),1,0) -> 0
A15: Domaine B

Sheet Paramètres
A1: Heure de début | B1: 0.83333333
A2: Incrément (minutes) | B2: 15
