Workbook
Name Explo: 'Listes déroulantes'!$A$2:$B$36
Name Explo1: 'Listes déroulantes'!$A$2:$A$36
Name Explo2: 'Listes déroulantes'!$B$2:$B$36
Name Exploachat: 'Listes déroulantes'!$B$2:$C$35
Name Exploachat1: 'Listes déroulantes'!$B$2:$B$35
Name Exploachat2: 'Listes déroulantes'!$C$2:$C$35
Name Présence: [1]Feuil1!$A$2:$A$3
Name Salariés: '[2]Menus Déroulants'!$A$3:$A$90

Sheet Gestion générale
C1: Gestion des Équipements
C7: Révision 0 du 10/07/2012 | R7: Année 2014 | AC7: Mise à jour du :
AC8: =TODAY() -> 41849
A10: Matériel à l'agence
A11: Explosimètre(s) | C11: ='Listes déroulantes'!A37-'Gestion générale'!C108 -> 5
A12: Détecteur(s) NH3 | C12: ='Listes déroulantes'!E7-'Gestion générale'!I108 -> 2
A13: Téléphone(s) portable(s) | C13: ='Listes déroulantes'!G34-'Gestion générale'!Q108 -> 19
A14: Téléphone(s) portable(s) ATEX | C14: ='Listes déroulantes'!I11-'Gestion générale'!U108 -> 7
A15: Appareil(s) photos | C15: ='Listes déroulantes'!K35-'Gestion générale'!Y108 -> 12
A16: Ordinateur(s) portable(s) | C16: ='Listes déroulantes'!#REF!-'Gestion générale'!AC108 -> #REF!
A17: Lampe(s) | C17: ='Listes déroulantes'!O12-'Gestion générale'!AH108 -> 2
A18: Tablette(s) | C18: ='Listes déroulantes'!Q5-'Gestion générale'!AL108 -> 2
C20: Explosimètres | I20: Détecteurs NH3 | Q20: Téléphones portables | U20: Téléphones portables ATEX | Y20: Appareils photos | AC20: Ordinateurs portables | AH20: Lampes | AL20: Tablettes | AP20: Dosi / Radia | AV20: Voitures
B21: NOM Prénom | C21: Numéro interne | D21: Date d'attribution | E21: N° de série | F21: Date d'achat | G21: Date prochain étalonnage SOMATICO | I21: Numéro interne | J21: Date d'attribution | K21: N° de série | L21: Date d'achat | M21: Date prochain étalonnage SOMATICO | Q21: Numéro interne | R21: Date d'attribution | S21: N° IMEI | T21: Date d'achat | U21: Numéro interne | V21: Date d'attribution | W21: N° IMEI | X21: Date d'achat | Y21: Numéro interne | Z21: Date d'attribution | AA21: N° de série | AB21: Date d'achat | AC21: Numéro interne | AD21: Date d'attribution | AE21: N° de série | AF21: Modèle | AG21: Date d'achat | AH21: Numéro interne | AI21: Date d'attribution | AJ21: N° de série | AK21: Date d'achat | AL21: Numéro interne | AM21: Date d'attribution | AN21: N° de série | AO21: Date d'achat | AP21: Numéro interne | AQ21: Date d'attribution | AR21: N° de série | AS21: Date d'achat | AT21: Date dernier étalonnage | AV21: Immatriculation | AW21: Date d'attribution
A22: NON
A23: OUI
A24: OUI
A25: NON
A26: OUI | C26: EX30 | D26: 40989 | E26: =VLOOKUP(C26,Explo,2,FALSE) -> ALTAIR 4X : 00139721 / B12E0 | F26: =VLOOKUP(C26,Exploachat,3,FALSE) -> #N/A | G26: 41892 | H26: 41649 | Q26: T018 | R26: 41607 | S26: 358117047395413 | AC26: PC053 | AD26: ?
A27: NON | E27: =VLOOKUP(C27,Explo,2,FALSE) -> #N/A
A28: OUI
A29: OUI | AC29: PC049 | AD29: 41576 | AV29: BG-219-GR
A30: OUI
A31: NON | AC31: PC113 | AD31: ?
A32: OUI | C32: EX25 | D32: 12/12/2011 | E32: ALTAIR 4X: 00094010/MARS11 | F32: 40766 | G32: 41971 | H32: 41728 | Y32: AP028 | Z32: 41373 | AA32: 483064007730 | AH32: LEX002 | AI32: 41183 | AJ32: 2050-1149-0846 | AK32: 40909 | AV32: AG-033-WD
A33: NON
A34: OUI | C34: EX27 | D34: 41612 | E34: ALTAIR 4X: 00104120/ | F34: 40876 | G34: 41971 | H34: 41728 | I34: DN01 | J34: 41612 | K34: J613-A050237 | L34: 41612 | M34: 41977 | Q34: T023 | R34: 41533 | S34: 358117048029946 | Y34: AP003 | Z34: 41612 | AA34: CJ67C30SA473391 | AC34: PC044 | AD34: 41212 | AH34: LDP001 | AI34: 41153 | AV34: CD-289-YJ
Y35: AP035 | Z35: 41622 | AA35: V2F007090 | AH35: LF002 | AI35: 41176
A36: OUI | C36: EX23 | D36: 41387 | E36: ALTAIR 4X: 00088426/SEP11 | F36: 40766 | G36: 41886 | H36: 41643 | Y36: AP025 | Z36: 41323 | AA36: UT0062659 | AC36: PC047 | AD36: 41285
A37: OUI | C37: EX15 | D37: 40620 | E37: ALTAIR 4X: 00083107/A11EO | F37: 40617 | G37: 41872 | H37: 41629 | Q37: T031 | R37: ? | S37: 013666003869743 | Y37: AP012 | Z37: 40620 | AC37: PC107 | AD37: 41018
Y38: AP034 | Z38: 41123
A39: OUI | Q39: T030 | R39: 41682 | S39: 356092052247183 | AC39: PC101 | AD39: 41690
A40: OUI
A41: OUI | C41: EX21 | D41: 41543 | E41: ALTAIR 4X: 00093250/SEP11 | F41: 40766 | G41: 41879 | H41: 41636 | Y41: AP024 | Z41: 41163 | AC41: PC046 | AD41: 40585 | AV41: CD-389-YJ
A42: OUI | C42: EX26 | D42: 41397 | E42: ALTAIR 4X: 00104197/MAI11 | F42: 40876 | G42: 41962 | H42: 41719 | Y42: AP030 | Z42: 41488 | AV42: CQ-991-FZ
A43: OUI | Q43: T025 | R43: 41359 | AC43: PC108 | AD43: 41017 | AV43: CM-237-CB
A44: OUI | Q44: T024 | R44: 41334 | S44: 013274004759615 | Y44: AP015 | Z44: 40620 | AV44: CR-246-WE
A45: NON
A46: OUI
A47: OUI | C47: EX33 | D47: 41655 | E47: ALTAIR 4X : 00102833 / E11E0 | F47: 40994 | G47: 41773 | H47: 41570 | Y47: AP019 | Z47: 40819
A48: NON
A49: OUI | C49: EX06 | D49: 41694 | E49: ALTAIR 4: 00031535/ H09EO | F49: 40234 | G49: 42055 | H49: 41812 | AV49: AY-096-XK
A50: NON | AL50: TAB03 | AM50: 41751 | AN50: 356980/05/364370/9 | AO50: 41718 | AV50: BY-123-KC Loc
A51: OUI | C51: EX09 | D51: 41670 | E51: ALTAIR 4: 00031537/ H09EO | F51: 40234 | G51: 42055 | H51: 41812
A52: OUI | U52: ATE006 | V52: ? | W52: 357721000057232 | Y52: AP013 | Z52: 41607 | AH52: LF002 | AI52: 41176
A53: OUI
A54: OUI
A55: OUI | C55: EX32 | D55: 41597 | E55: ALTAIR 4X : 00103543 / E11E0 | F55: 40988 | G55: 42055 | H55: 41812 | Q55: T032 | R55: 41390 | S55: 013667001238923 | Y55: AP007 | Z55: 40368 | AC55: PC106 | AD55: 41733 | AV55: CD-298-YJ
A56: OUI | C56: EX16 | D56: 41828 | E56: ALTAIR 4X: 00083111/A11EO | F56: 40617 | G56: 42048 | H56: 41805 | AV56: AG-755-WC
A57: NON | AV57: AW-594-AG Loc
A58: OUI | AV58: CF-210-NH
A59: NON
A60: OUI | Q60: T001 | R60: 40238 | S60: 354120032965764 | AC60: PC111 | AD60: 41192
A61: OUI | C61: EX34 | D61: 41843 | E61: ALTAIR 4X : 00137343/B12E0 | F61: 40996 | G61: 41892 | H61: 41649
A62: NON
A63: OUI | C63: EX08 | D63: 40240 | E63: ALTAIR 4: 00031597/ H09EO | F63: 40234 | G63: 42055 | H63: 41812 | Y63: AP008 | Z63: 40245 | AC63: PC103 | AD63: 41830 | AV63: CQ-014-GA
A64: NON | AV64: AQ-944-MA Loc
A65: OUI | C65: EX31 | D65: 41843 | E65: ALTAIR 4X : 00139719 / B12E0 | F65: 40988 | G65: 42206 | H65: 41963
A66: OUI
A67: OUI
A68: NON
A69: OUI | C69: EX14 | D69: 41843 | E69: ALTAIR 4: 00046909/C10EO | F69: 40288 | G69: 42206 | H69: 41963 | Y69: AP029 | Z69: 41792 | AC69: PC032 | AD69: 41591 | AV69: CQ-003-GA
Y70: AP033 | Z70: ?
A71: OUI | AC71: PC110 | AD71: 41516 | AV71: BM-554-PD
A72: OUI | Q72: T022 | R72: 41151 | S72: 358117048029904 | Y72: AP014 | Z72: 41697 | AC72: PC102 | AD72: ? | AH72: LEX001 | AI72: 40995 | AJ72: 2050-1149-0845 | AK72: 40909 | AV72: AD-514-KP
A73: OUI | Q73: T017 | R73: 41536 | S73: 358117046573176 | Y73: AP027 | Z73: 41323 | AC73: PC051 | AD73: 41536
A74: OUI | AV74: CQ-981-FZ
A75: OUI | AH75: LDP002 | AI75: 41183
A76: OUI | C76: EX40 | D76: 41843 | E76: ALTAIR 4X : 00180856/J12E0 | F76: 41183 | G76: 42206 | H76: 41963 | Y76: AP020 | Z76: 41298 | AC76: PC055 | AD76: 40742 | AV76: BF-823-XG
A77: NON
A78: NON
A79: OUI
A80: OUI | C80: EX35 | D80: 41040 | E80: ALTAIR 4X : 00137343/B12E0 | F80: 40996 | G80: 41737 | H80: 41859 | Y80: AP021 | Z80: 41254 | AV80: 8054 ZT 76
A81: OUI
A82: OUI | AV82: AC-966-VP
A83: OUI | C83: EX20 | D83: 41313 | E83: ALTAIR 4X: 00088378/SEP11 | F83: 40766 | G83: 41740 | H83: 41862
A84: NON
A85: OUI | C85: EX17 | D85: 41486 | E85: ALTAIR 4X: 00083199/A11EO | F85: 40617 | G85: 41828 | H85: 41950 | AC85: PC112 | AD85: 41486 | AV85: AT-075-PB
A86: NON | AV86: BZ-328-SE Loc
A87: OUI | C87: EX23 | D87: 41387 | E87: ALTAIR 4X: 00088426/SEP11 | F87: 40766 | G87: 41886 | H87: 42049 | AV87: BF-210-XZ
A88: OUI | C88: EX04 | D88: 40238 | E88: ALTAIR 4: 00034261/ I09EO | F88: 40234 | G88: 42055 | H88: 41812 | I88: DN04 | J88: 41722 | K88: J614-A004881 | L88: 41718 | M88: 42074
A89: OUI | C89: EX29 | D89: 41723 | E89: ALTAIR 4X : 00139700 /B12E0 | F89: 40988 | G89: 42048 | H89: 41805 | Q89: T015 | R89: 40823 | S89: 354041040238780 | Y89: AP023 | Z89: 41519 | AC89: PC109 | AD89: 41302
A90: NON
A91: OUI | C91: EX28 | D91: 41513 | E91: ALTAIR 4X:00104135/E11E0 | F91: 41972 | G91: 41828 | H91: 41585 | Y91: AP026 | Z91: 41323
A92: OUI
A93: OUI
A94: NON | C94: EX39 | D94: 41733 | E94: ALTAIR 4X : 00180819/J12E0 | F94: 41183 | G94: 41761 | H94: 41518 | AC94: PC048 | AD94: 41739
A95: OUI | C95: EX37 | D95: 41614 | E95: ALTAIR 4X : 00137333/B12E0 | F95: 40996 | G95: 41940 | H95: 41697 | Q95: T028 | R95: 41776 | S95: 356092051944509 | U95: ATE002 | V95: 41776 | W95: 354623011232690 | AC95: PC031 | AD95: 41737 | AV95: BZ-071-NF Loc
A96: NON
A97: OUI | C97: EX18 | D97: 40637 | E97: ALTAIR 4X: 00076007/A11EQ | F97: 40617 | G97: 41811 | H97: 41568 | I97: DN02 | J97: 41305 | K97: GAXT : J613-A049337 | L97: 41667 | M97: 42031 | AV97: CK-550-RX Loc
A98: OUI | C98: EX22 | D98: 41694 | E98: ALTAIR 4X: 00088365/SEP11 | F98: 40766 | G98: 42055 | H98: 41812 | AH98: LDP005 | AI98: 41158 | AV98: CF-444-CV
A99: NON
A100: NON
A101: NON
A102: NON | AC102: PC001 | AD102: 40673 | AH102: LDP004 | AI102: 41188
A103: OUI
A104: OUI | Q104: T020 | R104: 41785 | S104: 358117047340732
A105: OUI
A106: OUI | C106: EX19 | D106: 41829 | E106: ALTAIR 4X: 00088433/SEP11 | F106: 40766 | G106: 42055 | H106: 41812 | AC106: PC104 | AD106: 40957
A107: OUI | AC107: PC114 | AD107: 41464
...

Sheet Listes déroulantes
A1: Explosimètre | B1: N° Série | C1: Date d'achat | E1: Détecteur HN3 | G1: Téléphone portable | I1: Téléphone ATEX | K1: Appareil photo | M1: Ordinateur portable | O1: Lampe | Q1: Tablette | S1: Dosi/Radia | U1: Voitures
A2: EX04 | B2: ALTAIR 4: 00034261/ I09EO | C2: 40234 | E2: DN01 | G2: T001 | I2: ATE001 | K2: AP001 | M2: PC001 | O2: LEX001 | Q2: TAB01 | S2: TEMOIN000 | U2: 8054 ZT 76
A3: EX06 | B3: ALTAIR 4: 00031535/ H09EO | C3: 40234 | E3: DN02 | G3: T002 | I3: ATE002 | K3: AP002 | M3: PC03 | O3: LEX002 | Q3: TAB02 | S3: X0001 | U3: AC-021-VQ
A4: EX08 | B4: ALTAIR 4: 00031597/ H09EO | C4: 40234 | E4: DN03 | G4: T003 | I4: ATE003 | K4: AP003 | M4: PC05 | O4: LDP001 | Q4: TAB03 | S4: X0002 | U4: AC-966-VP
A5: EX09 | B5: ALTAIR 4: 00031537/ H09EO | C5: 40234 | E5: DN04 | G5: T004 | I5: ATE004 | K5: AP004 | M5: PC013 | O5: LDP002 | Q5: =COUNTIF(Q2:Q4,"><") -> 3 | S5: X0003 | U5: AD-514-KP
A6: EX12 | B6: ALTAIR 4: 00145315/C12 | C6: 40288 | E6: DN05 | G6: T005 | I6: ATE005 | K6: AP005 | M6: PC030 | O6: LDP003 | S6: X0004 | U6: AG-033-WD
A7: EX14 | B7: ALTAIR 4: 00046909/C10EO | C7: 40288 | E7: =COUNTIF(E2:E6,"><") -> 5 | G7: T006 | I7: ATE006 | K7: AP006 | M7: PC031 | O7: LDP004 | S7: X0005 | U7: AG-755-WC
A8: EX15 | B8: ALTAIR 4X: 00083107/A11EO | C8: 40617 | G8: T007 | I8: ATE007 | K8: AP007 | M8: PC032 | O8: LDP005 | S8: RA001 | U8: AT-075-PB
A9: EX16 | B9: ALTAIR 4X: 00083111/A11EO | C9: 40617 | G9: T008 | I9: ATE008 | K9: AP008 | M9: PC041 | O9: LF001 | S9: RA002 | U9: AY-096-XK
A10: EX17 | B10: ALTAIR 4X: 00083199/A11EO | C10: 40617 | G10: T009 | I10: ATE009 | K10: AP010 | M10: PC043 | O10: LF002 | S10: =COUNTIF(S2:S9,"><") -> 8 | U10: BF-210-XZ
A11: EX18 | B11: ALTAIR 4X: 00076007/A11EQ | C11: 40617 | G11: T010 | I11: =COUNTIF(I2:I10,"><") -> 9 | K11: AP011 | M11: PC044 | O11: LF003 | U11: BF-823-XG
A12: EX19 | B12: ALTAIR 4X: 00088433/SEP11 | C12: 40766 | G12: T011 | K12: AP012 | M12: PC045 | O12: =COUNTIF(O2:O11,"><") -> 10 | U12: BG-219-GR
A13: EX20 | B13: ALTAIR 4X: 00088378/SEP11 | C13: 40766 | G13: T012 | K13: AP013 | M13: PC046 | U13: BM-520-PD
A14: EX21 | B14: ALTAIR 4X: 00093250/SEP11 | C14: 40766 | G14: T013 | K14: AP014 | M14: PC047 | U14: BM-554-PD
A15: EX22 | B15: ALTAIR 4X: 00088365/SEP11 | C15: 40766 | G15: T014 | K15: AP015 | M15: PC048 | U15: CD-289-YJ
A16: EX23 | B16: ALTAIR 4X: 00088426/SEP11 | C16: 40766 | G16: T015 | K16: AP016 | M16: PC049 | U16: CD-298-YJ
A17: EX24 | B17: ALTAIR 4X : 00094130/MARS11 | C17: 40766 | G17: T016 | K17: AP018 | M17: PC051 | U17: CD-389-YJ
A18: EX25 | B18: ALTAIR 4X: 00094010/MARS11 | C18: 40766 | G18: T017 | K18: AP019 | M18: PC053 | U18: CF-210-NH
A19: EX26 | B19: ALTAIR 4X: 00104197/MAI11 | C19: 40876 | G19: T018 | K19: AP020 | M19: PC054 | U19: CF-444-CV
A20: EX27 | B20: ALTAIR 4X: 00104120/ | C20: 40876 | G20: T019 | K20: AP021 | M20: PC055 | U20: CM-237-CB
A21: EX28 | B21: ALTAIR 4X:00104135/E11E0 | C21: 41972 | G21: T020 | K21: AP022 | M21: PC056 | U21: CQ-003-GA
A22: EX29 | B22: ALTAIR 4X : 00139700 /B12E0 | C22: 40988 | G22: T021 | K22: AP023 | M22: PC057 | U22: CQ-014-GA
A23: EX30 | B23: ALTAIR 4X : 00139721 / B12E0 | C23: 40988 | G23: T022 | K23: AP024 | M23: PC101 | U23: CQ-981-FZ
A24: EX31 | B24: ALTAIR 4X : 00139719 / B12E0 | C24: 40988 | G24: T023 | K24: AP025 | M24: PC102 | U24: CQ-991-FZ
... A33: EX40 | B33: ALTAIR 4X : 00180856/J12E0 | C33: 41183 | G33: T032 | K33: AP034 | M33: PC111 | U33: BZ-071-NF Loc
A34: EX41 | B34: ALTAIR 4X : 00180809/J12E0 | C34: 41183 | G34: =COUNTIF(G2:G33,"><") -> 32 | K34: AP035 | M34: PC112 | U34: BZ-328-SE Loc
A35: EX42 | B35: ALTAIR 4X : 00180826/J12E0 | C35: 41183 | K35: =COUNTIF(K2:K34,"><") -> 33 | M35: PC113 | U35: CL-250-DD Loc
A36: EX Prêt | M36: PC114 | U36: CK-550-RX Loc
A37: =COUNTIF(A2:A35,"><") -> 34
