Workbook

Sheet Tâches
C1: Pat | D1: Bob | E1: Joe | F1: Vince | G1: Phil | H1: John
A2: 42912 | B2: =PROPER(LEFT(TEXT(A2,"jjj"),2)) -> Lu | C2: IMM | D2: EXT | E2: IMM | F2: EXT | G2: GEJ | H2: GEJ
A3: 42913 | B3: =PROPER(LEFT(TEXT(A3,"jjj"),2)) -> Ma | C3: IMM | D3: IMM | E3: EXT | F3: EXT | G3: GEJ | H3: GES
A4: 42914 | B4: =PROPER(LEFT(TEXT(A4,"jjj"),2)) -> Me | C4: EXT | D4: IMM | E4: ENS | F4: ENS | G4: GES | H4: GEJ
A5: 42915 | B5: =PROPER(LEFT(TEXT(A5,"jjj"),2)) -> Je | C5: V | D5: IMM | E5: EXT | F5: EXT | G5: GEJ | H5: GEJ
A6: 42916 | B6: =PROPER(LEFT(TEXT(A6,"jjj"),2)) -> Ve | C6: IMM | D6: IMM | E6: EXT | F6: EXT | G6: V | H6: GEJ
A7: 42917 | B7: =PROPER(LEFT(TEXT(A7,"jjj"),2)) -> Sa
A8: 42918 | B8: =PROPER(LEFT(TEXT(A8,"jjj"),2)) -> Di
A9: 42919 | B9: =PROPER(LEFT(TEXT(A9,"jjj"),2)) -> Lu | C9: IMM | D9: IMM | E9: EXT | F9: EXT | G9: GEJ | H9: GES
A10: 42920 | B10: =PROPER(LEFT(TEXT(A10,"jjj"),2)) -> Ma | C10: EXT | D10: IMM | E10: ENS | F10: ENS | G10: GES | H10: GEJ
A11: 42921 | B11: =PROPER(LEFT(TEXT(A11,"jjj"),2)) -> Me | C11: V | D11: IMM | E11: EXT | F11: EXT | G11: GEJ | H11: GEJ
A12: 42922 | B12: =PROPER(LEFT(TEXT(A12,"jjj"),2)) -> Je | C12: IMM | D12: IMM | E12: EXT | F12: EXT | G12: V | H12: GEJ
A13: 42923 | B13: =PROPER(LEFT(TEXT(A13,"jjj"),2)) -> Ve | C13: IMM | D13: EXT | E13: IMM | F13: EXT | G13: GEJ | H13: GEJ
A14: 42924 | B14: =PROPER(LEFT(TEXT(A14,"jjj"),2)) -> Sa
A15: 42925 | B15: =PROPER(LEFT(TEXT(A15,"jjj"),2)) -> Di
A16: 42926 | B16: =PROPER(LEFT(TEXT(A16,"jjj"),2)) -> Lu | C16: EXT | D16: IMM | E16: ENS | F16: ENS | G16: GES | H16: GEJ
A17: 42927 | B17: =PROPER(LEFT(TEXT(A17,"jjj"),2)) -> Ma | C17: V | D17: IMM | E17: EXT | F17: EXT | G17: GEJ | H17: GEJ
A18: 42928 | B18: =PROPER(LEFT(TEXT(A18,"jjj"),2)) -> Me | C18: IMM | D18: IMM | E18: EXT | F18: EXT | G18: V | H18: GEJ
A19: 42929 | B19: =PROPER(LEFT(TEXT(A19,"jjj"),2)) -> Je | C19: IMM | D19: EXT | E19: IMM | F19: EXT | G19: GEJ | H19: GEJ
A20: 42930 | B20: =PROPER(LEFT(TEXT(A20,"jjj"),2)) -> Ve | C20: IMM | D20: IMM | E20: EXT | F20: EXT | G20: GEJ | H20: GES
A21: 42931 | B21: =PROPER(LEFT(TEXT(A21,"jjj"),2)) -> Sa
A22: 42932 | B22: =PROPER(LEFT(TEXT(A22,"jjj"),2)) -> Di
A23: 42933 | B23: =PROPER(LEFT(TEXT(A23,"jjj"),2)) -> Lu | C23: V | D23: IMM | E23: EXT | F23: EXT | G23: GEJ | H23: GEJ
A24: 42934 | B24: =PROPER(LEFT(TEXT(A24,"jjj"),2)) -> Ma | C24: IMM | D24: IMM | E24: EXT | F24: EXT | G24: V | H24: GEJ
A25: 42935 | B25: =PROPER(LEFT(TEXT(A25,"jjj"),2)) -> Me | C25: IMM | D25: EXT | E25: IMM | F25: EXT | G25: GEJ | H25: GEJ
A26: 42936 | B26: =PROPER(LEFT(TEXT(A26,"jjj"),2)) -> Je | C26: IMM | D26: IMM | E26: EXT | F26: EXT | G26: GEJ | H26: GES
A27: 42937 | B27: =PROPER(LEFT(TEXT(A27,"jjj"),2)) -> Ve | C27: EXT | D27: IMM | E27: ENS | F27: ENS | G27: GES | H27: GEJ
A28: 42938 | B28: =PROPER(LEFT(TEXT(A28,"jjj"),2)) -> Sa
A29: 42939 | B29: =PROPER(LEFT(TEXT(A29,"jjj"),2)) -> Di

Sheet Résultat
B1: =TODAY()-MOD(TODAY()+5,7) -> 42919 | C1: =B1+1 -> 42920 | D1: =C1+1 -> 42921 | E1: =D1+1 -> 42922 | F1: =E1+1 -> 42923 | G1: =F1+1 -> 42924 | H1: =G1+1 -> 42925 | J1: =K1-Tâches!$A$2 -> 7 | K1: =B1 -> 42919 | L1: =C1 -> 42920 | M1: =D1 -> 42921 | N1: =E1 -> 42922 | O1: =F1 -> 42923 | P1: =G1 -> 42924 | Q1: =H1 -> 42925
B2: =PROPER(LEFT(TEXT(B1,"jjj"),2)) -> Lu | C2: =PROPER(LEFT(TEXT(C1,"jjj"),2)) -> Ma | D2: =PROPER(LEFT(TEXT(D1,"jjj"),2)) -> Me | E2: =PROPER(LEFT(TEXT(E1,"jjj"),2)) -> Je | F2: =PROPER(LEFT(TEXT(F1,"jjj"),2)) -> Ve | G2: =PROPER(LEFT(TEXT(G1,"jjj"),2)) -> Sa | H2: =PROPER(LEFT(TEXT(H1,"jjj"),2)) -> Di | K2: 0 | L2: 1 | M2: 2 | N2: 3 | O2: 4 | P2: 5 | Q2: 6
A3: IMM | B3: =IFERROR(INDEX(Tâches!$C$1:$H$1,K3),"-") -> Pat | C3: =IFERROR(INDEX(Tâches!$C$1:$H$1,L3),"-") -> Bob | D3: =IFERROR(INDEX(Tâches!$C$1:$H$1,M3),"-") -> Bob | E3: =IFERROR(INDEX(Tâches!$C$1:$H$1,N3),"-") -> Pat | F3: =IFERROR(INDEX(Tâches!$C$1:$H$1,O3),"-") -> Pat | G3: =IFERROR(INDEX(Tâches!$C$1:$H$1,P3),"-") -> - | H3: =IFERROR(INDEX(Tâches!$C$1:$H$1,Q3),"-") -> - | J3: =IF(ISBLANK(A3),J2 & "",A3 & "") -> IMM | K3: =IF($J2<>$J3,0,K2)+MATCH($J3,OFFSET(Tâches!$C$2,$J$1+K$2,IF($J2<>$J3,0,K2),1,COUNTA(Tâches!$C$1:$H$1)-IF($J2<>$J3,0,K2)),0) -> 1 | L3: =IF($J2<>$J3,0,L2)+MATCH($J3,OFFSET(Tâches!$C$2,$J$1+L$2,IF($J2<>$J3,0,L2),1,COUNTA(Tâches!$C$1:$H$1)-IF($J2<>$J3,0,L2)),0) -> 2 | M3: =IF($J2<>$J3,0,M2)+MATCH($J3,OFFSET(Tâches!$C$2,$J$1+M$2,IF($J2<>$J3,0,M2),1,COUNTA(Tâches!$C$1:$H$1)-IF($J2<>$J3,0,M2)),0) -> 2 | N3: =IF($J2<>$J3,0,N2)+MATCH($J3,OFFSET(Tâches!$C$2,$J$1+N$2,IF($J2<>$J3,0,N2),1,COUNTA(Tâches!$C$1:$H$1)-IF($J2<>$J3,0,N2)),0) -> 1 | O3: =IF($J2<>$J3,0,O2)+MATCH($J3,OFFSET(Tâches!$C$2,$J$1+O$2,IF($J2<>$J3,0,O2),1,COUNTA(Tâches!$C$1:$H$1)-IF($J2<>$J3,0,O2)),0) -> 1 | P3: =IF($J2<>$J3,0,P2)+MATCH($J3,OFFSET(Tâches!$C$2,$J$1+P$2,IF($J2<>$J3,0,P2),1,COUNTA(Tâches!$C$1:$H$1)-IF($J2<>$J3,0,P2)),0) -> #N/A | Q3: =IF($J2<>$J3,0,Q2)+MATCH($J3,OFFSET(Tâches!$C$2,$J$1+Q$2,IF($J2<>$J3,0,Q2),1,COUNTA(Tâches!$C$1:$H$1)-IF($J2<>$J3,0,Q2)),0) -> #N/A
B4: =IFERROR(INDEX(Tâches!$C$1:$H$1,K4),"-") -> Bob | C4: =IFERROR(INDEX(Tâches!$C$1:$H$1,L4),"-") -> - | D4: =IFERROR(INDEX(Tâches!$C$1:$H$1,M4),"-") -> - | E4: =IFERROR(INDEX(Tâches!$C$1:$H$1,N4),"-") -> Bob | F4: =IFERROR(INDEX(Tâches!$C$1:$H$1,O4),"-") -> Joe | G4: =IFERROR(INDEX(Tâches!$C$1:$H$1,P4),"-") -> - | H4: =IFERROR(INDEX(Tâches!$C$1:$H$1,Q4),"-") -> - | J4: =IF(ISBLANK(A4),J3 & "",A4 & "") -> IMM | K4: =IF($J3<>$J4,0,K3)+MATCH($J4,OFFSET(Tâches!$C$2,$J$1+K$2,IF($J3<>$J4,0,K3),1,COUNTA(Tâches!$C$1:$H$1)-IF($J3<>$J4,0,K3)),0) -> 2 | L4: =IF($J3<>$J4,0,L3)+MATCH($J4,OFFSET(Tâches!$C$2,$J$1+L$2,IF($J3<>$J4,0,L3),1,COUNTA(Tâches!$C$1:$H$1)-IF($J3<>$J4,0,L3)),0) -> #N/A | M4: =IF($J3<>$J4,0,M3)+MATCH($J4,OFFSET(Tâches!$C$2,$J$1+M$2,IF($J3<>$J4,0,M3),1,COUNTA(Tâches!$C$1:$H$1)-IF($J3<>$J4,0,M3)),0) -> #N/A | N4: =IF($J3<>$J4,0,N3)+MATCH($J4,OFFSET(Tâches!$C$2,$J$1+N$2,IF($J3<>$J4,0,N3),1,COUNTA(Tâches!$C$1:$H$1)-IF($J3<>$J4,0,N3)),0) -> 2 | O4: =IF($J3<>$J4,0,O3)+MATCH($J4,OFFSET(Tâches!$C$2,$J$1+O$2,IF($J3<>$J4,0,O3),1,COUNTA(Tâches!$C$1:$H$1)-IF($J3<>$J4,0,O3)),0) -> 3 | P4: =IF($J3<>$J4,0,P3)+MATCH($J4,OFFSET(Tâches!$C$2,$J$1+P$2,IF($J3<>$J4,0,P3),1,COUNTA(Tâches!$C$1:$H$1)-IF($J3<>$J4,0,P3)),0) -> #N/A | Q4: =IF($J3<>$J4,0,Q3)+MATCH($J4,OFFSET(Tâches!$C$2,$J$1+Q$2,IF($J3<>$J4,0,Q3),1,COUNTA(Tâches!$C$1:$H$1)-IF($J3<>$J4,0,Q3)),0) -> #N/A
B5: =IFERROR(INDEX(Tâches!$C$1:$H$1,K5),"-") -> - | C5: =IFERROR(INDEX(Tâches!$C$1:$H$1,L5),"-") -> - | D5: =IFERROR(INDEX(Tâches!$C$1:$H$1,M5),"-") -> - | E5: =IFERROR(INDEX(Tâches!$C$1:$H$1,N5),"-") -> - | F5: =IFERROR(INDEX(Tâches!$C$1:$H$1,O5),"-") -> - | G5: =IFERROR(INDEX(Tâches!$C$1:$H$1,P5),"-") -> - | H5: =IFERROR(INDEX(Tâches!$C$1:$H$1,Q5),"-") -> - | J5: =IF(ISBLANK(A5),J4 & "",A5 & "") -> IMM | K5: =IF($J4<>$J5,0,K4)+MATCH($J5,OFFSET(Tâches!$C$2,$J$1+K$2,IF($J4<>$J5,0,K4),1,COUNTA(Tâches!$C$1:$H$1)-IF($J4<>$J5,0,K4)),0) -> #N/A | L5: =IF($J4<>$J5,0,L4)+MATCH($J5,OFFSET(Tâches!$C$2,$J$1+L$2,IF($J4<>$J5,0,L4),1,COUNTA(Tâches!$C$1:$H$1)-IF($J4<>$J5,0,L4)),0) -> #N/A | M5: =IF($J4<>$J5,0,M4)+MATCH($J5,OFFSET(Tâches!$C$2,$J$1+M$2,IF($J4<>$J5,0,M4),1,COUNTA(Tâches!$C$1:$H$1)-IF($J4<>$J5,0,M4)),0) -> #N/A | N5: =IF($J4<>$J5,0,N4)+MATCH($J5,OFFSET(Tâches!$C$2,$J$1+N$2,IF($J4<>$J5,0,N4),1,COUNTA(Tâches!$C$1:$H$1)-IF($J4<>$J5,0,N4)),0) -> #N/A | O5: =IF($J4<>$J5,0,O4)+MATCH($J5,OFFSET(Tâches!$C$2,$J$1+O$2,IF($J4<>$J5,0,O4),1,COUNTA(Tâches!$C$1:$H$1)-IF($J4<>$J5,0,O4)),0) -> #N/A | P5: =IF($J4<>$J5,0,P4)+MATCH($J5,OFFSET(Tâches!$C$2,$J$1+P$2,IF($J4<>$J5,0,P4),1,COUNTA(Tâches!$C$1:$H$1)-IF($J4<>$J5,0,P4)),0) -> #N/A | Q5: =IF($J4<>$J5,0,Q4)+MATCH($J5,OFFSET(Tâches!$C$2,$J$1+Q$2,IF($J4<>$J5,0,Q4),1,COUNTA(Tâches!$C$1:$H$1)-IF($J4<>$J5,0,Q4)),0) -> #N/A
B6: =IFERROR(INDEX(Tâches!$C$1:$H$1,K6),"-") -> - | C6: =IFERROR(INDEX(Tâches!$C$1:$H$1,L6),"-") -> - | D6: =IFERROR(INDEX(Tâches!$C$1:$H$1,M6),"-") -> - | E6: =IFERROR(INDEX(Tâches!$C$1:$H$1,N6),"-") -> - | F6: =IFERROR(INDEX(Tâches!$C$1:$H$1,O6),"-") -> - | G6: =IFERROR(INDEX(Tâches!$C$1:$H$1,P6),"-") -> - | H6: =IFERROR(INDEX(Tâches!$C$1:$H$1,Q6),"-") -> - | J6: =IF(ISBLANK(A6),J5 & "",A6 & "") -> IMM | K6: =IF($J5<>$J6,0,K5)+MATCH($J6,OFFSET(Tâches!$C$2,$J$1+K$2,IF($J5<>$J6,0,K5),1,COUNTA(Tâches!$C$1:$H$1)-IF($J5<>$J6,0,K5)),0) -> #N/A | L6: =IF($J5<>$J6,0,L5)+MATCH($J6,OFFSET(Tâches!$C$2,$J$1+L$2,IF($J5<>$J6,0,L5),1,COUNTA(Tâches!$C$1:$H$1)-IF($J5<>$J6,0,L5)),0) -> #N/A | M6: =IF($J5<>$J6,0,M5)+MATCH($J6,OFFSET(Tâches!$C$2,$J$1+M$2,IF($J5<>$J6,0,M5),1,COUNTA(Tâches!$C$1:$H$1)-IF($J5<>$J6,0,M5)),0) -> #N/A | N6: =IF($J5<>$J6,0,N5)+MATCH($J6,OFFSET(Tâches!$C$2,$J$1+N$2,IF($J5<>$J6,0,N5),1,COUNTA(Tâches!$C$1:$H$1)-IF($J5<>$J6,0,N5)),0) -> #N/A | O6: =IF($J5<>$J6,0,O5)+MATCH($J6,OFFSET(Tâches!$C$2,$J$1+O$2,IF($J5<>$J6,0,O5),1,COUNTA(Tâches!$C$1:$H$1)-IF($J5<>$J6,0,O5)),0) -> #N/A | P6: =IF($J5<>$J6,0,P5)+MATCH($J6,OFFSET(Tâches!$C$2,$J$1+P$2,IF($J5<>$J6,0,P5),1,COUNTA(Tâches!$C$1:$H$1)-IF($J5<>$J6,0,P5)),0) -> #N/A | Q6: =IF($J5<>$J6,0,Q5)+MATCH($J6,OFFSET(Tâches!$C$2,$J$1+Q$2,IF($J5<>$J6,0,Q5),1,COUNTA(Tâches!$C$1:$H$1)-IF($J5<>$J6,0,Q5)),0) -> #N/A
A7: EXT | B7: =IFERROR(INDEX(Tâches!$C$1:$H$1,K7),"-") -> Joe | C7: =IFERROR(INDEX(Tâches!$C$1:$H$1,L7),"-") -> Pat | D7: =IFERROR(INDEX(Tâches!$C$1:$H$1,M7),"-") -> Joe | E7: =IFERROR(INDEX(Tâches!$C$1:$H$1,N7),"-") -> Joe | F7: =IFERROR(INDEX(Tâches!$C$1:$H$1,O7),"-") -> Bob | G7: =IFERROR(INDEX(Tâches!$C$1:$H$1,P7),"-") -> - | H7: =IFERROR(INDEX(Tâches!$C$1:$H$1,Q7),"-") -> - | J7: =IF(ISBLANK(A7),J6 & "",A7 & "") -> EXT | K7: =IF($J6<>$J7,0,K6)+MATCH($J7,OFFSET(Tâches!$C$2,$J$1+K$2,IF($J6<>$J7,0,K6),1,COUNTA(Tâches!$C$1:$H$1)-IF($J6<>$J7,0,K6)),0) -> 3 | L7: =IF($J6<>$J7,0,L6)+MATCH($J7,OFFSET(Tâches!$C$2,$J$1+L$2,IF($J6<>$J7,0,L6),1,COUNTA(Tâches!$C$1:$H$1)-IF($J6<>$J7,0,L6)),0) -> 1 | M7: =IF($J6<>$J7,0,M6)+MATCH($J7,OFFSET(Tâches!$C$2,$J$1+M$2,IF($J6<>$J7,0,M6),1,COUNTA(Tâches!$C$1:$H$1)-IF($J6<>$J7,0,M6)),0) -> 3 | N7: =IF($J6<>$J7,0,N6)+MATCH($J7,OFFSET(Tâches!$C$2,$J$1+N$2,IF($J6<>$J7,0,N6),1,COUNTA(Tâches!$C$1:$H$1)-IF($J6<>$J7,0,N6)),0) -> 3 | O7: =IF($J6<>$J7,0,O6)+MATCH($J7,OFFSET(Tâches!$C$2,$J$1+O$2,IF($J6<>$J7,0,O6),1,COUNTA(Tâches!$C$1:$H$1)-IF($J6<>$J7,0,O6)),0) -> 2 | P7: =IF($J6<>$J7,0,P6)+MATCH($J7,OFFSET(Tâches!$C$2,$J$1+P$2,IF($J6<>$J7,0,P6),1,COUNTA(Tâches!$C$1:$H$1)-IF($J6<>$J7,0,P6)),0) -> #N/A | Q7: =IF($J6<>$J7,0,Q6)+MATCH($J7,OFFSET(Tâches!$C$2,$J$1+Q$2,IF($J6<>$J7,0,Q6),1,COUNTA(Tâches!$C$1:$H$1)-IF($J6<>$J7,0,Q6)),0) -> #N/A
B8: =IFERROR(INDEX(Tâches!$C$1:$H$1,K8),"-") -> Vince | C8: =IFERROR(INDEX(Tâches!$C$1:$H$1,L8),"-") -> - | D8: =IFERROR(INDEX(Tâches!$C$1:$H$1,M8),"-") -> Vince | E8: =IFERROR(INDEX(Tâches!$C$1:$H$1,N8),"-") -> Vince | F8: =IFERROR(INDEX(Tâches!$C$1:$H$1,O8),"-") -> Vince | G8: =IFERROR(INDEX(Tâches!$C$1:$H$1,P8),"-") -> - | H8: =IFERROR(INDEX(Tâches!$C$1:$H$1,Q8),"-") -> - | J8: =IF(ISBLANK(A8),J7 & "",A8 & "") -> EXT | K8: =IF($J7<>$J8,0,K7)+MATCH($J8,OFFSET(Tâches!$C$2,$J$1+K$2,IF($J7<>$J8,0,K7),1,COUNTA(Tâches!$C$1:$H$1)-IF($J7<>$J8,0,K7)),0) -> 4 | L8: =IF($J7<>$J8,0,L7)+MATCH($J8,OFFSET(Tâches!$C$2,$J$1+L$2,IF($J7<>$J8,0,L7),1,COUNTA(Tâches!$C$1:$H$1)-IF($J7<>$J8,0,L7)),0) -> #N/A | M8: =IF($J7<>$J8,0,M7)+MATCH($J8,OFFSET(Tâches!$C$2,$J$1+M$2,IF($J7<>$J8,0,M7),1,COUNTA(Tâches!$C$1:$H$1)-IF($J7<>$J8,0,M7)),0) -> 4 | N8: =IF($J7<>$J8,0,N7)+MATCH($J8,OFFSET(Tâches!$C$2,$J$1+N$2,IF($J7<>$J8,0,N7),1,COUNTA(Tâches!$C$1:$H$1)-IF($J7<>$J8,0,N7)),0) -> 4 | O8: =IF($J7<>$J8,0,O7)+MATCH($J8,OFFSET(Tâches!$C$2,$J$1+O$2,IF($J7<>$J8,0,O7),1,COUNTA(Tâches!$C$1:$H$1)-IF($J7<>$J8,0,O7)),0) -> 4 | P8: =IF($J7<>$J8,0,P7)+MATCH($J8,OFFSET(Tâches!$C$2,$J$1+P$2,IF($J7<>$J8,0,P7),1,COUNTA(Tâches!$C$1:$H$1)-IF($J7<>$J8,0,P7)),0) -> #N/A | Q8: =IF($J7<>$J8,0,Q7)+MATCH($J8,OFFSET(Tâches!$C$2,$J$1+Q$2,IF($J7<>$J8,0,Q7),1,COUNTA(Tâches!$C$1:$H$1)-IF($J7<>$J8,0,Q7)),0) -> #N/A
B9: =IFERROR(INDEX(Tâches!$C$1:$H$1,K9),"-") -> - | C9: =IFERROR(INDEX(Tâches!$C$1:$H$1,L9),"-") -> - | D9: =IFERROR(INDEX(Tâches!$C$1:$H$1,M9),"-") -> - | E9: =IFERROR(INDEX(Tâches!$C$1:$H$1,N9),"-") -> - | F9: =IFERROR(INDEX(Tâches!$C$1:$H$1,O9),"-") -> - | G9: =IFERROR(INDEX(Tâches!$C$1:$H$1,P9),"-") -> - | H9: =IFERROR(INDEX(Tâches!$C$1:$H$1,Q9),"-") -> - | J9: =IF(ISBLANK(A9),J8 & "",A9 & "") -> EXT | K9: =IF($J8<>$J9,0,K8)+MATCH($J9,OFFSET(Tâches!$C$2,$J$1+K$2,IF($J8<>$J9,0,K8),1,COUNTA(Tâches!$C$1:$H$1)-IF($J8<>$J9,0,K8)),0) -> #N/A | L9: =IF($J8<>$J9,0,L8)+MATCH($J9,OFFSET(Tâches!$C$2,$J$1+L$2,IF($J8<>$J9,0,L8),1,COUNTA(Tâches!$C$1:$H$1)-IF($J8<>$J9,0,L8)),0) -> #N/A | M9: =IF($J8<>$J9,0,M8)+MATCH($J9,OFFSET(Tâches!$C$2,$J$1+M$2,IF($J8<>$J9,0,M8),1,COUNTA(Tâches!$C$1:$H$1)-IF($J8<>$J9,0,M8)),0) -> #N/A | N9: =IF($J8<>$J9,0,N8)+MATCH($J9,OFFSET(Tâches!$C$2,$J$1+N$2,IF($J8<>$J9,0,N8),1,COUNTA(Tâches!$C$1:$H$1)-IF($J8<>$J9,0,N8)),0) -> #N/A | O9: =IF($J8<>$J9,0,O8)+MATCH($J9,OFFSET(Tâches!$C$2,$J$1+O$2,IF($J8<>$J9,0,O8),1,COUNTA(Tâches!$C$1:$H$1)-IF($J8<>$J9,0,O8)),0) -> #N/A | P9: =IF($J8<>$J9,0,P8)+MATCH($J9,OFFSET(Tâches!$C$2,$J$1+P$2,IF($J8<>$J9,0,P8),1,COUNTA(Tâches!$C$1:$H$1)-IF($J8<>$J9,0,P8)),0) -> #N/A | Q9: =IF($J8<>$J9,0,Q8)+MATCH($J9,OFFSET(Tâches!$C$2,$J$1+Q$2,IF($J8<>$J9,0,Q8),1,COUNTA(Tâches!$C$1:$H$1)-IF($J8<>$J9,0,Q8)),0) -> #N/A
B10: =IFERROR(INDEX(Tâches!$C$1:$H$1,K10),"-") -> - | C10: =IFERROR(INDEX(Tâches!$C$1:$H$1,L10),"-") -> - | D10: =IFERROR(INDEX(Tâches!$C$1:$H$1,M10),"-") -> - | E10: =IFERROR(INDEX(Tâches!$C$1:$H$1,N10),"-") -> - | F10: =IFERROR(INDEX(Tâches!$C$1:$H$1,O10),"-") -> - | G10: =IFERROR(INDEX(Tâches!$C$1:$H$1,P10),"-") -> - | H10: =IFERROR(INDEX(Tâches!$C$1:$H$1,Q10),"-") -> - | J10: =IF(ISBLANK(A10),J9 & "",A10 & "") -> EXT | K10: =IF($J9<>$J10,0,K9)+MATCH($J10,OFFSET(Tâches!$C$2,$J$1+K$2,IF($J9<>$J10,0,K9),1,COUNTA(Tâches!$C$1:$H$1)-IF($J9<>$J10,0,K9)),0) -> #N/A | L10: =IF($J9<>$J10,0,L9)+MATCH($J10,OFFSET(Tâches!$C$2,$J$1+L$2,IF($J9<>$J10,0,L9),1,COUNTA(Tâches!$C$1:$H$1)-IF($J9<>$J10,0,L9)),0) -> #N/A | M10: =IF($J9<>$J10,0,M9)+MATCH($J10,OFFSET(Tâches!$C$2,$J$1+M$2,IF($J9<>$J10,0,M9),1,COUNTA(Tâches!$C$1:$H$1)-IF($J9<>$J10,0,M9)),0) -> #N/A | N10: =IF($J9<>$J10,0,N9)+MATCH($J10,OFFSET(Tâches!$C$2,$J$1+N$2,IF($J9<>$J10,0,N9),1,COUNTA(Tâches!$C$1:$H$1)-IF($J9<>$J10,0,N9)),0) -> #N/A | O10: =IF($J9<>$J10,0,O9)+MATCH($J10,OFFSET(Tâches!$C$2,$J$1+O$2,IF($J9<>$J10,0,O9),1,COUNTA(Tâches!$C$1:$H$1)-IF($J9<>$J10,0,O9)),0) -> #N/A | P10: =IF($J9<>$J10,0,P9)+MATCH($J10,OFFSET(Tâches!$C$2,$J$1+P$2,IF($J9<>$J10,0,P9),1,COUNTA(Tâches!$C$1:$H$1)-IF($J9<>$J10,0,P9)),0) -> #N/A | Q10: =IF($J9<>$J10,0,Q9)+MATCH($J10,OFFSET(Tâches!$C$2,$J$1+Q$2,IF($J9<>$J10,0,Q9),1,COUNTA(Tâches!$C$1:$H$1)-IF($J9<>$J10,0,Q9)),0) -> #N/A
A11: ENS | B11: =IFERROR(INDEX(Tâches!$C$1:$H$1,K11),"-") -> - | C11: =IFERROR(INDEX(Tâches!$C$1:$H$1,L11),"-") -> Joe | D11: =IFERROR(INDEX(Tâches!$C$1:$H$1,M11),"-") -> - | E11: =IFERROR(INDEX(Tâches!$C$1:$H$1,N11),"-") -> - | F11: =IFERROR(INDEX(Tâches!$C$1:$H$1,O11),"-") -> - | G11: =IFERROR(INDEX(Tâches!$C$1:$H$1,P11),"-") -> - | H11: =IFERROR(INDEX(Tâches!$C$1:$H$1,Q11),"-") -> - | J11: =IF(ISBLANK(A11),J10 & "",A11 & "") -> ENS | K11: =IF($J10<>$J11,0,K10)+MATCH($J11,OFFSET(Tâches!$C$2,$J$1+K$2,IF($J10<>$J11,0,K10),1,COUNTA(Tâches!$C$1:$H$1)-IF($J10<>$J11,0,K10)),0) -> #N/A | L11: =IF($J10<>$J11,0,L10)+MATCH($J11,OFFSET(Tâches!$C$2,$J$1+L$2,IF($J10<>$J11,0,L10),1,COUNTA(Tâches!$C$1:$H$1)-IF($J10<>$J11,0,L10)),0) -> 3 | M11: =IF($J10<>$J11,0,M10)+MATCH($J11,OFFSET(Tâches!$C$2,$J$1+M$2,IF($J10<>$J11,0,M10),1,COUNTA(Tâches!$C$1:$H$1)-IF($J10<>$J11,0,M10)),0) -> #N/A | N11: =IF($J10<>$J11,0,N10)+MATCH($J11,OFFSET(Tâches!$C$2,$J$1+N$2,IF($J10<>$J11,0,N10),1,COUNTA(Tâches!$C$1:$H$1)-IF($J10<>$J11,0,N10)),0) -> #N/A | O11: =IF($J10<>$J11,0,O10)+MATCH($J11,OFFSET(Tâches!$C$2,$J$1+O$2,IF($J10<>$J11,0,O10),1,COUNTA(Tâches!$C$1:$H$1)-IF($J10<>$J11,0,O10)),0) -> #N/A | P11: =IF($J10<>$J11,0,P10)+MATCH($J11,OFFSET(Tâches!$C$2,$J$1+P$2,IF($J10<>$J11,0,P10),1,COUNTA(Tâches!$C$1:$H$1)-IF($J10<>$J11,0,P10)),0) -> #N/A | Q11: =IF($J10<>$J11,0,Q10)+MATCH($J11,OFFSET(Tâches!$C$2,$J$1+Q$2,IF($J10<>$J11,0,Q10),1,COUNTA(Tâches!$C$1:$H$1)-IF($J10<>$J11,0,Q10)),0) -> #N/A
B12: =IFERROR(INDEX(Tâches!$C$1:$H$1,K12),"-") -> - | C12: =IFERROR(INDEX(Tâches!$C$1:$H$1,L12),"-") -> Vince | D12: =IFERROR(INDEX(Tâches!$C$1:$H$1,M12),"-") -> - | E12: =IFERROR(INDEX(Tâches!$C$1:$H$1,N12),"-") -> - | F12: =IFERROR(INDEX(Tâches!$C$1:$H$1,O12),"-") -> - | G12: =IFERROR(INDEX(Tâches!$C$1:$H$1,P12),"-") -> - | H12: =IFERROR(INDEX(Tâches!$C$1:$H$1,Q12),"-") -> - | J12: =IF(ISBLANK(A12),J11 & "",A12 & "") -> ENS | K12: =IF($J11<>$J12,0,K11)+MATCH($J12,OFFSET(Tâches!$C$2,$J$1+K$2,IF($J11<>$J12,0,K11),1,COUNTA(Tâches!$C$1:$H$1)-IF($J11<>$J12,0,K11)),0) -> #N/A | L12: =IF($J11<>$J12,0,L11)+MATCH($J12,OFFSET(Tâches!$C$2,$J$1+L$2,IF($J11<>$J12,0,L11),1,COUNTA(Tâches!$C$1:$H$1)-IF($J11<>$J12,0,L11)),0) -> 4 | M12: =IF($J11<>$J12,0,M11)+MATCH($J12,OFFSET(Tâches!$C$2,$J$1+M$2,IF($J11<>$J12,0,M11),1,COUNTA(Tâches!$C$1:$H$1)-IF($J11<>$J12,0,M11)),0) -> #N/A | N12: =IF($J11<>$J12,0,N11)+MATCH($J12,OFFSET(Tâches!$C$2,$J$1+N$2,IF($J11<>$J12,0,N11),1,COUNTA(Tâches!$C$1:$H$1)-IF($J11<>$J12,0,N11)),0) -> #N/A | O12: =IF($J11<>$J12,0,O11)+MATCH($J12,OFFSET(Tâches!$C$2,$J$1+O$2,IF($J11<>$J12,0,O11),1,COUNTA(Tâches!$C$1:$H$1)-IF($J11<>$J12,0,O11)),0) -> #N/A | P12: =IF($J11<>$J12,0,P11)+MATCH($J12,OFFSET(Tâches!$C$2,$J$1+P$2,IF($J11<>$J12,0,P11),1,COUNTA(Tâches!$C$1:$H$1)-IF($J11<>$J12,0,P11)),0) -> #N/A | Q12: =IF($J11<>$J12,0,Q11)+MATCH($J12,OFFSET(Tâches!$C$2,$J$1+Q$2,IF($J11<>$J12,0,Q11),1,COUNTA(Tâches!$C$1:$H$1)-IF($J11<>$J12,0,Q11)),0) -> #N/A
B13: =IFERROR(INDEX(Tâches!$C$1:$H$1,K13),"-") -> - | C13: =IFERROR(INDEX(Tâches!$C$1:$H$1,L13),"-") -> - | D13: =IFERROR(INDEX(Tâches!$C$1:$H$1,M13),"-") -> - | E13: =IFERROR(INDEX(Tâches!$C$1:$H$1,N13),"-") -> - | F13: =IFERROR(INDEX(Tâches!$C$1:$H$1,O13),"-") -> - | G13: =IFERROR(INDEX(Tâches!$C$1:$H$1,P13),"-") -> - | H13: =IFERROR(INDEX(Tâches!$C$1:$H$1,Q13),"-") -> - | J13: =IF(ISBLANK(A13),J12 & "",A13 & "") -> ENS | K13: =IF($J12<>$J13,0,K12)+MATCH($J13,OFFSET(Tâches!$C$2,$J$1+K$2,IF($J12<>$J13,0,K12),1,COUNTA(Tâches!$C$1:$H$1)-IF($J12<>$J13,0,K12)),0) -> #N/A | L13: =IF($J12<>$J13,0,L12)+MATCH($J13,OFFSET(Tâches!$C$2,$J$1+L$2,IF($J12<>$J13,0,L12),1,COUNTA(Tâches!$C$1:$H$1)-IF($J12<>$J13,0,L12)),0) -> #N/A | M13: =IF($J12<>$J13,0,M12)+MATCH($J13,OFFSET(Tâches!$C$2,$J$1+M$2,IF($J12<>$J13,0,M12),1,COUNTA(Tâches!$C$1:$H$1)-IF($J12<>$J13,0,M12)),0) -> #N/A | N13: =IF($J12<>$J13,0,N12)+MATCH($J13,OFFSET(Tâches!$C$2,$J$1+N$2,IF($J12<>$J13,0,N12),1,COUNTA(Tâches!$C$1:$H$1)-IF($J12<>$J13,0,N12)),0) -> #N/A | O13: =IF($J12<>$J13,0,O12)+MATCH($J13,OFFSET(Tâches!$C$2,$J$1+O$2,IF($J12<>$J13,0,O12),1,COUNTA(Tâches!$C$1:$H$1)-IF($J12<>$J13,0,O12)),0) -> #N/A | P13: =IF($J12<>$J13,0,P12)+MATCH($J13,OFFSET(Tâches!$C$2,$J$1+P$2,IF($J12<>$J13,0,P12),1,COUNTA(Tâches!$C$1:$H$1)-IF($J12<>$J13,0,P12)),0) -> #N/A | Q13: =IF($J12<>$J13,0,Q12)+MATCH($J13,OFFSET(Tâches!$C$2,$J$1+Q$2,IF($J12<>$J13,0,Q12),1,COUNTA(Tâches!$C$1:$H$1)-IF($J12<>$J13,0,Q12)),0) -> #N/A
B14: =IFERROR(INDEX(Tâches!$C$1:$H$1,K14),"-") -> - | C14: =IFERROR(INDEX(Tâches!$C$1:$H$1,L14),"-") -> - | D14: =IFERROR(INDEX(Tâches!$C$1:$H$1,M14),"-") -> - | E14: =IFERROR(INDEX(Tâches!$C$1:$H$1,N14),"-") -> - | F14: =IFERROR(INDEX(Tâches!$C$1:$H$1,O14),"-") -> - | G14: =IFERROR(INDEX(Tâches!$C$1:$H$1,P14),"-") -> - | H14: =IFERROR(INDEX(Tâches!$C$1:$H$1,Q14),"-") -> - | J14: =IF(ISBLANK(A14),J13 & "",A14 & "") -> ENS | K14: =IF($J13<>$J14,0,K13)+MATCH($J14,OFFSET(Tâches!$C$2,$J$1+K$2,IF($J13<>$J14,0,K13),1,COUNTA(Tâches!$C$1:$H$1)-IF($J13<>$J14,0,K13)),0) -> #N/A | L14: =IF($J13<>$J14,0,L13)+MATCH($J14,OFFSET(Tâches!$C$2,$J$1+L$2,IF($J13<>$J14,0,L13),1,COUNTA(Tâches!$C$1:$H$1)-IF($J13<>$J14,0,L13)),0) -> #N/A | M14: =IF($J13<>$J14,0,M13)+MATCH($J14,OFFSET(Tâches!$C$2,$J$1+M$2,IF($J13<>$J14,0,M13),1,COUNTA(Tâches!$C$1:$H$1)-IF($J13<>$J14,0,M13)),0) -> #N/A | N14: =IF($J13<>$J14,0,N13)+MATCH($J14,OFFSET(Tâches!$C$2,$J$1+N$2,IF($J13<>$J14,0,N13),1,COUNTA(Tâches!$C$1:$H$1)-IF($J13<>$J14,0,N13)),0) -> #N/A | O14: =IF($J13<>$J14,0,O13)+MATCH($J14,OFFSET(Tâches!$C$2,$J$1+O$2,IF($J13<>$J14,0,O13),1,COUNTA(Tâches!$C$1:$H$1)-IF($J13<>$J14,0,O13)),0) -> #N/A | P14: =IF($J13<>$J14,0,P13)+MATCH($J14,OFFSET(Tâches!$C$2,$J$1+P$2,IF($J13<>$J14,0,P13),1,COUNTA(Tâches!$C$1:$H$1)-IF($J13<>$J14,0,P13)),0) -> #N/A | Q14: =IF($J13<>$J14,0,Q13)+MATCH($J14,OFFSET(Tâches!$C$2,$J$1+Q$2,IF($J13<>$J14,0,Q13),1,COUNTA(Tâches!$C$1:$H$1)-IF($J13<>$J14,0,Q13)),0) -> #N/A
A15: GEJ | B15: =IFERROR(INDEX(Tâches!$C$1:$H$1,K15),"-") -> Phil | C15: =IFERROR(INDEX(Tâches!$C$1:$H$1,L15),"-") -> John | D15: =IFERROR(INDEX(Tâches!$C$1:$H$1,M15),"-") -> Phil | E15: =IFERROR(INDEX(Tâches!$C$1:$H$1,N15),"-") -> John | F15: =IFERROR(INDEX(Tâches!$C$1:$H$1,O15),"-") -> Phil | G15: =IFERROR(INDEX(Tâches!$C$1:$H$1,P15),"-") -> - | H15: =IFERROR(INDEX(Tâches!$C$1:$H$1,Q15),"-") -> - | J15: =IF(ISBLANK(A15),J14 & "",A15 & "") -> GEJ | K15: =IF($J14<>$J15,0,K14)+MATCH($J15,OFFSET(Tâches!$C$2,$J$1+K$2,IF($J14<>$J15,0,K14),1,COUNTA(Tâches!$C$1:$H$1)-IF($J14<>$J15,0,K14)),0) -> 5 | L15: =IF($J14<>$J15,0,L14)+MATCH($J15,OFFSET(Tâches!$C$2,$J$1+L$2,IF($J14<>$J15,0,L14),1,COUNTA(Tâches!$C$1:$H$1)-IF($J14<>$J15,0,L14)),0) -> 6 | M15: =IF($J14<>$J15,0,M14)+MATCH($J15,OFFSET(Tâches!$C$2,$J$1+M$2,IF($J14<>$J15,0,M14),1,COUNTA(Tâches!$C$1:$H$1)-IF($J14<>$J15,0,M14)),0) -> 5 | N15: =IF($J14<>$J15,0,N14)+MATCH($J15,OFFSET(Tâches!$C$2,$J$1+N$2,IF($J14<>$J15,0,N14),1,COUNTA(Tâches!$C$1:$H$1)-IF($J14<>$J15,0,N14)),0) -> 6 | O15: =IF($J14<>$J15,0,O14)+MATCH($J15,OFFSET(Tâches!$C$2,$J$1+O$2,IF($J14<>$J15,0,O14),1,COUNTA(Tâches!$C$1:$H$1)-IF($J14<>$J15,0,O14)),0) -> 5 | P15: =IF($J14<>$J15,0,P14)+MATCH($J15,OFFSET(Tâches!$C$2,$J$1+P$2,IF($J14<>$J15,0,P14),1,COUNTA(Tâches!$C$1:$H$1)-IF($J14<>$J15,0,P14)),0) -> #N/A | Q15: =IF($J14<>$J15,0,Q14)+MATCH($J15,OFFSET(Tâches!$C$2,$J$1+Q$2,IF($J14<>$J15,0,Q14),1,COUNTA(Tâches!$C$1:$H$1)-IF($J14<>$J15,0,Q14)),0) -> #N/A
B16: =IFERROR(INDEX(Tâches!$C$1:$H$1,K16),"-") -> - | C16: =IFERROR(INDEX(Tâches!$C$1:$H$1,L16),"-") -> - | D16: =IFERROR(INDEX(Tâches!$C$1:$H$1,M16),"-") -> John | E16: =IFERROR(INDEX(Tâches!$C$1:$H$1,N16),"-") -> - | F16: =IFERROR(INDEX(Tâches!$C$1:$H$1,O16),"-") -> John | G16: =IFERROR(INDEX(Tâches!$C$1:$H$1,P16),"-") -> - | H16: =IFERROR(INDEX(Tâches!$C$1:$H$1,Q16),"-") -> - | J16: =IF(ISBLANK(A16),J15 & "",A16 & "") -> GEJ | K16: =IF($J15<>$J16,0,K15)+MATCH($J16,OFFSET(Tâches!$C$2,$J$1+K$2,IF($J15<>$J16,0,K15),1,COUNTA(Tâches!$C$1:$H$1)-IF($J15<>$J16,0,K15)),0) -> #N/A | L16: =IF($J15<>$J16,0,L15)+MATCH($J16,OFFSET(Tâches!$C$2,$J$1+L$2,IF($J15<>$J16,0,L15),1,COUNTA(Tâches!$C$1:$H$1)-IF($J15<>$J16,0,L15)),0) -> #REF! | M16: =IF($J15<>$J16,0,M15)+MATCH($J16,OFFSET(Tâches!$C$2,$J$1+M$2,IF($J15<>$J16,0,M15),1,COUNTA(Tâches!$C$1:$H$1)-IF($J15<>$J16,0,M15)),0) -> 6 | N16: =IF($J15<>$J16,0,N15)+MATCH($J16,OFFSET(Tâches!$C$2,$J$1+N$2,IF($J15<>$J16,0,N15),1,COUNTA(Tâches!$C$1:$H$1)-IF($J15<>$J16,0,N15)),0) -> #REF! | O16: =IF($J15<>$J16,0,O15)+MATCH($J16,OFFSET(Tâches!$C$2,$J$1+O$2,IF($J15<>$J16,0,O15),1,COUNTA(Tâches!$C$1:$H$1)-IF($J15<>$J16,0,O15)),0) -> 6 | P16: =IF($J15<>$J16,0,P15)+MATCH($J16,OFFSET(Tâches!$C$2,$J$1+P$2,IF($J15<>$J16,0,P15),1,COUNTA(Tâches!$C$1:$H$1)-IF($J15<>$J16,0,P15)),0) -> #N/A | Q16: =IF($J15<>$J16,0,Q15)+MATCH($J16,OFFSET(Tâches!$C$2,$J$1+Q$2,IF($J15<>$J16,0,Q15),1,COUNTA(Tâches!$C$1:$H$1)-IF($J15<>$J16,0,Q15)),0) -> #N/A
B17: =IFERROR(INDEX(Tâches!$C$1:$H$1,K17),"-") -> - | C17: =IFERROR(INDEX(Tâches!$C$1:$H$1,L17),"-") -> - | D17: =IFERROR(INDEX(Tâches!$C$1:$H$1,M17),"-") -> - | E17: =IFERROR(INDEX(Tâches!$C$1:$H$1,N17),"-") -> - | F17: =IFERROR(INDEX(Tâches!$C$1:$H$1,O17),"-") -> - | G17: =IFERROR(INDEX(Tâches!$C$1:$H$1,P17),"-") -> - | H17: =IFERROR(INDEX(Tâches!$C$1:$H$1,Q17),"-") -> - | J17: =IF(ISBLANK(A17),J16 & "",A17 & "") -> GEJ | K17: =IF($J16<>$J17,0,K16)+MATCH($J17,OFFSET(Tâches!$C$2,$J$1+K$2,IF($J16<>$J17,0,K16),1,COUNTA(Tâches!$C$1:$H$1)-IF($J16<>$J17,0,K16)),0) -> #N/A | L17: =IF($J16<>$J17,0,L16)+MATCH($J17,OFFSET(Tâches!$C$2,$J$1+L$2,IF($J16<>$J17,0,L16),1,COUNTA(Tâches!$C$1:$H$1)-IF($J16<>$J17,0,L16)),0) -> #REF! | M17: =IF($J16<>$J17,0,M16)+MATCH($J17,OFFSET(Tâches!$C$2,$J$1+M$2,IF($J16<>$J17,0,M16),1,COUNTA(Tâches!$C$1:$H$1)-IF($J16<>$J17,0,M16)),0) -> #REF! | N17: =IF($J16<>$J17,0,N16)+MATCH($J17,OFFSET(Tâches!$C$2,$J$1+N$2,IF($J16<>$J17,0,N16),1,COUNTA(Tâches!$C$1:$H$1)-IF($J16<>$J17,0,N16)),0) -> #REF! | O17: =IF($J16<>$J17,0,O16)+MATCH($J17,OFFSET(Tâches!$C$2,$J$1+O$2,IF($J16<>$J17,0,O16),1,COUNTA(Tâches!$C$1:$H$1)-IF($J16<>$J17,0,O16)),0) -> #REF! | P17: =IF($J16<>$J17,0,P16)+MATCH($J17,OFFSET(Tâches!$C$2,$J$1+P$2,IF($J16<>$J17,0,P16),1,COUNTA(Tâches!$C$1:$H$1)-IF($J16<>$J17,0,P16)),0) -> #N/A | Q17: =IF($J16<>$J17,0,Q16)+MATCH($J17,OFFSET(Tâches!$C$2,$J$1+Q$2,IF($J16<>$J17,0,Q16),1,COUNTA(Tâches!$C$1:$H$1)-IF($J16<>$J17,0,Q16)),0) -> #N/A
B18: =IFERROR(INDEX(Tâches!$C$1:$H$1,K18),"-") -> - | C18: =IFERROR(INDEX(Tâches!$C$1:$H$1,L18),"-") -> - | D18: =IFERROR(INDEX(Tâches!$C$1:$H$1,M18),"-") -> - | E18: =IFERROR(INDEX(Tâches!$C$1:$H$1,N18),"-") -> - | F18: =IFERROR(INDEX(Tâches!$C$1:$H$1,O18),"-") -> - | G18: =IFERROR(INDEX(Tâches!$C$1:$H$1,P18),"-") -> - | H18: =IFERROR(INDEX(Tâches!$C$1:$H$1,Q18),"-") -> - | J18: =IF(ISBLANK(A18),J17 & "",A18 & "") -> GEJ | K18: =IF($J17<>$J18,0,K17)+MATCH($J18,OFFSET(Tâches!$C$2,$J$1+K$2,IF($J17<>$J18,0,K17),1,COUNTA(Tâches!$C$1:$H$1)-IF($J17<>$J18,0,K17)),0) -> #N/A | L18: =IF($J17<>$J18,0,L17)+MATCH($J18,OFFSET(Tâches!$C$2,$J$1+L$2,IF($J17<>$J18,0,L17),1,COUNTA(Tâches!$C$1:$H$1)-IF($J17<>$J18,0,L17)),0) -> #REF! | M18: =IF($J17<>$J18,0,M17)+MATCH($J18,OFFSET(Tâches!$C$2,$J$1+M$2,IF($J17<>$J18,0,M17),1,COUNTA(Tâches!$C$1:$H$1)-IF($J17<>$J18,0,M17)),0) -> #REF! | N18: =IF($J17<>$J18,0,N17)+MATCH($J18,OFFSET(Tâches!$C$2,$J$1+N$2,IF($J17<>$J18,0,N17),1,COUNTA(Tâches!$C$1:$H$1)-IF($J17<>$J18,0,N17)),0) -> #REF! | O18: =IF($J17<>$J18,0,O17)+MATCH($J18,OFFSET(Tâches!$C$2,$J$1+O$2,IF($J17<>$J18,0,O17),1,COUNTA(Tâches!$C$1:$H$1)-IF($J17<>$J18,0,O17)),0) -> #REF! | P18: =IF($J17<>$J18,0,P17)+MATCH($J18,OFFSET(Tâches!$C$2,$J$1+P$2,IF($J17<>$J18,0,P17),1,COUNTA(Tâches!$C$1:$H$1)-IF($J17<>$J18,0,P17)),0) -> #N/A | Q18: =IF($J17<>$J18,0,Q17)+MATCH($J18,OFFSET(Tâches!$C$2,$J$1+Q$2,IF($J17<>$J18,0,Q17),1,COUNTA(Tâches!$C$1:$H$1)-IF($J17<>$J18,0,Q17)),0) -> #N/A
A19: GES | B19: =IFERROR(INDEX(Tâches!$C$1:$H$1,K19),"-") -> John | C19: =IFERROR(INDEX(Tâches!$C$1:$H$1,L19),"-") -> Phil | D19: =IFERROR(INDEX(Tâches!$C$1:$H$1,M19),"-") -> - | E19: =IFERROR(INDEX(Tâches!$C$1:$H$1,N19),"-") -> - | F19: =IFERROR(INDEX(Tâches!$C$1:$H$1,O19),"-") -> - | G19: =IFERROR(INDEX(Tâches!$C$1:$H$1,P19),"-") -> - | H19: =IFERROR(INDEX(Tâches!$C$1:$H$1,Q19),"-") -> - | J19: =IF(ISBLANK(A19),J18 & "",A19 & "") -> GES | K19: =IF($J18<>$J19,0,K18)+MATCH($J19,OFFSET(Tâches!$C$2,$J$1+K$2,IF($J18<>$J19,0,K18),1,COUNTA(Tâches!$C$1:$H$1)-IF($J18<>$J19,0,K18)),0) -> 6 | L19: =IF($J18<>$J19,0,L18)+MATCH($J19,OFFSET(Tâches!$C$2,$J$1+L$2,IF($J18<>$J19,0,L18),1,COUNTA(Tâches!$C$1:$H$1)-IF($J18<>$J19,0,L18)),0) -> 5 | M19: =IF($J18<>$J19,0,M18)+MATCH($J19,OFFSET(Tâches!$C$2,$J$1+M$2,IF($J18<>$J19,0,M18),1,COUNTA(Tâches!$C$1:$H$1)-IF($J18<>$J19,0,M18)),0) -> #N/A | N19: =IF($J18<>$J19,0,N18)+MATCH($J19,OFFSET(Tâches!$C$2,$J$1+N$2,IF($J18<>$J19,0,N18),1,COUNTA(Tâches!$C$1:$H$1)-IF($J18<>$J19,0,N18)),0) -> #N/A | O19: =IF($J18<>$J19,0,O18)+MATCH($J19,OFFSET(Tâches!$C$2,$J$1+O$2,IF($J18<>$J19,0,O18),1,COUNTA(Tâches!$C$1:$H$1)-IF($J18<>$J19,0,O18)),0) -> #N/A | P19: =IF($J18<>$J19,0,P18)+MATCH($J19,OFFSET(Tâches!$C$2,$J$1+P$2,IF($J18<>$J19,0,P18),1,COUNTA(Tâches!$C$1:$H$1)-IF($J18<>$J19,0,P18)),0) -> #N/A | Q19: =IF($J18<>$J19,0,Q18)+MATCH($J19,OFFSET(Tâches!$C$2,$J$1+Q$2,IF($J18<>$J19,0,Q18),1,COUNTA(Tâches!$C$1:$H$1)-IF($J18<>$J19,0,Q18)),0) -> #N/A
B20: =IFERROR(INDEX(Tâches!$C$1:$H$1,K20),"-") -> - | C20: =IFERROR(INDEX(Tâches!$C$1:$H$1,L20),"-") -> - | D20: =IFERROR(INDEX(Tâches!$C$1:$H$1,M20),"-") -> - | E20: =IFERROR(INDEX(Tâches!$C$1:$H$1,N20),"-") -> - | F20: =IFERROR(INDEX(Tâches!$C$1:$H$1,O20),"-") -> - | G20: =IFERROR(INDEX(Tâches!$C$1:$H$1,P20),"-") -> - | H20: =IFERROR(INDEX(Tâches!$C$1:$H$1,Q20),"-") -> - | J20: =IF(ISBLANK(A20),J19 & "",A20 & "") -> GES | K20: =IF($J19<>$J20,0,K19)+MATCH($J20,OFFSET(Tâches!$C$2,$J$1+K$2,IF($J19<>$J20,0,K19),1,COUNTA(Tâches!$C$1:$H$1)-IF($J19<>$J20,0,K19)),0) -> #REF! | L20: =IF($J19<>$J20,0,L19)+MATCH($J20,OFFSET(Tâches!$C$2,$J$1+L$2,IF($J19<>$J20,0,L19),1,COUNTA(Tâches!$C$1:$H$1)-IF($J19<>$J20,0,L19)),0) -> #N/A | M20: =IF($J19<>$J20,0,M19)+MATCH($J20,OFFSET(Tâches!$C$2,$J$1+M$2,IF($J19<>$J20,0,M19),1,COUNTA(Tâches!$C$1:$H$1)-IF($J19<>$J20,0,M19)),0) -> #N/A | N20: =IF($J19<>$J20,0,N19)+MATCH($J20,OFFSET(Tâches!$C$2,$J$1+N$2,IF($J19<>$J20,0,N19),1,COUNTA(Tâches!$C$1:$H$1)-IF($J19<>$J20,0,N19)),0) -> #N/A | O20: =IF($J19<>$J20,0,O19)+MATCH($J20,OFFSET(Tâches!$C$2,$J$1+O$2,IF($J19<>$J20,0,O19),1,COUNTA(Tâches!$C$1:$H$1)-IF($J19<>$J20,0,O19)),0) -> #N/A | P20: =IF($J19<>$J20,0,P19)+MATCH($J20,OFFSET(Tâches!$C$2,$J$1+P$2,IF($J19<>$J20,0,P19),1,COUNTA(Tâches!$C$1:$H$1)-IF($J19<>$J20,0,P19)),0) -> #N/A | Q20: =IF($J19<>$J20,0,Q19)+MATCH($J20,OFFSET(Tâches!$C$2,$J$1+Q$2,IF($J19<>$J20,0,Q19),1,COUNTA(Tâches!$C$1:$H$1)-IF($J19<>$J20,0,Q19)),0) -> #N/A
B21: =IFERROR(INDEX(Tâches!$C$1:$H$1,K21),"-") -> - | C21: =IFERROR(INDEX(Tâches!$C$1:$H$1,L21),"-") -> - | D21: =IFERROR(INDEX(Tâches!$C$1:$H$1,M21),"-") -> - | E21: =IFERROR(INDEX(Tâches!$C$1:$H$1,N21),"-") -> - | F21: =IFERROR(INDEX(Tâches!$C$1:$H$1,O21),"-") -> - | G21: =IFERROR(INDEX(Tâches!$C$1:$H$1,P21),"-") -> - | H21: =IFERROR(INDEX(Tâches!$C$1:$H$1,Q21),"-") -> - | J21: =IF(ISBLANK(A21),J20 & "",A21 & "") -> GES | K21: =IF($J20<>$J21,0,K20)+MATCH($J21,OFFSET(Tâches!$C$2,$J$1+K$2,IF($J20<>$J21,0,K20),1,COUNTA(Tâches!$C$1:$H$1)-IF($J20<>$J21,0,K20)),0) -> #REF! | L21: =IF($J20<>$J21,0,L20)+MATCH($J21,OFFSET(Tâches!$C$2,$J$1+L$2,IF($J20<>$J21,0,L20),1,COUNTA(Tâches!$C$1:$H$1)-IF($J20<>$J21,0,L20)),0) -> #N/A | M21: =IF($J20<>$J21,0,M20)+MATCH($J21,OFFSET(Tâches!$C$2,$J$1+M$2,IF($J20<>$J21,0,M20),1,COUNTA(Tâches!$C$1:$H$1)-IF($J20<>$J21,0,M20)),0) -> #N/A | N21: =IF($J20<>$J21,0,N20)+MATCH($J21,OFFSET(Tâches!$C$2,$J$1+N$2,IF($J20<>$J21,0,N20),1,COUNTA(Tâches!$C$1:$H$1)-IF($J20<>$J21,0,N20)),0) -> #N/A | O21: =IF($J20<>$J21,0,O20)+MATCH($J21,OFFSET(Tâches!$C$2,$J$1+O$2,IF($J20<>$J21,0,O20),1,COUNTA(Tâches!$C$1:$H$1)-IF($J20<>$J21,0,O20)),0) -> #N/A | P21: =IF($J20<>$J21,0,P20)+MATCH($J21,OFFSET(Tâches!$C$2,$J$1+P$2,IF($J20<>$J21,0,P20),1,COUNTA(Tâches!$C$1:$H$1)-IF($J20<>$J21,0,P20)),0) -> #N/A | Q21: =IF($J20<>$J21,0,Q20)+MATCH($J21,OFFSET(Tâches!$C$2,$J$1+Q$2,IF($J20<>$J21,0,Q20),1,COUNTA(Tâches!$C$1:$H$1)-IF($J20<>$J21,0,Q20)),0) -> #N/A
B22: =IFERROR(INDEX(Tâches!$C$1:$H$1,K22),"-") -> - | C22: =IFERROR(INDEX(Tâches!$C$1:$H$1,L22),"-") -> - | D22: =IFERROR(INDEX(Tâches!$C$1:$H$1,M22),"-") -> - | E22: =IFERROR(INDEX(Tâches!$C$1:$H$1,N22),"-") -> - | F22: =IFERROR(INDEX(Tâches!$C$1:$H$1,O22),"-") -> - | G22: =IFERROR(INDEX(Tâches!$C$1:$H$1,P22),"-") -> - | H22: =IFERROR(INDEX(Tâches!$C$1:$H$1,Q22),"-") -> - | J22: =IF(ISBLANK(A22),J21 & "",A22 & "") -> GES | K22: =IF($J21<>$J22,0,K21)+MATCH($J22,OFFSET(Tâches!$C$2,$J$1+K$2,IF($J21<>$J22,0,K21),1,COUNTA(Tâches!$C$1:$H$1)-IF($J21<>$J22,0,K21)),0) -> #REF! | L22: =IF($J21<>$J22,0,L21)+MATCH($J22,OFFSET(Tâches!$C$2,$J$1+L$2,IF($J21<>$J22,0,L21),1,COUNTA(Tâches!$C$1:$H$1)-IF($J21<>$J22,0,L21)),0) -> #N/A | M22: =IF($J21<>$J22,0,M21)+MATCH($J22,OFFSET(Tâches!$C$2,$J$1+M$2,IF($J21<>$J22,0,M21),1,COUNTA(Tâches!$C$1:$H$1)-IF($J21<>$J22,0,M21)),0) -> #N/A | N22: =IF($J21<>$J22,0,N21)+MATCH($J22,OFFSET(Tâches!$C$2,$J$1+N$2,IF($J21<>$J22,0,N21),1,COUNTA(Tâches!$C$1:$H$1)-IF($J21<>$J22,0,N21)),0) -> #N/A | O22: =IF($J21<>$J22,0,O21)+MATCH($J22,OFFSET(Tâches!$C$2,$J$1+O$2,IF($J21<>$J22,0,O21),1,COUNTA(Tâches!$C$1:$H$1)-IF($J21<>$J22,0,O21)),0) -> #N/A | P22: =IF($J21<>$J22,0,P21)+MATCH($J22,OFFSET(Tâches!$C$2,$J$1+P$2,IF($J21<>$J22,0,P21),1,COUNTA(Tâches!$C$1:$H$1)-IF($J21<>$J22,0,P21)),0) -> #N/A | Q22: =IF($J21<>$J22,0,Q21)+MATCH($J22,OFFSET(Tâches!$C$2,$J$1+Q$2,IF($J21<>$J22,0,Q21),1,COUNTA(Tâches!$C$1:$H$1)-IF($J21<>$J22,0,Q21)),0) -> #N/A
B23: =IFERROR(INDEX(Tâches!$C$1:$H$1,K23),"-") -> - | C23: =IFERROR(INDEX(Tâches!$C$1:$H$1,L23),"-") -> - | D23: =IFERROR(INDEX(Tâches!$C$1:$H$1,M23),"-") -> - | E23: =IFERROR(INDEX(Tâches!$C$1:$H$1,N23),"-") -> - | F23: =IFERROR(INDEX(Tâches!$C$1:$H$1,O23),"-") -> - | G23: =IFERROR(INDEX(Tâches!$C$1:$H$1,P23),"-") -> - | H23: =IFERROR(INDEX(Tâches!$C$1:$H$1,Q23),"-") -> - | J23: =IF(ISBLANK(A23),J22 & "",A23 & "") -> GES | K23: =IF($J22<>$J23,0,K22)+MATCH($J23,OFFSET(Tâches!$C$2,$J$1+K$2,IF($J22<>$J23,0,K22),1,COUNTA(Tâches!$C$1:$H$1)-IF($J22<>$J23,0,K22)),0) -> #REF! | L23: =IF($J22<>$J23,0,L22)+MATCH($J23,OFFSET(Tâches!$C$2,$J$1+L$2,IF($J22<>$J23,0,L22),1,COUNTA(Tâches!$C$1:$H$1)-IF($J22<>$J23,0,L22)),0) -> #N/A | M23: =IF($J22<>$J23,0,M22)+MATCH($J23,OFFSET(Tâches!$C$2,$J$1+M$2,IF($J22<>$J23,0,M22),1,COUNTA(Tâches!$C$1:$H$1)-IF($J22<>$J23,0,M22)),0) -> #N/A | N23: =IF($J22<>$J23,0,N22)+MATCH($J23,OFFSET(Tâches!$C$2,$J$1+N$2,IF($J22<>$J23,0,N22),1,COUNTA(Tâches!$C$1:$H$1)-IF($J22<>$J23,0,N22)),0) -> #N/A | O23: =IF($J22<>$J23,0,O22)+MATCH($J23,OFFSET(Tâches!$C$2,$J$1+O$2,IF($J22<>$J23,0,O22),1,COUNTA(Tâches!$C$1:$H$1)-IF($J22<>$J23,0,O22)),0) -> #N/A | P23: =IF($J22<>$J23,0,P22)+MATCH($J23,OFFSET(Tâches!$C$2,$J$1+P$2,IF($J22<>$J23,0,P22),1,COUNTA(Tâches!$C$1:$H$1)-IF($J22<>$J23,0,P22)),0) -> #N/A | Q23: =IF($J22<>$J23,0,Q22)+MATCH($J23,OFFSET(Tâches!$C$2,$J$1+Q$2,IF($J22<>$J23,0,Q22),1,COUNTA(Tâches!$C$1:$H$1)-IF($J22<>$J23,0,Q22)),0) -> #N/A
B24: =IFERROR(INDEX(Tâches!$C$1:$H$1,K24),"-") -> - | C24: =IFERROR(INDEX(Tâches!$C$1:$H$1,L24),"-") -> - | D24: =IFERROR(INDEX(Tâches!$C$1:$H$1,M24),"-") -> - | E24: =IFERROR(INDEX(Tâches!$C$1:$H$1,N24),"-") -> - | F24: =IFERROR(INDEX(Tâches!$C$1:$H$1,O24),"-") -> - | G24: =IFERROR(INDEX(Tâches!$C$1:$H$1,P24),"-") -> - | H24: =IFERROR(INDEX(Tâches!$C$1:$H$1,Q24),"-") -> - | J24: =IF(ISBLANK(A24),J23 & "",A24 & "") -> GES | K24: =IF($J23<>$J24,0,K23)+MATCH($J24,OFFSET(Tâches!$C$2,$J$1+K$2,IF($J23<>$J24,0,K23),1,COUNTA(Tâches!$C$1:$H$1)-IF($J23<>$J24,0,K23)),0) -> #REF! | L24: =IF($J23<>$J24,0,L23)+MATCH($J24,OFFSET(Tâches!$C$2,$J$1+L$2,IF($J23<>$J24,0,L23),1,COUNTA(Tâches!$C$1:$H$1)-IF($J23<>$J24,0,L23)),0) -> #N/A | M24: =IF($J23<>$J24,0,M23)+MATCH($J24,OFFSET(Tâches!$C$2,$J$1+M$2,IF($J23<>$J24,0,M23),1,COUNTA(Tâches!$C$1:$H$1)-IF($J23<>$J24,0,M23)),0) -> #N/A | N24: =IF($J23<>$J24,0,N23)+MATCH($J24,OFFSET(Tâches!$C$2,$J$1+N$2,IF($J23<>$J24,0,N23),1,COUNTA(Tâches!$C$1:$H$1)-IF($J23<>$J24,0,N23)),0) -> #N/A | O24: =IF($J23<>$J24,0,O23)+MATCH($J24,OFFSET(Tâches!$C$2,$J$1+O$2,IF($J23<>$J24,0,O23),1,COUNTA(Tâches!$C$1:$H$1)-IF($J23<>$J24,0,O23)),0) -> #N/A | P24: =IF($J23<>$J24,0,P23)+MATCH($J24,OFFSET(Tâches!$C$2,$J$1+P$2,IF($J23<>$J24,0,P23),1,COUNTA(Tâches!$C$1:$H$1)-IF($J23<>$J24,0,P23)),0) -> #N/A | Q24: =IF($J23<>$J24,0,Q23)+MATCH($J24,OFFSET(Tâches!$C$2,$J$1+Q$2,IF($J23<>$J24,0,Q23),1,COUNTA(Tâches!$C$1:$H$1)-IF($J23<>$J24,0,Q23)),0) -> #N/A
B25: =IFERROR(INDEX(Tâches!$C$1:$H$1,K25),"-") -> - | C25: =IFERROR(INDEX(Tâches!$C$1:$H$1,L25),"-") -> - | D25: =IFERROR(INDEX(Tâches!$C$1:$H$1,M25),"-") -> - | E25: =IFERROR(INDEX(Tâches!$C$1:$H$1,N25),"-") -> - | F25: =IFERROR(INDEX(Tâches!$C$1:$H$1,O25),"-") -> - | G25: =IFERROR(INDEX(Tâches!$C$1:$H$1,P25),"-") -> - | H25: =IFERROR(INDEX(Tâches!$C$1:$H$1,Q25),"-") -> - | J25: =IF(ISBLANK(A25),J24 & "",A25 & "") -> GES | K25: =IF($J24<>$J25,0,K24)+MATCH($J25,OFFSET(Tâches!$C$2,$J$1+K$2,IF($J24<>$J25,0,K24),1,COUNTA(Tâches!$C$1:$H$1)-IF($J24<>$J25,0,K24)),0) -> #REF! | L25: =IF($J24<>$J25,0,L24)+MATCH($J25,OFFSET(Tâches!$C$2,$J$1+L$2,IF($J24<>$J25,0,L24),1,COUNTA(Tâches!$C$1:$H$1)-IF($J24<>$J25,0,L24)),0) -> #N/A | M25: =IF($J24<>$J25,0,M24)+MATCH($J25,OFFSET(Tâches!$C$2,$J$1+M$2,IF($J24<>$J25,0,M24),1,COUNTA(Tâches!$C$1:$H$1)-IF($J24<>$J25,0,M24)),0) -> #N/A | N25: =IF($J24<>$J25,0,N24)+MATCH($J25,OFFSET(Tâches!$C$2,$J$1+N$2,IF($J24<>$J25,0,N24),1,COUNTA(Tâches!$C$1:$H$1)-IF($J24<>$J25,0,N24)),0) -> #N/A | O25: =IF($J24<>$J25,0,O24)+MATCH($J25,OFFSET(Tâches!$C$2,$J$1+O$2,IF($J24<>$J25,0,O24),1,COUNTA(Tâches!$C$1:$H$1)-IF($J24<>$J25,0,O24)),0) -> #N/A | P25: =IF($J24<>$J25,0,P24)+MATCH($J25,OFFSET(Tâches!$C$2,$J$1+P$2,IF($J24<>$J25,0,P24),1,COUNTA(Tâches!$C$1:$H$1)-IF($J24<>$J25,0,P24)),0) -> #N/A | Q25: =IF($J24<>$J25,0,Q24)+MATCH($J25,OFFSET(Tâches!$C$2,$J$1+Q$2,IF($J24<>$J25,0,Q24),1,COUNTA(Tâches!$C$1:$H$1)-IF($J24<>$J25,0,Q24)),0) -> #N/A
B26: =IFERROR(INDEX(Tâches!$C$1:$H$1,K26),"-") -> - | C26: =IFERROR(INDEX(Tâches!$C$1:$H$1,L26),"-") -> - | D26: =IFERROR(INDEX(Tâches!$C$1:$H$1,M26),"-") -> - | E26: =IFERROR(INDEX(Tâches!$C$1:$H$1,N26),"-") -> - | F26: =IFERROR(INDEX(Tâches!$C$1:$H$1,O26),"-") -> - | G26: =IFERROR(INDEX(Tâches!$C$1:$H$1,P26),"-") -> - | H26: =IFERROR(INDEX(Tâches!$C$1:$H$1,Q26),"-") -> - | J26: =IF(ISBLANK(A26),J25 & "",A26 & "") -> GES | K26: =IF($J25<>$J26,0,K25)+MATCH($J26,OFFSET(Tâches!$C$2,$J$1+K$2,IF($J25<>$J26,0,K25),1,COUNTA(Tâches!$C$1:$H$1)-IF($J25<>$J26,0,K25)),0) -> #REF! | L26: =IF($J25<>$J26,0,L25)+MATCH($J26,OFFSET(Tâches!$C$2,$J$1+L$2,IF($J25<>$J26,0,L25),1,COUNTA(Tâches!$C$1:$H$1)-IF($J25<>$J26,0,L25)),0) -> #N/A | M26: =IF($J25<>$J26,0,M25)+MATCH($J26,OFFSET(Tâches!$C$2,$J$1+M$2,IF($J25<>$J26,0,M25),1,COUNTA(Tâches!$C$1:$H$1)-IF($J25<>$J26,0,M25)),0) -> #N/A | N26: =IF($J25<>$J26,0,N25)+MATCH($J26,OFFSET(Tâches!$C$2,$J$1+N$2,IF($J25<>$J26,0,N25),1,COUNTA(Tâches!$C$1:$H$1)-IF($J25<>$J26,0,N25)),0) -> #N/A | O26: =IF($J25<>$J26,0,O25)+MATCH($J26,OFFSET(Tâches!$C$2,$J$1+O$2,IF($J25<>$J26,0,O25),1,COUNTA(Tâches!$C$1:$H$1)-IF($J25<>$J26,0,O25)),0) -> #N/A | P26: =IF($J25<>$J26,0,P25)+MATCH($J26,OFFSET(Tâches!$C$2,$J$1+P$2,IF($J25<>$J26,0,P25),1,COUNTA(Tâches!$C$1:$H$1)-IF($J25<>$J26,0,P25)),0) -> #N/A | Q26: =IF($J25<>$J26,0,Q25)+MATCH($J26,OFFSET(Tâches!$C$2,$J$1+Q$2,IF($J25<>$J26,0,Q25),1,COUNTA(Tâches!$C$1:$H$1)-IF($J25<>$J26,0,Q25)),0) -> #N/A
B27: =IFERROR(INDEX(Tâches!$C$1:$H$1,K27),"-") -> - | C27: =IFERROR(INDEX(Tâches!$C$1:$H$1,L27),"-") -> - | D27: =IFERROR(INDEX(Tâches!$C$1:$H$1,M27),"-") -> - | E27: =IFERROR(INDEX(Tâches!$C$1:$H$1,N27),"-") -> - | F27: =IFERROR(INDEX(Tâches!$C$1:$H$1,O27),"-") -> - | G27: =IFERROR(INDEX(Tâches!$C$1:$H$1,P27),"-") -> - | H27: =IFERROR(INDEX(Tâches!$C$1:$H$1,Q27),"-") -> - | J27: =IF(ISBLANK(A27),J26 & "",A27 & "") -> GES | K27: =IF($J26<>$J27,0,K26)+MATCH($J27,OFFSET(Tâches!$C$2,$J$1+K$2,IF($J26<>$J27,0,K26),1,COUNTA(Tâches!$C$1:$H$1)-IF($J26<>$J27,0,K26)),0) -> #REF! | L27: =IF($J26<>$J27,0,L26)+MATCH($J27,OFFSET(Tâches!$C$2,$J$1+L$2,IF($J26<>$J27,0,L26),1,COUNTA(Tâches!$C$1:$H$1)-IF($J26<>$J27,0,L26)),0) -> #N/A | M27: =IF($J26<>$J27,0,M26)+MATCH($J27,OFFSET(Tâches!$C$2,$J$1+M$2,IF($J26<>$J27,0,M26),1,COUNTA(Tâches!$C$1:$H$1)-IF($J26<>$J27,0,M26)),0) -> #N/A | N27: =IF($J26<>$J27,0,N26)+MATCH($J27,OFFSET(Tâches!$C$2,$J$1+N$2,IF($J26<>$J27,0,N26),1,COUNTA(Tâches!$C$1:$H$1)-IF($J26<>$J27,0,N26)),0) -> #N/A | O27: =IF($J26<>$J27,0,O26)+MATCH($J27,OFFSET(Tâches!$C$2,$J$1+O$2,IF($J26<>$J27,0,O26),1,COUNTA(Tâches!$C$1:$H$1)-IF($J26<>$J27,0,O26)),0) -> #N/A | P27: =IF($J26<>$J27,0,P26)+MATCH($J27,OFFSET(Tâches!$C$2,$J$1+P$2,IF($J26<>$J27,0,P26),1,COUNTA(Tâches!$C$1:$H$1)-IF($J26<>$J27,0,P26)),0) -> #N/A | Q27: =IF($J26<>$J27,0,Q26)+MATCH($J27,OFFSET(Tâches!$C$2,$J$1+Q$2,IF($J26<>$J27,0,Q26),1,COUNTA(Tâches!$C$1:$H$1)-IF($J26<>$J27,0,Q26)),0) -> #N/A
B28: =IFERROR(INDEX(Tâches!$C$1:$H$1,K28),"-") -> - | C28: =IFERROR(INDEX(Tâches!$C$1:$H$1,L28),"-") -> - | D28: =IFERROR(INDEX(Tâches!$C$1:$H$1,M28),"-") -> - | E28: =IFERROR(INDEX(Tâches!$C$1:$H$1,N28),"-") -> - | F28: =IFERROR(INDEX(Tâches!$C$1:$H$1,O28),"-") -> - | G28: =IFERROR(INDEX(Tâches!$C$1:$H$1,P28),"-") -> - | H28: =IFERROR(INDEX(Tâches!$C$1:$H$1,Q28),"-") -> - | J28: =IF(ISBLANK(A28),J27 & "",A28 & "") -> GES | K28: =IF($J27<>$J28,0,K27)+MATCH($J28,OFFSET(Tâches!$C$2,$J$1+K$2,IF($J27<>$J28,0,K27),1,COUNTA(Tâches!$C$1:$H$1)-IF($J27<>$J28,0,K27)),0) -> #REF! | L28: =IF($J27<>$J28,0,L27)+MATCH($J28,OFFSET(Tâches!$C$2,$J$1+L$2,IF($J27<>$J28,0,L27),1,COUNTA(Tâches!$C$1:$H$1)-IF($J27<>$J28,0,L27)),0) -> #N/A | M28: =IF($J27<>$J28,0,M27)+MATCH($J28,OFFSET(Tâches!$C$2,$J$1+M$2,IF($J27<>$J28,0,M27),1,COUNTA(Tâches!$C$1:$H$1)-IF($J27<>$J28,0,M27)),0) -> #N/A | N28: =IF($J27<>$J28,0,N27)+MATCH($J28,OFFSET(Tâches!$C$2,$J$1+N$2,IF($J27<>$J28,0,N27),1,COUNTA(Tâches!$C$1:$H$1)-IF($J27<>$J28,0,N27)),0) -> #N/A | O28: =IF($J27<>$J28,0,O27)+MATCH($J28,OFFSET(Tâches!$C$2,$J$1+O$2,IF($J27<>$J28,0,O27),1,COUNTA(Tâches!$C$1:$H$1)-IF($J27<>$J28,0,O27)),0) -> #N/A | P28: =IF($J27<>$J28,0,P27)+MATCH($J28,OFFSET(Tâches!$C$2,$J$1+P$2,IF($J27<>$J28,0,P27),1,COUNTA(Tâches!$C$1:$H$1)-IF($J27<>$J28,0,P27)),0) -> #N/A | Q28: =IF($J27<>$J28,0,Q27)+MATCH($J28,OFFSET(Tâches!$C$2,$J$1+Q$2,IF($J27<>$J28,0,Q27),1,COUNTA(Tâches!$C$1:$H$1)-IF($J27<>$J28,0,Q27)),0) -> #N/A
A29: V | B29: =IFERROR(INDEX(Tâches!$C$1:$H$1,K29),"-") -> - | C29: =IFERROR(INDEX(Tâches!$C$1:$H$1,L29),"-") -> - | D29: =IFERROR(INDEX(Tâches!$C$1:$H$1,M29),"-") -> Pat | E29: =IFERROR(INDEX(Tâches!$C$1:$H$1,N29),"-") -> Phil | F29: =IFERROR(INDEX(Tâches!$C$1:$H$1,O29),"-") -> - | G29: =IFERROR(INDEX(Tâches!$C$1:$H$1,P29),"-") -> - | H29: =IFERROR(INDEX(Tâches!$C$1:$H$1,Q29),"-") -> - | J29: =IF(ISBLANK(A29),J28 & "",A29 & "") -> V | K29: =IF($J28<>$J29,0,K28)+MATCH($J29,OFFSET(Tâches!$C$2,$J$1+K$2,IF($J28<>$J29,0,K28),1,COUNTA(Tâches!$C$1:$H$1)-IF($J28<>$J29,0,K28)),0) -> #N/A | L29: =IF($J28<>$J29,0,L28)+MATCH($J29,OFFSET(Tâches!$C$2,$J$1+L$2,IF($J28<>$J29,0,L28),1,COUNTA(Tâches!$C$1:$H$1)-IF($J28<>$J29,0,L28)),0) -> #N/A | M29: =IF($J28<>$J29,0,M28)+MATCH($J29,OFFSET(Tâches!$C$2,$J$1+M$2,IF($J28<>$J29,0,M28),1,COUNTA(Tâches!$C$1:$H$1)-IF($J28<>$J29,0,M28)),0) -> 1 | N29: =IF($J28<>$J29,0,N28)+MATCH($J29,OFFSET(Tâches!$C$2,$J$1+N$2,IF($J28<>$J29,0,N28),1,COUNTA(Tâches!$C$1:$H$1)-IF($J28<>$J29,0,N28)),0) -> 5 | O29: =IF($J28<>$J29,0,O28)+MATCH($J29,OFFSET(Tâches!$C$2,$J$1+O$2,IF($J28<>$J29,0,O28),1,COUNTA(Tâches!$C$1:$H$1)-IF($J28<>$J29,0,O28)),0) -> #N/A | P29: =IF($J28<>$J29,0,P28)+MATCH($J29,OFFSET(Tâches!$C$2,$J$1+P$2,IF($J28<>$J29,0,P28),1,COUNTA(Tâches!$C$1:$H$1)-IF($J28<>$J29,0,P28)),0) -> #N/A | Q29: =IF($J28<>$J29,0,Q28)+MATCH($J29,OFFSET(Tâches!$C$2,$J$1+Q$2,IF($J28<>$J29,0,Q28),1,COUNTA(Tâches!$C$1:$H$1)-IF($J28<>$J29,0,Q28)),0) -> #N/A
B30: =IFERROR(INDEX(Tâches!$C$1:$H$1,K30),"-") -> - | C30: =IFERROR(INDEX(Tâches!$C$1:$H$1,L30),"-") -> - | D30: =IFERROR(INDEX(Tâches!$C$1:$H$1,M30),"-") -> - | E30: =IFERROR(INDEX(Tâches!$C$1:$H$1,N30),"-") -> - | F30: =IFERROR(INDEX(Tâches!$C$1:$H$1,O30),"-") -> - | G30: =IFERROR(INDEX(Tâches!$C$1:$H$1,P30),"-") -> - | H30: =IFERROR(INDEX(Tâches!$C$1:$H$1,Q30),"-") -> - | J30: =IF(ISBLANK(A30),J29 & "",A30 & "") -> V | K30: =IF($J29<>$J30,0,K29)+MATCH($J30,OFFSET(Tâches!$C$2,$J$1+K$2,IF($J29<>$J30,0,K29),1,COUNTA(Tâches!$C$1:$H$1)-IF($J29<>$J30,0,K29)),0) -> #N/A | L30: =IF($J29<>$J30,0,L29)+MATCH($J30,OFFSET(Tâches!$C$2,$J$1+L$2,IF($J29<>$J30,0,L29),1,COUNTA(Tâches!$C$1:$H$1)-IF($J29<>$J30,0,L29)),0) -> #N/A | M30: =IF($J29<>$J30,0,M29)+MATCH($J30,OFFSET(Tâches!$C$2,$J$1+M$2,IF($J29<>$J30,0,M29),1,COUNTA(Tâches!$C$1:$H$1)-IF($J29<>$J30,0,M29)),0) -> #N/A | N30: =IF($J29<>$J30,0,N29)+MATCH($J30,OFFSET(Tâches!$C$2,$J$1+N$2,IF($J29<>$J30,0,N29),1,COUNTA(Tâches!$C$1:$H$1)-IF($J29<>$J30,0,N29)),0) -> #N/A | O30: =IF($J29<>$J30,0,O29)+MATCH($J30,OFFSET(Tâches!$C$2,$J$1+O$2,IF($J29<>$J30,0,O29),1,COUNTA(Tâches!$C$1:$H$1)-IF($J29<>$J30,0,O29)),0) -> #N/A | P30: =IF($J29<>$J30,0,P29)+MATCH($J30,OFFSET(Tâches!$C$2,$J$1+P$2,IF($J29<>$J30,0,P29),1,COUNTA(Tâches!$C$1:$H$1)-IF($J29<>$J30,0,P29)),0) -> #N/A | Q30: =IF($J29<>$J30,0,Q29)+MATCH($J30,OFFSET(Tâches!$C$2,$J$1+Q$2,IF($J29<>$J30,0,Q29),1,COUNTA(Tâches!$C$1:$H$1)-IF($J29<>$J30,0,Q29)),0) -> #N/A
B31: =IFERROR(INDEX(Tâches!$C$1:$H$1,K31),"-") -> - | C31: =IFERROR(INDEX(Tâches!$C$1:$H$1,L31),"-") -> - | D31: =IFERROR(INDEX(Tâches!$C$1:$H$1,M31),"-") -> - | E31: =IFERROR(INDEX(Tâches!$C$1:$H$1,N31),"-") -> - | F31: =IFERROR(INDEX(Tâches!$C$1:$H$1,O31),"-") -> - | G31: =IFERROR(INDEX(Tâches!$C$1:$H$1,P31),"-") -> - | H31: =IFERROR(INDEX(Tâches!$C$1:$H$1,Q31),"-") -> - | J31: =IF(ISBLANK(A31),J30 & "",A31 & "") -> V | K31: =IF($J30<>$J31,0,K30)+MATCH($J31,OFFSET(Tâches!$C$2,$J$1+K$2,IF($J30<>$J31,0,K30),1,COUNTA(Tâches!$C$1:$H$1)-IF($J30<>$J31,0,K30)),0) -> #N/A | L31: =IF($J30<>$J31,0,L30)+MATCH($J31,OFFSET(Tâches!$C$2,$J$1+L$2,IF($J30<>$J31,0,L30),1,COUNTA(Tâches!$C$1:$H$1)-IF($J30<>$J31,0,L30)),0) -> #N/A | M31: =IF($J30<>$J31,0,M30)+MATCH($J31,OFFSET(Tâches!$C$2,$J$1+M$2,IF($J30<>$J31,0,M30),1,COUNTA(Tâches!$C$1:$H$1)-IF($J30<>$J31,0,M30)),0) -> #N/A | N31: =IF($J30<>$J31,0,N30)+MATCH($J31,OFFSET(Tâches!$C$2,$J$1+N$2,IF($J30<>$J31,0,N30),1,COUNTA(Tâches!$C$1:$H$1)-IF($J30<>$J31,0,N30)),0) -> #N/A | O31: =IF($J30<>$J31,0,O30)+MATCH($J31,OFFSET(Tâches!$C$2,$J$1+O$2,IF($J30<>$J31,0,O30),1,COUNTA(Tâches!$C$1:$H$1)-IF($J30<>$J31,0,O30)),0) -> #N/A | P31: =IF($J30<>$J31,0,P30)+MATCH($J31,OFFSET(Tâches!$C$2,$J$1+P$2,IF($J30<>$J31,0,P30),1,COUNTA(Tâches!$C$1:$H$1)-IF($J30<>$J31,0,P30)),0) -> #N/A | Q31: =IF($J30<>$J31,0,Q30)+MATCH($J31,OFFSET(Tâches!$C$2,$J$1+Q$2,IF($J30<>$J31,0,Q30),1,COUNTA(Tâches!$C$1:$H$1)-IF($J30<>$J31,0,Q30)),0) -> #N/A
B32: =IFERROR(INDEX(Tâches!$C$1:$H$1,K32),"-") -> - | C32: =IFERROR(INDEX(Tâches!$C$1:$H$1,L32),"-") -> - | D32: =IFERROR(INDEX(Tâches!$C$1:$H$1,M32),"-") -> - | E32: =IFERROR(INDEX(Tâches!$C$1:$H$1,N32),"-") -> - | F32: =IFERROR(INDEX(Tâches!$C$1:$H$1,O32),"-") -> - | G32: =IFERROR(INDEX(Tâches!$C$1:$H$1,P32),"-") -> - | H32: =IFERROR(INDEX(Tâches!$C$1:$H$1,Q32),"-") -> - | J32: =IF(ISBLANK(A32),J31 & "",A32 & "") -> V | K32: =IF($J31<>$J32,0,K31)+MATCH($J32,OFFSET(Tâches!$C$2,$J$1+K$2,IF($J31<>$J32,0,K31),1,COUNTA(Tâches!$C$1:$H$1)-IF($J31<>$J32,0,K31)),0) -> #N/A | L32: =IF($J31<>$J32,0,L31)+MATCH($J32,OFFSET(Tâches!$C$2,$J$1+L$2,IF($J31<>$J32,0,L31),1,COUNTA(Tâches!$C$1:$H$1)-IF($J31<>$J32,0,L31)),0) -> #N/A | M32: =IF($J31<>$J32,0,M31)+MATCH($J32,OFFSET(Tâches!$C$2,$J$1+M$2,IF($J31<>$J32,0,M31),1,COUNTA(Tâches!$C$1:$H$1)-IF($J31<>$J32,0,M31)),0) -> #N/A | N32: =IF($J31<>$J32,0,N31)+MATCH($J32,OFFSET(Tâches!$C$2,$J$1+N$2,IF($J31<>$J32,0,N31),1,COUNTA(Tâches!$C$1:$H$1)-IF($J31<>$J32,0,N31)),0) -> #N/A | O32: =IF($J31<>$J32,0,O31)+MATCH($J32,OFFSET(Tâches!$C$2,$J$1+O$2,IF($J31<>$J32,0,O31),1,COUNTA(Tâches!$C$1:$H$1)-IF($J31<>$J32,0,O31)),0) -> #N/A | P32: =IF($J31<>$J32,0,P31)+MATCH($J32,OFFSET(Tâches!$C$2,$J$1+P$2,IF($J31<>$J32,0,P31),1,COUNTA(Tâches!$C$1:$H$1)-IF($J31<>$J32,0,P31)),0) -> #N/A | Q32: =IF($J31<>$J32,0,Q31)+MATCH($J32,OFFSET(Tâches!$C$2,$J$1+Q$2,IF($J31<>$J32,0,Q31),1,COUNTA(Tâches!$C$1:$H$1)-IF($J31<>$J32,0,Q31)),0) -> #N/A
B33: =IFERROR(INDEX(Tâches!$C$1:$H$1,K33),"-") -> - | C33: =IFERROR(INDEX(Tâches!$C$1:$H$1,L33),"-") -> - | D33: =IFERROR(INDEX(Tâches!$C$1:$H$1,M33),"-") -> - | E33: =IFERROR(INDEX(Tâches!$C$1:$H$1,N33),"-") -> - | F33: =IFERROR(INDEX(Tâches!$C$1:$H$1,O33),"-") -> - | G33: =IFERROR(INDEX(Tâches!$C$1:$H$1,P33),"-") -> - | H33: =IFERROR(INDEX(Tâches!$C$1:$H$1,Q33),"-") -> - | J33: =IF(ISBLANK(A33),J32 & "",A33 & "") -> V | K33: =IF($J32<>$J33,0,K32)+MATCH($J33,OFFSET(Tâches!$C$2,$J$1+K$2,IF($J32<>$J33,0,K32),1,COUNTA(Tâches!$C$1:$H$1)-IF($J32<>$J33,0,K32)),0) -> #N/A | L33: =IF($J32<>$J33,0,L32)+MATCH($J33,OFFSET(Tâches!$C$2,$J$1+L$2,IF($J32<>$J33,0,L32),1,COUNTA(Tâches!$C$1:$H$1)-IF($J32<>$J33,0,L32)),0) -> #N/A | M33: =IF($J32<>$J33,0,M32)+MATCH($J33,OFFSET(Tâches!$C$2,$J$1+M$2,IF($J32<>$J33,0,M32),1,COUNTA(Tâches!$C$1:$H$1)-IF($J32<>$J33,0,M32)),0) -> #N/A | N33: =IF($J32<>$J33,0,N32)+MATCH($J33,OFFSET(Tâches!$C$2,$J$1+N$2,IF($J32<>$J33,0,N32),1,COUNTA(Tâches!$C$1:$H$1)-IF($J32<>$J33,0,N32)),0) -> #N/A | O33: =IF($J32<>$J33,0,O32)+MATCH($J33,OFFSET(Tâches!$C$2,$J$1+O$2,IF($J32<>$J33,0,O32),1,COUNTA(Tâches!$C$1:$H$1)-IF($J32<>$J33,0,O32)),0) -> #N/A | P33: =IF($J32<>$J33,0,P32)+MATCH($J33,OFFSET(Tâches!$C$2,$J$1+P$2,IF($J32<>$J33,0,P32),1,COUNTA(Tâches!$C$1:$H$1)-IF($J32<>$J33,0,P32)),0) -> #N/A | Q33: =IF($J32<>$J33,0,Q32)+MATCH($J33,OFFSET(Tâches!$C$2,$J$1+Q$2,IF($J32<>$J33,0,Q32),1,COUNTA(Tâches!$C$1:$H$1)-IF($J32<>$J33,0,Q32)),0) -> #N/A
A35: Dans cette colonne A, tu peux ajouter ou supprimer des noms de tâche | J35: Tu peux masquer les colonnes J à Q
A36: Tu peux écrire la tâche recherchée sur la ligne que tu veux
B38: En B1, la date se met automatiquement sur le lundi de la semaine actuelle
B39: Tu écrire n'importe quelle date à la place
