Workbook

Sheet feuille intiale
C2: 24
A3: 1 | C3: 9
A4: 6 | C4: 15
C5: 26
A6: 2
A7: 4 | C7: 14
A8: 8 | C8: 12
C9: 3
A10: 1
A11: 18
B14: liste valeurs
B15: 15
B16: 12
B17: 54
B18: 16
B19: 53
B20: 85
B21: 16
B22: 45
B23: 66
B24: 25
B25: 15
B26: 65
B27: 85

Sheet Résultat souhaité apres macro
A1: colonne 1 | B1: tri valeurs 1 | C1: colonne 2 | D1: tri valeurs 2 | E1: copie 1 | F1: vierge | G1: copie2
B2: =IFERROR(INDEX(Valeurs!$A$2:$A$14,RANK(A2,$E$2:$G$11,1)),"") | C2: 24 | D2: =IFERROR(INDEX(Valeurs!$A$2:$A$14,RANK(C2,$E$2:$G$11,1)),"") -> 85 | E2: =IF(A2>0,A2,"") | G2: =IF(C2>0,C2,"") -> 24
A3: 1 | B3: =IFERROR(INDEX(Valeurs!$A$2:$A$14,RANK(A3,$E$2:$G$11,1)),"") -> 15 | C3: 9 | D3: =IFERROR(INDEX(Valeurs!$A$2:$A$14,RANK(C3,$E$2:$G$11,1)),"") -> 45 | E3: =IF(A3>0,A3,"") -> 1 | G3: =IF(C3>0,C3,"") -> 9
A4: 6 | B4: =IFERROR(INDEX(Valeurs!$A$2:$A$14,RANK(A4,$E$2:$G$11,1)),"") -> 53 | C4: 15 | D4: =IFERROR(INDEX(Valeurs!$A$2:$A$14,RANK(C4,$E$2:$G$11,1)),"") -> 15 | E4: =IF(A4>0,A4,"") -> 6 | G4: =IF(C4>0,C4,"") -> 15
B5: =IFERROR(INDEX(Valeurs!$A$2:$A$14,RANK(A5,$E$2:$G$11,1)),"") | C5: 26 | D5: =IFERROR(INDEX(Valeurs!$A$2:$A$14,RANK(C5,$E$2:$G$11,1)),"") | E5: =IF(A5>0,A5,"") | G5: =IF(C5>0,C5,"") -> 26
A6: 2 | B6: =IFERROR(INDEX(Valeurs!$A$2:$A$14,RANK(A6,$E$2:$G$11,1)),"") -> 12 | D6: =IFERROR(INDEX(Valeurs!$A$2:$A$14,RANK(C6,$E$2:$G$11,1)),"") | E6: =IF(A6>0,A6,"") -> 2 | G6: =IF(C6>0,C6,"")
A7: 4 | B7: =IFERROR(INDEX(Valeurs!$A$2:$A$14,RANK(A7,$E$2:$G$11,1)),"") -> 16 | C7: 14 | D7: =IFERROR(INDEX(Valeurs!$A$2:$A$14,RANK(C7,$E$2:$G$11,1)),"") -> 25 | E7: =IF(A7>0,A7,"") -> 4 | G7: =IF(C7>0,C7,"") -> 14
A8: 8 | B8: =IFERROR(INDEX(Valeurs!$A$2:$A$14,RANK(A8,$E$2:$G$11,1)),"") -> 16 | C8: 12 | D8: =IFERROR(INDEX(Valeurs!$A$2:$A$14,RANK(C8,$E$2:$G$11,1)),"") -> 66 | E8: =IF(A8>0,A8,"") -> 8 | G8: =IF(C8>0,C8,"") -> 12
B9: =IFERROR(INDEX(Valeurs!$A$2:$A$14,RANK(A9,$E$2:$G$11,1)),"") | C9: 3 | D9: =IFERROR(INDEX(Valeurs!$A$2:$A$14,RANK(C9,$E$2:$G$11,1)),"") -> 54 | E9: =IF(A9>0,A9,"") | G9: =IF(C9>0,C9,"") -> 3
A10: 7 | B10: =IFERROR(INDEX(Valeurs!$A$2:$A$14,RANK(A10,$E$2:$G$11,1)),"") -> 85 | D10: =IFERROR(INDEX(Valeurs!$A$2:$A$14,RANK(C10,$E$2:$G$11,1)),"") | E10: =IF(A10>0,A10,"") -> 7 | G10: =IF(C10>0,C10,"")
A11: 18 | B11: =IFERROR(INDEX(Valeurs!$A$2:$A$14,RANK(A11,$E$2:$G$11,1)),"") -> 65 | D11: =IFERROR(INDEX(Valeurs!$A$2:$A$14,RANK(C11,$E$2:$G$11,1)),"") | E11: =IF(A11>0,A11,"") -> 18 | G11: =IF(C11>0,C11,"")

Sheet Valeurs
A1: liste valeurs
A2: 15
A3: 12
A4: 54
A5: 16
A6: 53
A7: 85
A8: 16
A9: 45
A10: 66
A11: 25
A12: 15
A13: 65
A14: 85

Sheet Feuil3
