Workbook

Sheet Feuil1
A1: Suppression d'une étape avec graphicage | B1: LCLADE941 | C1: 14 | D1: 09/03/2021 11:48 | E1: KERDRAON Baptiste | F1: Suppression avec graphicage de l'étape train 193272/3 du mardi 09/03/2021. | G1: =MID(Feuil1!F1,65,6) -> 9/03/2 | H1: =IF(LEFT(G1,2)="14",1,0) -> 0 | J1: =IFERROR(INDEX($G$1:$G$10,MATCH(ROWS($1:1),$H$1:$H$10,0)),"") -> 142482
A2: Suppression d'une étape avec graphicage | B2: LCLADE944 | C2: S4 | D2: 09/03/2021 08:20 | E2: RONZEAU Leslie | F2: Suppression avec graphicage de l'étape train 149371 du mardi 09/03/2021. | G2: =MID(Feuil1!F2,65,6) -> 03/202 | H2: =H1+IF(LEFT(G2,2)="14",1,0) -> 0 | J2: =IFERROR(INDEX($G$1:$G$10,MATCH(ROWS($1:2),$H$1:$H$10,0)),"") -> 141458
A3: Suppression d'une étape avec graphicage | B3: LCLADE944 | C3: S3 | D3: 09/03/2021 08:20 | E3: RONZEAU Leslie | F3: Suppression avec graphicage de l'étape train 192372 du mardi 09/03/2021. | G3: =MID(Feuil1!F3,65,6) -> 03/202 | H3: =H2+IF(LEFT(G3,2)="14",1,0) -> 0 | J3: =IFERROR(INDEX($G$1:$G$10,MATCH(ROWS($1:3),$H$1:$H$10,0)),"")
A4: Suppression d'une étape avec graphicage | B4: LCLADE944 | C4: 15 | D4: 09/03/2021 07:57 | E4: RONZEAU Leslie | F4: Suppression avec graphicage de l'étape train 149876 du mardi 09/03/2021. | G4: =MID(Feuil1!F4,65,6) -> 03/202 | H4: =H3+IF(LEFT(G4,2)="14",1,0) -> 0 | J4: =IFERROR(INDEX($G$1:$G$10,MATCH(ROWS($1:4),$H$1:$H$10,0)),"")
A5: Suppression d'une étape avec graphicage | B5: LCLADE944 | C5: 56 | D5: 09/03/2021 07:16 | E5: AUTIER Christelle | F5: Suppression avec graphicage de l'étape RAD RRTRA-RG du mardi 09/03/2021. | G5: =MID(Feuil1!F5,65,6) -> 03/202 | H5: =H4+IF(LEFT(G5,2)="14",1,0) -> 0 | J5: =IFERROR(INDEX($G$1:$G$10,MATCH(ROWS($1:5),$H$1:$H$10,0)),"")
A6: Suppression d'une étape avec graphicage | B6: LCLADE941 | C6: 12 | D6: 09/03/2021 07:12 | E6: AUTIER Christelle | F6: Suppression avec graphicage de l'étape RAD RRBY du mardi 09/03/2021. | G6: =MID(Feuil1!F6,65,6) -> 021. | H6: =H5+IF(LEFT(G6,2)="14",1,0) -> 0 | J6: =IFERROR(INDEX($G$1:$G$10,MATCH(ROWS($1:6),$H$1:$H$10,0)),"")
A7: Suppression d'une étape avec graphicage | B7: LCLADE944 | C7: 56 | D7: 09/03/2021 06:52 | E7: RONZEAU Leslie | F7: Suppression avec graphicage de l'étape RAD RRTRA-RG du mardi 09/03/2021. | G7: =MID(Feuil1!F7,65,6) -> 03/202 | H7: =H6+IF(LEFT(G7,2)="14",1,0) -> 0 | J7: =IFERROR(INDEX($G$1:$G$10,MATCH(ROWS($1:7),$H$1:$H$10,0)),"")
A8: Suppression d'un élément avec graphicage | B8: LCLADE944 | C8: 4 | D8: 09/03/2021 03:31 | E8: HOUITTE Sandrine | F8: Suppression avec graphicage de l'élément de rang 2/2 de l'étape 142482/3 du mardi 09/03/2021. | G8: =MID(Feuil1!F8,65,6) -> 142482 | H8: =H7+IF(LEFT(G8,2)="14",1,0) -> 1 | J8: =IFERROR(INDEX($G$1:$G$10,MATCH(ROWS($1:8),$H$1:$H$10,0)),"")
A9: Suppression d'un élément avec graphicage | B9: LCLADE944 | C9: 4 | D9: 09/03/2021 03:31 | E9: HOUITTE Sandrine | F9: Suppression avec graphicage de l'élément de rang 2/2 de l'étape 141458/9 du mardi 09/03/2021. | G9: =MID(Feuil1!F9,65,6) -> 141458 | H9: =H8+IF(LEFT(G9,2)="14",1,0) -> 2 | J9: =IFERROR(INDEX($G$1:$G$10,MATCH(ROWS($1:9),$H$1:$H$10,0)),"")
A10: Suppression d'une étape avec graphicage | B10: LCLADE941 | C10: 12 | D10: 09/03/2021 00:29 | E10: HOUITTE Sandrine | F10: Suppression avec graphicage de l'étape RAD RRBY du mardi 09/03/2021. | G10: =MID(Feuil1!F10,65,6) -> 021. | H10: =H9+IF(LEFT(G10,2)="14",1,0) -> 2 | J10: =IFERROR(INDEX($G$1:$G$10,MATCH(ROWS($1:10),$H$1:$H$10,0)),"")
