Workbook

Sheet Tâches
B1: 42898 | C1: 42899 | D1: 42900 | E1: 42901 | F1: 42902 | G1: 42903 | H1: 42904
B2: =PROPER(LEFT(TEXT(B1,"jjj"),2)) -> Lu | C2: =PROPER(LEFT(TEXT(C1,"jjj"),2)) -> Ma | D2: =PROPER(LEFT(TEXT(D1,"jjj"),2)) -> Me | E2: =PROPER(LEFT(TEXT(E1,"jjj"),2)) -> Je | F2: =PROPER(LEFT(TEXT(F1,"jjj"),2)) -> Ve | G2: =PROPER(LEFT(TEXT(G1,"jjj"),2)) -> Sa | H2: =PROPER(LEFT(TEXT(H1,"jjj"),2)) -> Di
A3: Pat | B3: IMM | C3: IMM | D3: EXT | E3: V | F3: IMM
A4: Bob | B4: EXT | C4: IMM | D4: IMM | E4: IMM | F4: IMM
A5: Joe | B5: IMM | C5: EXT | D5: ENS | E5: EXT | F5: EXT
A6: Vince | B6: EXT | C6: EXT | D6: ENS | E6: EXT | F6: EXT
A7: Phil | B7: GEJ | C7: GEJ | D7: GES | E7: GEJ | F7: V
A8: John | B8: GEJ | C8: GES | D8: GEJ | E8: GEJ | F8: GEJ

Sheet Calculs
B1: =Tâches!B1 -> 42898 | C1: =Tâches!C1 -> 42899 | D1: =Tâches!D1 -> 42900 | E1: =Tâches!E1 -> 42901 | F1: =Tâches!F1 -> 42902 | G1: =Tâches!G1 -> 42903 | H1: =Tâches!H1 -> 42904
B2: =Tâches!B2 -> Lu | C2: =Tâches!C2 -> Ma | D2: =Tâches!D2 -> Me | E2: =Tâches!E2 -> Je | F2: =Tâches!F2 -> Ve | G2: =Tâches!G2 -> Sa | H2: =Tâches!H2 -> Di
A3: IMM | B3: =IF($A2<>$A3,0,B2)+MATCH($A3,OFFSET(Tâches!B$3,IF($A2<>$A3,0,B2),0,COUNTA(Tâches!$A$3:$A$8)-IF($A2<>$A3,0,B2)),0) -> 1 | C3: =IF($A2<>$A3,0,C2)+MATCH($A3,OFFSET(Tâches!C$3,IF($A2<>$A3,0,C2),0,COUNTA(Tâches!$A$3:$A$8)-IF($A2<>$A3,0,C2)),0) -> 1 | D3: =IF($A2<>$A3,0,D2)+MATCH($A3,OFFSET(Tâches!D$3,IF($A2<>$A3,0,D2),0,COUNTA(Tâches!$A$3:$A$8)-IF($A2<>$A3,0,D2)),0) -> 2 | E3: =IF($A2<>$A3,0,E2)+MATCH($A3,OFFSET(Tâches!E$3,IF($A2<>$A3,0,E2),0,COUNTA(Tâches!$A$3:$A$8)-IF($A2<>$A3,0,E2)),0) -> 2 | F3: =IF($A2<>$A3,0,F2)+MATCH($A3,OFFSET(Tâches!F$3,IF($A2<>$A3,0,F2),0,COUNTA(Tâches!$A$3:$A$8)-IF($A2<>$A3,0,F2)),0) -> 1 | G3: =IF($A2<>$A3,0,G2)+MATCH($A3,OFFSET(Tâches!G$3,IF($A2<>$A3,0,G2),0,COUNTA(Tâches!$A$3:$A$8)-IF($A2<>$A3,0,G2)),0) -> #N/A | H3: =IF($A2<>$A3,0,H2)+MATCH($A3,OFFSET(Tâches!H$3,IF($A2<>$A3,0,H2),0,COUNTA(Tâches!$A$3:$A$8)-IF($A2<>$A3,0,H2)),0) -> #N/A
A4: IMM | B4: =IF($A3<>$A4,0,B3)+MATCH($A4,OFFSET(Tâches!B$3,IF($A3<>$A4,0,B3),0,COUNTA(Tâches!$A$3:$A$8)-IF($A3<>$A4,0,B3)),0) -> 3 | C4: =IF($A3<>$A4,0,C3)+MATCH($A4,OFFSET(Tâches!C$3,IF($A3<>$A4,0,C3),0,COUNTA(Tâches!$A$3:$A$8)-IF($A3<>$A4,0,C3)),0) -> 2 | D4: =IF($A3<>$A4,0,D3)+MATCH($A4,OFFSET(Tâches!D$3,IF($A3<>$A4,0,D3),0,COUNTA(Tâches!$A$3:$A$8)-IF($A3<>$A4,0,D3)),0) -> #N/A | E4: =IF($A3<>$A4,0,E3)+MATCH($A4,OFFSET(Tâches!E$3,IF($A3<>$A4,0,E3),0,COUNTA(Tâches!$A$3:$A$8)-IF($A3<>$A4,0,E3)),0) -> #N/A | F4: =IF($A3<>$A4,0,F3)+MATCH($A4,OFFSET(Tâches!F$3,IF($A3<>$A4,0,F3),0,COUNTA(Tâches!$A$3:$A$8)-IF($A3<>$A4,0,F3)),0) -> 2 | G4: =IF($A3<>$A4,0,G3)+MATCH($A4,OFFSET(Tâches!G$3,IF($A3<>$A4,0,G3),0,COUNTA(Tâches!$A$3:$A$8)-IF($A3<>$A4,0,G3)),0) -> #N/A | H4: =IF($A3<>$A4,0,H3)+MATCH($A4,OFFSET(Tâches!H$3,IF($A3<>$A4,0,H3),0,COUNTA(Tâches!$A$3:$A$8)-IF($A3<>$A4,0,H3)),0) -> #N/A
A5: IMM | B5: =IF($A4<>$A5,0,B4)+MATCH($A5,OFFSET(Tâches!B$3,IF($A4<>$A5,0,B4),0,COUNTA(Tâches!$A$3:$A$8)-IF($A4<>$A5,0,B4)),0) -> #N/A | C5: =IF($A4<>$A5,0,C4)+MATCH($A5,OFFSET(Tâches!C$3,IF($A4<>$A5,0,C4),0,COUNTA(Tâches!$A$3:$A$8)-IF($A4<>$A5,0,C4)),0) -> #N/A | D5: =IF($A4<>$A5,0,D4)+MATCH($A5,OFFSET(Tâches!D$3,IF($A4<>$A5,0,D4),0,COUNTA(Tâches!$A$3:$A$8)-IF($A4<>$A5,0,D4)),0) -> #N/A | E5: =IF($A4<>$A5,0,E4)+MATCH($A5,OFFSET(Tâches!E$3,IF($A4<>$A5,0,E4),0,COUNTA(Tâches!$A$3:$A$8)-IF($A4<>$A5,0,E4)),0) -> #N/A | F5: =IF($A4<>$A5,0,F4)+MATCH($A5,OFFSET(Tâches!F$3,IF($A4<>$A5,0,F4),0,COUNTA(Tâches!$A$3:$A$8)-IF($A4<>$A5,0,F4)),0) -> #N/A | G5: =IF($A4<>$A5,0,G4)+MATCH($A5,OFFSET(Tâches!G$3,IF($A4<>$A5,0,G4),0,COUNTA(Tâches!$A$3:$A$8)-IF($A4<>$A5,0,G4)),0) -> #N/A | H5: =IF($A4<>$A5,0,H4)+MATCH($A5,OFFSET(Tâches!H$3,IF($A4<>$A5,0,H4),0,COUNTA(Tâches!$A$3:$A$8)-IF($A4<>$A5,0,H4)),0) -> #N/A
A6: IMM | B6: =IF($A5<>$A6,0,B5)+MATCH($A6,OFFSET(Tâches!B$3,IF($A5<>$A6,0,B5),0,COUNTA(Tâches!$A$3:$A$8)-IF($A5<>$A6,0,B5)),0) -> #N/A | C6: =IF($A5<>$A6,0,C5)+MATCH($A6,OFFSET(Tâches!C$3,IF($A5<>$A6,0,C5),0,COUNTA(Tâches!$A$3:$A$8)-IF($A5<>$A6,0,C5)),0) -> #N/A | D6: =IF($A5<>$A6,0,D5)+MATCH($A6,OFFSET(Tâches!D$3,IF($A5<>$A6,0,D5),0,COUNTA(Tâches!$A$3:$A$8)-IF($A5<>$A6,0,D5)),0) -> #N/A | E6: =IF($A5<>$A6,0,E5)+MATCH($A6,OFFSET(Tâches!E$3,IF($A5<>$A6,0,E5),0,COUNTA(Tâches!$A$3:$A$8)-IF($A5<>$A6,0,E5)),0) -> #N/A | F6: =IF($A5<>$A6,0,F5)+MATCH($A6,OFFSET(Tâches!F$3,IF($A5<>$A6,0,F5),0,COUNTA(Tâches!$A$3:$A$8)-IF($A5<>$A6,0,F5)),0) -> #N/A | G6: =IF($A5<>$A6,0,G5)+MATCH($A6,OFFSET(Tâches!G$3,IF($A5<>$A6,0,G5),0,COUNTA(Tâches!$A$3:$A$8)-IF($A5<>$A6,0,G5)),0) -> #N/A | H6: =IF($A5<>$A6,0,H5)+MATCH($A6,OFFSET(Tâches!H$3,IF($A5<>$A6,0,H5),0,COUNTA(Tâches!$A$3:$A$8)-IF($A5<>$A6,0,H5)),0) -> #N/A
A7: EXT | B7: =IF($A6<>$A7,0,B6)+MATCH($A7,OFFSET(Tâches!B$3,IF($A6<>$A7,0,B6),0,COUNTA(Tâches!$A$3:$A$8)-IF($A6<>$A7,0,B6)),0) -> 2 | C7: =IF($A6<>$A7,0,C6)+MATCH($A7,OFFSET(Tâches!C$3,IF($A6<>$A7,0,C6),0,COUNTA(Tâches!$A$3:$A$8)-IF($A6<>$A7,0,C6)),0) -> 3 | D7: =IF($A6<>$A7,0,D6)+MATCH($A7,OFFSET(Tâches!D$3,IF($A6<>$A7,0,D6),0,COUNTA(Tâches!$A$3:$A$8)-IF($A6<>$A7,0,D6)),0) -> 1 | E7: =IF($A6<>$A7,0,E6)+MATCH($A7,OFFSET(Tâches!E$3,IF($A6<>$A7,0,E6),0,COUNTA(Tâches!$A$3:$A$8)-IF($A6<>$A7,0,E6)),0) -> 3 | F7: =IF($A6<>$A7,0,F6)+MATCH($A7,OFFSET(Tâches!F$3,IF($A6<>$A7,0,F6),0,COUNTA(Tâches!$A$3:$A$8)-IF($A6<>$A7,0,F6)),0) -> 3 | G7: =IF($A6<>$A7,0,G6)+MATCH($A7,OFFSET(Tâches!G$3,IF($A6<>$A7,0,G6),0,COUNTA(Tâches!$A$3:$A$8)-IF($A6<>$A7,0,G6)),0) -> #N/A | H7: =IF($A6<>$A7,0,H6)+MATCH($A7,OFFSET(Tâches!H$3,IF($A6<>$A7,0,H6),0,COUNTA(Tâches!$A$3:$A$8)-IF($A6<>$A7,0,H6)),0) -> #N/A
A8: EXT | B8: =IF($A7<>$A8,0,B7)+MATCH($A8,OFFSET(Tâches!B$3,IF($A7<>$A8,0,B7),0,COUNTA(Tâches!$A$3:$A$8)-IF($A7<>$A8,0,B7)),0) -> 4 | C8: =IF($A7<>$A8,0,C7)+MATCH($A8,OFFSET(Tâches!C$3,IF($A7<>$A8,0,C7),0,COUNTA(Tâches!$A$3:$A$8)-IF($A7<>$A8,0,C7)),0) -> 4 | D8: =IF($A7<>$A8,0,D7)+MATCH($A8,OFFSET(Tâches!D$3,IF($A7<>$A8,0,D7),0,COUNTA(Tâches!$A$3:$A$8)-IF($A7<>$A8,0,D7)),0) -> #N/A | E8: =IF($A7<>$A8,0,E7)+MATCH($A8,OFFSET(Tâches!E$3,IF($A7<>$A8,0,E7),0,COUNTA(Tâches!$A$3:$A$8)-IF($A7<>$A8,0,E7)),0) -> 4 | F8: =IF($A7<>$A8,0,F7)+MATCH($A8,OFFSET(Tâches!F$3,IF($A7<>$A8,0,F7),0,COUNTA(Tâches!$A$3:$A$8)-IF($A7<>$A8,0,F7)),0) -> 4 | G8: =IF($A7<>$A8,0,G7)+MATCH($A8,OFFSET(Tâches!G$3,IF($A7<>$A8,0,G7),0,COUNTA(Tâches!$A$3:$A$8)-IF($A7<>$A8,0,G7)),0) -> #N/A | H8: =IF($A7<>$A8,0,H7)+MATCH($A8,OFFSET(Tâches!H$3,IF($A7<>$A8,0,H7),0,COUNTA(Tâches!$A$3:$A$8)-IF($A7<>$A8,0,H7)),0) -> #N/A
A9: EXT | B9: =IF($A8<>$A9,0,B8)+MATCH($A9,OFFSET(Tâches!B$3,IF($A8<>$A9,0,B8),0,COUNTA(Tâches!$A$3:$A$8)-IF($A8<>$A9,0,B8)),0) -> #N/A | C9: =IF($A8<>$A9,0,C8)+MATCH($A9,OFFSET(Tâches!C$3,IF($A8<>$A9,0,C8),0,COUNTA(Tâches!$A$3:$A$8)-IF($A8<>$A9,0,C8)),0) -> #N/A | D9: =IF($A8<>$A9,0,D8)+MATCH($A9,OFFSET(Tâches!D$3,IF($A8<>$A9,0,D8),0,COUNTA(Tâches!$A$3:$A$8)-IF($A8<>$A9,0,D8)),0) -> #N/A | E9: =IF($A8<>$A9,0,E8)+MATCH($A9,OFFSET(Tâches!E$3,IF($A8<>$A9,0,E8),0,COUNTA(Tâches!$A$3:$A$8)-IF($A8<>$A9,0,E8)),0) -> #N/A | F9: =IF($A8<>$A9,0,F8)+MATCH($A9,OFFSET(Tâches!F$3,IF($A8<>$A9,0,F8),0,COUNTA(Tâches!$A$3:$A$8)-IF($A8<>$A9,0,F8)),0) -> #N/A | G9: =IF($A8<>$A9,0,G8)+MATCH($A9,OFFSET(Tâches!G$3,IF($A8<>$A9,0,G8),0,COUNTA(Tâches!$A$3:$A$8)-IF($A8<>$A9,0,G8)),0) -> #N/A | H9: =IF($A8<>$A9,0,H8)+MATCH($A9,OFFSET(Tâches!H$3,IF($A8<>$A9,0,H8),0,COUNTA(Tâches!$A$3:$A$8)-IF($A8<>$A9,0,H8)),0) -> #N/A
A10: EXT | B10: =IF($A9<>$A10,0,B9)+MATCH($A10,OFFSET(Tâches!B$3,IF($A9<>$A10,0,B9),0,COUNTA(Tâches!$A$3:$A$8)-IF($A9<>$A10,0,B9)),0) -> #N/A | C10: =IF($A9<>$A10,0,C9)+MATCH($A10,OFFSET(Tâches!C$3,IF($A9<>$A10,0,C9),0,COUNTA(Tâches!$A$3:$A$8)-IF($A9<>$A10,0,C9)),0) -> #N/A | D10: =IF($A9<>$A10,0,D9)+MATCH($A10,OFFSET(Tâches!D$3,IF($A9<>$A10,0,D9),0,COUNTA(Tâches!$A$3:$A$8)-IF($A9<>$A10,0,D9)),0) -> #N/A | E10: =IF($A9<>$A10,0,E9)+MATCH($A10,OFFSET(Tâches!E$3,IF($A9<>$A10,0,E9),0,COUNTA(Tâches!$A$3:$A$8)-IF($A9<>$A10,0,E9)),0) -> #N/A | F10: =IF($A9<>$A10,0,F9)+MATCH($A10,OFFSET(Tâches!F$3,IF($A9<>$A10,0,F9),0,COUNTA(Tâches!$A$3:$A$8)-IF($A9<>$A10,0,F9)),0) -> #N/A | G10: =IF($A9<>$A10,0,G9)+MATCH($A10,OFFSET(Tâches!G$3,IF($A9<>$A10,0,G9),0,COUNTA(Tâches!$A$3:$A$8)-IF($A9<>$A10,0,G9)),0) -> #N/A | H10: =IF($A9<>$A10,0,H9)+MATCH($A10,OFFSET(Tâches!H$3,IF($A9<>$A10,0,H9),0,COUNTA(Tâches!$A$3:$A$8)-IF($A9<>$A10,0,H9)),0) -> #N/A
A11: ENS | B11: =IF($A10<>$A11,0,B10)+MATCH($A11,OFFSET(Tâches!B$3,IF($A10<>$A11,0,B10),0,COUNTA(Tâches!$A$3:$A$8)-IF($A10<>$A11,0,B10)),0) -> #N/A | C11: =IF($A10<>$A11,0,C10)+MATCH($A11,OFFSET(Tâches!C$3,IF($A10<>$A11,0,C10),0,COUNTA(Tâches!$A$3:$A$8)-IF($A10<>$A11,0,C10)),0) -> #N/A | D11: =IF($A10<>$A11,0,D10)+MATCH($A11,OFFSET(Tâches!D$3,IF($A10<>$A11,0,D10),0,COUNTA(Tâches!$A$3:$A$8)-IF($A10<>$A11,0,D10)),0) -> 3 | E11: =IF($A10<>$A11,0,E10)+MATCH($A11,OFFSET(Tâches!E$3,IF($A10<>$A11,0,E10),0,COUNTA(Tâches!$A$3:$A$8)-IF($A10<>$A11,0,E10)),0) -> #N/A | F11: =IF($A10<>$A11,0,F10)+MATCH($A11,OFFSET(Tâches!F$3,IF($A10<>$A11,0,F10),0,COUNTA(Tâches!$A$3:$A$8)-IF($A10<>$A11,0,F10)),0) -> #N/A | G11: =IF($A10<>$A11,0,G10)+MATCH($A11,OFFSET(Tâches!G$3,IF($A10<>$A11,0,G10),0,COUNTA(Tâches!$A$3:$A$8)-IF($A10<>$A11,0,G10)),0) -> #N/A | H11: =IF($A10<>$A11,0,H10)+MATCH($A11,OFFSET(Tâches!H$3,IF($A10<>$A11,0,H10),0,COUNTA(Tâches!$A$3:$A$8)-IF($A10<>$A11,0,H10)),0) -> #N/A
A12: ENS | B12: =IF($A11<>$A12,0,B11)+MATCH($A12,OFFSET(Tâches!B$3,IF($A11<>$A12,0,B11),0,COUNTA(Tâches!$A$3:$A$8)-IF($A11<>$A12,0,B11)),0) -> #N/A | C12: =IF($A11<>$A12,0,C11)+MATCH($A12,OFFSET(Tâches!C$3,IF($A11<>$A12,0,C11),0,COUNTA(Tâches!$A$3:$A$8)-IF($A11<>$A12,0,C11)),0) -> #N/A | D12: =IF($A11<>$A12,0,D11)+MATCH($A12,OFFSET(Tâches!D$3,IF($A11<>$A12,0,D11),0,COUNTA(Tâches!$A$3:$A$8)-IF($A11<>$A12,0,D11)),0) -> 4 | E12: =IF($A11<>$A12,0,E11)+MATCH($A12,OFFSET(Tâches!E$3,IF($A11<>$A12,0,E11),0,COUNTA(Tâches!$A$3:$A$8)-IF($A11<>$A12,0,E11)),0) -> #N/A | F12: =IF($A11<>$A12,0,F11)+MATCH($A12,OFFSET(Tâches!F$3,IF($A11<>$A12,0,F11),0,COUNTA(Tâches!$A$3:$A$8)-IF($A11<>$A12,0,F11)),0) -> #N/A | G12: =IF($A11<>$A12,0,G11)+MATCH($A12,OFFSET(Tâches!G$3,IF($A11<>$A12,0,G11),0,COUNTA(Tâches!$A$3:$A$8)-IF($A11<>$A12,0,G11)),0) -> #N/A | H12: =IF($A11<>$A12,0,H11)+MATCH($A12,OFFSET(Tâches!H$3,IF($A11<>$A12,0,H11),0,COUNTA(Tâches!$A$3:$A$8)-IF($A11<>$A12,0,H11)),0) -> #N/A
A13: ENS | B13: =IF($A12<>$A13,0,B12)+MATCH($A13,OFFSET(Tâches!B$3,IF($A12<>$A13,0,B12),0,COUNTA(Tâches!$A$3:$A$8)-IF($A12<>$A13,0,B12)),0) -> #N/A | C13: =IF($A12<>$A13,0,C12)+MATCH($A13,OFFSET(Tâches!C$3,IF($A12<>$A13,0,C12),0,COUNTA(Tâches!$A$3:$A$8)-IF($A12<>$A13,0,C12)),0) -> #N/A | D13: =IF($A12<>$A13,0,D12)+MATCH($A13,OFFSET(Tâches!D$3,IF($A12<>$A13,0,D12),0,COUNTA(Tâches!$A$3:$A$8)-IF($A12<>$A13,0,D12)),0) -> #N/A | E13: =IF($A12<>$A13,0,E12)+MATCH($A13,OFFSET(Tâches!E$3,IF($A12<>$A13,0,E12),0,COUNTA(Tâches!$A$3:$A$8)-IF($A12<>$A13,0,E12)),0) -> #N/A | F13: =IF($A12<>$A13,0,F12)+MATCH($A13,OFFSET(Tâches!F$3,IF($A12<>$A13,0,F12),0,COUNTA(Tâches!$A$3:$A$8)-IF($A12<>$A13,0,F12)),0) -> #N/A | G13: =IF($A12<>$A13,0,G12)+MATCH($A13,OFFSET(Tâches!G$3,IF($A12<>$A13,0,G12),0,COUNTA(Tâches!$A$3:$A$8)-IF($A12<>$A13,0,G12)),0) -> #N/A | H13: =IF($A12<>$A13,0,H12)+MATCH($A13,OFFSET(Tâches!H$3,IF($A12<>$A13,0,H12),0,COUNTA(Tâches!$A$3:$A$8)-IF($A12<>$A13,0,H12)),0) -> #N/A
A14: ENS | B14: =IF($A13<>$A14,0,B13)+MATCH($A14,OFFSET(Tâches!B$3,IF($A13<>$A14,0,B13),0,COUNTA(Tâches!$A$3:$A$8)-IF($A13<>$A14,0,B13)),0) -> #N/A | C14: =IF($A13<>$A14,0,C13)+MATCH($A14,OFFSET(Tâches!C$3,IF($A13<>$A14,0,C13),0,COUNTA(Tâches!$A$3:$A$8)-IF($A13<>$A14,0,C13)),0) -> #N/A | D14: =IF($A13<>$A14,0,D13)+MATCH($A14,OFFSET(Tâches!D$3,IF($A13<>$A14,0,D13),0,COUNTA(Tâches!$A$3:$A$8)-IF($A13<>$A14,0,D13)),0) -> #N/A | E14: =IF($A13<>$A14,0,E13)+MATCH($A14,OFFSET(Tâches!E$3,IF($A13<>$A14,0,E13),0,COUNTA(Tâches!$A$3:$A$8)-IF($A13<>$A14,0,E13)),0) -> #N/A | F14: =IF($A13<>$A14,0,F13)+MATCH($A14,OFFSET(Tâches!F$3,IF($A13<>$A14,0,F13),0,COUNTA(Tâches!$A$3:$A$8)-IF($A13<>$A14,0,F13)),0) -> #N/A | G14: =IF($A13<>$A14,0,G13)+MATCH($A14,OFFSET(Tâches!G$3,IF($A13<>$A14,0,G13),0,COUNTA(Tâches!$A$3:$A$8)-IF($A13<>$A14,0,G13)),0) -> #N/A | H14: =IF($A13<>$A14,0,H13)+MATCH($A14,OFFSET(Tâches!H$3,IF($A13<>$A14,0,H13),0,COUNTA(Tâches!$A$3:$A$8)-IF($A13<>$A14,0,H13)),0) -> #N/A
... A26: V | B26: =IF($A25<>$A26,0,B25)+MATCH($A26,OFFSET(Tâches!B$3,IF($A25<>$A26,0,B25),0,COUNTA(Tâches!$A$3:$A$8)-IF($A25<>$A26,0,B25)),0) -> #N/A | C26: =IF($A25<>$A26,0,C25)+MATCH($A26,OFFSET(Tâches!C$3,IF($A25<>$A26,0,C25),0,COUNTA(Tâches!$A$3:$A$8)-IF($A25<>$A26,0,C25)),0) -> #N/A | D26: =IF($A25<>$A26,0,D25)+MATCH($A26,OFFSET(Tâches!D$3,IF($A25<>$A26,0,D25),0,COUNTA(Tâches!$A$3:$A$8)-IF($A25<>$A26,0,D25)),0) -> #N/A | E26: =IF($A25<>$A26,0,E25)+MATCH($A26,OFFSET(Tâches!E$3,IF($A25<>$A26,0,E25),0,COUNTA(Tâches!$A$3:$A$8)-IF($A25<>$A26,0,E25)),0) -> #N/A | F26: =IF($A25<>$A26,0,F25)+MATCH($A26,OFFSET(Tâches!F$3,IF($A25<>$A26,0,F25),0,COUNTA(Tâches!$A$3:$A$8)-IF($A25<>$A26,0,F25)),0) -> #N/A | G26: =IF($A25<>$A26,0,G25)+MATCH($A26,OFFSET(Tâches!G$3,IF($A25<>$A26,0,G25),0,COUNTA(Tâches!$A$3:$A$8)-IF($A25<>$A26,0,G25)),0) -> #N/A | H26: =IF($A25<>$A26,0,H25)+MATCH($A26,OFFSET(Tâches!H$3,IF($A25<>$A26,0,H25),0,COUNTA(Tâches!$A$3:$A$8)-IF($A25<>$A26,0,H25)),0) -> #N/A

Sheet Résultat
B1: =Tâches!B1 -> 42898 | C1: =Tâches!C1 -> 42899 | D1: =Tâches!D1 -> 42900 | E1: =Tâches!E1 -> 42901 | F1: =Tâches!F1 -> 42902 | G1: =Tâches!G1 -> 42903 | H1: =Tâches!H1 -> 42904
B2: =Tâches!B2 -> Lu | C2: =Tâches!C2 -> Ma | D2: =Tâches!D2 -> Me | E2: =Tâches!E2 -> Je | F2: =Tâches!F2 -> Ve | G2: =Tâches!G2 -> Sa | H2: =Tâches!H2 -> Di
A3: IMM | B3: =IFERROR(INDEX(Tâches!$A$3:$A$8,Calculs!B3),"-") -> Pat | C3: =IFERROR(INDEX(Tâches!$A$3:$A$8,Calculs!C3),"-") -> Pat | D3: =IFERROR(INDEX(Tâches!$A$3:$A$8,Calculs!D3),"-") -> Bob | E3: =IFERROR(INDEX(Tâches!$A$3:$A$8,Calculs!E3),"-") -> Bob | F3: =IFERROR(INDEX(Tâches!$A$3:$A$8,Calculs!F3),"-") -> Pat | G3: =IFERROR(INDEX(Tâches!$A$3:$A$8,Calculs!G3),"-") -> - | H3: =IFERROR(INDEX(Tâches!$A$3:$A$8,Calculs!H3),"-") -> -
B4: =IFERROR(INDEX(Tâches!$A$3:$A$8,Calculs!B4),"-") -> Joe | C4: =IFERROR(INDEX(Tâches!$A$3:$A$8,Calculs!C4),"-") -> Bob | D4: =IFERROR(INDEX(Tâches!$A$3:$A$8,Calculs!D4),"-") -> - | E4: =IFERROR(INDEX(Tâches!$A$3:$A$8,Calculs!E4),"-") -> - | F4: =IFERROR(INDEX(Tâches!$A$3:$A$8,Calculs!F4),"-") -> Bob | G4: =IFERROR(INDEX(Tâches!$A$3:$A$8,Calculs!G4),"-") -> - | H4: =IFERROR(INDEX(Tâches!$A$3:$A$8,Calculs!H4),"-") -> -
B5: =IFERROR(INDEX(Tâches!$A$3:$A$8,Calculs!B5),"-") -> - | C5: =IFERROR(INDEX(Tâches!$A$3:$A$8,Calculs!C5),"-") -> - | D5: =IFERROR(INDEX(Tâches!$A$3:$A$8,Calculs!D5),"-") -> - | E5: =IFERROR(INDEX(Tâches!$A$3:$A$8,Calculs!E5),"-") -> - | F5: =IFERROR(INDEX(Tâches!$A$3:$A$8,Calculs!F5),"-") -> - | G5: =IFERROR(INDEX(Tâches!$A$3:$A$8,Calculs!G5),"-") -> - | H5: =IFERROR(INDEX(Tâches!$A$3:$A$8,Calculs!H5),"-") -> -
B6: =IFERROR(INDEX(Tâches!$A$3:$A$8,Calculs!B6),"-") -> - | C6: =IFERROR(INDEX(Tâches!$A$3:$A$8,Calculs!C6),"-") -> - | D6: =IFERROR(INDEX(Tâches!$A$3:$A$8,Calculs!D6),"-") -> - | E6: =IFERROR(INDEX(Tâches!$A$3:$A$8,Calculs!E6),"-") -> - | F6: =IFERROR(INDEX(Tâches!$A$3:$A$8,Calculs!F6),"-") -> - | G6: =IFERROR(INDEX(Tâches!$A$3:$A$8,Calculs!G6),"-") -> - | H6: =IFERROR(INDEX(Tâches!$A$3:$A$8,Calculs!H6),"-") -> -
A7: EXT | B7: =IFERROR(INDEX(Tâches!$A$3:$A$8,Calculs!B7),"-") -> Bob | C7: =IFERROR(INDEX(Tâches!$A$3:$A$8,Calculs!C7),"-") -> Joe | D7: =IFERROR(INDEX(Tâches!$A$3:$A$8,Calculs!D7),"-") -> Pat | E7: =IFERROR(INDEX(Tâches!$A$3:$A$8,Calculs!E7),"-") -> Joe | F7: =IFERROR(INDEX(Tâches!$A$3:$A$8,Calculs!F7),"-") -> Joe | G7: =IFERROR(INDEX(Tâches!$A$3:$A$8,Calculs!G7),"-") -> - | H7: =IFERROR(INDEX(Tâches!$A$3:$A$8,Calculs!H7),"-") -> -
B8: =IFERROR(INDEX(Tâches!$A$3:$A$8,Calculs!B8),"-") -> Vince | C8: =IFERROR(INDEX(Tâches!$A$3:$A$8,Calculs!C8),"-") -> Vince | D8: =IFERROR(INDEX(Tâches!$A$3:$A$8,Calculs!D8),"-") -> - | E8: =IFERROR(INDEX(Tâches!$A$3:$A$8,Calculs!E8),"-") -> Vince | F8: =IFERROR(INDEX(Tâches!$A$3:$A$8,Calculs!F8),"-") -> Vince | G8: =IFERROR(INDEX(Tâches!$A$3:$A$8,Calculs!G8),"-") -> - | H8: =IFERROR(INDEX(Tâches!$A$3:$A$8,Calculs!H8),"-") -> -
B9: =IFERROR(INDEX(Tâches!$A$3:$A$8,Calculs!B9),"-") -> - | C9: =IFERROR(INDEX(Tâches!$A$3:$A$8,Calculs!C9),"-") -> - | D9: =IFERROR(INDEX(Tâches!$A$3:$A$8,Calculs!D9),"-") -> - | E9: =IFERROR(INDEX(Tâches!$A$3:$A$8,Calculs!E9),"-") -> - | F9: =IFERROR(INDEX(Tâches!$A$3:$A$8,Calculs!F9),"-") -> - | G9: =IFERROR(INDEX(Tâches!$A$3:$A$8,Calculs!G9),"-") -> - | H9: =IFERROR(INDEX(Tâches!$A$3:$A$8,Calculs!H9),"-") -> -
B10: =IFERROR(INDEX(Tâches!$A$3:$A$8,Calculs!B10),"-") -> - | C10: =IFERROR(INDEX(Tâches!$A$3:$A$8,Calculs!C10),"-") -> - | D10: =IFERROR(INDEX(Tâches!$A$3:$A$8,Calculs!D10),"-") -> - | E10: =IFERROR(INDEX(Tâches!$A$3:$A$8,Calculs!E10),"-") -> - | F10: =IFERROR(INDEX(Tâches!$A$3:$A$8,Calculs!F10),"-") -> - | G10: =IFERROR(INDEX(Tâches!$A$3:$A$8,Calculs!G10),"-") -> - | H10: =IFERROR(INDEX(Tâches!$A$3:$A$8,Calculs!H10),"-") -> -
A11: ENS | B11: =IFERROR(INDEX(Tâches!$A$3:$A$8,Calculs!B11),"-") -> - | C11: =IFERROR(INDEX(Tâches!$A$3:$A$8,Calculs!C11),"-") -> - | D11: =IFERROR(INDEX(Tâches!$A$3:$A$8,Calculs!D11),"-") -> Joe | E11: =IFERROR(INDEX(Tâches!$A$3:$A$8,Calculs!E11),"-") -> - | F11: =IFERROR(INDEX(Tâches!$A$3:$A$8,Calculs!F11),"-") -> - | G11: =IFERROR(INDEX(Tâches!$A$3:$A$8,Calculs!G11),"-") -> - | H11: =IFERROR(INDEX(Tâches!$A$3:$A$8,Calculs!H11),"-") -> -
B12: =IFERROR(INDEX(Tâches!$A$3:$A$8,Calculs!B12),"-") -> - | C12: =IFERROR(INDEX(Tâches!$A$3:$A$8,Calculs!C12),"-") -> - | D12: =IFERROR(INDEX(Tâches!$A$3:$A$8,Calculs!D12),"-") -> Vince | E12: =IFERROR(INDEX(Tâches!$A$3:$A$8,Calculs!E12),"-") -> - | F12: =IFERROR(INDEX(Tâches!$A$3:$A$8,Calculs!F12),"-") -> - | G12: =IFERROR(INDEX(Tâches!$A$3:$A$8,Calculs!G12),"-") -> - | H12: =IFERROR(INDEX(Tâches!$A$3:$A$8,Calculs!H12),"-") -> -
B13: =IFERROR(INDEX(Tâches!$A$3:$A$8,Calculs!B13),"-") -> - | C13: =IFERROR(INDEX(Tâches!$A$3:$A$8,Calculs!C13),"-") -> - | D13: =IFERROR(INDEX(Tâches!$A$3:$A$8,Calculs!D13),"-") -> - | E13: =IFERROR(INDEX(Tâches!$A$3:$A$8,Calculs!E13),"-") -> - | F13: =IFERROR(INDEX(Tâches!$A$3:$A$8,Calculs!F13),"-") -> - | G13: =IFERROR(INDEX(Tâches!$A$3:$A$8,Calculs!G13),"-") -> - | H13: =IFERROR(INDEX(Tâches!$A$3:$A$8,Calculs!H13),"-") -> -
B14: =IFERROR(INDEX(Tâches!$A$3:$A$8,Calculs!B14),"-") -> - | C14: =IFERROR(INDEX(Tâches!$A$3:$A$8,Calculs!C14),"-") -> - | D14: =IFERROR(INDEX(Tâches!$A$3:$A$8,Calculs!D14),"-") -> - | E14: =IFERROR(INDEX(Tâches!$A$3:$A$8,Calculs!E14),"-") -> - | F14: =IFERROR(INDEX(Tâches!$A$3:$A$8,Calculs!F14),"-") -> - | G14: =IFERROR(INDEX(Tâches!$A$3:$A$8,Calculs!G14),"-") -> - | H14: =IFERROR(INDEX(Tâches!$A$3:$A$8,Calculs!H14),"-") -> -
A15: GEJ | B15: =IFERROR(INDEX(Tâches!$A$3:$A$8,Calculs!B15),"-") -> Phil | C15: =IFERROR(INDEX(Tâches!$A$3:$A$8,Calculs!C15),"-") -> Phil | D15: =IFERROR(INDEX(Tâches!$A$3:$A$8,Calculs!D15),"-") -> John | E15: =IFERROR(INDEX(Tâches!$A$3:$A$8,Calculs!E15),"-") -> Phil | F15: =IFERROR(INDEX(Tâches!$A$3:$A$8,Calculs!F15),"-") -> John | G15: =IFERROR(INDEX(Tâches!$A$3:$A$8,Calculs!G15),"-") -> - | H15: =IFERROR(INDEX(Tâches!$A$3:$A$8,Calculs!H15),"-") -> -
B16: =IFERROR(INDEX(Tâches!$A$3:$A$8,Calculs!B16),"-") -> John | C16: =IFERROR(INDEX(Tâches!$A$3:$A$8,Calculs!C16),"-") -> - | D16: =IFERROR(INDEX(Tâches!$A$3:$A$8,Calculs!D16),"-") -> - | E16: =IFERROR(INDEX(Tâches!$A$3:$A$8,Calculs!E16),"-") -> John | F16: =IFERROR(INDEX(Tâches!$A$3:$A$8,Calculs!F16),"-") -> - | G16: =IFERROR(INDEX(Tâches!$A$3:$A$8,Calculs!G16),"-") -> - | H16: =IFERROR(INDEX(Tâches!$A$3:$A$8,Calculs!H16),"-") -> -
B17: =IFERROR(INDEX(Tâches!$A$3:$A$8,Calculs!B17),"-") -> - | C17: =IFERROR(INDEX(Tâches!$A$3:$A$8,Calculs!C17),"-") -> - | D17: =IFERROR(INDEX(Tâches!$A$3:$A$8,Calculs!D17),"-") -> - | E17: =IFERROR(INDEX(Tâches!$A$3:$A$8,Calculs!E17),"-") -> - | F17: =IFERROR(INDEX(Tâches!$A$3:$A$8,Calculs!F17),"-") -> - | G17: =IFERROR(INDEX(Tâches!$A$3:$A$8,Calculs!G17),"-") -> - | H17: =IFERROR(INDEX(Tâches!$A$3:$A$8,Calculs!H17),"-") -> -
B18: =IFERROR(INDEX(Tâches!$A$3:$A$8,Calculs!B18),"-") -> - | C18: =IFERROR(INDEX(Tâches!$A$3:$A$8,Calculs!C18),"-") -> - | D18: =IFERROR(INDEX(Tâches!$A$3:$A$8,Calculs!D18),"-") -> - | E18: =IFERROR(INDEX(Tâches!$A$3:$A$8,Calculs!E18),"-") -> - | F18: =IFERROR(INDEX(Tâches!$A$3:$A$8,Calculs!F18),"-") -> - | G18: =IFERROR(INDEX(Tâches!$A$3:$A$8,Calculs!G18),"-") -> - | H18: =IFERROR(INDEX(Tâches!$A$3:$A$8,Calculs!H18),"-") -> -
A19: GES | B19: =IFERROR(INDEX(Tâches!$A$3:$A$8,Calculs!B19),"-") -> - | C19: =IFERROR(INDEX(Tâches!$A$3:$A$8,Calculs!C19),"-") -> John | D19: =IFERROR(INDEX(Tâches!$A$3:$A$8,Calculs!D19),"-") -> Phil | E19: =IFERROR(INDEX(Tâches!$A$3:$A$8,Calculs!E19),"-") -> - | F19: =IFERROR(INDEX(Tâches!$A$3:$A$8,Calculs!F19),"-") -> - | G19: =IFERROR(INDEX(Tâches!$A$3:$A$8,Calculs!G19),"-") -> - | H19: =IFERROR(INDEX(Tâches!$A$3:$A$8,Calculs!H19),"-") -> -
B20: =IFERROR(INDEX(Tâches!$A$3:$A$8,Calculs!B20),"-") -> - | C20: =IFERROR(INDEX(Tâches!$A$3:$A$8,Calculs!C20),"-") -> - | D20: =IFERROR(INDEX(Tâches!$A$3:$A$8,Calculs!D20),"-") -> - | E20: =IFERROR(INDEX(Tâches!$A$3:$A$8,Calculs!E20),"-") -> - | F20: =IFERROR(INDEX(Tâches!$A$3:$A$8,Calculs!F20),"-") -> - | G20: =IFERROR(INDEX(Tâches!$A$3:$A$8,Calculs!G20),"-") -> - | H20: =IFERROR(INDEX(Tâches!$A$3:$A$8,Calculs!H20),"-") -> -
B21: =IFERROR(INDEX(Tâches!$A$3:$A$8,Calculs!B21),"-") -> - | C21: =IFERROR(INDEX(Tâches!$A$3:$A$8,Calculs!C21),"-") -> - | D21: =IFERROR(INDEX(Tâches!$A$3:$A$8,Calculs!D21),"-") -> - | E21: =IFERROR(INDEX(Tâches!$A$3:$A$8,Calculs!E21),"-") -> - | F21: =IFERROR(INDEX(Tâches!$A$3:$A$8,Calculs!F21),"-") -> - | G21: =IFERROR(INDEX(Tâches!$A$3:$A$8,Calculs!G21),"-") -> - | H21: =IFERROR(INDEX(Tâches!$A$3:$A$8,Calculs!H21),"-") -> -
B22: =IFERROR(INDEX(Tâches!$A$3:$A$8,Calculs!B22),"-") -> - | C22: =IFERROR(INDEX(Tâches!$A$3:$A$8,Calculs!C22),"-") -> - | D22: =IFERROR(INDEX(Tâches!$A$3:$A$8,Calculs!D22),"-") -> - | E22: =IFERROR(INDEX(Tâches!$A$3:$A$8,Calculs!E22),"-") -> - | F22: =IFERROR(INDEX(Tâches!$A$3:$A$8,Calculs!F22),"-") -> - | G22: =IFERROR(INDEX(Tâches!$A$3:$A$8,Calculs!G22),"-") -> - | H22: =IFERROR(INDEX(Tâches!$A$3:$A$8,Calculs!H22),"-") -> -
A23: V | B23: =IFERROR(INDEX(Tâches!$A$3:$A$8,Calculs!B23),"-") -> - | C23: =IFERROR(INDEX(Tâches!$A$3:$A$8,Calculs!C23),"-") -> - | D23: =IFERROR(INDEX(Tâches!$A$3:$A$8,Calculs!D23),"-") -> - | E23: =IFERROR(INDEX(Tâches!$A$3:$A$8,Calculs!E23),"-") -> Pat | F23: =IFERROR(INDEX(Tâches!$A$3:$A$8,Calculs!F23),"-") -> Phil | G23: =IFERROR(INDEX(Tâches!$A$3:$A$8,Calculs!G23),"-") -> - | H23: =IFERROR(INDEX(Tâches!$A$3:$A$8,Calculs!H23),"-") -> -
B24: =IFERROR(INDEX(Tâches!$A$3:$A$8,Calculs!B24),"-") -> - | C24: =IFERROR(INDEX(Tâches!$A$3:$A$8,Calculs!C24),"-") -> - | D24: =IFERROR(INDEX(Tâches!$A$3:$A$8,Calculs!D24),"-") -> - | E24: =IFERROR(INDEX(Tâches!$A$3:$A$8,Calculs!E24),"-") -> - | F24: =IFERROR(INDEX(Tâches!$A$3:$A$8,Calculs!F24),"-") -> - | G24: =IFERROR(INDEX(Tâches!$A$3:$A$8,Calculs!G24),"-") -> - | H24: =IFERROR(INDEX(Tâches!$A$3:$A$8,Calculs!H24),"-") -> -
B25: =IFERROR(INDEX(Tâches!$A$3:$A$8,Calculs!B25),"-") -> - | C25: =IFERROR(INDEX(Tâches!$A$3:$A$8,Calculs!C25),"-") -> - | D25: =IFERROR(INDEX(Tâches!$A$3:$A$8,Calculs!D25),"-") -> - | E25: =IFERROR(INDEX(Tâches!$A$3:$A$8,Calculs!E25),"-") -> - | F25: =IFERROR(INDEX(Tâches!$A$3:$A$8,Calculs!F25),"-") -> - | G25: =IFERROR(INDEX(Tâches!$A$3:$A$8,Calculs!G25),"-") -> - | H25: =IFERROR(INDEX(Tâches!$A$3:$A$8,Calculs!H25),"-") -> -
B26: =IFERROR(INDEX(Tâches!$A$3:$A$8,Calculs!B26),"-") -> - | C26: =IFERROR(INDEX(Tâches!$A$3:$A$8,Calculs!C26),"-") -> - | D26: =IFERROR(INDEX(Tâches!$A$3:$A$8,Calculs!D26),"-") -> - | E26: =IFERROR(INDEX(Tâches!$A$3:$A$8,Calculs!E26),"-") -> - | F26: =IFERROR(INDEX(Tâches!$A$3:$A$8,Calculs!F26),"-") -> - | G26: =IFERROR(INDEX(Tâches!$A$3:$A$8,Calculs!G26),"-") -> - | H26: =IFERROR(INDEX(Tâches!$A$3:$A$8,Calculs!H26),"-") -> -
