Workbook

Sheet Burncurve
A1: Date | B1: Forecast
A2: 43525 | B2: =SUMIFS(Date!D:D,Date!A:A, A2) -> 28
A3: 43526 | B3: =SUMIFS(Date!D:D,Date!A:A, A3) -> 21.5
A4: 43527 | B4: =SUMIFS(Date!D:D,Date!A:A, A4) -> 85.788889
A5: 43528 | B5: =SUMIFS(Date!D:D,Date!A:A, A5) -> 23
A6: 43529 | B6: =SUMIFS(Date!D:D,Date!A:A, A6) -> 37
A7: 43530 | B7: =SUMIFS(Date!D:D,Date!A:A, A7) -> 76
A8: 43531 | B8: =SUMIFS(Date!D:D,Date!A:A, A8) -> 59.9
A9: 43532 | B9: =SUMIFS(Date!D:D,Date!A:A, A9) -> 76.25
A10: 43533 | B10: =SUMIFS(Date!D:D,Date!A:A, A10) -> 126.0625
A11: 43534 | B11: =SUMIFS(Date!D:D,Date!A:A, A11) -> 51.486667
A12: 43535 | B12: =SUMIFS(Date!D:D,Date!A:A, A12) -> 73.133333
A13: 43536 | B13: =SUMIFS(Date!D:D,Date!A:A, A13) -> 76.822222
... A72: 43595 | B72: =SUMIFS(Date!D:D,Date!A:A, A72) -> 0

Sheet Date
A1: Forecast Start | B1: Forecast End | C1: Delta Date | D1: Hours
A2: 43533 | B2: 43533 | C2: 0 | D2: 1.5
A3: 43533 | B3: 43533 | C3: 0 | D3: 2.5
A4: 43550 | B4: 43551 | C4: 1 | D4: 8
A5: 43550 | B5: 43550 | C5: 0 | D5: 5.4
A6: 43551 | B6: 43551 | C6: 0 | D6: 6
A7: 43551 | B7: 43551 | C7: 0 | D7: 5
A8: 43569 | B8: 43569 | C8: 0 | D8: 1
A9: 43565 | B9: 43565 | C9: 0 | D9: 2.2
A10: 43555 | B10: 43555 | C10: 0 | D10: 1
A11: 43570 | B11: 43570 | C11: 0 | D11: 1
A12: 43555 | B12: 43555 | C12: 0 | D12: 1
A13: 43555 | B13: 43555 | C13: 0 | D13: 1
... A317: 43563 | B317: 43563 | C317: 0 | D317: 1
A318: Cancel | B318: #VALUE! | C318: 0 | D318: 0
A319: 43531 | B319: 43531 | C319: 0 | D319: 5.5
A320: 43556 | B320: 43556 | C320: 0 | D320: 1
A321: 43559 | B321: 43559 | C321: 0 | D321: 4
A322: 43564 | B322: 43564 | C322: 0 | D322: 4
A323: 43564 | B323: 43564 | C323: 0 | D323: 4
A324: 43578 | B324: 43578 | C324: 0 | D324: 4
