Workbook

Sheet 1
A1: matos1 | B1: matos2 | C1: matos3 | D1: matos4 | F1: Taxe | G1: 40848
A2: 2 | B2: 4 | C2: 6 | D2: 8 | E2: ht | F2: 2
A3: =A2+F2 -> 4 | B3: =B2+F2 -> 6 | C3: =C2+F2 -> 8 | D3: =D2+F2 -> 10 | E3: ttc
A5: Quant | B5: matos | C5: MP | D5: total | E5: Détail crédits clients
A6: 1 | B6: matos1 | C6: Client1 | D6: =(A6*IF(B6="matos1",$A$2))+(A6*IF(B6="matos2",$B$2))+(A6*IF(B6="matos3",$C$2))+(A6*IF(B6="matos4",$D$2)) -> 2 | E6: Nom | G6: matos 1-3 | H6: Payé matos 1-3 | I6: MP | J6: Total | K6: matos 2-4 | L6: Payé matos 2-4 | M6: MP | N6: Total SD
A7: 1 | B7: matos2 | C7: Client2 | D7: =(A7*IF(B7="matos1",$A$2))+(A7*IF(B7="matos2",$B$2))+(A7*IF(B7="matos3",$C$2))+(A7*IF(B7="matos4",$D$2)) -> 4 | E7: Client1 | G7: =(SUMIFS(D6:D28,C6:C28,$E7,B6:B28,"=matos1"))+(SUMIFS(D6:D28,C6:C28,$E7,B6:B28,"=matos3")) -> 152 | J7: =G7-H7 -> 152 | K7: =(SUMIFS(D6:D28,C6:C28,$E7,B6:B28,"=matos2"))+(SUMIFS(D6:D28,C6:C28,$E7,B6:B28,"=matos4")) -> 440 | L7: 506.61 | M7: CB | N7: =K7-L7 -> -66.61
A8: 3 | B8: matos1 | C8: Client1 | D8: =(A8*IF(B8="matos1",$A$2))+(A8*IF(B8="matos2",$B$2))+(A8*IF(B8="matos3",$C$2))+(A8*IF(B8="matos4",$D$2)) -> 6 | E8: Client2 | G8: =(SUMIFS(D7:D28,C7:C28,$E8,B7:B28,"=matos1"))+(SUMIFS(D7:D28,C7:C28,$E8,B7:B28,"=matos3")) -> 120 | J8: =G8-H8 -> 120 | K8: =(SUMIFS(D7:D28,C7:C28,$E8,B7:B28,"=matos2"))+(SUMIFS(D7:D28,C7:C28,$E8,B7:B28,"=matos4")) -> 140 | N8: =K8-L8 -> 140
A9: 5 | B9: matos4 | C9: Client4 | D9: =(A9*IF(B9="matos1",$A$2))+(A9*IF(B9="matos2",$B$2))+(A9*IF(B9="matos3",$C$2))+(A9*IF(B9="matos4",$D$2)) -> 40 | E9: Client3 | G9: =(SUMIFS(D8:D28,C8:C28,$E9,B8:B28,"=matos1"))+(SUMIFS(D8:D28,C8:C28,$E9,B8:B28,"=matos3")) -> 108 | H9: 100 | I9: CHQ | J9: =G9-H9 -> 8 | K9: =(SUMIFS(D8:D28,C8:C28,$E9,B8:B28,"=matos2"))+(SUMIFS(D8:D28,C8:C28,$E9,B8:B28,"=matos4")) -> 0 | N9: =K9-L9 -> 0
A10: 6 | B10: matos1 | C10: CB | D10: =(A10*IF(B10="matos1",$A$2))+(A10*IF(B10="matos2",$B$2))+(A10*IF(B10="matos3",$C$2))+(A10*IF(B10="matos4",$D$2)) -> 12 | E10: Client4 | G10: =(SUMIFS(D9:D28,C9:C28,$E10,B9:B28,"=matos1"))+(SUMIFS(D9:D28,C9:C28,$E10,B9:B28,"=matos3")) -> 44 | J10: =G10-H10 -> 44 | K10: =(SUMIFS(D9:D28,C9:C28,$E10,B9:B28,"=matos2"))+(SUMIFS(D9:D28,C9:C28,$E10,B9:B28,"=matos4")) -> 40 | N10: =K10-L10 -> 40
A11: 7 | B11: matos2 | C11: Client6 | D11: =(A11*IF(B11="matos1",$A$2))+(A11*IF(B11="matos2",$B$2))+(A11*IF(B11="matos3",$C$2))+(A11*IF(B11="matos4",$D$2)) -> 28 | E11: Client5 | G11: =(SUMIFS(D10:D28,C10:C28,$E11,B10:B28,"=matos1"))+(SUMIFS(D10:D28,C10:C28,$E11,B10:B28,"=matos3")) -> 0 | J11: =G11-H11 -> 0 | K11: =(SUMIFS(D10:D28,C10:C28,$E11,B10:B28,"=matos2"))+(SUMIFS(D10:D28,C10:C28,$E11,B10:B28,"=matos4")) -> 104 | N11: =K11-L11 -> 104
A12: 1 | B12: matos3 | C12: ESP | D12: =(A12*IF(B12="matos1",$A$2))+(A12*IF(B12="matos2",$B$2))+(A12*IF(B12="matos3",$C$2))+(A12*IF(B12="matos4",$D$2)) -> 6 | E12: Client6 | G12: =(SUMIFS(D11:D28,C11:C28,$E12,B11:B28,"=matos1"))+(SUMIFS(D11:D28,C11:C28,$E12,B11:B28,"=matos3")) -> 0 | J12: =G12-H12 -> 0 | K12: =(SUMIFS(D11:D28,C11:C28,$E12,B11:B28,"=matos2"))+(SUMIFS(D11:D28,C11:C28,$E12,B11:B28,"=matos4")) -> 36 | N12: =K12-L12 -> 36
A13: 1 | B13: matos4 | C13: Client6 | D13: =(A13*IF(B13="matos1",$A$2))+(A13*IF(B13="matos2",$B$2))+(A13*IF(B13="matos3",$C$2))+(A13*IF(B13="matos4",$D$2)) -> 8 | E13: Client7 | G13: =(SUMIFS(D12:D28,C12:C28,$E13,B12:B28,"=matos1"))+(SUMIFS(D12:D28,C12:C28,$E13,B12:B28,"=matos3")) -> 0 | J13: =G13-H13 -> 0 | K13: =(SUMIFS(D12:D28,C12:C28,$E13,B12:B28,"=matos2"))+(SUMIFS(D12:D28,C12:C28,$E13,B12:B28,"=matos4")) -> 0 | N13: =K13-L13 -> 0
A14: 10 | B14: matos1 | C14: Client8 | D14: =(A14*IF(B14="matos1",$A$2))+(A14*IF(B14="matos2",$B$2))+(A14*IF(B14="matos3",$C$2))+(A14*IF(B14="matos4",$D$2)) -> 20 | E14: Client8 | G14: =(SUMIFS(D13:D28,C13:C28,$E14,B13:B28,"=matos1"))+(SUMIFS(D13:D28,C13:C28,$E14,B13:B28,"=matos3")) -> 20 | J14: =G14-H14 -> 20 | K14: =(SUMIFS(D13:D28,C13:C28,$E14,B13:B28,"=matos2"))+(SUMIFS(D13:D28,C13:C28,$E14,B13:B28,"=matos4")) -> 0 | N14: =K14-L14 -> 0
A15: 11 | B15: matos2 | C15: Client1 | D15: =(A15*IF(B15="matos1",$A$2))+(A15*IF(B15="matos2",$B$2))+(A15*IF(B15="matos3",$C$2))+(A15*IF(B15="matos4",$D$2)) -> 44 | E15: Client9 | G15: =(SUMIFS(D14:D28,C14:C28,$E15,B14:B28,"=matos1"))+(SUMIFS(D14:D28,C14:C28,$E15,B14:B28,"=matos3")) -> 0 | J15: =G15-H15 -> 0 | K15: =(SUMIFS(D14:D28,C14:C28,$E15,B14:B28,"=matos2"))+(SUMIFS(D14:D28,C14:C28,$E15,B14:B28,"=matos4")) -> 0 | N15: =K15-L15 -> 0
A16: 12 | B16: matos3 | C16: Client3 | D16: =(A16*IF(B16="matos1",$A$2))+(A16*IF(B16="matos2",$B$2))+(A16*IF(B16="matos3",$C$2))+(A16*IF(B16="matos4",$D$2)) -> 72 | E16: Client10 | G16: =(SUMIFS(D15:D28,C15:C28,$E16,B15:B28,"=matos1"))+(SUMIFS(D15:D28,C15:C28,$E16,B15:B28,"=matos3")) -> 0 | J16: =G16-H16 -> 0 | K16: =(SUMIFS(D15:D28,C15:C28,$E16,B15:B28,"=matos2"))+(SUMIFS(D15:D28,C15:C28,$E16,B15:B28,"=matos4")) -> 0 | N16: =K16-L16 -> 0
A17: 13 | B17: matos4 | C17: Client5 | D17: =(A17*IF(B17="matos1",$A$2))+(A17*IF(B17="matos2",$B$2))+(A17*IF(B17="matos3",$C$2))+(A17*IF(B17="matos4",$D$2)) -> 104 | E17: CB
A18: 14 | B18: matos1 | C18: ESP | D18: =(A18*IF(B18="matos1",$A$2))+(A18*IF(B18="matos2",$B$2))+(A18*IF(B18="matos3",$C$2))+(A18*IF(B18="matos4",$D$2)) -> 28 | E18: CHQ
A19: 15 | B19: matos2 | C19: Client1 | D19: =(A19*IF(B19="matos1",$A$2))+(A19*IF(B19="matos2",$B$2))+(A19*IF(B19="matos3",$C$2))+(A19*IF(B19="matos4",$D$2)) -> 60 | E19: ESP
A20: 16 | B20: matos3 | C20: CHQ | D20: =(A20*IF(B20="matos1",$A$2))+(A20*IF(B20="matos2",$B$2))+(A20*IF(B20="matos3",$C$2))+(A20*IF(B20="matos4",$D$2)) -> 96
A21: 17 | B21: matos4 | C21: Client2 | D21: =(A21*IF(B21="matos1",$A$2))+(A21*IF(B21="matos2",$B$2))+(A21*IF(B21="matos3",$C$2))+(A21*IF(B21="matos4",$D$2)) -> 136
A22: 18 | B22: matos1 | C22: Client3 | D22: =(A22*IF(B22="matos1",$A$2))+(A22*IF(B22="matos2",$B$2))+(A22*IF(B22="matos3",$C$2))+(A22*IF(B22="matos4",$D$2)) -> 36
A23: 19 | B23: matos2 | C23: Client1 | D23: =(A23*IF(B23="matos1",$A$2))+(A23*IF(B23="matos2",$B$2))+(A23*IF(B23="matos3",$C$2))+(A23*IF(B23="matos4",$D$2)) -> 76
A24: 20 | B24: matos3 | C24: Client2 | D24: =(A24*IF(B24="matos1",$A$2))+(A24*IF(B24="matos2",$B$2))+(A24*IF(B24="matos3",$C$2))+(A24*IF(B24="matos4",$D$2)) -> 120
A25: 21 | B25: matos4 | C25: Client1 | D25: =(A25*IF(B25="matos1",$A$2))+(A25*IF(B25="matos2",$B$2))+(A25*IF(B25="matos3",$C$2))+(A25*IF(B25="matos4",$D$2)) -> 168
A26: 22 | B26: matos1 | C26: Client4 | D26: =(A26*IF(B26="matos1",$A$2))+(A26*IF(B26="matos2",$B$2))+(A26*IF(B26="matos3",$C$2))+(A26*IF(B26="matos4",$D$2)) -> 44
A27: 23 | B27: matos2 | C27: Client1 | D27: =(A27*IF(B27="matos1",$A$2))+(A27*IF(B27="matos2",$B$2))+(A27*IF(B27="matos3",$C$2))+(A27*IF(B27="matos4",$D$2)) -> 92
A28: 24 | B28: matos3 | C28: Client1 | D28: =(A28*IF(B28="matos1",$A$2))+(A28*IF(B28="matos2",$B$2))+(A28*IF(B28="matos3",$C$2))+(A28*IF(B28="matos4",$D$2)) -> 144

Sheet 2
A1: matos1 | B1: matos2 | C1: matos3 | D1: matos4 | F1: Taxe | G1: 40848
A2: 2 | B2: 4 | C2: 6 | D2: 8 | E2: ht | F2: 2
A3: =A2+F2 -> 4 | B3: =B2+F2 -> 6 | C3: =C2+F2 -> 8 | D3: =D2+F2 -> 10 | E3: ttc
A5: Quant | B5: matos | C5: MP | D5: total | E5: Détail crédits clients
D6: =(A6*IF(B6="matos1",$A$2))+(A6*IF(B6="matos2",$B$2))+(A6*IF(B6="matos3",$C$2))+(A6*IF(B6="matos4",$D$2)) -> 0 | E6: Nom | G6: matos 1-3 | H6: Payé matos 1-3 | I6: MP | J6: Total | K6: matos 2-4 | L6: Payé matos 2-4 | M6: MP | N6: Total SD
D7: =(A7*IF(B7="matos1",$A$2))+(A7*IF(B7="matos2",$B$2))+(A7*IF(B7="matos3",$C$2))+(A7*IF(B7="matos4",$D$2)) -> 0 | E7: Client1 | G7: =(SUMIFS(D6:D28,C6:C28,$E7,B6:B28,"=matos1"))+(SUMIFS(D6:D28,C6:C28,$E7,B6:B28,"=matos3")) -> 0 | J7: =G7-H7 -> 0 | K7: =(SUMIFS(D6:D28,C6:C28,$E7,B6:B28,"=matos2"))+(SUMIFS(D6:D28,C6:C28,$E7,B6:B28,"=matos4")) -> 0 | N7: =K7-L7 -> 0
D8: =(A8*IF(B8="matos1",$A$2))+(A8*IF(B8="matos2",$B$2))+(A8*IF(B8="matos3",$C$2))+(A8*IF(B8="matos4",$D$2)) -> 0 | E8: Client2 | G8: =(SUMIFS(D7:D28,C7:C28,$E8,B7:B28,"=matos1"))+(SUMIFS(D7:D28,C7:C28,$E8,B7:B28,"=matos3")) -> 0 | J8: =G8-H8 -> 0 | K8: =(SUMIFS(D7:D28,C7:C28,$E8,B7:B28,"=matos2"))+(SUMIFS(D7:D28,C7:C28,$E8,B7:B28,"=matos4")) -> 0 | N8: =K8-L8 -> 0
D9: =(A9*IF(B9="matos1",$A$2))+(A9*IF(B9="matos2",$B$2))+(A9*IF(B9="matos3",$C$2))+(A9*IF(B9="matos4",$D$2)) -> 0 | E9: Client3 | G9: =(SUMIFS(D8:D28,C8:C28,$E9,B8:B28,"=matos1"))+(SUMIFS(D8:D28,C8:C28,$E9,B8:B28,"=matos3")) -> 0 | J9: =G9-H9 -> 0 | K9: =(SUMIFS(D8:D28,C8:C28,$E9,B8:B28,"=matos2"))+(SUMIFS(D8:D28,C8:C28,$E9,B8:B28,"=matos4")) -> 0 | N9: =K9-L9 -> 0
D10: =(A10*IF(B10="matos1",$A$2))+(A10*IF(B10="matos2",$B$2))+(A10*IF(B10="matos3",$C$2))+(A10*IF(B10="matos4",$D$2)) -> 0 | E10: Client4 | G10: =(SUMIFS(D9:D28,C9:C28,$E10,B9:B28,"=matos1"))+(SUMIFS(D9:D28,C9:C28,$E10,B9:B28,"=matos3")) -> 0 | J10: =G10-H10 -> 0 | K10: =(SUMIFS(D9:D28,C9:C28,$E10,B9:B28,"=matos2"))+(SUMIFS(D9:D28,C9:C28,$E10,B9:B28,"=matos4")) -> 0 | N10: =K10-L10 -> 0
D11: =(A11*IF(B11="matos1",$A$2))+(A11*IF(B11="matos2",$B$2))+(A11*IF(B11="matos3",$C$2))+(A11*IF(B11="matos4",$D$2)) -> 0 | E11: Client5 | G11: =(SUMIFS(D10:D28,C10:C28,$E11,B10:B28,"=matos1"))+(SUMIFS(D10:D28,C10:C28,$E11,B10:B28,"=matos3")) -> 0 | J11: =G11-H11 -> 0 | K11: =(SUMIFS(D10:D28,C10:C28,$E11,B10:B28,"=matos2"))+(SUMIFS(D10:D28,C10:C28,$E11,B10:B28,"=matos4")) -> 0 | N11: =K11-L11 -> 0
D12: =(A12*IF(B12="matos1",$A$2))+(A12*IF(B12="matos2",$B$2))+(A12*IF(B12="matos3",$C$2))+(A12*IF(B12="matos4",$D$2)) -> 0 | E12: Client6 | G12: =(SUMIFS(D11:D28,C11:C28,$E12,B11:B28,"=matos1"))+(SUMIFS(D11:D28,C11:C28,$E12,B11:B28,"=matos3")) -> 0 | J12: =G12-H12 -> 0 | K12: =(SUMIFS(D11:D28,C11:C28,$E12,B11:B28,"=matos2"))+(SUMIFS(D11:D28,C11:C28,$E12,B11:B28,"=matos4")) -> 0 | N12: =K12-L12 -> 0
D13: =(A13*IF(B13="matos1",$A$2))+(A13*IF(B13="matos2",$B$2))+(A13*IF(B13="matos3",$C$2))+(A13*IF(B13="matos4",$D$2)) -> 0 | E13: Client7 | G13: =(SUMIFS(D12:D28,C12:C28,$E13,B12:B28,"=matos1"))+(SUMIFS(D12:D28,C12:C28,$E13,B12:B28,"=matos3")) -> 0 | J13: =G13-H13 -> 0 | K13: =(SUMIFS(D12:D28,C12:C28,$E13,B12:B28,"=matos2"))+(SUMIFS(D12:D28,C12:C28,$E13,B12:B28,"=matos4")) -> 0 | N13: =K13-L13 -> 0
D14: =(A14*IF(B14="matos1",$A$2))+(A14*IF(B14="matos2",$B$2))+(A14*IF(B14="matos3",$C$2))+(A14*IF(B14="matos4",$D$2)) -> 0 | E14: Client8 | G14: =(SUMIFS(D13:D28,C13:C28,$E14,B13:B28,"=matos1"))+(SUMIFS(D13:D28,C13:C28,$E14,B13:B28,"=matos3")) -> 0 | J14: =G14-H14 -> 0 | K14: =(SUMIFS(D13:D28,C13:C28,$E14,B13:B28,"=matos2"))+(SUMIFS(D13:D28,C13:C28,$E14,B13:B28,"=matos4")) -> 0 | N14: =K14-L14 -> 0
D15: =(A15*IF(B15="matos1",$A$2))+(A15*IF(B15="matos2",$B$2))+(A15*IF(B15="matos3",$C$2))+(A15*IF(B15="matos4",$D$2)) -> 0 | E15: Client9 | G15: =(SUMIFS(D14:D28,C14:C28,$E15,B14:B28,"=matos1"))+(SUMIFS(D14:D28,C14:C28,$E15,B14:B28,"=matos3")) -> 0 | J15: =G15-H15 -> 0 | K15: =(SUMIFS(D14:D28,C14:C28,$E15,B14:B28,"=matos2"))+(SUMIFS(D14:D28,C14:C28,$E15,B14:B28,"=matos4")) -> 0 | N15: =K15-L15 -> 0
D16: =(A16*IF(B16="matos1",$A$2))+(A16*IF(B16="matos2",$B$2))+(A16*IF(B16="matos3",$C$2))+(A16*IF(B16="matos4",$D$2)) -> 0 | E16: Client10 | G16: =(SUMIFS(D15:D28,C15:C28,$E16,B15:B28,"=matos1"))+(SUMIFS(D15:D28,C15:C28,$E16,B15:B28,"=matos3")) -> 0 | J16: =G16-H16 -> 0 | K16: =(SUMIFS(D15:D28,C15:C28,$E16,B15:B28,"=matos2"))+(SUMIFS(D15:D28,C15:C28,$E16,B15:B28,"=matos4")) -> 0 | N16: =K16-L16 -> 0
D17: =(A17*IF(B17="matos1",$A$2))+(A17*IF(B17="matos2",$B$2))+(A17*IF(B17="matos3",$C$2))+(A17*IF(B17="matos4",$D$2)) -> 0 | E17: CB
D18: =(A18*IF(B18="matos1",$A$2))+(A18*IF(B18="matos2",$B$2))+(A18*IF(B18="matos3",$C$2))+(A18*IF(B18="matos4",$D$2)) -> 0 | E18: CHQ
D19: =(A19*IF(B19="matos1",$A$2))+(A19*IF(B19="matos2",$B$2))+(A19*IF(B19="matos3",$C$2))+(A19*IF(B19="matos4",$D$2)) -> 0 | E19: ESP
D20: =(A20*IF(B20="matos1",$A$2))+(A20*IF(B20="matos2",$B$2))+(A20*IF(B20="matos3",$C$2))+(A20*IF(B20="matos4",$D$2)) -> 0
D21: =(A21*IF(B21="matos1",$A$2))+(A21*IF(B21="matos2",$B$2))+(A21*IF(B21="matos3",$C$2))+(A21*IF(B21="matos4",$D$2)) -> 0
D22: =(A22*IF(B22="matos1",$A$2))+(A22*IF(B22="matos2",$B$2))+(A22*IF(B22="matos3",$C$2))+(A22*IF(B22="matos4",$D$2)) -> 0
D23: =(A23*IF(B23="matos1",$A$2))+(A23*IF(B23="matos2",$B$2))+(A23*IF(B23="matos3",$C$2))+(A23*IF(B23="matos4",$D$2)) -> 0
D24: =(A24*IF(B24="matos1",$A$2))+(A24*IF(B24="matos2",$B$2))+(A24*IF(B24="matos3",$C$2))+(A24*IF(B24="matos4",$D$2)) -> 0
D25: =(A25*IF(B25="matos1",$A$2))+(A25*IF(B25="matos2",$B$2))+(A25*IF(B25="matos3",$C$2))+(A25*IF(B25="matos4",$D$2)) -> 0
D26: =(A26*IF(B26="matos1",$A$2))+(A26*IF(B26="matos2",$B$2))+(A26*IF(B26="matos3",$C$2))+(A26*IF(B26="matos4",$D$2)) -> 0
D27: =(A27*IF(B27="matos1",$A$2))+(A27*IF(B27="matos2",$B$2))+(A27*IF(B27="matos3",$C$2))+(A27*IF(B27="matos4",$D$2)) -> 0
D28: =(A28*IF(B28="matos1",$A$2))+(A28*IF(B28="matos2",$B$2))+(A28*IF(B28="matos3",$C$2))+(A28*IF(B28="matos4",$D$2)) -> 0

Sheet recap client 1
B2: Date | C2: Quantités | D2: matos | E2: debit | F2: credit | G2: cumul | H2: mois der
B3: =IF('1'!L7>0,'1'!$G$1," ") -> 40848 | F3: =IF('1'!L7>0,'1'!L7," ") -> 506.61 | G3: =H3-E3+F3 -> -343.39 | H3: -850
B4: =IF('1'!$C6="Alpana",'1'!$G$1," ") | C4: =IF('1'!$C6="Alpana",'1'!A6," ") | D4: =IF('1'!$C6="Alpana",'1'!B6," ") | G4: =G3-E4+F4 -> -343.39
B5: =IF('1'!$C7="Alpana",'1'!$G$1," ") | C5: =IF('1'!$C7="Alpana",'1'!A7," ") | D5: =IF('1'!$C7="Alpana",'1'!B7," ") | G5: =G4-E5+F5 -> -343.39 | I5: Dans cette feuille je reporte les uns après les autres les achats du client1 en indiquant la date, quantité, type de matériel acheté, le cumul du débit et crédit sans distinguer matos 1-3 et 2-4.
B6: =IF('1'!$C8="Alpana",'1'!$G$1," ") | C6: =IF('1'!$C8="Alpana",'1'!A8," ") | D6: =IF('1'!$C8="Alpana",'1'!B8," ") | G6: =G5-E6+F6 -> -343.39
B7: =IF('1'!$C9="Alpana",'1'!$G$1," ") | C7: =IF('1'!$C9="Alpana",'1'!A9," ") | D7: =IF('1'!$C9="Alpana",'1'!B9," ") | G7: =G6-E7+F7 -> -343.39
B8: =IF('1'!$C10="Alpana",'1'!$G$1," ") | C8: =IF('1'!$C10="Alpana",'1'!A10," ") | D8: =IF('1'!$C10="Alpana",'1'!B10," ") | G8: =G7-E8+F8 -> -343.39 | I8: Je voudrais aussi reporter a la suite la même chose de la feuille 2 et ainsi de suite (au final il y a 31 onglets pour les jours du mois et cette feuille me sert a facture mon client)
B9: =IF('1'!$C11="Alpana",'1'!$G$1," ") | C9: =IF('1'!$C11="Alpana",'1'!A11," ") | D9: =IF('1'!$C11="Alpana",'1'!B11," ") | G9: =G8-E9+F9 -> -343.39
B10: =IF('1'!$C12="Alpana",'1'!$G$1," ") | C10: =IF('1'!$C12="Alpana",'1'!A12," ") | D10: =IF('1'!$C12="Alpana",'1'!B12," ") | G10: =G9-E10+F10 -> -343.39
B11: =IF('1'!$C13="Alpana",'1'!$G$1," ") | C11: =IF('1'!$C13="Alpana",'1'!A13," ") | D11: =IF('1'!$C13="Alpana",'1'!B13," ") | G11: =G10-E11+F11 -> -343.39 | I11: J'ai pensé a une macro pour trier, reporter la totalité des lignes de chaque onglet jour en fonction du nom du client de chaque feuille, mais j'ai au moins 250 lignes + une cinquantaine de lignes client, donc y a-t-il une solution plus simple ?
B12: =IF('1'!$C14="Alpana",'1'!$G$1," ") | C12: =IF('1'!$C14="Alpana",'1'!A14," ") | D12: =IF('1'!$C14="Alpana",'1'!B14," ") | G12: =G11-E12+F12 -> -343.39
B13: =IF('1'!$C15="Alpana",'1'!$G$1," ") | C13: =IF('1'!$C15="Alpana",'1'!A15," ") | D13: =IF('1'!$C15="Alpana",'1'!B15," ") | G13: =G12-E13+F13 -> -343.39
B14: =IF('1'!$C16="Alpana",'1'!$G$1," ") | C14: =IF('1'!$C16="Alpana",'1'!A16," ") | D14: =IF('1'!$C16="Alpana",'1'!B16," ") | G14: =G13-E14+F14 -> -343.39
B15: =IF('1'!$C17="Alpana",'1'!$G$1," ") | C15: =IF('1'!$C17="Alpana",'1'!A17," ") | D15: =IF('1'!$C17="Alpana",'1'!B17," ") | G15: =G14-E15+F15 -> -343.39
B16: =IF('1'!$C18="Alpana",'1'!$G$1," ") | C16: =IF('1'!$C18="Alpana",'1'!A18," ") | D16: =IF('1'!$C18="Alpana",'1'!B18," ") | G16: =G15-E16+F16 -> -343.39
B17: =IF('1'!$C19="Alpana",'1'!$G$1," ") | C17: =IF('1'!$C19="Alpana",'1'!A19," ") | D17: =IF('1'!$C19="Alpana",'1'!B19," ") | G17: =G16-E17+F17 -> -343.39
B18: =IF('1'!$C20="Alpana",'1'!$G$1," ") | C18: =IF('1'!$C20="Alpana",'1'!A20," ") | D18: =IF('1'!$C20="Alpana",'1'!B20," ") | G18: =G17-E18+F18 -> -343.39
B19: =IF('1'!$C21="Alpana",'1'!$G$1," ") | C19: =IF('1'!$C21="Alpana",'1'!A21," ") | D19: =IF('1'!$C21="Alpana",'1'!B21," ") | G19: =G18-E19+F19 -> -343.39
B20: =IF('1'!$C22="Alpana",'1'!$G$1," ") | C20: =IF('1'!$C22="Alpana",'1'!A22," ") | D20: =IF('1'!$C22="Alpana",'1'!B22," ") | G20: =G19-E20+F20 -> -343.39
B21: =IF('1'!$C23="Alpana",'1'!$G$1," ") | C21: =IF('1'!$C23="Alpana",'1'!A23," ") | D21: =IF('1'!$C23="Alpana",'1'!B23," ") | G21: =G20-E21+F21 -> -343.39
B22: =IF('1'!$C24="Alpana",'1'!$G$1," ") | C22: =IF('1'!$C24="Alpana",'1'!A24," ") | D22: =IF('1'!$C24="Alpana",'1'!B24," ") | G22: =G21-E22+F22 -> -343.39
B23: =IF('1'!$C25="Alpana",'1'!$G$1," ") | C23: =IF('1'!$C25="Alpana",'1'!A25," ") | D23: =IF('1'!$C25="Alpana",'1'!B25," ") | G23: =G22-E23+F23 -> -343.39
... B26: =IF('1'!$C28="Alpana",'1'!$G$1," ") | C26: =IF('1'!$C28="Alpana",'1'!A28," ") | D26: =IF('1'!$C28="Alpana",'1'!B28," ") | G26: =G25-E26+F26 -> -343.39
