Workbook

Sheet Coefficients
B1: Equipes | C1: 2014 | D1: 2015 | E1: 2016 | F1: 2017 | G1: 2018 | H1: TOTAL
A2: 1 | B2: Allemagne | C2: 1 | H2: =SUM($C$2,$G$2) -> 1 | J2: Participation à la phase de groupes : 4 points
A3: 2 | B3: Argentine | C3: 2 | H3: =SUM($C$3,$G$3) -> 2 | J3: Victoire dans la phase de groupes : 2 points
A4: 3 | B4: Pays-Bas | C4: 3 | H4: =SUM($C$4,$G$4) -> 3 | J4: Match nul dans la phase de groupes : 1 point
A5: 4 | B5: Colombie | C5: 4 | H5: =SUM($C$5,$G$5) -> 4 | J5: Participations aux 8es de finale : 5 points | N5: Victoire en 8e de finale : 2 points
A6: 5 | B6: Belgique | C6: 5 | H6: =SUM($C$6,$G$6) -> 5 | J6: Participations aux 1/4 de finale : 1 point | N6: Victoire en 1/4 de finale : 2 points
A7: 6 | B7: Uruguay | C7: 6 | H7: =SUM($C$7,$G$7) -> 6 | J7: Participations aux 1/2 finale : 1 point | N7: Victoire en 1/2 finale : 2 points
A8: 7 | B8: Brésil | C8: 7 | H8: =SUM($C$8,$G$8) -> 7 | J8: Participations à la finale : 1 point | N8: Victoire en finale : 2 points
A9: 8 | B9: Espagne | C9: 8 | H9: =SUM($C$9,$G$9) -> 8
A10: 9 | B10: Suisse | C10: 9 | H10: =SUM($C$10,$G$10) -> 9 | J10: Qualification du tenant du titre en chapeau 1
A11: 10 | B11: France | C11: 10 | H11: =SUM($C$11,$G$11) -> 10
A12: 11 | B12: Portugal | C12: 11 | H12: =SUM($C$12,$G$12) -> 11
A13: 12 | B13: Chili | C13: 12 | H13: =SUM($C$13,$G$13) -> 12 | J13: Le coefficient d'un club est déterminé par la somme de tous les points remportés sur les cinq dernières années,
A14: 13 | B14: Grèce | C14: 13 | H14: =SUM($C$14,$G$14) -> 13 | J14: plus 20% du coefficient de l'association sur la même période (33% avant 2009).
A15: 14 | B15: Italie | C15: 14 | H15: =SUM($C$15,$G$15) -> 14
A16: 15 | B16: Etats-Unis | C16: 15 | H16: =SUM($C$16,$G$16) -> 15
A17: 16 | B17: Costa Rica | C17: 16 | H17: =SUM($C$17,$G$17) -> 16 | J17: 10 | K17: Sélections internationales
A18: 17 | B18: Croatie | C18: 17 | H18: =SUM($C$18,$G$18) -> 17 | J18: 4 | K18: Clubs espagnols
A19: 18 | B19: Mexique | C19: 18 | H19: =SUM($C$19,$G$19) -> 18 | J19: 4 | K19: Clubs anglais
A20: 19 | B20: Bosnie | C20: 19 | H20: =SUM($C$20,$G$20) -> 19 | J20: 3 | K20: Clubs italiens | N20: répartition à réévaluer au fur et à mesure
A21: 20 | B21: Angleterre | C21: 20 | H21: =SUM($C$21,$G$21) -> 20 | J21: 3 | K21: Clubs allemands
A22: 21 | B22: Suède | C22: 21 | H22: =SUM($C$22,$G$22) -> 21 | J22: 3 | K22: Clubs français
A23: 22 | B23: Russie | C23: 22 | H23: =SUM($C$23,$G$23) -> 22 | J23: 5 | K23: Clubs "autres"
A24: 23 | B24: FC Bayern Munich | C24: 23 | H24: =SUM($C$24,$G$24) -> 23
A25: 24 | B25: Borussia Dortmund | C25: 24 | H25: =SUM($C$25,$G$25) -> 24
A26: 25 | B26: Hambourg SV | C26: 25 | H26: =SUM($C$26,$G$26) -> 25
A27: 26 | B27: FC Schalke 04 | C27: 26 | H27: =SUM($C$27,$G$27) -> 26
A28: 27 | B28: Bayer 04 Leverkusen | C28: 27 | H28: =SUM($C$28,$G$28) -> 27
A29: 28 | B29: Hanovre 96 | C29: 28 | H29: =SUM($C$29,$G$29) -> 28
A30: 29 | B30: VfB Stuttgart | C30: 29 | H30: =SUM($C$30,$G$30) -> 29
A31: 30 | B31: VfL Wolfsburg | C31: 30 | H31: =SUM($C$31,$G$31) -> 30
A32: 31 | B32: Borussia Mönchengladbach | C32: 31 | H32: =SUM($C$32,$G$32) -> 31
A33: 32 | B33: FSV Mayence 05 | C33: 32 | H33: =SUM($C$33,$G$33) -> 32
A34: 33 | B34: Arsenal | C34: 33 | H34: =SUM($C$34,$G$34) -> 33
A35: 34 | B35: Chelsea | C35: 34 | H35: =SUM($C$35,$G$35) -> 34
A36: 35 | B36: Liverpool | C36: 35 | H36: =SUM($C$36,$G$36) -> 35
A37: 36 | B37: Manchester City | C37: 36 | H37: =SUM($C$37,$G$37) -> 36
A38: 37 | B38: Manchester United | C38: 37 | H38: =SUM($C$38,$G$38) -> 37
A39: 38 | B39: Tottenham Hotspur | C39: 38 | H39: =SUM($C$39,$G$39) -> 38
A40: 39 | B40: Everton | C40: 39 | H40: =SUM($C$40,$G$40) -> 39
A41: 40 | B41: Club Atlético de Madrid | C41: 40 | H41: =SUM($C$41,$G$41) -> 40
A42: 41 | B42: FC Barcelone | C42: 41 | H42: =SUM($C$42,$G$42) -> 41
A43: 42 | B43: FC Seville | C43: 42 | H43: =SUM($C$43,$G$43) -> 42
A44: 43 | B44: Real Madrid | C44: 43 | H44: =SUM($C$44,$G$44) -> 43
A45: 44 | B45: Valence CF | C45: 44 | H45: =SUM($C$45,$G$45) -> 44
A46: 45 | B46: Athletic Club Bilbao | C46: 45 | H46: =SUM($C$46,$G$46) -> 45
A47: 46 | B47: Villareal | C47: 46 | H47: =SUM($C$47,$G$47) -> 46
A48: 47 | B48: Real Sociedad | C48: 47 | H48: =SUM($C$48,$G$48) -> 47
A49: 48 | B49: Malaga CF | C49: 48 | H49: =SUM($C$49,$G$49) -> 48
A50: 49 | B50: AS Monaco | C50: 49 | H50: =SUM($C$50,$G$50) -> 49
A51: 50 | B51: Lille OSC | C51: 50 | H51: =SUM($C$51,$G$51) -> 50
A52: 51 | B52: Olympique de Marseille | C52: 51 | H52: =SUM($C$52,$G$52) -> 51
A53: 52 | B53: Olympique Lyonnais | C53: 52 | H53: =SUM($C$53,$G$53) -> 52
A54: 53 | B54: Paris SG | C54: 53 | H54: =SUM($C$54,$G$54) -> 53
A55: 54 | B55: AS Rome | C55: 54 | H55: =SUM($C$55,$G$55) -> 54
A56: 55 | B56: ACF Fiorentina | C56: 55 | H56: =SUM($C$56,$G$56) -> 55
A57: 56 | B57: Inter Milan | C57: 56 | H57: =SUM($C$57,$G$57) -> 56
A58: 57 | B58: Juventus Turin | C58: 57 | H58: =SUM($C$58,$G$58) -> 57
A59: 58 | B59: Milan AC | C59: 58 | H59: =SUM($C$59,$G$59) -> 58
A60: 59 | B60: SSC Naples | C60: 59 | H60: =SUM($C$60,$G$60) -> 59
A61: 60 | B61: SS Lazio | C61: 60 | H61: =SUM($C$61,$G$61) -> 60
A62: 61 | B62: SL Benfica | C62: 61 | H62: =SUM($C$62,$G$62) -> 61
A63: 62 | B63: FC Porto | C63: 62 | H63: =SUM($C$63,$G$63) -> 62
A64: 63 | B64: Sporting Club de Portugal | C64: 63 | H64: =SUM($C$64,$G$64) -> 63
A65: 64 | B65: Galatasaray SK | C65: 64 | H65: =SUM($C$65,$G$65) -> 64
A66: 65 | B66: Fenerbhaçe | C66: 65 | H66: =SUM($C$66,$G$66) -> 65
A67: 66 | B67: Sao Paulo | C67: 66 | H67: =SUM($C$67,$G$67) -> 66
A68: 67 | B68: Flamengo | C68: 67 | H68: =SUM($C$68,$G$68) -> 67
A69: 68 | B69: Atlético Mineiro | C69: 68 | H69: =SUM($C$69,$G$69) -> 68
A70: 69 | B70: Auckland City FC | C70: 69 | H70: =SUM($C$70,$G$70) -> 69
A71: 70 | B71: SC Corinthians | C71: 70 | H71: =SUM($C$71,$G$71) -> 70
A72: 71 | B72: CF Monterrey | C72: 71 | H72: =SUM($C$72,$G$72) -> 71
A73: 72 | B73: Santos | C73: 72 | H73: =SUM($C$73,$G$73) -> 72
A74: 73 | B74: Estudiantes | C74: 73 | H74: =SUM($C$74,$G$74) -> 73
A75: 74 | B75: River Plate | C75: 74 | H75: =SUM($C$75,$G$75) -> 74
A76: 75 | B76: Boca Junior | C76: 75 | H76: =SUM($C$76,$G$76) -> 75
A77: 76 | B77: FC Basel 1893 | C77: 76 | H77: =SUM($C$77,$G$77) -> 76
A78: 77 | B78: FC Zénit Saint-Petersbourg | C78: 77 | H78: =SUM($C$78,$G$78) -> 77
A79: 78 | B79: FC Shaktar Donesk | C79: 78 | H79: =SUM($C$79,$G$79) -> 78
A80: 79 | B80: FC Rubin Kazan | C80: 79 | H80: =SUM($C$80,$G$80) -> 79
A81: 80 | B81: Ajax Amsterdam | C81: 80 | H81: =SUM($C$81,$G$81) -> 80
A82: 81 | B82: Olympiacos FC | C82: 81 | H82: =SUM($C$82,$G$82) -> 81
A83: 82 | B83: PSV Eindhoven | C83: 82 | H83: =SUM($C$83,$G$83) -> 82
A84: 83 | B84: SC Braga | C84: 83 | H84: =SUM($C$84,$G$84) -> 83
A85: 84 | B85: CSKA Moscou | C85: 84 | H85: =SUM($C$85,$G$85) -> 84
A86: 85 | B86: FC Dynamo Kyiv | C86: 85 | H86: =SUM($C$86,$G$86) -> 85
A87: 86 | B87: AZ Alkmaar | C87: 86 | H87: =SUM($C$87,$G$87) -> 86
A88: 87 | B88: FC Twente | C88: 87 | H88: =SUM($C$88,$G$88) -> 87
A89: 88 | B89: FC Metalist Kharkiv | C89: 88 | H89: =SUM($C$89,$G$89) -> 88
A90: 89 | B90: FC Viktoria Plzen | C90: 89 | H90: =SUM($C$90,$G$90) -> 89
A91: 90 | B91: RSC Anderlecht | C91: 90 | H91: =SUM($C$91,$G$91) -> 90
A92: 91 | B92: Spartak Moscou | C92: 91 | H92: =SUM($C$92,$G$92) -> 91
A93: 92 | B93: KRC Genk | C93: 92 | H93: =SUM($C$93,$G$93) -> 92
A94: 93 | B94: Celtic Glasgow | C94: 93 | H94: =SUM($C$94,$G$94) -> 93
A95: 94 | B95: FC Bâle | C95: 94 | H95: =SUM($C$95,$G$95) -> 94
H96: =SUM($C$96,$G$96) -> 0
H97: =SUM($C$97,$G$97) -> 0
H98: =SUM($C$98,$G$98) -> 0
H99: =SUM($C$99,$G$99) -> 0
H100: =SUM($C$100,$G$100) -> 0
...

Sheet Têtes de Série
C1: Têtes de Série 1 | F1: Têtes de Séries 2 | I1: Têtes de Séries 3 | L1: Têtes de Séries 4 | N1: Equipes qualifiées | O1: Coef | P1: Rang | Q1: CLS
A2: =RAND() -> 0.70351967 | B2: =RANK(A2,$A$2:$A$9) -> 1 | C2: =IF(C2=0,"",C13) -> FC Bâle | D2: =RAND() -> 0.64349374 | E2: =RANK(D2,$D$2:$D$9) -> 1 | F2: =IF(INDEX(N2:N33,MATCH(Q10,P2:P33,0))=0,"",INDEX(N2:N33,MATCH(Q10,P2:P33,0))) -> Paris SG | G2: =RAND() -> 0.08754496 | H2: =RANK(G2,$G$2:$G$9) -> 8 | I2: =IF(INDEX(N2:N33,MATCH(Q18,P2:P33,0))=0,"",INDEX(N2:N33,MATCH(Q18,P2:P33,0))) -> Tottenham Hotspur | J2: =RAND() -> 0.16584894 | K2: =RANK(J2,$J$2:$J$9) -> 7 | L2: =IF(INDEX(N2:N33,MATCH(Q26,P2:P33,0))=0,"",INDEX(N2:N33,MATCH(Q26,P2:P33,0))) -> Angleterre | N2: =Equipes!U3 -> SS Lazio | O2: =Equipes!V3 -> 60 | P2: =RANK($O$2,$O$2:$O$33) -> 6 | Q2: 1
A3: =RAND() -> 0.57573921 | B3: =RANK(A3,$A$2:$A$9) -> 3 | C3: =IF(C3=C13,C4,INDEX(N2:N33,MATCH(Q2,P2:P33,0))) -> Celtic Glasgow | D3: =RAND() -> 0.45628911 | E3: =RANK(D3,$D$2:$D$9) -> 3 | F3: =IF(INDEX(N2:N33,MATCH(Q11,P2:P33,0))=0,"",INDEX(N2:N33,MATCH(Q11,P2:P33,0))) -> Olympique Lyonnais | G3: =RAND() -> 0.90924298 | H3: =RANK(G3,$G$2:$G$9) -> 2 | I3: =IF(INDEX(N2:N33,MATCH(Q19,P2:P33,0))=0,"",INDEX(N2:N33,MATCH(Q19,P2:P33,0))) -> Manchester United | J3: =RAND() -> 0.64217773 | K3: =RANK(J3,$J$2:$J$9) -> 4 | L3: =IF(INDEX(N2:N33,MATCH(Q27,P2:P33,0))=0,"",INDEX(N2:N33,MATCH(Q27,P2:P33,0))) -> Bosnie | N3: =Equipes!U4 -> SSC Naples | O3: =Equipes!V4 -> 59 | P3: =RANK($O$3,$O$2:$O$33) -> 7 | Q3: 2
A4: =RAND() -> 0.23796872 | B4: =RANK(A4,$A$2:$A$9) -> 7 | C4: =IF(C4=C13,C5,INDEX(N2:N33,MATCH(Q3,P2:P33,0))) -> Celtic Glasgow | D4: =RAND() -> 0.15013895 | E4: =RANK(D4,$D$2:$D$9) -> 6 | F4: =IF(INDEX(N2:N33,MATCH(Q12,P2:P33,0))=0,"",INDEX(N2:N33,MATCH(Q12,P2:P33,0))) -> Olympique de Marseille | G4: =RAND() -> 0.74110841 | H4: =RANK(G4,$G$2:$G$9) -> 3 | I4: =IF(INDEX(N2:N33,MATCH(Q20,P2:P33,0))=0,"",INDEX(N2:N33,MATCH(Q20,P2:P33,0))) -> Manchester City | J4: =RAND() -> 0.0061628476 | K4: =RANK(J4,$J$2:$J$9) -> 8 | L4: =IF(INDEX(N2:N33,MATCH(Q28,P2:P33,0))=0,"",INDEX(N2:N33,MATCH(Q28,P2:P33,0))) -> Mexique | N4: =Equipes!U5 -> Milan AC | O4: =Equipes!V5 -> 58 | P4: =RANK($O$4,$O$2:$O$33) -> 8 | Q4: 3
A5: =RAND() -> 0.66035964 | B5: =RANK(A5,$A$2:$A$9) -> 2 | C5: =IF(C5=C13,C6,INDEX(N2:N33,MATCH(Q4,P2:P33,0))) -> KRC Genk | D5: =RAND() -> 0.63352304 | E5: =RANK(D5,$D$2:$D$9) -> 2 | F5: =IF(INDEX(N2:N33,MATCH(Q13,P2:P33,0))=0,"",INDEX(N2:N33,MATCH(Q13,P2:P33,0))) -> Malaga CF | G5: =RAND() -> 0.5415864 | H5: =RANK(G5,$G$2:$G$9) -> 6 | I5: =IF(INDEX(N2:N33,MATCH(Q21,P2:P33,0))=0,"",INDEX(N2:N33,MATCH(Q21,P2:P33,0))) -> FSV Mayence 05 | J5: =RAND() -> 0.4195649 | K5: =RANK(J5,$J$2:$J$9) -> 5 | L5: =IF(INDEX(N2:N33,MATCH(Q29,P2:P33,0))=0,"",INDEX(N2:N33,MATCH(Q29,P2:P33,0))) -> Croatie | N5: =Equipes!U8 -> Paris SG | O5: =Equipes!V8 -> 53 | P5: =RANK($O$5,$O$2:$O$33) -> 9 | Q5: 4
A6: =RAND() -> 0.26284681 | B6: =RANK(A6,$A$2:$A$9) -> 5 | C6: =IF(C6=C13,C7,INDEX(N2:N33,MATCH(Q5,P2:P33,0))) -> Spartak Moscou | D6: =RAND() -> 0.10232609 | E6: =RANK(D6,$D$2:$D$9) -> 7 | F6: =IF(INDEX(N2:N33,MATCH(Q14,P2:P33,0))=0,"",INDEX(N2:N33,MATCH(Q14,P2:P33,0))) -> Real Sociedad | G6: =RAND() -> 0.73134143 | H6: =RANK(G6,$G$2:$G$9) -> 4 | I6: =IF(INDEX(N2:N33,MATCH(Q22,P2:P33,0))=0,"",INDEX(N2:N33,MATCH(Q22,P2:P33,0))) -> Borussia Mönchengladbach | J6: =RAND() -> 0.2788291 | K6: =RANK(J6,$J$2:$J$9) -> 6 | L6: =IF(INDEX(N2:N33,MATCH(Q30,P2:P33,0))=0,"",INDEX(N2:N33,MATCH(Q30,P2:P33,0))) -> Costa Rica | N6: =Equipes!U9 -> Olympique Lyonnais | O6: =Equipes!V9 -> 52 | P6: =RANK($O$6,$O$2:$O$33) -> 10 | Q6: 5
A7: =RAND() -> 0.30406576 | B7: =RANK(A7,$A$2:$A$9) -> 4 | C7: =IF(C7=C13,C8,INDEX(N2:N33,MATCH(Q6,P2:P33,0))) -> RSC Anderlecht | D7: =RAND() -> 0.44079169 | E7: =RANK(D7,$D$2:$D$9) -> 4 | F7: =IF(INDEX(N2:N33,MATCH(Q15,P2:P33,0))=0,"",INDEX(N2:N33,MATCH(Q15,P2:P33,0))) -> Villareal | G7: =RAND() -> 0.91767091 | H7: =RANK(G7,$G$2:$G$9) -> 1 | I7: =IF(INDEX(N2:N33,MATCH(Q23,P2:P33,0))=0,"",INDEX(N2:N33,MATCH(Q23,P2:P33,0))) -> VfL Wolfsburg | J7: =RAND() -> 0.72673213 | K7: =RANK(J7,$J$2:$J$9) -> 3 | L7: =IF(INDEX(N2:N33,MATCH(Q31,P2:P33,0))=0,"",INDEX(N2:N33,MATCH(Q31,P2:P33,0))) -> Etats-Unis | N7: =Equipes!U10 -> Olympique de Marseille | O7: =Equipes!V10 -> 51 | P7: =RANK($O$7,$O$2:$O$33) -> 11 | Q7: 6
A8: =RAND() -> 0.21860535 | B8: =RANK(A8,$A$2:$A$9) -> 8 | C8: =IF(C8=C13,C9,INDEX(N2:N33,MATCH(Q7,P2:P33,0))) -> SS Lazio | D8: =RAND() -> 0.076593158 | E8: =RANK(D8,$D$2:$D$9) -> 8 | F8: =IF(INDEX(N2:N33,MATCH(Q16,P2:P33,0))=0,"",INDEX(N2:N33,MATCH(Q16,P2:P33,0))) -> Athletic Club Bilbao | G8: =RAND() -> 0.64020541 | H8: =RANK(G8,$G$2:$G$9) -> 5 | I8: =IF(INDEX(N2:N33,MATCH(Q24,P2:P33,0))=0,"",INDEX(N2:N33,MATCH(Q24,P2:P33,0))) -> Russie | J8: =RAND() -> 0.98326005 | K8: =RANK(J8,$J$2:$J$9) -> 1 | L8: =IF(INDEX(N2:N33,MATCH(Q32,P2:P33,0))=0,"",INDEX(N2:N33,MATCH(Q32,P2:P33,0))) -> Italie | N8: =Equipes!Y3 -> Everton | O8: =Equipes!Z3 -> 39 | P8: =RANK($O$8,$O$2:$O$33) -> 16 | Q8: 7
A9: =RAND() -> 0.2396525 | B9: =RANK(A9,$A$2:$A$9) -> 6 | C9: =IF(C9=C13,F2,INDEX(N2:N33,MATCH(Q8,P2:P33,0))) -> SSC Naples | D9: =RAND() -> 0.39659269 | E9: =RANK(D9,$D$2:$D$9) -> 5 | F9: =IF(INDEX(N2:N33,MATCH(Q17,P2:P33,0))=0,"",INDEX(N2:N33,MATCH(Q17,P2:P33,0))) -> Everton | G9: =RAND() -> 0.27923805 | H9: =RANK(G9,$G$2:$G$9) -> 7 | I9: =IF(INDEX(N2:N33,MATCH(Q25,P2:P33,0))=0,"",INDEX(N2:N33,MATCH(Q25,P2:P33,0))) -> Suède | J9: =RAND() -> 0.92292016 | K9: =RANK(J9,$J$2:$J$9) -> 2 | L9: =IF(INDEX(N2:N33,MATCH(Q33,P2:P33,0))=0,"",INDEX(N2:N33,MATCH(Q33,P2:P33,0))) -> Grèce | N9: =Equipes!Y4 -> Tottenham Hotspur | O9: =Equipes!Z4 -> 38 | P9: =RANK($O$9,$O$2:$O$33) -> 17 | Q9: 8
N10: =Equipes!Y5 -> Manchester United | O10: =Equipes!Z5 -> 37 | P10: =RANK($O$10,$O$2:$O$33) -> 18 | Q10: 9
N11: =Equipes!Y6 -> Manchester City | O11: =Equipes!Z6 -> 36 | P11: =RANK($O$11,$O$2:$O$33) -> 19 | Q11: 10
N12: =Equipes!Y9 -> Malaga CF | O12: =Equipes!Z9 -> 48 | P12: =RANK($O$12,$O$2:$O$33) -> 12 | Q12: 11
A13: TENANT DU TITRE | C13: FC Bâle | N13: =Equipes!Y10 -> Real Sociedad | O13: =Equipes!Z10 -> 47 | P13: =RANK($O$13,$O$2:$O$33) -> 13 | Q13: 12
N14: =Equipes!Y11 -> Villareal | O14: =Equipes!Z11 -> 46 | P14: =RANK($O$14,$O$2:$O$33) -> 14 | Q14: 13
N15: =Equipes!Y12 -> Athletic Club Bilbao | O15: =Equipes!Z12 -> 45 | P15: =RANK($O$15,$O$2:$O$33) -> 15 | Q15: 14
N16: =Equipes!U13 -> FC Bâle | O16: =Equipes!V13 -> 94 | P16: =RANK($O$16,$O$2:$O$33) -> 1 | Q16: 15
N17: =Equipes!U14 -> Celtic Glasgow | O17: =Equipes!V14 -> 93 | P17: =RANK($O$17,$O$2:$O$33) -> 2 | Q17: 16
N18: =Equipes!U15 -> KRC Genk | O18: =Equipes!V15 -> 92 | P18: =RANK($O$18,$O$2:$O$33) -> 3 | Q18: 17
N19: =Equipes!U16 -> Spartak Moscou | O19: =Equipes!V16 -> 91 | P19: =RANK($O$19,$O$2:$O$33) -> 4 | Q19: 18
N20: =Equipes!U17 -> RSC Anderlecht | O20: =Equipes!V17 -> 90 | P20: =RANK($O$20,$O$2:$O$33) -> 5 | Q20: 19
N21: =Equipes!AC3 -> FSV Mayence 05 | O21: =Equipes!AD3 -> 32 | P21: =RANK($O$21,$O$2:$O$33) -> 20 | Q21: 20
N22: =Equipes!AC4 -> Borussia Mönchengladbach | O22: =Equipes!AD4 -> 31 | P22: =RANK($O$22,$O$2:$O$33) -> 21 | Q22: 21
N23: =Equipes!AC5 -> VfL Wolfsburg | O23: =Equipes!AD5 -> 30 | P23: =RANK($O$23,$O$2:$O$33) -> 22 | Q23: 22
N24: =Equipes!AC8 -> Russie | O24: =Equipes!AD8 -> 22 | P24: =RANK($O$24,$O$2:$O$33) -> 23 | Q24: 23
N25: =Equipes!AC9 -> Suède | O25: =Equipes!AD9 -> 21 | P25: =RANK($O$25,$O$2:$O$33) -> 24 | Q25: 24
N26: =Equipes!AC10 -> Angleterre | O26: =Equipes!AD10 -> 20 | P26: =RANK($O$26,$O$2:$O$33) -> 25 | Q26: 25
N27: =Equipes!AC11 -> Bosnie | O27: =Equipes!AD11 -> 19 | P27: =RANK($O$27,$O$2:$O$33) -> 26 | Q27: 26
N28: =Equipes!AC12 -> Mexique | O28: =Equipes!AD12 -> 18 | P28: =RANK($O$28,$O$2:$O$33) -> 27 | Q28: 27
N29: =Equipes!AC13 -> Croatie | O29: =Equipes!AD13 -> 17 | P29: =RANK($O$29,$O$2:$O$33) -> 28 | Q29: 28
N30: =Equipes!AC14 -> Costa Rica | O30: =Equipes!AD14 -> 16 | P30: =RANK($O$30,$O$2:$O$33) -> 29 | Q30: 29
N31: =Equipes!AC15 -> Etats-Unis | O31: =Equipes!AD15 -> 15 | P31: =RANK($O$31,$O$2:$O$33) -> 30 | Q31: 30
N32: =Equipes!AC16 -> Italie | O32: =Equipes!AD16 -> 14 | P32: =RANK($O$32,$O$2:$O$33) -> 31 | Q32: 31
N33: =Equipes!AC17 -> Grèce | O33: =Equipes!AD17 -> 13 | P33: =RANK($O$33,$O$2:$O$33) -> 32 | Q33: 32

Sheet Tirage au sort
A1: Groupe A | B1: Groupe B | C1: Groupe C | D1: Groupe D | E1: Groupe E | F1: Groupe F | G1: Groupe G | H1: Groupe H
A2: =INDEX(OFFSET('Têtes de Série'!$A$1,1,(ROW()-1)*3-1,8,1),MATCH(COLUMN(),OFFSET('Têtes de Série'!$A$1,1,(ROW()-1)*3-2,8,1),0)) -> FC Bâle | B2: =INDEX(OFFSET('Têtes de Série'!$A$1,1,(ROW()-1)*3-1,8,1),MATCH(COLUMN(),OFFSET('Têtes de Série'!$A$1,1,(ROW()-1)*3-2,8,1),0)) -> KRC Genk | C2: =INDEX(OFFSET('Têtes de Série'!$A$1,1,(ROW()-1)*3-1,8,1),MATCH(COLUMN(),OFFSET('Têtes de Série'!$A$1,1,(ROW()-1)*3-2,8,1),0)) -> Celtic Glasgow | D2: =INDEX(OFFSET('Têtes de Série'!$A$1,1,(ROW()-1)*3-1,8,1),MATCH(COLUMN(),OFFSET('Têtes de Série'!$A$1,1,(ROW()-1)*3-2,8,1),0)) -> RSC Anderlecht | E2: =INDEX(OFFSET('Têtes de Série'!$A$1,1,(ROW()-1)*3-1,8,1),MATCH(COLUMN(),OFFSET('Têtes de Série'!$A$1,1,(ROW()-1)*3-2,8,1),0)) -> Spartak Moscou | F2: =INDEX(OFFSET('Têtes de Série'!$A$1,1,(ROW()-1)*3-1,8,1),MATCH(COLUMN(),OFFSET('Têtes de Série'!$A$1,1,(ROW()-1)*3-2,8,1),0)) -> SSC Naples | G2: =INDEX(OFFSET('Têtes de Série'!$A$1,1,(ROW()-1)*3-1,8,1),MATCH(COLUMN(),OFFSET('Têtes de Série'!$A$1,1,(ROW()-1)*3-2,8,1),0)) -> Celtic Glasgow | H2: =INDEX(OFFSET('Têtes de Série'!$A$1,1,(ROW()-1)*3-1,8,1),MATCH(COLUMN(),OFFSET('Têtes de Série'!$A$1,1,(ROW()-1)*3-2,8,1),0)) -> SS Lazio | K2: Appuyer sur F9 pour nouveau tirage
A3: =INDEX(OFFSET('Têtes de Série'!$A$1,1,(ROW()-1)*3-1,8,1),MATCH(COLUMN(),OFFSET('Têtes de Série'!$A$1,1,(ROW()-1)*3-2,8,1),0)) -> Paris SG | B3: =INDEX(OFFSET('Têtes de Série'!$A$1,1,(ROW()-1)*3-1,8,1),MATCH(COLUMN(),OFFSET('Têtes de Série'!$A$1,1,(ROW()-1)*3-2,8,1),0)) -> Malaga CF | C3: =INDEX(OFFSET('Têtes de Série'!$A$1,1,(ROW()-1)*3-1,8,1),MATCH(COLUMN(),OFFSET('Têtes de Série'!$A$1,1,(ROW()-1)*3-2,8,1),0)) -> Olympique Lyonnais | D3: =INDEX(OFFSET('Têtes de Série'!$A$1,1,(ROW()-1)*3-1,8,1),MATCH(COLUMN(),OFFSET('Têtes de Série'!$A$1,1,(ROW()-1)*3-2,8,1),0)) -> Villareal | E3: =INDEX(OFFSET('Têtes de Série'!$A$1,1,(ROW()-1)*3-1,8,1),MATCH(COLUMN(),OFFSET('Têtes de Série'!$A$1,1,(ROW()-1)*3-2,8,1),0)) -> Everton | F3: =INDEX(OFFSET('Têtes de Série'!$A$1,1,(ROW()-1)*3-1,8,1),MATCH(COLUMN(),OFFSET('Têtes de Série'!$A$1,1,(ROW()-1)*3-2,8,1),0)) -> Olympique de Marseille | G3: =INDEX(OFFSET('Têtes de Série'!$A$1,1,(ROW()-1)*3-1,8,1),MATCH(COLUMN(),OFFSET('Têtes de Série'!$A$1,1,(ROW()-1)*3-2,8,1),0)) -> Real Sociedad | H3: =INDEX(OFFSET('Têtes de Série'!$A$1,1,(ROW()-1)*3-1,8,1),MATCH(COLUMN(),OFFSET('Têtes de Série'!$A$1,1,(ROW()-1)*3-2,8,1),0)) -> Athletic Club Bilbao
A4: =INDEX(OFFSET('Têtes de Série'!$A$1,1,(ROW()-1)*3-1,8,1),MATCH(COLUMN(),OFFSET('Têtes de Série'!$A$1,1,(ROW()-1)*3-2,8,1),0)) -> VfL Wolfsburg | B4: =INDEX(OFFSET('Têtes de Série'!$A$1,1,(ROW()-1)*3-1,8,1),MATCH(COLUMN(),OFFSET('Têtes de Série'!$A$1,1,(ROW()-1)*3-2,8,1),0)) -> Manchester United | C4: =INDEX(OFFSET('Têtes de Série'!$A$1,1,(ROW()-1)*3-1,8,1),MATCH(COLUMN(),OFFSET('Têtes de Série'!$A$1,1,(ROW()-1)*3-2,8,1),0)) -> Manchester City | D4: =INDEX(OFFSET('Têtes de Série'!$A$1,1,(ROW()-1)*3-1,8,1),MATCH(COLUMN(),OFFSET('Têtes de Série'!$A$1,1,(ROW()-1)*3-2,8,1),0)) -> Borussia Mönchengladbach | E4: =INDEX(OFFSET('Têtes de Série'!$A$1,1,(ROW()-1)*3-1,8,1),MATCH(COLUMN(),OFFSET('Têtes de Série'!$A$1,1,(ROW()-1)*3-2,8,1),0)) -> Russie | F4: =INDEX(OFFSET('Têtes de Série'!$A$1,1,(ROW()-1)*3-1,8,1),MATCH(COLUMN(),OFFSET('Têtes de Série'!$A$1,1,(ROW()-1)*3-2,8,1),0)) -> FSV Mayence 05 | G4: =INDEX(OFFSET('Têtes de Série'!$A$1,1,(ROW()-1)*3-1,8,1),MATCH(COLUMN(),OFFSET('Têtes de Série'!$A$1,1,(ROW()-1)*3-2,8,1),0)) -> Suède | H4: =INDEX(OFFSET('Têtes de Série'!$A$1,1,(ROW()-1)*3-1,8,1),MATCH(COLUMN(),OFFSET('Têtes de Série'!$A$1,1,(ROW()-1)*3-2,8,1),0)) -> Tottenham Hotspur
A5: =INDEX(OFFSET('Têtes de Série'!$A$1,1,(ROW()-1)*3-1,30,1),MATCH(COLUMN(),OFFSET('Têtes de Série'!$A$1,1,(ROW()-1)*3-2,30,1),0)) -> Italie | B5: =INDEX(OFFSET('Têtes de Série'!$A$1,1,(ROW()-1)*3-1,30,1),MATCH(COLUMN(),OFFSET('Têtes de Série'!$A$1,1,(ROW()-1)*3-2,30,1),0)) -> Grèce | C5: =INDEX(OFFSET('Têtes de Série'!$A$1,1,(ROW()-1)*3-1,30,1),MATCH(COLUMN(),OFFSET('Têtes de Série'!$A$1,1,(ROW()-1)*3-2,30,1),0)) -> Etats-Unis | D5: =INDEX(OFFSET('Têtes de Série'!$A$1,1,(ROW()-1)*3-1,30,1),MATCH(COLUMN(),OFFSET('Têtes de Série'!$A$1,1,(ROW()-1)*3-2,30,1),0)) -> Bosnie | E5: =INDEX(OFFSET('Têtes de Série'!$A$1,1,(ROW()-1)*3-1,30,1),MATCH(COLUMN(),OFFSET('Têtes de Série'!$A$1,1,(ROW()-1)*3-2,30,1),0)) -> Croatie | F5: =INDEX(OFFSET('Têtes de Série'!$A$1,1,(ROW()-1)*3-1,30,1),MATCH(COLUMN(),OFFSET('Têtes de Série'!$A$1,1,(ROW()-1)*3-2,30,1),0)) -> Costa Rica | G5: =INDEX(OFFSET('Têtes de Série'!$A$1,1,(ROW()-1)*3-1,30,1),MATCH(COLUMN(),OFFSET('Têtes de Série'!$A$1,1,(ROW()-1)*3-2,30,1),0)) -> Angleterre | H5: =INDEX(OFFSET('Têtes de Série'!$A$1,1,(ROW()-1)*3-1,30,1),MATCH(COLUMN(),OFFSET('Têtes de Série'!$A$1,1,(ROW()-1)*3-2,30,1),0)) -> Mexique

Sheet Equipes
B2: Clubs Italiens | C2: Coef | D2: Rang | E2: Clubs Anglais | F2: Coef | G2: Rang | H2: Clubs Espagnols | I2: Coef | J2: Rang | K2: Clubs Français | L2: Coef | M2: Rang | N2: Clubs Allemands | O2: Coef | P2: Rang | Q2: Autres | R2: Coef | S2: Rang | U2: Clubs Italiens | Y2: Clubs Anglais | AC2: Clubs Allemands
B3: AS Rome | C3: =Coefficients!H55 -> 54 | D3: =RANK($C$3,$C$3:$C$9) -> 7 | E3: Arsenal | F3: =Coefficients!H34 -> 33 | G3: =RANK($F$3,$F$3:$F$9) -> 7 | H3: Club Atlético de Madrid | I3: =Coefficients!H41 -> 40 | J3: =RANK($I$3,$I$3:$I$11) -> 9 | K3: AS Monaco | L3: =Coefficients!H50 -> 49 | M3: =RANK($L$3,$L$3:$L$7) -> 5 | N3: FC Bayern Munich | O3: =Coefficients!H24 -> 23 | P3: =RANK($O$3,$O$3:$O$12) -> 10 | Q3: SL Benfica | R3: =Coefficients!H62 -> 61 | S3: =RANK($R$3,$R$3:$R$36) -> 34 | T3: POR | U3: =INDEX($B$3:$B$9,MATCH($W$3,$D$3:$D$9,0)) -> SS Lazio | V3: =INDEX($C$3:$C$9,MATCH($W$3,$D$3:$D$9,0)) -> 60 | W3: 1 | Y3: =INDEX($E$3:$E$9,MATCH($AA$3,$G$3:$G$9,0)) -> Everton | Z3: =INDEX($F$3:$F$9,MATCH($AA$3,$G$3:$G$9,0)) -> 39 | AA3: 1 | AC3: =INDEX($N$3:$N$12,MATCH($AE$3,$P$3:$P$12,0)) -> FSV Mayence 05 | AD3: =INDEX($O$3:$O$12,MATCH($AE$3,$P$3:$P$12,0)) -> 32 | AE3: 1
B4: ACF Fiorentina | C4: =Coefficients!H56 -> 55 | D4: =RANK($C$4,$C$3:$C$9) -> 6 | E4: Chelsea | F4: =Coefficients!H35 -> 34 | G4: =RANK($F$4,$F$3:$F$9) -> 6 | H4: FC Barcelone | I4: =Coefficients!H42 -> 41 | J4: =RANK($I$4,$I$3:$I$11) -> 8 | K4: Lille OSC | L4: =Coefficients!H51 -> 50 | M4: =RANK($L$4,$L$3:$L$7) -> 4 | N4: Borussia Dortmund | O4: =Coefficients!H25 -> 24 | P4: =RANK($O$4,$O$3:$O$12) -> 9 | Q4: FC Porto | R4: =Coefficients!H63 -> 62 | S4: =RANK($R$4,$R$3:$R$36) -> 33 | T4: POR | U4: =INDEX($B$3:$B$9,MATCH($W$4,$D$3:$D$9,0)) -> SSC Naples | V4: =INDEX($C$3:$C$9,MATCH($W$4,$D$3:$D$9,0)) -> 59 | W4: 2 | Y4: =INDEX($E$3:$E$9,MATCH($AA$4,$G$3:$G$9,0)) -> Tottenham Hotspur | Z4: =INDEX($F$3:$F$9,MATCH($AA$4,$G$3:$G$9,0)) -> 38 | AA4: 2 | AC4: =INDEX($N$3:$N$12,MATCH($AE$4,$P$3:$P$12,0)) -> Borussia Mönchengladbach | AD4: =INDEX($O$3:$O$12,MATCH($AE$4,$P$3:$P$12,0)) -> 31 | AE4: 2
B5: Inter Milan | C5: =Coefficients!H57 -> 56 | D5: =RANK($C$5,$C$3:$C$9) -> 5 | E5: Liverpool | F5: =Coefficients!H36 -> 35 | G5: =RANK($F$5,$F$3:$F$9) -> 5 | H5: FC Séville | I5: =Coefficients!H43 -> 42 | J5: =RANK($I$5,$I$3:$I$11) -> 7 | K5: Olympique de Marseille | L5: =Coefficients!H52 -> 51 | M5: =RANK($L$5,$L$3:$L$7) -> 3 | N5: Hambourg SV | O5: =Coefficients!H26 -> 25 | P5: =RANK($O$5,$O$3:$O$12) -> 8 | Q5: Sporting Club de Portugal | R5: =Coefficients!H64 -> 63 | S5: =RANK($R$5,$R$3:$R$36) -> 32 | T5: POR | U5: =INDEX($B$3:$B$9,MATCH($W$5,$D$3:$D$9,0)) -> Milan AC | V5: =INDEX($C$3:$C$9,MATCH($W$5,$D$3:$D$9,0)) -> 58 | W5: 3 | Y5: =INDEX($E$3:$E$9,MATCH($AA$5,$G$3:$G$9,0)) -> Manchester United | Z5: =INDEX($F$3:$F$9,MATCH($AA$5,$G$3:$G$9,0)) -> 37 | AA5: 3 | AC5: =INDEX($N$3:$N$12,MATCH($AE$5,$P$3:$P$12,0)) -> VfL Wolfsburg | AD5: =INDEX($O$3:$O$12,MATCH($AE$5,$P$3:$P$12,0)) -> 30 | AE5: 3
B6: Juventus Turin | C6: =Coefficients!H58 -> 57 | D6: =RANK($C$6,$C$3:$C$9) -> 4 | E6: Manchester City | F6: =Coefficients!H37 -> 36 | G6: =RANK($F$6,$F$3:$F$9) -> 4 | H6: Real Madrid | I6: =Coefficients!H44 -> 43 | J6: =RANK($I$6,$I$3:$I$11) -> 6 | K6: Olympique Lyonnais | L6: =Coefficients!H53 -> 52 | M6: =RANK($L$6,$L$3:$L$7) -> 2 | N6: FC Schalke 04 | O6: =Coefficients!H27 -> 26 | P6: =RANK($O$6,$O$3:$O$12) -> 7 | Q6: Galatasaray SK | R6: =Coefficients!H65 -> 64 | S6: =RANK($R$6,$R$3:$R$36) -> 31 | T6: TUR | Y6: =INDEX($E$3:$E$9,MATCH($AA$6,$G$3:$G$9,0)) -> Manchester City | Z6: =INDEX($F$3:$F$9,MATCH($AA$6,$G$3:$G$9,0)) -> 36 | AA6: 4
B7: Milan AC | C7: =Coefficients!H59 -> 58 | D7: =RANK($C$7,$C$3:$C$9) -> 3 | E7: Manchester United | F7: =Coefficients!H38 -> 37 | G7: =RANK($F$7,$F$3:$F$9) -> 3 | H7: Valence CF | I7: =Coefficients!H45 -> 44 | J7: =RANK($I$7,$I$3:$I$11) -> 5 | K7: Paris SG | L7: =Coefficients!H54 -> 53 | M7: =RANK($L$7,$L$3:$L$7) -> 1 | N7: Bayer 04 Leverkusen | O7: =Coefficients!H28 -> 27 | P7: =RANK($O$7,$O$3:$O$12) -> 6 | Q7: Fenerbhaçe | R7: =Coefficients!H66 -> 65 | S7: =RANK($R$7,$R$3:$R$36) -> 30 | T7: TUR | U7: Clubs Français | AC7: Sélections internationales
B8: SSC Naples | C8: =Coefficients!H60 -> 59 | D8: =RANK($C$8,$C$3:$C$9) -> 2 | E8: Tottenham Hotspur | F8: =Coefficients!H39 -> 38 | G8: =RANK($F$8,$F$3:$F$9) -> 2 | H8: Athletic Club Bilbao | I8: =Coefficients!H46 -> 45 | J8: =RANK($I$8,$I$3:$I$11) -> 4 | N8: Hanovre 96 | O8: =Coefficients!H29 -> 28 | P8: =RANK($O$8,$O$3:$O$12) -> 5 | Q8: Sao Paulo | R8: =Coefficients!H67 -> 66 | S8: =RANK($R$8,$R$3:$R$36) -> 29 | T8: BRE | U8: =INDEX($K$3:$K$7,MATCH($W$8,$M$3:$M$7,0)) -> Paris SG | V8: =INDEX($L$3:$L$7,MATCH($W$8,$M$3:$M$7,0)) -> 53 | W8: 1 | Y8: Clubs Espagnols | AC8: =INDEX($B$15:$B$36,MATCH($AE$8,$D$15:$D$36,0)) -> Russie | AD8: =INDEX($C$15:$C$36,MATCH($AE$8,$D$15:$D$36,0)) -> 22 | AE8: 1
B9: SS Lazio | C9: =Coefficients!H61 -> 60 | D9: =RANK($C$9,$C$3:$C$9) -> 1 | E9: Everton | F9: =Coefficients!H40 -> 39 | G9: =RANK($F$9,$F$3:$F$9) -> 1 | H9: Villareal | I9: =Coefficients!H47 -> 46 | J9: =RANK($I$9,$I$3:$I$11) -> 3 | N9: VfB Stuttgart | O9: =Coefficients!H30 -> 29 | P9: =RANK($O$9,$O$3:$O$12) -> 4 | Q9: Flamengo | R9: =Coefficients!H68 -> 67 | S9: =RANK($R$9,$R$3:$R$36) -> 28 | T9: BRE | U9: =INDEX($K$3:$K$7,MATCH($W$9,$M$3:$M$7,0)) -> Olympique Lyonnais | V9: =INDEX($L$3:$L$7,MATCH($W$9,$M$3:$M$7,0)) -> 52 | W9: 2 | Y9: =INDEX($H$3:$H$11,MATCH($AA$9,$J$3:$J$11,0)) -> Malaga CF | Z9: =INDEX($I$3:$I$11,MATCH($AA$9,$J$3:$J$11,0)) -> 48 | AA9: 1 | AC9: =INDEX($B$15:$B$36,MATCH($AE$9,$D$15:$D$36,0)) -> Suède | AD9: =INDEX($C$15:$C$36,MATCH($AE$9,$D$15:$D$36,0)) -> 21 | AE9: 2
H10: Real Sociedad | I10: =Coefficients!H48 -> 47 | J10: =RANK($I$10,$I$3:$I$11) -> 2 | N10: VfL Wolfsburg | O10: =Coefficients!H31 -> 30 | P10: =RANK($O$10,$O$3:$O$12) -> 3 | Q10: Atlético Mineiro | R10: =Coefficients!H69 -> 68 | S10: =RANK($R$10,$R$3:$R$36) -> 27 | T10: BRE | U10: =INDEX($K$3:$K$7,MATCH($W$10,$M$3:$M$7,0)) -> Olympique de Marseille | V10: =INDEX($L$3:$L$7,MATCH($W$10,$M$3:$M$7,0)) -> 51 | W10: 3 | Y10: =INDEX($H$3:$H$11,MATCH($AA$10,$J$3:$J$11,0)) -> Real Sociedad | Z10: =INDEX($I$3:$I$11,MATCH($AA$10,$J$3:$J$11,0)) -> 47 | AA10: 2 | AC10: =INDEX($B$15:$B$36,MATCH($AE$10,$D$15:$D$36,0)) -> Angleterre | AD10: =INDEX($C$15:$C$36,MATCH($AE$10,$D$15:$D$36,0)) -> 20 | AE10: 3
H11: Malaga CF | I11: =Coefficients!H49 -> 48 | J11: =RANK($I$11,$I$3:$I$11) -> 1 | N11: Borussia Mönchengladbach | O11: =Coefficients!H32 -> 31 | P11: =RANK($O$11,$O$3:$O$12) -> 2 | Q11: Auckland City FC | R11: =Coefficients!H70 -> 69 | S11: =RANK($R$11,$R$3:$R$36) -> 26 | T11: AUS | Y11: =INDEX($H$3:$H$11,MATCH($AA$11,$J$3:$J$11,0)) -> Villareal | Z11: =INDEX($I$3:$I$11,MATCH($AA$11,$J$3:$J$11,0)) -> 46 | AA11: 3 | AC11: =INDEX($B$15:$B$36,MATCH($AE$11,$D$15:$D$36,0)) -> Bosnie | AD11: =INDEX($C$15:$C$36,MATCH($AE$11,$D$15:$D$36,0)) -> 19 | AE11: 4
N12: FSV Mayence 05 | O12: =Coefficients!H33 -> 32 | P12: =RANK($O$12,$O$3:$O$12) -> 1 | Q12: SC Corinthians | R12: =Coefficients!H71 -> 70 | S12: =RANK($R$12,$R$3:$R$36) -> 25 | T12: BRE | U12: Clubs Autres | Y12: =INDEX($H$3:$H$11,MATCH($AA$12,$J$3:$J$11,0)) -> Athletic Club Bilbao | Z12: =INDEX($I$3:$I$11,MATCH($AA$12,$J$3:$J$11,0)) -> 45 | AA12: 4 | AC12: =INDEX($B$15:$B$36,MATCH($AE$12,$D$15:$D$36,0)) -> Mexique | AD12: =INDEX($C$15:$C$36,MATCH($AE$12,$D$15:$D$36,0)) -> 18 | AE12: 5
Q13: CF Monterrey | R13: =Coefficients!H72 -> 71 | S13: =RANK($R$13,$R$3:$R$36) -> 24 | T13: MEX | U13: =INDEX($Q$3:$Q$42,MATCH($W$13,$S$3:$S$42,0)) -> FC Bâle | V13: =INDEX($R$3:$R$42,MATCH($W$13,$S$3:$S$42,0)) -> 94 | W13: 1 | AC13: =INDEX($B$15:$B$36,MATCH($AE$13,$D$15:$D$36,0)) -> Croatie | AD13: =INDEX($C$15:$C$36,MATCH($AE$13,$D$15:$D$36,0)) -> 17 | AE13: 6
B14: Sélections Internationales | C14: Coef | D14: Rang | Q14: Santos | R14: =Coefficients!H73 -> 72 | S14: =RANK($R$14,$R$3:$R$36) -> 23 | T14: BRE | U14: =INDEX($Q$3:$Q$42,MATCH($W$14,$S$3:$S$42,0)) -> Celtic Glasgow | V14: =INDEX($R$3:$R$42,MATCH($W$14,$S$3:$S$42,0)) -> 93 | W14: 2 | AC14: =INDEX($B$15:$B$36,MATCH($AE$14,$D$15:$D$36,0)) -> Costa Rica | AD14: =INDEX($C$15:$C$36,MATCH($AE$14,$D$15:$D$36,0)) -> 16 | AE14: 7
B15: Allemagne | C15: =Coefficients!H2 -> 1 | D15: =RANK($C$15,$C$15:$C$36) -> 22 | Q15: Estudiantes | R15: =Coefficients!H74 -> 73 | S15: =RANK($R$15,$R$3:$R$36) -> 22 | T15: ARG | U15: =INDEX($Q$3:$Q$42,MATCH($W$15,$S$3:$S$42,0)) -> KRC Genk | V15: =INDEX($R$3:$R$42,MATCH($W$15,$S$3:$S$42,0)) -> 92 | W15: 3 | AC15: =INDEX($B$15:$B$36,MATCH($AE$15,$D$15:$D$36,0)) -> Etats-Unis | AD15: =INDEX($C$15:$C$36,MATCH($AE$15,$D$15:$D$36,0)) -> 15 | AE15: 8
B16: Argentine | C16: =Coefficients!H3 -> 2 | D16: =RANK($C$16,$C$15:$C$36) -> 21 | Q16: River Plate | R16: =Coefficients!H75 -> 74 | S16: =RANK($R$16,$R$3:$R$36) -> 21 | T16: ARG | U16: =INDEX($Q$3:$Q$42,MATCH($W$16,$S$3:$S$42,0)) -> Spartak Moscou | V16: =INDEX($R$3:$R$42,MATCH($W$16,$S$3:$S$42,0)) -> 91 | W16: 4 | AC16: =INDEX($B$15:$B$36,MATCH($AE$16,$D$15:$D$36,0)) -> Italie | AD16: =INDEX($C$15:$C$36,MATCH($AE$16,$D$15:$D$36,0)) -> 14 | AE16: 9
B17: Pays-Bas | C17: =Coefficients!H4 -> 3 | D17: =RANK($C$17,$C$15:$C$36) -> 20 | Q17: Boca Junior | R17: =Coefficients!H76 -> 75 | S17: =RANK($R$17,$R$3:$R$36) -> 20 | T17: ARG | U17: =INDEX($Q$3:$Q$42,MATCH($W$17,$S$3:$S$42,0)) -> RSC Anderlecht | V17: =INDEX($R$3:$R$42,MATCH($W$17,$S$3:$S$42,0)) -> 90 | W17: 5 | AC17: =INDEX($B$15:$B$36,MATCH($AE$17,$D$15:$D$36,0)) -> Grèce | AD17: =INDEX($C$15:$C$36,MATCH($AE$17,$D$15:$D$36,0)) -> 13 | AE17: 10
B18: Colombie | C18: =Coefficients!H5 -> 4 | D18: =RANK($C$18,$C$15:$C$36) -> 19 | Q18: FC Basel 1893 | R18: =Coefficients!H77 -> 76 | S18: =RANK($R$18,$R$3:$R$36) -> 19 | T18: SUI
B19: Belgique | C19: =Coefficients!H6 -> 5 | D19: =RANK($C$19,$C$15:$C$36) -> 18 | Q19: FC Zénit Saint-Petersbourg | R19: =Coefficients!H78 -> 77 | S19: =RANK($R$19,$R$3:$R$36) -> 18 | T19: RUS
B20: Uruguay | C20: =Coefficients!H7 -> 6 | D20: =RANK($C$20,$C$15:$C$36) -> 17 | Q20: FC Shaktar Donesk | R20: =Coefficients!H79 -> 78 | S20: =RANK($R$20,$R$3:$R$36) -> 17 | T20: UKR
B21: Brésil | C21: =Coefficients!H8 -> 7 | D21: =RANK($C$21,$C$15:$C$36) -> 16 | Q21: FC Rubin Kazan | R21: =Coefficients!H80 -> 79 | S21: =RANK($R$21,$R$3:$R$36) -> 16 | T21: RUS
B22: Espagne | C22: =Coefficients!H9 -> 8 | D22: =RANK($C$22,$C$15:$C$36) -> 15 | Q22: Ajax Amsterdam | R22: =Coefficients!H81 -> 80 | S22: =RANK($R$22,$R$3:$R$36) -> 15 | T22: NED
B23: Suisse | C23: =Coefficients!H10 -> 9 | D23: =RANK($C$23,$C$15:$C$36) -> 14 | Q23: Olympiacos FC | R23: =Coefficients!H82 -> 81 | S23: =RANK($R$23,$R$3:$R$36) -> 14 | T23: GRE
B24: France | C24: =Coefficients!H11 -> 10 | D24: =RANK($C$24,$C$15:$C$36) -> 13 | Q24: PSV Eindhoven | R24: =Coefficients!H83 -> 82 | S24: =RANK($R$24,$R$3:$R$36) -> 13 | T24: NED
B25: Portugal | C25: =Coefficients!H12 -> 11 | D25: =RANK($C$25,$C$15:$C$36) -> 12 | Q25: SC Braga | R25: =Coefficients!H84 -> 83 | S25: =RANK($R$25,$R$3:$R$36) -> 12 | T25: POR
B26: Chili | C26: =Coefficients!H13 -> 12 | D26: =RANK($C$26,$C$15:$C$36) -> 11 | Q26: CSKA Moscou | R26: =Coefficients!H85 -> 84 | S26: =RANK($R$26,$R$3:$R$36) -> 11 | T26: RUS
B27: Grèce | C27: =Coefficients!H14 -> 13 | D27: =RANK($C$27,$C$15:$C$36) -> 10 | Q27: FC Dynamo Kyiv | R27: =Coefficients!H86 -> 85 | S27: =RANK($R$27,$R$3:$R$36) -> 10 | T27: UKR
B28: Italie | C28: =Coefficients!H15 -> 14 | D28: =RANK($C$28,$C$15:$C$36) -> 9 | Q28: AZ Alkmaar | R28: =Coefficients!H87 -> 86 | S28: =RANK($R$28,$R$3:$R$36) -> 9 | T28: NED
B29: Etats-Unis | C29: =Coefficients!H16 -> 15 | D29: =RANK($C$29,$C$15:$C$36) -> 8 | Q29: FC Twente | R29: =Coefficients!H88 -> 87 | S29: =RANK($R$29,$R$3:$R$36) -> 8 | T29: NED
B30: Costa Rica | C30: =Coefficients!H17 -> 16 | D30: =RANK($C$30,$C$15:$C$36) -> 7 | Q30: FC Metalist Kharkiv | R30: =Coefficients!H89 -> 88 | S30: =RANK($R$30,$R$3:$R$36) -> 7 | T30: UKR
B31: Croatie | C31: =Coefficients!H18 -> 17 | D31: =RANK($C$31,$C$15:$C$36) -> 6 | Q31: FC Viktoria Plzen | R31: =Coefficients!H90 -> 89 | S31: =RANK($R$31,$R$3:$R$36) -> 6 | T31: CZE
B32: Mexique | C32: =Coefficients!H19 -> 18 | D32: =RANK($C$32,$C$15:$C$36) -> 5 | Q32: RSC Anderlecht | R32: =Coefficients!H91 -> 90 | S32: =RANK($R$32,$R$3:$R$36) -> 5 | T32: BEL
B33: Bosnie | C33: =Coefficients!H20 -> 19 | D33: =RANK($C$33,$C$15:$C$36) -> 4 | Q33: Spartak Moscou | R33: =Coefficients!H92 -> 91 | S33: =RANK($R$33,$R$3:$R$36) -> 4 | T33: RUS
B34: Angleterre | C34: =Coefficients!H21 -> 20 | D34: =RANK($C$34,$C$15:$C$36) -> 3 | Q34: KRC Genk | R34: =Coefficients!H93 -> 92 | S34: =RANK($R$34,$R$3:$R$36) -> 3 | T34: BEL
B35: Suède | C35: =Coefficients!H22 -> 21 | D35: =RANK($C$35,$C$15:$C$36) -> 2 | Q35: Celtic Glasgow | R35: =Coefficients!H94 -> 93 | S35: =RANK($R$35,$R$3:$R$36) -> 2 | T35: ECO
B36: Russie | C36: =Coefficients!H23 -> 22 | D36: =RANK($C$36,$C$15:$C$36) -> 1 | Q36: FC Bâle | R36: =Coefficients!H95 -> 94 | S36: =RANK($R$36,$R$3:$R$36) -> 1 | T36: SUI
R37: =Coefficients!H96 -> 0 | S37: =RANK($R$37,$R$3:$R$36) -> #N/A
R38: =Coefficients!H97 -> 0 | S38: =RANK($R$38,$R$3:$R$36) -> #N/A
R39: =Coefficients!H98 -> 0 | S39: =RANK($R$39,$R$3:$R$36) -> #N/A
R40: =Coefficients!H99 -> 0 | S40: =RANK($R$40,$R$3:$R$36) -> #N/A
R41: =Coefficients!H100 -> 0 | S41: =RANK($R$41,$R$3:$R$36) -> #N/A
R42: =Coefficients!H101 -> 0 | S42: =RANK($R$42,$R$3:$R$36) -> #N/A
