Workbook

Sheet Planning_Annuel
A1: =INDEX(Configurations!$B$2:$B$8,MATCH(PROPER(TEXT(WEEKDAY(A3),"jjjj")),Configurations!$A$2:$A$8,0)) -> 0 | B1: =INDEX(Configurations!$B$2:$B$8,MATCH(PROPER(TEXT(WEEKDAY(B3),"jjjj")),Configurations!$A$2:$A$8,0)) -> 1 | C1: =INDEX(Configurations!$B$2:$B$8,MATCH(PROPER(TEXT(WEEKDAY(C3),"jjjj")),Configurations!$A$2:$A$8,0)) -> 1 | D1: =INDEX(Configurations!$B$2:$B$8,MATCH(PROPER(TEXT(WEEKDAY(D3),"jjjj")),Configurations!$A$2:$A$8,0)) -> 0 | E1: =INDEX(Configurations!$B$2:$B$8,MATCH(PROPER(TEXT(WEEKDAY(E3),"jjjj")),Configurations!$A$2:$A$8,0)) -> 0 | F1: =INDEX(Configurations!$B$2:$B$8,MATCH(PROPER(TEXT(WEEKDAY(F3),"jjjj")),Configurations!$A$2:$A$8,0)) -> 0 | G1: =INDEX(Configurations!$B$2:$B$8,MATCH(PROPER(TEXT(WEEKDAY(G3),"jjjj")),Configurations!$A$2:$A$8,0)) -> 0 | H1: =INDEX(Configurations!$B$2:$B$8,MATCH(PROPER(TEXT(WEEKDAY(H3),"jjjj")),Configurations!$A$2:$A$8,0)) -> 0 | I1: =INDEX(Configurations!$B$2:$B$8,MATCH(PROPER(TEXT(WEEKDAY(I3),"jjjj")),Configurations!$A$2:$A$8,0)) -> 1
A2: =UPPER(LEFT(TEXT(A3,"jjjj"))) -> V | B2: =UPPER(LEFT(TEXT(B3,"jjjj"))) -> S | C2: =UPPER(LEFT(TEXT(C3,"jjjj"))) -> D | D2: =UPPER(LEFT(TEXT(D3,"jjjj"))) -> L | E2: =UPPER(LEFT(TEXT(E3,"jjjj"))) -> M | F2: =UPPER(LEFT(TEXT(F3,"jjjj"))) -> M | G2: =UPPER(LEFT(TEXT(G3,"jjjj"))) -> J | H2: =UPPER(LEFT(TEXT(H3,"jjjj"))) -> V | I2: =UPPER(LEFT(TEXT(I3,"jjjj"))) -> S
A3: =L7 -> 43049 | B3: =A3+1 -> 43050 | C3: =B3+1 -> 43051 | D3: =C3+1 -> 43052 | E3: =D3+1 -> 43053 | F3: =E3+1 -> 43054 | G3: =F3+1 -> 43055 | H3: =G3+1 -> 43056 | I3: =H3+1 -> 43057
K7: Date 1 | L7: 43049 | M7: =L7 -> 43049

Sheet Configurations
B1: Valide | D1: Jour | E1: Date | F1: Chômé | G1: Année du planning
A2: Lundi | B2: 0 | D2: Jour de l'an | E2: =DATE(G2,1,1) -> 42736 | F2: 0 | G2: 2017
A3: Mardi | B3: 0 | D3: Lundi de pâques | E3: =DATE(G2,3,29.56+0.979*MOD(204-11*MOD(G2,19),30)-WEEKDAY(DATE(G2,3,28.56+0.979*MOD(204-11*MOD(G2,19),30))))+1 -> 42842 | F3: 0
A4: Mercredi | B4: 0 | D4: Fête du travail | E4: =DATE(G2,5,1) -> 42856 | F4: 0
A5: Jeudi | B5: 0 | D5: Jeudi de l'ascension | E5: =DATE(G2,3,29.56+0.979*MOD(204-11*MOD(G2,19),30)-WEEKDAY(DATE(G2,3,28.56+0.979*MOD(204-11*MOD(G2,19),30))))+1+38 -> 42880 | F5: 0
A6: Vendredi | B6: 0 | D6: Victoire 1945 | E6: =DATE(G2,5,8) -> 42863 | F6: 0
A7: samedi | B7: 1 | D7: Lundi de Pentecôte | E7: =DATE(G2,3,29.56+0.979*MOD(204-11*MOD(G2,19),30)-WEEKDAY(DATE(G2,3,28.56+0.979*MOD(204-11*MOD(G2,19),30))))+1+49 -> 42891 | F7: 0
A8: dimanche | B8: 1 | D8: Fête nationale | E8: =DATE(G2,7,14) -> 42930 | F8: 0
D9: L'Assomption | E9: =DATE(G2,8,15) -> 42962 | F9: 0
D10: La Toussaint | E10: =DATE(G2,11,1) -> 43040 | F10: 0
D11: Armistice | E11: =DATE(G2,11,11) -> 43050 | F11: 0
D12: Noël | E12: =DATE(G2,12,25) -> 43094 | F12: 0
