Workbook

Sheet Feuil21
B3: TECHNICIEN | C3: Appels Présentés | D3: Appels décrochés | E3: Taux de décroché | F3: Durée totale de Communication | G3: DMC | H3: Durée en Pas-Prêt | I3: Appels DN | J3: Renvoi en File d'appel

Sheet 01_07
B3: TECHNICIENS | C3: Appels Présentés | D3: Appels décrochés | E3: Taux de décroché | F3: Durée totale de Communication | G3: DMC | H3: Durée en Pas-Prêt | I3: Appels DN | J3: Renvoi en File d'appel
B4: Roland REGIS-LYDI - 10227 | C4: 0 | D4: 0 | E4: - | F4: 00:00:00 | G4: - | H4: 09:08:52 | I4: 0 | J4: 0
B5: Jonathan DITCHI - 10228 | C5: 23 | D5: 21 | E5: 0.91304348 | F5: 02:57:33 | G5: 0.0058713624 | H5: 03:13:25 | I5: 10 | J5: 1
B6: Julien FILIPPINI - 10346 | C6: 25 | D6: 25 | E6: 1 | F6: 01:29:47 | G6: 0.0024939815 | H6: 02:05:00 | I6: 2 | J6: 0
B7: Said IRGUES - 10656 | C7: - | D7: - | E7: - | F7: - | G7: - | H7: - | I7: - | J7: -
B8: Franck LEFORESTIER - 10657 | C8: 42 | D8: 40 | E8: 0.95238095 | F8: 03:17:22 | G8: 0.0034265046 | H8: 03:11:13 | I8: 4 | J8: 0
B9: Lucas COUVEZ - 10864 | C9: 17 | D9: 17 | E9: 1 | F9: 02:49:31 | G9: 0.0069247004 | H9: 02:42:36 | I9: 18 | J9: 0
B10: Alexandre THOMAS - 11172 | C10: 29 | D10: 28 | E10: 0.96551724 | F10: 02:48:25 | G10: 0.0041770007 | H10: 01:41:09 | I10: 2 | J10: 1
B11: Isabelle LAMY - 11177 | C11: 0 | D11: 0 | E11: - | F11: 00:00:00 | G11: - | H11: 09:11:34 | I11: 23 | J11: 0
B12: Arnaud DOLIF - 11173 | C12: - | D12: - | E12: - | F12: - | G12: - | H12: - | I12: - | J12: -
B13: Joel JOCAL - 11328 | C13: 34 | D13: 33 | E13: 0.97058824 | F13: 05:59:39 | G13: 0.0075683923 | H13: 01:51:08 | I13: 2 | J13: 0
B14: Damien AVEDISSIAN - 11329 | C14: - | D14: - | E14: - | F14: - | G14: - | H14: - | I14: - | J14: -
B15: Tabara SEYE BADIANNE - 11340 | C15: 49 | D15: 48 | E15: 0.97959184 | F15: 05:26:54 | G15: 0.004729456 | H15: 01:46:56 | I15: 0 | J15: 1
B16: Louis LEFEVRE - 11341 | C16: 54 | D16: 54 | E16: 1 | F16: 05:33:06 | G16: 0.0042836934 | H16: 02:20:40 | I16: 0 | J16: 0
B17: Stephane OUDJANI - 11347 | C17: 35 | D17: 35 | E17: 1 | F17: 05:21:07 | G17: 0.0063713624 | H17: 02:11:08 | I17: 3 | J17: 0
B18: Farid SADEK - 3943 | C18: 63 | D18: 60 | E18: 0.95238095 | F18: 04:20:45 | G18: 0.0030179398 | H18: 02:08:09 | I18: 0 | J18: 1
B19: Erwan JEZEQUEL - 4021 | C19: 0 | D19: 0 | E19: - | F19: 00:00:00 | G19: - | H19: 09:10:10 | I19: 0 | J19: 0
B20: Valerie BRUNET - 4590 | C20: 0 | D20: 0 | E20: - | F20: 00:00:00 | G20: - | H20: 04:07:58 | I20: 0 | J20: 0
B21: Khalil BEN HASSINE - 5155 | C21: - | D21: - | E21: - | F21: - | G21: - | H21: - | I21: - | J21: -
B22: Joan HENAU - 5482 | C22: 0 | D22: 0 | E22: - | F22: 00:00:00 | G22: - | H22: 08:53:45 | I22: 1 | J22: 0
B23: Luc CODOGNO - 5489 | C23: 0 | D23: 0 | E23: - | F23: 00:00:00 | G23: - | H23: 09:19:11 | I23: 0 | J23: 0
B24: Fabrice DURAND - 6591 | C24: 26 | D24: 26 | E24: 1 | F24: 02:53:28 | G24: 0.0046331909 | H24: 02:32:57 | I24: 1 | J24: 0
B25: Serge ARDON - 6843 | C25: 17 | D25: 16 | E25: 0.94117647 | F25: 02:09:48 | G25: 0.0056336806 | H25: 03:45:38 | I25: 22 | J25: 0
B26: Henri BERREBI - 7046 | C26: 34 | D26: 33 | E26: 0.97058824 | F26: 05:30:45 | G26: 0.0069602273 | H26: 02:03:47 | I26: 1 | J26: 1
B27: Ali COULIBALY - 7957 | C27: 30 | D27: 29 | E27: 0.96666667 | F27: 03:37:38 | G27: 0.0052115262 | H27: 02:24:18 | I27: 11 | J27: 0
B28: Nasser AGOUNI - 8176 | C28: 0 | D28: 0 | E28: - | F28: 00:00:00 | G28: - | H28: 09:01:18 | I28: 0 | J28: 0
B29: William VILLEMON - 8381 | C29: 26 | D29: 25 | E29: 0.96153846 | F29: 03:28:48 | G29: 0.0058 | H29: 01:59:08 | I29: 11 | J29: 1
B30: Jean Bernard BARBE - 8384 | C30: 0 | D30: 0 | E30: - | F30: 00:00:00 | G30: - | H30: 09:10:51 | I30: 4 | J30: 0
B31: Seif MOHAMED - 8468 | C31: - | D31: - | E31: - | F31: - | G31: - | H31: - | I31: - | J31: -
B32: Elfried KIASSI MBAKI - 8751 | C32: 25 | D32: 24 | E32: 0.96 | F32: 03:01:01 | G32: 0.0052377508 | H32: 02:44:43 | I32: 8 | J32: 0
B33: Williams HOUESSOU - 9183 | C33: 6 | D33: 6 | E33: 1 | F33: 00:27:28 | G33: 0.0031790123 | H33: 07:55:10 | I33: 24 | J33: 0
B34: Eric SOULINTHAVONG - 9696 | C34: 21 | D34: 21 | E34: 1 | F34: 01:50:10 | G34: 0.0036430776 | H34: 02:35:54 | I34: 18 | J34: 0
B35: Gautama LOCKEL - 990517 | C35: 26 | D35: 24 | E35: 0.92307692 | F35: 03:01:00 | G35: 0.0052372685 | H35: 02:33:42 | I35: 10 | J35: 1
B36: Karim ABBOU - 990623 | C36: - | D36: - | E36: - | F36: - | G36: - | H36: - | I36: - | J36: -
B37: Thomas HESNARD - 990624 | C37: 26 | D37: 24 | E37: 0.92307692 | F37: 01:06:59 | G37: 0.0019381752 | H37: 02:07:32 | I37: 4 | J37: 1
B38: Xavier LEFORT - 990627 | C38: 0 | D38: 0 | E38: - | F38: 00:00:00 | G38: - | H38: 08:06:23 | I38: 1 | J38: 0
B39: Frederic FINZI - 990628 | C39: 36 | D39: 32 | E39: 0.88888889 | F39: 04:43:28 | G39: 0.0061516204 | H39: 02:13:05 | I39: 0 | J39: 0
B40: Franck Olivier APHING KOUASSI - 990697 | C40: 57 | D40: 57 | E40: 1 | F40: 04:10:45 | G40: 0.0030549464 | H40: 01:36:29 | I40: 2 | J40: 0
B41: James TETUANUI - 9921 | C41: 1 | D41: 1 | E41: 1 | F41: 00:09:05 | G41: 0.0063078704 | H41: 09:01:42 | I41: 3 | J41: 0
B42: Emna BERRICHI - 4178 | C42: - | D42: - | E42: - | F42: - | G42: - | H42: - | I42: - | J42: -
B43: Landry Luc HOAREAU - 990625 | C43: - | D43: - | E43: - | F43: - | G43: - | H43: - | I43: - | J43: -
B44: Esther MOALIC - 9405 | C44: - | D44: - | E44: - | F44: - | G44: - | H44: - | I44: - | J44: -
B45: Hieng HUNG - 8720 | C45: - | D45: - | E45: - | F45: - | G45: - | H45: - | I45: - | J45: -
B46: Martin EDMOND - 10418 | C46: - | D46: - | E46: - | F46: - | G46: - | H46: - | I46: - | J46: -
B47: Amara KOUYATE - 990720 | C47: - | D47: - | E47: - | F47: - | G47: - | H47: - | I47: - | J47: -
B48: Botombia KYELE - 7401 | C48: - | D48: - | E48: - | F48: - | G48: - | H48: - | I48: - | J48: -
B49: Derya ATALAY - 10513 | C49: 47 | D49: 43 | E49: 0.91489362 | F49: 04:28:34 | G49: 0.004337317 | H49: 02:19:34 | I49: 1 | J49: 0
B50: Ibrahima SIBY - 10896 | C50: 12 | D50: 12 | E50: 1 | F50: 02:05:43 | G50: 0.0072752701 | H50: 02:20:45 | I50: 5 | J50: 0
B51: Julien CORNIL - 11390 | C51: - | D51: - | E51: - | F51: - | G51: - | H51: - | I51: - | J51: -
B52: Lilian TIERCELIN - 11171 | C52: 29 | D52: 29 | E52: 1 | F52: 03:26:45 | G52: 0.00495091 | H52: 02:53:05 | I52: 4 | J52: 0
B53: Nadia ZAHOUAN - 11174 | C53: - | D53: - | E53: - | F53: - | G53: - | H53: - | I53: - | J53: -
B54: Reimy MEY - 11216 | C54: - | D54: - | E54: - | F54: - | G54: - | H54: - | I54: - | J54: -
B55: Sébastien LAMIELLE - 11338 | C55: - | D55: - | E55: - | F55: - | G55: - | H55: - | I55: - | J55: -
B56: Hamed HEDDI - 990719 | C56: - | D56: - | E56: - | F56: - | G56: - | H56: - | I56: - | J56: -
B57: Gabriel DA COSTA - 990718 | C57: - | D57: - | E57: - | F57: - | G57: - | H57: - | I57: - | J57: -

Sheet 02_07
B3: TECHNICIENS | C3: Appels Présentés | D3: Appels décrochés | E3: Taux de décroché | F3: Durée totale de Communication | G3: DMC | H3: Durée en Pas-Prêt | I3: Appels DN | J3: Renvoi en File d'appel
B4: Roland REGIS-LYDI - 10227 | C4: 0 | D4: 0 | E4: - | F4: 00:00:00 | G4: - | H4: 07:53:46 | I4: 6 | J4: 0
B5: Jonathan DITCHI - 10228 | C5: 28 | D5: 26 | E5: 0.92857143 | F5: 02:43:12 | G5: 0.0043589744 | H5: 02:18:32 | I5: 6 | J5: 1
B6: Julien FILIPPINI - 10346 | C6: 18 | D6: 18 | E6: 1 | F6: 01:06:26 | G6: 0.0025630144 | H6: 01:55:42 | I6: 0 | J6: 0
B7: Said IRGUES - 10656 | C7: - | D7: - | E7: - | F7: - | G7: - | H7: - | I7: - | J7: -
B8: Franck LEFORESTIER - 10657 | C8: 25 | D8: 24 | E8: 0.96 | F8: 02:43:34 | G8: 0.0047328318 | H8: 03:14:06 | I8: 9 | J8: 1
B9: Lucas COUVEZ - 10864 | C9: 21 | D9: 21 | E9: 1 | F9: 03:20:38 | G9: 0.0066347002 | H9: 02:18:24 | I9: 9 | J9: 0
B10: Alexandre THOMAS - 11172 | C10: - | D10: - | E10: - | F10: - | G10: - | H10: - | I10: - | J10: -
B11: Isabelle LAMY - 11177 | C11: 4 | D11: 4 | E11: 1 | F11: 00:16:26 | G11: 0.0028530093 | H11: 06:38:03 | I11: 14 | J11: 0
B12: Arnaud DOLIF - 11173 | C12: - | D12: - | E12: - | F12: - | G12: - | H12: - | I12: - | J12: -
B13: Joel JOCAL - 11328 | C13: 29 | D13: 28 | E13: 0.96551724 | F13: 04:48:20 | G13: 0.0071511243 | H13: 01:16:56 | I13: 3 | J13: 0
B14: Damien AVEDISSIAN - 11329 | C14: - | D14: - | E14: - | F14: - | G14: - | H14: - | I14: - | J14: -
B15: Tabara SEYE BADIANNE - 11340 | C15: 28 | D15: 28 | E15: 1 | F15: 04:41:59 | G15: 0.0069936343 | H15: 02:03:51 | I15: 0 | J15: 0
B16: Louis LEFEVRE - 11341 | C16: 42 | D16: 42 | E16: 1 | F16: 03:39:38 | G16: 0.0036315035 | H16: 01:47:06 | I16: 2 | J16: 0
B17: Stephane OUDJANI - 11347 | C17: 38 | D17: 38 | E17: 1 | F17: 04:07:30 | G17: 0.0045230263 | H17: 02:03:31 | I17: 6 | J17: 0
B18: Farid SADEK - 3943 | C18: 50 | D18: 49 | E18: 0.98 | F18: 03:42:14 | G18: 0.0031495654 | H18: 02:12:33 | I18: 2 | J18: 0
B19: Erwan JEZEQUEL - 4021 | C19: 3 | D19: 3 | E19: 1 | F19: 00:05:47 | G19: 0.0013387346 | H19: 08:03:47 | I19: 1 | J19: 0
B20: Valerie BRUNET - 4590 | C20: 0 | D20: 0 | E20: - | F20: 00:00:00 | G20: - | H20: 03:46:41 | I20: 0 | J20: 0
B21: Khalil BEN HASSINE - 5155 | C21: 5 | D21: 3 | E21: 0.6 | F21: 00:10:10 | G21: 0.0023533951 | H21: 08:01:09 | I21: 0 | J21: 2
B22: Joan HENAU - 5482 | C22: - | D22: - | E22: - | F22: - | G22: - | H22: - | I22: - | J22: -
B23: Luc CODOGNO - 5489 | C23: 0 | D23: 0 | E23: - | F23: 00:00:00 | G23: - | H23: 08:13:24 | I23: 0 | J23: 0
B24: Fabrice DURAND - 6591 | C24: 12 | D24: 11 | E24: 0.91666667 | F24: 00:53:51 | G24: 0.0033996212 | H24: 04:11:28 | I24: 8 | J24: 1
B25: Serge ARDON - 6843 | C25: 8 | D25: 7 | E25: 0.875 | F25: 00:54:49 | G25: 0.0054381614 | H25: 05:14:44 | I25: 16 | J25: 1
B26: Henri BERREBI - 7046 | C26: 9 | D26: 9 | E26: 1 | F26: 02:22:26 | G26: 0.010990226 | H26: 00:24:01 | I26: 0 | J26: 0
B27: Ali COULIBALY - 7957 | C27: 21 | D27: 20 | E27: 0.95238095 | F27: 02:45:49 | G27: 0.0057575231 | H27: 02:38:10 | I27: 3 | J27: 0
B28: Nasser AGOUNI - 8176 | C28: 2 | D28: 1 | E28: 0.5 | F28: 00:02:40 | G28: 0.0018518519 | H28: 07:28:20 | I28: 0 | J28: 1
B29: William VILLEMON - 8381 | C29: 15 | D29: 14 | E29: 0.93333333 | F29: 01:52:22 | G29: 0.0055737434 | H29: 01:54:22 | I29: 15 | J29: 0
B30: Jean Bernard BARBE - 8384 | C30: 0 | D30: 0 | E30: - | F30: 00:00:00 | G30: - | H30: 09:32:52 | I30: 3 | J30: 0
B31: Seif MOHAMED - 8468 | C31: - | D31: - | E31: - | F31: - | G31: - | H31: - | I31: - | J31: -
B32: Elfried KIASSI MBAKI - 8751 | C32: 12 | D32: 12 | E32: 1 | F32: 01:26:16 | G32: 0.004992284 | H32: 04:04:23 | I32: 6 | J32: 0
B33: Williams HOUESSOU - 9183 | C33: 9 | D33: 9 | E33: 1 | F33: 00:48:41 | G33: 0.00375643 | H33: 06:32:42 | I33: 22 | J33: 0
B34: Eric SOULINTHAVONG - 9696 | C34: 19 | D34: 18 | E34: 0.94736842 | F34: 02:01:05 | G34: 0.0046714249 | H34: 02:53:33 | I34: 9 | J34: 0
B35: Gautama LOCKEL - 990517 | C35: 28 | D35: 28 | E35: 1 | F35: 03:10:25 | G35: 0.0047226356 | H35: 02:34:28 | I35: 8 | J35: 0
B36: Karim ABBOU - 990623 | C36: - | D36: - | E36: - | F36: - | G36: - | H36: - | I36: - | J36: -
B37: Thomas HESNARD - 990624 | C37: 21 | D37: 20 | E37: 0.95238095 | F37: 00:54:54 | G37: 0.00190625 | H37: 02:09:44 | I37: 2 | J37: 0
B38: Xavier LEFORT - 990627 | C38: 3 | D38: 3 | E38: 1 | F38: 00:09:32 | G38: 0.0022067901 | H38: 07:42:07 | I38: 0 | J38: 0
B39: Frederic FINZI - 990628 | C39: 37 | D39: 34 | E39: 0.91891892 | F39: 04:27:29 | G39: 0.0054633034 | H39: 01:30:03 | I39: 2 | J39: 0
B40: Franck Olivier APHING KOUASSI - 990697 | C40: 52 | D40: 51 | E40: 0.98076923 | F40: 04:22:14 | G40: 0.0035707153 | H40: 02:10:09 | I40: 3 | J40: 0
B41: James TETUANUI - 9921 | C41: 7 | D41: 7 | E41: 1 | F41: 00:30:19 | G41: 0.0030076058 | H41: 07:56:27 | I41: 3 | J41: 0
B42: Emna BERRICHI - 4178 | C42: - | D42: - | E42: - | F42: - | G42: - | H42: - | I42: - | J42: -
B43: Landry Luc HOAREAU - 990625 | C43: - | D43: - | E43: - | F43: - | G43: - | H43: - | I43: - | J43: -
B44: Esther MOALIC - 9405 | C44: - | D44: - | E44: - | F44: - | G44: - | H44: - | I44: - | J44: -
B45: Hieng HUNG - 8720 | C45: - | D45: - | E45: - | F45: - | G45: - | H45: - | I45: - | J45: -
B46: Martin EDMOND - 10418 | C46: 3 | D46: 3 | E46: 1 | F46: 00:14:12 | G46: 0.003287037 | H46: 07:38:24 | I46: 0 | J46: 0
B47: Amara KOUYATE - 990720 | C47: - | D47: - | E47: - | F47: - | G47: - | H47: - | I47: - | J47: -
B48: Botombia KYELE - 7401 | C48: - | D48: - | E48: - | F48: - | G48: - | H48: - | I48: - | J48: -
B49: Derya ATALAY - 10513 | C49: 34 | D49: 34 | E49: 1 | F49: 03:46:49 | G49: 0.0046326934 | H49: 01:57:24 | I49: 0 | J49: 0
B50: Ibrahima SIBY - 10896 | C50: 23 | D50: 23 | E50: 1 | F50: 02:16:03 | G50: 0.0041077899 | H50: 02:43:26 | I50: 8 | J50: 0
B51: Julien CORNIL - 11390 | C51: - | D51: - | E51: - | F51: - | G51: - | H51: - | I51: - | J51: -
B52: Lilian TIERCELIN - 11171 | C52: 21 | D52: 20 | E52: 0.95238095 | F52: 02:56:27 | G52: 0.0061267361 | H52: 02:00:39 | I52: 4 | J52: 0
B53: Nadia ZAHOUAN - 11174 | C53: - | D53: - | E53: - | F53: - | G53: - | H53: - | I53: - | J53: -
B54: Reimy MEY - 11216 | C54: - | D54: - | E54: - | F54: - | G54: - | H54: - | I54: - | J54: -
B55: Sébastien LAMIELLE - 11338 | C55: - | D55: - | E55: - | F55: - | G55: - | H55: - | I55: - | J55: -
B56: Hamed HEDDI - 990719 | C56: - | D56: - | E56: - | F56: - | G56: - | H56: - | I56: - | J56: -
B57: Gabriel DA COSTA - 990718 | C57: - | D57: - | E57: - | F57: - | G57: - | H57: - | I57: - | J57: -

Sheet 03_07
B3: TECHNICIENS | C3: Appels Présentés | D3: Appels décrochés | E3: Taux de décroché | F3: Durée totale de Communication | G3: DMC | H3: Durée en Pas-Prêt | I3: Appels DN | J3: Renvoi en File d'appel
B4: Roland REGIS-LYDI - 10227 | C4: 2 | D4: 1 | E4: 0.5 | F4: 00:07:34 | G4: 0.0052546296 | H4: 07:58:04 | I4: 0 | J4: 1
B5: Jonathan DITCHI - 10228 | C5: 23 | D5: 22 | E5: 0.95652174 | F5: 02:45:43 | G5: 0.0052309554 | H5: 02:18:03 | I5: 3 | J5: 0
B6: Julien FILIPPINI - 10346 | C6: 21 | D6: 21 | E6: 1 | F6: 01:05:16 | G6: 0.0021582892 | H6: 01:44:59 | I6: 3 | J6: 0
B7: Said IRGUES - 10656 | C7: 27 | D7: 27 | E7: 1 | F7: 02:20:03 | G7: 0.0036021091 | H7: 04:54:59 | I7: 0 | J7: 0
B8: Franck LEFORESTIER - 10657 | C8: 25 | D8: 23 | E8: 0.92 | F8: 02:51:25 | G8: 0.005175624 | H8: 02:14:11 | I8: 1 | J8: 1
B9: Lucas COUVEZ - 10864 | C9: 33 | D9: 33 | E9: 1 | F9: 04:28:14 | G9: 0.0056446409 | H9: 01:47:09 | I9: 6 | J9: 0
B10: Alexandre THOMAS - 11172 | C10: - | D10: - | E10: - | F10: - | G10: - | H10: - | I10: - | J10: -
B11: Isabelle LAMY - 11177 | C11: 9 | D11: 8 | E11: 0.88888889 | F11: 00:54:12 | G11: 0.0047048611 | H11: 07:19:40 | I11: 14 | J11: 0
B12: Arnaud DOLIF - 11173 | C12: - | D12: - | E12: - | F12: - | G12: - | H12: - | I12: - | J12: -
B13: Joel JOCAL - 11328 | C13: 32 | D13: 30 | E13: 0.9375 | F13: 05:13:51 | G13: 0.0072650463 | H13: 01:47:31 | I13: 1 | J13: 0
B14: Damien AVEDISSIAN - 11329 | C14: - | D14: - | E14: - | F14: - | G14: - | H14: - | I14: - | J14: -
B15: Tabara SEYE BADIANNE - 11340 | C15: 30 | D15: 30 | E15: 1 | F15: 04:46:22 | G15: 0.006628858 | H15: 01:54:03 | I15: 0 | J15: 0
B16: Louis LEFEVRE - 11341 | C16: 2 | D16: 0 | E16: 0 | F16: 00:00:00 | G16: - | H16: 06:39:27 | I16: 0 | J16: 2
B17: Stephane OUDJANI - 11347 | C17: - | D17: - | E17: - | F17: - | G17: - | H17: - | I17: - | J17: -
B18: Farid SADEK - 3943 | C18: 48 | D18: 47 | E18: 0.97916667 | F18: 04:08:00 | G18: 0.0036643026 | H18: 02:14:46 | I18: 5 | J18: 1
B19: Erwan JEZEQUEL - 4021 | C19: 2 | D19: 2 | E19: 1 | F19: 00:10:10 | G19: 0.0035300926 | H19: 07:59:14 | I19: 1 | J19: 0
B20: Valerie BRUNET - 4590 | C20: 0 | D20: 0 | E20: - | F20: 00:00:00 | G20: - | H20: 03:50:15 | I20: 0 | J20: 0
B21: Khalil BEN HASSINE - 5155 | C21: 3 | D21: 3 | E21: 1 | F21: 00:10:45 | G21: 0.0024884259 | H21: 07:52:42 | I21: 0 | J21: 0
B22: Joan HENAU - 5482 | C22: - | D22: - | E22: - | F22: - | G22: - | H22: - | I22: - | J22: -
B23: Luc CODOGNO - 5489 | C23: 1 | D23: 1 | E23: 1 | F23: 00:00:50 | G23: 0.0005787037 | H23: 08:19:15 | I23: 0 | J23: 0
B24: Fabrice DURAND - 6591 | C24: 25 | D24: 22 | E24: 0.88 | F24: 02:19:43 | G24: 0.0044102483 | H24: 02:49:54 | I24: 1 | J24: 1
B25: Serge ARDON - 6843 | C25: 5 | D25: 5 | E25: 1 | F25: 00:56:32 | G25: 0.0078518519 | H25: 05:48:58 | I25: 11 | J25: 0
B26: Henri BERREBI - 7046 | C26: 28 | D26: 26 | E26: 0.92857143 | F26: 05:11:23 | G26: 0.0083168625 | H26: 01:52:10 | I26: 0 | J26: 0
B27: Ali COULIBALY - 7957 | C27: 25 | D27: 24 | E27: 0.96 | F27: 02:42:43 | G27: 0.0047082369 | H27: 01:51:42 | I27: 9 | J27: 1
B28: Nasser AGOUNI - 8176 | C28: 4 | D28: 2 | E28: 0.5 | F28: 00:09:12 | G28: 0.0031944444 | H28: 07:31:22 | I28: 0 | J28: 2
B29: William VILLEMON - 8381 | C29: 14 | D29: 14 | E29: 1 | F29: 01:54:46 | G29: 0.005692791 | H29: 03:12:54 | I29: 12 | J29: 0
B30: Jean Bernard BARBE - 8384 | C30: 1 | D30: 1 | E30: 1 | F30: 00:03:36 | G30: 0.0025 | H30: 09:37:39 | I30: 5 | J30: 0
B31: Seif MOHAMED - 8468 | C31: - | D31: - | E31: - | F31: - | G31: - | H31: - | I31: - | J31: -
B32: Elfried KIASSI MBAKI - 8751 | C32: 19 | D32: 19 | E32: 1 | F32: 02:13:56 | G32: 0.0048952242 | H32: 03:13:21 | I32: 12 | J32: 0
B33: Williams HOUESSOU - 9183 | C33: 9 | D33: 9 | E33: 1 | F33: 01:04:25 | G33: 0.0049704218 | H33: 05:30:52 | I33: 11 | J33: 0
B34: Eric SOULINTHAVONG - 9696 | C34: 18 | D34: 18 | E34: 1 | F34: 01:44:44 | G34: 0.0040406379 | H34: 04:03:57 | I34: 12 | J34: 0
B35: Gautama LOCKEL - 990517 | C35: 28 | D35: 24 | E35: 0.85714286 | F35: 03:15:48 | G35: 0.0056655093 | H35: 02:01:48 | I35: 5 | J35: 0
B36: Karim ABBOU - 990623 | C36: 10 | D36: 8 | E36: 0.8 | F36: 01:17:08 | G36: 0.0066956019 | H36: 05:02:57 | I36: 6 | J36: 0
B37: Thomas HESNARD - 990624 | C37: 19 | D37: 19 | E37: 1 | F37: 01:04:54 | G37: 0.002372076 | H37: 03:20:05 | I37: 7 | J37: 0
B38: Xavier LEFORT - 990627 | C38: 3 | D38: 3 | E38: 1 | F38: 00:22:27 | G38: 0.0051967593 | H38: 07:39:24 | I38: 0 | J38: 0
B39: Frederic FINZI - 990628 | C39: 41 | D39: 37 | E39: 0.90243902 | F39: 04:25:56 | G39: 0.0049912412 | H39: 01:37:05 | I39: 3 | J39: 0
B40: Franck Olivier APHING KOUASSI - 990697 | C40: 61 | D40: 60 | E40: 0.98360656 | F40: 04:00:17 | G40: 0.0027810571 | H40: 01:34:58 | I40: 0 | J40: 0
B41: James TETUANUI - 9921 | C41: 9 | D41: 9 | E41: 1 | F41: 00:35:28 | G41: 0.0027366255 | H41: 07:33:45 | I41: 3 | J41: 0
B42: Emna BERRICHI - 4178 | C42: 1 | D42: 1 | E42: 1 | F42: 00:08:35 | G42: 0.0059606481 | H42: 06:55:33 | I42: 2 | J42: 0
B43: Landry Luc HOAREAU - 990625 | C43: - | D43: - | E43: - | F43: - | G43: - | H43: - | I43: - | J43: -
B44: Esther MOALIC - 9405 | C44: - | D44: - | E44: - | F44: - | G44: - | H44: - | I44: - | J44: -
B45: Hieng HUNG - 8720 | C45: - | D45: - | E45: - | F45: - | G45: - | H45: - | I45: - | J45: -
B46: Martin EDMOND - 10418 | C46: 7 | D46: 6 | E46: 0.85714286 | F46: 00:32:39 | G46: 0.0037789352 | H46: 07:24:53 | I46: 0 | J46: 1
B47: Amara KOUYATE - 990720 | C47: 0 | D47: 0 | E47: - | F47: 00:00:00 | G47: - | H47: 00:00:51 | I47: 0 | J47: 0
B48: Botombia KYELE - 7401 | C48: - | D48: - | E48: - | F48: - | G48: - | H48: - | I48: - | J48: -
B49: Derya ATALAY - 10513 | C49: 32 | D49: 32 | E49: 1 | F49: 03:33:08 | G49: 0.0046252894 | H49: 02:01:13 | I49: 1 | J49: 0
B50: Ibrahima SIBY - 10896 | C50: 25 | D50: 24 | E50: 0.96 | F50: 03:20:13 | G50: 0.0057933063 | H50: 02:18:26 | I50: 5 | J50: 1
B51: Julien CORNIL - 11390 | C51: 0 | D51: 0 | E51: - | F51: 00:00:00 | G51: - | H51: 00:00:14 | I51: 0 | J51: 0
B52: Lilian TIERCELIN - 11171 | C52: 20 | D52: 20 | E52: 1 | F52: 02:51:31 | G52: 0.0059554398 | H52: 02:44:52 | I52: 2 | J52: 0
B53: Nadia ZAHOUAN - 11174 | C53: - | D53: - | E53: - | F53: - | G53: - | H53: - | I53: - | J53: -
B54: Reimy MEY - 11216 | C54: - | D54: - | E54: - | F54: - | G54: - | H54: - | I54: - | J54: -
B55: Sébastien LAMIELLE - 11338 | C55: - | D55: - | E55: - | F55: - | G55: - | H55: - | I55: - | J55: -
B56: Hamed HEDDI - 990719 | C56: 0 | D56: 0 | E56: - | F56: 00:00:00 | G56: - | H56: 00:00:56 | I56: 0 | J56: 0
B57: Gabriel DA COSTA - 990718 | C57: 0 | D57: 0 | E57: - | F57: 00:00:00 | G57: - | H57: 00:00:30 | I57: 0 | J57: 0

Sheet 04_07
B3: TECHNICIENS | C3: Appels Présentés | D3: Appels décrochés | E3: Taux de décroché | F3: Durée totale de Communication | G3: DMC | H3: Durée en Pas-Prêt | I3: Appels DN | J3: Renvoi en File d'appel
B4: Roland REGIS-LYDI - 10227 | C4: 2 | D4: 1 | E4: 0.5 | F4: 00:10:42 | G4: 0.0074305556 | H4: 06:38:46 | I4: 1 | J4: 1
B5: Jonathan DITCHI - 10228 | C5: 25 | D5: 21 | E5: 0.84 | F5: 02:18:20 | G5: 0.004574515 | H5: 01:55:52 | I5: 5 | J5: 4
B6: Julien FILIPPINI - 10346 | C6: - | D6: - | E6: - | F6: - | G6: - | H6: - | I6: - | J6: -
B7: Said IRGUES - 10656 | C7: - | D7: - | E7: - | F7: - | G7: - | H7: - | I7: - | J7: -
B8: Franck LEFORESTIER - 10657 | C8: 26 | D8: 25 | E8: 0.96153846 | F8: 01:43:25 | G8: 0.0028726852 | H8: 02:13:13 | I8: 6 | J8: 0
B9: Lucas COUVEZ - 10864 | C9: 33 | D9: 33 | E9: 1 | F9: 03:19:47 | G9: 0.0042041947 | H9: 02:00:13 | I9: 9 | J9: 0
B10: Alexandre THOMAS - 11172 | C10: - | D10: - | E10: - | F10: - | G10: - | H10: - | I10: - | J10: -
B11: Isabelle LAMY - 11177 | C11: 1 | D11: 1 | E11: 1 | F11: 00:02:27 | G11: 0.0017013889 | H11: 06:40:21 | I11: 18 | J11: 0
B12: Arnaud DOLIF - 11173 | C12: - | D12: - | E12: - | F12: - | G12: - | H12: - | I12: - | J12: -
B13: Joel JOCAL - 11328 | C13: 30 | D13: 30 | E13: 1 | F13: 04:50:37 | G13: 0.0067272377 | H13: 01:07:27 | I13: 0 | J13: 0
B14: Damien AVEDISSIAN - 11329 | C14: - | D14: - | E14: - | F14: - | G14: - | H14: - | I14: - | J14: -
B15: Tabara SEYE BADIANNE - 11340 | C15: 29 | D15: 28 | E15: 0.96551724 | F15: 04:29:12 | G15: 0.0066765873 | H15: 01:32:31 | I15: 2 | J15: 0
B16: Louis LEFEVRE - 11341 | C16: 0 | D16: 0 | E16: - | F16: 00:00:00 | G16: - | H16: 06:49:44 | I16: 0 | J16: 0
B17: Stephane OUDJANI - 11347 | C17: - | D17: - | E17: - | F17: - | G17: - | H17: - | I17: - | J17: -
B18: Farid SADEK - 3943 | C18: 23 | D18: 23 | E18: 1 | F18: 02:03:58 | G18: 0.0037429549 | H18: 00:23:15 | I18: 0 | J18: 0
B19: Erwan JEZEQUEL - 4021 | C19: 2 | D19: 2 | E19: 1 | F19: 00:08:43 | G19: 0.0030266204 | H19: 07:56:07 | I19: 8 | J19: 0
B20: Valerie BRUNET - 4590 | C20: 0 | D20: 0 | E20: - | F20: 00:00:00 | G20: - | H20: 03:36:44 | I20: 0 | J20: 0
B21: Khalil BEN HASSINE - 5155 | C21: 3 | D21: 2 | E21: 0.66666667 | F21: 00:04:59 | G21: 0.0017303241 | H21: 06:43:59 | I21: 1 | J21: 1
B22: Joan HENAU - 5482 | C22: - | D22: - | E22: - | F22: - | G22: - | H22: - | I22: - | J22: -
B23: Luc CODOGNO - 5489 | C23: 0 | D23: 0 | E23: - | F23: 00:00:00 | G23: - | H23: 07:00:36 | I23: 0 | J23: 0
B24: Fabrice DURAND - 6591 | C24: 22 | D24: 20 | E24: 0.90909091 | F24: 02:02:15 | G24: 0.0042447917 | H24: 01:54:22 | I24: 3 | J24: 1
B25: Serge ARDON - 6843 | C25: 3 | D25: 3 | E25: 1 | F25: 00:37:36 | G25: 0.0087037037 | H25: 04:34:29 | I25: 12 | J25: 0
B26: Henri BERREBI - 7046 | C26: 19 | D26: 18 | E26: 0.94736842 | F26: 03:12:10 | G26: 0.0074138374 | H26: 01:48:15 | I26: 1 | J26: 0
B27: Ali COULIBALY - 7957 | C27: 11 | D27: 10 | E27: 0.90909091 | F27: 00:55:13 | G27: 0.0038344907 | H27: 01:36:53 | I27: 1 | J27: 1
B28: Nasser AGOUNI - 8176 | C28: 3 | D28: 3 | E28: 1 | F28: 00:06:26 | G28: 0.0014891975 | H28: 06:36:06 | I28: 0 | J28: 0
B29: William VILLEMON - 8381 | C29: 14 | D29: 14 | E29: 1 | F29: 02:27:40 | G29: 0.0073247354 | H29: 01:47:09 | I29: 4 | J29: 0
B30: Jean Bernard BARBE - 8384 | C30: - | D30: - | E30: - | F30: - | G30: - | H30: - | I30: - | J30: -
B31: Seif MOHAMED - 8468 | C31: - | D31: - | E31: - | F31: - | G31: - | H31: - | I31: - | J31: -
B32: Elfried KIASSI MBAKI - 8751 | C32: 15 | D32: 15 | E32: 1 | F32: 01:39:41 | G32: 0.0046149691 | H32: 03:31:59 | I32: 9 | J32: 0
B33: Williams HOUESSOU - 9183 | C33: 9 | D33: 9 | E33: 1 | F33: 01:02:45 | G33: 0.004841821 | H33: 03:37:55 | I33: 3 | J33: 0
B34: Eric SOULINTHAVONG - 9696 | C34: 16 | D34: 16 | E34: 1 | F34: 01:25:39 | G34: 0.0037174479 | H34: 01:34:49 | I34: 6 | J34: 0
B35: Gautama LOCKEL - 990517 | C35: 23 | D35: 23 | E35: 1 | F35: 02:02:41 | G35: 0.0037042069 | H35: 01:42:22 | I35: 5 | J35: 0
B36: Karim ABBOU - 990623 | C36: 15 | D36: 13 | E36: 0.86666667 | F36: 01:38:39 | G36: 0.005269765 | H36: 01:50:26 | I36: 3 | J36: 1
B37: Thomas HESNARD - 990624 | C37: 25 | D37: 22 | E37: 0.88 | F37: 01:20:44 | G37: 0.0025484007 | H37: 01:11:36 | I37: 0 | J37: 1
B38: Xavier LEFORT - 990627 | C38: 4 | D38: 3 | E38: 0.75 | F38: 00:20:35 | G38: 0.0047646605 | H38: 07:21:08 | I38: 1 | J38: 0
B39: Frederic FINZI - 990628 | C39: 45 | D39: 36 | E39: 0.8 | F39: 03:27:46 | G39: 0.0040078447 | H39: 02:27:18 | I39: 6 | J39: 1
B40: Franck Olivier APHING KOUASSI - 990697 | C40: 56 | D40: 54 | E40: 0.96428571 | F40: 04:34:53 | G40: 0.0035350223 | H40: 01:34:29 | I40: 3 | J40: 0
B41: James TETUANUI - 9921 | C41: 0 | D41: 0 | E41: - | F41: 00:00:00 | G41: - | H41: 06:42:43 | I41: 1 | J41: 0
B42: Emna BERRICHI - 4178 | C42: 3 | D42: 3 | E42: 1 | F42: 00:23:15 | G42: 0.0053819444 | H42: 06:46:08 | I42: 5 | J42: 0
B43: Landry Luc HOAREAU - 990625 | C43: - | D43: - | E43: - | F43: - | G43: - | H43: - | I43: - | J43: -
B44: Esther MOALIC - 9405 | C44: - | D44: - | E44: - | F44: - | G44: - | H44: - | I44: - | J44: -
B45: Hieng HUNG - 8720 | C45: - | D45: - | E45: - | F45: - | G45: - | H45: - | I45: - | J45: -
B46: Martin EDMOND - 10418 | C46: 1 | D46: 1 | E46: 1 | F46: 00:02:26 | G46: 0.0016898148 | H46: 06:05:34 | I46: 0 | J46: 0
B47: Amara KOUYATE - 990720 | C47: - | D47: - | E47: - | F47: - | G47: - | H47: - | I47: - | J47: -
B48: Botombia KYELE - 7401 | C48: - | D48: - | E48: - | F48: - | G48: - | H48: - | I48: - | J48: -
B49: Derya ATALAY - 10513 | C49: 23 | D49: 23 | E49: 1 | F49: 03:20:31 | G49: 0.0060542472 | H49: 01:43:34 | I49: 7 | J49: 0
B50: Ibrahima SIBY - 10896 | C50: 29 | D50: 28 | E50: 0.96551724 | F50: 03:16:08 | G50: 0.004864418 | H50: 02:00:32 | I50: 12 | J50: 1
B51: Julien CORNIL - 11390 | C51: - | D51: - | E51: - | F51: - | G51: - | H51: - | I51: - | J51: -
B52: Lilian TIERCELIN - 11171 | C52: 21 | D52: 21 | E52: 1 | F52: 02:59:09 | G52: 0.0059242725 | H52: 01:38:11 | I52: 2 | J52: 0
B53: Nadia ZAHOUAN - 11174 | C53: - | D53: - | E53: - | F53: - | G53: - | H53: - | I53: - | J53: -
B54: Reimy MEY - 11216 | C54: - | D54: - | E54: - | F54: - | G54: - | H54: - | I54: - | J54: -
B55: Sébastien LAMIELLE - 11338 | C55: - | D55: - | E55: - | F55: - | G55: - | H55: - | I55: - | J55: -
B56: Hamed HEDDI - 990719 | C56: - | D56: - | E56: - | F56: - | G56: - | H56: - | I56: - | J56: -
B57: Gabriel DA COSTA - 990718 | C57: - | D57: - | E57: - | F57: - | G57: - | H57: - | I57: - | J57: -

Sheet 07_07
B3: TECHNICIENS | C3: Appels Présentés | D3: Appels décrochés | E3: Taux de décroché | F3: Durée totale de Communication | G3: DMC | H3: Durée en Pas-Prêt | I3: Appels DN | J3: Renvoi en File d'appel
B4: Roland REGIS-LYDI - 10227 | C4: 4 | D4: 4 | E4: 1 | F4: 00:10:54 | G4: 0.0018923611 | H4: 09:04:13 | I4: 1 | J4: 0
B5: Jonathan DITCHI - 10228 | C5: 17 | D5: 16 | E5: 0.94117647 | F5: 02:46:05 | G5: 0.007208478 | H5: 01:53:26 | I5: 8 | J5: 1
B6: Julien FILIPPINI - 10346 | C6: 25 | D6: 25 | E6: 1 | F6: 00:58:38 | G6: 0.0016287037 | H6: 02:10:48 | I6: 8 | J6: 0
B7: Said IRGUES - 10656 | C7: 13 | D7: 13 | E7: 1 | F7: 01:12:38 | G7: 0.0038799858 | H7: 06:06:11 | I7: 1 | J7: 0
B8: Franck LEFORESTIER - 10657 | C8: 36 | D8: 36 | E8: 1 | F8: 03:16:40 | G8: 0.0037937243 | H8: 01:56:56 | I8: 3 | J8: 0
B9: Lucas COUVEZ - 10864 | C9: 53 | D9: 53 | E9: 1 | F9: 05:50:39 | G9: 0.0045944706 | H9: 02:00:18 | I9: 9 | J9: 0
B10: Alexandre THOMAS - 11172 | C10: 49 | D10: 49 | E10: 1 | F10: 05:31:12 | G10: 0.0046938776 | H10: 01:53:12 | I10: 2 | J10: 0
B11: Isabelle LAMY - 11177 | C11: 20 | D11: 20 | E11: 1 | F11: 01:33:22 | G11: 0.0032418981 | H11: 07:33:45 | I11: 8 | J11: 0
B12: Arnaud DOLIF - 11173 | C12: 54 | D12: 54 | E12: 1 | F12: 04:44:32 | G12: 0.0036591221 | H12: 02:12:33 | I12: 0 | J12: 0
B13: Joel JOCAL - 11328 | C13: 13 | D13: 13 | E13: 1 | F13: 03:23:11 | G13: 0.010853811 | H13: 00:24:12 | I13: 1 | J13: 0
B14: Damien AVEDISSIAN - 11329 | C14: 16 | D14: 16 | E14: 1 | F14: 03:10:29 | G14: 0.0082675058 | H14: 01:19:02 | I14: 1 | J14: 0
B15: Tabara SEYE BADIANNE - 11340 | C15: 21 | D15: 21 | E15: 1 | F15: 03:20:36 | G15: 0.0066335979 | H15: 01:14:33 | I15: 0 | J15: 0
B16: Louis LEFEVRE - 11341 | C16: 1 | D16: 0 | E16: 0 | F16: 00:00:00 | G16: - | H16: 06:18:37 | I16: 0 | J16: 1
B17: Stephane OUDJANI - 11347 | C17: 23 | D17: 22 | E17: 0.95652174 | F17: 02:51:15 | G17: 0.0054056187 | H17: 00:45:35 | I17: 1 | J17: 0
B18: Farid SADEK - 3943 | C18: 40 | D18: 40 | E18: 1 | F18: 03:35:59 | G18: 0.0037497106 | H18: 02:49:56 | I18: 2 | J18: 0
B19: Erwan JEZEQUEL - 4021 | C19: 1 | D19: 0 | E19: 0 | F19: 00:00:00 | G19: - | H19: 09:10:28 | I19: 0 | J19: 1
B20: Valerie BRUNET - 4590 | C20: 0 | D20: 0 | E20: - | F20: 00:00:00 | G20: - | H20: 03:51:47 | I20: 0 | J20: 0
B21: Khalil BEN HASSINE - 5155 | C21: 5 | D21: 3 | E21: 0.6 | F21: 00:11:55 | G21: 0.0027584877 | H21: 08:53:19 | I21: 0 | J21: 2
B22: Joan HENAU - 5482 | C22: 6 | D22: 6 | E22: 1 | F22: 00:16:45 | G22: 0.0019386574 | H22: 10:05:01 | I22: 0 | J22: 0
B23: Luc CODOGNO - 5489 | C23: 6 | D23: 4 | E23: 0.66666667 | F23: 00:13:53 | G23: 0.0024103009 | H23: 08:59:20 | I23: 0 | J23: 2
B24: Fabrice DURAND - 6591 | C24: 25 | D24: 25 | E24: 1 | F24: 02:56:52 | G24: 0.004912963 | H24: 02:44:30 | I24: 4 | J24: 0
B25: Serge ARDON - 6843 | C25: 13 | D25: 11 | E25: 0.84615385 | F25: 01:39:58 | G25: 0.0063110269 | H25: 05:56:47 | I25: 11 | J25: 2
B26: Henri BERREBI - 7046 | C26: 30 | D26: 28 | E26: 0.93333333 | F26: 05:04:45 | G26: 0.0075582837 | H26: 02:07:14 | I26: 2 | J26: 0
B27: Ali COULIBALY - 7957 | C27: 26 | D27: 26 | E27: 1 | F27: 03:45:09 | G27: 0.0060136218 | H27: 02:12:49 | I27: 14 | J27: 0
B28: Nasser AGOUNI - 8176 | C28: 1 | D28: 0 | E28: 0 | F28: 00:00:00 | G28: - | H28: 09:06:44 | I28: 0 | J28: 1
B29: William VILLEMON - 8381 | C29: 30 | D29: 30 | E29: 1 | F29: 03:46:16 | G29: 0.0052376543 | H29: 01:58:57 | I29: 5 | J29: 0
B30: Jean Bernard BARBE - 8384 | C30: 1 | D30: 0 | E30: 0 | F30: 00:00:00 | G30: - | H30: 09:00:50 | I30: 1 | J30: 1
B31: Seif MOHAMED - 8468 | C31: 52 | D31: 51 | E31: 0.98076923 | F31: 03:05:26 | G31: 0.0025249637 | H31: 02:08:10 | I31: 7 | J31: 1
B32: Elfried KIASSI MBAKI - 8751 | C32: 18 | D32: 18 | E32: 1 | F32: 01:46:57 | G32: 0.0041261574 | H32: 06:15:44 | I32: 7 | J32: 0
B33: Williams HOUESSOU - 9183 | C33: 5 | D33: 5 | E33: 1 | F33: 00:41:31 | G33: 0.0057662037 | H33: 08:26:52 | I33: 4 | J33: 0
B34: Eric SOULINTHAVONG - 9696 | C34: 25 | D34: 25 | E34: 1 | F34: 02:06:54 | G34: 0.003525 | H34: 04:01:10 | I34: 7 | J34: 0
B35: Gautama LOCKEL - 990517 | C35: 19 | D35: 17 | E35: 0.89473684 | F35: 02:22:19 | G35: 0.0058135893 | H35: 02:43:52 | I35: 4 | J35: 0
B36: Karim ABBOU - 990623 | C36: 22 | D36: 21 | E36: 0.95454545 | F36: 02:44:19 | G36: 0.0054337522 | H36: 04:12:40 | I36: 3 | J36: 0
B37: Thomas HESNARD - 990624 | C37: 29 | D37: 28 | E37: 0.96551724 | F37: 01:26:34 | G37: 0.0021469907 | H37: 03:06:33 | I37: 0 | J37: 0
B38: Xavier LEFORT - 990627 | C38: 8 | D38: 8 | E38: 1 | F38: 00:40:33 | G38: 0.0035199653 | H38: 08:28:19 | I38: 1 | J38: 0
B39: Frederic FINZI - 990628 | C39: 66 | D39: 57 | E39: 0.86363636 | F39: 04:25:57 | G39: 0.0032401316 | H39: 01:47:23 | I39: 6 | J39: 2
B40: Franck Olivier APHING KOUASSI - 990697 | C40: 53 | D40: 53 | E40: 1 | F40: 03:34:23 | G40: 0.0028090059 | H40: 03:58:47 | I40: 0 | J40: 0
B41: James TETUANUI - 9921 | C41: 15 | D41: 15 | E41: 1 | F41: 01:31:55 | G41: 0.0042554012 | H41: 07:24:25 | I41: 2 | J41: 0
B42: Emna BERRICHI - 4178 | C42: - | D42: - | E42: - | F42: - | G42: - | H42: - | I42: - | J42: -
B43: Landry Luc HOAREAU - 990625 | C43: - | D43: - | E43: - | F43: - | G43: - | H43: - | I43: - | J43: -
B44: Esther MOALIC - 9405 | C44: - | D44: - | E44: - | F44: - | G44: - | H44: - | I44: - | J44: -
B45: Hieng HUNG - 8720 | C45: - | D45: - | E45: - | F45: - | G45: - | H45: - | I45: - | J45: -
B46: Martin EDMOND - 10418 | C46: - | D46: - | E46: - | F46: - | G46: - | H46: - | I46: - | J46: -
B47: Amara KOUYATE - 990720 | C47: - | D47: - | E47: - | F47: - | G47: - | H47: - | I47: - | J47: -
B48: Botombia KYELE - 7401 | C48: - | D48: - | E48: - | F48: - | G48: - | H48: - | I48: - | J48: -
B49: Derya ATALAY - 10513 | C49: - | D49: - | E49: - | F49: - | G49: - | H49: - | I49: - | J49: -
B50: Ibrahima SIBY - 10896 | C50: - | D50: - | E50: - | F50: - | G50: - | H50: - | I50: - | J50: -
B51: Julien CORNIL - 11390 | C51: - | D51: - | E51: - | F51: - | G51: - | H51: - | I51: - | J51: -
B52: Lilian TIERCELIN - 11171 | C52: - | D52: - | E52: - | F52: - | G52: - | H52: - | I52: - | J52: -
B53: Nadia ZAHOUAN - 11174 | C53: - | D53: - | E53: - | F53: - | G53: - | H53: - | I53: - | J53: -
... B57: Gabriel DA COSTA - 990718 | C57: - | D57: - | E57: - | F57: - | G57: - | H57: - | I57: - | J57: -

Sheet 08_07
B3: TECHNICIENS | C3: Appels Présentés | D3: Appels décrochés | E3: Taux de décroché | F3: Durée totale de Communication | G3: DMC | H3: Durée en Pas-Prêt | I3: Appels DN | J3: Renvoi en File d'appel
B4: Roland REGIS-LYDI - 10227 | C4: 3 | D4: 3 | E4: 1 | F4: 00:29:07 | G4: 0.0067399691 | H4: 08:06:58 | I4: 4 | J4: 0
B5: Jonathan DITCHI - 10228 | C5: 18 | D5: 16 | E5: 0.88888889 | F5: 01:50:19 | G5: 0.0047880498 | H5: 01:56:01 | I5: 8 | J5: 0
B6: Julien FILIPPINI - 10346 | C6: 21 | D6: 20 | E6: 0.95238095 | F6: 00:44:54 | G6: 0.0015590278 | H6: 03:06:14 | I6: 8 | J6: 0
B7: Said IRGUES - 10656 | C7: - | D7: - | E7: - | F7: - | G7: - | H7: - | I7: - | J7: -
B8: Franck LEFORESTIER - 10657 | C8: 26 | D8: 24 | E8: 0.92307692 | F8: 02:10:49 | G8: 0.0037852045 | H8: 02:54:48 | I8: 4 | J8: 0
B9: Lucas COUVEZ - 10864 | C9: 36 | D9: 36 | E9: 1 | F9: 03:41:31 | G9: 0.0042730838 | H9: 02:39:31 | I9: 11 | J9: 0
B10: Alexandre THOMAS - 11172 | C10: 43 | D10: 43 | E10: 1 | F10: 05:10:51 | G10: 0.0050201873 | H10: 01:48:07 | I10: 1 | J10: 0
B11: Isabelle LAMY - 11177 | C11: 12 | D11: 12 | E11: 1 | F11: 01:29:08 | G11: 0.005158179 | H11: 09:23:21 | I11: 6 | J11: 0
B12: Arnaud DOLIF - 11173 | C12: 46 | D12: 46 | E12: 1 | F12: 04:02:40 | G12: 0.0036634461 | H12: 02:23:56 | I12: 4 | J12: 0
B13: Joel JOCAL - 11328 | C13: 38 | D13: 38 | E13: 1 | F13: 05:58:23 | G13: 0.006549403 | H13: 02:14:16 | I13: 5 | J13: 0
B14: Damien AVEDISSIAN - 11329 | C14: 29 | D14: 28 | E14: 0.96551724 | F14: 04:44:46 | G14: 0.0070626653 | H14: 02:59:32 | I14: 6 | J14: 0
B15: Tabara SEYE BADIANNE - 11340 | C15: 39 | D15: 38 | E15: 0.97435897 | F15: 04:51:45 | G15: 0.0053316886 | H15: 02:03:38 | I15: 4 | J15: 0
B16: Louis LEFEVRE - 11341 | C16: 36 | D16: 29 | E16: 0.80555556 | F16: 02:54:25 | G16: 0.0041766443 | H16: 03:20:11 | I16: 8 | J16: 5
B17: Stephane OUDJANI - 11347 | C17: - | D17: - | E17: - | F17: - | G17: - | H17: - | I17: - | J17: -
B18: Farid SADEK - 3943 | C18: 46 | D18: 41 | E18: 0.89130435 | F18: 03:14:53 | G18: 0.0033008695 | H18: 03:04:05 | I18: 0 | J18: 4
B19: Erwan JEZEQUEL - 4021 | C19: 4 | D19: 4 | E19: 1 | F19: 00:15:39 | G19: 0.0027170139 | H19: 08:53:58 | I19: 0 | J19: 0
B20: Valerie BRUNET - 4590 | C20: 0 | D20: 0 | E20: - | F20: 00:00:00 | G20: - | H20: 03:34:12 | I20: 0 | J20: 0
B21: Khalil BEN HASSINE - 5155 | C21: - | D21: - | E21: - | F21: - | G21: - | H21: - | I21: - | J21: -
B22: Joan HENAU - 5482 | C22: 7 | D22: 5 | E22: 0.71428571 | F22: 00:22:53 | G22: 0.0031782407 | H22: 10:11:50 | I22: 1 | J22: 2
B23: Luc CODOGNO - 5489 | C23: 5 | D23: 3 | E23: 0.6 | F23: 00:13:58 | G23: 0.0032330247 | H23: 09:11:16 | I23: 0 | J23: 2
B24: Fabrice DURAND - 6591 | C24: 36 | D24: 34 | E24: 0.94444444 | F24: 03:11:20 | G24: 0.0039079521 | H24: 02:23:49 | I24: 2 | J24: 1
B25: Serge ARDON - 6843 | C25: 8 | D25: 8 | E25: 1 | F25: 00:47:00 | G25: 0.0040798611 | H25: 06:07:18 | I25: 10 | J25: 0
B26: Henri BERREBI - 7046 | C26: 32 | D26: 27 | E26: 0.84375 | F26: 04:38:31 | G26: 0.0071634945 | H26: 02:19:59 | I26: 0 | J26: 0
B27: Ali COULIBALY - 7957 | C27: 32 | D27: 31 | E27: 0.96875 | F27: 03:10:35 | G27: 0.0042693399 | H27: 02:27:37 | I27: 12 | J27: 0
B28: Nasser AGOUNI - 8176 | C28: 1 | D28: 1 | E28: 1 | F28: 00:02:58 | G28: 0.0020601852 | H28: 08:53:55 | I28: 0 | J28: 0
B29: William VILLEMON - 8381 | C29: 24 | D29: 24 | E29: 1 | F29: 03:16:20 | G29: 0.0056809414 | H29: 02:11:41 | I29: 13 | J29: 0
B30: Jean Bernard BARBE - 8384 | C30: 0 | D30: 0 | E30: - | F30: 00:00:00 | G30: - | H30: 08:42:11 | I30: 1 | J30: 0
B31: Seif MOHAMED - 8468 | C31: 43 | D31: 35 | E31: 0.81395349 | F31: 01:34:08 | G31: 0.0018677249 | H31: 02:48:50 | I31: 3 | J31: 7
B32: Elfried KIASSI MBAKI - 8751 | C32: 29 | D32: 28 | E32: 0.96551724 | F32: 02:55:20 | G32: 0.004348545 | H32: 02:17:18 | I32: 4 | J32: 0
B33: Williams HOUESSOU - 9183 | C33: 2 | D33: 1 | E33: 0.5 | F33: 00:02:22 | G33: 0.0016435185 | H33: 08:48:01 | I33: 20 | J33: 0
B34: Eric SOULINTHAVONG - 9696 | C34: 28 | D34: 28 | E34: 1 | F34: 02:48:24 | G34: 0.0041765873 | H34: 05:40:43 | I34: 3 | J34: 0
B35: Gautama LOCKEL - 990517 | C35: 13 | D35: 13 | E35: 1 | F35: 02:00:16 | G35: 0.0064245014 | H35: 01:11:25 | I35: 0 | J35: 0
B36: Karim ABBOU - 990623 | C36: 22 | D36: 22 | E36: 1 | F36: 02:49:56 | G36: 0.0053640572 | H36: 04:23:16 | I36: 4 | J36: 0
B37: Thomas HESNARD - 990624 | C37: 20 | D37: 18 | E37: 0.9 | F37: 00:41:06 | G37: 0.0015856481 | H37: 02:33:50 | I37: 3 | J37: 0
B38: Xavier LEFORT - 990627 | C38: 7 | D38: 6 | E38: 0.85714286 | F38: 00:20:37 | G38: 0.0023861883 | H38: 08:23:54 | I38: 0 | J38: 1
B39: Frederic FINZI - 990628 | C39: - | D39: - | E39: - | F39: - | G39: - | H39: - | I39: - | J39: -
B40: Franck Olivier APHING KOUASSI - 990697 | C40: 57 | D40: 56 | E40: 0.98245614 | F40: 04:30:29 | G40: 0.003354208 | H40: 01:34:27 | I40: 3 | J40: 0
B41: James TETUANUI - 9921 | C41: 9 | D41: 9 | E41: 1 | F41: 00:45:55 | G41: 0.0035429527 | H41: 07:37:50 | I41: 3 | J41: 0
B42: Emna BERRICHI - 4178 | C42: 1 | D42: 1 | E42: 1 | F42: 00:00:23 | G42: 0.0002662037 | H42: 08:27:35 | I42: 1 | J42: 0
B43: Landry Luc HOAREAU - 990625 | C43: - | D43: - | E43: - | F43: - | G43: - | H43: - | I43: - | J43: -
B44: Esther MOALIC - 9405 | C44: - | D44: - | E44: - | F44: - | G44: - | H44: - | I44: - | J44: -
B45: Hieng HUNG - 8720 | C45: 1 | D45: 0 | E45: 0 | F45: 00:00:00 | G45: - | H45: 08:38:13 | I45: 1 | J45: 1
B46: Martin EDMOND - 10418 | C46: 8 | D46: 8 | E46: 1 | F46: 01:06:57 | G46: 0.0058116319 | H46: 07:35:00 | I46: 3 | J46: 0
B47: Amara KOUYATE - 990720 | C47: - | D47: - | E47: - | F47: - | G47: - | H47: - | I47: - | J47: -
B48: Botombia KYELE - 7401 | C48: - | D48: - | E48: - | F48: - | G48: - | H48: - | I48: - | J48: -
B49: Derya ATALAY - 10513 | C49: - | D49: - | E49: - | F49: - | G49: - | H49: - | I49: - | J49: -
B50: Ibrahima SIBY - 10896 | C50: - | D50: - | E50: - | F50: - | G50: - | H50: - | I50: - | J50: -
B51: Julien CORNIL - 11390 | C51: - | D51: - | E51: - | F51: - | G51: - | H51: - | I51: - | J51: -
B52: Lilian TIERCELIN - 11171 | C52: - | D52: - | E52: - | F52: - | G52: - | H52: - | I52: - | J52: -
B53: Nadia ZAHOUAN - 11174 | C53: - | D53: - | E53: - | F53: - | G53: - | H53: - | I53: - | J53: -
B54: Reimy MEY - 11216 | C54: - | D54: - | E54: - | F54: - | G54: - | H54: - | I54: - | J54: -
B55: Sébastien LAMIELLE - 11338 | C55: - | D55: - | E55: - | F55: - | G55: - | H55: - | I55: - | J55: -
B56: Hamed HEDDI - 990719 | C56: - | D56: - | E56: - | F56: - | G56: - | H56: - | I56: - | J56: -
B57: Gabriel DA COSTA - 990718 | C57: - | D57: - | E57: - | F57: - | G57: - | H57: - | I57: - | J57: -

Sheet 09_07
B3: TECHNICIENS | C3: Appels Présentés | D3: Appels décrochés | E3: Taux de décroché | F3: Durée totale de Communication | G3: DMC | H3: Durée en Pas-Prêt | I3: Appels DN | J3: Renvoi en File d'appel
B4: Roland REGIS-LYDI - 10227 | C4: 4 | D4: 4 | E4: 1 | F4: 00:14:24 | G4: 0.0025 | H4: 07:58:18 | I4: 5 | J4: 0
B5: Jonathan DITCHI - 10228 | C5: 17 | D5: 15 | E5: 0.88235294 | F5: 02:09:17 | G5: 0.0059853395 | H5: 02:07:26 | I5: 4 | J5: 1
B6: Julien FILIPPINI - 10346 | C6: 29 | D6: 27 | E6: 0.93103448 | F6: 01:39:50 | G6: 0.0025677298 | H6: 01:59:39 | I6: 3 | J6: 1
B7: Said IRGUES - 10656 | C7: 26 | D7: 26 | E7: 1 | F7: 02:23:19 | G7: 0.0038279024 | H7: 02:21:45 | I7: 0 | J7: 0
B8: Franck LEFORESTIER - 10657 | C8: 26 | D8: 26 | E8: 1 | F8: 02:03:56 | G8: 0.0033101852 | H8: 02:32:33 | I8: 1 | J8: 0
B9: Lucas COUVEZ - 10864 | C9: 41 | D9: 41 | E9: 1 | F9: 04:43:16 | G9: 0.0047978771 | H9: 02:05:25 | I9: 10 | J9: 0
B10: Alexandre THOMAS - 11172 | C10: 35 | D10: 35 | E10: 1 | F10: 04:12:52 | G10: 0.0050171958 | H10: 02:08:19 | I10: 5 | J10: 0
B11: Isabelle LAMY - 11177 | C11: 9 | D11: 9 | E11: 1 | F11: 00:49:16 | G11: 0.0038014403 | H11: 09:09:57 | I11: 3 | J11: 0
B12: Arnaud DOLIF - 11173 | C12: 48 | D12: 48 | E12: 1 | F12: 04:27:57 | G12: 0.0038765914 | H12: 02:41:37 | I12: 1 | J12: 0
B13: Joel JOCAL - 11328 | C13: 33 | D13: 31 | E13: 0.93939394 | F13: 06:23:40 | G13: 0.0085946834 | H13: 01:09:18 | I13: 0 | J13: 0
B14: Damien AVEDISSIAN - 11329 | C14: - | D14: - | E14: - | F14: - | G14: - | H14: - | I14: - | J14: -
B15: Tabara SEYE BADIANNE - 11340 | C15: 38 | D15: 37 | E15: 0.97368421 | F15: 05:37:50 | G15: 0.0063407157 | H15: 02:11:22 | I15: 3 | J15: 0
B16: Louis LEFEVRE - 11341 | C16: 61 | D16: 43 | E16: 0.70491803 | F16: 02:59:22 | G16: 0.0028967485 | H16: 03:22:41 | I16: 0 | J16: 17
B17: Stephane OUDJANI - 11347 | C17: - | D17: - | E17: - | F17: - | G17: - | H17: - | I17: - | J17: -
B18: Farid SADEK - 3943 | C18: 45 | D18: 45 | E18: 1 | F18: 03:31:38 | G18: 0.0032659465 | H18: 02:33:27 | I18: 0 | J18: 0
B19: Erwan JEZEQUEL - 4021 | C19: 0 | D19: 0 | E19: - | F19: 00:00:00 | G19: - | H19: 08:10:23 | I19: 1 | J19: 0
B20: Valerie BRUNET - 4590 | C20: 0 | D20: 0 | E20: - | F20: 00:00:00 | G20: - | H20: 04:01:40 | I20: 0 | J20: 0
B21: Khalil BEN HASSINE - 5155 | C21: 6 | D21: 4 | E21: 0.66666667 | F21: 00:16:34 | G21: 0.0028761574 | H21: 07:41:57 | I21: 1 | J21: 2
B22: Joan HENAU - 5482 | C22: 9 | D22: 8 | E22: 0.88888889 | F22: 00:37:26 | G22: 0.0032494213 | H22: 06:50:45 | I22: 0 | J22: 1
B23: Luc CODOGNO - 5489 | C23: 5 | D23: 3 | E23: 0.6 | F23: 00:14:18 | G23: 0.0033101852 | H23: 08:06:50 | I23: 0 | J23: 2
B24: Fabrice DURAND - 6591 | C24: 25 | D24: 24 | E24: 0.96 | F24: 02:57:54 | G24: 0.0051475694 | H24: 02:29:33 | I24: 3 | J24: 0
B25: Serge ARDON - 6843 | C25: 4 | D25: 4 | E25: 1 | F25: 00:55:34 | G25: 0.0096469907 | H25: 04:49:32 | I25: 4 | J25: 0
B26: Henri BERREBI - 7046 | C26: 31 | D26: 26 | E26: 0.83870968 | F26: 04:20:21 | G26: 0.0069537927 | H26: 02:24:16 | I26: 3 | J26: 3
B27: Ali COULIBALY - 7957 | C27: 18 | D27: 18 | E27: 1 | F27: 02:39:27 | G27: 0.0061516204 | H27: 02:01:16 | I27: 5 | J27: 0
B28: Nasser AGOUNI - 8176 | C28: 3 | D28: 0 | E28: 0 | F28: 00:00:00 | G28: - | H28: 07:36:52 | I28: 0 | J28: 3
B29: William VILLEMON - 8381 | C29: 22 | D29: 21 | E29: 0.95454545 | F29: 03:06:49 | G29: 0.0061777998 | H29: 02:08:10 | I29: 6 | J29: 0
B30: Jean Bernard BARBE - 8384 | C30: - | D30: - | E30: - | F30: - | G30: - | H30: - | I30: - | J30: -
B31: Seif MOHAMED - 8468 | C31: 43 | D31: 41 | E31: 0.95348837 | F31: 02:01:12 | G31: 0.0020528455 | H31: 02:03:23 | I31: 1 | J31: 1
B32: Elfried KIASSI MBAKI - 8751 | C32: 19 | D32: 19 | E32: 1 | F32: 02:53:06 | G32: 0.0063267544 | H32: 03:16:28 | I32: 8 | J32: 0
B33: Williams HOUESSOU - 9183 | C33: 1 | D33: 1 | E33: 1 | F33: 00:02:58 | G33: 0.0020601852 | H33: 06:54:44 | I33: 4 | J33: 0
B34: Eric SOULINTHAVONG - 9696 | C34: 31 | D34: 29 | E34: 0.93548387 | F34: 02:48:08 | G34: 0.0040261814 | H34: 03:04:54 | I34: 5 | J34: 2
B35: Gautama LOCKEL - 990517 | C35: 21 | D35: 20 | E35: 0.95238095 | F35: 02:09:49 | G35: 0.0045075231 | H35: 02:42:26 | I35: 10 | J35: 1
B36: Karim ABBOU - 990623 | C36: 20 | D36: 19 | E36: 0.95 | F36: 02:07:46 | G36: 0.0046698343 | H36: 04:08:26 | I36: 7 | J36: 0
B37: Thomas HESNARD - 990624 | C37: 19 | D37: 16 | E37: 0.84210526 | F37: 00:57:37 | G37: 0.0025007234 | H37: 01:43:31 | I37: 4 | J37: 1
B38: Xavier LEFORT - 990627 | C38: 10 | D38: 10 | E38: 1 | F38: 00:27:32 | G38: 0.001912037 | H38: 07:46:04 | I38: 0 | J38: 0
B39: Frederic FINZI - 990628 | C39: - | D39: - | E39: - | F39: - | G39: - | H39: - | I39: - | J39: -
B40: Franck Olivier APHING KOUASSI - 990697 | C40: 47 | D40: 46 | E40: 0.9787234 | F40: 04:51:30 | G40: 0.0044006643 | H40: 01:42:19 | I40: 5 | J40: 0
B41: James TETUANUI - 9921 | C41: 13 | D41: 13 | E41: 1 | F41: 00:53:52 | G41: 0.0028774929 | H41: 06:15:04 | I41: 4 | J41: 0
B42: Emna BERRICHI - 4178 | C42: 2 | D42: 2 | E42: 1 | F42: 00:09:27 | G42: 0.00328125 | H42: 07:38:37 | I42: 6 | J42: 0
B43: Landry Luc HOAREAU - 990625 | C43: - | D43: - | E43: - | F43: - | G43: - | H43: - | I43: - | J43: -
B44: Esther MOALIC - 9405 | C44: - | D44: - | E44: - | F44: - | G44: - | H44: - | I44: - | J44: -
B45: Hieng HUNG - 8720 | C45: 0 | D45: 0 | E45: - | F45: 00:00:00 | G45: - | H45: 08:20:49 | I45: 0 | J45: 0
B46: Martin EDMOND - 10418 | C46: 7 | D46: 7 | E46: 1 | F46: 00:50:34 | G46: 0.0050165344 | H46: 07:15:50 | I46: 4 | J46: 0
B47: Amara KOUYATE - 990720 | C47: - | D47: - | E47: - | F47: - | G47: - | H47: - | I47: - | J47: -
B48: Botombia KYELE - 7401 | C48: - | D48: - | E48: - | F48: - | G48: - | H48: - | I48: - | J48: -
B49: Derya ATALAY - 10513 | C49: - | D49: - | E49: - | F49: - | G49: - | H49: - | I49: - | J49: -
B50: Ibrahima SIBY - 10896 | C50: - | D50: - | E50: - | F50: - | G50: - | H50: - | I50: - | J50: -
B51: Julien CORNIL - 11390 | C51: - | D51: - | E51: - | F51: - | G51: - | H51: - | I51: - | J51: -
B52: Lilian TIERCELIN - 11171 | C52: - | D52: - | E52: - | F52: - | G52: - | H52: - | I52: - | J52: -
B53: Nadia ZAHOUAN - 11174 | C53: - | D53: - | E53: - | F53: - | G53: - | H53: - | I53: - | J53: -
B54: Reimy MEY - 11216 | C54: - | D54: - | E54: - | F54: - | G54: - | H54: - | I54: - | J54: -
B55: Sébastien LAMIELLE - 11338 | C55: - | D55: - | E55: - | F55: - | G55: - | H55: - | I55: - | J55: -
B56: Hamed HEDDI - 990719 | C56: - | D56: - | E56: - | F56: - | G56: - | H56: - | I56: - | J56: -
B57: Gabriel DA COSTA - 990718 | C57: - | D57: - | E57: - | F57: - | G57: - | H57: - | I57: - | J57: -

Sheet 10_07
B3: TECHNICIENS | C3: Appels Présentés | D3: Appels décrochés | E3: Taux de décroché | F3: Durée totale de Communication | G3: DMC | H3: Durée en Pas-Prêt | I3: Appels DN | J3: Renvoi en File d'appel
B4: Roland REGIS-LYDI - 10227
B5: Jonathan DITCHI - 10228
B6: Julien FILIPPINI - 10346
B7: Said IRGUES - 10656
B8: Franck LEFORESTIER - 10657
B9: Lucas COUVEZ - 10864
B10: Alexandre THOMAS - 11172
B11: Isabelle LAMY - 11177
B12: Arnaud DOLIF - 11173
B13: Joel JOCAL - 11328
B14: Damien AVEDISSIAN - 11329
B15: Tabara SEYE BADIANNE - 11340
... B57: Gabriel DA COSTA - 990718

Sheet 11_07
B3: TECHNICIENS | C3: Appels Présentés | D3: Appels décrochés | E3: Taux de décroché | F3: Durée totale de Communication | G3: DMC | H3: Durée en Pas-Prêt | I3: Appels DN | J3: Renvoi en File d'appel
B4: Roland REGIS-LYDI - 10227
B5: Jonathan DITCHI - 10228
B6: Julien FILIPPINI - 10346
B7: Said IRGUES - 10656
B8: Franck LEFORESTIER - 10657
B9: Lucas COUVEZ - 10864
B10: Alexandre THOMAS - 11172
B11: Isabelle LAMY - 11177
B12: Arnaud DOLIF - 11173
B13: Joel JOCAL - 11328
B14: Damien AVEDISSIAN - 11329
B15: Tabara SEYE BADIANNE - 11340
... B57: Gabriel DA COSTA - 990718

Sheet 15_07
B3: TECHNICIENS | C3: Appels Présentés | D3: Appels décrochés | E3: Taux de décroché | F3: Durée totale de Communication | G3: DMC | H3: Durée en Pas-Prêt | I3: Appels DN | J3: Renvoi en File d'appel
B4: Roland REGIS-LYDI - 10227
B5: Jonathan DITCHI - 10228
B6: Julien FILIPPINI - 10346
B7: Said IRGUES - 10656
B8: Franck LEFORESTIER - 10657
B9: Lucas COUVEZ - 10864
B10: Alexandre THOMAS - 11172
B11: Isabelle LAMY - 11177
B12: Arnaud DOLIF - 11173
B13: Joel JOCAL - 11328
B14: Damien AVEDISSIAN - 11329
B15: Tabara SEYE BADIANNE - 11340
... B57: Gabriel DA COSTA - 990718

Sheet 16_07
B3: TECHNICIENS | C3: Appels Présentés | D3: Appels décrochés | E3: Taux de décroché | F3: Durée totale de Communication | G3: DMC | H3: Durée en Pas-Prêt | I3: Appels DN | J3: Renvoi en File d'appel
B4: Roland REGIS-LYDI - 10227
B5: Jonathan DITCHI - 10228
B6: Julien FILIPPINI - 10346
B7: Said IRGUES - 10656
B8: Franck LEFORESTIER - 10657
B9: Lucas COUVEZ - 10864
B10: Alexandre THOMAS - 11172
B11: Isabelle LAMY - 11177
B12: Arnaud DOLIF - 11173
B13: Joel JOCAL - 11328
B14: Damien AVEDISSIAN - 11329
B15: Tabara SEYE BADIANNE - 11340
... B57: Gabriel DA COSTA - 990718

Sheet 17_07
B3: TECHNICIENS | C3: Appels Présentés | D3: Appels décrochés | E3: Taux de décroché | F3: Durée totale de Communication | G3: DMC | H3: Durée en Pas-Prêt | I3: Appels DN | J3: Renvoi en File d'appel
B4: Roland REGIS-LYDI - 10227
B5: Jonathan DITCHI - 10228
B6: Julien FILIPPINI - 10346
B7: Said IRGUES - 10656
B8: Franck LEFORESTIER - 10657
B9: Lucas COUVEZ - 10864
B10: Alexandre THOMAS - 11172
B11: Isabelle LAMY - 11177
B12: Arnaud DOLIF - 11173
B13: Joel JOCAL - 11328
B14: Damien AVEDISSIAN - 11329
B15: Tabara SEYE BADIANNE - 11340
... B57: Gabriel DA COSTA - 990718

Sheet 18_07
B3: TECHNICIENS | C3: Appels Présentés | D3: Appels décrochés | E3: Taux de décroché | F3: Durée totale de Communication | G3: DMC | H3: Durée en Pas-Prêt | I3: Appels DN | J3: Renvoi en File d'appel
B4: Roland REGIS-LYDI - 10227
B5: Jonathan DITCHI - 10228
B6: Julien FILIPPINI - 10346
B7: Said IRGUES - 10656
B8: Franck LEFORESTIER - 10657
B9: Lucas COUVEZ - 10864
B10: Alexandre THOMAS - 11172
B11: Isabelle LAMY - 11177
B12: Arnaud DOLIF - 11173
B13: Joel JOCAL - 11328
B14: Damien AVEDISSIAN - 11329
B15: Tabara SEYE BADIANNE - 11340
... B57: Gabriel DA COSTA - 990718

Sheet 21_07
B3: TECHNICIENS | C3: Appels Présentés | D3: Appels décrochés | E3: Taux de décroché | F3: Durée totale de Communication | G3: DMC | H3: Durée en Pas-Prêt | I3: Appels DN | J3: Renvoi en File d'appel
B4: Roland REGIS-LYDI - 10227
B5: Jonathan DITCHI - 10228
B6: Julien FILIPPINI - 10346
B7: Said IRGUES - 10656
B8: Franck LEFORESTIER - 10657
B9: Lucas COUVEZ - 10864
B10: Alexandre THOMAS - 11172
B11: Isabelle LAMY - 11177
B12: Arnaud DOLIF - 11173
B13: Joel JOCAL - 11328
B14: Damien AVEDISSIAN - 11329
B15: Tabara SEYE BADIANNE - 11340
... B57: Gabriel DA COSTA - 990718

Sheet 22_07
B3: TECHNICIENS | C3: Appels Présentés | D3: Appels décrochés | E3: Taux de décroché | F3: Durée totale de Communication | G3: DMC | H3: Durée en Pas-Prêt | I3: Appels DN | J3: Renvoi en File d'appel
B4: Roland REGIS-LYDI - 10227
B5: Jonathan DITCHI - 10228
B6: Julien FILIPPINI - 10346
B7: Said IRGUES - 10656
B8: Franck LEFORESTIER - 10657
B9: Lucas COUVEZ - 10864
B10: Alexandre THOMAS - 11172
B11: Isabelle LAMY - 11177
B12: Arnaud DOLIF - 11173
B13: Joel JOCAL - 11328
B14: Damien AVEDISSIAN - 11329
B15: Tabara SEYE BADIANNE - 11340
... B57: Gabriel DA COSTA - 990718

Sheet 23_07
B3: TECHNICIENS | C3: Appels Présentés | D3: Appels décrochés | E3: Taux de décroché | F3: Durée totale de Communication | G3: DMC | H3: Durée en Pas-Prêt | I3: Appels DN | J3: Renvoi en File d'appel
B4: Roland REGIS-LYDI - 10227
B5: Jonathan DITCHI - 10228
B6: Julien FILIPPINI - 10346
B7: Said IRGUES - 10656
B8: Franck LEFORESTIER - 10657
B9: Lucas COUVEZ - 10864
B10: Alexandre THOMAS - 11172
B11: Isabelle LAMY - 11177
B12: Arnaud DOLIF - 11173
B13: Joel JOCAL - 11328
B14: Damien AVEDISSIAN - 11329
B15: Tabara SEYE BADIANNE - 11340
... B57: Gabriel DA COSTA - 990718

Sheet 24_07
B3: TECHNICIENS | C3: Appels Présentés | D3: Appels décrochés | E3: Taux de décroché | F3: Durée totale de Communication | G3: DMC | H3: Durée en Pas-Prêt | I3: Appels DN | J3: Renvoi en File d'appel
B4: Roland REGIS-LYDI - 10227
B5: Jonathan DITCHI - 10228
B6: Julien FILIPPINI - 10346
B7: Said IRGUES - 10656
B8: Franck LEFORESTIER - 10657
B9: Lucas COUVEZ - 10864
B10: Alexandre THOMAS - 11172
B11: Isabelle LAMY - 11177
B12: Arnaud DOLIF - 11173
B13: Joel JOCAL - 11328
B14: Damien AVEDISSIAN - 11329
B15: Tabara SEYE BADIANNE - 11340
... B57: Gabriel DA COSTA - 990718

Sheet 25_07
B3: TECHNICIENS | C3: Appels Présentés | D3: Appels décrochés | E3: Taux de décroché | F3: Durée totale de Communication | G3: DMC | H3: Durée en Pas-Prêt | I3: Appels DN | J3: Renvoi en File d'appel
B4: Roland REGIS-LYDI - 10227
B5: Jonathan DITCHI - 10228
B6: Julien FILIPPINI - 10346
B7: Said IRGUES - 10656
B8: Franck LEFORESTIER - 10657
B9: Lucas COUVEZ - 10864
B10: Alexandre THOMAS - 11172
B11: Isabelle LAMY - 11177
B12: Arnaud DOLIF - 11173
B13: Joel JOCAL - 11328
B14: Damien AVEDISSIAN - 11329
B15: Tabara SEYE BADIANNE - 11340
... B57: Gabriel DA COSTA - 990718

Sheet 28_07
B3: TECHNICIENS | C3: Appels Présentés | D3: Appels décrochés | E3: Taux de décroché | F3: Durée totale de Communication | G3: DMC | H3: Durée en Pas-Prêt | I3: Appels DN | J3: Renvoi en File d'appel
B4: Roland REGIS-LYDI - 10227
B5: Jonathan DITCHI - 10228
B6: Julien FILIPPINI - 10346
B7: Said IRGUES - 10656
B8: Franck LEFORESTIER - 10657
B9: Lucas COUVEZ - 10864
B10: Alexandre THOMAS - 11172
B11: Isabelle LAMY - 11177
B12: Arnaud DOLIF - 11173
B13: Joel JOCAL - 11328
B14: Damien AVEDISSIAN - 11329
B15: Tabara SEYE BADIANNE - 11340
... B57: Gabriel DA COSTA - 990718

Sheet 29_07
B3: TECHNICIENS | C3: Appels Présentés | D3: Appels décrochés | E3: Taux de décroché | F3: Durée totale de Communication | G3: DMC | H3: Durée en Pas-Prêt | I3: Appels DN | J3: Renvoi en File d'appel
B4: Roland REGIS-LYDI - 10227
B5: Jonathan DITCHI - 10228
B6: Julien FILIPPINI - 10346
B7: Said IRGUES - 10656
B8: Franck LEFORESTIER - 10657
B9: Lucas COUVEZ - 10864
B10: Alexandre THOMAS - 11172
B11: Isabelle LAMY - 11177
B12: Arnaud DOLIF - 11173
B13: Joel JOCAL - 11328
B14: Damien AVEDISSIAN - 11329
B15: Tabara SEYE BADIANNE - 11340
... B57: Gabriel DA COSTA - 990718

Sheet 30_07
B3: TECHNICIENS | C3: Appels Présentés | D3: Appels décrochés | E3: Taux de décroché | F3: Durée totale de Communication | G3: DMC | H3: Durée en Pas-Prêt | I3: Appels DN | J3: Renvoi en File d'appel
B4: Roland REGIS-LYDI - 10227
B5: Jonathan DITCHI - 10228
B6: Julien FILIPPINI - 10346
B7: Said IRGUES - 10656
B8: Franck LEFORESTIER - 10657
B9: Lucas COUVEZ - 10864
B10: Alexandre THOMAS - 11172
B11: Isabelle LAMY - 11177
B12: Arnaud DOLIF - 11173
B13: Joel JOCAL - 11328
B14: Damien AVEDISSIAN - 11329
B15: Tabara SEYE BADIANNE - 11340
... B57: Gabriel DA COSTA - 990718

Sheet 31_07
B3: TECHNICIENS | C3: Appels Présentés | D3: Appels décrochés | E3: Taux de décroché | F3: Durée totale de Communication | G3: DMC | H3: Durée en Pas-Prêt | I3: Appels DN | J3: Renvoi en File d'appel
B4: Roland REGIS-LYDI - 10227
B5: Jonathan DITCHI - 10228
B6: Julien FILIPPINI - 10346
B7: Said IRGUES - 10656
B8: Franck LEFORESTIER - 10657
B9: Lucas COUVEZ - 10864
B10: Alexandre THOMAS - 11172
B11: Isabelle LAMY - 11177
B12: Arnaud DOLIF - 11173
B13: Joel JOCAL - 11328
B14: Damien AVEDISSIAN - 11329
B15: Tabara SEYE BADIANNE - 11340
... B57: Gabriel DA COSTA - 990718

Sheet Récap
B3: TECHNICIENS | C3: Appels Présentés | D3: Appels décrochés | E3: Taux de décroché | F3: Durée totale de Communication | G3: DMC | H3: Durée en Pas-Prêt | I3: Appels DN | J3: Renvoi en File d'appel
B4: Roland REGIS-LYDI - 10227 | C4: =SUM('01_07:31_07'!C4) -> 15 | D4: =SUM('01_07:31_07'!D4) -> 13 | E4: =IFERROR(D4/C4,"-") -> 0.86666667 | F4: =SUM('01_07:31_07'!F4) -> 0 | G4: =SUM('01_07:31_07'!G4) -> 0.023817515 | H4: =SUM('01_07:31_07'!H4) -> 0 | I4: =SUM('01_07:31_07'!I4) -> 17 | J4: =SUM('01_07:31_07'!J4) -> 2 | K4: =F4*24 -> 0
B5: Jonathan DITCHI - 10228 | C5: =SUM('01_07:31_07'!C5) -> 151 | D5: =SUM('01_07:31_07'!D5) -> 137 | E5: =IFERROR(D5/C5,"-") -> 0.90728477 | F5: =SUM('01_07:31_07'!F5) -> 0 | G5: =SUM('01_07:31_07'!G5) -> 0.038017674 | H5: =SUM('01_07:31_07'!H5) -> 0 | I5: =SUM('01_07:31_07'!I5) -> 44 | J5: =SUM('01_07:31_07'!J5) -> 8
B6: Julien FILIPPINI - 10346 | C6: =SUM('01_07:31_07'!C6) -> 139 | D6: =SUM('01_07:31_07'!D6) -> 136 | E6: =IFERROR(D6/C6,"-") -> 0.97841727 | F6: =SUM('01_07:31_07'!F6) -> 0 | G6: =SUM('01_07:31_07'!G6) -> 0.012970746 | H6: =SUM('01_07:31_07'!H6) -> 0 | I6: =SUM('01_07:31_07'!I6) -> 24 | J6: =SUM('01_07:31_07'!J6) -> 1
B7: Said IRGUES - 10656 | C7: =SUM('01_07:31_07'!C7) -> 66 | D7: =SUM('01_07:31_07'!D7) -> 66 | E7: =IFERROR(D7/C7,"-") -> 1 | F7: =SUM('01_07:31_07'!F7) -> 0 | G7: =SUM('01_07:31_07'!G7) -> 0.011309997 | H7: =SUM('01_07:31_07'!H7) -> 0 | I7: =SUM('01_07:31_07'!I7) -> 1 | J7: =SUM('01_07:31_07'!J7) -> 0
B8: Franck LEFORESTIER - 10657 | C8: =SUM('01_07:31_07'!C8) -> 206 | D8: =SUM('01_07:31_07'!D8) -> 198 | E8: =IFERROR(D8/C8,"-") -> 0.96116505 | F8: =SUM('01_07:31_07'!F8) -> 0 | G8: =SUM('01_07:31_07'!G8) -> 0.02709676 | H8: =SUM('01_07:31_07'!H8) -> 0 | I8: =SUM('01_07:31_07'!I8) -> 28 | J8: =SUM('01_07:31_07'!J8) -> 2
B9: Lucas COUVEZ - 10864 | C9: =SUM('01_07:31_07'!C9) -> 234 | D9: =SUM('01_07:31_07'!D9) -> 234 | E9: =IFERROR(D9/C9,"-") -> 1 | F9: =SUM('01_07:31_07'!F9) -> 0 | G9: =SUM('01_07:31_07'!G9) -> 0.037073668 | H9: =SUM('01_07:31_07'!H9) -> 0 | I9: =SUM('01_07:31_07'!I9) -> 72 | J9: =SUM('01_07:31_07'!J9) -> 0
B10: Alexandre THOMAS - 11172 | C10: =SUM('01_07:31_07'!C10) -> 156 | D10: =SUM('01_07:31_07'!D10) -> 155 | E10: =IFERROR(D10/C10,"-") -> 0.99358974 | F10: =SUM('01_07:31_07'!F10) -> 0 | G10: =SUM('01_07:31_07'!G10) -> 0.018908261 | H10: =SUM('01_07:31_07'!H10) -> 0 | I10: =SUM('01_07:31_07'!I10) -> 10 | J10: =SUM('01_07:31_07'!J10) -> 1
B11: Isabelle LAMY - 11177 | C11: =SUM('01_07:31_07'!C11) -> 55 | D11: =SUM('01_07:31_07'!D11) -> 54 | E11: =IFERROR(D11/C11,"-") -> 0.98181818 | F11: =SUM('01_07:31_07'!F11) -> 0 | G11: =SUM('01_07:31_07'!G11) -> 0.021460777 | H11: =SUM('01_07:31_07'!H11) -> 0 | I11: =SUM('01_07:31_07'!I11) -> 86 | J11: =SUM('01_07:31_07'!J11) -> 0
B12: Arnaud DOLIF - 11173 | C12: =SUM('01_07:31_07'!C12) -> 148 | D12: =SUM('01_07:31_07'!D12) -> 148 | E12: =IFERROR(D12/C12,"-") -> 1 | F12: =SUM('01_07:31_07'!F12) -> 0 | G12: =SUM('01_07:31_07'!G12) -> 0.01119916 | H12: =SUM('01_07:31_07'!H12) -> 0 | I12: =SUM('01_07:31_07'!I12) -> 5 | J12: =SUM('01_07:31_07'!J12) -> 0
B13: Joel JOCAL - 11328 | C13: =SUM('01_07:31_07'!C13) -> 209 | D13: =SUM('01_07:31_07'!D13) -> 203 | E13: =IFERROR(D13/C13,"-") -> 0.97129187 | F13: =SUM('01_07:31_07'!F13) -> 0 | G13: =SUM('01_07:31_07'!G13) -> 0.054709698 | H13: =SUM('01_07:31_07'!H13) -> 0 | I13: =SUM('01_07:31_07'!I13) -> 12 | J13: =SUM('01_07:31_07'!J13) -> 0
B14: Damien AVEDISSIAN - 11329 | C14: =SUM('01_07:31_07'!C14) -> 45 | D14: =SUM('01_07:31_07'!D14) -> 44 | E14: =IFERROR(D14/C14,"-") -> 0.97777778 | F14: =SUM('01_07:31_07'!F14) -> 0 | G14: =SUM('01_07:31_07'!G14) -> 0.015330171 | H14: =SUM('01_07:31_07'!H14) -> 0 | I14: =SUM('01_07:31_07'!I14) -> 7 | J14: =SUM('01_07:31_07'!J14) -> 0
B15: Tabara SEYE BADIANNE - 11340 | C15: =SUM('01_07:31_07'!C15) -> 234 | D15: =SUM('01_07:31_07'!D15) -> 230 | E15: =IFERROR(D15/C15,"-") -> 0.98290598 | F15: =SUM('01_07:31_07'!F15) -> 0 | G15: =SUM('01_07:31_07'!G15) -> 0.043334538 | H15: =SUM('01_07:31_07'!H15) -> 0 | I15: =SUM('01_07:31_07'!I15) -> 9 | J15: =SUM('01_07:31_07'!J15) -> 1
B16: Louis LEFEVRE - 11341 | C16: =SUM('01_07:31_07'!C16) -> 196 | D16: =SUM('01_07:31_07'!D16) -> 168 | E16: =IFERROR(D16/C16,"-") -> 0.85714286 | F16: =SUM('01_07:31_07'!F16) -> 0 | G16: =SUM('01_07:31_07'!G16) -> 0.01498859 | H16: =SUM('01_07:31_07'!H16) -> 0 | I16: =SUM('01_07:31_07'!I16) -> 10 | J16: =SUM('01_07:31_07'!J16) -> 25
... B57: Gabriel DA COSTA - 990718 | C57: =SUM('01_07:31_07'!C57) -> 0 | D57: =SUM('01_07:31_07'!D57) -> 0 | E57: =IFERROR(D57/C57,"-") -> - | F57: =SUM('01_07:31_07'!F57) -> 0 | G57: =SUM('01_07:31_07'!G57) -> 0 | H57: =SUM('01_07:31_07'!H57) -> 0 | I57: =SUM('01_07:31_07'!I57) -> 0 | J57: =SUM('01_07:31_07'!J57) -> 0
