Workbook
Name Assiette_Fillon: 'DUBREUIL JEAN'!#REF!
Name Assiette_Fillon: 'ROBERT DUVERGNE'!#REF!
Name Assiette_Fillon: #REF!
Name Coeff.effectif: 'DUBREUIL JEAN'!$C$15
Name Coeff.effectif: 'ROBERT DUVERGNE'!$C$15
Name Coeff.effectif: #REF!
Name Horaire_collectif_mensuel: 'DUBREUIL JEAN'!$C$13
Name Horaire_collectif_mensuel: 'ROBERT DUVERGNE'!$C$13
Name Horaire_collectif_mensuel: #REF!
Name Mode_calcul: 'ROBERT DUVERGNE'!$C$11
Name Mode_calcul: 'DUBREUIL JEAN'!$C$11
Name Montant_absences_non_rémunérées: 'DUBREUIL JEAN'!#REF!
Name Montant_absences_non_rémunérées: 'ROBERT DUVERGNE'!#REF!
Name Montant_absences_non_rémunérées: #REF!
Name Montant_annuel_absences_non_rémunérées: 'DUBREUIL JEAN'!#REF!
Name Montant_annuel_absences_non_rémunérées: 'ROBERT DUVERGNE'!#REF!
Name Montant_annuel_absences_non_rémunérées: #REF!
Name Montant_annuel_gain_des_heures_compl._et_suppl.: 'DUBREUIL JEAN'!#REF!
Name Montant_annuel_gain_des_heures_compl._et_suppl.: 'ROBERT DUVERGNE'!#REF!
Name Montant_annuel_gain_des_heures_compl._et_suppl.: #REF!
Name Montant_annuel_retenu_ijss_brutes: 'DUBREUIL JEAN'!#REF!
Name Montant_annuel_retenu_ijss_brutes: 'ROBERT DUVERGNE'!#REF!
Name Montant_annuel_retenu_ijss_brutes: #REF!
Name Montant_retenu_ijss_brutes: 'DUBREUIL JEAN'!#REF!
Name Montant_retenu_ijss_brutes: 'ROBERT DUVERGNE'!#REF!
Name Montant_retenu_ijss_brutes: #REF!
Name Nb_heures_supp: 'DUBREUIL JEAN'!#REF!
Name Nb_heures_supp: 'ROBERT DUVERGNE'!#REF!
Name Nb_heures_supp: #REF!
Name Prorata_horaire_annuel: 'DUBREUIL JEAN'!#REF!
Name Prorata_horaire_annuel: 'ROBERT DUVERGNE'!#REF!
Name Prorata_horaire_annuel: #REF!
Name Prorata_horaire_mensuel: 'DUBREUIL JEAN'!#REF!
Name Prorata_horaire_mensuel: 'ROBERT DUVERGNE'!#REF!
Name Prorata_horaire_mensuel: #REF!
Name Salaire_brut_annuel_total: 'DUBREUIL JEAN'!#REF!
Name Salaire_brut_annuel_total: 'ROBERT DUVERGNE'!#REF!
Name Salaire_brut_annuel_total: #REF!
Name Salaire_brut_annuel_total__sauf_HS_et_IJSS: 'DUBREUIL JEAN'!#REF!
Name Salaire_brut_annuel_total__sauf_HS_et_IJSS: 'ROBERT DUVERGNE'!#REF!
Name Salaire_brut_annuel_total__sauf_HS_et_IJSS: #REF!
Name Salaire_brut_août: 'ROBERT DUVERGNE'!$D$30
Name Salaire_brut_août: 'DUBREUIL JEAN'!$D$30
Name Salaire_brut_avril: 'ROBERT DUVERGNE'!$D$26
Name Salaire_brut_avril: 'DUBREUIL JEAN'!$D$26
Name Salaire_brut_décembre: 'ROBERT DUVERGNE'!$D$34
Name Salaire_brut_décembre: 'DUBREUIL JEAN'!$D$34
Name Salaire_brut_février: 'ROBERT DUVERGNE'!$D$24
Name Salaire_brut_février: 'DUBREUIL JEAN'!$D$24
Name Salaire_brut_janvier: 'ROBERT DUVERGNE'!$D$23
Name Salaire_brut_janvier: 'DUBREUIL JEAN'!$D$23
Name Salaire_brut_juillet: 'ROBERT DUVERGNE'!$D$29
Name Salaire_brut_juillet: 'DUBREUIL JEAN'!$D$29
Name Salaire_brut_juin: 'ROBERT DUVERGNE'!$D$28
Name Salaire_brut_juin: 'DUBREUIL JEAN'!$D$28
Name Salaire_brut_mai: 'ROBERT DUVERGNE'!$D$27
Name Salaire_brut_mai: 'DUBREUIL JEAN'!$D$27
Name Salaire_brut_mars: 'ROBERT DUVERGNE'!$D$25
Name Salaire_brut_mars: 'DUBREUIL JEAN'!$D$25
Name Salaire_brut_novembre: 'ROBERT DUVERGNE'!$D$33

Sheet Base de données sociale
B2: Nom entreprise | F2: A
V3: oui
B4: Nombre d'établissement | F4: 1 | V4: non
B6: effectifs au 31/12/N-1 | F6: 5
B8: date de versement des salaires | F8: 30
B10: périodicité des charges sociales | F10: trimestrielle | V10: mensuelle
V11: trimestrielle
B12: contact principal | F12: machin@machine,com
B14: coordonées du contact principal | F14: albert robert | V14: 1
V15: 2
B16: caisse des congés payés | F16: non | V16: 3
V17: 4
B18: prime d'ancienneté | F18: oui | V18: 5
V19: 6
B20: prime diverses | F20: non | V20: 7
B21: si oui, préciser | F21: NA | V21: 8
V22: 9
B23: Liste des salariés de l'entreprise | V23: 10
V24: 11
V25: 12
B26: Nom | C26: matricule | D26: date d entrée | E26: date de sortie | F26: type de contrat | G26: si cdd, Date de fin | H26: temps partiel | I26: multiemployeurs | J26: statut | K26: Spécificité 1** | L26: due établis | M26: contrat établis | N26: retour contrat signé | O26: date dernière visite médicale | P26: mutuelle | Q26: avantage en nature | V26: 13
B27: salarié 1 | C27: DUCHMOLE | D27: 38838 | G27: NA | J27: Ouvrier | Q27: logement | V27: 14
B28: salarié 2 | J28: Non cadre | K28: handicap | V28: 15
B29: salarié 3 | J29: Cadre | K29: conjoint(e) associé ou dirigeant | V29: 16
B30: salarié 4 | J30: Mandataire social | V30: 17
V31: 18
V32: 19
V33: 20
V34: 21
V35: 22
V36: 23
V37: 24
V38: 25
V39: 26
V40: 27
V41: 28
V42: 29
... V44: 31
V46: Ouvrier
V47: Non cadre
V48: ETAM
V49: Cadre
V50: Mandataire social
V54: apprentissage
V55: professionnalisation
V56: handicap
V57: Contrat de génération
V58: CIE
V59: Dirigeant
V60: Cumul emploi retraite
... V69: autres( à préciser)

Sheet suivi bulletins
A3: * précisez le nom du salarié concerné en commentaires
E4: janvier | F4: février | G4: mars | H4: avril | I4: mai | J4: juin | K4: juillet | L4: août | M4: septembre | N4: octobre | O4: novembre | P4: décembre | Q4: TOTAL
D6: bulletins initiaux | E6: 1 | F6: 1 | G6: 1 | H6: 1 | I6: 1 | J6: 1 | K6: 1 | L6: 1 | M6: 1 | N6: 1 | O6: 1 | P6: 1 | Q6: =+SUM(E6:P6) -> 12
D7: dont bulletins spécifiques* | E7: 0 | F7: 0 | G7: 0 | H7: 0 | I7: 0 | J7: 0 | K7: 0 | L7: 0 | M7: 0 | N7: 0 | O7: 0 | P7: 0 | Q7: =+SUM(E7:P7) -> 0
D8: dont solde de tout compte* | E8: 0 | F8: 0 | G8: 0 | H8: 0 | I8: 0 | J8: 0 | K8: 0 | L8: 0 | M8: 0 | N8: 0 | O8: 0 | P8: 0 | Q8: =+SUM(E8:P8) -> 0
D9: bulletins refaits erreurs client* | E9: 1 | F9: 0 | G9: 0 | H9: 0 | I9: 0 | J9: 0 | K9: 0 | L9: 0 | M9: 0 | N9: 0 | O9: 0 | P9: 0 | Q9: =+SUM(E9:P9) -> 1
D10: bulletins refaits erreurs cabinet* | E10: 0 | F10: 0 | G10: 0 | H10: 0 | I10: 1 | J10: 0 | K10: 0 | L10: 0 | M10: 0 | N10: 0 | O10: 0 | P10: 0 | Q10: =+SUM(E10:P10) -> 1
D12: Total bulletins | Q12: =+SUM(E12:P12) -> 0
D14: procédure de licenciement* | Q14: =+SUM(E14:P14) -> 0
D15: rupture conventionnelle* | Q15: =+SUM(E15:P15) -> 0
D17: total procédures | Q17: =+SUM(E17:P17) -> 0
D19: Bordereau de charges URSSAF | Q19: =+SUM(E19:P19) -> 0
D20: bordereau de charges retraite | Q20: =+SUM(E20:P20) -> 0
D21: Bordereau de charges prévoyance | Q21: =+SUM(E21:P21) -> 0
D22: Bordereau de charges Mutuelle | Q22: =+SUM(E22:P22) -> 0
D23: bordereau de caisse des congés payés | Q23: =+SUM(E23:P23) -> 0
D25: Total Bordereaux | Q25: =+SUM(E25:P25) -> 0

Sheet SMIC
A1: Table SMIC horaire
B3: Smic hor 2012
A4: janvier | B4: 9.53
A5: février | B5: =B4 -> 9.53
A6: mars | B6: =B5 -> 9.53
A7: avril | B7: =B6 -> 9.53
A8: mai | B8: =B7 -> 9.53
A9: juin | B9: =B8 -> 9.53
A10: juillet | B10: 9.53
A11: août | B11: =B10 -> 9.53
A12: septembre | B12: =B11 -> 9.53
A13: octobre | B13: =B12 -> 9.53
A14: novembre | B14: =B13 -> 9.53
A15: décembre | B15: =B14 -> 9.53
B17: Coefficient = 0,26/0,6 x [1,6 x Smic mensuel base 151,67 heures/Rémunération mensuelle brute - 1]
B19: Remarques sur le calcul Fillon:
B20: le résultat du coefficient obtenu est arrondi à quatre décimales au dix millième le plus proche. Il est pris en compte pour une valeur égale à 0,281 s'il est supérieur à 0,281
B21: Pour le calcul de ce coefficient, la rémunération des heures supplémentaires ou complémentaires défiscalisées (c’est-à-dire dans la limite, en ce qui concerne la majoration salariale, des taux de 25 % ou de 50 % selon le cas) sont à exclure
B22: les entreprises qui atteignent ou franchissent le seuil de 19 salariés pour la première fois, maintiennent ce coefficient maximal à 0,2810 pendant 3 ans (article 48 de la loi n° 2008-776 de modernisation de l'économie du 4 août 2008).

Sheet DUBREUIL JEAN
B1: CALCUL DE LA REDUCTION FILLON
B3: Année : | C3: 2013 | H3: Nom / Prénom : | I3: DUBREUIL JEAN
H4: Matricule : | I4: 0004
B5: Effectif de l'entreprise : | H5: Statut | I5: cadre
C7: 1
B10: Choix du mode de calcul de la régularisation :
C11: 2
B13: Horaire collectif mensuel : | C13: 151.67
B15: Coefficient effectif : | C15: =IF(C7=1,0.281,0.26) -> 0.281
B17: Temps partiel :
B18: Horaire hebdo contractuel : | C18: 35 | D18: ex. : 17h | E18: =IF(AND(C19<>"",OR(C18="",C18=0)),"<<<<< info à compléter","")
B19: Horaire hebdo conventionnel : | C19: 35 | D19: ex. : 35h | E19: =IF(AND(C18<>"",OR(C19="",C19=0)),"<<<<< info à compléter","")
E21: Mois incomplet | G21: Tps partiel | V21: Réduction calculée
C22: Smic mensuel | D22: Salaire brut total versé | E22: Base rémunération mensuelle | F22: Nb d'h.suppl. | G22: horaire hebdo contractuel | H22: horaire hebdo conventionnel | J22: Smic brut mensuel | K22: Assiette Fillon | L22: Cumul smic mensuel | M22: Cumul HS SMIC | N22: Cumul SB mensuel | O22: Coeff.progr | P22: Coeff.annuel | Q22: Réduction Fillon réelle cumulée | R22: Mtt réduction Fillon progr. | S22: Calcul par régularisation annuelle | U22: Mtt réduction Fillon annuel | V22: Réduction (code 671) | W22: Régularisation (code 801)
B23: janvier | C23: =SMIC!B4 -> 9.53 | D23: 1833.69 | G23: =IF(AND($C$18<>0,$C$18<>""),$C$18,"") -> 35 | H23: =IF(AND($C$19<>0,$C$19<>""),$C$19,"") -> 35 | I23: janvier | J23: =IF(Salaire_brut_janvier="",0,(Horaire_collectif_mensuel*C23*IF(G23<>"",G23,Salaire_brut_janvier)/IF(H23<>"",H23,IF(E23<>"",E23,Salaire_brut_janvier)))) -> 1445.4151 | K23: =D23 -> 1833.69 | L23: =J23 -> 1445.4151 | M23: =C23*F23 -> 0 | N23: =D23 -> 1833.69 | O23: =IF(IF(ROUND(((Coeff.effectif/0.6)*((1.6*(L23+M23)/N23)-1)),4)>0,ROUND(((Coeff.effectif/0.6)*((1.6*(L23+M23)/N23)-1)),4),0)>Coeff.effectif,Coeff.effectif,IF(ROUND(((Coeff.effectif/0.6)*((1.6*(L23+M23)/N23)-1)),4)>0,ROUND(((Coeff.effectif/0.6)*((1.6*(L23+M23)/N23)-1)),4),0)) -> 0.1223 | P23: =IF(IF(ROUND(((Coeff.effectif/0.6)*((1.6*(J23+(C23*F23))/Salaire_brut_janvier)-1)),4)>0,ROUND(((Coeff.effectif/0.6)*((1.6*(J23+(C23*F23))/Salaire_brut_janvier)-1)),4),0)>Coeff.effectif,Coeff.effectif,IF(ROUND(((Coeff.effectif/0.6)*((1.6*(J23+(C23*F23))/Salaire_brut_janvier)-1)),4)>0,ROUND(((Coeff.effectif/0.6)*((1.6*(J23+(C23*F23))/Salaire_brut_janvier)-1)),4),0)) -> 0.1223 | Q23: =IF(ISERR(N23*O23),0,N23*O23) -> 224.26029 | R23: =IF(ISERR(Salaire_brut_janvier*O23),0,Salaire_brut_janvier*O23) -> 224.26029 | S23: =IF(ISERR(P23),0,Salaire_brut_janvier*P23) -> 224.26029 | U23: =S23 -> 224.26029 | V23: =IF(Mode_calcul=1,IF(R23>0,R23,""),IF(U23>0,U23,"")) -> 224.26029 | W23: =IF(Mode_calcul=1,IF(R23<0,-R23,""),IF(U23<0,-U23,""))
B24: février | C24: =SMIC!B5 -> 9.53 | G24: =IF(AND($C$18<>0,$C$18<>""),$C$18,"") -> 35 | H24: =IF(AND($C$19<>0,$C$19<>""),$C$19,"") -> 35 | I24: février | J24: =IF(Salaire_brut_février="",0,Horaire_collectif_mensuel*C24*IF(G24<>"",G24,Salaire_brut_février)/IF(H24<>"",H24,IF(E24<>"",E24,Salaire_brut_février))) -> 0 | K24: =D24 -> 0 | L24: =L23+J24 -> 1445.4151 | M24: =M23+C24*F24 -> 0 | N24: =Salaire_brut_janvier+Salaire_brut_février -> 1833.69 | O24: =IF(IF(ROUND(((Coeff.effectif/0.6)*((1.6*(L24+M24)/N24)-1)),4)>0,ROUND(((Coeff.effectif/0.6)*((1.6*(L24+M24)/N24)-1)),4),0)>Coeff.effectif,Coeff.effectif,IF(ROUND(((Coeff.effectif/0.6)*((1.6*(L24+M24)/N24)-1)),4)>0,ROUND(((Coeff.effectif/0.6)*((1.6*(L24+M24)/N24)-1)),4),0)) -> 0.1223 | P24: =IF(IF(ROUND(((Coeff.effectif/0.6)*((1.6*(J24+(C24*F24))/Salaire_brut_février)-1)),4)>0,ROUND(((Coeff.effectif/0.6)*((1.6*(J24+(C24*F24))/Salaire_brut_février)-1)),4),0)>Coeff.effectif,Coeff.effectif,IF(ROUND(((Coeff.effectif/0.6)*((1.6*(J24+(C24*F24))/Salaire_brut_février)-1)),4)>0,ROUND(((Coeff.effectif/0.6)*((1.6*(J24+(C24*F24))/Salaire_brut_février)-1)),4),0)) -> #DIV/0! | Q24: =IF(ISERR(N24*O24),0,N24*O24) -> 224.26029 | R24: =Q24-SUM(R23) -> 0 | S24: =IF(ISERR(P24),0,Salaire_brut_février*P24) -> 0 | U24: =S24 -> 0 | V24: =IF(Mode_calcul=1,IF(R24>0,R24,""),IF(U24>0,U24,"")) | W24: =IF(Mode_calcul=1,IF(R24<0,-R24,""),IF(U24<0,-U24,""))
B25: mars | C25: =SMIC!B6 -> 9.53 | G25: =IF(AND($C$18<>0,$C$18<>""),$C$18,"") -> 35 | H25: =IF(AND($C$19<>0,$C$19<>""),$C$19,"") -> 35 | I25: mars | J25: =IF(Salaire_brut_mars="",0,Horaire_collectif_mensuel*C25*IF(G25<>"",G25,Salaire_brut_mars)/IF(H25<>"",H25,IF(E25<>"",E25,Salaire_brut_mars))) -> 0 | K25: =D25 -> 0 | L25: =L24+J25 -> 1445.4151 | M25: =M24+C25*F25 -> 0 | N25: =Salaire_brut_janvier+Salaire_brut_février+Salaire_brut_mars -> 1833.69 | O25: =IF(IF(ROUND(((Coeff.effectif/0.6)*((1.6*(L25+M25)/N25)-1)),4)>0,ROUND(((Coeff.effectif/0.6)*((1.6*(L25+M25)/N25)-1)),4),0)>Coeff.effectif,Coeff.effectif,IF(ROUND(((Coeff.effectif/0.6)*((1.6*(L25+M25)/N25)-1)),4)>0,ROUND(((Coeff.effectif/0.6)*((1.6*(L25+M25)/N25)-1)),4),0)) -> 0.1223 | P25: =IF(IF(ROUND(((Coeff.effectif/0.6)*((1.6*(J25+(C25*F25))/Salaire_brut_mars)-1)),4)>0,ROUND(((Coeff.effectif/0.6)*((1.6*(J25+(C25*F25))/Salaire_brut_mars)-1)),4),0)>Coeff.effectif,Coeff.effectif,IF(ROUND(((Coeff.effectif/0.6)*((1.6*(J25+(C25*F25))/Salaire_brut_mars)-1)),4)>0,ROUND(((Coeff.effectif/0.6)*((1.6*(J25+(C25*F25))/Salaire_brut_mars)-1)),4),0)) -> #DIV/0! | Q25: =IF(ISERR(N25*O25),0,N25*O25) -> 224.26029 | R25: =Q25-SUM(R23:R24) -> 0 | S25: =IF(ISERR(P25),0,Salaire_brut_mars*P25) -> 0 | U25: =S25 -> 0 | V25: =IF(Mode_calcul=1,IF(R25>0,R25,""),IF(U25>0,U25,"")) | W25: =IF(Mode_calcul=1,IF(R25<0,-R25,""),IF(U25<0,-U25,""))
B26: avril | C26: =SMIC!B7 -> 9.53 | G26: =IF(AND($C$18<>0,$C$18<>""),$C$18,"") -> 35 | H26: =IF(AND($C$19<>0,$C$19<>""),$C$19,"") -> 35 | I26: avril | J26: =IF(Salaire_brut_avril="",0,Horaire_collectif_mensuel*C26*IF(G26<>"",G26,Salaire_brut_avril)/IF(H26<>"",H26,IF(E26<>"",E26,Salaire_brut_avril))) -> 0 | K26: =D26 -> 0 | L26: =L25+J26 -> 1445.4151 | M26: =M25+C26*F26 -> 0 | N26: =Salaire_brut_janvier+Salaire_brut_février+Salaire_brut_mars+Salaire_brut_avril -> 1833.69 | O26: =IF(IF(ROUND(((Coeff.effectif/0.6)*((1.6*(L26+M26)/N26)-1)),4)>0,ROUND(((Coeff.effectif/0.6)*((1.6*(L26+M26)/N26)-1)),4),0)>Coeff.effectif,Coeff.effectif,IF(ROUND(((Coeff.effectif/0.6)*((1.6*(L26+M26)/N26)-1)),4)>0,ROUND(((Coeff.effectif/0.6)*((1.6*(L26+M26)/N26)-1)),4),0)) -> 0.1223 | P26: =IF(IF(ROUND(((Coeff.effectif/0.6)*((1.6*(J26+(C26*F26))/Salaire_brut_avril)-1)),4)>0,ROUND(((Coeff.effectif/0.6)*((1.6*(J26+(C26*F26))/Salaire_brut_avril)-1)),4),0)>Coeff.effectif,Coeff.effectif,IF(ROUND(((Coeff.effectif/0.6)*((1.6*(J26+(C26*F26))/Salaire_brut_avril)-1)),4)>0,ROUND(((Coeff.effectif/0.6)*((1.6*(J26+(C26*F26))/Salaire_brut_avril)-1)),4),0)) -> #DIV/0! | Q26: =IF(ISERR(N26*O26),0,N26*O26) -> 224.26029 | R26: =Q26-SUM(R23:R25) -> 0 | S26: =IF(ISERR(P26),0,Salaire_brut_avril*P26) -> 0 | U26: =S26 -> 0 | V26: =IF(Mode_calcul=1,IF(R26>0,R26,""),IF(U26>0,U26,"")) | W26: =IF(Mode_calcul=1,IF(R26<0,-R26,""),IF(U26<0,-U26,""))
B27: mai | C27: =SMIC!B8 -> 9.53 | G27: =IF(AND($C$18<>0,$C$18<>""),$C$18,"") -> 35 | H27: =IF(AND($C$19<>0,$C$19<>""),$C$19,"") -> 35 | I27: mai | J27: =IF(Salaire_brut_mai="",0,Horaire_collectif_mensuel*C27*IF(G27<>"",G27,Salaire_brut_mai)/IF(H27<>"",H27,IF(E27<>"",E27,Salaire_brut_mai))) -> 0 | K27: =D27 -> 0 | L27: =L26+J27 -> 1445.4151 | M27: =M26+C27*F27 -> 0 | N27: =Salaire_brut_janvier+Salaire_brut_février+Salaire_brut_mars+Salaire_brut_avril+Salaire_brut_mai -> 1833.69 | O27: =IF(IF(ROUND(((Coeff.effectif/0.6)*((1.6*(L27+M27)/N27)-1)),4)>0,ROUND(((Coeff.effectif/0.6)*((1.6*(L27+M27)/N27)-1)),4),0)>Coeff.effectif,Coeff.effectif,IF(ROUND(((Coeff.effectif/0.6)*((1.6*(L27+M27)/N27)-1)),4)>0,ROUND(((Coeff.effectif/0.6)*((1.6*(L27+M27)/N27)-1)),4),0)) -> 0.1223 | P27: =IF(IF(ROUND(((Coeff.effectif/0.6)*((1.6*(J27+(C27*F27))/Salaire_brut_mai)-1)),4)>0,ROUND(((Coeff.effectif/0.6)*((1.6*(J27+(C27*F27))/Salaire_brut_mai)-1)),4),0)>Coeff.effectif,Coeff.effectif,IF(ROUND(((Coeff.effectif/0.6)*((1.6*(J27+(C27*F27))/Salaire_brut_mai)-1)),4)>0,ROUND(((Coeff.effectif/0.6)*((1.6*(J27+(C27*F27))/Salaire_brut_mai)-1)),4),0)) -> #DIV/0! | Q27: =IF(ISERR(N27*O27),0,N27*O27) -> 224.26029 | R27: =Q27-SUM(R23:R26) -> 0 | S27: =IF(ISERR(P27),0,Salaire_brut_mai*P27) -> 0 | U27: =S27 -> 0 | V27: =IF(Mode_calcul=1,IF(R27>0,R27,""),IF(U27>0,U27,"")) | W27: =IF(Mode_calcul=1,IF(R27<0,-R27,""),IF(U27<0,-U27,""))
B28: juin | C28: =SMIC!B9 -> 9.53 | G28: =IF(AND($C$18<>0,$C$18<>""),$C$18,"") -> 35 | H28: =IF(AND($C$19<>0,$C$19<>""),$C$19,"") -> 35 | I28: juin | J28: =IF(Salaire_brut_juin="",0,Horaire_collectif_mensuel*C28*IF(G28<>"",G28,Salaire_brut_juin)/IF(H28<>"",H28,IF(E28<>"",E28,Salaire_brut_juin))) -> 0 | K28: =D28 -> 0 | L28: =L27+J28 -> 1445.4151 | M28: =M27+C28*F28 -> 0 | N28: =Salaire_brut_janvier+Salaire_brut_février+Salaire_brut_mars+Salaire_brut_avril+Salaire_brut_mai+Salaire_brut_juin -> 1833.69 | O28: =IF(IF(ROUND(((Coeff.effectif/0.6)*((1.6*(L28+M28)/N28)-1)),4)>0,ROUND(((Coeff.effectif/0.6)*((1.6*(L28+M28)/N28)-1)),4),0)>Coeff.effectif,Coeff.effectif,IF(ROUND(((Coeff.effectif/0.6)*((1.6*(L28+M28)/N28)-1)),4)>0,ROUND(((Coeff.effectif/0.6)*((1.6*(L28+M28)/N28)-1)),4),0)) -> 0.1223 | P28: =IF(IF(ROUND(((Coeff.effectif/0.6)*((1.6*(J28+(C28*F28))/Salaire_brut_juin)-1)),4)>0,ROUND(((Coeff.effectif/0.6)*((1.6*(J28+(C28*F28))/Salaire_brut_juin)-1)),4),0)>Coeff.effectif,Coeff.effectif,IF(ROUND(((Coeff.effectif/0.6)*((1.6*(J28+(C28*F28))/Salaire_brut_juin)-1)),4)>0,ROUND(((Coeff.effectif/0.6)*((1.6*(J28+(C28*F28))/Salaire_brut_juin)-1)),4),0)) -> #DIV/0! | Q28: =IF(ISERR(N28*O28),0,N28*O28) -> 224.26029 | R28: =Q28-SUM(R23:R27) -> 0 | S28: =IF(ISERR(P28),0,Salaire_brut_juin*P28) -> 0 | U28: =S28 -> 0 | V28: =IF(Mode_calcul=1,IF(R28>0,R28,""),IF(U28>0,U28,"")) | W28: =IF(Mode_calcul=1,IF(R28<0,-R28,""),IF(U28<0,-U28,""))
B29: juillet | C29: =SMIC!B10 -> 9.53 | G29: =IF(AND($C$18<>0,$C$18<>""),$C$18,"") -> 35 | H29: =IF(AND($C$19<>0,$C$19<>""),$C$19,"") -> 35 | I29: juillet | J29: =IF(Salaire_brut_juillet="",0,Horaire_collectif_mensuel*C29*IF(G29<>"",G29,Salaire_brut_juillet)/IF(H29<>"",H29,IF(E29<>"",E29,Salaire_brut_juillet))) -> 0 | K29: =D29 -> 0 | L29: =L28+J29 -> 1445.4151 | M29: =M28+C29*F29 -> 0 | N29: =Salaire_brut_janvier+Salaire_brut_février+Salaire_brut_mars+Salaire_brut_avril+Salaire_brut_mai+Salaire_brut_juin+Salaire_brut_juillet -> 1833.69 | O29: =IF(IF(ROUND(((Coeff.effectif/0.6)*((1.6*(L29+M29)/N29)-1)),4)>0,ROUND(((Coeff.effectif/0.6)*((1.6*(L29+M29)/N29)-1)),4),0)>Coeff.effectif,Coeff.effectif,IF(ROUND(((Coeff.effectif/0.6)*((1.6*(L29+M29)/N29)-1)),4)>0,ROUND(((Coeff.effectif/0.6)*((1.6*(L29+M29)/N29)-1)),4),0)) -> 0.1223 | P29: =IF(IF(ROUND(((Coeff.effectif/0.6)*((1.6*(J29+(C29*F29))/Salaire_brut_juillet)-1)),4)>0,ROUND(((Coeff.effectif/0.6)*((1.6*(J29+(C29*F29))/Salaire_brut_juillet)-1)),4),0)>Coeff.effectif,Coeff.effectif,IF(ROUND(((Coeff.effectif/0.6)*((1.6*(J29+(C29*F29))/Salaire_brut_juillet)-1)),4)>0,ROUND(((Coeff.effectif/0.6)*((1.6*(J29+(C29*F29))/Salaire_brut_juillet)-1)),4),0)) -> #DIV/0! | Q29: =IF(ISERR(N29*O29),0,N29*O29) -> 224.26029 | R29: =Q29-SUM(R23:R28) -> 0 | S29: =IF(ISERR(P29),0,Salaire_brut_juillet*P29) -> 0 | U29: =S29 -> 0 | V29: =IF(Mode_calcul=1,IF(R29>0,R29,""),IF(U29>0,U29,"")) | W29: =IF(Mode_calcul=1,IF(R29<0,-R29,""),IF(U29<0,-U29,""))
B30: août | C30: =SMIC!B11 -> 9.53 | G30: =IF(AND($C$18<>0,$C$18<>""),$C$18,"") -> 35 | H30: =IF(AND($C$19<>0,$C$19<>""),$C$19,"") -> 35 | I30: août | J30: =IF(Salaire_brut_août="",0,Horaire_collectif_mensuel*C30*IF(G30<>"",G30,Salaire_brut_août)/IF(H30<>"",H30,IF(E30<>"",E30,Salaire_brut_août))) -> 0 | K30: =D30 -> 0 | L30: =L29+J30 -> 1445.4151 | M30: =M29+C30*F30 -> 0 | N30: =Salaire_brut_janvier+Salaire_brut_février+Salaire_brut_mars+Salaire_brut_avril+Salaire_brut_mai+Salaire_brut_juin+Salaire_brut_juillet+Salaire_brut_août -> 1833.69 | O30: =IF(IF(ROUND(((Coeff.effectif/0.6)*((1.6*(L30+M30)/N30)-1)),4)>0,ROUND(((Coeff.effectif/0.6)*((1.6*(L30+M30)/N30)-1)),4),0)>Coeff.effectif,Coeff.effectif,IF(ROUND(((Coeff.effectif/0.6)*((1.6*(L30+M30)/N30)-1)),4)>0,ROUND(((Coeff.effectif/0.6)*((1.6*(L30+M30)/N30)-1)),4),0)) -> 0.1223 | P30: =IF(IF(ROUND(((Coeff.effectif/0.6)*((1.6*(J30+(C30*F30))/Salaire_brut_août)-1)),4)>0,ROUND(((Coeff.effectif/0.6)*((1.6*(J30+(C30*F30))/Salaire_brut_août)-1)),4),0)>Coeff.effectif,Coeff.effectif,IF(ROUND(((Coeff.effectif/0.6)*((1.6*(J30+(C30*F30))/Salaire_brut_août)-1)),4)>0,ROUND(((Coeff.effectif/0.6)*((1.6*(J30+(C30*F30))/Salaire_brut_août)-1)),4),0)) -> #DIV/0! | Q30: =IF(ISERR(N30*O30),0,N30*O30) -> 224.26029 | R30: =Q30-SUM(R23:R29) -> 0 | S30: =IF(ISERR(P30),0,Salaire_brut_août*P30) -> 0 | U30: =S30 -> 0 | V30: =IF(Mode_calcul=1,IF(R30>0,R30,""),IF(U30>0,U30,"")) | W30: =IF(Mode_calcul=1,IF(R30<0,-R30,""),IF(U30<0,-U30,""))
B31: septembre | C31: =SMIC!B12 -> 9.53 | G31: =IF(AND($C$18<>0,$C$18<>""),$C$18,"") -> 35 | H31: =IF(AND($C$19<>0,$C$19<>""),$C$19,"") -> 35 | I31: septembre | J31: =IF(Salaire_brut_septembre="",0,Horaire_collectif_mensuel*C31*IF(G31<>"",G31,Salaire_brut_septembre)/IF(H31<>"",H31,IF(E31<>"",E31,Salaire_brut_septembre))) -> 0 | K31: =D31 -> 0 | L31: =L30+J31 -> 1445.4151 | M31: =M30+C31*F31 -> 0 | N31: =Salaire_brut_janvier+Salaire_brut_février+Salaire_brut_mars+Salaire_brut_avril+Salaire_brut_mai+Salaire_brut_juin+Salaire_brut_juillet+Salaire_brut_août+Salaire_brut_septembre -> 1833.69 | O31: =IF(IF(ROUND(((Coeff.effectif/0.6)*((1.6*(L31+M31)/N31)-1)),4)>0,ROUND(((Coeff.effectif/0.6)*((1.6*(L31+M31)/N31)-1)),4),0)>Coeff.effectif,Coeff.effectif,IF(ROUND(((Coeff.effectif/0.6)*((1.6*(L31+M31)/N31)-1)),4)>0,ROUND(((Coeff.effectif/0.6)*((1.6*(L31+M31)/N31)-1)),4),0)) -> 0.1223 | P31: =IF(IF(ROUND(((Coeff.effectif/0.6)*((1.6*(J31+(C31*F31))/Salaire_brut_septembre)-1)),4)>0,ROUND(((Coeff.effectif/0.6)*((1.6*(J31+(C31*F31))/Salaire_brut_septembre)-1)),4),0)>Coeff.effectif,Coeff.effectif,IF(ROUND(((Coeff.effectif/0.6)*((1.6*(J31+(C31*F31))/Salaire_brut_septembre)-1)),4)>0,ROUND(((Coeff.effectif/0.6)*((1.6*(J31+(C31*F31))/Salaire_brut_septembre)-1)),4),0)) -> #DIV/0! | Q31: =IF(ISERR(N31*O31),0,N31*O31) -> 224.26029 | R31: =Q31-SUM(R23:R30) -> 0 | S31: =IF(ISERR(P31),0,Salaire_brut_septembre*P31) -> 0 | U31: =S31 -> 0 | V31: =IF(Mode_calcul=1,IF(R31>0,R31,""),IF(U31>0,U31,"")) | W31: =IF(Mode_calcul=1,IF(R31<0,-R31,""),IF(U31<0,-U31,""))
B32: octobre | C32: =SMIC!B13 -> 9.53 | G32: =IF(AND($C$18<>0,$C$18<>""),$C$18,"") -> 35 | H32: =IF(AND($C$19<>0,$C$19<>""),$C$19,"") -> 35 | I32: octobre | J32: =IF(Salaire_brut_octobre="",0,Horaire_collectif_mensuel*C32*IF(G32<>"",G32,Salaire_brut_octobre)/IF(H32<>"",H32,IF(E32<>"",E32,Salaire_brut_octobre))) -> 0 | K32: =D32 -> 0 | L32: =L31+J32 -> 1445.4151 | M32: =M31+C32*F32 -> 0 | N32: =Salaire_brut_janvier+Salaire_brut_février+Salaire_brut_mars+Salaire_brut_avril+Salaire_brut_mai+Salaire_brut_juin+Salaire_brut_juillet+Salaire_brut_août+Salaire_brut_septembre+Salaire_brut_octobre -> 1833.69 | O32: =IF(IF(ROUND(((Coeff.effectif/0.6)*((1.6*(L32+M32)/N32)-1)),4)>0,ROUND(((Coeff.effectif/0.6)*((1.6*(L32+M32)/N32)-1)),4),0)>Coeff.effectif,Coeff.effectif,IF(ROUND(((Coeff.effectif/0.6)*((1.6*(L32+M32)/N32)-1)),4)>0,ROUND(((Coeff.effectif/0.6)*((1.6*(L32+M32)/N32)-1)),4),0)) -> 0.1223 | P32: =IF(IF(ROUND(((Coeff.effectif/0.6)*((1.6*(J32+(C32*F32))/Salaire_brut_octobre)-1)),4)>0,ROUND(((Coeff.effectif/0.6)*((1.6*(J32+(C32*F32))/Salaire_brut_octobre)-1)),4),0)>Coeff.effectif,Coeff.effectif,IF(ROUND(((Coeff.effectif/0.6)*((1.6*(J32+(C32*F32))/Salaire_brut_octobre)-1)),4)>0,ROUND(((Coeff.effectif/0.6)*((1.6*(J32+(C32*F32))/Salaire_brut_octobre)-1)),4),0)) -> #DIV/0! | Q32: =IF(ISERR(N32*O32),0,N32*O32) -> 224.26029 | R32: =Q32-SUM(R23:R31) -> 0 | S32: =IF(ISERR(P32),0,Salaire_brut_octobre*P32) -> 0 | U32: =S32 -> 0 | V32: =IF(Mode_calcul=1,IF(R32>0,R32,""),IF(U32>0,U32,"")) | W32: =IF(Mode_calcul=1,IF(R32<0,-R32,""),IF(U32<0,-U32,""))
B33: novembre | C33: =SMIC!B14 -> 9.53 | G33: =IF(AND($C$18<>0,$C$18<>""),$C$18,"") -> 35 | H33: =IF(AND($C$19<>0,$C$19<>""),$C$19,"") -> 35 | I33: novembre | J33: =IF(Salaire_brut_novembre="",0,Horaire_collectif_mensuel*C33*IF(G33<>"",G33,Salaire_brut_novembre)/IF(H33<>"",H33,IF(E33<>"",E33,Salaire_brut_novembre))) -> 0 | K33: =D33 -> 0 | L33: =L32+J33 -> 1445.4151 | M33: =M32+C33*F33 -> 0 | N33: =Salaire_brut_janvier+Salaire_brut_février+Salaire_brut_mars+Salaire_brut_avril+Salaire_brut_mai+Salaire_brut_juin+Salaire_brut_juillet+Salaire_brut_août+Salaire_brut_septembre+Salaire_brut_octobre+Salaire_brut_novembre -> 1833.69 | O33: =IF(IF(ROUND(((Coeff.effectif/0.6)*((1.6*(L33+M33)/N33)-1)),4)>0,ROUND(((Coeff.effectif/0.6)*((1.6*(L33+M33)/N33)-1)),4),0)>Coeff.effectif,Coeff.effectif,IF(ROUND(((Coeff.effectif/0.6)*((1.6*(L33+M33)/N33)-1)),4)>0,ROUND(((Coeff.effectif/0.6)*((1.6*(L33+M33)/N33)-1)),4),0)) -> 0.1223 | P33: =IF(IF(ROUND(((Coeff.effectif/0.6)*((1.6*(J33+(C33*F33))/Salaire_brut_novembre)-1)),4)>0,ROUND(((Coeff.effectif/0.6)*((1.6*(J33+(C33*F33))/Salaire_brut_novembre)-1)),4),0)>Coeff.effectif,Coeff.effectif,IF(ROUND(((Coeff.effectif/0.6)*((1.6*(J33+(C33*F33))/Salaire_brut_novembre)-1)),4)>0,ROUND(((Coeff.effectif/0.6)*((1.6*(J33+(C33*F33))/Salaire_brut_novembre)-1)),4),0)) -> #DIV/0! | Q33: =IF(ISERR(N33*O33),0,N33*O33) -> 224.26029 | R33: =Q33-SUM(R23:R32) -> 0 | S33: =IF(ISERR(P33),0,Salaire_brut_novembre*P33) -> 0 | U33: =S33 -> 0 | V33: =IF(Mode_calcul=1,IF(R33>0,R33,""),IF(U33>0,U33,"")) | W33: =IF(Mode_calcul=1,IF(R33<0,-R33,""),IF(U33<0,-U33,""))
B34: décembre | C34: =SMIC!B15 -> 9.53 | G34: =IF(AND($C$18<>0,$C$18<>""),$C$18,"") -> 35 | H34: =IF(AND($C$19<>0,$C$19<>""),$C$19,"") -> 35 | I34: décembre | J34: =IF(Salaire_brut_décembre="",0,Horaire_collectif_mensuel*C34*IF(G34<>"",G34,Salaire_brut_décembre)/IF(H34<>"",H34,IF(E34<>"",E34,Salaire_brut_décembre))) -> 0 | K34: =D34 -> 0 | L34: =L33+J34 -> 1445.4151 | M34: =M33+C34*F34 -> 0 | N34: =Salaire_brut_janvier+Salaire_brut_février+Salaire_brut_mars+Salaire_brut_avril+Salaire_brut_mai+Salaire_brut_juin+Salaire_brut_juillet+Salaire_brut_août+Salaire_brut_septembre+Salaire_brut_octobre+Salaire_brut_novembre+Salaire_brut_décembre -> 1833.69 | O34: =IF(IF(ROUND(((Coeff.effectif/0.6)*((1.6*(L34+M34)/N34)-1)),4)>0,ROUND(((Coeff.effectif/0.6)*((1.6*(L34+M34)/N34)-1)),4),0)>Coeff.effectif,Coeff.effectif,IF(ROUND(((Coeff.effectif/0.6)*((1.6*(L34+M34)/N34)-1)),4)>0,ROUND(((Coeff.effectif/0.6)*((1.6*(L34+M34)/N34)-1)),4),0)) -> 0.1223 | P34: =IF(IF(ROUND(((Coeff.effectif/0.6)*((1.6*(J34+(C34*F34))/Salaire_brut_décembre)-1)),4)>0,ROUND(((Coeff.effectif/0.6)*((1.6*(J34+(C34*F34))/Salaire_brut_décembre)-1)),4),0)>Coeff.effectif,Coeff.effectif,IF(ROUND(((Coeff.effectif/0.6)*((1.6*(J34+(C34*F34))/Salaire_brut_décembre)-1)),4)>0,ROUND(((Coeff.effectif/0.6)*((1.6*(J34+(C34*F34))/Salaire_brut_décembre)-1)),4),0)) -> #DIV/0! | Q34: =IF(Salaire_brut_décembre=0,0,N34*O34) -> 0 | R34: =IF(Q34-SUM(R23:R33)<0,"",Q34-SUM(R23:R33)) | S34: =IF(ISERR(P34),0,Salaire_brut_décembre*P34) -> 0 | T34: =IF(Salaire_brut_décembre="",0,IF(Q34-SUM(R23:R33)>0,"",Q34-SUM(R23:R33))) -> 0 | U34: =(SUM(R23:R33)+IF(R34<>"",R34,0)+IF(T34<>"",T34,0))-SUM(U23:U33) -> 0 | V34: =IF(Mode_calcul=1,IF(R34>0,R34,""),IF(U34>0,U34,"")) | W34: =IF(Mode_calcul=1,IF(T34<0,-T34,""),IF(U34<0,-U34,""))
B35: Total | D35: =SUM(D23:D34) -> 1833.69 | I35: Total | S35: =SUM(S23:S34) -> 224.26029 | V35: =SUM(V23:V33)+IF(V34="",0,V34)-SUM(W23:W33)-IF(W34="",0,W34) -> 224.26029
V37: Progressif | X37: Annuel
V38: Code 671 | W38: Code 801 | X38: Code 671 | Y38: Code 801
U39: 1er trimestre | V39: =IF(R23+R24+R25<0,"",R23+R24+R25) -> 224.26029 | W39: =IF(R23+R24+R25>0,"",-(R23+R24+R25)) | X39: =IF(U23+U24+U25<0,"",U23+U24+U25) -> 224.26029 | Y39: =IF(U23+U24+U25>0,"",-(U23+U24+U25))
U40: 2ème trimestre | V40: =IF(R26+R27+R28<0,"",R26+R27+R28) -> 0 | W40: =IF(R26+R27+R28>0,"",-(R26+R27+R28)) -> 0 | X40: =IF(U26+U27+U28<0,"",U26+U27+U28) -> 0 | Y40: =IF(U26+U27+U28>0,"",-(U26+U27+U28)) -> 0
U41: 3ème trimestre | V41: =IF(R29+R30+R31<0,"",R29+R30+R31) -> 0 | W41: =IF(R29+R30+R31>0,"",-(R29+R30+R31)) -> 0 | X41: =IF(U29+U30+U31<0,"",U29+U30+U31) -> 0 | Y41: =IF(U29+U30+U31>0,"",-(U29+U30+U31)) -> 0
U42: 4ème trimestre | V42: =IF(R32+R33+IF(R34<>"",R34,0)+IF(T34<>"",T34,0)<0,"",R32+R33+IF(R34<>"",R34,0)+IF(T34<>"",T34,0)) -> 0 | W42: =IF(R32+R33+IF(R34<>"",R34,0)+IF(T34<>"",T34,0)>0,"",-(R32+R33+IF(R34<>"",R34,0)+IF(T34<>"",T34,0))) -> 0 | X42: =IF(U32+U33+U34<0,"",U32+U33+U34) -> 0 | Y42: =IF(U32+U33+U34>0,"",-(U32+U33+U34)) -> 0
C43: RECAPITULATIF TRIMESTRIEL
D44: Réduction calculée
D45: Réduction (code 671) | E45: Régularisation (code 801)
C46: 1er trimestre | D46: =IF(Mode_calcul=1,V39,X39) -> 224.26029 | E46: =IF(Mode_calcul=1,W39,Y39)
C47: 2ème trimestre | D47: =IF(Mode_calcul=1,V40,X40) -> 0 | E47: =IF(Mode_calcul=1,W40,Y40) -> 0
C48: 3ème trimestre | D48: =IF(Mode_calcul=1,V41,X41) -> 0 | E48: =IF(Mode_calcul=1,W41,Y41) -> 0
C49: 4ème trimestre | D49: =IF(Mode_calcul=1,V42,X42) -> 0 | E49: =IF(Mode_calcul=1,W42,Y42) -> 0
C50: Total | D50: =+SUM(D46:D49)-SUM(E46:E49) -> 224.26029

Sheet ROBERT DUVERGNE
B1: CALCUL DE LA REDUCTION FILLON
B3: Année : | C3: 2013 | H3: Nom / Prénom : | I3: ROBERT DUVERGNE
H4: Matricule : | I4: 0004
B5: Effectif de l'entreprise :
C7: 1
B10: Choix du mode de calcul de la régularisation :
C11: 2
B13: Horaire collectif mensuel : | C13: 151.67
B15: Coefficient effectif : | C15: =IF(C7=1,0.281,0.26) -> 0.281
B17: Temps partiel :
B18: Horaire hebdo contractuel : | C18: 35 | D18: ex. : 17h | E18: =IF(AND(C19<>"",OR(C18="",C18=0)),"<<<<< info à compléter","")
B19: Horaire hebdo conventionnel : | C19: 35 | D19: ex. : 35h | E19: =IF(AND(C18<>"",OR(C19="",C19=0)),"<<<<< info à compléter","")
E21: Mois incomplet | G21: Tps partiel | V21: Réduction calculée
C22: Smic mensuel | D22: Salaire brut total versé | E22: Base rémunération mensuelle | F22: Nb d'h.suppl. | G22: horaire hebdo contractuel | H22: horaire hebdo conventionnel | J22: Smic brut mensuel | K22: Assiette Fillon | L22: Cumul smic mensuel | M22: Cumul HS SMIC | N22: Cumul SB mensuel | O22: Coeff.progr | P22: Coeff.annuel | Q22: Réduction Fillon réelle cumulée | R22: Mtt réduction Fillon progr. | S22: Calcul par régularisation annuelle | U22: Mtt réduction Fillon annuel | V22: Réduction (code 671) | W22: Régularisation (code 801)
B23: janvier | C23: =SMIC!B4 -> 9.53 | D23: 5000 | G23: =IF(AND($C$18<>0,$C$18<>""),$C$18,"") -> 35 | H23: =IF(AND($C$19<>0,$C$19<>""),$C$19,"") -> 35 | I23: janvier | J23: =IF(Salaire_brut_janvier="",0,(Horaire_collectif_mensuel*C23*IF(G23<>"",G23,Salaire_brut_janvier)/IF(H23<>"",H23,IF(E23<>"",E23,Salaire_brut_janvier)))) -> 1445.4151 | K23: =D23 -> 5000 | L23: =J23 -> 1445.4151 | M23: =C23*F23 -> 0 | N23: =D23 -> 5000 | O23: =IF(IF(ROUND(((Coeff.effectif/0.6)*((1.6*(L23+M23)/N23)-1)),4)>0,ROUND(((Coeff.effectif/0.6)*((1.6*(L23+M23)/N23)-1)),4),0)>Coeff.effectif,Coeff.effectif,IF(ROUND(((Coeff.effectif/0.6)*((1.6*(L23+M23)/N23)-1)),4)>0,ROUND(((Coeff.effectif/0.6)*((1.6*(L23+M23)/N23)-1)),4),0)) -> 0 | P23: =IF(IF(ROUND(((Coeff.effectif/0.6)*((1.6*(J23+(C23*F23))/Salaire_brut_janvier)-1)),4)>0,ROUND(((Coeff.effectif/0.6)*((1.6*(J23+(C23*F23))/Salaire_brut_janvier)-1)),4),0)>Coeff.effectif,Coeff.effectif,IF(ROUND(((Coeff.effectif/0.6)*((1.6*(J23+(C23*F23))/Salaire_brut_janvier)-1)),4)>0,ROUND(((Coeff.effectif/0.6)*((1.6*(J23+(C23*F23))/Salaire_brut_janvier)-1)),4),0)) -> 0 | Q23: =IF(ISERR(N23*O23),0,N23*O23) -> 0 | R23: =IF(ISERR(Salaire_brut_janvier*O23),0,Salaire_brut_janvier*O23) -> 0 | S23: =IF(ISERR(P23),0,Salaire_brut_janvier*P23) -> 0 | U23: =S23 -> 0 | V23: =IF(Mode_calcul=1,IF(R23>0,R23,""),IF(U23>0,U23,"")) | W23: =IF(Mode_calcul=1,IF(R23<0,-R23,""),IF(U23<0,-U23,""))
B24: février | C24: =SMIC!B5 -> 9.53 | G24: =IF(AND($C$18<>0,$C$18<>""),$C$18,"") -> 35 | H24: =IF(AND($C$19<>0,$C$19<>""),$C$19,"") -> 35 | I24: février | J24: =IF(Salaire_brut_février="",0,Horaire_collectif_mensuel*C24*IF(G24<>"",G24,Salaire_brut_février)/IF(H24<>"",H24,IF(E24<>"",E24,Salaire_brut_février))) -> 0 | K24: =D24 -> 0 | L24: =L23+J24 -> 1445.4151 | M24: =M23+C24*F24 -> 0 | N24: =Salaire_brut_janvier+Salaire_brut_février -> 5000 | O24: =IF(IF(ROUND(((Coeff.effectif/0.6)*((1.6*(L24+M24)/N24)-1)),4)>0,ROUND(((Coeff.effectif/0.6)*((1.6*(L24+M24)/N24)-1)),4),0)>Coeff.effectif,Coeff.effectif,IF(ROUND(((Coeff.effectif/0.6)*((1.6*(L24+M24)/N24)-1)),4)>0,ROUND(((Coeff.effectif/0.6)*((1.6*(L24+M24)/N24)-1)),4),0)) -> 0 | P24: =IF(IF(ROUND(((Coeff.effectif/0.6)*((1.6*(J24+(C24*F24))/Salaire_brut_février)-1)),4)>0,ROUND(((Coeff.effectif/0.6)*((1.6*(J24+(C24*F24))/Salaire_brut_février)-1)),4),0)>Coeff.effectif,Coeff.effectif,IF(ROUND(((Coeff.effectif/0.6)*((1.6*(J24+(C24*F24))/Salaire_brut_février)-1)),4)>0,ROUND(((Coeff.effectif/0.6)*((1.6*(J24+(C24*F24))/Salaire_brut_février)-1)),4),0)) -> #DIV/0! | Q24: =IF(ISERR(N24*O24),0,N24*O24) -> 0 | R24: =Q24-SUM(R23) -> 0 | S24: =IF(ISERR(P24),0,Salaire_brut_février*P24) -> 0 | U24: =S24 -> 0 | V24: =IF(Mode_calcul=1,IF(R24>0,R24,""),IF(U24>0,U24,"")) | W24: =IF(Mode_calcul=1,IF(R24<0,-R24,""),IF(U24<0,-U24,""))
B25: mars | C25: =SMIC!B6 -> 9.53 | G25: =IF(AND($C$18<>0,$C$18<>""),$C$18,"") -> 35 | H25: =IF(AND($C$19<>0,$C$19<>""),$C$19,"") -> 35 | I25: mars | J25: =IF(Salaire_brut_mars="",0,Horaire_collectif_mensuel*C25*IF(G25<>"",G25,Salaire_brut_mars)/IF(H25<>"",H25,IF(E25<>"",E25,Salaire_brut_mars))) -> 0 | K25: =D25 -> 0 | L25: =L24+J25 -> 1445.4151 | M25: =M24+C25*F25 -> 0 | N25: =Salaire_brut_janvier+Salaire_brut_février+Salaire_brut_mars -> 5000 | O25: =IF(IF(ROUND(((Coeff.effectif/0.6)*((1.6*(L25+M25)/N25)-1)),4)>0,ROUND(((Coeff.effectif/0.6)*((1.6*(L25+M25)/N25)-1)),4),0)>Coeff.effectif,Coeff.effectif,IF(ROUND(((Coeff.effectif/0.6)*((1.6*(L25+M25)/N25)-1)),4)>0,ROUND(((Coeff.effectif/0.6)*((1.6*(L25+M25)/N25)-1)),4),0)) -> 0 | P25: =IF(IF(ROUND(((Coeff.effectif/0.6)*((1.6*(J25+(C25*F25))/Salaire_brut_mars)-1)),4)>0,ROUND(((Coeff.effectif/0.6)*((1.6*(J25+(C25*F25))/Salaire_brut_mars)-1)),4),0)>Coeff.effectif,Coeff.effectif,IF(ROUND(((Coeff.effectif/0.6)*((1.6*(J25+(C25*F25))/Salaire_brut_mars)-1)),4)>0,ROUND(((Coeff.effectif/0.6)*((1.6*(J25+(C25*F25))/Salaire_brut_mars)-1)),4),0)) -> #DIV/0! | Q25: =IF(ISERR(N25*O25),0,N25*O25) -> 0 | R25: =Q25-SUM(R23:R24) -> 0 | S25: =IF(ISERR(P25),0,Salaire_brut_mars*P25) -> 0 | U25: =S25 -> 0 | V25: =IF(Mode_calcul=1,IF(R25>0,R25,""),IF(U25>0,U25,"")) | W25: =IF(Mode_calcul=1,IF(R25<0,-R25,""),IF(U25<0,-U25,""))
B26: avril | C26: =SMIC!B7 -> 9.53 | G26: =IF(AND($C$18<>0,$C$18<>""),$C$18,"") -> 35 | H26: =IF(AND($C$19<>0,$C$19<>""),$C$19,"") -> 35 | I26: avril | J26: =IF(Salaire_brut_avril="",0,Horaire_collectif_mensuel*C26*IF(G26<>"",G26,Salaire_brut_avril)/IF(H26<>"",H26,IF(E26<>"",E26,Salaire_brut_avril))) -> 0 | K26: =D26 -> 0 | L26: =L25+J26 -> 1445.4151 | M26: =M25+C26*F26 -> 0 | N26: =Salaire_brut_janvier+Salaire_brut_février+Salaire_brut_mars+Salaire_brut_avril -> 5000 | O26: =IF(IF(ROUND(((Coeff.effectif/0.6)*((1.6*(L26+M26)/N26)-1)),4)>0,ROUND(((Coeff.effectif/0.6)*((1.6*(L26+M26)/N26)-1)),4),0)>Coeff.effectif,Coeff.effectif,IF(ROUND(((Coeff.effectif/0.6)*((1.6*(L26+M26)/N26)-1)),4)>0,ROUND(((Coeff.effectif/0.6)*((1.6*(L26+M26)/N26)-1)),4),0)) -> 0 | P26: =IF(IF(ROUND(((Coeff.effectif/0.6)*((1.6*(J26+(C26*F26))/Salaire_brut_avril)-1)),4)>0,ROUND(((Coeff.effectif/0.6)*((1.6*(J26+(C26*F26))/Salaire_brut_avril)-1)),4),0)>Coeff.effectif,Coeff.effectif,IF(ROUND(((Coeff.effectif/0.6)*((1.6*(J26+(C26*F26))/Salaire_brut_avril)-1)),4)>0,ROUND(((Coeff.effectif/0.6)*((1.6*(J26+(C26*F26))/Salaire_brut_avril)-1)),4),0)) -> #DIV/0! | Q26: =IF(ISERR(N26*O26),0,N26*O26) -> 0 | R26: =Q26-SUM(R23:R25) -> 0 | S26: =IF(ISERR(P26),0,Salaire_brut_avril*P26) -> 0 | U26: =S26 -> 0 | V26: =IF(Mode_calcul=1,IF(R26>0,R26,""),IF(U26>0,U26,"")) | W26: =IF(Mode_calcul=1,IF(R26<0,-R26,""),IF(U26<0,-U26,""))
B27: mai | C27: =SMIC!B8 -> 9.53 | G27: =IF(AND($C$18<>0,$C$18<>""),$C$18,"") -> 35 | H27: =IF(AND($C$19<>0,$C$19<>""),$C$19,"") -> 35 | I27: mai | J27: =IF(Salaire_brut_mai="",0,Horaire_collectif_mensuel*C27*IF(G27<>"",G27,Salaire_brut_mai)/IF(H27<>"",H27,IF(E27<>"",E27,Salaire_brut_mai))) -> 0 | K27: =D27 -> 0 | L27: =L26+J27 -> 1445.4151 | M27: =M26+C27*F27 -> 0 | N27: =Salaire_brut_janvier+Salaire_brut_février+Salaire_brut_mars+Salaire_brut_avril+Salaire_brut_mai -> 5000 | O27: =IF(IF(ROUND(((Coeff.effectif/0.6)*((1.6*(L27+M27)/N27)-1)),4)>0,ROUND(((Coeff.effectif/0.6)*((1.6*(L27+M27)/N27)-1)),4),0)>Coeff.effectif,Coeff.effectif,IF(ROUND(((Coeff.effectif/0.6)*((1.6*(L27+M27)/N27)-1)),4)>0,ROUND(((Coeff.effectif/0.6)*((1.6*(L27+M27)/N27)-1)),4),0)) -> 0 | P27: =IF(IF(ROUND(((Coeff.effectif/0.6)*((1.6*(J27+(C27*F27))/Salaire_brut_mai)-1)),4)>0,ROUND(((Coeff.effectif/0.6)*((1.6*(J27+(C27*F27))/Salaire_brut_mai)-1)),4),0)>Coeff.effectif,Coeff.effectif,IF(ROUND(((Coeff.effectif/0.6)*((1.6*(J27+(C27*F27))/Salaire_brut_mai)-1)),4)>0,ROUND(((Coeff.effectif/0.6)*((1.6*(J27+(C27*F27))/Salaire_brut_mai)-1)),4),0)) -> #DIV/0! | Q27: =IF(ISERR(N27*O27),0,N27*O27) -> 0 | R27: =Q27-SUM(R23:R26) -> 0 | S27: =IF(ISERR(P27),0,Salaire_brut_mai*P27) -> 0 | U27: =S27 -> 0 | V27: =IF(Mode_calcul=1,IF(R27>0,R27,""),IF(U27>0,U27,"")) | W27: =IF(Mode_calcul=1,IF(R27<0,-R27,""),IF(U27<0,-U27,""))
B28: juin | C28: =SMIC!B9 -> 9.53 | G28: =IF(AND($C$18<>0,$C$18<>""),$C$18,"") -> 35 | H28: =IF(AND($C$19<>0,$C$19<>""),$C$19,"") -> 35 | I28: juin | J28: =IF(Salaire_brut_juin="",0,Horaire_collectif_mensuel*C28*IF(G28<>"",G28,Salaire_brut_juin)/IF(H28<>"",H28,IF(E28<>"",E28,Salaire_brut_juin))) -> 0 | K28: =D28 -> 0 | L28: =L27+J28 -> 1445.4151 | M28: =M27+C28*F28 -> 0 | N28: =Salaire_brut_janvier+Salaire_brut_février+Salaire_brut_mars+Salaire_brut_avril+Salaire_brut_mai+Salaire_brut_juin -> 5000 | O28: =IF(IF(ROUND(((Coeff.effectif/0.6)*((1.6*(L28+M28)/N28)-1)),4)>0,ROUND(((Coeff.effectif/0.6)*((1.6*(L28+M28)/N28)-1)),4),0)>Coeff.effectif,Coeff.effectif,IF(ROUND(((Coeff.effectif/0.6)*((1.6*(L28+M28)/N28)-1)),4)>0,ROUND(((Coeff.effectif/0.6)*((1.6*(L28+M28)/N28)-1)),4),0)) -> 0 | P28: =IF(IF(ROUND(((Coeff.effectif/0.6)*((1.6*(J28+(C28*F28))/Salaire_brut_juin)-1)),4)>0,ROUND(((Coeff.effectif/0.6)*((1.6*(J28+(C28*F28))/Salaire_brut_juin)-1)),4),0)>Coeff.effectif,Coeff.effectif,IF(ROUND(((Coeff.effectif/0.6)*((1.6*(J28+(C28*F28))/Salaire_brut_juin)-1)),4)>0,ROUND(((Coeff.effectif/0.6)*((1.6*(J28+(C28*F28))/Salaire_brut_juin)-1)),4),0)) -> #DIV/0! | Q28: =IF(ISERR(N28*O28),0,N28*O28) -> 0 | R28: =Q28-SUM(R23:R27) -> 0 | S28: =IF(ISERR(P28),0,Salaire_brut_juin*P28) -> 0 | U28: =S28 -> 0 | V28: =IF(Mode_calcul=1,IF(R28>0,R28,""),IF(U28>0,U28,"")) | W28: =IF(Mode_calcul=1,IF(R28<0,-R28,""),IF(U28<0,-U28,""))
B29: juillet | C29: =SMIC!B10 -> 9.53 | G29: =IF(AND($C$18<>0,$C$18<>""),$C$18,"") -> 35 | H29: =IF(AND($C$19<>0,$C$19<>""),$C$19,"") -> 35 | I29: juillet | J29: =IF(Salaire_brut_juillet="",0,Horaire_collectif_mensuel*C29*IF(G29<>"",G29,Salaire_brut_juillet)/IF(H29<>"",H29,IF(E29<>"",E29,Salaire_brut_juillet))) -> 0 | K29: =D29 -> 0 | L29: =L28+J29 -> 1445.4151 | M29: =M28+C29*F29 -> 0 | N29: =Salaire_brut_janvier+Salaire_brut_février+Salaire_brut_mars+Salaire_brut_avril+Salaire_brut_mai+Salaire_brut_juin+Salaire_brut_juillet -> 5000 | O29: =IF(IF(ROUND(((Coeff.effectif/0.6)*((1.6*(L29+M29)/N29)-1)),4)>0,ROUND(((Coeff.effectif/0.6)*((1.6*(L29+M29)/N29)-1)),4),0)>Coeff.effectif,Coeff.effectif,IF(ROUND(((Coeff.effectif/0.6)*((1.6*(L29+M29)/N29)-1)),4)>0,ROUND(((Coeff.effectif/0.6)*((1.6*(L29+M29)/N29)-1)),4),0)) -> 0 | P29: =IF(IF(ROUND(((Coeff.effectif/0.6)*((1.6*(J29+(C29*F29))/Salaire_brut_juillet)-1)),4)>0,ROUND(((Coeff.effectif/0.6)*((1.6*(J29+(C29*F29))/Salaire_brut_juillet)-1)),4),0)>Coeff.effectif,Coeff.effectif,IF(ROUND(((Coeff.effectif/0.6)*((1.6*(J29+(C29*F29))/Salaire_brut_juillet)-1)),4)>0,ROUND(((Coeff.effectif/0.6)*((1.6*(J29+(C29*F29))/Salaire_brut_juillet)-1)),4),0)) -> #DIV/0! | Q29: =IF(ISERR(N29*O29),0,N29*O29) -> 0 | R29: =Q29-SUM(R23:R28) -> 0 | S29: =IF(ISERR(P29),0,Salaire_brut_juillet*P29) -> 0 | U29: =S29 -> 0 | V29: =IF(Mode_calcul=1,IF(R29>0,R29,""),IF(U29>0,U29,"")) | W29: =IF(Mode_calcul=1,IF(R29<0,-R29,""),IF(U29<0,-U29,""))
B30: août | C30: =SMIC!B11 -> 9.53 | G30: =IF(AND($C$18<>0,$C$18<>""),$C$18,"") -> 35 | H30: =IF(AND($C$19<>0,$C$19<>""),$C$19,"") -> 35 | I30: août | J30: =IF(Salaire_brut_août="",0,Horaire_collectif_mensuel*C30*IF(G30<>"",G30,Salaire_brut_août)/IF(H30<>"",H30,IF(E30<>"",E30,Salaire_brut_août))) -> 0 | K30: =D30 -> 0 | L30: =L29+J30 -> 1445.4151 | M30: =M29+C30*F30 -> 0 | N30: =Salaire_brut_janvier+Salaire_brut_février+Salaire_brut_mars+Salaire_brut_avril+Salaire_brut_mai+Salaire_brut_juin+Salaire_brut_juillet+Salaire_brut_août -> 5000 | O30: =IF(IF(ROUND(((Coeff.effectif/0.6)*((1.6*(L30+M30)/N30)-1)),4)>0,ROUND(((Coeff.effectif/0.6)*((1.6*(L30+M30)/N30)-1)),4),0)>Coeff.effectif,Coeff.effectif,IF(ROUND(((Coeff.effectif/0.6)*((1.6*(L30+M30)/N30)-1)),4)>0,ROUND(((Coeff.effectif/0.6)*((1.6*(L30+M30)/N30)-1)),4),0)) -> 0 | P30: =IF(IF(ROUND(((Coeff.effectif/0.6)*((1.6*(J30+(C30*F30))/Salaire_brut_août)-1)),4)>0,ROUND(((Coeff.effectif/0.6)*((1.6*(J30+(C30*F30))/Salaire_brut_août)-1)),4),0)>Coeff.effectif,Coeff.effectif,IF(ROUND(((Coeff.effectif/0.6)*((1.6*(J30+(C30*F30))/Salaire_brut_août)-1)),4)>0,ROUND(((Coeff.effectif/0.6)*((1.6*(J30+(C30*F30))/Salaire_brut_août)-1)),4),0)) -> #DIV/0! | Q30: =IF(ISERR(N30*O30),0,N30*O30) -> 0 | R30: =Q30-SUM(R23:R29) -> 0 | S30: =IF(ISERR(P30),0,Salaire_brut_août*P30) -> 0 | U30: =S30 -> 0 | V30: =IF(Mode_calcul=1,IF(R30>0,R30,""),IF(U30>0,U30,"")) | W30: =IF(Mode_calcul=1,IF(R30<0,-R30,""),IF(U30<0,-U30,""))
B31: septembre | C31: =SMIC!B12 -> 9.53 | G31: =IF(AND($C$18<>0,$C$18<>""),$C$18,"") -> 35 | H31: =IF(AND($C$19<>0,$C$19<>""),$C$19,"") -> 35 | I31: septembre | J31: =IF(Salaire_brut_septembre="",0,Horaire_collectif_mensuel*C31*IF(G31<>"",G31,Salaire_brut_septembre)/IF(H31<>"",H31,IF(E31<>"",E31,Salaire_brut_septembre))) -> 0 | K31: =D31 -> 0 | L31: =L30+J31 -> 1445.4151 | M31: =M30+C31*F31 -> 0 | N31: =Salaire_brut_janvier+Salaire_brut_février+Salaire_brut_mars+Salaire_brut_avril+Salaire_brut_mai+Salaire_brut_juin+Salaire_brut_juillet+Salaire_brut_août+Salaire_brut_septembre -> 5000 | O31: =IF(IF(ROUND(((Coeff.effectif/0.6)*((1.6*(L31+M31)/N31)-1)),4)>0,ROUND(((Coeff.effectif/0.6)*((1.6*(L31+M31)/N31)-1)),4),0)>Coeff.effectif,Coeff.effectif,IF(ROUND(((Coeff.effectif/0.6)*((1.6*(L31+M31)/N31)-1)),4)>0,ROUND(((Coeff.effectif/0.6)*((1.6*(L31+M31)/N31)-1)),4),0)) -> 0 | P31: =IF(IF(ROUND(((Coeff.effectif/0.6)*((1.6*(J31+(C31*F31))/Salaire_brut_septembre)-1)),4)>0,ROUND(((Coeff.effectif/0.6)*((1.6*(J31+(C31*F31))/Salaire_brut_septembre)-1)),4),0)>Coeff.effectif,Coeff.effectif,IF(ROUND(((Coeff.effectif/0.6)*((1.6*(J31+(C31*F31))/Salaire_brut_septembre)-1)),4)>0,ROUND(((Coeff.effectif/0.6)*((1.6*(J31+(C31*F31))/Salaire_brut_septembre)-1)),4),0)) -> #DIV/0! | Q31: =IF(ISERR(N31*O31),0,N31*O31) -> 0 | R31: =Q31-SUM(R23:R30) -> 0 | S31: =IF(ISERR(P31),0,Salaire_brut_septembre*P31) -> 0 | U31: =S31 -> 0 | V31: =IF(Mode_calcul=1,IF(R31>0,R31,""),IF(U31>0,U31,"")) | W31: =IF(Mode_calcul=1,IF(R31<0,-R31,""),IF(U31<0,-U31,""))
B32: octobre | C32: =SMIC!B13 -> 9.53 | G32: =IF(AND($C$18<>0,$C$18<>""),$C$18,"") -> 35 | H32: =IF(AND($C$19<>0,$C$19<>""),$C$19,"") -> 35 | I32: octobre | J32: =IF(Salaire_brut_octobre="",0,Horaire_collectif_mensuel*C32*IF(G32<>"",G32,Salaire_brut_octobre)/IF(H32<>"",H32,IF(E32<>"",E32,Salaire_brut_octobre))) -> 0 | K32: =D32 -> 0 | L32: =L31+J32 -> 1445.4151 | M32: =M31+C32*F32 -> 0 | N32: =Salaire_brut_janvier+Salaire_brut_février+Salaire_brut_mars+Salaire_brut_avril+Salaire_brut_mai+Salaire_brut_juin+Salaire_brut_juillet+Salaire_brut_août+Salaire_brut_septembre+Salaire_brut_octobre -> 5000 | O32: =IF(IF(ROUND(((Coeff.effectif/0.6)*((1.6*(L32+M32)/N32)-1)),4)>0,ROUND(((Coeff.effectif/0.6)*((1.6*(L32+M32)/N32)-1)),4),0)>Coeff.effectif,Coeff.effectif,IF(ROUND(((Coeff.effectif/0.6)*((1.6*(L32+M32)/N32)-1)),4)>0,ROUND(((Coeff.effectif/0.6)*((1.6*(L32+M32)/N32)-1)),4),0)) -> 0 | P32: =IF(IF(ROUND(((Coeff.effectif/0.6)*((1.6*(J32+(C32*F32))/Salaire_brut_octobre)-1)),4)>0,ROUND(((Coeff.effectif/0.6)*((1.6*(J32+(C32*F32))/Salaire_brut_octobre)-1)),4),0)>Coeff.effectif,Coeff.effectif,IF(ROUND(((Coeff.effectif/0.6)*((1.6*(J32+(C32*F32))/Salaire_brut_octobre)-1)),4)>0,ROUND(((Coeff.effectif/0.6)*((1.6*(J32+(C32*F32))/Salaire_brut_octobre)-1)),4),0)) -> #DIV/0! | Q32: =IF(ISERR(N32*O32),0,N32*O32) -> 0 | R32: =Q32-SUM(R23:R31) -> 0 | S32: =IF(ISERR(P32),0,Salaire_brut_octobre*P32) -> 0 | U32: =S32 -> 0 | V32: =IF(Mode_calcul=1,IF(R32>0,R32,""),IF(U32>0,U32,"")) | W32: =IF(Mode_calcul=1,IF(R32<0,-R32,""),IF(U32<0,-U32,""))
B33: novembre | C33: =SMIC!B14 -> 9.53 | G33: =IF(AND($C$18<>0,$C$18<>""),$C$18,"") -> 35 | H33: =IF(AND($C$19<>0,$C$19<>""),$C$19,"") -> 35 | I33: novembre | J33: =IF(Salaire_brut_novembre="",0,Horaire_collectif_mensuel*C33*IF(G33<>"",G33,Salaire_brut_novembre)/IF(H33<>"",H33,IF(E33<>"",E33,Salaire_brut_novembre))) -> 0 | K33: =D33 -> 0 | L33: =L32+J33 -> 1445.4151 | M33: =M32+C33*F33 -> 0 | N33: =Salaire_brut_janvier+Salaire_brut_février+Salaire_brut_mars+Salaire_brut_avril+Salaire_brut_mai+Salaire_brut_juin+Salaire_brut_juillet+Salaire_brut_août+Salaire_brut_septembre+Salaire_brut_octobre+Salaire_brut_novembre -> 5000 | O33: =IF(IF(ROUND(((Coeff.effectif/0.6)*((1.6*(L33+M33)/N33)-1)),4)>0,ROUND(((Coeff.effectif/0.6)*((1.6*(L33+M33)/N33)-1)),4),0)>Coeff.effectif,Coeff.effectif,IF(ROUND(((Coeff.effectif/0.6)*((1.6*(L33+M33)/N33)-1)),4)>0,ROUND(((Coeff.effectif/0.6)*((1.6*(L33+M33)/N33)-1)),4),0)) -> 0 | P33: =IF(IF(ROUND(((Coeff.effectif/0.6)*((1.6*(J33+(C33*F33))/Salaire_brut_novembre)-1)),4)>0,ROUND(((Coeff.effectif/0.6)*((1.6*(J33+(C33*F33))/Salaire_brut_novembre)-1)),4),0)>Coeff.effectif,Coeff.effectif,IF(ROUND(((Coeff.effectif/0.6)*((1.6*(J33+(C33*F33))/Salaire_brut_novembre)-1)),4)>0,ROUND(((Coeff.effectif/0.6)*((1.6*(J33+(C33*F33))/Salaire_brut_novembre)-1)),4),0)) -> #DIV/0! | Q33: =IF(ISERR(N33*O33),0,N33*O33) -> 0 | R33: =Q33-SUM(R23:R32) -> 0 | S33: =IF(ISERR(P33),0,Salaire_brut_novembre*P33) -> 0 | U33: =S33 -> 0 | V33: =IF(Mode_calcul=1,IF(R33>0,R33,""),IF(U33>0,U33,"")) | W33: =IF(Mode_calcul=1,IF(R33<0,-R33,""),IF(U33<0,-U33,""))
B34: décembre | C34: =SMIC!B15 -> 9.53 | G34: =IF(AND($C$18<>0,$C$18<>""),$C$18,"") -> 35 | H34: =IF(AND($C$19<>0,$C$19<>""),$C$19,"") -> 35 | I34: décembre | J34: =IF(Salaire_brut_décembre="",0,Horaire_collectif_mensuel*C34*IF(G34<>"",G34,Salaire_brut_décembre)/IF(H34<>"",H34,IF(E34<>"",E34,Salaire_brut_décembre))) -> 0 | K34: =D34 -> 0 | L34: =L33+J34 -> 1445.4151 | M34: =M33+C34*F34 -> 0 | N34: =Salaire_brut_janvier+Salaire_brut_février+Salaire_brut_mars+Salaire_brut_avril+Salaire_brut_mai+Salaire_brut_juin+Salaire_brut_juillet+Salaire_brut_août+Salaire_brut_septembre+Salaire_brut_octobre+Salaire_brut_novembre+Salaire_brut_décembre -> 5000 | O34: =IF(IF(ROUND(((Coeff.effectif/0.6)*((1.6*(L34+M34)/N34)-1)),4)>0,ROUND(((Coeff.effectif/0.6)*((1.6*(L34+M34)/N34)-1)),4),0)>Coeff.effectif,Coeff.effectif,IF(ROUND(((Coeff.effectif/0.6)*((1.6*(L34+M34)/N34)-1)),4)>0,ROUND(((Coeff.effectif/0.6)*((1.6*(L34+M34)/N34)-1)),4),0)) -> 0 | P34: =IF(IF(ROUND(((Coeff.effectif/0.6)*((1.6*(J34+(C34*F34))/Salaire_brut_décembre)-1)),4)>0,ROUND(((Coeff.effectif/0.6)*((1.6*(J34+(C34*F34))/Salaire_brut_décembre)-1)),4),0)>Coeff.effectif,Coeff.effectif,IF(ROUND(((Coeff.effectif/0.6)*((1.6*(J34+(C34*F34))/Salaire_brut_décembre)-1)),4)>0,ROUND(((Coeff.effectif/0.6)*((1.6*(J34+(C34*F34))/Salaire_brut_décembre)-1)),4),0)) -> #DIV/0! | Q34: =IF(Salaire_brut_décembre=0,0,N34*O34) -> 0 | R34: =IF(Q34-SUM(R23:R33)<0,"",Q34-SUM(R23:R33)) -> 0 | S34: =IF(ISERR(P34),0,Salaire_brut_décembre*P34) -> 0 | T34: =IF(Salaire_brut_décembre="",0,IF(Q34-SUM(R23:R33)>0,"",Q34-SUM(R23:R33))) -> 0 | U34: =(SUM(R23:R33)+IF(R34<>"",R34,0)+IF(T34<>"",T34,0))-SUM(U23:U33) -> 0 | V34: =IF(Mode_calcul=1,IF(R34>0,R34,""),IF(U34>0,U34,"")) | W34: =IF(Mode_calcul=1,IF(T34<0,-T34,""),IF(U34<0,-U34,""))
B35: Total | D35: =SUM(D23:D34) -> 5000 | I35: Total | S35: =SUM(S23:S34) -> 0 | V35: =SUM(V23:V33)+IF(V34="",0,V34)-SUM(W23:W33)-IF(W34="",0,W34) -> 0
V37: Progressif | X37: Annuel
V38: Code 671 | W38: Code 801 | X38: Code 671 | Y38: Code 801
U39: 1er trimestre | V39: =IF(R23+R24+R25<0,"",R23+R24+R25) -> 0 | W39: =IF(R23+R24+R25>0,"",-(R23+R24+R25)) -> 0 | X39: =IF(U23+U24+U25<0,"",U23+U24+U25) -> 0 | Y39: =IF(U23+U24+U25>0,"",-(U23+U24+U25)) -> 0
U40: 2ème trimestre | V40: =IF(R26+R27+R28<0,"",R26+R27+R28) -> 0 | W40: =IF(R26+R27+R28>0,"",-(R26+R27+R28)) -> 0 | X40: =IF(U26+U27+U28<0,"",U26+U27+U28) -> 0 | Y40: =IF(U26+U27+U28>0,"",-(U26+U27+U28)) -> 0
U41: 3ème trimestre | V41: =IF(R29+R30+R31<0,"",R29+R30+R31) -> 0 | W41: =IF(R29+R30+R31>0,"",-(R29+R30+R31)) -> 0 | X41: =IF(U29+U30+U31<0,"",U29+U30+U31) -> 0 | Y41: =IF(U29+U30+U31>0,"",-(U29+U30+U31)) -> 0
U42: 4ème trimestre | V42: =IF(R32+R33+IF(R34<>"",R34,0)+IF(T34<>"",T34,0)<0,"",R32+R33+IF(R34<>"",R34,0)+IF(T34<>"",T34,0)) -> 0 | W42: =IF(R32+R33+IF(R34<>"",R34,0)+IF(T34<>"",T34,0)>0,"",-(R32+R33+IF(R34<>"",R34,0)+IF(T34<>"",T34,0))) -> 0 | X42: =IF(U32+U33+U34<0,"",U32+U33+U34) -> 0 | Y42: =IF(U32+U33+U34>0,"",-(U32+U33+U34)) -> 0
C43: RECAPITULATIF TRIMESTRIEL
D44: Réduction calculée
D45: Réduction (code 671) | E45: Régularisation (code 801)
C46: 1er trimestre | D46: =IF(Mode_calcul=1,V39,X39) -> 0 | E46: =IF(Mode_calcul=1,W39,Y39) -> 0
C47: 2ème trimestre | D47: =IF(Mode_calcul=1,V40,X40) -> 0 | E47: =IF(Mode_calcul=1,W40,Y40) -> 0
C48: 3ème trimestre | D48: =IF(Mode_calcul=1,V41,X41) -> 0 | E48: =IF(Mode_calcul=1,W41,Y41) -> 0
C49: 4ème trimestre | D49: =IF(Mode_calcul=1,V42,X42) -> 0 | E49: =IF(Mode_calcul=1,W42,Y42) -> 0
C50: Total | D50: =+SUM(D46:D49)-SUM(E46:E49) -> 0

Sheet Controle des charges
D1: CONTRÔLE DES CHARGES SOCIALES
A2: SMIC | B2: =+SMIC!B4 -> 9.53
A3: COEFFICIENT | B3: =+'DUBREUIL JEAN'!Coeff.effectif -> 0.281
A6: N : Non cadre
A7: C : Cadre
A8: A : Apprentis
A9: D : Dirigeant
A11: STATUT | B11: NC | C11: C | D11: A | E11: D
A12: NOM | B12: =+'DUBREUIL JEAN'!I3 -> DUBREUIL JEAN | C12: =+'ROBERT DUVERGNE'!I3 -> ROBERT DUVERGNE | L12: TOTAL CUMULE | M12: ELIGIBLE CICE ET REDUC FILLON | N12: TOTAL CADRE | O12: TOTAL NON CADRE | P12: TOTAL DIRIGEANT | Q12: TOTAL APPRENTIS
A13: janvier | B13: =IF(B15<B17,"Oui","Non") -> Non | C13: =IF(C15<C17,"Oui","Non") -> Non | D13: =IF(D15<D17,"Oui","Non") -> Oui | E13: =IF(E15<E17,"Oui","Non") -> Non | F13: =IF(F15<F17,"Oui","Non") -> Non | G13: =IF(G15<G17,"Oui","Non") -> Non | H13: =IF(H15<H17,"Oui","Non") -> Non | I13: =IF(I15<I17,"Oui","Non") -> Non | ... K13: =IF(K15<K17,"Oui","Non") -> Non
A14: Effectif | B14: =+IF(B16>151.67,1,B16/151.67) -> 0.99997802 | C14: =+IF(C16>151.67,1,C16/151.67) -> 0.99997802 | D14: =+IF(D16>151.67,1,D16/151.67) -> 1 | E14: =+IF(E16>151.67,1,E16/151.67) -> 1 | F14: =+IF(F16>151.67,1,F16/151.67) -> 0 | G14: =+IF(G16>151.67,1,G16/151.67) -> 0 | H14: =+IF(H16>151.67,1,H16/151.67) -> 0 | I14: =+IF(I16>151.67,1,I16/151.67) -> 0 | ... K14: =+IF(K16>151.67,1,K16/151.67) -> 0 | L14: =+SUM(B14:K14) -> 3.999956 | M14: =+SUMIF(B13:K13,"oui",B14:K14) -> 1
A15: Salaire brut | B15: =IFERROR(VLOOKUP(A$13,INDIRECT(B$12&"!B23:F34"),3,0),"") | C15: =+'ROBERT DUVERGNE'!Salaire_brut_janvier -> 5000 | D15: 900 | E15: 4000 | L15: =SUM(B15:K15) -> 9900 | M15: =+SUMIF(B13:K13,"OUI",B15:K15) -> 900 | N15: =+SUMIF(B11:K11,"C",B15:K15) -> 5000 | O15: =+SUMIF(B11:K11,"NC",B15:K15) -> 0 | P15: =+SUMIF(B11:K11,"D",B15:K15) -> 4000 | Q15: =+SUMIF(B11:K11,"A",B15:K15) -> 900
A16: Nombre d'heures travaillées | B16: =+'DUBREUIL JEAN'!G23*4.33333333333333 -> 151.66667 | C16: =+'ROBERT DUVERGNE'!G23*4.33333333333333 -> 151.66667 | D16: 151.67 | E16: 151.67
A17: Majoration 2,5 fois SMIC | B17: =B16*$B$2*2.5 -> 3613.4583 | C17: =C16*$B$2*2.5 -> 3613.4583 | D17: =D16*$B$2*2.5 -> 3613.5377 | E17: 0 | F17: =F16*$B$2*2.5 -> 0 | G17: =G16*$B$2*2.5 -> 0 | H17: =H16*$B$2*2.5 -> 0 | I17: =I16*$B$2*2.5 -> 0 | J17: =J16*$B$2*2.5 -> 0 | K17: =K16*$B$2*2.5 -> 0
A18: Réduction fillon | B18: =+'DUBREUIL JEAN'!V23 -> 224.26029 | C18: =+'ROBERT DUVERGNE'!V23 | D18: 0 | E18: 0 | F18: =+IF(F15<#REF!,((($B$3/0.6)*(1.6*(#REF!/F15)-1))*F15),((0.281/0.6)*(1.6*$B$2*(F16)/(F15)-1))*(F15)) -> #REF! | G18: =+IF(G15<#REF!,((($B$3/0.6)*(1.6*(#REF!/G15)-1))*G15),((0.281/0.6)*(1.6*$B$2*(G16)/(G15)-1))*(G15)) -> #REF! | H18: =+IF(H15<#REF!,((($B$3/0.6)*(1.6*(#REF!/H15)-1))*H15),((0.281/0.6)*(1.6*$B$2*(H16)/(H15)-1))*(H15)) -> #REF! | I18: =+IF(I15<#REF!,((($B$3/0.6)*(1.6*(#REF!/I15)-1))*I15),((0.281/0.6)*(1.6*$B$2*(I16)/(I15)-1))*(I15)) -> #REF! | J18: =+IF(J15<#REF!,((($B$3/0.6)*(1.6*(#REF!/J15)-1))*J15),((0.281/0.6)*(1.6*$B$2*(J16)/(J15)-1))*(J15)) -> #REF! | K18: =+IF(K15<#REF!,((($B$3/0.6)*(1.6*(#REF!/K15)-1))*K15),((0.281/0.6)*(1.6*$B$2*(K16)/(K15)-1))*(K15)) -> #REF! | M18: =+SUMIF(B18:K18,">0") -> 224.26029
A19: Régularisation réduction fillon | B19: =+'DUBREUIL JEAN'!W23 | M19: =+SUMIF(B19:K19,">0") -> 0
A21: FEVRIER | B21: =IF((B23+B15)<(B25),"Oui","Non") -> #VALUE! | C21: =IF((C23+C15)<(C25),"Oui","Non") -> Non | D21: =IF((D23+D15)<(D25),"Oui","Non") -> Oui | E21: =IF((E23+E15)<(E25),"Oui","Non") -> Non | F21: =IF((F23+F15)<(F25),"Oui","Non") -> Oui | G21: =IF((G23+G15)<(G25),"Oui","Non") -> Oui | H21: =IF((H23+H15)<(H25),"Oui","Non") -> Oui | I21: =IF((I23+I15)<(I25),"Oui","Non") -> Oui | ... K21: =IF((K23+K15)<(K25),"Oui","Non") -> Non
A22: Effectif | B22: =+IF(B24>151.67,1,B24/151.67) -> 0.11426123 | C22: =+IF(C24>151.67,1,C24/151.67) -> 0 | D22: =+IF(D24>151.67,1,D24/151.67) -> 1 | E22: =+IF(E24>151.67,1,E24/151.67) -> -1.0150326 | F22: =+IF(F24>151.67,1,F24/151.67) -> 0.3955957 | G22: =+IF(G24>151.67,1,G24/151.67) -> 0.85712402 | H22: =+IF(H24>151.67,1,H24/151.67) -> 1 | I22: =+IF(I24>151.67,1,I24/151.67) -> 0.78789477 | ... K22: =+IF(K24>151.67,1,K24/151.67) -> 0 | L22: =SUM(B22:K22) -> 3.1398431 | M22: =+SUMIF(B21:K21,"oui",B22:K22) -> 4.0406145
A23: Salaire brut | B23: 179.19 | D23: 2026.44 | E23: -1467.11 | F23: 924.57 | G23: 1318.72 | H23: 1998.36 | I23: 1241.57 | L23: =SUM(B23:K23) -> 6221.74 | M23: =+SUMIF(B21:K21,"OUI",B27:K27) -> 8409.66
A24: Nombre d'heures travaillées | B24: 17.33 | D24: 169 | E24: -153.95 | F24: 60 | G24: 130 | H24: 169 | I24: 119.5
A25: Majoration 2,5 fois SMIC | B25: =B24*$B$2*2.5+B17 -> 4026.3456 | C25: =C24*$B$2*2.5+C17 -> 3613.4583 | D25: =D24*$B$2*2.5+D17 -> 7639.9627 | E25: =E24*$B$2*2.5+E17 -> -3667.8587 | F25: =F24*$B$2*2.5+F17 -> 1429.5 | G25: =G24*$B$2*2.5+G17 -> 3097.25 | H25: =H24*$B$2*2.5+H17 -> 4026.425 | I25: =I24*$B$2*2.5+I17 -> 2847.0875 | ... K25: =K24*$B$2*2.5+K17 -> 0
A26: REDUCTION FILLON | B26: =+IF(B15+B23<#REF!,((($B$3/0.6)*(1.6*(#REF!/B15)-1))*B15),((0.281/0.6)*(1.6*$B$2*(B16)/(B15)-1))*(B15)) -> #VALUE! | C26: 0 | D26: =((0.281/0.6)*(1.6*$B$2*(D16+D24)/(D15+D23)-1))*(D15+D23)-D18 -> 919.4021 | E26: =((0.281/0.6)*(1.6*$B$2*(E16+E24)/(E15+E23)-1))*(E15+E23)-E18 -> -1202.5186 | F26: =((0.281/0.6)*(1.6*$B$2*(F16+F24)/(F15+F23)-1))*(F15+F23)-F18 -> #REF! | G26: =((0.281/0.6)*(1.6*$B$2*(G16+G24)/(G15+G23)-1))*(G15+G23)-G18 -> #REF! | H26: =((0.281/0.6)*(1.6*$B$2*(H16+H24)/(H15+H23)-1))*(H15+H23)-H18 -> #REF! | I26: =((0.281/0.6)*(1.6*$B$2*(I16+I24)/(I15+I23)-1))*(I15+I23)-I18 -> #REF! | J26: =((0.281/0.6)*(1.6*$B$2*(J16+J24)/(J15+J23)-1))*(J15+J23)-J18 -> #DIV/0! | K26: =((0.281/0.6)*(1.6*$B$2*(K16+K24)/(K15+K23)-1))*(K15+K23)-K18 -> #DIV/0! | M26: =+SUMIF(B26:K26,">0") -> 919.4021
A27: SALAIRE CUMULE | B27: =+B23+B15 -> #VALUE! | C27: =+C23+C15 -> 5000 | D27: =+D23+D15 -> 2926.44 | E27: =+E23+E15 -> 2532.89 | F27: =+F23+F15 -> 924.57 | G27: =+G23+G15 -> 1318.72 | H27: =+H23+H15 -> 1998.36 | I27: =+I23+I15 -> 1241.57 | ... K27: =+K23+K15 -> 0
A30: MARS | B30: =IF((B23+B15+B32)<B34,"Oui","Non") -> #VALUE! | C30: =IF((C23+C15+C32)<C34,"Oui","Non") -> Non | D30: =IF((D23+D15+D32)<D34,"Oui","Non") -> Oui | E30: =IF((E23+E15+E32)<E34,"Oui","Non") -> Non | F30: =IF((F23+F15+F32)<F34,"Oui","Non") -> Oui | G30: =IF((G23+G15+G32)<G34,"Oui","Non") -> Oui | H30: =IF((H23+H15+H32)<H34,"Oui","Non") -> Oui | I30: =IF((I23+I15+I32)<I34,"Oui","Non") -> Oui | ... K30: =IF((K23+K15+K32)<K34,"Oui","Non") -> Non | L30: =SUM(B30:K30) -> #VALUE!
A31: Effectif | B31: =+IF(B33>151.67,1,B33/151.67) -> 0.11426123 | C31: =+IF(C33>151.67,1,C33/151.67) -> 0 | D31: =+IF(D33>151.67,1,D33/151.67) -> 1 | E31: =+IF(E33>151.67,1,E33/151.67) -> 0 | F31: =+IF(F33>151.67,1,F33/151.67) -> 0.3955957 | G31: =+IF(G33>151.67,1,G33/151.67) -> 0.85712402 | H31: =+IF(H33>151.67,1,H33/151.67) -> 1 | I31: =+IF(I33>151.67,1,I33/151.67) -> 0.68899585 | ... K31: =+IF(K33>151.67,1,K33/151.67) -> 0 | L31: =SUM(B31:K31) -> 4.0559768 | M31: =+SUMIF(B30:K30,"oui",B31:K31) -> 3.9417156
A32: Salaire brut | B32: 179.19 | D32: 2026.44 | E32: 0 | F32: 924.57 | G32: 1318.72 | H32: 2107.62 | I32: 1088.72 | L32: =SUM(B32:K32) -> 7645.26 | M32: =+SUMIF(B30:K30,"OUI",B37:K37) -> 15875.73
A33: Nombre d'heures travaillées | B33: 17.33 | D33: 169 | E33: 0 | F33: 60 | G33: 130 | H33: 169 | I33: 104.5
A34: Majoration 2,5 fois SMIC | B34: =B33*$B$2*2.5+B25 -> 4439.2328 | C34: =C33*$B$2*2.5+C25 -> 3613.4583 | D34: =D33*$B$2*2.5+D25 -> 11666.388 | E34: =E33*$B$2*2.5+E25 -> -3667.8587 | F34: =F33*$B$2*2.5+F25 -> 2859 | G34: =G33*$B$2*2.5+G25 -> 6194.5 | H34: =H33*$B$2*2.5+H25 -> 8052.85 | I34: =I33*$B$2*2.5+I25 -> 5336.8 | ... K34: =K33*$B$2*2.5+K25 -> 0
A35: REDUCTION FILLON | B35: =((0.281/0.6)*(1.6*$B$2*(B16+B24+B33)/(B15+B23+B32)-1))*(B15+B23+B32)-B18-B26 -> #VALUE! | C35: =((0.281/0.6)*(1.6*$B$2*(C16+C24+C33)/(C15+C23+C32)-1))*(C15+C23+C32) -> -1258.5928 | D35: =((0.281/0.6)*(1.6*$B$2*(D16+D24+D33)/(D15+D23+D32)-1))*(D15+D23+D32)-D18-D26 -> 257.80439 | E35: =((0.281/0.6)*(1.6*$B$2*(E16+E24+E33)/(E15+E23+E32)-1))*(E15+E23+E32)-E18-E26 -> 0 | F35: =((0.281/0.6)*(1.6*$B$2*(F16+F24+F33)/(F15+F23+F32)-1))*(F15+F23+F32)-F18-F26 -> #REF! | G35: =((0.281/0.6)*(1.6*$B$2*(G16+G24+G33)/(G15+G23+G32)-1))*(G15+G23+G32)-G18-G26 -> #REF! | H35: =((0.281/0.6)*(1.6*$B$2*(H16+H24+H33)/(H15+H23+H32)-1))*(H15+H23+H32)-H18-H26 -> #REF! | I35: =((0.281/0.6)*(1.6*$B$2*(I16+I24+I33)/(I15+I23+I32)-1))*(I15+I23+I32)-I18-I26 -> #REF! | J35: =((0.281/0.6)*(1.6*$B$2*(J16+J24+J33)/(J15+J23+J32)-1))*(J15+J23+J32)-J18-J26 -> #DIV/0! | K35: =((0.281/0.6)*(1.6*$B$2*(K16+K24+K33)/(K15+K23+K32)-1))*(K15+K23+K32)-K18-K26 -> #DIV/0! | M35: =+SUMIF(B35:K35,">0") -> 257.80439
L36: =SUM(B36:K36) -> 0
A37: SB 1T13 | B37: =+B15+B23+B32 -> #VALUE! | C37: =+C15+C23+C32 -> 5000 | D37: =+D15+D23+D32 -> 4952.88 | E37: =+E15+E23+E32 -> 2532.89 | F37: =+F15+F23+F32 -> 1849.14 | G37: =+G15+G23+G32 -> 2637.44 | H37: =+H15+H23+H32 -> 4105.98 | I37: =+I15+I23+I32 -> 2330.29 | ... K37: =+K15+K23+K32 -> 0 | L37: =SUM(B37:K37) -> #VALUE!
A38: NBH 1T13 | B38: =+B16+B24+B33 -> 186.32667 | C38: =+C16+C24+C33 -> 151.66667 | D38: =+D16+D24+D33 -> 489.67 | E38: =+E16+E24+E33 -> -2.28 | F38: =+F16+F24+F33 -> 120 | G38: =+G16+G24+G33 -> 260 | H38: =+H16+H24+H33 -> 338 | I38: =+I16+I24+I33 -> 224 | ... K38: =+K16+K24+K33 -> 0 | L38: =SUM(B38:K38) -> 1767.3833
A39: REDUCTION FILLON 1T13 | E39: =+E18+E26+E35 -> -1202.5186 | L39: =SUM(B39:K39) -> -1202.5186 | M39: =+M18+M26+M35 -> 1401.4668
L40: =SUM(B40:K40) -> 0
L41: =SUM(B41:K41) -> 0
A42: AVRIL | B42: =IF((B44+B37)<B46,"Oui","Non") -> #VALUE! | C42: =IF((C44+C37)<C46,"Oui","Non") -> Non | D42: =IF((D44+D37)<D46,"Oui","Non") -> Oui | E42: =IF((E44+E37)<E46,"Oui","Non") -> Non | F42: =IF((F44+F37)<F46,"Oui","Non") -> Oui | G42: =IF((G44+G37)<G46,"Oui","Non") -> Oui | H42: =IF((H44+H37)<H46,"Oui","Non") -> Oui | I42: =IF((I44+I37)<I46,"Oui","Non") -> Oui | ... K42: =IF((K44+K37)<K46,"Oui","Non") -> Non
A43: Effectif | B43: =+IF(B45>151.67,1,B45/151.67) -> 0.11426123 | C43: =+IF(C45>151.67,1,C45/151.67) -> 0 | D43: =+IF(D45>151.67,1,D45/151.67) -> 1 | E43: =+IF(E45>151.67,1,E45/151.67) -> 0 | F43: =+IF(F45>151.67,1,F45/151.67) -> 0.3955957 | G43: =+IF(G45>151.67,1,G45/151.67) -> 0.95602294 | H43: =+IF(H45>151.67,1,H45/151.67) -> 1 | I43: =+IF(I45>151.67,1,I45/151.67) -> 1 | ... K43: =+IF(K45>151.67,1,K45/151.67) -> 0 | L43: =+SUM(B43:K43) -> 4.4658799 | M43: =+SUMIF(B42:K42,"oui",B43:K43) -> 4.3516186
A44: Salaire brut | B44: 179.19 | D44: 2019.42 | E44: 1900.86 | F44: 924.57 | G44: 1479.17 | H44: 2093.58 | I44: 1764.4 | L44: =SUM(B44:K44) -> 10361.19 | M44: =+SUMIF(B42:K42,"OUI",B48:K48) -> 24156.87
A45: Nombre d'heures travaillées | B45: 17.33 | D45: 169 | E45: 0 | F45: 60 | G45: 145 | H45: 169 | I45: 151.67
A46: Majoration 2,5 fois SMIC | B46: =B45*$B$2*2.5+B34 -> 4852.1201 | C46: =C45*$B$2*2.5+C34 -> 3613.4583 | D46: =D45*$B$2*2.5+D34 -> 15692.813 | E46: =E45*$B$2*2.5+E34 -> -3667.8587 | F46: =F45*$B$2*2.5+F34 -> 4288.5 | G46: =G45*$B$2*2.5+G34 -> 9649.125 | H46: =H45*$B$2*2.5+H34 -> 12079.275 | I46: =I45*$B$2*2.5+I34 -> 8950.3377 | ... K46: =K45*$B$2*2.5+K34 -> 0
A47: REDUCTION FILLON | B47: =((0.281/0.6)*(1.6*$B$2*(B45+B38)/(B44+B37)-1))*(B44+B37)-B35-B26-B18 -> #VALUE! | C47: =((0.281/0.6)*(1.6*$B$2*(C45+C38)/(C44+C37)-1))*(C44+C37)-C35-C26-C18 -> #VALUE! | D47: =((0.281/0.6)*(1.6*$B$2*(D45+D38)/(D44+D37)-1))*(D44+D37)-D35-D26-D18 -> 261.09209 | E47: -203.12 | F47: =((0.281/0.6)*(1.6*$B$2*(F45+F38)/(F44+F37)-1))*(F44+F37)-F35-F26-F18 -> #REF! | G47: =((0.281/0.6)*(1.6*$B$2*(G45+G38)/(G44+G37)-1))*(G44+G37)-G35-G26-G18 -> #REF! | H47: =((0.281/0.6)*(1.6*$B$2*(H45+H38)/(H44+H37)-1))*(H44+H37)-H35-H26-H18 -> #REF! | I47: =((0.281/0.6)*(1.6*$B$2*(I45+I38)/(I44+I37)-1))*(I44+I37)-I35-I26-I18 -> #REF! | J47: =((0.281/0.6)*(1.6*$B$2*(J45+J38)/(J44+J37)-1))*(J44+J37)-J35-J26-J18 -> #DIV/0! | K47: =((0.281/0.6)*(1.6*$B$2*(K45+K38)/(K44+K37)-1))*(K44+K37)-K35-K26-K18 -> #DIV/0! | M47: =+SUMIF(B47:K47,">0") -> 261.09209
A48: SALAIRE CUMULE | B48: =+B37+B44 -> #VALUE! | C48: =+C37+C44 -> 5000 | D48: =+D37+D44 -> 6972.3 | E48: =+E37+E44 -> 4433.75 | F48: =+F37+F44 -> 2773.71 | G48: =+G37+G44 -> 4116.61 | H48: =+H37+H44 -> 6199.56 | I48: =+I37+I44 -> 4094.69 | ... K48: =+K37+K44 -> 0
A49: HEURES CUMULE | B49: =+B45+B38 -> 203.65667 | C49: =+C45+C38 -> 151.66667 | D49: =+D45+D38 -> 658.67 | E49: =+E45+E38 -> -2.28 | F49: =+F45+F38 -> 180 | G49: =+G45+G38 -> 405 | H49: =+H45+H38 -> 507 | I49: =+I45+I38 -> 375.67 | ... K49: =+K45+K38 -> 0
A51: MAI | B51: =IF((B53+B48)<(B55),"Oui","Non") -> #VALUE! | C51: =IF((C53+C48)<(C55),"Oui","Non") -> Non | D51: =IF((D53+D48)<(D55),"Oui","Non") -> Oui | E51: =IF((E53+E48)<(E55),"Oui","Non") -> Non | F51: =IF((F53+F48)<(F55),"Oui","Non") -> Oui | G51: =IF((G53+G48)<(G55),"Oui","Non") -> Oui | H51: =IF((H53+H48)<(H55),"Oui","Non") -> Oui | I51: =IF((I53+I48)<(I55),"Oui","Non") -> Oui | ... K51: =IF((K53+K48)<(K55),"Oui","Non") -> Non
A52: Effectif | B52: =+IF(B54>151.67,1,B54/151.67) -> 0.11426123 | C52: =+IF(C54>151.67,1,C54/151.67) -> 0 | D52: =+IF(D54>151.67,1,D54/151.67) -> 1 | E52: =+IF(E54>151.67,1,E54/151.67) -> 0 | F52: =+IF(F54>151.67,1,F54/151.67) -> 0.3955957 | G52: =+IF(G54>151.67,1,G54/151.67) -> 0.92305664 | H52: =+IF(H54>151.67,1,H54/151.67) -> 1 | I52: =+IF(I54>151.67,1,I54/151.67) -> 1 | ... K52: =+IF(K54>151.67,1,K54/151.67) -> 0 | L52: =SUM(B52:K52) -> 4.4329136 | M52: =+SUMIF(B51:K51,"oui",B52:K52) -> 4.3186523
A53: Salaire brut | B53: 217.31 | D53: 2112.84 | F53: 1029.57 | G53: 1481.07 | H53: 2199.14 | I53: 1868.08 | L53: =SUM(B53:K53) -> 8908.01 | M53: =+SUMIF(B51:K51,"OUI",B57:K57) -> 32847.57
A54: Nombre d'heures travaillées | B54: 17.33 | D54: 169 | F54: 60 | G54: 140 | H54: 169 | I54: 151.67
A55: Majoration 2,5 fois SMIC | B55: =B54*$B$2*2.5+B46 -> 5265.0073 | C55: =C54*$B$2*2.5+C46 -> 3613.4583 | D55: =D54*$B$2*2.5+D46 -> 19719.238 | E55: =E54*$B$2*2.5+E46 -> -3667.8587 | F55: =F54*$B$2*2.5+F46 -> 5718 | G55: =G54*$B$2*2.5+G46 -> 12984.625 | H55: =H54*$B$2*2.5+H46 -> 16105.7 | I55: =I54*$B$2*2.5+I46 -> 12563.875 | ... K55: =K54*$B$2*2.5+K46 -> 0
A56: REDUCTION FILLON | B56: =((0.281/0.6)*(1.6*$B$2*(B49+B54)/(B48+B53)-1))*(B48+B53)-B47-B35-B26-B18 -> #VALUE! | C56: =((0.281/0.6)*(1.6*$B$2*(C49+C54)/(C48+C53)-1))*(C48+C53)-C47-C35 -> #VALUE! | D56: =((0.281/0.6)*(1.6*$B$2*(D49+D54)/(D48+D53)-1))*(D48+D53)-D47-D35-D26-D18 -> 217.34039 | E56: =((0.281/0.6)*(1.6*$B$2*(E49+E54)/(E48+E53)-1))*(E48+E53)-E47-E35-E26-E18 -> -687.1161 | F56: =((0.281/0.6)*(1.6*$B$2*(F49+F54)/(F48+F53)-1))*(F48+F53)-F47-F35-F26-F18 -> #REF! | G56: =((0.281/0.6)*(1.6*$B$2*(G49+G54)/(G48+G53)-1))*(G48+G53)-G47-G35-G26-G18 -> #REF! | H56: =((0.281/0.6)*(1.6*$B$2*(H49+H54)/(H48+H53)-1))*(H48+H53)-H47-H35-H26-H18 -> #REF! | I56: =((0.281/0.6)*(1.6*$B$2*(I49+I54)/(I48+I53)-1))*(I48+I53)-I47-I35-I26-I18 -> #REF! | J56: =((0.281/0.6)*(1.6*$B$2*(J49+J54)/(J48+J53)-1))*(J48+J53)-J47-J35-J26-J18 -> #DIV/0! | K56: =((0.281/0.6)*(1.6*$B$2*(K49+K54)/(K48+K53)-1))*(K48+K53)-K47-K35-K26-K18 -> #DIV/0! | M56: =+SUMIF(B56:K56,">0") -> 217.34039
A57: SALAIRE CUMULE | B57: =+B53+B48 -> #VALUE! | C57: =+C53+C48 -> 5000 | D57: =+D53+D48 -> 9085.14 | E57: =+E53+E48 -> 4433.75 | F57: =+F53+F48 -> 3803.28 | G57: =+G53+G48 -> 5597.68 | H57: =+H53+H48 -> 8398.7 | I57: =+I53+I48 -> 5962.77 | ... K57: =+K53+K48 -> 0
A58: HEURES CUMULES | B58: =+B49+B54 -> 220.98667 | C58: =+C49+C54 -> 151.66667 | D58: =+D49+D54 -> 827.67 | E58: =+E49+E54 -> -2.28 | F58: =+F49+F54 -> 240 | G58: =+G49+G54 -> 545 | H58: =+H49+H54 -> 676 | I58: =+I49+I54 -> 527.34 | ... K58: =+K49+K54 -> 0
A60: JUIN | B60: =IF((B57+B62)<B64,"Oui","Non") -> #VALUE! | C60: =IF((C57+C62)<C64,"Oui","Non") -> Non | D60: =IF((D57+D62)<D64,"Oui","Non") -> Oui | E60: =IF((E57+E62)<E64,"Oui","Non") -> Non | F60: =IF((F57+F62)<F64,"Oui","Non") -> Oui | G60: =IF((G57+G62)<G64,"Oui","Non") -> Oui | H60: =IF((H57+H62)<H64,"Oui","Non") -> Oui | I60: =IF((I57+I62)<I64,"Oui","Non") -> Oui | ... K60: =IF((K57+K62)<K64,"Oui","Non") -> Non | L60: =SUM(B60:K60) -> #VALUE!
A61: Effectif | B61: =+IF(B63>151.67,1,B63/151.67) -> 0.11426123 | C61: =+IF(C63>151.67,1,C63/151.67) -> 0 | D61: =+IF(D63>151.67,1,D63/151.67) -> 1 | E61: =+IF(E63>151.67,1,E63/151.67) -> 0 | F61: =+IF(F63>151.67,1,F63/151.67) -> 0.3955957 | G61: =+IF(G63>151.67,1,G63/151.67) -> 0.85712402 | H61: =+IF(H63>151.67,1,H63/151.67) -> 1 | I61: =+IF(I63>151.67,1,I63/151.67) -> 1 | ... K61: =+IF(K63>151.67,1,K63/151.67) -> 0 | L61: =SUM(B61:K61) -> 4.3669809 | M61: =+SUMIF(B60:K60,"oui",B61:K61) -> 4.2527197
A62: Salaire brut | B62: 179.19 | D62: 2022.93 | F62: 924.57 | G62: 1318.72 | H62: 2104.11 | I62: 1785.46 | L62: =SUM(B62:K62) -> 8334.98 | M62: =+SUMIF(B60:K60,"OUI",B71:K71) -> 41003.36
A63: Nombre d'heures travaillées | B63: 17.33 | D63: 169 | F63: 60 | G63: 130 | H63: 169 | I63: 151.67
A64: Majoration 2,5 fois SMIC | B64: =B63*$B$2*2.5+B55 -> 5677.8946 | C64: =C63*$B$2*2.5+C55 -> 3613.4583 | D64: =D63*$B$2*2.5+D55 -> 23745.663 | E64: =E63*$B$2*2.5+E55 -> -3667.8587 | F64: =F63*$B$2*2.5+F55 -> 7147.5 | G64: =G63*$B$2*2.5+G55 -> 16081.875 | H64: =H63*$B$2*2.5+H55 -> 20132.125 | I64: =I63*$B$2*2.5+I55 -> 16177.413 | ... K64: =K63*$B$2*2.5+K55 -> 0
A65: REDUCTION FILLON | B65: =((0.281/0.6)*(1.6*$B$2*(B58+B63)/(B57+B62)-1))*(B57+B62)-B56-B47-B35-B26-B18 -> #VALUE! | C65: =((0.281/0.6)*(1.6*$B$2*(C58+C63)/(C57+C62)-1))*(C57+C62)-C56-C47-C35 -> #VALUE! | D65: =((0.281/0.6)*(1.6*$B$2*(D58+D63)/(D57+D62)-1))*(D57+D62)-D56-D47-D35-D26-D18 -> 259.44824 | E65: =((0.281/0.6)*(1.6*$B$2*(E58+E63)/(E57+E62)-1))*(E57+E62)-E56-E47-E35-E26-E18 -> 2.2737368e-13 | F65: =((0.281/0.6)*(1.6*$B$2*(F58+F63)/(F57+F62)-1))*(F57+F62)-F56-F47-F35-F26-F18 -> #REF! | G65: =((0.281/0.6)*(1.6*$B$2*(G58+G63)/(G57+G62)-1))*(G57+G62)-G56-G47-G35-G18-G26 -> #REF! | H65: =((0.281/0.6)*(1.6*$B$2*(H58+H63)/(H57+H62)-1))*(H57+H62)-H56-H47-H35-H18-H26 -> #REF! | I65: =((0.281/0.6)*(1.6*$B$2*(I58+I63)/(I57+I62)-1))*(I57+I62)-I56-I47-I35-I18-I26 -> #REF! | J65: =((0.281/0.6)*(1.6*$B$2*(J58+J63)/(J57+J62)-1))*(J57+J62)-J56-J47-J35-J18-J26 -> #DIV/0! | K65: =((0.281/0.6)*(1.6*$B$2*(K58+K63)/(K57+K62)-1))*(K57+K62)-K56-K47-K35-K18-K26 -> #DIV/0! | M65: =+SUMIF(B65:K65,">0") -> 259.44824
L66: =SUM(B66:K66) -> 0
A67: SB2T13 | B67: =+B62+B53+B44 -> 575.69 | C67: =+C62+C53+C44 -> 0 | D67: =+D62+D53+D44 -> 6155.19 | E67: =+E62+E53+E44 -> 1900.86 | F67: =+F62+F53+F44 -> 2878.71 | G67: =+G62+G53+G44 -> 4278.96 | H67: =+H62+H53+H44 -> 6396.83 | I67: =+I62+I53+I44 -> 5417.94 | ... K67: =+K62+K53+K44 -> 0 | L67: =SUM(B67:K67) -> 27604.18
A68: NBH 2T13 | B68: =+B45+B54+B63 -> 51.99 | C68: =+C45+C54+C63 -> 0 | D68: =+D45+D54+D63 -> 507 | E68: =+E45+E54+E63 -> 0 | F68: =+F45+F54+F63 -> 180 | G68: =+G45+G54+G63 -> 415 | H68: =+H45+H54+H63 -> 507 | I68: =+I45+I54+I63 -> 455.01 | ... K68: =+K45+K54+K63 -> 0 | L68: =SUM(B68:K68) -> 2116
A69: REDUC FILLON 2T13 | E69: =+E65+E56+E47 -> -890.2361 | L69: =SUM(B69:K69) -> -890.2361 | M69: =+M47+M56+M65 -> 737.88071
L70: =SUM(B70:K70) -> 0
A71: SALAIRE CUMULE | B71: =+B67+B37 -> #VALUE! | C71: =+C67+C37 -> 5000 | D71: =+D67+D37 -> 11108.07 | E71: =+E67+E37 -> 4433.75 | F71: =+F67+F37 -> 4727.85 | G71: =+G67+G37 -> 6916.4 | H71: =+H67+H37 -> 10502.81 | I71: =+I67+I37 -> 7748.23 | ... K71: =+K67+K37 -> 0 | L71: =SUM(B71:K71) -> #VALUE!
A72: HEURES CUMULE | B72: =+B68+B38 -> 238.31667 | C72: =+C68+C38 -> 151.66667 | D72: =+D68+D38 -> 996.67 | E72: =+E68+E38 -> -2.28 | F72: =+F68+F38 -> 300 | G72: =+G68+G38 -> 675 | H72: =+H68+H38 -> 845 | I72: =+I68+I38 -> 679.01 | ... K72: =+K68+K38 -> 0
A75: JUILLET | B75: =IF((B77+B71)<B79,"Oui","Non") -> #VALUE! | C75: =IF((C77+C71)<C79,"Oui","Non") -> Non | D75: =IF((D77+D71)<D79,"Oui","Non") -> Oui | E75: =IF((E77+E71)<E79,"Oui","Non") -> Non | F75: =IF((F77+F71)<F79,"Oui","Non") -> Oui | G75: =IF((G77+G71)<G79,"Oui","Non") -> Oui | H75: =IF((H77+H71)<H79,"Oui","Non") -> Oui | I75: =IF((I77+I71)<I79,"Oui","Non") -> Oui | ... K75: =IF((K77+K71)<K79,"Oui","Non") -> Non
A76: Effectif | B76: =+IF(B78>151.67,1,B78/151.67) -> 0 | C76: =+IF(C78>151.67,1,C78/151.67) -> 0 | D76: =+IF(D78>151.67,1,D78/151.67) -> 0 | E76: =+IF(E78>151.67,1,E78/151.67) -> 0 | F76: =+IF(F78>151.67,1,F78/151.67) -> 0 | G76: =+IF(G78>151.67,1,G78/151.67) -> 0 | H76: =+IF(H78>151.67,1,H78/151.67) -> 0 | I76: =+IF(I78>151.67,1,I78/151.67) -> 0 | ... K76: =+IF(K78>151.67,1,K78/151.67) -> 0 | L76: =+SUM(B76:K76) -> 0 | M76: =+SUMIF(B75:K75,"oui",B76:K76) -> 0
A77: Salaire brut | L77: =SUM(B77:K77) -> 0 | M77: =+SUMIF(B75:K75,"OUI",B82:K82) -> 41003.36
A78: Nombre d'heures travaillées
A79: Majoration 2,5 fois SMIC | B79: =B78*$B$2*2.5+B64 -> 5677.8946 | C79: =C78*$B$2*2.5+C64 -> 3613.4583 | D79: =D78*$B$2*2.5+D64 -> 23745.663 | E79: =E78*$B$2*2.5+E64 -> -3667.8587 | F79: =F78*$B$2*2.5+F64 -> 7147.5 | G79: =G78*$B$2*2.5+G64 -> 16081.875 | H79: =H78*$B$2*2.5+H64 -> 20132.125 | I79: =I78*$B$2*2.5+I64 -> 16177.413 | ... K79: =K78*$B$2*2.5+K64 -> 0
A80: REDUCTION FILLON | B80: =((0.281/0.6)*(1.6*$B$2*(B78+B72)/(B77+B71)-1))*(B77+B71)-B56-B47-B35-B26-B18-B65 -> #VALUE! | C80: =((0.281/0.6)*(1.6*$B$2*(C78+C72)/(C77+C71)-1))*(C77+C71)-C56-C47-C35-C26-C18-C65 -> #VALUE! | D80: =((0.281/0.6)*(1.6*$B$2*(D78+D72)/(D77+D71)-1))*(D77+D71)-D56-D47-D35-D26-D18-D65 -> 0 | E80: =((0.281/0.6)*(1.6*$B$2*(E78+E72)/(E77+E71)-1))*(E77+E71)-E56-E47-E35-E26-E18-E65 -> 0 | F80: =((0.281/0.6)*(1.6*$B$2*(F78+F72)/(F77+F71)-1))*(F77+F71)-F56-F47-F35-F26-F18-F65 -> #REF! | G80: =((0.281/0.6)*(1.6*$B$2*(G78+G72)/(G77+G71)-1))*(G77+G71)-G56-G47-G35-G26-G18-G65 -> #REF! | H80: =((0.281/0.6)*(1.6*$B$2*(H78+H72)/(H77+H71)-1))*(H77+H71)-H56-H47-H35-H26-H18-H65 -> #REF! | I80: =((0.281/0.6)*(1.6*$B$2*(I78+I72)/(I77+I71)-1))*(I77+I71)-I56-I47-I35-I26-I18-I65 -> #REF! | M80: =+SUMIF(B80:K80,">0") -> 0
A82: SALAIRE CUMULE | B82: =+B71+B77 -> #VALUE! | C82: =+C71+C77 -> 5000 | D82: =+D71+D77 -> 11108.07 | E82: =+E71+E77 -> 4433.75 | F82: =+F71+F77 -> 4727.85 | G82: =+G71+G77 -> 6916.4 | H82: =+H71+H77 -> 10502.81 | I82: =+I71+I77 -> 7748.23 | ... K82: =+K71+K77 -> 0
A83: HEURES CUMULE | B83: =+B72+B78 -> 238.31667 | C83: =+C72+C78 -> 151.66667 | D83: =+D72+D78 -> 996.67 | E83: =+E72+E78 -> -2.28 | F83: =+F72+F78 -> 300 | G83: =+G72+G78 -> 675 | H83: =+H72+H78 -> 845 | I83: =+I72+I78 -> 679.01 | ... K83: =+K72+K78 -> 0
A85: AOUT | B85: =IF((B87+B82)<(B89),"Oui","Non") -> #VALUE! | C85: =IF((C87+C82)<(C89),"Oui","Non") -> Non | D85: =IF((D87+D82)<(D89),"Oui","Non") -> Oui | E85: =IF((E87+E82)<(E89),"Oui","Non") -> Non | F85: =IF((F87+F82)<(F89),"Oui","Non") -> Oui | G85: =IF((G87+G82)<(G89),"Oui","Non") -> Oui | H85: =IF((H87+H82)<(H89),"Oui","Non") -> Oui | I85: =IF((I87+I82)<(I89),"Oui","Non") -> Oui | ... K85: =IF((K87+K82)<(K89),"Oui","Non") -> Non
A86: Effectif | B86: =+IF(B88>151.67,1,B88/151.67) -> 0 | C86: =+IF(C88>151.67,1,C88/151.67) -> 0 | D86: =+IF(D88>151.67,1,D88/151.67) -> 0 | E86: =+IF(E88>151.67,1,E88/151.67) -> 0 | F86: =+IF(F88>151.67,1,F88/151.67) -> 0 | G86: =+IF(G88>151.67,1,G88/151.67) -> 0 | H86: =+IF(H88>151.67,1,H88/151.67) -> 0 | I86: =+IF(I88>151.67,1,I88/151.67) -> 0 | ... K86: =+IF(K88>151.67,1,K88/151.67) -> 0 | L86: =SUM(B86:K86) -> 0 | M86: =+SUMIF(B85:K85,"oui",B86:K86) -> 0
A87: Salaire brut | L87: =SUM(B87:K87) -> 0 | M87: =+SUMIF(B85:K85,"OUI",B92:K92) -> 41003.36
A88: Nombre d'heures travaillées
A89: Majoration 2,5 fois SMIC | B89: =B88*$B$2*2.5+B79 -> 5677.8946 | C89: =C88*$B$2*2.5+C79 -> 3613.4583 | D89: =D88*$B$2*2.5+D79 -> 23745.663 | E89: =E88*$B$2*2.5+E79 -> -3667.8587 | F89: =F88*$B$2*2.5+F79 -> 7147.5 | G89: =G88*$B$2*2.5+G79 -> 16081.875 | H89: =H88*$B$2*2.5+H79 -> 20132.125 | I89: =I88*$B$2*2.5+I79 -> 16177.413 | ... K89: =K88*$B$2*2.5+K79 -> 0
A90: REDUCTION FILLON | B90: =((0.281/0.6)*(1.6*$B$2*(B83+B88)/(B82+B87)-1))*(B82+B87)-B80-B56-B47-B35-B26-B18-B65 -> #VALUE! | C90: =((0.281/0.6)*(1.6*$B$2*(C83+C88)/(C82+C87)-1))*(C82+C87)-C80-C56-C47-C35-C26-C18-C65 -> #VALUE! | D90: =((0.281/0.6)*(1.6*$B$2*(D83+D88)/(D82+D87)-1))*(D82+D87)-D80-D56-D47-D35-D26-D18-D65 -> 0 | E90: =((0.281/0.6)*(1.6*$B$2*(E83+E88)/(E82+E87)-1))*(E82+E87)-E80-E56-E47-E35-E26-E18-E65 -> 0 | F90: =((0.281/0.6)*(1.6*$B$2*(F83+F88)/(F82+F87)-1))*(F82+F87)-F80-F56-F47-F35-F26-F18-F65 -> #REF! | G90: =((0.281/0.6)*(1.6*$B$2*(G83+G88)/(G82+G87)-1))*(G82+G87)-G80-G56-G47-G35-G26-G18-G65 -> #REF! | H90: =((0.281/0.6)*(1.6*$B$2*(H83+H88)/(H82+H87)-1))*(H82+H87)-H80-H56-H47-H35-H26-H18-H65 -> #REF! | I90: =((0.281/0.6)*(1.6*$B$2*(I83+I88)/(I82+I87)-1))*(I82+I87)-I80-I56-I47-I35-I26-I18-I65 -> #REF! | M90: =+SUMIF(B90:K90,">0") -> 0
A92: SALAIRE CUMULE | B92: =+B82+B87 -> #VALUE! | C92: =+C82+C87 -> 5000 | D92: =+D82+D87 -> 11108.07 | E92: =+E82+E87 -> 4433.75 | F92: =+F82+F87 -> 4727.85 | G92: =+G82+G87 -> 6916.4 | H92: =+H82+H87 -> 10502.81 | I92: =+I82+I87 -> 7748.23 | ... K92: =+K82+K87 -> 0
A93: HEURES CUMULE | B93: =+B83+B88 -> 238.31667 | C93: =+C83+C88 -> 151.66667 | D93: =+D83+D88 -> 996.67 | E93: =+E83+E88 -> -2.28 | F93: =+F83+F88 -> 300 | G93: =+G83+G88 -> 675 | H93: =+H83+H88 -> 845 | I93: =+I83+I88 -> 679.01 | ... K93: =+K83+K88 -> 0
A95: SEPTEMBRE | B95: =IF((B92+B97)<B99,"Oui","Non") -> #VALUE! | C95: =IF((C92+C97)<C99,"Oui","Non") -> Non | D95: =IF((D92+D97)<D99,"Oui","Non") -> Oui | E95: =IF((E92+E97)<E99,"Oui","Non") -> Non | F95: =IF((F92+F97)<F99,"Oui","Non") -> Oui | G95: =IF((G92+G97)<G99,"Oui","Non") -> Oui | H95: =IF((H92+H97)<H99,"Oui","Non") -> Oui | I95: =IF((I92+I97)<I99,"Oui","Non") -> Oui | ... K95: =IF((K92+K97)<K99,"Oui","Non") -> Non | L95: =SUM(B95:K95) -> #VALUE!
A96: Effectif | B96: =+IF(B98>151.67,1,B98/151.67) -> 0 | C96: =+IF(C98>151.67,1,C98/151.67) -> 0 | D96: =+IF(D98>151.67,1,D98/151.67) -> 0 | E96: =+IF(E98>151.67,1,E98/151.67) -> 0 | F96: =+IF(F98>151.67,1,F98/151.67) -> 0 | G96: =+IF(G98>151.67,1,G98/151.67) -> 0 | H96: =+IF(H98>151.67,1,H98/151.67) -> 0 | I96: =+IF(I98>151.67,1,I98/151.67) -> 0 | ... K96: =+IF(K98>151.67,1,K98/151.67) -> 0 | L96: =SUM(B96:K96) -> 0 | M96: =+SUMIF(B95:K95,"oui",B96:K96) -> 0
A97: Salaire brut | L97: =SUM(B97:K97) -> 0 | M97: =+SUMIF(B95:K95,"OUI",B106:K106) -> 41003.36
A98: Nombre d'heures travaillées
A99: Majoration 2,5 fois SMIC | B99: =B98*$B$2*2.5+B89 -> 5677.8946 | C99: =C98*$B$2*2.5+C89 -> 3613.4583 | D99: =D98*$B$2*2.5+D89 -> 23745.663 | E99: =E98*$B$2*2.5+E89 -> -3667.8587 | F99: =F98*$B$2*2.5+F89 -> 7147.5 | G99: =G98*$B$2*2.5+G89 -> 16081.875 | H99: =H98*$B$2*2.5+H89 -> 20132.125 | I99: =I98*$B$2*2.5+I89 -> 16177.413 | ... K99: =K98*$B$2*2.5+K89 -> 0
A100: REDUCTION FILLON | B100: =((0.281/0.6)*(1.6*$B$2*(B93+B98)/(B92+B97)-1))*(B92+B97)-B90-B80-B56-B47-B35-B26-B18-B65 -> #VALUE! | C100: =((0.281/0.6)*(1.6*$B$2*(C93+C98)/(C92+C97)-1))*(C92+C97)-C90-C80-C56-C47-C35-C26-C18-C65 -> #VALUE! | D100: =((0.281/0.6)*(1.6*$B$2*(D93+D98)/(D92+D97)-1))*(D92+D97)-D90-D80-D56-D47-D35-D26-D18-D65 -> 0 | E100: =((0.281/0.6)*(1.6*$B$2*(E93+E98)/(E92+E97)-1))*(E92+E97)-E90-E80-E56-E47-E35-E26-E18-E65 -> 0 | F100: =((0.281/0.6)*(1.6*$B$2*(F93+F98)/(F92+F97)-1))*(F92+F97)-F90-F80-F56-F47-F35-F26-F18-F65 -> #REF! | G100: =((0.281/0.6)*(1.6*$B$2*(G93+G98)/(G92+G97)-1))*(G92+G97)-G90-G80-G56-G47-G35-G26-G18-G65 -> #REF! | H100: =((0.281/0.6)*(1.6*$B$2*(H93+H98)/(H92+H97)-1))*(H92+H97)-H90-H80-H56-H47-H35-H26-H18-H65 -> #REF! | I100: =((0.281/0.6)*(1.6*$B$2*(I93+I98)/(I92+I97)-1))*(I92+I97)-I90-I80-I56-I47-I35-I26-I18-I65 -> #REF! | M100: =+SUMIF(B100:K100,">0") -> 0
L101: =SUM(B101:K101) -> 0
A102: SB 3T13 | B102: =+B77+B87+B97 -> 0 | C102: =+C77+C87+C97 -> 0 | D102: =+D77+D87+D97 -> 0 | E102: =+E77+E87+E97 -> 0 | F102: =+F77+F87+F97 -> 0 | G102: =+G77+G87+G97 -> 0 | H102: =+H77+H87+H97 -> 0 | I102: =+I77+I87+I97 -> 0 | ... K102: =+K77+K87+K97 -> 0 | L102: =SUM(B102:K102) -> 0
A103: NBH 3T13 | B103: =+B78+B88+B98 -> 0 | C103: =+C78+C88+C98 -> 0 | D103: =+D78+D88+D98 -> 0 | E103: =+E78+E88+E98 -> 0 | F103: =+F78+F88+F98 -> 0 | G103: =+G78+G88+G98 -> 0 | H103: =+H78+H88+H98 -> 0 | I103: =+I78+I88+I98 -> 0 | ... K103: =+K78+K88+K98 -> 0 | L103: =SUM(B103:K103) -> 0
A104: REDUC FILLON 3T13 | E104: =+E80 -> 0 | L104: =SUM(B104:K104) -> 0 | M104: =+M80+M90+M100 -> 0
L105: =SUM(B105:K105) -> 0
A106: SALAIRES CUMULE | B106: =+B97+B92 -> #VALUE! | C106: =+C97+C92 -> 5000 | D106: =+D97+D92 -> 11108.07 | E106: =+E97+E92 -> 4433.75 | F106: =+F97+F92 -> 4727.85 | G106: =+G97+G92 -> 6916.4 | H106: =+H97+H92 -> 10502.81 | I106: =+I97+I92 -> 7748.23 | ... K106: =+K97+K92 -> 0
A107: HEURES CUMULE | B107: =+B98+B93 -> 238.31667 | C107: =+C98+C93 -> 151.66667 | D107: =+D98+D93 -> 996.67 | E107: =+E98+E93 -> -2.28 | F107: =+F98+F93 -> 300 | G107: =+G98+G93 -> 675 | H107: =+H98+H93 -> 845 | I107: =+I98+I93 -> 679.01 | ... K107: =+K98+K93 -> 0
L108: =SUM(B108:K108) -> 0
A109: OCTOBRE | B109: =IF((B111+B106)<B113,"Oui","Non") -> #VALUE! | C109: =IF((C111+C106)<C113,"Oui","Non") -> Non | D109: =IF((D111+D106)<D113,"Oui","Non") -> Oui | E109: =IF((E111+E106)<E113,"Oui","Non") -> Non | F109: =IF((F111+F106)<F113,"Oui","Non") -> Oui | G109: =IF((G111+G106)<G113,"Oui","Non") -> Oui | H109: =IF((H111+H106)<H113,"Oui","Non") -> Oui | I109: =IF((I111+I106)<I113,"Oui","Non") -> Oui | ... K109: =IF((K111+K106)<K113,"Oui","Non") -> Non
A110: Effectif | B110: =+IF(B112>151.67,1,B112/151.67) -> 0 | C110: =+IF(C112>151.67,1,C112/151.67) -> 0 | D110: =+IF(D112>151.67,1,D112/151.67) -> 0 | E110: =+IF(E112>151.67,1,E112/151.67) -> 0 | F110: =+IF(F112>151.67,1,F112/151.67) -> 0 | G110: =+IF(G112>151.67,1,G112/151.67) -> 0 | H110: =+IF(H112>151.67,1,H112/151.67) -> 0 | I110: =+IF(I112>151.67,1,I112/151.67) -> 0 | ... K110: =+IF(K112>151.67,1,K112/151.67) -> 0 | L110: =+SUM(B110:K110) -> 0 | M110: =+SUMIF(B109:K109,"oui",B110:K110) -> 0
A111: Salaire brut | L111: =SUM(B111:K111) -> 0 | M111: =+SUMIF(B109:K109,"OUI",B116:K116) -> 41003.36
A112: Nombre d'heures travaillées
A113: Majoration 2,5 fois SMIC | B113: =B112*$B$2*2.5+B99 -> 5677.8946 | C113: =C112*$B$2*2.5+C99 -> 3613.4583 | D113: =D112*$B$2*2.5+D99 -> 23745.663 | E113: =E112*$B$2*2.5+E99 -> -3667.8587 | F113: =F112*$B$2*2.5+F99 -> 7147.5 | G113: =G112*$B$2*2.5+G99 -> 16081.875 | H113: =H112*$B$2*2.5+H99 -> 20132.125 | I113: =I112*$B$2*2.5+I99 -> 16177.413 | ... K113: =K112*$B$2*2.5+K99 -> 0
A114: REDUCTION FILLON | B114: =((0.281/0.6)*(1.6*$B$2*(B112+B107)/(B111+B106)-1))*(B111+B106)-B90-B80-B56-B47-B35-B26-B18-B65-B100 -> #VALUE! | C114: =((0.281/0.6)*(1.6*$B$2*(C112+C107)/(C111+C106)-1))*(C111+C106)-C90-C80-C56-C47-C35-C26-C18-C65-C100 -> #VALUE! | D114: =((0.281/0.6)*(1.6*$B$2*(D112+D107)/(D111+D106)-1))*(D111+D106)-D90-D80-D56-D47-D35-D26-D18-D65-D100 -> 0 | E114: =((0.281/0.6)*(1.6*$B$2*(E112+E107)/(E111+E106)-1))*(E111+E106)-E90-E80-E56-E47-E35-E26-E18-E65-E100 -> 0 | F114: =((0.281/0.6)*(1.6*$B$2*(F112+F107)/(F111+F106)-1))*(F111+F106)-F90-F80-F56-F47-F35-F26-F18-F65-F100 -> #REF! | G114: =((0.281/0.6)*(1.6*$B$2*(G112+G107)/(G111+G106)-1))*(G111+G106)-G90-G80-G56-G47-G35-G26-G18-G65-G100 -> #REF! | H114: =((0.281/0.6)*(1.6*$B$2*(H112+H107)/(H111+H106)-1))*(H111+H106)-H90-H80-H56-H47-H35-H26-H18-H65-H100 -> #REF! | I114: =((0.281/0.6)*(1.6*$B$2*(I112+I107)/(I111+I106)-1))*(I111+I106)-I90-I80-I56-I47-I35-I26-I18-I65-I100 -> #REF! | M114: =+SUMIF(B114:K114,">0") -> 0
...
