Workbook
Name Assiette_Fillon: 'DUBREUIL JEAN'!#REF!
Name Assiette_Fillon: 'ROBERT DUVERGNE'!#REF!
Name Assiette_Fillon: #REF!
Name Coeff.effectif: 'DUBREUIL JEAN'!$C$15
Name Coeff.effectif: 'ROBERT DUVERGNE'!$C$15
Name Coeff.effectif: #REF!
Name Horaire_collectif_mensuel: 'DUBREUIL JEAN'!$C$13
Name Horaire_collectif_mensuel: 'ROBERT DUVERGNE'!$C$13
Name Horaire_collectif_mensuel: #REF!
Name Mode_calcul: 'ROBERT DUVERGNE'!$C$11
Name Mode_calcul: 'DUBREUIL JEAN'!$C$11
Name Montant_absences_non_rémunérées: 'DUBREUIL JEAN'!#REF!
Name Montant_absences_non_rémunérées: 'ROBERT DUVERGNE'!#REF!
Name Montant_absences_non_rémunérées: #REF!
Name Montant_annuel_absences_non_rémunérées: 'DUBREUIL JEAN'!#REF!
Name Montant_annuel_absences_non_rémunérées: 'ROBERT DUVERGNE'!#REF!
Name Montant_annuel_absences_non_rémunérées: #REF!
Name Montant_annuel_gain_des_heures_compl._et_suppl.: 'DUBREUIL JEAN'!#REF!
Name Montant_annuel_gain_des_heures_compl._et_suppl.: 'ROBERT DUVERGNE'!#REF!
Name Montant_annuel_gain_des_heures_compl._et_suppl.: #REF!
Name Montant_annuel_retenu_ijss_brutes: 'DUBREUIL JEAN'!#REF!
Name Montant_annuel_retenu_ijss_brutes: 'ROBERT DUVERGNE'!#REF!
Name Montant_annuel_retenu_ijss_brutes: #REF!
Name Montant_retenu_ijss_brutes: 'DUBREUIL JEAN'!#REF!
Name Montant_retenu_ijss_brutes: 'ROBERT DUVERGNE'!#REF!
Name Montant_retenu_ijss_brutes: #REF!
Name Nb_heures_supp: 'DUBREUIL JEAN'!#REF!
Name Nb_heures_supp: 'ROBERT DUVERGNE'!#REF!
Name Nb_heures_supp: #REF!
Name Prorata_horaire_annuel: 'DUBREUIL JEAN'!#REF!
Name Prorata_horaire_annuel: 'ROBERT DUVERGNE'!#REF!
Name Prorata_horaire_annuel: #REF!
Name Prorata_horaire_mensuel: 'DUBREUIL JEAN'!#REF!
Name Prorata_horaire_mensuel: 'ROBERT DUVERGNE'!#REF!
Name Prorata_horaire_mensuel: #REF!
Name Salaire_brut_annuel_total: 'DUBREUIL JEAN'!#REF!
Name Salaire_brut_annuel_total: 'ROBERT DUVERGNE'!#REF!
Name Salaire_brut_annuel_total: #REF!
Name Salaire_brut_annuel_total__sauf_HS_et_IJSS: 'DUBREUIL JEAN'!#REF!
Name Salaire_brut_annuel_total__sauf_HS_et_IJSS: 'ROBERT DUVERGNE'!#REF!
Name Salaire_brut_annuel_total__sauf_HS_et_IJSS: #REF!
Name Salaire_brut_août: 'ROBERT DUVERGNE'!$D$30
Name Salaire_brut_août: 'DUBREUIL JEAN'!$D$30
Name Salaire_brut_avril: 'ROBERT DUVERGNE'!$D$26
Name Salaire_brut_avril: 'DUBREUIL JEAN'!$D$26
Name Salaire_brut_décembre: 'ROBERT DUVERGNE'!$D$34
Name Salaire_brut_décembre: 'DUBREUIL JEAN'!$D$34
Name Salaire_brut_février: 'ROBERT DUVERGNE'!$D$24
Name Salaire_brut_février: 'DUBREUIL JEAN'!$D$24
Name Salaire_brut_janvier: 'ROBERT DUVERGNE'!$D$23
Name Salaire_brut_janvier: 'DUBREUIL JEAN'!$D$23
Name Salaire_brut_juillet: 'ROBERT DUVERGNE'!$D$29
Name Salaire_brut_juillet: 'DUBREUIL JEAN'!$D$29
Name Salaire_brut_juin: 'ROBERT DUVERGNE'!$D$28
Name Salaire_brut_juin: 'DUBREUIL JEAN'!$D$28
Name Salaire_brut_mai: 'ROBERT DUVERGNE'!$D$27
Name Salaire_brut_mai: 'DUBREUIL JEAN'!$D$27
Name Salaire_brut_mars: 'ROBERT DUVERGNE'!$D$25
Name Salaire_brut_mars: 'DUBREUIL JEAN'!$D$25
Name Salaire_brut_novembre: 'ROBERT DUVERGNE'!$D$33

Sheet Base de données sociale
B2: Nom entreprise | F2: A
V3: oui
B4: Nombre d'établissement | F4: 1 | V4: non
B6: effectifs au 31/12/N-1 | F6: 5
B8: date de versement des salaires | F8: 30
B10: périodicité des charges sociales | F10: trimestrielle | V10: mensuelle
V11: trimestrielle
B12: contact principal | F12: machin@machine,com
B14: coordonées du contact principal | F14: albert robert | V14: 1
V15: 2
B16: caisse des congés payés | F16: non | V16: 3
V17: 4
B18: prime d'ancienneté | F18: oui | V18: 5
V19: 6
B20: prime diverses | F20: non | V20: 7
B21: si oui, préciser | F21: NA | V21: 8
V22: 9
B23: Liste des salariés de l'entreprise | V23: 10
V24: 11
V25: 12
B26: Nom | C26: matricule | D26: date d entrée | E26: date de sortie | F26: type de contrat | G26: si cdd, Date de fin | H26: temps partiel | I26: multiemployeurs | J26: statut | K26: Spécificité 1** | L26: due établis | M26: contrat établis | N26: retour contrat signé | O26: date dernière visite médicale | P26: mutuelle | Q26: avantage en nature | V26: 13
B27: salarié 1 | C27: DUCHMOLE | D27: 38838 | G27: NA | J27: Ouvrier | Q27: logement | V27: 14
B28: salarié 2 | J28: Non cadre | K28: handicap | V28: 15
B29: salarié 3 | J29: Cadre | K29: conjoint(e) associé ou dirigeant | V29: 16
B30: salarié 4 | J30: Mandataire social | V30: 17
V31: 18
V32: 19
V33: 20
V34: 21
V35: 22
V36: 23
V37: 24
V38: 25
V39: 26
V40: 27
V41: 28
V42: 29
... V44: 31
V46: Ouvrier
V47: Non cadre
...

Sheet suivi bulletins
A3: * précisez le nom du salarié concerné en commentaires
E4: janvier | F4: février | G4: mars | H4: avril | I4: mai | J4: juin | K4: juillet | L4: août | M4: septembre | N4: octobre | O4: novembre | P4: décembre | Q4: TOTAL
D6: bulletins initiaux | E6: 1 | F6: 1 | G6: 1 | H6: 1 | I6: 1 | J6: 1 | K6: 1 | L6: 1 | M6: 1 | N6: 1 | O6: 1 | P6: 1 | Q6: =+SUM(E6:P6) -> 12
D7: dont bulletins spécifiques* | E7: 0 | F7: 0 | G7: 0 | H7: 0 | I7: 0 | J7: 0 | K7: 0 | L7: 0 | M7: 0 | N7: 0 | O7: 0 | P7: 0 | Q7: =+SUM(E7:P7) -> 0
D8: dont solde de tout compte* | E8: 0 | F8: 0 | G8: 0 | H8: 0 | I8: 0 | J8: 0 | K8: 0 | L8: 0 | M8: 0 | N8: 0 | O8: 0 | P8: 0 | Q8: =+SUM(E8:P8) -> 0
D9: bulletins refaits erreurs client* | E9: 1 | F9: 0 | G9: 0 | H9: 0 | I9: 0 | J9: 0 | K9: 0 | L9: 0 | M9: 0 | N9: 0 | O9: 0 | P9: 0 | Q9: =+SUM(E9:P9) -> 1
D10: bulletins refaits erreurs cabinet* | E10: 0 | F10: 0 | G10: 0 | H10: 0 | I10: 1 | J10: 0 | K10: 0 | L10: 0 | M10: 0 | N10: 0 | O10: 0 | P10: 0 | Q10: =+SUM(E10:P10) -> 1
D12: Total bulletins | Q12: =+SUM(E12:P12) -> 0
D14: procédure de licenciement* | Q14: =+SUM(E14:P14) -> 0
D15: rupture conventionnelle* | Q15: =+SUM(E15:P15) -> 0
D17: total procédures | Q17: =+SUM(E17:P17) -> 0
D19: Bordereau de charges URSSAF | Q19: =+SUM(E19:P19) -> 0
D20: bordereau de charges retraite | Q20: =+SUM(E20:P20) -> 0
D21: Bordereau de charges prévoyance | Q21: =+SUM(E21:P21) -> 0
D22: Bordereau de charges Mutuelle | Q22: =+SUM(E22:P22) -> 0
D23: bordereau de caisse des congés payés | Q23: =+SUM(E23:P23) -> 0
D25: Total Bordereaux | Q25: =+SUM(E25:P25) -> 0

Sheet SMIC
A1: Table SMIC horaire
B3: Smic hor 2012
A4: janvier | B4: 9.53
A5: février | B5: =B4 -> 9.53
A6: mars | B6: =B5 -> 9.53
A7: avril | B7: =B6 -> 9.53
A8: mai | B8: =B7 -> 9.53
A9: juin | B9: =B8 -> 9.53
A10: juillet | B10: 9.53
A11: août | B11: =B10 -> 9.53
A12: septembre | B12: =B11 -> 9.53
A13: octobre | B13: =B12 -> 9.53
A14: novembre | B14: =B13 -> 9.53
A15: décembre | B15: =B14 -> 9.53
B17: Coefficient = 0,26/0,6 x [1,6 x Smic mensuel base 151,67 heures/Rémunération mensuelle brute - 1]
B19: Remarques sur le calcul Fillon:
B20: le résultat du coefficient obtenu est arrondi à quatre décimales au dix millième le plus proche. Il est pris en compte pour une valeur égale à 0,281 s'il est supérieur à 0,281
B21: Pour le calcul de ce coefficient, la rémunération des heures supplémentaires ou complémentaires défiscalisées (c’est-à-dire dans la limite, en ce qui concerne la majoration salariale, des taux de 25 % ou de 50 % selon le cas) sont à exclure
B22: les entreprises qui atteignent ou franchissent le seuil de 19 salariés pour la première fois, maintiennent ce coefficient maximal à 0,2810 pendant 3 ans (article 48 de la loi n° 2008-776 de modernisation de l'économie du 4 août 2008).

Sheet DUBREUIL JEAN
B1: CALCUL DE LA REDUCTION FILLON
B3: Année : | C3: 2013 | H3: Nom / Prénom : | I3: DUBREUIL JEAN
H4: Matricule : | I4: 0004
B5: Effectif de l'entreprise : | H5: Statut | I5: cadre
C7: 1
B10: Choix du mode de calcul de la régularisation :
C11: 2
B13: Horaire collectif mensuel : | C13: 151.67
B15: Coefficient effectif : | C15: =IF(C7=1,0.281,0.26) -> 0.281
B17: Temps partiel :
B18: Horaire hebdo contractuel : | C18: 35 | D18: ex. : 17h | E18: =IF(AND(C19<>"",OR(C18="",C18=0)),"<<<<< info à compléter","")
B19: Horaire hebdo conventionnel : | C19: 35 | D19: ex. : 35h | E19: =IF(AND(C18<>"",OR(C19="",C19=0)),"<<<<< info à compléter","")
E21: Mois incomplet | G21: Tps partiel | V21: Réduction calculée
C22: Smic mensuel | D22: Salaire brut total versé | E22: Base rémunération mensuelle | F22: Nb d'h.suppl. | G22: horaire hebdo contractuel | H22: horaire hebdo conventionnel | J22: Smic brut mensuel | K22: Assiette Fillon | L22: Cumul smic mensuel | M22: Cumul HS SMIC | N22: Cumul SB mensuel | O22: Coeff.progr | P22: Coeff.annuel | Q22: Réduction Fillon réelle cumulée | R22: Mtt réduction Fillon progr. | S22: Calcul par régularisation annuelle | U22: Mtt réduction Fillon annuel | V22: Réduction (code 671) | W22: Régularisation (code 801)
B23: janvier | C23: =SMIC!B4 -> 9.53 | D23: 1833.69 | G23: =IF(AND($C$18<>0,$C$18<>""),$C$18,"") -> 35 | H23: =IF(AND($C$19<>0,$C$19<>""),$C$19,"") -> 35 | I23: janvier | J23: =IF(Salaire_brut_janvier="",0,(Horaire_collectif_mensuel*C23*IF(G23<>"",G23,Salaire_brut_janvier)/IF(H23<>"",H23,IF(E23<>"",E23,Salaire_brut_janvier)))) -> 1445.4151 | K23: =D23 -> 1833.69 | L23: =J23 -> 1445.4151 | M23: =C23*F23 -> 0 | N23: =D23 -> 1833.69 | O23: =IF(IF(ROUND(((Coeff.effectif/0.6)*((1.6*(L23+M23)/N23)-1)),4)>0,ROUND(((Coeff.effectif/0.6)*((1.6*(L23+M23)/N23)-1)),4),0)>Coeff.effectif,Coeff.effectif,IF(ROUND(((Coeff.effectif/0.6)*((1.6*(L23+M23)/N23)-1)),4)>0,ROUND(((Coeff.effectif/0.6)*((1.6*(L23+M23)/N23)-1)),4),0)) -> 0.1223 | P23: =IF(IF(ROUND(((Coeff.effectif/0.6)*((1.6*(J23+(C23*F23))/Salaire_brut_janvier)-1)),4)>0,ROUND(((Coeff.effectif/0.6)*((1.6*(J23+(C23*F23))/Salaire_brut_janvier)-1)),4),0)>Coeff.effectif,Coeff.effectif,IF(ROUND(((Coeff.effectif/0.6)*((1.6*(J23+(C23*F23))/Salaire_brut_janvier)-1)),4)>0,ROUND(((Coeff.effectif/0.6)*((1.6*(J23+(C23*F23))/Salaire_brut_janvier)-1)),4),0)) -> 0.1223 | Q23: =IF(ISERR(N23*O23),0,N23*O23) -> 224.26029 | R23: =IF(ISERR(Salaire_brut_janvier*O23),0,Salaire_brut_janvier*O23) -> 224.26029 | S23: =IF(ISERR(P23),0,Salaire_brut_janvier*P23) -> 224.26029 | U23: =S23 -> 224.26029 | V23: =IF(Mode_calcul=1,IF(R23>0,R23,""),IF(U23>0,U23,"")) -> 224.26029 | W23: =IF(Mode_calcul=1,IF(R23<0,-R23,""),IF(U23<0,-U23,""))
B24: février | C24: =SMIC!B5 -> 9.53 | G24: =IF(AND($C$18<>0,$C$18<>""),$C$18,"") -> 35 | H24: =IF(AND($C$19<>0,$C$19<>""),$C$19,"") -> 35 | I24: février | J24: =IF(Salaire_brut_février="",0,Horaire_collectif_mensuel*C24*IF(G24<>"",G24,Salaire_brut_février)/IF(H24<>"",H24,IF(E24<>"",E24,Salaire_brut_février))) -> 0 | K24: =D24 -> 0 | L24: =L23+J24 -> 1445.4151 | M24: =M23+C24*F24 -> 0 | N24: =Salaire_brut_janvier+Salaire_brut_février -> 1833.69 | O24: =IF(IF(ROUND(((Coeff.effectif/0.6)*((1.6*(L24+M24)/N24)-1)),4)>0,ROUND(((Coeff.effectif/0.6)*((1.6*(L24+M24)/N24)-1)),4),0)>Coeff.effectif,Coeff.effectif,IF(ROUND(((Coeff.effectif/0.6)*((1.6*(L24+M24)/N24)-1)),4)>0,ROUND(((Coeff.effectif/0.6)*((1.6*(L24+M24)/N24)-1)),4),0)) -> 0.1223 | P24: =IF(IF(ROUND(((Coeff.effectif/0.6)*((1.6*(J24+(C24*F24))/Salaire_brut_février)-1)),4)>0,ROUND(((Coeff.effectif/0.6)*((1.6*(J24+(C24*F24))/Salaire_brut_février)-1)),4),0)>Coeff.effectif,Coeff.effectif,IF(ROUND(((Coeff.effectif/0.6)*((1.6*(J24+(C24*F24))/Salaire_brut_février)-1)),4)>0,ROUND(((Coeff.effectif/0.6)*((1.6*(J24+(C24*F24))/Salaire_brut_février)-1)),4),0)) -> #DIV/0! | Q24: =IF(ISERR(N24*O24),0,N24*O24) -> 224.26029 | R24: =Q24-SUM(R23) -> 0 | S24: =IF(ISERR(P24),0,Salaire_brut_février*P24) -> 0 | U24: =S24 -> 0 | V24: =IF(Mode_calcul=1,IF(R24>0,R24,""),IF(U24>0,U24,"")) | W24: =IF(Mode_calcul=1,IF(R24<0,-R24,""),IF(U24<0,-U24,""))
B25: mars | C25: =SMIC!B6 -> 9.53 | G25: =IF(AND($C$18<>0,$C$18<>""),$C$18,"") -> 35 | H25: =IF(AND($C$19<>0,$C$19<>""),$C$19,"") -> 35 | I25: mars | J25: =IF(Salaire_brut_mars="",0,Horaire_collectif_mensuel*C25*IF(G25<>"",G25,Salaire_brut_mars)/IF(H25<>"",H25,IF(E25<>"",E25,Salaire_brut_mars))) -> 0 | K25: =D25 -> 0 | L25: =L24+J25 -> 1445.4151 | M25: =M24+C25*F25 -> 0 | N25: =Salaire_brut_janvier+Salaire_brut_février+Salaire_brut_mars -> 1833.69 | O25: =IF(IF(ROUND(((Coeff.effectif/0.6)*((1.6*(L25+M25)/N25)-1)),4)>0,ROUND(((Coeff.effectif/0.6)*((1.6*(L25+M25)/N25)-1)),4),0)>Coeff.effectif,Coeff.effectif,IF(ROUND(((Coeff.effectif/0.6)*((1.6*(L25+M25)/N25)-1)),4)>0,ROUND(((Coeff.effectif/0.6)*((1.6*(L25+M25)/N25)-1)),4),0)) -> 0.1223 | P25: =IF(IF(ROUND(((Coeff.effectif/0.6)*((1.6*(J25+(C25*F25))/Salaire_brut_mars)-1)),4)>0,ROUND(((Coeff.effectif/0.6)*((1.6*(J25+(C25*F25))/Salaire_brut_mars)-1)),4),0)>Coeff.effectif,Coeff.effectif,IF(ROUND(((Coeff.effectif/0.6)*((1.6*(J25+(C25*F25))/Salaire_brut_mars)-1)),4)>0,ROUND(((Coeff.effectif/0.6)*((1.6*(J25+(C25*F25))/Salaire_brut_mars)-1)),4),0)) -> #DIV/0! | Q25: =IF(ISERR(N25*O25),0,N25*O25) -> 224.26029 | R25: =Q25-SUM(R23:R24) -> 0 | S25: =IF(ISERR(P25),0,Salaire_brut_mars*P25) -> 0 | U25: =S25 -> 0 | V25: =IF(Mode_calcul=1,IF(R25>0,R25,""),IF(U25>0,U25,"")) | W25: =IF(Mode_calcul=1,IF(R25<0,-R25,""),IF(U25<0,-U25,""))
B26: avril | C26: =SMIC!B7 -> 9.53 | G26: =IF(AND($C$18<>0,$C$18<>""),$C$18,"") -> 35 | H26: =IF(AND($C$19<>0,$C$19<>""),$C$19,"") -> 35 | I26: avril | J26: =IF(Salaire_brut_avril="",0,Horaire_collectif_mensuel*C26*IF(G26<>"",G26,Salaire_brut_avril)/IF(H26<>"",H26,IF(E26<>"",E26,Salaire_brut_avril))) -> 0 | K26: =D26 -> 0 | L26: =L25+J26 -> 1445.4151 | M26: =M25+C26*F26 -> 0 | N26: =Salaire_brut_janvier+Salaire_brut_février+Salaire_brut_mars+Salaire_brut_avril -> 1833.69 | O26: =IF(IF(ROUND(((Coeff.effectif/0.6)*((1.6*(L26+M26)/N26)-1)),4)>0,ROUND(((Coeff.effectif/0.6)*((1.6*(L26+M26)/N26)-1)),4),0)>Coeff.effectif,Coeff.effectif,IF(ROUND(((Coeff.effectif/0.6)*((1.6*(L26+M26)/N26)-1)),4)>0,ROUND(((Coeff.effectif/0.6)*((1.6*(L26+M26)/N26)-1)),4),0)) -> 0.1223 | P26: =IF(IF(ROUND(((Coeff.effectif/0.6)*((1.6*(J26+(C26*F26))/Salaire_brut_avril)-1)),4)>0,ROUND(((Coeff.effectif/0.6)*((1.6*(J26+(C26*F26))/Salaire_brut_avril)-1)),4),0)>Coeff.effectif,Coeff.effectif,IF(ROUND(((Coeff.effectif/0.6)*((1.6*(J26+(C26*F26))/Salaire_brut_avril)-1)),4)>0,ROUND(((Coeff.effectif/0.6)*((1.6*(J26+(C26*F26))/Salaire_brut_avril)-1)),4),0)) -> #DIV/0! | Q26: =IF(ISERR(N26*O26),0,N26*O26) -> 224.26029 | R26: =Q26-SUM(R23:R25) -> 0 | S26: =IF(ISERR(P26),0,Salaire_brut_avril*P26) -> 0 | U26: =S26 -> 0 | V26: =IF(Mode_calcul=1,IF(R26>0,R26,""),IF(U26>0,U26,"")) | W26: =IF(Mode_calcul=1,IF(R26<0,-R26,""),IF(U26<0,-U26,""))
B27: mai | C27: =SMIC!B8 -> 9.53 | G27: =IF(AND($C$18<>0,$C$18<>""),$C$18,"") -> 35 | H27: =IF(AND($C$19<>0,$C$19<>""),$C$19,"") -> 35 | I27: mai | J27: =IF(Salaire_brut_mai="",0,Horaire_collectif_mensuel*C27*IF(G27<>"",G27,Salaire_brut_mai)/IF(H27<>"",H27,IF(E27<>"",E27,Salaire_brut_mai))) -> 0 | K27: =D27 -> 0 | L27: =L26+J27 -> 1445.4151 | M27: =M26+C27*F27 -> 0 | N27: =Salaire_brut_janvier+Salaire_brut_février+Salaire_brut_mars+Salaire_brut_avril+Salaire_brut_mai -> 1833.69 | O27: =IF(IF(ROUND(((Coeff.effectif/0.6)*((1.6*(L27+M27)/N27)-1)),4)>0,ROUND(((Coeff.effectif/0.6)*((1.6*(L27+M27)/N27)-1)),4),0)>Coeff.effectif,Coeff.effectif,IF(ROUND(((Coeff.effectif/0.6)*((1.6*(L27+M27)/N27)-1)),4)>0,ROUND(((Coeff.effectif/0.6)*((1.6*(L27+M27)/N27)-1)),4),0)) -> 0.1223 | P27: =IF(IF(ROUND(((Coeff.effectif/0.6)*((1.6*(J27+(C27*F27))/Salaire_brut_mai)-1)),4)>0,ROUND(((Coeff.effectif/0.6)*((1.6*(J27+(C27*F27))/Salaire_brut_mai)-1)),4),0)>Coeff.effectif,Coeff.effectif,IF(ROUND(((Coeff.effectif/0.6)*((1.6*(J27+(C27*F27))/Salaire_brut_mai)-1)),4)>0,ROUND(((Coeff.effectif/0.6)*((1.6*(J27+(C27*F27))/Salaire_brut_mai)-1)),4),0)) -> #DIV/0! | Q27: =IF(ISERR(N27*O27),0,N27*O27) -> 224.26029 | R27: =Q27-SUM(R23:R26) -> 0 | S27: =IF(ISERR(P27),0,Salaire_brut_mai*P27) -> 0 | U27: =S27 -> 0 | V27: =IF(Mode_calcul=1,IF(R27>0,R27,""),IF(U27>0,U27,"")) | W27: =IF(Mode_calcul=1,IF(R27<0,-R27,""),IF(U27<0,-U27,""))
B28: juin | C28: =SMIC!B9 -> 9.53 | G28: =IF(AND($C$18<>0,$C$18<>""),$C$18,"") -> 35 | H28: =IF(AND($C$19<>0,$C$19<>""),$C$19,"") -> 35 | I28: juin | J28: =IF(Salaire_brut_juin="",0,Horaire_collectif_mensuel*C28*IF(G28<>"",G28,Salaire_brut_juin)/IF(H28<>"",H28,IF(E28<>"",E28,Salaire_brut_juin))) -> 0 | K28: =D28 -> 0 | L28: =L27+J28 -> 1445.4151 | M28: =M27+C28*F28 -> 0 | N28: =Salaire_brut_janvier+Salaire_brut_février+Salaire_brut_mars+Salaire_brut_avril+Salaire_brut_mai+Salaire_brut_juin -> 1833.69 | O28: =IF(IF(ROUND(((Coeff.effectif/0.6)*((1.6*(L28+M28)/N28)-1)),4)>0,ROUND(((Coeff.effectif/0.6)*((1.6*(L28+M28)/N28)-1)),4),0)>Coeff.effectif,Coeff.effectif,IF(ROUND(((Coeff.effectif/0.6)*((1.6*(L28+M28)/N28)-1)),4)>0,ROUND(((Coeff.effectif/0.6)*((1.6*(L28+M28)/N28)-1)),4),0)) -> 0.1223 | P28: =IF(IF(ROUND(((Coeff.effectif/0.6)*((1.6*(J28+(C28*F28))/Salaire_brut_juin)-1)),4)>0,ROUND(((Coeff.effectif/0.6)*((1.6*(J28+(C28*F28))/Salaire_brut_juin)-1)),4),0)>Coeff.effectif,Coeff.effectif,IF(ROUND(((Coeff.effectif/0.6)*((1.6*(J28+(C28*F28))/Salaire_brut_juin)-1)),4)>0,ROUND(((Coeff.effectif/0.6)*((1.6*(J28+(C28*F28))/Salaire_brut_juin)-1)),4),0)) -> #DIV/0! | Q28: =IF(ISERR(N28*O28),0,N28*O28) -> 224.26029 | R28: =Q28-SUM(R23:R27) -> 0 | S28: =IF(ISERR(P28),0,Salaire_brut_juin*P28) -> 0 | U28: =S28 -> 0 | V28: =IF(Mode_calcul=1,IF(R28>0,R28,""),IF(U28>0,U28,"")) | W28: =IF(Mode_calcul=1,IF(R28<0,-R28,""),IF(U28<0,-U28,""))
B29: juillet | C29: =SMIC!B10 -> 9.53 | G29: =IF(AND($C$18<>0,$C$18<>""),$C$18,"") -> 35 | H29: =IF(AND($C$19<>0,$C$19<>""),$C$19,"") -> 35 | I29: juillet | J29: =IF(Salaire_brut_juillet="",0,Horaire_collectif_mensuel*C29*IF(G29<>"",G29,Salaire_brut_juillet)/IF(H29<>"",H29,IF(E29<>"",E29,Salaire_brut_juillet))) -> 0 | K29: =D29 -> 0 | L29: =L28+J29 -> 1445.4151 | M29: =M28+C29*F29 -> 0 | N29: =Salaire_brut_janvier+Salaire_brut_février+Salaire_brut_mars+Salaire_brut_avril+Salaire_brut_mai+Salaire_brut_juin+Salaire_brut_juillet -> 1833.69 | O29: =IF(IF(ROUND(((Coeff.effectif/0.6)*((1.6*(L29+M29)/N29)-1)),4)>0,ROUND(((Coeff.effectif/0.6)*((1.6*(L29+M29)/N29)-1)),4),0)>Coeff.effectif,Coeff.effectif,IF(ROUND(((Coeff.effectif/0.6)*((1.6*(L29+M29)/N29)-1)),4)>0,ROUND(((Coeff.effectif/0.6)*((1.6*(L29+M29)/N29)-1)),4),0)) -> 0.1223 | P29: =IF(IF(ROUND(((Coeff.effectif/0.6)*((1.6*(J29+(C29*F29))/Salaire_brut_juillet)-1)),4)>0,ROUND(((Coeff.effectif/0.6)*((1.6*(J29+(C29*F29))/Salaire_brut_juillet)-1)),4),0)>Coeff.effectif,Coeff.effectif,IF(ROUND(((Coeff.effectif/0.6)*((1.6*(J29+(C29*F29))/Salaire_brut_juillet)-1)),4)>0,ROUND(((Coeff.effectif/0.6)*((1.6*(J29+(C29*F29))/Salaire_brut_juillet)-1)),4),0)) -> #DIV/0! | Q29: =IF(ISERR(N29*O29),0,N29*O29) -> 224.26029 | R29: =Q29-SUM(R23:R28) -> 0 | S29: =IF(ISERR(P29),0,Salaire_brut_juillet*P29) -> 0 | U29: =S29 -> 0 | V29: =IF(Mode_calcul=1,IF(R29>0,R29,""),IF(U29>0,U29,"")) | W29: =IF(Mode_calcul=1,IF(R29<0,-R29,""),IF(U29<0,-U29,""))
B30: août | C30: =SMIC!B11 -> 9.53 | G30: =IF(AND($C$18<>0,$C$18<>""),$C$18,"") -> 35 | H30: =IF(AND($C$19<>0,$C$19<>""),$C$19,"") -> 35 | I30: août | J30: =IF(Salaire_brut_août="",0,Horaire_collectif_mensuel*C30*IF(G30<>"",G30,Salaire_brut_août)/IF(H30<>"",H30,IF(E30<>"",E30,Salaire_brut_août))) -> 0 | K30: =D30 -> 0 | L30: =L29+J30 -> 1445.4151 | M30: =M29+C30*F30 -> 0 | N30: =Salaire_brut_janvier+Salaire_brut_février+Salaire_brut_mars+Salaire_brut_avril+Salaire_brut_mai+Salaire_brut_juin+Salaire_brut_juillet+Salaire_brut_août -> 1833.69 | O30: =IF(IF(ROUND(((Coeff.effectif/0.6)*((1.6*(L30+M30)/N30)-1)),4)>0,ROUND(((Coeff.effectif/0.6)*((1.6*(L30+M30)/N30)-1)),4),0)>Coeff.effectif,Coeff.effectif,IF(ROUND(((Coeff.effectif/0.6)*((1.6*(L30+M30)/N30)-1)),4)>0,ROUND(((Coeff.effectif/0.6)*((1.6*(L30+M30)/N30)-1)),4),0)) -> 0.1223 | P30: =IF(IF(ROUND(((Coeff.effectif/0.6)*((1.6*(J30+(C30*F30))/Salaire_brut_août)-1)),4)>0,ROUND(((Coeff.effectif/0.6)*((1.6*(J30+(C30*F30))/Salaire_brut_août)-1)),4),0)>Coeff.effectif,Coeff.effectif,IF(ROUND(((Coeff.effectif/0.6)*((1.6*(J30+(C30*F30))/Salaire_brut_août)-1)),4)>0,ROUND(((Coeff.effectif/0.6)*((1.6*(J30+(C30*F30))/Salaire_brut_août)-1)),4),0)) -> #DIV/0! | Q30: =IF(ISERR(N30*O30),0,N30*O30) -> 224.26029 | R30: =Q30-SUM(R23:R29) -> 0 | S30: =IF(ISERR(P30),0,Salaire_brut_août*P30) -> 0 | U30: =S30 -> 0 | V30: =IF(Mode_calcul=1,IF(R30>0,R30,""),IF(U30>0,U30,"")) | W30: =IF(Mode_calcul=1,IF(R30<0,-R30,""),IF(U30<0,-U30,""))
B31: septembre | C31: =SMIC!B12 -> 9.53 | G31: =IF(AND($C$18<>0,$C$18<>""),$C$18,"") -> 35 | H31: =IF(AND($C$19<>0,$C$19<>""),$C$19,"") -> 35 | I31: septembre | J31: =IF(Salaire_brut_septembre="",0,Horaire_collectif_mensuel*C31*IF(G31<>"",G31,Salaire_brut_septembre)/IF(H31<>"",H31,IF(E31<>"",E31,Salaire_brut_septembre))) -> 0 | K31: =D31 -> 0 | L31: =L30+J31 -> 1445.4151 | M31: =M30+C31*F31 -> 0 | N31: =Salaire_brut_janvier+Salaire_brut_février+Salaire_brut_mars+Salaire_brut_avril+Salaire_brut_mai+Salaire_brut_juin+Salaire_brut_juillet+Salaire_brut_août+Salaire_brut_septembre -> 1833.69 | O31: =IF(IF(ROUND(((Coeff.effectif/0.6)*((1.6*(L31+M31)/N31)-1)),4)>0,ROUND(((Coeff.effectif/0.6)*((1.6*(L31+M31)/N31)-1)),4),0)>Coeff.effectif,Coeff.effectif,IF(ROUND(((Coeff.effectif/0.6)*((1.6*(L31+M31)/N31)-1)),4)>0,ROUND(((Coeff.effectif/0.6)*((1.6*(L31+M31)/N31)-1)),4),0)) -> 0.1223 | P31: =IF(IF(ROUND(((Coeff.effectif/0.6)*((1.6*(J31+(C31*F31))/Salaire_brut_septembre)-1)),4)>0,ROUND(((Coeff.effectif/0.6)*((1.6*(J31+(C31*F31))/Salaire_brut_septembre)-1)),4),0)>Coeff.effectif,Coeff.effectif,IF(ROUND(((Coeff.effectif/0.6)*((1.6*(J31+(C31*F31))/Salaire_brut_septembre)-1)),4)>0,ROUND(((Coeff.effectif/0.6)*((1.6*(J31+(C31*F31))/Salaire_brut_septembre)-1)),4),0)) -> #DIV/0! | Q31: =IF(ISERR(N31*O31),0,N31*O31) -> 224.26029 | R31: =Q31-SUM(R23:R30) -> 0 | S31: =IF(ISERR(P31),0,Salaire_brut_septembre*P31) -> 0 | U31: =S31 -> 0 | V31: =IF(Mode_calcul=1,IF(R31>0,R31,""),IF(U31>0,U31,"")) | W31: =IF(Mode_calcul=1,IF(R31<0,-R31,""),IF(U31<0,-U31,""))
B32: octobre | C32: =SMIC!B13 -> 9.53 | G32: =IF(AND($C$18<>0,$C$18<>""),$C$18,"") -> 35 | H32: =IF(AND($C$19<>0,$C$19<>""),$C$19,"") -> 35 | I32: octobre | J32: =IF(Salaire_brut_octobre="",0,Horaire_collectif_mensuel*C32*IF(G32<>"",G32,Salaire_brut_octobre)/IF(H32<>"",H32,IF(E32<>"",E32,Salaire_brut_octobre))) -> 0 | K32: =D32 -> 0 | L32: =L31+J32 -> 1445.4151 | M32: =M31+C32*F32 -> 0 | N32: =Salaire_brut_janvier+Salaire_brut_février+Salaire_brut_mars+Salaire_brut_avril+Salaire_brut_mai+Salaire_brut_juin+Salaire_brut_juillet+Salaire_brut_août+Salaire_brut_septembre+Salaire_brut_octobre -> 1833.69 | O32: =IF(IF(ROUND(((Coeff.effectif/0.6)*((1.6*(L32+M32)/N32)-1)),4)>0,ROUND(((Coeff.effectif/0.6)*((1.6*(L32+M32)/N32)-1)),4),0)>Coeff.effectif,Coeff.effectif,IF(ROUND(((Coeff.effectif/0.6)*((1.6*(L32+M32)/N32)-1)),4)>0,ROUND(((Coeff.effectif/0.6)*((1.6*(L32+M32)/N32)-1)),4),0)) -> 0.1223 | P32: =IF(IF(ROUND(((Coeff.effectif/0.6)*((1.6*(J32+(C32*F32))/Salaire_brut_octobre)-1)),4)>0,ROUND(((Coeff.effectif/0.6)*((1.6*(J32+(C32*F32))/Salaire_brut_octobre)-1)),4),0)>Coeff.effectif,Coeff.effectif,IF(ROUND(((Coeff.effectif/0.6)*((1.6*(J32+(C32*F32))/Salaire_brut_octobre)-1)),4)>0,ROUND(((Coeff.effectif/0.6)*((1.6*(J32+(C32*F32))/Salaire_brut_octobre)-1)),4),0)) -> #DIV/0! | Q32: =IF(ISERR(N32*O32),0,N32*O32) -> 224.26029 | R32: =Q32-SUM(R23:R31) -> 0 | S32: =IF(ISERR(P32),0,Salaire_brut_octobre*P32) -> 0 | U32: =S32 -> 0 | V32: =IF(Mode_calcul=1,IF(R32>0,R32,""),IF(U32>0,U32,"")) | W32: =IF(Mode_calcul=1,IF(R32<0,-R32,""),IF(U32<0,-U32,""))
B33: novembre | C33: =SMIC!B14 -> 9.53 | G33: =IF(AND($C$18<>0,$C$18<>""),$C$18,"") -> 35 | H33: =IF(AND($C$19<>0,$C$19<>""),$C$19,"") -> 35 | I33: novembre | J33: =IF(Salaire_brut_novembre="",0,Horaire_collectif_mensuel*C33*IF(G33<>"",G33,Salaire_brut_novembre)/IF(H33<>"",H33,IF(E33<>"",E33,Salaire_brut_novembre))) -> 0 | K33: =D33 -> 0 | L33: =L32+J33 -> 1445.4151 | M33: =M32+C33*F33 -> 0 | N33: =Salaire_brut_janvier+Salaire_brut_février+Salaire_brut_mars+Salaire_brut_avril+Salaire_brut_mai+Salaire_brut_juin+Salaire_brut_juillet+Salaire_brut_août+Salaire_brut_septembre+Salaire_brut_octobre+Salaire_brut_novembre -> 1833.69 | O33: =IF(IF(ROUND(((Coeff.effectif/0.6)*((1.6*(L33+M33)/N33)-1)),4)>0,ROUND(((Coeff.effectif/0.6)*((1.6*(L33+M33)/N33)-1)),4),0)>Coeff.effectif,Coeff.effectif,IF(ROUND(((Coeff.effectif/0.6)*((1.6*(L33+M33)/N33)-1)),4)>0,ROUND(((Coeff.effectif/0.6)*((1.6*(L33+M33)/N33)-1)),4),0)) -> 0.1223 | P33: =IF(IF(ROUND(((Coeff.effectif/0.6)*((1.6*(J33+(C33*F33))/Salaire_brut_novembre)-1)),4)>0,ROUND(((Coeff.effectif/0.6)*((1.6*(J33+(C33*F33))/Salaire_brut_novembre)-1)),4),0)>Coeff.effectif,Coeff.effectif,IF(ROUND(((Coeff.effectif/0.6)*((1.6*(J33+(C33*F33))/Salaire_brut_novembre)-1)),4)>0,ROUND(((Coeff.effectif/0.6)*((1.6*(J33+(C33*F33))/Salaire_brut_novembre)-1)),4),0)) -> #DIV/0! | Q33: =IF(ISERR(N33*O33),0,N33*O33) -> 224.26029 | R33: =Q33-SUM(R23:R32) -> 0 | S33: =IF(ISERR(P33),0,Salaire_brut_novembre*P33) -> 0 | U33: =S33 -> 0 | V33: =IF(Mode_calcul=1,IF(R33>0,R33,""),IF(U33>0,U33,"")) | W33: =IF(Mode_calcul=1,IF(R33<0,-R33,""),IF(U33<0,-U33,""))
B34: décembre | C34: =SMIC!B15 -> 9.53 | G34: =IF(AND($C$18<>0,$C$18<>""),$C$18,"") -> 35 | H34: =IF(AND($C$19<>0,$C$19<>""),$C$19,"") -> 35 | I34: décembre | J34: =IF(Salaire_brut_décembre="",0,Horaire_collectif_mensuel*C34*IF(G34<>"",G34,Salaire_brut_décembre)/IF(H34<>"",H34,IF(E34<>"",E34,Salaire_brut_décembre))) -> 0 | K34: =D34 -> 0 | L34: =L33+J34 -> 1445.4151 | M34: =M33+C34*F34 -> 0 | N34: =Salaire_brut_janvier+Salaire_brut_février+Salaire_brut_mars+Salaire_brut_avril+Salaire_brut_mai+Salaire_brut_juin+Salaire_brut_juillet+Salaire_brut_août+Salaire_brut_septembre+Salaire_brut_octobre+Salaire_brut_novembre+Salaire_brut_décembre -> 1833.69 | O34: =IF(IF(ROUND(((Coeff.effectif/0.6)*((1.6*(L34+M34)/N34)-1)),4)>0,ROUND(((Coeff.effectif/0.6)*((1.6*(L34+M34)/N34)-1)),4),0)>Coeff.effectif,Coeff.effectif,IF(ROUND(((Coeff.effectif/0.6)*((1.6*(L34+M34)/N34)-1)),4)>0,ROUND(((Coeff.effectif/0.6)*((1.6*(L34+M34)/N34)-1)),4),0)) -> 0.1223 | P34: =IF(IF(ROUND(((Coeff.effectif/0.6)*((1.6*(J34+(C34*F34))/Salaire_brut_décembre)-1)),4)>0,ROUND(((Coeff.effectif/0.6)*((1.6*(J34+(C34*F34))/Salaire_brut_décembre)-1)),4),0)>Coeff.effectif,Coeff.effectif,IF(ROUND(((Coeff.effectif/0.6)*((1.6*(J34+(C34*F34))/Salaire_brut_décembre)-1)),4)>0,ROUND(((Coeff.effectif/0.6)*((1.6*(J34+(C34*F34))/Salaire_brut_décembre)-1)),4),0)) -> #DIV/0! | Q34: =IF(Salaire_brut_décembre=0,0,N34*O34) -> 0 | R34: =IF(Q34-SUM(R23:R33)<0,"",Q34-SUM(R23:R33)) | S34: =IF(ISERR(P34),0,Salaire_brut_décembre*P34) -> 0 | T34: =IF(Salaire_brut_décembre="",0,IF(Q34-SUM(R23:R33)>0,"",Q34-SUM(R23:R33))) -> 0 | U34: =(SUM(R23:R33)+IF(R34<>"",R34,0)+IF(T34<>"",T34,0))-SUM(U23:U33) -> 0 | V34: =IF(Mode_calcul=1,IF(R34>0,R34,""),IF(U34>0,U34,"")) | W34: =IF(Mode_calcul=1,IF(T34<0,-T34,""),IF(U34<0,-U34,""))
B35: Total | D35: =SUM(D23:D34) -> 1833.69 | I35: Total | S35: =SUM(S23:S34) -> 224.26029 | V35: =SUM(V23:V33)+IF(V34="",0,V34)-SUM(W23:W33)-IF(W34="",0,W34) -> 224.26029
V37: Progressif | X37: Annuel
V38: Code 671 | W38: Code 801 | X38: Code 671 | Y38: Code 801
U39: 1er trimestre | V39: =IF(R23+R24+R25<0,"",R23+R24+R25) -> 224.26029 | W39: =IF(R23+R24+R25>0,"",-(R23+R24+R25)) | X39: =IF(U23+U24+U25<0,"",U23+U24+U25) -> 224.26029 | Y39: =IF(U23+U24+U25>0,"",-(U23+U24+U25))
U40: 2ème trimestre | V40: =IF(R26+R27+R28<0,"",R26+R27+R28) -> 0 | W40: =IF(R26+R27+R28>0,"",-(R26+R27+R28)) -> 0 | X40: =IF(U26+U27+U28<0,"",U26+U27+U28) -> 0 | Y40: =IF(U26+U27+U28>0,"",-(U26+U27+U28)) -> 0
U41: 3ème trimestre | V41: =IF(R29+R30+R31<0,"",R29+R30+R31) -> 0 | W41: =IF(R29+R30+R31>0,"",-(R29+R30+R31)) -> 0 | X41: =IF(U29+U30+U31<0,"",U29+U30+U31) -> 0 | Y41: =IF(U29+U30+U31>0,"",-(U29+U30+U31)) -> 0
U42: 4ème trimestre | V42: =IF(R32+R33+IF(R34<>"",R34,0)+IF(T34<>"",T34,0)<0,"",R32+R33+IF(R34<>"",R34,0)+IF(T34<>"",T34,0)) -> 0 | W42: =IF(R32+R33+IF(R34<>"",R34,0)+IF(T34<>"",T34,0)>0,"",-(R32+R33+IF(R34<>"",R34,0)+IF(T34<>"",T34,0))) -> 0 | X42: =IF(U32+U33+U34<0,"",U32+U33+U34) -> 0 | Y42: =IF(U32+U33+U34>0,"",-(U32+U33+U34)) -> 0
C43: RECAPITULATIF TRIMESTRIEL
D44: Réduction calculée
D45: Réduction (code 671) | E45: Régularisation (code 801)
C46: 1er trimestre | D46: =IF(Mode_calcul=1,V39,X39) -> 224.26029 | E46: =IF(Mode_calcul=1,W39,Y39)
C47: 2ème trimestre | D47: =IF(Mode_calcul=1,V40,X40) -> 0 | E47: =IF(Mode_calcul=1,W40,Y40) -> 0
C48: 3ème trimestre | D48: =IF(Mode_calcul=1,V41,X41) -> 0 | E48: =IF(Mode_calcul=1,W41,Y41) -> 0
C49: 4ème trimestre | D49: =IF(Mode_calcul=1,V42,X42) -> 0 | E49: =IF(Mode_calcul=1,W42,Y42) -> 0
...

Sheet ROBERT DUVERGNE
B1: CALCUL DE LA REDUCTION FILLON
B3: Année : | C3: 2013 | H3: Nom / Prénom : | I3: ROBERT DUVERGNE
H4: Matricule : | I4: 0004
B5: Effectif de l'entreprise :
C7: 1
B10: Choix du mode de calcul de la régularisation :
C11: 2
B13: Horaire collectif mensuel : | C13: 151.67
B15: Coefficient effectif : | C15: =IF(C7=1,0.281,0.26) -> 0.281
B17: Temps partiel :
B18: Horaire hebdo contractuel : | C18: 35 | D18: ex. : 17h | E18: =IF(AND(C19<>"",OR(C18="",C18=0)),"<<<<< info à compléter","")
B19: Horaire hebdo conventionnel : | C19: 35 | D19: ex. : 35h | E19: =IF(AND(C18<>"",OR(C19="",C19=0)),"<<<<< info à compléter","")
E21: Mois incomplet | G21: Tps partiel | V21: Réduction calculée
C22: Smic mensuel | D22: Salaire brut total versé | E22: Base rémunération mensuelle | F22: Nb d'h.suppl. | G22: horaire hebdo contractuel | H22: horaire hebdo conventionnel | J22: Smic brut mensuel | K22: Assiette Fillon | L22: Cumul smic mensuel | M22: Cumul HS SMIC | N22: Cumul SB mensuel | O22: Coeff.progr | P22: Coeff.annuel | Q22: Réduction Fillon réelle cumulée | R22: Mtt réduction Fillon progr. | S22: Calcul par régularisation annuelle | U22: Mtt réduction Fillon annuel | V22: Réduction (code 671) | W22: Régularisation (code 801)
B23: janvier | C23: =SMIC!B4 -> 9.53 | D23: 5000 | G23: =IF(AND($C$18<>0,$C$18<>""),$C$18,"") -> 35 | H23: =IF(AND($C$19<>0,$C$19<>""),$C$19,"") -> 35 | I23: janvier | J23: =IF(Salaire_brut_janvier="",0,(Horaire_collectif_mensuel*C23*IF(G23<>"",G23,Salaire_brut_janvier)/IF(H23<>"",H23,IF(E23<>"",E23,Salaire_brut_janvier)))) -> 1445.4151 | K23: =D23 -> 5000 | L23: =J23 -> 1445.4151 | M23: =C23*F23 -> 0 | N23: =D23 -> 5000 | O23: =IF(IF(ROUND(((Coeff.effectif/0.6)*((1.6*(L23+M23)/N23)-1)),4)>0,ROUND(((Coeff.effectif/0.6)*((1.6*(L23+M23)/N23)-1)),4),0)>Coeff.effectif,Coeff.effectif,IF(ROUND(((Coeff.effectif/0.6)*((1.6*(L23+M23)/N23)-1)),4)>0,ROUND(((Coeff.effectif/0.6)*((1.6*(L23+M23)/N23)-1)),4),0)) -> 0 | P23: =IF(IF(ROUND(((Coeff.effectif/0.6)*((1.6*(J23+(C23*F23))/Salaire_brut_janvier)-1)),4)>0,ROUND(((Coeff.effectif/0.6)*((1.6*(J23+(C23*F23))/Salaire_brut_janvier)-1)),4),0)>Coeff.effectif,Coeff.effectif,IF(ROUND(((Coeff.effectif/0.6)*((1.6*(J23+(C23*F23))/Salaire_brut_janvier)-1)),4)>0,ROUND(((Coeff.effectif/0.6)*((1.6*(J23+(C23*F23))/Salaire_brut_janvier)-1)),4),0)) -> 0 | Q23: =IF(ISERR(N23*O23),0,N23*O23) -> 0 | R23: =IF(ISERR(Salaire_brut_janvier*O23),0,Salaire_brut_janvier*O23) -> 0 | S23: =IF(ISERR(P23),0,Salaire_brut_janvier*P23) -> 0 | U23: =S23 -> 0 | V23: =IF(Mode_calcul=1,IF(R23>0,R23,""),IF(U23>0,U23,"")) | W23: =IF(Mode_calcul=1,IF(R23<0,-R23,""),IF(U23<0,-U23,""))
B24: février | C24: =SMIC!B5 -> 9.53 | G24: =IF(AND($C$18<>0,$C$18<>""),$C$18,"") -> 35 | H24: =IF(AND($C$19<>0,$C$19<>""),$C$19,"") -> 35 | I24: février | J24: =IF(Salaire_brut_février="",0,Horaire_collectif_mensuel*C24*IF(G24<>"",G24,Salaire_brut_février)/IF(H24<>"",H24,IF(E24<>"",E24,Salaire_brut_février))) -> 0 | K24: =D24 -> 0 | L24: =L23+J24 -> 1445.4151 | M24: =M23+C24*F24 -> 0 | N24: =Salaire_brut_janvier+Salaire_brut_février -> 5000 | O24: =IF(IF(ROUND(((Coeff.effectif/0.6)*((1.6*(L24+M24)/N24)-1)),4)>0,ROUND(((Coeff.effectif/0.6)*((1.6*(L24+M24)/N24)-1)),4),0)>Coeff.effectif,Coeff.effectif,IF(ROUND(((Coeff.effectif/0.6)*((1.6*(L24+M24)/N24)-1)),4)>0,ROUND(((Coeff.effectif/0.6)*((1.6*(L24+M24)/N24)-1)),4),0)) -> 0 | P24: =IF(IF(ROUND(((Coeff.effectif/0.6)*((1.6*(J24+(C24*F24))/Salaire_brut_février)-1)),4)>0,ROUND(((Coeff.effectif/0.6)*((1.6*(J24+(C24*F24))/Salaire_brut_février)-1)),4),0)>Coeff.effectif,Coeff.effectif,IF(ROUND(((Coeff.effectif/0.6)*((1.6*(J24+(C24*F24))/Salaire_brut_février)-1)),4)>0,ROUND(((Coeff.effectif/0.6)*((1.6*(J24+(C24*F24))/Salaire_brut_février)-1)),4),0)) -> #DIV/0! | Q24: =IF(ISERR(N24*O24),0,N24*O24) -> 0 | R24: =Q24-SUM(R23) -> 0 | S24: =IF(ISERR(P24),0,Salaire_brut_février*P24) -> 0 | U24: =S24 -> 0 | V24: =IF(Mode_calcul=1,IF(R24>0,R24,""),IF(U24>0,U24,"")) | W24: =IF(Mode_calcul=1,IF(R24<0,-R24,""),IF(U24<0,-U24,""))
B25: mars | C25: =SMIC!B6 -> 9.53 | G25: =IF(AND($C$18<>0,$C$18<>""),$C$18,"") -> 35 | H25: =IF(AND($C$19<>0,$C$19<>""),$C$19,"") -> 35 | I25: mars | J25: =IF(Salaire_brut_mars="",0,Horaire_collectif_mensuel*C25*IF(G25<>"",G25,Salaire_brut_mars)/IF(H25<>"",H25,IF(E25<>"",E25,Salaire_brut_mars))) -> 0 | K25: =D25 -> 0 | L25: =L24+J25 -> 1445.4151 | M25: =M24+C25*F25 -> 0 | N25: =Salaire_brut_janvier+Salaire_brut_février+Salaire_brut_mars -> 5000 | O25: =IF(IF(ROUND(((Coeff.effectif/0.6)*((1.6*(L25+M25)/N25)-1)),4)>0,ROUND(((Coeff.effectif/0.6)*((1.6*(L25+M25)/N25)-1)),4),0)>Coeff.effectif,Coeff.effectif,IF(ROUND(((Coeff.effectif/0.6)*((1.6*(L25+M25)/N25)-1)),4)>0,ROUND(((Coeff.effectif/0.6)*((1.6*(L25+M25)/N25)-1)),4),0)) -> 0 | P25: =IF(IF(ROUND(((Coeff.effectif/0.6)*((1.6*(J25+(C25*F25))/Salaire_brut_mars)-1)),4)>0,ROUND(((Coeff.effectif/0.6)*((1.6*(J25+(C25*F25))/Salaire_brut_mars)-1)),4),0)>Coeff.effectif,Coeff.effectif,IF(ROUND(((Coeff.effectif/0.6)*((1.6*(J25+(C25*F25))/Salaire_brut_mars)-1)),4)>0,ROUND(((Coeff.effectif/0.6)*((1.6*(J25+(C25*F25))/Salaire_brut_mars)-1)),4),0)) -> #DIV/0! | Q25: =IF(ISERR(N25*O25),0,N25*O25) -> 0 | R25: =Q25-SUM(R23:R24) -> 0 | S25: =IF(ISERR(P25),0,Salaire_brut_mars*P25) -> 0 | U25: =S25 -> 0 | V25: =IF(Mode_calcul=1,IF(R25>0,R25,""),IF(U25>0,U25,"")) | W25: =IF(Mode_calcul=1,IF(R25<0,-R25,""),IF(U25<0,-U25,""))
B26: avril | C26: =SMIC!B7 -> 9.53 | G26: =IF(AND($C$18<>0,$C$18<>""),$C$18,"") -> 35 | H26: =IF(AND($C$19<>0,$C$19<>""),$C$19,"") -> 35 | I26: avril | J26: =IF(Salaire_brut_avril="",0,Horaire_collectif_mensuel*C26*IF(G26<>"",G26,Salaire_brut_avril)/IF(H26<>"",H26,IF(E26<>"",E26,Salaire_brut_avril))) -> 0 | K26: =D26 -> 0 | L26: =L25+J26 -> 1445.4151 | M26: =M25+C26*F26 -> 0 | N26: =Salaire_brut_janvier+Salaire_brut_février+Salaire_brut_mars+Salaire_brut_avril -> 5000 | O26: =IF(IF(ROUND(((Coeff.effectif/0.6)*((1.6*(L26+M26)/N26)-1)),4)>0,ROUND(((Coeff.effectif/0.6)*((1.6*(L26+M26)/N26)-1)),4),0)>Coeff.effectif,Coeff.effectif,IF(ROUND(((Coeff.effectif/0.6)*((1.6*(L26+M26)/N26)-1)),4)>0,ROUND(((Coeff.effectif/0.6)*((1.6*(L26+M26)/N26)-1)),4),0)) -> 0 | P26: =IF(IF(ROUND(((Coeff.effectif/0.6)*((1.6*(J26+(C26*F26))/Salaire_brut_avril)-1)),4)>0,ROUND(((Coeff.effectif/0.6)*((1.6*(J26+(C26*F26))/Salaire_brut_avril)-1)),4),0)>Coeff.effectif,Coeff.effectif,IF(ROUND(((Coeff.effectif/0.6)*((1.6*(J26+(C26*F26))/Salaire_brut_avril)-1)),4)>0,ROUND(((Coeff.effectif/0.6)*((1.6*(J26+(C26*F26))/Salaire_brut_avril)-1)),4),0)) -> #DIV/0! | Q26: =IF(ISERR(N26*O26),0,N26*O26) -> 0 | R26: =Q26-SUM(R23:R25) -> 0 | S26: =IF(ISERR(P26),0,Salaire_brut_avril*P26) -> 0 | U26: =S26 -> 0 | V26: =IF(Mode_calcul=1,IF(R26>0,R26,""),IF(U26>0,U26,"")) | W26: =IF(Mode_calcul=1,IF(R26<0,-R26,""),IF(U26<0,-U26,""))
B27: mai | C27: =SMIC!B8 -> 9.53 | G27: =IF(AND($C$18<>0,$C$18<>""),$C$18,"") -> 35 | H27: =IF(AND($C$19<>0,$C$19<>""),$C$19,"") -> 35 | I27: mai | J27: =IF(Salaire_brut_mai="",0,Horaire_collectif_mensuel*C27*IF(G27<>"",G27,Salaire_brut_mai)/IF(H27<>"",H27,IF(E27<>"",E27,Salaire_brut_mai))) -> 0 | K27: =D27 -> 0 | L27: =L26+J27 -> 1445.4151 | M27: =M26+C27*F27 -> 0 | N27: =Salaire_brut_janvier+Salaire_brut_février+Salaire_brut_mars+Salaire_brut_avril+Salaire_brut_mai -> 5000 | O27: =IF(IF(ROUND(((Coeff.effectif/0.6)*((1.6*(L27+M27)/N27)-1)),4)>0,ROUND(((Coeff.effectif/0.6)*((1.6*(L27+M27)/N27)-1)),4),0)>Coeff.effectif,Coeff.effectif,IF(ROUND(((Coeff.effectif/0.6)*((1.6*(L27+M27)/N27)-1)),4)>0,ROUND(((Coeff.effectif/0.6)*((1.6*(L27+M27)/N27)-1)),4),0)) -> 0 | P27: =IF(IF(ROUND(((Coeff.effectif/0.6)*((1.6*(J27+(C27*F27))/Salaire_brut_mai)-1)),4)>0,ROUND(((Coeff.effectif/0.6)*((1.6*(J27+(C27*F27))/Salaire_brut_mai)-1)),4),0)>Coeff.effectif,Coeff.effectif,IF(ROUND(((Coeff.effectif/0.6)*((1.6*(J27+(C27*F27))/Salaire_brut_mai)-1)),4)>0,ROUND(((Coeff.effectif/0.6)*((1.6*(J27+(C27*F27))/Salaire_brut_mai)-1)),4),0)) -> #DIV/0! | Q27: =IF(ISERR(N27*O27),0,N27*O27) -> 0 | R27: =Q27-SUM(R23:R26) -> 0 | S27: =IF(ISERR(P27),0,Salaire_brut_mai*P27) -> 0 | U27: =S27 -> 0 | V27: =IF(Mode_calcul=1,IF(R27>0,R27,""),IF(U27>0,U27,"")) | W27: =IF(Mode_calcul=1,IF(R27<0,-R27,""),IF(U27<0,-U27,""))
B28: juin | C28: =SMIC!B9 -> 9.53 | G28: =IF(AND($C$18<>0,$C$18<>""),$C$18,"") -> 35 | H28: =IF(AND($C$19<>0,$C$19<>""),$C$19,"") -> 35 | I28: juin | J28: =IF(Salaire_brut_juin="",0,Horaire_collectif_mensuel*C28*IF(G28<>"",G28,Salaire_brut_juin)/IF(H28<>"",H28,IF(E28<>"",E28,Salaire_brut_juin))) -> 0 | K28: =D28 -> 0 | L28: =L27+J28 -> 1445.4151 | M28: =M27+C28*F28 -> 0 | N28: =Salaire_brut_janvier+Salaire_brut_février+Salaire_brut_mars+Salaire_brut_avril+Salaire_brut_mai+Salaire_brut_juin -> 5000 | O28: =IF(IF(ROUND(((Coeff.effectif/0.6)*((1.6*(L28+M28)/N28)-1)),4)>0,ROUND(((Coeff.effectif/0.6)*((1.6*(L28+M28)/N28)-1)),4),0)>Coeff.effectif,Coeff.effectif,IF(ROUND(((Coeff.effectif/0.6)*((1.6*(L28+M28)/N28)-1)),4)>0,ROUND(((Coeff.effectif/0.6)*((1.6*(L28+M28)/N28)-1)),4),0)) -> 0 | P28: =IF(IF(ROUND(((Coeff.effectif/0.6)*((1.6*(J28+(C28*F28))/Salaire_brut_juin)-1)),4)>0,ROUND(((Coeff.effectif/0.6)*((1.6*(J28+(C28*F28))/Salaire_brut_juin)-1)),4),0)>Coeff.effectif,Coeff.effectif,IF(ROUND(((Coeff.effectif/0.6)*((1.6*(J28+(C28*F28))/Salaire_brut_juin)-1)),4)>0,ROUND(((Coeff.effectif/0.6)*((1.6*(J28+(C28*F28))/Salaire_brut_juin)-1)),4),0)) -> #DIV/0! | Q28: =IF(ISERR(N28*O28),0,N28*O28) -> 0 | R28: =Q28-SUM(R23:R27) -> 0 | S28: =IF(ISERR(P28),0,Salaire_brut_juin*P28) -> 0 | U28: =S28 -> 0 | V28: =IF(Mode_calcul=1,IF(R28>0,R28,""),IF(U28>0,U28,"")) | W28: =IF(Mode_calcul=1,IF(R28<0,-R28,""),IF(U28<0,-U28,""))
B29: juillet | C29: =SMIC!B10 -> 9.53 | G29: =IF(AND($C$18<>0,$C$18<>""),$C$18,"") -> 35 | H29: =IF(AND($C$19<>0,$C$19<>""),$C$19,"") -> 35 | I29: juillet | J29: =IF(Salaire_brut_juillet="",0,Horaire_collectif_mensuel*C29*IF(G29<>"",G29,Salaire_brut_juillet)/IF(H29<>"",H29,IF(E29<>"",E29,Salaire_brut_juillet))) -> 0 | K29: =D29 -> 0 | L29: =L28+J29 -> 1445.4151 | M29: =M28+C29*F29 -> 0 | N29: =Salaire_brut_janvier+Salaire_brut_février+Salaire_brut_mars+Salaire_brut_avril+Salaire_brut_mai+Salaire_brut_juin+Salaire_brut_juillet -> 5000 | O29: =IF(IF(ROUND(((Coeff.effectif/0.6)*((1.6*(L29+M29)/N29)-1)),4)>0,ROUND(((Coeff.effectif/0.6)*((1.6*(L29+M29)/N29)-1)),4),0)>Coeff.effectif,Coeff.effectif,IF(ROUND(((Coeff.effectif/0.6)*((1.6*(L29+M29)/N29)-1)),4)>0,ROUND(((Coeff.effectif/0.6)*((1.6*(L29+M29)/N29)-1)),4),0)) -> 0 | P29: =IF(IF(ROUND(((Coeff.effectif/0.6)*((1.6*(J29+(C29*F29))/Salaire_brut_juillet)-1)),4)>0,ROUND(((Coeff.effectif/0.6)*((1.6*(J29+(C29*F29))/Salaire_brut_juillet)-1)),4),0)>Coeff.effectif,Coeff.effectif,IF(ROUND(((Coeff.effectif/0.6)*((1.6*(J29+(C29*F29))/Salaire_brut_juillet)-1)),4)>0,ROUND(((Coeff.effectif/0.6)*((1.6*(J29+(C29*F29))/Salaire_brut_juillet)-1)),4),0)) -> #DIV/0! | Q29: =IF(ISERR(N29*O29),0,N29*O29) -> 0 | R29: =Q29-SUM(R23:R28) -> 0 | S29: =IF(ISERR(P29),0,Salaire_brut_juillet*P29) -> 0 | U29: =S29 -> 0 | V29: =IF(Mode_calcul=1,IF(R29>0,R29,""),IF(U29>0,U29,"")) | W29: =IF(Mode_calcul=1,IF(R29<0,-R29,""),IF(U29<0,-U29,""))
B30: août | C30: =SMIC!B11 -> 9.53 | G30: =IF(AND($C$18<>0,$C$18<>""),$C$18,"") -> 35 | H30: =IF(AND($C$19<>0,$C$19<>""),$C$19,"") -> 35 | I30: août | J30: =IF(Salaire_brut_août="",0,Horaire_collectif_mensuel*C30*IF(G30<>"",G30,Salaire_brut_août)/IF(H30<>"",H30,IF(E30<>"",E30,Salaire_brut_août))) -> 0 | K30: =D30 -> 0 | L30: =L29+J30 -> 1445.4151 | M30: =M29+C30*F30 -> 0 | N30: =Salaire_brut_janvier+Salaire_brut_février+Salaire_brut_mars+Salaire_brut_avril+Salaire_brut_mai+Salaire_brut_juin+Salaire_brut_juillet+Salaire_brut_août -> 5000 | O30: =IF(IF(ROUND(((Coeff.effectif/0.6)*((1.6*(L30+M30)/N30)-1)),4)>0,ROUND(((Coeff.effectif/0.6)*((1.6*(L30+M30)/N30)-1)),4),0)>Coeff.effectif,Coeff.effectif,IF(ROUND(((Coeff.effectif/0.6)*((1.6*(L30+M30)/N30)-1)),4)>0,ROUND(((Coeff.effectif/0.6)*((1.6*(L30+M30)/N30)-1)),4),0)) -> 0 | P30: =IF(IF(ROUND(((Coeff.effectif/0.6)*((1.6*(J30+(C30*F30))/Salaire_brut_août)-1)),4)>0,ROUND(((Coeff.effectif/0.6)*((1.6*(J30+(C30*F30))/Salaire_brut_août)-1)),4),0)>Coeff.effectif,Coeff.effectif,IF(ROUND(((Coeff.effectif/0.6)*((1.6*(J30+(C30*F30))/Salaire_brut_août)-1)),4)>0,ROUND(((Coeff.effectif/0.6)*((1.6*(J30+(C30*F30))/Salaire_brut_août)-1)),4),0)) -> #DIV/0! | Q30: =IF(ISERR(N30*O30),0,N30*O30) -> 0 | R30: =Q30-SUM(R23:R29) -> 0 | S30: =IF(ISERR(P30),0,Salaire_brut_août*P30) -> 0 | U30: =S30 -> 0 | V30: =IF(Mode_calcul=1,IF(R30>0,R30,""),IF(U30>0,U30,"")) | W30: =IF(Mode_calcul=1,IF(R30<0,-R30,""),IF(U30<0,-U30,""))
B31: septembre | C31: =SMIC!B12 -> 9.53 | G31: =IF(AND($C$18<>0,$C$18<>""),$C$18,"") -> 35 | H31: =IF(AND($C$19<>0,$C$19<>""),$C$19,"") -> 35 | I31: septembre | J31: =IF(Salaire_brut_septembre="",0,Horaire_collectif_mensuel*C31*IF(G31<>"",G31,Salaire_brut_septembre)/IF(H31<>"",H31,IF(E31<>"",E31,Salaire_brut_septembre))) -> 0 | K31: =D31 -> 0 | L31: =L30+J31 -> 1445.4151 | M31: =M30+C31*F31 -> 0 | N31: =Salaire_brut_janvier+Salaire_brut_février+Salaire_brut_mars+Salaire_brut_avril+Salaire_brut_mai+Salaire_brut_juin+Salaire_brut_juillet+Salaire_brut_août+Salaire_brut_septembre -> 5000 | O31: =IF(IF(ROUND(((Coeff.effectif/0.6)*((1.6*(L31+M31)/N31)-1)),4)>0,ROUND(((Coeff.effectif/0.6)*((1.6*(L31+M31)/N31)-1)),4),0)>Coeff.effectif,Coeff.effectif,IF(ROUND(((Coeff.effectif/0.6)*((1.6*(L31+M31)/N31)-1)),4)>0,ROUND(((Coeff.effectif/0.6)*((1.6*(L31+M31)/N31)-1)),4),0)) -> 0 | P31: =IF(IF(ROUND(((Coeff.effectif/0.6)*((1.6*(J31+(C31*F31))/Salaire_brut_septembre)-1)),4)>0,ROUND(((Coeff.effectif/0.6)*((1.6*(J31+(C31*F31))/Salaire_brut_septembre)-1)),4),0)>Coeff.effectif,Coeff.effectif,IF(ROUND(((Coeff.effectif/0.6)*((1.6*(J31+(C31*F31))/Salaire_brut_septembre)-1)),4)>0,ROUND(((Coeff.effectif/0.6)*((1.6*(J31+(C31*F31))/Salaire_brut_septembre)-1)),4),0)) -> #DIV/0! | Q31: =IF(ISERR(N31*O31),0,N31*O31) -> 0 | R31: =Q31-SUM(R23:R30) -> 0 | S31: =IF(ISERR(P31),0,Salaire_brut_septembre*P31) -> 0 | U31: =S31 -> 0 | V31: =IF(Mode_calcul=1,IF(R31>0,R31,""),IF(U31>0,U31,"")) | W31: =IF(Mode_calcul=1,IF(R31<0,-R31,""),IF(U31<0,-U31,""))
B32: octobre | C32: =SMIC!B13 -> 9.53 | G32: =IF(AND($C$18<>0,$C$18<>""),$C$18,"") -> 35 | H32: =IF(AND($C$19<>0,$C$19<>""),$C$19,"") -> 35 | I32: octobre | J32: =IF(Salaire_brut_octobre="",0,Horaire_collectif_mensuel*C32*IF(G32<>"",G32,Salaire_brut_octobre)/IF(H32<>"",H32,IF(E32<>"",E32,Salaire_brut_octobre))) -> 0 | K32: =D32 -> 0 | L32: =L31+J32 -> 1445.4151 | M32: =M31+C32*F32 -> 0 | N32: =Salaire_brut_janvier+Salaire_brut_février+Salaire_brut_mars+Salaire_brut_avril+Salaire_brut_mai+Salaire_brut_juin+Salaire_brut_juillet+Salaire_brut_août+Salaire_brut_septembre+Salaire_brut_octobre -> 5000 | O32: =IF(IF(ROUND(((Coeff.effectif/0.6)*((1.6*(L32+M32)/N32)-1)),4)>0,ROUND(((Coeff.effectif/0.6)*((1.6*(L32+M32)/N32)-1)),4),0)>Coeff.effectif,Coeff.effectif,IF(ROUND(((Coeff.effectif/0.6)*((1.6*(L32+M32)/N32)-1)),4)>0,ROUND(((Coeff.effectif/0.6)*((1.6*(L32+M32)/N32)-1)),4),0)) -> 0 | P32: =IF(IF(ROUND(((Coeff.effectif/0.6)*((1.6*(J32+(C32*F32))/Salaire_brut_octobre)-1)),4)>0,ROUND(((Coeff.effectif/0.6)*((1.6*(J32+(C32*F32))/Salaire_brut_octobre)-1)),4),0)>Coeff.effectif,Coeff.effectif,IF(ROUND(((Coeff.effectif/0.6)*((1.6*(J32+(C32*F32))/Salaire_brut_octobre)-1)),4)>0,ROUND(((Coeff.effectif/0.6)*((1.6*(J32+(C32*F32))/Salaire_brut_octobre)-1)),4),0)) -> #DIV/0! | Q32: =IF(ISERR(N32*O32),0,N32*O32) -> 0 | R32: =Q32-SUM(R23:R31) -> 0 | S32: =IF(ISERR(P32),0,Salaire_brut_octobre*P32) -> 0 | U32: =S32 -> 0 | V32: =IF(Mode_calcul=1,IF(R32>0,R32,""),IF(U32>0,U32,"")) | W32: =IF(Mode_calcul=1,IF(R32<0,-R32,""),IF(U32<0,-U32,""))
B33: novembre | C33: =SMIC!B14 -> 9.53 | G33: =IF(AND($C$18<>0,$C$18<>""),$C$18,"") -> 35 | H33: =IF(AND($C$19<>0,$C$19<>""),$C$19,"") -> 35 | I33: novembre | J33: =IF(Salaire_brut_novembre="",0,Horaire_collectif_mensuel*C33*IF(G33<>"",G33,Salaire_brut_novembre)/IF(H33<>"",H33,IF(E33<>"",E33,Salaire_brut_novembre))) -> 0 | K33: =D33 -> 0 | L33: =L32+J33 -> 1445.4151 | M33: =M32+C33*F33 -> 0 | N33: =Salaire_brut_janvier+Salaire_brut_février+Salaire_brut_mars+Salaire_brut_avril+Salaire_brut_mai+Salaire_brut_juin+Salaire_brut_juillet+Salaire_brut_août+Salaire_brut_septembre+Salaire_brut_octobre+Salaire_brut_novembre -> 5000 | O33: =IF(IF(ROUND(((Coeff.effectif/0.6)*((1.6*(L33+M33)/N33)-1)),4)>0,ROUND(((Coeff.effectif/0.6)*((1.6*(L33+M33)/N33)-1)),4),0)>Coeff.effectif,Coeff.effectif,IF(ROUND(((Coeff.effectif/0.6)*((1.6*(L33+M33)/N33)-1)),4)>0,ROUND(((Coeff.effectif/0.6)*((1.6*(L33+M33)/N33)-1)),4),0)) -> 0 | P33: =IF(IF(ROUND(((Coeff.effectif/0.6)*((1.6*(J33+(C33*F33))/Salaire_brut_novembre)-1)),4)>0,ROUND(((Coeff.effectif/0.6)*((1.6*(J33+(C33*F33))/Salaire_brut_novembre)-1)),4),0)>Coeff.effectif,Coeff.effectif,IF(ROUND(((Coeff.effectif/0.6)*((1.6*(J33+(C33*F33))/Salaire_brut_novembre)-1)),4)>0,ROUND(((Coeff.effectif/0.6)*((1.6*(J33+(C33*F33))/Salaire_brut_novembre)-1)),4),0)) -> #DIV/0! | Q33: =IF(ISERR(N33*O33),0,N33*O33) -> 0 | R33: =Q33-SUM(R23:R32) -> 0 | S33: =IF(ISERR(P33),0,Salaire_brut_novembre*P33) -> 0 | U33: =S33 -> 0 | V33: =IF(Mode_calcul=1,IF(R33>0,R33,""),IF(U33>0,U33,"")) | W33: =IF(Mode_calcul=1,IF(R33<0,-R33,""),IF(U33<0,-U33,""))
B34: décembre | C34: =SMIC!B15 -> 9.53 | G34: =IF(AND($C$18<>0,$C$18<>""),$C$18,"") -> 35 | H34: =IF(AND($C$19<>0,$C$19<>""),$C$19,"") -> 35 | I34: décembre | J34: =IF(Salaire_brut_décembre="",0,Horaire_collectif_mensuel*C34*IF(G34<>"",G34,Salaire_brut_décembre)/IF(H34<>"",H34,IF(E34<>"",E34,Salaire_brut_décembre))) -> 0 | K34: =D34 -> 0 | L34: =L33+J34 -> 1445.4151 | M34: =M33+C34*F34 -> 0 | N34: =Salaire_brut_janvier+Salaire_brut_février+Salaire_brut_mars+Salaire_brut_avril+Salaire_brut_mai+Salaire_brut_juin+Salaire_brut_juillet+Salaire_brut_août+Salaire_brut_septembre+Salaire_brut_octobre+Salaire_brut_novembre+Salaire_brut_décembre -> 5000 | O34: =IF(IF(ROUND(((Coeff.effectif/0.6)*((1.6*(L34+M34)/N34)-1)),4)>0,ROUND(((Coeff.effectif/0.6)*((1.6*(L34+M34)/N34)-1)),4),0)>Coeff.effectif,Coeff.effectif,IF(ROUND(((Coeff.effectif/0.6)*((1.6*(L34+M34)/N34)-1)),4)>0,ROUND(((Coeff.effectif/0.6)*((1.6*(L34+M34)/N34)-1)),4),0)) -> 0 | P34: =IF(IF(ROUND(((Coeff.effectif/0.6)*((1.6*(J34+(C34*F34))/Salaire_brut_décembre)-1)),4)>0,ROUND(((Coeff.effectif/0.6)*((1.6*(J34+(C34*F34))/Salaire_brut_décembre)-1)),4),0)>Coeff.effectif,Coeff.effectif,IF(ROUND(((Coeff.effectif/0.6)*((1.6*(J34+(C34*F34))/Salaire_brut_décembre)-1)),4)>0,ROUND(((Coeff.effectif/0.6)*((1.6*(J34+(C34*F34))/Salaire_brut_décembre)-1)),4),0)) -> #DIV/0! | Q34: =IF(Salaire_brut_décembre=0,0,N34*O34) -> 0 | R34: =IF(Q34-SUM(R23:R33)<0,"",Q34-SUM(R23:R33)) -> 0 | S34: =IF(ISERR(P34),0,Salaire_brut_décembre*P34) -> 0 | T34: =IF(Salaire_brut_décembre="",0,IF(Q34-SUM(R23:R33)>0,"",Q34-SUM(R23:R33))) -> 0 | U34: =(SUM(R23:R33)+IF(R34<>"",R34,0)+IF(T34<>"",T34,0))-SUM(U23:U33) -> 0 | V34: =IF(Mode_calcul=1,IF(R34>0,R34,""),IF(U34>0,U34,"")) | W34: =IF(Mode_calcul=1,IF(T34<0,-T34,""),IF(U34<0,-U34,""))
B35: Total | D35: =SUM(D23:D34) -> 5000 | I35: Total | S35: =SUM(S23:S34) -> 0 | V35: =SUM(V23:V33)+IF(V34="",0,V34)-SUM(W23:W33)-IF(W34="",0,W34) -> 0
V37: Progressif | X37: Annuel
V38: Code 671 | W38: Code 801 | X38: Code 671 | Y38: Code 801
U39: 1er trimestre | V39: =IF(R23+R24+R25<0,"",R23+R24+R25) -> 0 | W39: =IF(R23+R24+R25>0,"",-(R23+R24+R25)) -> 0 | X39: =IF(U23+U24+U25<0,"",U23+U24+U25) -> 0 | Y39: =IF(U23+U24+U25>0,"",-(U23+U24+U25)) -> 0
U40: 2ème trimestre | V40: =IF(R26+R27+R28<0,"",R26+R27+R28) -> 0 | W40: =IF(R26+R27+R28>0,"",-(R26+R27+R28)) -> 0 | X40: =IF(U26+U27+U28<0,"",U26+U27+U28) -> 0 | Y40: =IF(U26+U27+U28>0,"",-(U26+U27+U28)) -> 0
U41: 3ème trimestre | V41: =IF(R29+R30+R31<0,"",R29+R30+R31) -> 0 | W41: =IF(R29+R30+R31>0,"",-(R29+R30+R31)) -> 0 | X41: =IF(U29+U30+U31<0,"",U29+U30+U31) -> 0 | Y41: =IF(U29+U30+U31>0,"",-(U29+U30+U31)) -> 0
U42: 4ème trimestre | V42: =IF(R32+R33+IF(R34<>"",R34,0)+IF(T34<>"",T34,0)<0,"",R32+R33+IF(R34<>"",R34,0)+IF(T34<>"",T34,0)) -> 0 | W42: =IF(R32+R33+IF(R34<>"",R34,0)+IF(T34<>"",T34,0)>0,"",-(R32+R33+IF(R34<>"",R34,0)+IF(T34<>"",T34,0))) -> 0 | X42: =IF(U32+U33+U34<0,"",U32+U33+U34) -> 0 | Y42: =IF(U32+U33+U34>0,"",-(U32+U33+U34)) -> 0
C43: RECAPITULATIF TRIMESTRIEL
D44: Réduction calculée
D45: Réduction (code 671) | E45: Régularisation (code 801)
C46: 1er trimestre | D46: =IF(Mode_calcul=1,V39,X39) -> 0 | E46: =IF(Mode_calcul=1,W39,Y39) -> 0
C47: 2ème trimestre | D47: =IF(Mode_calcul=1,V40,X40) -> 0 | E47: =IF(Mode_calcul=1,W40,Y40) -> 0
C48: 3ème trimestre | D48: =IF(Mode_calcul=1,V41,X41) -> 0 | E48: =IF(Mode_calcul=1,W41,Y41) -> 0
C49: 4ème trimestre | D49: =IF(Mode_calcul=1,V42,X42) -> 0 | E49: =IF(Mode_calcul=1,W42,Y42) -> 0
...

Sheet Controle des charges
D1: CONTRÔLE DES CHARGES SOCIALES
A2: SMIC | B2: =+SMIC!B4 -> 9.53
A3: COEFFICIENT | B3: =+'DUBREUIL JEAN'!Coeff.effectif -> 0.281
A6: N : Non cadre
A7: C : Cadre
A8: A : Apprentis
A9: D : Dirigeant
A11: STATUT | B11: NC | C11: C | D11: A | E11: D
A12: NOM | B12: =+'DUBREUIL JEAN'!I3 -> DUBREUIL JEAN | C12: =+'ROBERT DUVERGNE'!I3 -> ROBERT DUVERGNE | L12: TOTAL CUMULE | M12: ELIGIBLE CICE ET REDUC FILLON | N12: TOTAL CADRE | O12: TOTAL NON CADRE | P12: TOTAL DIRIGEANT | Q12: TOTAL APPRENTIS
A13: janvier | B13: =IF(B15<B17,"Oui","Non") -> Non | C13: =IF(C15<C17,"Oui","Non") -> Non | D13: =IF(D15<D17,"Oui","Non") -> Oui | E13: =IF(E15<E17,"Oui","Non") -> Non | F13: =IF(F15<F17,"Oui","Non") -> Non | G13: =IF(G15<G17,"Oui","Non") -> Non | H13: =IF(H15<H17,"Oui","Non") -> Non | I13: =IF(I15<I17,"Oui","Non") -> Non | ... K13: =IF(K15<K17,"Oui","Non") -> Non
A14: Effectif | B14: =+IF(B16>151.67,1,B16/151.67) -> 0.99997802 | C14: =+IF(C16>151.67,1,C16/151.67) -> 0.99997802 | D14: =+IF(D16>151.67,1,D16/151.67) -> 1 | E14: =+IF(E16>151.67,1,E16/151.67) -> 1 | F14: =+IF(F16>151.67,1,F16/151.67) -> 0 | G14: =+IF(G16>151.67,1,G16/151.67) -> 0 | H14: =+IF(H16>151.67,1,H16/151.67) -> 0 | I14: =+IF(I16>151.67,1,I16/151.67) -> 0 | ... K14: =+IF(K16>151.67,1,K16/151.67) -> 0 | L14: =+SUM(B14:K14) -> 3.999956 | M14: =+SUMIF(B13:K13,"oui",B14:K14) -> 1
A15: Salaire brut | B15: =IFERROR(VLOOKUP(A$13,INDIRECT(B$12&"!B23:F34"),3,0),"") | C15: =+'ROBERT DUVERGNE'!Salaire_brut_janvier -> 5000 | D15: 900 | E15: 4000 | L15: =SUM(B15:K15) -> 9900 | M15: =+SUMIF(B13:K13,"OUI",B15:K15) -> 900 | N15: =+SUMIF(B11:K11,"C",B15:K15) -> 5000 | O15: =+SUMIF(B11:K11,"NC",B15:K15) -> 0 | P15: =+SUMIF(B11:K11,"D",B15:K15) -> 4000 | Q15: =+SUMIF(B11:K11,"A",B15:K15) -> 900
A16: Nombre d'heures travaillées | B16: =+'DUBREUIL JEAN'!G23*4.33333333333333 -> 151.66667 | C16: =+'ROBERT DUVERGNE'!G23*4.33333333333333 -> 151.66667 | D16: 151.67 | E16: 151.67
A17: Majoration 2,5 fois SMIC | B17: =B16*$B$2*2.5 -> 3613.4583 | C17: =C16*$B$2*2.5 -> 3613.4583 | D17: =D16*$B$2*2.5 -> 3613.5377 | E17: 0 | F17: =F16*$B$2*2.5 -> 0 | G17: =G16*$B$2*2.5 -> 0 | H17: =H16*$B$2*2.5 -> 0 | I17: =I16*$B$2*2.5 -> 0 | J17: =J16*$B$2*2.5 -> 0 | K17: =K16*$B$2*2.5 -> 0
A18: Réduction fillon | B18: =+'DUBREUIL JEAN'!V23 -> 224.26029 | C18: =+'ROBERT DUVERGNE'!V23 | D18: 0 | E18: 0 | F18: =+IF(F15<#REF!,((($B$3/0.6)*(1.6*(#REF!/F15)-1))*F15),((0.281/0.6)*(1.6*$B$2*(F16)/(F15)-1))*(F15)) -> #REF! | G18: =+IF(G15<#REF!,((($B$3/0.6)*(1.6*(#REF!/G15)-1))*G15),((0.281/0.6)*(1.6*$B$2*(G16)/(G15)-1))*(G15)) -> #REF! | H18: =+IF(H15<#REF!,((($B$3/0.6)*(1.6*(#REF!/H15)-1))*H15),((0.281/0.6)*(1.6*$B$2*(H16)/(H15)-1))*(H15)) -> #REF! | I18: =+IF(I15<#REF!,((($B$3/0.6)*(1.6*(#REF!/I15)-1))*I15),((0.281/0.6)*(1.6*$B$2*(I16)/(I15)-1))*(I15)) -> #REF! | J18: =+IF(J15<#REF!,((($B$3/0.6)*(1.6*(#REF!/J15)-1))*J15),((0.281/0.6)*(1.6*$B$2*(J16)/(J15)-1))*(J15)) -> #REF! | K18: =+IF(K15<#REF!,((($B$3/0.6)*(1.6*(#REF!/K15)-1))*K15),((0.281/0.6)*(1.6*$B$2*(K16)/(K15)-1))*(K15)) -> #REF! | M18: =+SUMIF(B18:K18,">0") -> 224.26029
A19: Régularisation réduction fillon | B19: =+'DUBREUIL JEAN'!W23 | M19: =+SUMIF(B19:K19,">0") -> 0
A21: FEVRIER | B21: =IF((B23+B15)<(B25),"Oui","Non") -> #VALUE! | C21: =IF((C23+C15)<(C25),"Oui","Non") -> Non | D21: =IF((D23+D15)<(D25),"Oui","Non") -> Oui | E21: =IF((E23+E15)<(E25),"Oui","Non") -> Non | F21: =IF((F23+F15)<(F25),"Oui","Non") -> Oui | G21: =IF((G23+G15)<(G25),"Oui","Non") -> Oui | H21: =IF((H23+H15)<(H25),"Oui","Non") -> Oui | I21: =IF((I23+I15)<(I25),"Oui","Non") -> Oui | ... K21: =IF((K23+K15)<(K25),"Oui","Non") -> Non
A22: Effectif | B22: =+IF(B24>151.67,1,B24/151.67) -> 0.11426123 | C22: =+IF(C24>151.67,1,C24/151.67) -> 0 | D22: =+IF(D24>151.67,1,D24/151.67) -> 1 | E22: =+IF(E24>151.67,1,E24/151.67) -> -1.0150326 | F22: =+IF(F24>151.67,1,F24/151.67) -> 0.3955957 | G22: =+IF(G24>151.67,1,G24/151.67) -> 0.85712402 | H22: =+IF(H24>151.67,1,H24/151.67) -> 1 | I22: =+IF(I24>151.67,1,I24/151.67) -> 0.78789477 | ... K22: =+IF(K24>151.67,1,K24/151.67) -> 0 | L22: =SUM(B22:K22) -> 3.1398431 | M22: =+SUMIF(B21:K21,"oui",B22:K22) -> 4.0406145
A23: Salaire brut | B23: 179.19 | D23: 2026.44 | E23: -1467.11 | F23: 924.57 | G23: 1318.72 | H23: 1998.36 | I23: 1241.57 | L23: =SUM(B23:K23) -> 6221.74 | M23: =+SUMIF(B21:K21,"OUI",B27:K27) -> 8409.66
A24: Nombre d'heures travaillées | B24: 17.33 | D24: 169 | E24: -153.95 | F24: 60 | G24: 130 | H24: 169 | I24: 119.5
A25: Majoration 2,5 fois SMIC | B25: =B24*$B$2*2.5+B17 -> 4026.3456 | C25: =C24*$B$2*2.5+C17 -> 3613.4583 | D25: =D24*$B$2*2.5+D17 -> 7639.9627 | E25: =E24*$B$2*2.5+E17 -> -3667.8587 | F25: =F24*$B$2*2.5+F17 -> 1429.5 | G25: =G24*$B$2*2.5+G17 -> 3097.25 | H25: =H24*$B$2*2.5+H17 -> 4026.425 | I25: =I24*$B$2*2.5+I17 -> 2847.0875 | ... K25: =K24*$B$2*2.5+K17 -> 0
A26: REDUCTION FILLON | B26: =+IF(B15+B23<#REF!,((($B$3/0.6)*(1.6*(#REF!/B15)-1))*B15),((0.281/0.6)*(1.6*$B$2*(B16)/(B15)-1))*(B15)) -> #VALUE! | C26: 0 | D26: =((0.281/0.6)*(1.6*$B$2*(D16+D24)/(D15+D23)-1))*(D15+D23)-D18 -> 919.4021 | E26: =((0.281/0.6)*(1.6*$B$2*(E16+E24)/(E15+E23)-1))*(E15+E23)-E18 -> -1202.5186 | F26: =((0.281/0.6)*(1.6*$B$2*(F16+F24)/(F15+F23)-1))*(F15+F23)-F18 -> #REF! | G26: =((0.281/0.6)*(1.6*$B$2*(G16+G24)/(G15+G23)-1))*(G15+G23)-G18 -> #REF! | H26: =((0.281/0.6)*(1.6*$B$2*(H16+H24)/(H15+H23)-1))*(H15+H23)-H18 -> #REF! | I26: =((0.281/0.6)*(1.6*$B$2*(I16+I24)/(I15+I23)-1))*(I15+I23)-I18 -> #REF! | J26: =((0.281/0.6)*(1.6*$B$2*(J16+J24)/(J15+J23)-1))*(J15+J23)-J18 -> #DIV/0! | K26: =((0.281/0.6)*(1.6*$B$2*(K16+K24)/(K15+K23)-1))*(K15+K23)-K18 -> #DIV/0! | M26: =+SUMIF(B26:K26,">0") -> 919.4021
A27: SALAIRE CUMULE | B27: =+B23+B15 -> #VALUE! | C27: =+C23+C15 -> 5000 | D27: =+D23+D15 -> 2926.44 | E27: =+E23+E15 -> 2532.89 | F27: =+F23+F15 -> 924.57 | G27: =+G23+G15 -> 1318.72 | H27: =+H23+H15 -> 1998.36 | I27: =+I23+I15 -> 1241.57 | ... K27: =+K23+K15 -> 0
A30: MARS | B30: =IF((B23+B15+B32)<B34,"Oui","Non") -> #VALUE! | C30: =IF((C23+C15+C32)<C34,"Oui","Non") -> Non | D30: =IF((D23+D15+D32)<D34,"Oui","Non") -> Oui | E30: =IF((E23+E15+E32)<E34,"Oui","Non") -> Non | F30: =IF((F23+F15+F32)<F34,"Oui","Non") -> Oui | G30: =IF((G23+G15+G32)<G34,"Oui","Non") -> Oui | H30: =IF((H23+H15+H32)<H34,"Oui","Non") -> Oui | I30: =IF((I23+I15+I32)<I34,"Oui","Non") -> Oui | ... K30: =IF((K23+K15+K32)<K34,"Oui","Non") -> Non | L30: =SUM(B30:K30) -> #VALUE!
A31: Effectif | B31: =+IF(B33>151.67,1,B33/151.67) -> 0.11426123 | C31: =+IF(C33>151.67,1,C33/151.67) -> 0 | D31: =+IF(D33>151.67,1,D33/151.67) -> 1 | E31: =+IF(E33>151.67,1,E33/151.67) -> 0 | F31: =+IF(F33>151.67,1,F33/151.67) -> 0.3955957 | G31: =+IF(G33>151.67,1,G33/151.67) -> 0.85712402 | H31: =+IF(H33>151.67,1,H33/151.67) -> 1 | I31: =+IF(I33>151.67,1,I33/151.67) -> 0.68899585 | ... K31: =+IF(K33>151.67,1,K33/151.67) -> 0 | L31: =SUM(B31:K31) -> 4.0559768 | M31: =+SUMIF(B30:K30,"oui",B31:K31) -> 3.9417156
A32: Salaire brut | B32: 179.19 | D32: 2026.44 | E32: 0 | F32: 924.57 | G32: 1318.72 | H32: 2107.62 | I32: 1088.72 | L32: =SUM(B32:K32) -> 7645.26 | M32: =+SUMIF(B30:K30,"OUI",B37:K37) -> 15875.73
A33: Nombre d'heures travaillées | B33: 17.33 | D33: 169 | E33: 0 | F33: 60 | G33: 130 | H33: 169 | I33: 104.5
A34: Majoration 2,5 fois SMIC | B34: =B33*$B$2*2.5+B25 -> 4439.2328 | C34: =C33*$B$2*2.5+C25 -> 3613.4583 | D34: =D33*$B$2*2.5+D25 -> 11666.388 | E34: =E33*$B$2*2.5+E25 -> -3667.8587 | F34: =F33*$B$2*2.5+F25 -> 2859 | G34: =G33*$B$2*2.5+G25 -> 6194.5 | H34: =H33*$B$2*2.5+H25 -> 8052.85 | I34: =I33*$B$2*2.5+I25 -> 5336.8 | ... K34: =K33*$B$2*2.5+K25 -> 0
A35: REDUCTION FILLON | B35: =((0.281/0.6)*(1.6*$B$2*(B16+B24+B33)/(B15+B23+B32)-1))*(B15+B23+B32)-B18-B26 -> #VALUE! | C35: =((0.281/0.6)*(1.6*$B$2*(C16+C24+C33)/(C15+C23+C32)-1))*(C15+C23+C32) -> -1258.5928 | D35: =((0.281/0.6)*(1.6*$B$2*(D16+D24+D33)/(D15+D23+D32)-1))*(D15+D23+D32)-D18-D26 -> 257.80439 | E35: =((0.281/0.6)*(1.6*$B$2*(E16+E24+E33)/(E15+E23+E32)-1))*(E15+E23+E32)-E18-E26 -> 0 | F35: =((0.281/0.6)*(1.6*$B$2*(F16+F24+F33)/(F15+F23+F32)-1))*(F15+F23+F32)-F18-F26 -> #REF! | G35: =((0.281/0.6)*(1.6*$B$2*(G16+G24+G33)/(G15+G23+G32)-1))*(G15+G23+G32)-G18-G26 -> #REF! | H35: =((0.281/0.6)*(1.6*$B$2*(H16+H24+H33)/(H15+H23+H32)-1))*(H15+H23+H32)-H18-H26 -> #REF! | I35: =((0.281/0.6)*(1.6*$B$2*(I16+I24+I33)/(I15+I23+I32)-1))*(I15+I23+I32)-I18-I26 -> #REF! | J35: =((0.281/0.6)*(1.6*$B$2*(J16+J24+J33)/(J15+J23+J32)-1))*(J15+J23+J32)-J18-J26 -> #DIV/0! | K35: =((0.281/0.6)*(1.6*$B$2*(K16+K24+K33)/(K15+K23+K32)-1))*(K15+K23+K32)-K18-K26 -> #DIV/0! | M35: =+SUMIF(B35:K35,">0") -> 257.80439
L36: =SUM(B36:K36) -> 0
A37: SB 1T13 | B37: =+B15+B23+B32 -> #VALUE! | C37: =+C15+C23+C32 -> 5000 | D37: =+D15+D23+D32 -> 4952.88 | E37: =+E15+E23+E32 -> 2532.89 | F37: =+F15+F23+F32 -> 1849.14 | G37: =+G15+G23+G32 -> 2637.44 | H37: =+H15+H23+H32 -> 4105.98 | I37: =+I15+I23+I32 -> 2330.29 | ... K37: =+K15+K23+K32 -> 0 | L37: =SUM(B37:K37) -> #VALUE!
A38: NBH 1T13 | B38: =+B16+B24+B33 -> 186.32667 | C38: =+C16+C24+C33 -> 151.66667 | D38: =+D16+D24+D33 -> 489.67 | E38: =+E16+E24+E33 -> -2.28 | F38: =+F16+F24+F33 -> 120 | G38: =+G16+G24+G33 -> 260 | H38: =+H16+H24+H33 -> 338 | I38: =+I16+I24+I33 -> 224 | ... K38: =+K16+K24+K33 -> 0 | L38: =SUM(B38:K38) -> 1767.3833
A39: REDUCTION FILLON 1T13 | E39: =+E18+E26+E35 -> -1202.5186 | L39: =SUM(B39:K39) -> -1202.5186 | M39: =+M18+M26+M35 -> 1401.4668
L40: =SUM(B40:K40) -> 0
L41: =SUM(B41:K41) -> 0
A42: AVRIL | B42: =IF((B44+B37)<B46,"Oui","Non") -> #VALUE! | C42: =IF((C44+C37)<C46,"Oui","Non") -> Non | D42: =IF((D44+D37)<D46,"Oui","Non") -> Oui | E42: =IF((E44+E37)<E46,"Oui","Non") -> Non | F42: =IF((F44+F37)<F46,"Oui","Non") -> Oui | G42: =IF((G44+G37)<G46,"Oui","Non") -> Oui | H42: =IF((H44+H37)<H46,"Oui","Non") -> Oui | I42: =IF((I44+I37)<I46,"Oui","Non") -> Oui | ... K42: =IF((K44+K37)<K46,"Oui","Non") -> Non
A43: Effectif | B43: =+IF(B45>151.67,1,B45/151.67) -> 0.11426123 | C43: =+IF(C45>151.67,1,C45/151.67) -> 0 | D43: =+IF(D45>151.67,1,D45/151.67) -> 1 | E43: =+IF(E45>151.67,1,E45/151.67) -> 0 | F43: =+IF(F45>151.67,1,F45/151.67) -> 0.3955957 | G43: =+IF(G45>151.67,1,G45/151.67) -> 0.95602294 | H43: =+IF(H45>151.67,1,H45/151.67) -> 1 | I43: =+IF(I45>151.67,1,I45/151.67) -> 1 | ... K43: =+IF(K45>151.67,1,K45/151.67) -> 0 | L43: =+SUM(B43:K43) -> 4.4658799 | M43: =+SUMIF(B42:K42,"oui",B43:K43) -> 4.3516186
A44: Salaire brut | B44: 179.19 | D44: 2019.42 | E44: 1900.86 | F44: 924.57 | G44: 1479.17 | H44: 2093.58 | I44: 1764.4 | L44: =SUM(B44:K44) -> 10361.19 | M44: =+SUMIF(B42:K42,"OUI",B48:K48) -> 24156.87
A45: Nombre d'heures travaillées | B45: 17.33 | D45: 169 | E45: 0 | F45: 60 | G45: 145 | H45: 169 | I45: 151.67
