Workbook
Name DecPA: Listes!$A$23:$A$25
Name Liste_AR: '385-SC-0'!$R$22:$R$24
Name Liste_AR: '561-SC-0'!$R$22:$R$23
Name Liste_AR: '581-LF-0'!$R$22:$R$23
Name Liste_AR: TCouverte!$R$22:$R$23
Name Liste_AR: '014-BM-0'!$R$22:$R$24
Name Liste_PA: '385-SC-0'!$S$2:$S$20
Name Liste_PA: '561-SC-0'!$S$2:$S$20
Name Liste_PA: '581-LF-0'!$S$2:$S$20
Name Liste_PA: TCouverte!$S$2:$S$20
Name Liste_PA: '014-BM-0'!$S$2:$S$20
Name Liste_resp: '385-SC-0'!$R$25:$R$27
Name Liste_resp: '561-SC-0'!$R$25:$R$27
Name Liste_resp: '581-LF-0'!$R$25:$R$27
Name Liste_resp: TCouverte!$R$25:$R$27
Name Liste_resp: '014-BM-0'!$R$25:$R$27
Name Liste_statut: '385-SC-0'!$S$22:$S$25
Name Liste_statut: '561-SC-0'!$S$22:$S$25
Name Liste_statut: '581-LF-0'!$S$22:$S$25
Name Liste_statut: TCouverte!$S$22:$S$25
Name Liste_statut: '014-BM-0'!$S$22:$S$25
Name nbPA1: '385-SC-0'!$O$2
Name nbPA1: '561-SC-0'!$O$2
Name nbPA1: '581-LF-0'!$O$2
Name nbPA1: TCouverte!$O$2
Name nbPA1: '014-BM-0'!$O$2
Name NbPA1mois: '385-SC-0'!$O$8
Name NbPA1mois: '561-SC-0'!$O$6
Name NbPA1mois: '581-LF-0'!$O$6
Name NbPA1mois: TCouverte!$O$6
Name NbPA1mois: '014-BM-0'!$O$8
Name NbPA2: '385-SC-0'!$P$2
Name NbPA2: '561-SC-0'!$P$2
Name NbPA2: '581-LF-0'!$P$2
Name NbPA2: TCouverte!$P$2
Name NbPA2: '014-BM-0'!$P$2
Name nbPA2mois: '385-SC-0'!$P$8
Name nbPA2mois: '561-SC-0'!$P$6
Name nbPA2mois: '581-LF-0'!$P$6
Name nbPA2mois: TCouverte!$P$6
Name nbPA2mois: '014-BM-0'!$P$8
Name PA: Listes!$B$1:$B$22
Name PAcomplet: Listes!$B$1:$C$21
Name Ratio_PA1: '385-SC-0'!$O$4
Name Ratio_PA1: '561-SC-0'!$O$3
Name Ratio_PA1: '581-LF-0'!$O$3
Name Ratio_PA1: TCouverte!$O$3
Name Ratio_PA1: '014-BM-0'!$O$4
Name Ratio_PA1_mois: '385-SC-0'!$O$15
Name Ratio_PA1_mois: '561-SC-0'!$O$7
Name Ratio_PA1_mois: '581-LF-0'!$O$7
Name Ratio_PA1_mois: TCouverte!$O$7
Name Ratio_PA1_mois: '014-BM-0'!$O$15
Name Ratio_PA2: '385-SC-0'!$P$4
Name Ratio_PA2: '561-SC-0'!$P$3
Name Ratio_PA2: '581-LF-0'!$P$3
Name Ratio_PA2: TCouverte!$P$3
Name Ratio_PA2: '014-BM-0'!$P$4
Name Ratio_PA2_mois: '385-SC-0'!$P$15
Name Ratio_PA2_mois: '561-SC-0'!$P$7

Sheet Listes
A1: IMP | B1: implantation | C1: 1 | D1: Y:\CNM INGENIERIE\3 Cellule Infrastructure\MOEG03 - OA\6. SUIVI DE CHANTIER\6.3 Points d'arrêt\Gard
A2: RFF | B2: réception fond de fouille | C2: 1
A3: CFP | B3: contrôle ferraillage pieu | C3: 2
A4: AB | B4: autorisation de bétonnage | C4: 2
A5: ARC | B5: réception du pieu | C5: 1
A6: AR | B6: autorisation de remblayer | C6: 2
A7: RRF | B7: réception remblai de fouille | C7: 1
A8: EE | B8: essais d'adhérence chape | C8: 1
A9: SG | B9: suivi géométrique | C9: 1
A10: PA | B10: plot d'ancrage des poteaux | C10: 1
A11: EPR | B11: épreuves | C11: 2
A12: AMT | B12: autorisation mise en tension | C12: 2
A13: AMF | B13: autorisation mise en fabrication atelier | C13: 1
... A20: ASA | B20: autorisation de scellement appuis | C20: 1
B21: point critique | C21: PC
B22: réception OA 1ière catégorie | C22: 1
A23: A | B23: BPE
A24: R | B24: Non BPE
A25: NP | B25: BPEU
A26: BGO | B26: BPEP
A27: NLA
A28: LSP
A29: FAS

Sheet Stat
B2: GARD
B5: Nb de PA levés | G5: Total | K5: =DATE(D14,C14,1) -> 41791
C7: PA1 | D7: PA2 | E7: TOTAL | F7: PC
B8: Nb PA acceptés | C8: =SUM('014-BM-0:581-LF-0'!O2) -> 9 | D8: =SUM('014-BM-0:581-LF-0'!P2) -> 69 | E8: =C8+D8 -> 78 | F8: =SUM('014-BM-0:581-LF-0'!R2) -> 23
B9: Nb PA refusés | C9: =SUM('014-BM-0:581-LF-0'!O3) -> 0 | D9: =SUM('014-BM-0:581-LF-0'!P3) -> 0 | E9: =C9+D9 -> 0 | F9: =SUM('014-BM-0:581-LF-0'!R3) -> 0
B10: Nb PA à réaliser | C10: =SUM('014-BM-0:581-LF-0'!O4) -> 9 | D10: =SUM('014-BM-0:581-LF-0'!P4) -> 102 | E10: =C10+D10 -> 111
B11: Ratio PA acceptés | C11: =IF(C10=0,"",C8/(C8+C9)) -> 1 | D11: =IF(D10=0,"",D8/(D8+D9)) -> 1 | E11: =IF(E10=0,"",E8/(E8+E9)) -> 1
B12: Ratio PA refusés | C12: =IF(C10=0,"",C9/(C8+C9)) -> 0 | D12: =IF(D10=0,"",D9/(D8+D9)) -> 0 | E12: =IF(E10=0,"",E9/(E8+E9)) -> 0
B13: PA réalisés/PA à faire | C13: =IF(C10=0,"",(C8+C9)/C10) -> 1 | D13: =IF(D10=0,"",(D8+D9)/D10) -> 0.67647059 | E13: =IF(E10=0,"",(E8+E9)/E10) -> 0.7027027
B14: Dans le mois | C14: 6 | D14: 2014
C15: PA1 | D15: PA2 | E15: TOTAL
B16: Nb PA acceptés | C16: =SUM('014-BM-0:581-LF-0'!O10) -> 0 | D16: =SUM('014-BM-0:581-LF-0'!P10) -> 28 | E16: =C16+D16 -> 28
B17: Nb PA refusés | C17: =SUM('014-BM-0:581-LF-0'!O11) -> 0 | D17: =SUM('014-BM-0:581-LF-0'!P11) -> 0 | E17: =C17+D17 -> 0
B18: Nb PA à réaliser | C18: =SUM('014-BM-0:581-LF-0'!O12) -> 0 | D18: =SUM('014-BM-0:581-LF-0'!P12) -> 54 | E18: =C18+D18 -> 54
B19: Ratio PA acceptés | C19: =IF(C18=0,"",C16/(C16+C17)) | D19: =IF(D18=0,"",D16/(D16+D17)) -> 1 | E19: =IF(E18=0,"",E16/(E16+E17)) -> 1
B20: Ratio PA refusés | C20: =IF(C18=0,"",C17/(C16+C17)) | D20: =IF(D18=0,"",D17/(D16+D17)) -> 0 | E20: =IF(E18=0,"",E17/(E16+E17)) -> 0
B21: PA réalisés/PA à faire | C21: =IF(C18=0,"",(C16+C17)/C18) | D21: =IF(D18=0,"",(D16+D17)/D18) -> 0.51851852 | E21: =IF(E18=0,"",(E16+E17)/E18) -> 0.51851852
B23: Nbre de PA réalisés par | C23: LSP | D23: NLA | E23: BGO | F23: FAS | G23: Total
C24: =SUM('014-BM-0:581-LF-0'!O18) -> 70 | D24: =SUM('014-BM-0:581-LF-0'!P18) -> 51 | E24: =SUM('014-BM-0:581-LF-0'!Q18) -> 20 | F24: =SUM('014-BM-0:581-LF-0'!R18) -> 3 | G24: =SUM(C24:F24) -> 144

Sheet Stat 2
G3: Dans le mois | H3: 1 | I3: 2014 | L3: Dans le mois | M3: 2 | N3: 2014 | Q3: Dans le mois | R3: 3 | S3: 2014 | V3: Dans le mois | W3: 4 | X3: 2014
C4: =Stat!C7 -> PA1 | D4: =Stat!D7 -> PA2 | E4: =Stat!E7 -> TOTAL | H4: PA1 | I4: PA2 | J4: TOTAL | M4: PA1 | N4: PA2 | O4: TOTAL | R4: PA1 | S4: PA2 | T4: TOTAL | W4: PA1 | X4: PA2 | Y4: TOTAL
B5: =Stat!B8 -> Nb PA acceptés | C5: =Stat!C8 -> 9 | D5: =Stat!D8 -> 69 | E5: =Stat!E8 -> 78 | G5: Nb PA acceptés | H5: 1 | I5: 0 | J5: 1 | L5: Nb PA acceptés | M5: 17 | N5: 10 | O5: 27 | Q5: Nb PA acceptés | R5: 18 | S5: 54 | T5: 72 | V5: Nb PA acceptés | W5: 35 | X5: 71 | Y5: 106
B6: =Stat!B9 -> Nb PA refusés | C6: =Stat!C9 -> 0 | D6: =Stat!D9 -> 0 | E6: =Stat!E9 -> 0 | G6: Nb PA refusés | H6: 0 | I6: 0 | J6: 0 | L6: Nb PA refusés | M6: 0 | N6: 0 | O6: 0 | Q6: Nb PA refusés | R6: 2 | S6: 4 | T6: 6 | V6: Nb PA refusés | W6: 8 | X6: 12 | Y6: 20
B7: =Stat!B10 -> Nb PA à réaliser | C7: =Stat!C10 -> 9 | D7: =Stat!D10 -> 102 | E7: =Stat!E10 -> 111 | G7: Nb PA à réaliser | H7: 1 | I7: 0 | J7: 1 | L7: Nb PA à réaliser | M7: 17 | N7: 10 | O7: 27 | Q7: Nb PA à réaliser | R7: 20 | S7: 89 | T7: 109 | V7: Nb PA à réaliser | W7: 43 | X7: 107 | Y7: 150
B8: =Stat!B11 -> Ratio PA acceptés | C8: =Stat!C11 -> 1 | D8: =Stat!D11 -> 1 | E8: =Stat!E11 -> 1 | G8: Ratio PA acceptés | H8: 1 | J8: 1 | L8: Ratio PA acceptés | M8: 1 | N8: 1 | O8: 1 | Q8: Ratio PA acceptés | R8: 0.9 | S8: 0.93103448 | T8: 0.92307692 | V8: Ratio PA acceptés | W8: 0.81395349 | X8: 0.85542169 | Y8: 0.84126984
B9: =Stat!B12 -> Ratio PA refusés | C9: =Stat!C12 -> 0 | D9: =Stat!D12 -> 0 | E9: =Stat!E12 -> 0 | G9: Ratio PA refusés | H9: 0 | J9: 0 | L9: Ratio PA refusés | M9: 0 | N9: 0 | O9: 0 | Q9: Ratio PA refusés | R9: 0.1 | S9: 0.068965517 | T9: 0.076923077 | V9: Ratio PA refusés | W9: 0.18604651 | X9: 0.14457831 | Y9: 0.15873016
B10: =Stat!B13 -> PA réalisés/PA à faire | C10: =Stat!C13 -> 1 | D10: =Stat!D13 -> 0.67647059 | E10: =Stat!E13 -> 0.7027027 | G10: Ratio PA levés | H10: 1 | J10: 1 | L10: Ratio PA levés | M10: 1 | N10: 1 | O10: 1 | Q10: Ratio PA levés | R10: 1 | S10: 0.65168539 | T10: 0.71559633 | V10: PA réalisés/PA à faire | W10: 1 | X10: 0.77570093 | Y10: 0.84
V11: Dans le mois | W11: 5 | X11: 2014
C12: PA total MOEG3 | D12: PA total à réaliser | E12: PA1 à réaliser | F12: PA1 Acceptés | G12: PA1 Refusés | H12: PA2 à réaliser | I12: PA2 Acceptés | J12: PA2 Refusés | K12: FNC demandées par MOEG3 | N12: Ratio PA1 levés | O12: Ratio PA1 acceptés | P12: Ratio PA1 refusés | Q12: Ratio PA2 levés | R12: Ratio PA2 acceptés | S12: Ratio PA2 refusés | W12: PA1 | X12: PA2 | Y12: TOTAL
B13: 41640 | C13: =E13+H13 -> 1 | D13: =F13+I13 -> 1 | E13: =H7 -> 1 | F13: =H5 -> 1 | G13: =H6 -> 0 | H13: =I5 -> 0 | I13: =I6 -> 0 | J13: =I7 -> 0 | K13: 0 | M13: 41640 | N13: =H10 -> 1 | O13: =H8 -> 1 | V13: Nb PA acceptés | W13: 37 | X13: 61 | Y13: 98
B14: 41671 | C14: =F14+G14+I14+J14 -> 27 | D14: =E14+H14 -> 27 | E14: =M7 -> 17 | F14: =M5 -> 17 | G14: =M6 -> 0 | H14: =N7 -> 10 | I14: =N5 -> 10 | J14: =N6 -> 0 | K14: 1 | M14: 41671 | N14: =M10 -> 1 | O14: =M8 -> 1 | P14: =N9 -> 0 | Q14: =N10 -> 1 | R14: =O8 -> 1 | S14: =O9 -> 0 | V14: Nb PA refusés | W14: 1 | X14: 2 | Y14: 3
B15: 41699 | C15: =F15+G15+I15+J15 -> 78 | D15: =E15+H15 -> 109 | E15: =R7 -> 20 | F15: =R5 -> 18 | G15: =R6 -> 2 | H15: =S7 -> 89 | I15: =S5 -> 54 | J15: =S6 -> 4 | K15: 5 | M15: 41699 | N15: =R10 -> 1 | O15: =R8 -> 0.9 | P15: =R9 -> 0.1 | Q15: =S10 -> 0.65168539 | R15: =S8 -> 0.93103448 | S15: =S9 -> 0.068965517 | V15: Nb PA à réaliser | W15: 38 | X15: 85 | Y15: 123
B16: 41730 | C16: =F16+G16+I16+J16 -> 126 | D16: =E16+H16 -> 150 | E16: =W7 -> 43 | F16: =W5 -> 35 | G16: =W6 -> 8 | H16: =X7 -> 107 | I16: =X5 -> 71 | J16: =X6 -> 12 | K16: 9 | M16: 41730 | N16: =W10 -> 1 | O16: =W8 -> 0.81395349 | P16: =W9 -> 0.18604651 | Q16: =X10 -> 0.77570093 | R16: =X8 -> 0.85542169 | S16: =X9 -> 0.14457831 | V16: Ratio PA acceptés | W16: 0.97368421 | X16: 0.96825397 | Y16: 0.97029703
B17: 41760 | C17: =F17+G17+I17+J17 -> 101 | D17: =E17+H17 -> 123 | E17: =W15 -> 38 | F17: =W13 -> 37 | G17: =W14 -> 1 | H17: =X15 -> 85 | I17: =X13 -> 61 | J17: =X14 -> 2 | K17: 4 | M17: 41760 | N17: =W18 -> 1 | O17: =W16 -> 0.97368421 | P17: =W17 -> 0.026315789 | Q17: =X18 -> 0.74117647 | R17: =X16 -> 0.96825397 | S17: =X17 -> 0.031746032 | V17: Ratio PA refusés | W17: 0.026315789 | X17: 0.031746032 | Y17: 0.02970297
B18: 41791 | C18: =F18+G18+I18+J18 -> 98 | D18: =E18+H18 -> 151 | E18: =W23 -> 39 | F18: =W21 -> 36 | G18: =W22 -> 3 | H18: =X23 -> 112 | I18: =X21 -> 54 | J18: =X22 -> 5 | K18: 23 | M18: 41791 | N18: =W26 -> 1 | O18: =W24 -> 0.92307692 | P18: =W25 -> 0.076923077 | Q18: =X26 -> 0.52678571 | R18: =X24 -> 0.91525424 | S18: =X25 -> 0.084745763 | V18: PA réalisés/PA à faire | W18: 1 | X18: 0.74117647 | Y18: 0.82113821
B19: 41821 | M19: 41821 | V19: Dans le mois | W19: 6 | X19: 2014
B20: 41852 | M20: 41852 | W20: PA1 | X20: PA2 | Y20: TOTAL
B21: 41883 | M21: 41883 | V21: Nb PA acceptés | W21: 36 | X21: 54 | Y21: 90
B22: 41913 | M22: 41913 | V22: Nb PA refusés | W22: 3 | X22: 5 | Y22: 8
B23: 41944 | M23: 41944 | V23: Nb PA à réaliser | W23: 39 | X23: 112 | Y23: 151
B24: 41974 | M24: 41974 | V24: Ratio PA acceptés | W24: 0.92307692 | X24: 0.91525424 | Y24: 0.91836735
B25: 42005 | M25: 42005 | V25: Ratio PA refusés | W25: 0.076923077 | X25: 0.084745763 | Y25: 0.081632653
B26: 42036 | M26: 42036 | V26: PA réalisés/PA à faire | W26: 1 | X26: 0.52678571 | Y26: 0.64900662
B27: 42064 | M27: 42064 | V27: Dans le mois
B28: 42095 | M28: 42095
B29: 42125 | M29: 42125 | V29: Nb PA acceptés
B30: 42156 | M30: 42156 | V30: Nb PA refusés
B31: 42186 | M31: 42186 | V31: Nb PA à réaliser
B32: 42217 | M32: 42217 | V32: Ratio PA acceptés
B33: 42248 | M33: 42248 | V33: Ratio PA refusés
B34: 42278 | M34: 42278 | V34: PA réalisés/PA à faire
B35: 42309 | M35: 42309 | V35: Dans le mois
B36: 42339 | M36: 42339
V37: Nb PA acceptés
B38: Récap | C38: =SUM(C13:C37) -> 431 | D38: =SUM(D13:D37) -> 561 | E38: =SUM(E13:E37) -> 158 | F38: =SUM(F13:F37) -> 144 | G38: =SUM(G13:G37) -> 14 | H38: =SUM(H13:H37) -> 403 | I38: =SUM(I13:I37) -> 250 | J38: =SUM(J13:J37) -> 23 | K38: =SUM(K13:K37) -> 42 | N38: =C10 -> 1 | O38: =C8 -> 1 | P38: =C9 -> 0 | Q38: =D10 -> 0.67647059 | R38: =D8 -> 1 | S38: =D9 -> 0 | V38: Nb PA refusés
C39: PA total MOEG3 | D39: PA total à réaliser | E39: PA1 à réaliser | F39: PA1 Acceptés | G39: PA1 Refusés | H39: PA2 à réaliser | I39: PA2 Acceptés | J39: PA2 Refusés | K39: FNC demandées par MOEG3 | N39: Ratio PA1 levés | O39: Ratio PA1 acceptés | P39: Ratio PA1 refusés | Q39: Ratio PA2 levés | R39: Ratio PA2 acceptés | S39: Ratio PA2 refusés | V39: Nb PA à réaliser
V40: Ratio PA acceptés
V41: Ratio PA refusés
V42: PA réalisés/PA à faire
...

Sheet 014-BM-0
A1: Numéro point d'arrêt | B1: Partie d'ouvrage | C1: PA | D1: Type PA | E1: Date | F1: Accepté A ou réfusé R | G1: Numéro du Rapport de surveillance | H1: Responsable du PA | I1: Statut des doc d'exe | J1: Réserves | K1: Observations | L1: Point d'arrêt scanné | O1: PA1 | P1: PA2 | Q1: TOTAL | R1: PC
A2: =HYPERLINK(CONCATENATE(repetoire,"\",(MID(CELL("nomfichier",$A$1),FIND("]",CELL("nomfichier",$A$1),1)+1,30)),"\","PA",ROW(A2)-1,".pdf"),ROW(A2)-1) -> 1 | B2: Radier | C2: réception fond de fouille | D2: =IF(ISBLANK($C2), "", VLOOKUP($C2,PAcomplet,2,FALSE)) -> 1 | E2: 41652 | F2: A | G2: 21 | H2: NLA | I2: Non BPE | J2: Absence de note géotech. niveau G3 | L2: N | N2: Nb PA acceptés | O2: =SUMPRODUCT(($D$2:$D$218=1)*($F$2:$F$218="A")) -> 2 | P2: =SUMPRODUCT(($D$2:$D$218=2)*($F$2:$F$218="A")) -> 10 | Q2: =O2+P2 -> 12 | R2: =SUMPRODUCT(($D$2:$D$218="PC")*($F$2:$F$218="A")) -> 2
A3: =HYPERLINK(CONCATENATE(repetoire,"\",(MID(CELL("nomfichier",$A$1),FIND("]",CELL("nomfichier",$A$1),1)+1,30)),"\","PA",ROW(A3)-1,".pdf"),ROW(A3)-1) -> 2 | B3: Radier + murs | C3: implantation | D3: =IF(ISBLANK($C3), "", VLOOKUP($C3,PAcomplet,2,FALSE)) -> 1 | E3: 41684 | F3: A | H3: NLA | I3: BPE | L3: O | N3: Nb PA refusés | O3: =SUMPRODUCT(($D$2:$D$218=1)*($F$2:$F$218="R")) -> 0 | P3: =SUMPRODUCT(($D$2:$D$218=2)*($F$2:$F$218="R")) -> 0 | Q3: =O3+P3 -> 0 | R3: =SUMPRODUCT(($D$2:$D$218="PC")*($F$2:$F$218="R")) -> 0
A4: =HYPERLINK(CONCATENATE(repetoire,"\",(MID(CELL("nomfichier",$A$1),FIND("]",CELL("nomfichier",$A$1),1)+1,30)),"\","PA",ROW(A4)-1,".pdf"),ROW(A4)-1) -> 3 | B4: Radier | C4: autorisation de bétonnage | D4: =IF(ISBLANK($C4), "", VLOOKUP($C4,PAcomplet,2,FALSE)) -> 2 | E4: 41682 | F4: A | G4: 47 | H4: NLA | I4: BPE | K4: Rajout d'un TS compte tenu d'un surenrobage sur la face supérieure | L4: N | N4: Nb PA à réaliser | O4: =SUMPRODUCT(($D$2:$D$218=1)*(NOT(ISBLANK($F$2:$F$218)))) -> 2 | P4: =SUMPRODUCT(($D$2:$D$218=2)*(NOT(ISBLANK($F$2:$F$218)))) -> 13 | Q4: =O4+P4 -> 15 | R4: =SUMPRODUCT(($D$2:$D$218="pc")*(NOT(ISBLANK($F$2:$F$218)))) -> 2
A5: =HYPERLINK(CONCATENATE(repetoire,"\",(MID(CELL("nomfichier",$A$1),FIND("]",CELL("nomfichier",$A$1),1)+1,30)),"\","PA",ROW(A5)-1,".pdf"),ROW(A5)-1) -> 4 | B5: Semelle mur M3 | C5: autorisation de bétonnage | D5: =IF(ISBLANK($C5), "", VLOOKUP($C5,PAcomplet,2,FALSE)) -> 2 | E5: 41696 | F5: A | G5: 79 | H5: BGO | I5: BPE | J5: Enrobage, aciers 52 à reprendre. | K5: Réserves levées le 27/02/2014 | L5: N | N5: Ratio PA acceptés | O5: =IFERROR(O2/(O2+O3),"") -> 1 | P5: =IFERROR(P2/(P2+P3),"") -> 1 | Q5: =IFERROR(Q2/(Q2+Q3),"") -> 1 | R5: =IF(R4=0,"",R2/(R2+R3)) -> 1
A6: =HYPERLINK(CONCATENATE(repetoire,"\",(MID(CELL("nomfichier",$A$1),FIND("]",CELL("nomfichier",$A$1),1)+1,30)),"\","PA",ROW(A6)-1,".pdf"),ROW(A6)-1) -> 5 | B6: Semelle mur M4 | C6: autorisation de bétonnage | D6: =IF(ISBLANK($C6), "", VLOOKUP($C6,PAcomplet,2,FALSE)) -> 2 | E6: 41690 | F6: A | G6: 62 | H6: BGO | I6: BPE | L6: N | N6: Ratio PA refusés | O6: =IFERROR(O3/(O2+O3),"") -> 0 | P6: =IFERROR(P3/(P2+P3),"") -> 0 | Q6: =IFERROR(Q3/(Q2+Q3),"") -> 0 | R6: =IF(R4=0,"",R3/(R2+R3)) -> 0
A7: =HYPERLINK(CONCATENATE(repetoire,"\",(MID(CELL("nomfichier",$A$1),FIND("]",CELL("nomfichier",$A$1),1)+1,30)),"\","PA",ROW(A7)-1,".pdf"),ROW(A7)-1) -> 6 | B7: Piédroit n°1 | C7: autorisation de bétonnage | D7: =IF(ISBLANK($C7), "", VLOOKUP($C7,PAcomplet,2,FALSE)) -> 2 | E7: 41711 | F7: A | G7: 119 | H7: LSP | I7: BPE | L7: N | N7: Ratio PA réalisés | O7: =IFERROR((O2+O3)/O4,"") -> 1 | P7: =IFERROR((P2+P3)/P4,"") -> 0.76923077 | Q7: =IFERROR((Q2+Q3)/Q4,"") -> 0.8 | R7: =IF(R4=0,"",(R2+R3)/R4) -> 1
A8: =HYPERLINK(CONCATENATE(repetoire,"\",(MID(CELL("nomfichier",$A$1),FIND("]",CELL("nomfichier",$A$1),1)+1,30)),"\","PA",ROW(A8)-1,".pdf"),ROW(A8)-1) -> 7 | B8: Piédroit n°2 | C8: autorisation de bétonnage | D8: =IF(ISBLANK($C8), "", VLOOKUP($C8,PAcomplet,2,FALSE)) -> 2 | E8: 41718 | F8: NP | H8: LSP | I8: BPE | L8: N | N8: Dans le mois | O8: =Stat!$C$14 -> 6 | P8: =Stat!$D$14 -> 2014
A9: =HYPERLINK(CONCATENATE(repetoire,"\",(MID(CELL("nomfichier",$A$1),FIND("]",CELL("nomfichier",$A$1),1)+1,30)),"\","PA",ROW(A9)-1,".pdf"),ROW(A9)-1) -> 8 | B9: Traverse sup. | C9: autorisation de bétonnage | D9: =IF(ISBLANK($C9), "", VLOOKUP($C9,PAcomplet,2,FALSE)) -> 2 | E9: 41795 | F9: A | G9: 510 | H9: LSP | I9: BPE | L9: N | O9: PA1 | P9: PA2 | Q9: TOTAL
A10: =HYPERLINK(CONCATENATE(repetoire,"\",(MID(CELL("nomfichier",$A$1),FIND("]",CELL("nomfichier",$A$1),1)+1,30)),"\","PA",ROW(A10)-1,".pdf"),ROW(A10)-1) -> 9 | B10: Traverse sup. | C10: autorisation de bétonnage | D10: =IF(ISBLANK($C10), "", VLOOKUP($C10,PAcomplet,2,FALSE)) -> 2 | E10: 41801 | F10: A | G10: 539 | H10: LSP | I10: BPE | L10: N | N10: Nb PA acceptés | O10: =SUMPRODUCT(($D$2:$D$218=1)*($F$2:$F$218="A")*(MONTH($E$2:$E$218)=$O$8)*(YEAR($E$2:$E$218)=$P$8)) -> 0 | P10: =SUMPRODUCT(($D$2:$D$218=2)*($F$2:$F$218="A")*(MONTH($E$2:$E$218)=$O$8)*(YEAR($E$2:$E$218)=$P$8)) -> 2 | Q10: =O10+P10 -> 2 | R10: =SUMPRODUCT(($D$2:$D$218="pc")*($F$2:$F$218="A")*(MONTH($E$2:$E$218)=$O$8)*(YEAR($E$2:$E$218)=$P$8)) -> 0
A11: =HYPERLINK(CONCATENATE(repetoire,"\",(MID(CELL("nomfichier",$A$1),FIND("]",CELL("nomfichier",$A$1),1)+1,30)),"\","PA",ROW(A11)-1,".pdf"),ROW(A11)-1) -> 10 | B11: Mur M1 | C11: autorisation de bétonnage | D11: =IF(ISBLANK($C11), "", VLOOKUP($C11,PAcomplet,2,FALSE)) -> 2 | E11: 41752 | F11: A | G11: 293 | H11: LSP | I11: BPE | L11: N | N11: Nb PA refusés | O11: =SUMPRODUCT(($D$2:$D$218=1)*($F$2:$F$218="R")*(MONTH($E$2:$E$218)=$O$8)*(YEAR($E$2:$E$218)=$P$8)) -> 0 | P11: =SUMPRODUCT(($D$2:$D$218=2)*($F$2:$F$218="R")*(MONTH($E$2:$E$218)=$O$8)*(YEAR($E$2:$E$218)=$P$8)) -> 0 | Q11: =O11+P11 -> 0 | R11: =SUMPRODUCT(($D$2:$D$218="pc")*($F$2:$F$218="R")*(MONTH($E$2:$E$218)=$O$8)*(YEAR($E$2:$E$218)=$P$8)) -> 0
A12: =HYPERLINK(CONCATENATE(repetoire,"\",(MID(CELL("nomfichier",$A$1),FIND("]",CELL("nomfichier",$A$1),1)+1,30)),"\","PA",ROW(A12)-1,".pdf"),ROW(A12)-1) -> 11 | B12: Mur M2 | C12: point critique | D12: =IF(ISBLANK($C12), "", VLOOKUP($C12,PAcomplet,2,FALSE)) -> PC | E12: 41729 | F12: A | G12: 177 | H12: LSP | I12: BPE | K12: reprendre les recouvrements | L12: N | N12: Nb PA à réaliser | O12: =SUMPRODUCT(($D$2:$D$218=1)*(NOT(ISBLANK($F$2:$F$218)))*(MONTH($E$2:$E$218)=$O$8)*(YEAR($E$2:$E$218)=$P$8)) -> 0 | P12: =SUMPRODUCT(($D$2:$D$218=2)*(NOT(ISBLANK($F$2:$F$218)))*(MONTH($E$2:$E$218)=$O$8)*(YEAR($E$2:$E$218)=$P$8)) -> 4 | Q12: =O12+P12 -> 4 | R12: =SUMPRODUCT(($D$2:$D$218="PC")*(NOT(ISBLANK($F$2:$F$218)))*(MONTH($E$2:$E$218)=$O$8)*(YEAR($E$2:$E$218)=$P$8)) -> 0
A13: =HYPERLINK(CONCATENATE(repetoire,"\",(MID(CELL("nomfichier",$A$1),FIND("]",CELL("nomfichier",$A$1),1)+1,30)),"\","PA",ROW(A13)-1,".pdf"),ROW(A13)-1) -> 12 | B13: Mur M2 | C13: autorisation de bétonnage | D13: =IF(ISBLANK($C13), "", VLOOKUP($C13,PAcomplet,2,FALSE)) -> 2 | E13: 41731 | F13: A | G13: 195 | H13: LSP | I13: BPE | L13: N | N13: Ratio PA acceptés | O13: =IFERROR(O10/($O$10+$O$11),"") | P13: =IFERROR(P10/(P10+P11),"") -> 1 | Q13: =IFERROR(Q10/(Q10+Q11),"") -> 1 | R13: =IFERROR(R10/(R10+R11),"")
A14: =HYPERLINK(CONCATENATE(repetoire,"\",(MID(CELL("nomfichier",$A$1),FIND("]",CELL("nomfichier",$A$1),1)+1,30)),"\","PA",ROW(A14)-1,".pdf"),ROW(A14)-1) -> 13 | B14: Mur M3 | C14: autorisation de bétonnage | D14: =IF(ISBLANK($C14), "", VLOOKUP($C14,PAcomplet,2,FALSE)) -> 2 | E14: 41765 | F14: A | G14: 352 | H14: LSP | I14: BPE | L14: N | N14: Ratio PA refusés | O14: =IFERROR(O11/($O$10+$O$11),"") | P14: =IFERROR(P11/(P10+P11),"") -> 0 | Q14: =IFERROR(Q11/(Q10+Q11),"") -> 0 | R14: =IFERROR(R11/(R10+R11),"")
A15: =HYPERLINK(CONCATENATE(repetoire,"\",(MID(CELL("nomfichier",$A$1),FIND("]",CELL("nomfichier",$A$1),1)+1,30)),"\","PA",ROW(A15)-1,".pdf"),ROW(A15)-1) -> 14 | B15: Mur M4 | C15: point critique | D15: =IF(ISBLANK($C15), "", VLOOKUP($C15,PAcomplet,2,FALSE)) -> PC | E15: 41737 | F15: A | G15: 223 | H15: LSP | I15: BPE | L15: N | N15: Ratio PA réalisés | O15: =IFERROR((O10+O11)/O12,"") | P15: =IFERROR((P10+P11)/P12,"") -> 0.5 | Q15: =IFERROR((Q10+Q11)/Q12,"") -> 0.5 | R15: =IFERROR((R10+R11)/R12,"")
A16: =HYPERLINK(CONCATENATE(repetoire,"\",(MID(CELL("nomfichier",$A$1),FIND("]",CELL("nomfichier",$A$1),1)+1,30)),"\","PA",ROW(A16)-1,".pdf"),ROW(A16)-1) -> 15 | B16: Mur M4 | C16: autorisation de bétonnage | D16: =IF(ISBLANK($C16), "", VLOOKUP($C16,PAcomplet,2,FALSE)) -> 2 | E16: 41739 | F16: A | G16: 230 | H16: LSP | I16: BPE | L16: N
A17: =HYPERLINK(CONCATENATE(repetoire,"\",(MID(CELL("nomfichier",$A$1),FIND("]",CELL("nomfichier",$A$1),1)+1,30)),"\","PA",ROW(A17)-1,".pdf"),ROW(A17)-1) -> 16 | B17: Longrine L1 | C17: autorisation de bétonnage | D17: =IF(ISBLANK($C17), "", VLOOKUP($C17,PAcomplet,2,FALSE)) -> 2 | E17: 41807 | F17: NP | H17: LSP | I17: BPE | N17: Nbre de PA réalisés par | O17: LSP | P17: NLA | Q17: BGO | R17: FAS
A18: =HYPERLINK(CONCATENATE(repetoire,"\",(MID(CELL("nomfichier",$A$1),FIND("]",CELL("nomfichier",$A$1),1)+1,30)),"\","PA",ROW(A18)-1,".pdf"),ROW(A18)-1) -> 17 | B18: Longrine L2 | C18: autorisation de bétonnage | D18: =IF(ISBLANK($C18), "", VLOOKUP($C18,PAcomplet,2,FALSE)) -> 2 | E18: 41806 | F18: NP | H18: LSP | I18: BPE | O18: =COUNTIF($H$2:$H$199,"LSP") -> 12 | P18: =COUNTIF($H$2:$I$199,"NLA") -> 3 | Q18: =COUNTIF($H$2:$J$199,"BGO") -> 2 | R18: =COUNTIF($H$2:$J$199,R17) -> 0
A19: =HYPERLINK(CONCATENATE(repetoire,"\",(MID(CELL("nomfichier",$A$1),FIND("]",CELL("nomfichier",$A$1),1)+1,30)),"\","PA",ROW(A19)-1,".pdf"),ROW(A19)-1) -> 18 | D19: =IF(ISBLANK($C19), "", VLOOKUP($C19,PAcomplet,2,FALSE))
A20: =HYPERLINK(CONCATENATE(repetoire,"\",(MID(CELL("nomfichier",$A$1),FIND("]",CELL("nomfichier",$A$1),1)+1,30)),"\","PA",ROW(A20)-1,".pdf"),ROW(A20)-1) -> 19 | D20: =IF(ISBLANK($C20), "", VLOOKUP($C20,PAcomplet,2,FALSE))
A21: =HYPERLINK(CONCATENATE(repetoire,"\",(MID(CELL("nomfichier",$A$1),FIND("]",CELL("nomfichier",$A$1),1)+1,30)),"\","PA",ROW(A21)-1,".pdf"),ROW(A21)-1) -> 20 | D21: =IF(ISBLANK($C21), "", VLOOKUP($C21,PAcomplet,2,FALSE))
A22: =HYPERLINK(CONCATENATE(repetoire,"\",(MID(CELL("nomfichier",$A$1),FIND("]",CELL("nomfichier",$A$1),1)+1,30)),"\","PA",ROW(A22)-1,".pdf"),ROW(A22)-1) -> 21 | D22: =IF(ISBLANK($C22), "", VLOOKUP($C22,PAcomplet,2,FALSE))
A23: =HYPERLINK(CONCATENATE(repetoire,"\",(MID(CELL("nomfichier",$A$1),FIND("]",CELL("nomfichier",$A$1),1)+1,30)),"\","PA",ROW(A23)-1,".pdf"),ROW(A23)-1) -> 22 | D23: =IF(ISBLANK($C23), "", VLOOKUP($C23,PAcomplet,2,FALSE))
A24: =HYPERLINK(CONCATENATE(repetoire,"\",(MID(CELL("nomfichier",$A$1),FIND("]",CELL("nomfichier",$A$1),1)+1,30)),"\","PA",ROW(A24)-1,".pdf"),ROW(A24)-1) -> 23 | D24: =IF(ISBLANK($C24), "", VLOOKUP($C24,PAcomplet,2,FALSE))
A25: =HYPERLINK(CONCATENATE(repetoire,"\",(MID(CELL("nomfichier",$A$1),FIND("]",CELL("nomfichier",$A$1),1)+1,30)),"\","PA",ROW(A25)-1,".pdf"),ROW(A25)-1) -> 24 | D25: =IF(ISBLANK($C25), "", VLOOKUP($C25,PAcomplet,2,FALSE))
A26: =HYPERLINK(CONCATENATE(repetoire,"\",(MID(CELL("nomfichier",$A$1),FIND("]",CELL("nomfichier",$A$1),1)+1,30)),"\","PA",ROW(A26)-1,".pdf"),ROW(A26)-1) -> 25 | D26: =IF(ISBLANK($C26), "", VLOOKUP($C26,PAcomplet,2,FALSE))
A27: =HYPERLINK(CONCATENATE(repetoire,"\",(MID(CELL("nomfichier",$A$1),FIND("]",CELL("nomfichier",$A$1),1)+1,30)),"\","PA",ROW(A27)-1,".pdf"),ROW(A27)-1) -> 26 | D27: =IF(ISBLANK($C27), "", VLOOKUP($C27,PAcomplet,2,FALSE))
A28: =HYPERLINK(CONCATENATE(repetoire,"\",(MID(CELL("nomfichier",$A$1),FIND("]",CELL("nomfichier",$A$1),1)+1,30)),"\","PA",ROW(A28)-1,".pdf"),ROW(A28)-1) -> 27 | D28: =IF(ISBLANK($C28), "", VLOOKUP($C28,PAcomplet,2,FALSE))
A29: =HYPERLINK(CONCATENATE(repetoire,"\",(MID(CELL("nomfichier",$A$1),FIND("]",CELL("nomfichier",$A$1),1)+1,30)),"\","PA",ROW(A29)-1,".pdf"),ROW(A29)-1) -> 28 | D29: =IF(ISBLANK($C29), "", VLOOKUP($C29,PAcomplet,2,FALSE))
A30: =HYPERLINK(CONCATENATE(repetoire,"\",(MID(CELL("nomfichier",$A$1),FIND("]",CELL("nomfichier",$A$1),1)+1,30)),"\","PA",ROW(A30)-1,".pdf"),ROW(A30)-1) -> 29 | D30: =IF(ISBLANK($C30), "", VLOOKUP($C30,PAcomplet,2,FALSE))
... A199: =HYPERLINK(CONCATENATE(repetoire,"\",(MID(CELL("nomfichier",$A$1),FIND("]",CELL("nomfichier",$A$1),1)+1,30)),"\","PA",ROW(A199)-1,".pdf"),ROW(A199)-1) -> 198 | D199: =IF(ISBLANK($C199), "", VLOOKUP($C199,PAcomplet,2,FALSE))

Sheet TCouverte
A1: Numéro point d'arrêt | B1: Partie d'ouvrage | C1: PA | D1: Type PA | E1: Date | F1: Accepté A ou réfusé R | G1: Numéro du Rapport de surveillance | H1: Responsable du PA | I1: Statut des doc d'exe | J1: Réserves | K1: Observations | L1: Point d'arrêt scanné | O1: PA1 | P1: PA2 | Q1: TOTAL | R1: PC
A2: =HYPERLINK(CONCATENATE(repetoire,"\",(MID(CELL("nomfichier",$A$1),FIND("]",CELL("nomfichier",$A$1),1)+1,30)),"\","PA",ROW(A2)-1,".pdf"),ROW(A2)-1) -> 1 | B2: Galerie Sud | C2: implantation | D2: =IF(ISBLANK($C2), "", VLOOKUP($C2,PAcomplet,2,FALSE)) -> 1 | E2: 41730 | F2: A | H2: NLA | I2: BPE | L2: N | N2: Nb PA acceptés | O2: =SUMPRODUCT(($D$2:$D$220=1)*($F$2:$F$220="A")) -> 4 | P2: =SUMPRODUCT(($D$2:$D$220=2)*($F$2:$F$220="A")) -> 38 | Q2: =O2+P2 -> 42 | R2: =SUMPRODUCT(($D$2:$D$220="PC")*($F$2:$F$220="A")) -> 19
A3: =HYPERLINK(CONCATENATE(repetoire,"\",(MID(CELL("nomfichier",$A$1),FIND("]",CELL("nomfichier",$A$1),1)+1,30)),"\","PA",ROW(A3)-1,".pdf"),ROW(A3)-1) -> 2 | B3: Radier Sud - V1 - 31/34 | C3: autorisation de bétonnage | D3: =IF(ISBLANK($C3), "", VLOOKUP($C3,PAcomplet,2,FALSE)) -> 2 | E3: 41744 | F3: A | G3: 264 | H3: NLA | I3: BPE | L3: N | N3: Nb PA refusés | O3: =SUMPRODUCT(($D$2:$D$220=1)*($F$2:$F$220="R")) -> 0 | P3: =SUMPRODUCT(($D$2:$D$220=2)*($F$2:$F$220="R")) -> 0 | Q3: =O3+P3 -> 0 | R3: =SUMPRODUCT(($D$2:$D$220="PC")*($F$2:$F$220="R")) -> 0
A4: =HYPERLINK(CONCATENATE(repetoire,"\",(MID(CELL("nomfichier",$A$1),FIND("]",CELL("nomfichier",$A$1),1)+1,30)),"\","PA",ROW(A4)-1,".pdf"),ROW(A4)-1) -> 3 | B4: Radier Sud - V1 - 34/37 | C4: autorisation de bétonnage | D4: =IF(ISBLANK($C4), "", VLOOKUP($C4,PAcomplet,2,FALSE)) -> 2 | E4: 41752 | F4: A | G4: 294 | H4: NLA | I4: BPE | L4: N | N4: Nb PA à réaliser | O4: =SUMPRODUCT(($D$2:$D$220=1)*(NOT(ISBLANK($F$2:$F$220)))) -> 4 | P4: =SUMPRODUCT(($D$2:$D$220=2)*(NOT(ISBLANK($F$2:$F$220)))) -> 42 | Q4: =O4+P4 -> 46 | R4: =SUMPRODUCT(($D$2:$D$220="pc")*(NOT(ISBLANK($F$2:$F$220)))) -> 19
A5: =HYPERLINK(CONCATENATE(repetoire,"\",(MID(CELL("nomfichier",$A$1),FIND("]",CELL("nomfichier",$A$1),1)+1,30)),"\","PA",ROW(A5)-1,".pdf"),ROW(A5)-1) -> 4 | B5: Sud Vint - V1 - 31/33 | C5: autorisation de bétonnage | D5: =IF(ISBLANK($C5), "", VLOOKUP($C5,PAcomplet,2,FALSE)) -> 2 | E5: 41753 | F5: A | G5: 301 | H5: NLA | I5: BPE | L5: N | N5: Ratio PA acceptés | O5: =IFERROR(O2/(O2+O3),"") -> 1 | P5: =IFERROR(P2/(P2+P3),"") -> 1 | Q5: =IFERROR(Q2/(Q2+Q3),"") -> 1 | R5: =IF(R4=0,"",R2/(R2+R3)) -> 1
A6: =HYPERLINK(CONCATENATE(repetoire,"\",(MID(CELL("nomfichier",$A$1),FIND("]",CELL("nomfichier",$A$1),1)+1,30)),"\","PA",ROW(A6)-1,".pdf"),ROW(A6)-1) -> 5 | B6: Sud Vint - V1 - 33/35 | C6: autorisation de bétonnage | D6: =IF(ISBLANK($C6), "", VLOOKUP($C6,PAcomplet,2,FALSE)) -> 2 | E6: 41758 | F6: A | G6: 330 | H6: NLA | I6: BPE | L6: N | N6: Ratio PA refusés | O6: =IFERROR(O3/(O2+O3),"") -> 0 | P6: =IFERROR(P3/(P2+P3),"") -> 0 | Q6: =IFERROR(Q3/(Q2+Q3),"") -> 0 | R6: =IF(R4=0,"",R3/(R2+R3)) -> 0
A7: =HYPERLINK(CONCATENATE(repetoire,"\",(MID(CELL("nomfichier",$A$1),FIND("]",CELL("nomfichier",$A$1),1)+1,30)),"\","PA",ROW(A7)-1,".pdf"),ROW(A7)-1) -> 6 | B7: Sud Vext - V1 - 31/33 | C7: autorisation de bétonnage | D7: =IF(ISBLANK($C7), "", VLOOKUP($C7,PAcomplet,2,FALSE)) -> 2 | E7: 41758 | F7: A | G7: 331 | H7: NLA | I7: BPE | L7: N | N7: Ratio PA réalisés | O7: =IFERROR((O2+O3)/O4,"") -> 1 | P7: =IFERROR((P2+P3)/P4,"") -> 0.9047619 | Q7: =IFERROR((Q2+Q3)/Q4,"") -> 0.91304348 | R7: =IF(R4=0,"",(R2+R3)/R4) -> 1
A8: =HYPERLINK(CONCATENATE(repetoire,"\",(MID(CELL("nomfichier",$A$1),FIND("]",CELL("nomfichier",$A$1),1)+1,30)),"\","PA",ROW(A8)-1,".pdf"),ROW(A8)-1) -> 7 | B8: Radier Sud - V2 - 41/44 | C8: autorisation de bétonnage | D8: =IF(ISBLANK($C8), "", VLOOKUP($C8,PAcomplet,2,FALSE)) -> 2 | E8: 41758 | F8: A | G8: 332 | H8: NLA | I8: BPE | L8: N | N8: Dans le mois | O8: =Stat!$C$14 -> 6 | P8: =Stat!$D$14 -> 2014
A9: =HYPERLINK(CONCATENATE(repetoire,"\",(MID(CELL("nomfichier",$A$1),FIND("]",CELL("nomfichier",$A$1),1)+1,30)),"\","PA",ROW(A9)-1,".pdf"),ROW(A9)-1) -> 8 | B9: Galerie Nord | C9: implantation | D9: =IF(ISBLANK($C9), "", VLOOKUP($C9,PAcomplet,2,FALSE)) -> 1 | E9: 41758 | F9: A | H9: NLA | I9: BPE | L9: N | O9: PA1 | P9: PA2 | Q9: TOTAL
A10: =HYPERLINK(CONCATENATE(repetoire,"\",(MID(CELL("nomfichier",$A$1),FIND("]",CELL("nomfichier",$A$1),1)+1,30)),"\","PA",ROW(A10)-1,".pdf"),ROW(A10)-1) -> 9 | B10: Sud Vext - V1 33/35 | C10: point critique | D10: =IF(ISBLANK($C10), "", VLOOKUP($C10,PAcomplet,2,FALSE)) -> PC | E10: 41765 | F10: A | G10: 356 | H10: NLA | I10: BPE | L10: N | N10: Nb PA acceptés | O10: =SUMPRODUCT(($D$2:$D$220=1)*($F$2:$F$220="A")*(MONTH($E$2:$E$220)=$O$8)*(YEAR($E$2:$E$220)=$P$8)) -> 0 | P10: =SUMPRODUCT(($D$2:$D$220=2)*($F$2:$F$220="A")*(MONTH($E$2:$E$220)=$O$8)*(YEAR($E$2:$E$220)=$P$8)) -> 18 | Q10: =O10+P10 -> 18 | R10: =SUMPRODUCT(($D$2:$D$220="pc")*($F$2:$F$220="A")*(MONTH($E$2:$E$220)=$O$8)*(YEAR($E$2:$E$220)=$P$8)) -> 7
A11: =HYPERLINK(CONCATENATE(repetoire,"\",(MID(CELL("nomfichier",$A$1),FIND("]",CELL("nomfichier",$A$1),1)+1,30)),"\","PA",ROW(A11)-1,".pdf"),ROW(A11)-1) -> 10 | B11: Sud Vint - V2 41/44 | C11: point critique | D11: =IF(ISBLANK($C11), "", VLOOKUP($C11,PAcomplet,2,FALSE)) -> PC | E11: 41765 | F11: A | G11: 357 | H11: NLA | I11: BPE | L11: N | N11: Nb PA refusés | O11: =SUMPRODUCT(($D$2:$D$220=1)*($F$2:$F$220="R")*(MONTH($E$2:$E$220)=$O$8)*(YEAR($E$2:$E$220)=$P$8)) -> 0 | P11: =SUMPRODUCT(($D$2:$D$220=2)*($F$2:$F$220="R")*(MONTH($E$2:$E$220)=$O$8)*(YEAR($E$2:$E$220)=$P$8)) -> 0 | Q11: =O11+P11 -> 0 | R11: =SUMPRODUCT(($D$2:$D$220="pc")*($F$2:$F$220="R")*(MONTH($E$2:$E$220)=$O$8)*(YEAR($E$2:$E$220)=$P$8)) -> 0
A12: =HYPERLINK(CONCATENATE(repetoire,"\",(MID(CELL("nomfichier",$A$1),FIND("]",CELL("nomfichier",$A$1),1)+1,30)),"\","PA",ROW(A12)-1,".pdf"),ROW(A12)-1) -> 11 | B12: Radier Sud - V2 44 à 46 | C12: point critique | D12: =IF(ISBLANK($C12), "", VLOOKUP($C12,PAcomplet,2,FALSE)) -> PC | E12: 41765 | F12: A | G12: 358 | H12: NLA | I12: BPE | L12: N | N12: Nb PA à réaliser | O12: =SUMPRODUCT(($D$2:$D$220=1)*(NOT(ISBLANK($F$2:$F$220)))*(MONTH($E$2:$E$220)=$O$8)*(YEAR($E$2:$E$220)=$P$8)) -> 0 | P12: =SUMPRODUCT(($D$2:$D$220=2)*(NOT(ISBLANK($F$2:$F$220)))*(MONTH($E$2:$E$220)=$O$8)*(YEAR($E$2:$E$220)=$P$8)) -> 20 | Q12: =O12+P12 -> 20 | R12: =SUMPRODUCT(($D$2:$D$220="PC")*(NOT(ISBLANK($F$2:$F$220)))*(MONTH($E$2:$E$220)=$O$8)*(YEAR($E$2:$E$220)=$P$8)) -> 7
A13: =HYPERLINK(CONCATENATE(repetoire,"\",(MID(CELL("nomfichier",$A$1),FIND("]",CELL("nomfichier",$A$1),1)+1,30)),"\","PA",ROW(A13)-1,".pdf"),ROW(A13)-1) -> 12 | B13: Sud Vext - V1 33/35 | C13: autorisation de bétonnage | D13: =IF(ISBLANK($C13), "", VLOOKUP($C13,PAcomplet,2,FALSE)) -> 2 | E13: 41766 | F13: A | G13: 359 | H13: NLA | I13: BPE | L13: N | N13: Ratio PA acceptés | O13: =IFERROR(O10/($O$10+$O$11),"") | P13: =IFERROR(P10/(P10+P11),"") -> 1 | Q13: =IFERROR(Q10/(Q10+Q11),"") -> 1 | R13: =IFERROR(R10/(R10+R11),"") -> 1
A14: =HYPERLINK(CONCATENATE(repetoire,"\",(MID(CELL("nomfichier",$A$1),FIND("]",CELL("nomfichier",$A$1),1)+1,30)),"\","PA",ROW(A14)-1,".pdf"),ROW(A14)-1) -> 13 | B14: Sud Vint - V2 41/44 | C14: autorisation de bétonnage | D14: =IF(ISBLANK($C14), "", VLOOKUP($C14,PAcomplet,2,FALSE)) -> 2 | E14: 41766 | F14: A | G14: 360 | H14: NLA | I14: BPE | L14: N | N14: Ratio PA refusés | O14: =IFERROR(O11/($O$10+$O$11),"") | P14: =IFERROR(P11/(P10+P11),"") -> 0 | Q14: =IFERROR(Q11/(Q10+Q11),"") -> 0 | R14: =IFERROR(R11/(R10+R11),"") -> 0
A15: =HYPERLINK(CONCATENATE(repetoire,"\",(MID(CELL("nomfichier",$A$1),FIND("]",CELL("nomfichier",$A$1),1)+1,30)),"\","PA",ROW(A15)-1,".pdf"),ROW(A15)-1) -> 14 | B15: Radier Sud - V2 44 à 46 | C15: autorisation de bétonnage | D15: =IF(ISBLANK($C15), "", VLOOKUP($C15,PAcomplet,2,FALSE)) -> 2 | E15: 41766 | F15: A | G15: 361 | H15: NLA | I15: BPE | L15: N | N15: Ratio PA réalisés | O15: =IFERROR((O10+O11)/O12,"") | P15: =IFERROR((P10+P11)/P12,"") -> 0.9 | Q15: =IFERROR((Q10+Q11)/Q12,"") -> 0.9 | R15: =IFERROR((R10+R11)/R12,"") -> 1
A16: =HYPERLINK(CONCATENATE(repetoire,"\",(MID(CELL("nomfichier",$A$1),FIND("]",CELL("nomfichier",$A$1),1)+1,30)),"\","PA",ROW(A16)-1,".pdf"),ROW(A16)-1) -> 15 | B16: Murette guide n°--- à n°--- | C16: implantation | D16: =IF(ISBLANK($C16), "", VLOOKUP($C16,PAcomplet,2,FALSE)) -> 1 | E16: 41766 | F16: A | H16: NLA | I16: BPE | L16: N
A17: =HYPERLINK(CONCATENATE(repetoire,"\",(MID(CELL("nomfichier",$A$1),FIND("]",CELL("nomfichier",$A$1),1)+1,30)),"\","PA",ROW(A17)-1,".pdf"),ROW(A17)-1) -> 16 | B17: Sud Vint - V2 - 44/46 | C17: point critique | D17: =IF(ISBLANK($C17), "", VLOOKUP($C17,PAcomplet,2,FALSE)) -> PC | E17: 41772 | F17: A | G17: 394 | H17: NLA | I17: BPE | L17: N | N17: Nbre de PA réalisés par | O17: LSP | P17: NLA | Q17: BGO | R17: FAS
A18: =HYPERLINK(CONCATENATE(repetoire,"\",(MID(CELL("nomfichier",$A$1),FIND("]",CELL("nomfichier",$A$1),1)+1,30)),"\","PA",ROW(A18)-1,".pdf"),ROW(A18)-1) -> 17 | B18: Sud Vint - V2 - 44/46 | C18: autorisation de bétonnage | D18: =IF(ISBLANK($C18), "", VLOOKUP($C18,PAcomplet,2,FALSE)) -> 2 | E18: 41773 | F18: A | G18: 395 | H18: NLA | I18: BPE | L18: N | O18: =COUNTIF($H$2:$H$201,"LSP") -> 0 | P18: =COUNTIF($H$2:$I$201,"NLA") -> 48 | Q18: =COUNTIF($H$2:$J$201,"BGO") -> 15 | R18: =COUNTIF($H$2:$J$201,R17) -> 1
A19: =HYPERLINK(CONCATENATE(repetoire,"\",(MID(CELL("nomfichier",$A$1),FIND("]",CELL("nomfichier",$A$1),1)+1,30)),"\","PA",ROW(A19)-1,".pdf"),ROW(A19)-1) -> 18 | B19: Sud Vint - V1- 35/37 | C19: point critique | D19: =IF(ISBLANK($C19), "", VLOOKUP($C19,PAcomplet,2,FALSE)) -> PC | E19: 41772 | F19: A | G19: 396 | H19: NLA | I19: BPE | L19: N
A20: =HYPERLINK(CONCATENATE(repetoire,"\",(MID(CELL("nomfichier",$A$1),FIND("]",CELL("nomfichier",$A$1),1)+1,30)),"\","PA",ROW(A20)-1,".pdf"),ROW(A20)-1) -> 19 | B20: Sud Vint - V1- 35/37 | C20: autorisation de bétonnage | D20: =IF(ISBLANK($C20), "", VLOOKUP($C20,PAcomplet,2,FALSE)) -> 2 | E20: 41773 | F20: A | G20: 397 | H20: NLA | I20: BPE | L20: N
A21: =HYPERLINK(CONCATENATE(repetoire,"\",(MID(CELL("nomfichier",$A$1),FIND("]",CELL("nomfichier",$A$1),1)+1,30)),"\","PA",ROW(A21)-1,".pdf"),ROW(A21)-1) -> 20 | B21: Sud Vext - V1- 35/37 | C21: point critique | D21: =IF(ISBLANK($C21), "", VLOOKUP($C21,PAcomplet,2,FALSE)) -> PC | E21: 41772 | F21: A | G21: 398 | H21: NLA | I21: BPE | L21: N
A22: =HYPERLINK(CONCATENATE(repetoire,"\",(MID(CELL("nomfichier",$A$1),FIND("]",CELL("nomfichier",$A$1),1)+1,30)),"\","PA",ROW(A22)-1,".pdf"),ROW(A22)-1) -> 21 | B22: Sud Vext - V1- 35/37 | C22: autorisation de bétonnage | D22: =IF(ISBLANK($C22), "", VLOOKUP($C22,PAcomplet,2,FALSE)) -> 2 | E22: 41773 | F22: A | G22: 399 | H22: NLA | I22: BPE | L22: N
A23: =HYPERLINK(CONCATENATE(repetoire,"\",(MID(CELL("nomfichier",$A$1),FIND("]",CELL("nomfichier",$A$1),1)+1,30)),"\","PA",ROW(A23)-1,".pdf"),ROW(A23)-1) -> 22 | B23: Sud Vext - V2- 41/44 | C23: point critique | D23: =IF(ISBLANK($C23), "", VLOOKUP($C23,PAcomplet,2,FALSE)) -> PC | E23: 41773 | F23: A | G23: 400 | H23: NLA | I23: BPE | L23: N
A24: =HYPERLINK(CONCATENATE(repetoire,"\",(MID(CELL("nomfichier",$A$1),FIND("]",CELL("nomfichier",$A$1),1)+1,30)),"\","PA",ROW(A24)-1,".pdf"),ROW(A24)-1) -> 23 | B24: Sud Vext - V2- 41/44 | C24: autorisation de bétonnage | D24: =IF(ISBLANK($C24), "", VLOOKUP($C24,PAcomplet,2,FALSE)) -> 2 | E24: 41774 | F24: A | G24: 401 | H24: NLA | I24: BPE | L24: N
A25: =HYPERLINK(CONCATENATE(repetoire,"\",(MID(CELL("nomfichier",$A$1),FIND("]",CELL("nomfichier",$A$1),1)+1,30)),"\","PA",ROW(A25)-1,".pdf"),ROW(A25)-1) -> 24 | B25: Radier Sud - V1 - 37/38 | C25: autorisation de bétonnage | D25: =IF(ISBLANK($C25), "", VLOOKUP($C25,PAcomplet,2,FALSE)) -> 2 | E25: 41773 | F25: A | G25: 402 | H25: NLA | I25: BPE | L25: N
A26: =HYPERLINK(CONCATENATE(repetoire,"\",(MID(CELL("nomfichier",$A$1),FIND("]",CELL("nomfichier",$A$1),1)+1,30)),"\","PA",ROW(A26)-1,".pdf"),ROW(A26)-1) -> 25 | B26: Radier Sud - V2 - 46/49 | C26: autorisation de bétonnage | D26: =IF(ISBLANK($C26), "", VLOOKUP($C26,PAcomplet,2,FALSE)) -> 2 | E26: 41774 | F26: NP | I26: BPE | L26: N
A27: =HYPERLINK(CONCATENATE(repetoire,"\",(MID(CELL("nomfichier",$A$1),FIND("]",CELL("nomfichier",$A$1),1)+1,30)),"\","PA",ROW(A27)-1,".pdf"),ROW(A27)-1) -> 26 | B27: Radier Nord - V2 - 19/21 | C27: autorisation de bétonnage | D27: =IF(ISBLANK($C27), "", VLOOKUP($C27,PAcomplet,2,FALSE)) -> 2 | E27: 41774 | F27: A | G27: 403 | H27: NLA | I27: BPE | L27: N
A28: =HYPERLINK(CONCATENATE(repetoire,"\",(MID(CELL("nomfichier",$A$1),FIND("]",CELL("nomfichier",$A$1),1)+1,30)),"\","PA",ROW(A28)-1,".pdf"),ROW(A28)-1) -> 27 | B28: PNIV2 - 146 | C28: contrôle ferraillage pieu | D28: =IF(ISBLANK($C28), "", VLOOKUP($C28,PAcomplet,2,FALSE)) -> 2 | E28: 41773 | F28: A | G28: 404 | H28: NLA | I28: BPE | L28: N
A29: =HYPERLINK(CONCATENATE(repetoire,"\",(MID(CELL("nomfichier",$A$1),FIND("]",CELL("nomfichier",$A$1),1)+1,30)),"\","PA",ROW(A29)-1,".pdf"),ROW(A29)-1) -> 28 | B29: Murette guide n°--- à n°--- | C29: implantation | D29: =IF(ISBLANK($C29), "", VLOOKUP($C29,PAcomplet,2,FALSE)) -> 1 | E29: 41773 | F29: A | H29: NLA | I29: BPE | L29: N
A30: =HYPERLINK(CONCATENATE(repetoire,"\",(MID(CELL("nomfichier",$A$1),FIND("]",CELL("nomfichier",$A$1),1)+1,30)),"\","PA",ROW(A30)-1,".pdf"),ROW(A30)-1) -> 29 | B30: Sud Vext V2 44/46 | C30: autorisation de bétonnage | D30: =IF(ISBLANK($C30), "", VLOOKUP($C30,PAcomplet,2,FALSE)) -> 2 | E30: 41779 | F30: A | G30: 413 | H30: BGO | I30: BPE | L30: N
A31: =HYPERLINK(CONCATENATE(repetoire,"\",(MID(CELL("nomfichier",$A$1),FIND("]",CELL("nomfichier",$A$1),1)+1,30)),"\","PA",ROW(A31)-1,".pdf"),ROW(A31)-1) -> 30 | B31: Sud Vint V2 46/49 | C31: point critique | D31: =IF(ISBLANK($C31), "", VLOOKUP($C31,PAcomplet,2,FALSE)) -> PC | E31: 41779 | F31: A | G31: 413 | H31: BGO | I31: BPE | L31: N
A32: =HYPERLINK(CONCATENATE(repetoire,"\",(MID(CELL("nomfichier",$A$1),FIND("]",CELL("nomfichier",$A$1),1)+1,30)),"\","PA",ROW(A32)-1,".pdf"),ROW(A32)-1) -> 31 | B32: Nord Vint V1 5/10 | C32: point critique | D32: =IF(ISBLANK($C32), "", VLOOKUP($C32,PAcomplet,2,FALSE)) -> PC | E32: 41781 | F32: A | G32: 499 | H32: BGO | I32: BPE | L32: N
A33: =HYPERLINK(CONCATENATE(repetoire,"\",(MID(CELL("nomfichier",$A$1),FIND("]",CELL("nomfichier",$A$1),1)+1,30)),"\","PA",ROW(A33)-1,".pdf"),ROW(A33)-1) -> 32 | B33: Sud Vext V2 46/49 | C33: autorisation de bétonnage | D33: =IF(ISBLANK($C33), "", VLOOKUP($C33,PAcomplet,2,FALSE)) -> 2 | E33: 41781 | F33: A | G33: 499 | H33: BGO | I33: BPE | L33: N
A34: =HYPERLINK(CONCATENATE(repetoire,"\",(MID(CELL("nomfichier",$A$1),FIND("]",CELL("nomfichier",$A$1),1)+1,30)),"\","PA",ROW(A34)-1,".pdf"),ROW(A34)-1) -> 33 | B34: Nord Vint V1 5/7 | C34: autorisation de bétonnage | D34: =IF(ISBLANK($C34), "", VLOOKUP($C34,PAcomplet,2,FALSE)) -> 2 | E34: 41780 | F34: A | G34: 420 | H34: BGO | I34: BPE | L34: N
A35: =HYPERLINK(CONCATENATE(repetoire,"\",(MID(CELL("nomfichier",$A$1),FIND("]",CELL("nomfichier",$A$1),1)+1,30)),"\","PA",ROW(A35)-1,".pdf"),ROW(A35)-1) -> 34 | B35: Nord Radier V2 19/17 | C35: autorisation de bétonnage | D35: =IF(ISBLANK($C35), "", VLOOKUP($C35,PAcomplet,2,FALSE)) -> 2 | E35: 41780 | F35: A | G35: 420 | H35: BGO | I35: BPE | L35: N
A36: =HYPERLINK(CONCATENATE(repetoire,"\",(MID(CELL("nomfichier",$A$1),FIND("]",CELL("nomfichier",$A$1),1)+1,30)),"\","PA",ROW(A36)-1,".pdf"),ROW(A36)-1) -> 35 | B36: Radier Nord - V1 - 3/5 | C36: point critique | D36: =IF(ISBLANK($C36), "", VLOOKUP($C36,PAcomplet,2,FALSE)) -> PC | E36: 41786 | F36: A | G36: 500 | H36: BGO | I36: BPE | L36: N
A37: =HYPERLINK(CONCATENATE(repetoire,"\",(MID(CELL("nomfichier",$A$1),FIND("]",CELL("nomfichier",$A$1),1)+1,30)),"\","PA",ROW(A37)-1,".pdf"),ROW(A37)-1) -> 36 | B37: Radier Nord - V1 - 3/1 | C37: point critique | D37: =IF(ISBLANK($C37), "", VLOOKUP($C37,PAcomplet,2,FALSE)) -> PC | E37: 41786 | F37: A | G37: 500 | H37: BGO | I37: BPE | L37: N
A38: =HYPERLINK(CONCATENATE(repetoire,"\",(MID(CELL("nomfichier",$A$1),FIND("]",CELL("nomfichier",$A$1),1)+1,30)),"\","PA",ROW(A38)-1,".pdf"),ROW(A38)-1) -> 37 | B38: Radier Nord - V2 - 15/13 | C38: point critique | D38: =IF(ISBLANK($C38), "", VLOOKUP($C38,PAcomplet,2,FALSE)) -> PC | E38: 41786 | F38: A | G38: 500 | H38: BGO | I38: BPE | L38: N
A39: =HYPERLINK(CONCATENATE(repetoire,"\",(MID(CELL("nomfichier",$A$1),FIND("]",CELL("nomfichier",$A$1),1)+1,30)),"\","PA",ROW(A39)-1,".pdf"),ROW(A39)-1) -> 38 | B39: Nord Vint V1 7/10 | C39: autorisation de bétonnage | D39: =IF(ISBLANK($C39), "", VLOOKUP($C39,PAcomplet,2,FALSE)) -> 2 | E39: 41786 | F39: NP | H39: BGO | I39: BPE | L39: N
A40: =HYPERLINK(CONCATENATE(repetoire,"\",(MID(CELL("nomfichier",$A$1),FIND("]",CELL("nomfichier",$A$1),1)+1,30)),"\","PA",ROW(A40)-1,".pdf"),ROW(A40)-1) -> 39 | B40: Nord Vint V1 5/7 | C40: autorisation de bétonnage | D40: =IF(ISBLANK($C40), "", VLOOKUP($C40,PAcomplet,2,FALSE)) -> 2 | E40: 41792 | F40: A | G40: 501 | H40: BGO | I40: BPE | L40: N
...

Sheet 385-SC-0
A1: Numéro point d'arrêt | B1: Partie d'ouvrage | C1: PA | D1: Type PA | E1: Date | F1: Accepté A ou réfusé R | G1: Numéro du Rapport de surveillance | H1: Responsable du PA | I1: Statut des doc d'exe | J1: Réserves | K1: Observations | L1: Point d'arrêt scanné | O1: PA1 | P1: PA2 | Q1: TOTAL | R1: PC
A2: =HYPERLINK(CONCATENATE(repetoire,"\",(MID(CELL("nomfichier",$A$1),FIND("]",CELL("nomfichier",$A$1),1)+1,30)),"\","PA",ROW(A2)-1,".pdf"),ROW(A2)-1) -> 1 | B2: ouvrage | C2: réception fond de fouille | D2: =IF(ISBLANK($C2), "", VLOOKUP($C2,PAcomplet,2,FALSE)) -> 1 | E2: 41775 | F2: A | G2: 570 | H2: LSP | I2: BPE | K2: Absence de note géotech. niveau G3 | L2: N | N2: Nb PA acceptés | O2: =SUMPRODUCT(($D$2:$D$219=1)*($F$2:$F$219="A")) -> 1 | P2: =SUMPRODUCT(($D$2:$D$219=2)*($F$2:$F$219="A")) -> 1 | Q2: =O2+P2 -> 2 | R2: =SUMPRODUCT(($D$2:$D$219="PC")*($F$2:$F$219="A")) -> 0
A3: =HYPERLINK(CONCATENATE(repetoire,"\",(MID(CELL("nomfichier",$A$1),FIND("]",CELL("nomfichier",$A$1),1)+1,30)),"\","PA",ROW(A3)-1,".pdf"),ROW(A3)-1) -> 2 | B3: Semelle Nîmes | C3: autorisation de bétonnage | D3: =IF(ISBLANK($C3), "", VLOOKUP($C3,PAcomplet,2,FALSE)) -> 2 | E3: 41814 | F3: A | G3: 569 | H3: LSP | I3: BPE | L3: n | N3: Nb PA refusés | O3: =SUMPRODUCT(($D$2:$D$219=1)*($F$2:$F$219="R")) -> 0 | P3: =SUMPRODUCT(($D$2:$D$219=2)*($F$2:$F$219="R")) -> 0 | Q3: =O3+P3 -> 0 | R3: =SUMPRODUCT(($D$2:$D$219="PC")*($F$2:$F$219="R")) -> 0
A4: =HYPERLINK(CONCATENATE(repetoire,"\",(MID(CELL("nomfichier",$A$1),FIND("]",CELL("nomfichier",$A$1),1)+1,30)),"\","PA",ROW(A4)-1,".pdf"),ROW(A4)-1) -> 3 | B4: Semelle Montp | C4: autorisation de bétonnage | D4: =IF(ISBLANK($C4), "", VLOOKUP($C4,PAcomplet,2,FALSE)) -> 2 | E4: 41815 | F4: np | H4: LSP | I4: BPE | L4: n | N4: Nb PA à réaliser | O4: =SUMPRODUCT(($D$2:$D$219=1)*(NOT(ISBLANK($F$2:$F$219)))) -> 1 | P4: =SUMPRODUCT(($D$2:$D$219=2)*(NOT(ISBLANK($F$2:$F$219)))) -> 2 | Q4: =O4+P4 -> 3 | R4: =SUMPRODUCT(($D$2:$D$219="pc")*(NOT(ISBLANK($F$2:$F$219)))) -> 0
A5: =HYPERLINK(CONCATENATE(repetoire,"\",(MID(CELL("nomfichier",$A$1),FIND("]",CELL("nomfichier",$A$1),1)+1,30)),"\","PA",ROW(A5)-1,".pdf"),ROW(A5)-1) -> 4 | B5: Piédroit Nîmes | D5: =IF(ISBLANK($C5), "", VLOOKUP($C5,PAcomplet,2,FALSE)) | N5: Ratio PA acceptés | O5: =IFERROR(O2/(O2+O3),"") -> 1 | P5: =IFERROR(P2/(P2+P3),"") -> 1 | Q5: =IFERROR(Q2/(Q2+Q3),"") -> 1 | R5: =IF(R4=0,"",R2/(R2+R3))
A6: =HYPERLINK(CONCATENATE(repetoire,"\",(MID(CELL("nomfichier",$A$1),FIND("]",CELL("nomfichier",$A$1),1)+1,30)),"\","PA",ROW(A6)-1,".pdf"),ROW(A6)-1) -> 5 | B6: Piédroit Montp | D6: =IF(ISBLANK($C6), "", VLOOKUP($C6,PAcomplet,2,FALSE)) | N6: Ratio PA refusés | O6: =IFERROR(O3/(O2+O3),"") -> 0 | P6: =IFERROR(P3/(P2+P3),"") -> 0 | Q6: =IFERROR(Q3/(Q2+Q3),"") -> 0 | R6: =IF(R4=0,"",R3/(R2+R3))
A7: =HYPERLINK(CONCATENATE(repetoire,"\",(MID(CELL("nomfichier",$A$1),FIND("]",CELL("nomfichier",$A$1),1)+1,30)),"\","PA",ROW(A7)-1,".pdf"),ROW(A7)-1) -> 6 | B7: Traverse | D7: =IF(ISBLANK($C7), "", VLOOKUP($C7,PAcomplet,2,FALSE)) | N7: Ratio PA réalisés | O7: =IFERROR((O2+O3)/O4,"") -> 1 | P7: =IFERROR((P2+P3)/P4,"") -> 0.5 | Q7: =IFERROR((Q2+Q3)/Q4,"") -> 0.66666667 | R7: =IF(R4=0,"",(R2+R3)/R4)
A8: =HYPERLINK(CONCATENATE(repetoire,"\",(MID(CELL("nomfichier",$A$1),FIND("]",CELL("nomfichier",$A$1),1)+1,30)),"\","PA",ROW(A8)-1,".pdf"),ROW(A8)-1) -> 7 | B8: Traverse | D8: =IF(ISBLANK($C8), "", VLOOKUP($C8,PAcomplet,2,FALSE)) | N8: Dans le mois | O8: =Stat!$C$14 -> 6 | P8: =Stat!$D$14 -> 2014
A9: =HYPERLINK(CONCATENATE(repetoire,"\",(MID(CELL("nomfichier",$A$1),FIND("]",CELL("nomfichier",$A$1),1)+1,30)),"\","PA",ROW(A9)-1,".pdf"),ROW(A9)-1) -> 8 | B9: Semelle Mur M1 | D9: =IF(ISBLANK($C9), "", VLOOKUP($C9,PAcomplet,2,FALSE)) | O9: PA1 | P9: PA2 | Q9: TOTAL
A10: =HYPERLINK(CONCATENATE(repetoire,"\",(MID(CELL("nomfichier",$A$1),FIND("]",CELL("nomfichier",$A$1),1)+1,30)),"\","PA",ROW(A10)-1,".pdf"),ROW(A10)-1) -> 9 | B10: Semelle Mur M2 | D10: =IF(ISBLANK($C10), "", VLOOKUP($C10,PAcomplet,2,FALSE)) | N10: Nb PA acceptés | O10: =SUMPRODUCT(($D$2:$D$219=1)*($F$2:$F$219="A")*(MONTH($E$2:$E$219)=$O$8)*(YEAR($E$2:$E$219)=$P$8)) -> 0 | P10: =SUMPRODUCT(($D$2:$D$219=2)*($F$2:$F$219="A")*(MONTH($E$2:$E$219)=$O$8)*(YEAR($E$2:$E$219)=$P$8)) -> 1 | Q10: =O10+P10 -> 1 | R10: =SUMPRODUCT(($D$2:$D$219="pc")*($F$2:$F$219="A")*(MONTH($E$2:$E$219)=$O$8)*(YEAR($E$2:$E$219)=$P$8)) -> 0
A11: =HYPERLINK(CONCATENATE(repetoire,"\",(MID(CELL("nomfichier",$A$1),FIND("]",CELL("nomfichier",$A$1),1)+1,30)),"\","PA",ROW(A11)-1,".pdf"),ROW(A11)-1) -> 10 | B11: Semelle Mur M3 | D11: =IF(ISBLANK($C11), "", VLOOKUP($C11,PAcomplet,2,FALSE)) | N11: Nb PA refusés | O11: =SUMPRODUCT(($D$2:$D$219=1)*($F$2:$F$219="R")*(MONTH($E$2:$E$219)=$O$8)*(YEAR($E$2:$E$219)=$P$8)) -> 0 | P11: =SUMPRODUCT(($D$2:$D$219=2)*($F$2:$F$219="R")*(MONTH($E$2:$E$219)=$O$8)*(YEAR($E$2:$E$219)=$P$8)) -> 0 | Q11: =O11+P11 -> 0 | R11: =SUMPRODUCT(($D$2:$D$219="pc")*($F$2:$F$219="R")*(MONTH($E$2:$E$219)=$O$8)*(YEAR($E$2:$E$219)=$P$8)) -> 0
A12: =HYPERLINK(CONCATENATE(repetoire,"\",(MID(CELL("nomfichier",$A$1),FIND("]",CELL("nomfichier",$A$1),1)+1,30)),"\","PA",ROW(A12)-1,".pdf"),ROW(A12)-1) -> 11 | B12: Semelle Mur M4 | D12: =IF(ISBLANK($C12), "", VLOOKUP($C12,PAcomplet,2,FALSE)) | N12: Nb PA à réaliser | O12: =SUMPRODUCT(($D$2:$D$219=1)*(NOT(ISBLANK($F$2:$F$219)))*(MONTH($E$2:$E$219)=$O$8)*(YEAR($E$2:$E$219)=$P$8)) -> 0 | P12: =SUMPRODUCT(($D$2:$D$219=2)*(NOT(ISBLANK($F$2:$F$219)))*(MONTH($E$2:$E$219)=$O$8)*(YEAR($E$2:$E$219)=$P$8)) -> 2 | Q12: =O12+P12 -> 2 | R12: =SUMPRODUCT(($D$2:$D$219="PC")*(NOT(ISBLANK($F$2:$F$219)))*(MONTH($E$2:$E$219)=$O$8)*(YEAR($E$2:$E$219)=$P$8)) -> 0
A13: =HYPERLINK(CONCATENATE(repetoire,"\",(MID(CELL("nomfichier",$A$1),FIND("]",CELL("nomfichier",$A$1),1)+1,30)),"\","PA",ROW(A13)-1,".pdf"),ROW(A13)-1) -> 12 | B13: Mur M1 | D13: =IF(ISBLANK($C13), "", VLOOKUP($C13,PAcomplet,2,FALSE)) | N13: Ratio PA acceptés | O13: =IFERROR(O10/($O$10+$O$11),"") | P13: =IFERROR(P10/(P10+P11),"") -> 1 | Q13: =IFERROR(Q10/(Q10+Q11),"") -> 1 | R13: =IFERROR(R10/(R10+R11),"")
A14: =HYPERLINK(CONCATENATE(repetoire,"\",(MID(CELL("nomfichier",$A$1),FIND("]",CELL("nomfichier",$A$1),1)+1,30)),"\","PA",ROW(A14)-1,".pdf"),ROW(A14)-1) -> 13 | B14: Mur M2 | D14: =IF(ISBLANK($C14), "", VLOOKUP($C14,PAcomplet,2,FALSE)) | N14: Ratio PA refusés | O14: =IFERROR(O11/($O$10+$O$11),"") | P14: =IFERROR(P11/(P10+P11),"") -> 0 | Q14: =IFERROR(Q11/(Q10+Q11),"") -> 0 | R14: =IFERROR(R11/(R10+R11),"")
A15: =HYPERLINK(CONCATENATE(repetoire,"\",(MID(CELL("nomfichier",$A$1),FIND("]",CELL("nomfichier",$A$1),1)+1,30)),"\","PA",ROW(A15)-1,".pdf"),ROW(A15)-1) -> 14 | B15: Mur M3 | D15: =IF(ISBLANK($C15), "", VLOOKUP($C15,PAcomplet,2,FALSE)) | N15: Ratio PA réalisés | O15: =IFERROR((O10+O11)/O12,"") | P15: =IFERROR((P10+P11)/P12,"") -> 0.5 | Q15: =IFERROR((Q10+Q11)/Q12,"") -> 0.5 | R15: =IFERROR((R10+R11)/R12,"")
A16: =HYPERLINK(CONCATENATE(repetoire,"\",(MID(CELL("nomfichier",$A$1),FIND("]",CELL("nomfichier",$A$1),1)+1,30)),"\","PA",ROW(A16)-1,".pdf"),ROW(A16)-1) -> 15 | B16: Mur M4 | D16: =IF(ISBLANK($C16), "", VLOOKUP($C16,PAcomplet,2,FALSE))
A17: =HYPERLINK(CONCATENATE(repetoire,"\",(MID(CELL("nomfichier",$A$1),FIND("]",CELL("nomfichier",$A$1),1)+1,30)),"\","PA",ROW(A17)-1,".pdf"),ROW(A17)-1) -> 16 | D17: =IF(ISBLANK($C17), "", VLOOKUP($C17,PAcomplet,2,FALSE)) | N17: Nbre de PA réalisés par | O17: LSP | P17: NLA | Q17: BGO | R17: FAS
A18: =HYPERLINK(CONCATENATE(repetoire,"\",(MID(CELL("nomfichier",$A$1),FIND("]",CELL("nomfichier",$A$1),1)+1,30)),"\","PA",ROW(A18)-1,".pdf"),ROW(A18)-1) -> 17 | O18: =COUNTIF($H$2:$H$200,"LSP") -> 3 | P18: =COUNTIF($H$2:$I$200,"NLA") -> 0 | Q18: =COUNTIF($H$2:$J$200,"BGO") -> 0 | R18: =COUNTIF($H$2:$J$200,R17) -> 0
A19: =HYPERLINK(CONCATENATE(repetoire,"\",(MID(CELL("nomfichier",$A$1),FIND("]",CELL("nomfichier",$A$1),1)+1,30)),"\","PA",ROW(A19)-1,".pdf"),ROW(A19)-1) -> 18
A20: =HYPERLINK(CONCATENATE(repetoire,"\",(MID(CELL("nomfichier",$A$1),FIND("]",CELL("nomfichier",$A$1),1)+1,30)),"\","PA",ROW(A20)-1,".pdf"),ROW(A20)-1) -> 19
A21: =HYPERLINK(CONCATENATE(repetoire,"\",(MID(CELL("nomfichier",$A$1),FIND("]",CELL("nomfichier",$A$1),1)+1,30)),"\","PA",ROW(A21)-1,".pdf"),ROW(A21)-1) -> 20 | D21: =IF(ISBLANK($C21), "", VLOOKUP($C21,PAcomplet,2,FALSE))
A22: =HYPERLINK(CONCATENATE(repetoire,"\",(MID(CELL("nomfichier",$A$1),FIND("]",CELL("nomfichier",$A$1),1)+1,30)),"\","PA",ROW(A22)-1,".pdf"),ROW(A22)-1) -> 21 | D22: =IF(ISBLANK($C22), "", VLOOKUP($C22,PAcomplet,2,FALSE))
A23: =HYPERLINK(CONCATENATE(repetoire,"\",(MID(CELL("nomfichier",$A$1),FIND("]",CELL("nomfichier",$A$1),1)+1,30)),"\","PA",ROW(A23)-1,".pdf"),ROW(A23)-1) -> 22 | D23: =IF(ISBLANK($C23), "", VLOOKUP($C23,PAcomplet,2,FALSE))
A24: =HYPERLINK(CONCATENATE(repetoire,"\",(MID(CELL("nomfichier",$A$1),FIND("]",CELL("nomfichier",$A$1),1)+1,30)),"\","PA",ROW(A24)-1,".pdf"),ROW(A24)-1) -> 23 | D24: =IF(ISBLANK($C24), "", VLOOKUP($C24,PAcomplet,2,FALSE))
A25: =HYPERLINK(CONCATENATE(repetoire,"\",(MID(CELL("nomfichier",$A$1),FIND("]",CELL("nomfichier",$A$1),1)+1,30)),"\","PA",ROW(A25)-1,".pdf"),ROW(A25)-1) -> 24 | D25: =IF(ISBLANK($C25), "", VLOOKUP($C25,PAcomplet,2,FALSE))
A26: =HYPERLINK(CONCATENATE(repetoire,"\",(MID(CELL("nomfichier",$A$1),FIND("]",CELL("nomfichier",$A$1),1)+1,30)),"\","PA",ROW(A26)-1,".pdf"),ROW(A26)-1) -> 25 | D26: =IF(ISBLANK($C26), "", VLOOKUP($C26,PAcomplet,2,FALSE))
A27: =HYPERLINK(CONCATENATE(repetoire,"\",(MID(CELL("nomfichier",$A$1),FIND("]",CELL("nomfichier",$A$1),1)+1,30)),"\","PA",ROW(A27)-1,".pdf"),ROW(A27)-1) -> 26 | D27: =IF(ISBLANK($C27), "", VLOOKUP($C27,PAcomplet,2,FALSE))
A28: =HYPERLINK(CONCATENATE(repetoire,"\",(MID(CELL("nomfichier",$A$1),FIND("]",CELL("nomfichier",$A$1),1)+1,30)),"\","PA",ROW(A28)-1,".pdf"),ROW(A28)-1) -> 27 | D28: =IF(ISBLANK($C28), "", VLOOKUP($C28,PAcomplet,2,FALSE))
A29: =HYPERLINK(CONCATENATE(repetoire,"\",(MID(CELL("nomfichier",$A$1),FIND("]",CELL("nomfichier",$A$1),1)+1,30)),"\","PA",ROW(A29)-1,".pdf"),ROW(A29)-1) -> 28 | D29: =IF(ISBLANK($C29), "", VLOOKUP($C29,PAcomplet,2,FALSE))
A30: =HYPERLINK(CONCATENATE(repetoire,"\",(MID(CELL("nomfichier",$A$1),FIND("]",CELL("nomfichier",$A$1),1)+1,30)),"\","PA",ROW(A30)-1,".pdf"),ROW(A30)-1) -> 29 | D30: =IF(ISBLANK($C30), "", VLOOKUP($C30,PAcomplet,2,FALSE))
A31: =HYPERLINK(CONCATENATE(repetoire,"\",(MID(CELL("nomfichier",$A$1),FIND("]",CELL("nomfichier",$A$1),1)+1,30)),"\","PA",ROW(A31)-1,".pdf"),ROW(A31)-1) -> 30 | D31: =IF(ISBLANK($C31), "", VLOOKUP($C31,PAcomplet,2,FALSE))
A32: =HYPERLINK(CONCATENATE(repetoire,"\",(MID(CELL("nomfichier",$A$1),FIND("]",CELL("nomfichier",$A$1),1)+1,30)),"\","PA",ROW(A32)-1,".pdf"),ROW(A32)-1) -> 31 | D32: =IF(ISBLANK($C32), "", VLOOKUP($C32,PAcomplet,2,FALSE))
... A200: =HYPERLINK(CONCATENATE(repetoire,"\",(MID(CELL("nomfichier",$A$1),FIND("]",CELL("nomfichier",$A$1),1)+1,30)),"\","PA",ROW(A200)-1,".pdf"),ROW(A200)-1) -> 199 | D200: =IF(ISBLANK($C200), "", VLOOKUP($C200,PAcomplet,2,FALSE))

Sheet 561-SC-0
A1: Numéro point d'arrêt | B1: Partie d'ouvrage | C1: PA | D1: Type PA | E1: Date | F1: Accepté A, refusé R, Non Present | G1: Numéro du Rapport de surveillance | H1: Responsable du PA | I1: Statut des doc d'exe | J1: Réserves | K1: Observations | L1: Point d'arrêt scanné | O1: PA1 | P1: PA2 | Q1: TOTAL | R1: PC | T1: 5 | U1: 8
A2: =HYPERLINK(CONCATENATE(repetoire,"\",(MID(CELL("nomfichier",$A$1),FIND("]",CELL("nomfichier",$A$1),1)+1,30)),"\","PA",ROW(A2)-1,".pdf"),ROW(A2)-1) -> 1 | B2: P1 - pieux | C2: implantation | D2: =IF(ISBLANK($C2), "", VLOOKUP($C2,PAcomplet,2,FALSE)) -> 1 | E2: 41711 | F2: A | H2: BGO | I2: BPE | L2: O | N2: Nb PA acceptés | O2: =SUMPRODUCT(($D$2:$D$224=1)*($F$2:$F$224="A")) -> 2 | P2: =SUMPRODUCT(($D$2:$D$224=2)*($F$2:$F$224="A")) -> 20 | Q2: =O2+P2 -> 22 | R2: =SUMPRODUCT(($D$2:$D$224="PC")*($F$2:$F$224="A")) -> 2 | T2: 8
A3: =HYPERLINK(CONCATENATE(repetoire,"\",(MID(CELL("nomfichier",$A$1),FIND("]",CELL("nomfichier",$A$1),1)+1,30)),"\","PA",ROW(A3)-1,".pdf"),ROW(A3)-1) -> 2 | B3: P1 - pieu n°1 | C3: autorisation de bétonnage | D3: =IF(ISBLANK($C3), "", VLOOKUP($C3,PAcomplet,2,FALSE)) -> 2 | E3: 41711 | F3: A | G3: 128 | H3: BGO | I3: BPE | L3: O | N3: Nb PA refusés | O3: =SUMPRODUCT(($D$2:$D$224=1)*($F$2:$F$224="R")) -> 0 | P3: =SUMPRODUCT(($D$2:$D$224=2)*($F$2:$F$224="R")) -> 0 | Q3: =O3+P3 -> 0 | R3: =SUMPRODUCT(($D$2:$D$224="PC")*($F$2:$F$224="R")) -> 0
A4: =HYPERLINK(CONCATENATE(repetoire,"\",(MID(CELL("nomfichier",$A$1),FIND("]",CELL("nomfichier",$A$1),1)+1,30)),"\","PA",ROW(A4)-1,".pdf"),ROW(A4)-1) -> 3 | B4: P1 - pieu n°2 | C4: autorisation de bétonnage | D4: =IF(ISBLANK($C4), "", VLOOKUP($C4,PAcomplet,2,FALSE)) -> 2 | E4: 41712 | F4: A | G4: 133 | H4: BGO | I4: BPE | L4: O | N4: Nb PA à réaliser | O4: =SUMPRODUCT(($D$2:$D$224=1)*(NOT(ISBLANK($F$2:$F$224)))) -> 2 | P4: =SUMPRODUCT(($D$2:$D$224=2)*(NOT(ISBLANK($F$2:$F$224)))) -> 45 | Q4: =O4+P4 -> 47 | R4: =SUMPRODUCT(($D$2:$D$224="pc")*(NOT(ISBLANK($F$2:$F$224)))) -> 2
A5: =HYPERLINK(CONCATENATE(repetoire,"\",(MID(CELL("nomfichier",$A$1),FIND("]",CELL("nomfichier",$A$1),1)+1,30)),"\","PA",ROW(A5)-1,".pdf"),ROW(A5)-1) -> 4 | B5: P1 - pieu n°3 | C5: autorisation de bétonnage | D5: =IF(ISBLANK($C5), "", VLOOKUP($C5,PAcomplet,2,FALSE)) -> 2 | E5: 41715 | F5: A | G5: 129 | H5: LSP | I5: BPE | L5: O | N5: Ratio PA acceptés | O5: =IFERROR(O2/(O2+O3),"") -> 1 | P5: =IFERROR(P2/(P2+P3),"") -> 1 | Q5: =IFERROR(Q2/(Q2+Q3),"") -> 1 | R5: =IF(R4=0,"",R2/(R2+R3)) -> 1
A6: =HYPERLINK(CONCATENATE(repetoire,"\",(MID(CELL("nomfichier",$A$1),FIND("]",CELL("nomfichier",$A$1),1)+1,30)),"\","PA",ROW(A6)-1,".pdf"),ROW(A6)-1) -> 5 | B6: P1 - pieu n°4 | C6: autorisation de bétonnage | D6: =IF(ISBLANK($C6), "", VLOOKUP($C6,PAcomplet,2,FALSE)) -> 2 | E6: 41717 | F6: NP | H6: LSP | I6: BPE | L6: O | N6: Ratio PA refusés | O6: =IFERROR(O3/(O2+O3),"") -> 0 | P6: =IFERROR(P3/(P2+P3),"") -> 0 | Q6: =IFERROR(Q3/(Q2+Q3),"") -> 0 | R6: =IF(R4=0,"",R3/(R2+R3)) -> 0
A7: =HYPERLINK(CONCATENATE(repetoire,"\",(MID(CELL("nomfichier",$A$1),FIND("]",CELL("nomfichier",$A$1),1)+1,30)),"\","PA",ROW(A7)-1,".pdf"),ROW(A7)-1) -> 6 | B7: P1 - pieu n°5 | C7: autorisation de bétonnage | D7: =IF(ISBLANK($C7), "", VLOOKUP($C7,PAcomplet,2,FALSE)) -> 2 | E7: 41719 | F7: NP | H7: LSP | I7: BPE | L7: O | N7: Ratio PA réalisés | O7: =IFERROR((O2+O3)/O4,"") -> 1 | P7: =IFERROR((P2+P3)/P4,"") -> 0.44444444 | Q7: =IFERROR((Q2+Q3)/Q4,"") -> 0.46808511 | R7: =IF(R4=0,"",(R2+R3)/R4) -> 1
A8: =HYPERLINK(CONCATENATE(repetoire,"\",(MID(CELL("nomfichier",$A$1),FIND("]",CELL("nomfichier",$A$1),1)+1,30)),"\","PA",ROW(A8)-1,".pdf"),ROW(A8)-1) -> 7 | B8: P1 - pieu n°6 | C8: autorisation de bétonnage | D8: =IF(ISBLANK($C8), "", VLOOKUP($C8,PAcomplet,2,FALSE)) -> 2 | E8: 41718 | F8: NP | H8: LSP | I8: BPE | L8: O | N8: Dans le mois | O8: =Stat!$C$14 -> 6 | P8: =Stat!$D$14 -> 2014
A9: =HYPERLINK(CONCATENATE(repetoire,"\",(MID(CELL("nomfichier",$A$1),FIND("]",CELL("nomfichier",$A$1),1)+1,30)),"\","PA",ROW(A9)-1,".pdf"),ROW(A9)-1) -> 8 | B9: P1 - pieu n°7 | C9: autorisation de bétonnage | D9: =IF(ISBLANK($C9), "", VLOOKUP($C9,PAcomplet,2,FALSE)) -> 2 | E9: 41715 | F9: A | G9: 151 | H9: LSP | I9: BPE | L9: O | O9: PA1 | P9: PA2 | Q9: TOTAL
A10: =HYPERLINK(CONCATENATE(repetoire,"\",(MID(CELL("nomfichier",$A$1),FIND("]",CELL("nomfichier",$A$1),1)+1,30)),"\","PA",ROW(A10)-1,".pdf"),ROW(A10)-1) -> 9 | B10: P1 - pieu n°8 | C10: autorisation de bétonnage | D10: =IF(ISBLANK($C10), "", VLOOKUP($C10,PAcomplet,2,FALSE)) -> 2 | E10: 41722 | F10: A | G10: 152 | H10: LSP | I10: BPE | L10: O | N10: Nb PA acceptés | O10: =SUMPRODUCT(($D$2:$D$224=1)*($F$2:$F$224="A")*(MONTH($E$2:$E$224)=$O$8)*(YEAR($E$2:$E$224)=$P$8)) -> 0 | P10: =SUMPRODUCT(($D$2:$D$224=2)*($F$2:$F$224="A")*(MONTH($E$2:$E$224)=$O$8)*(YEAR($E$2:$E$224)=$P$8)) -> 7 | Q10: =O10+P10 -> 7 | R10: =SUMPRODUCT(($D$2:$D$224="pc")*($F$2:$F$224="A")*(MONTH($E$2:$E$224)=$O$8)*(YEAR($E$2:$E$224)=$P$8)) -> 0
A11: =HYPERLINK(CONCATENATE(repetoire,"\",(MID(CELL("nomfichier",$A$1),FIND("]",CELL("nomfichier",$A$1),1)+1,30)),"\","PA",ROW(A11)-1,".pdf"),ROW(A11)-1) -> 10 | B11: P1 - pieux | C11: réception du pieu | J11: remplissage tube autorisé par mail le 15/04 | N11: Nb PA refusés | O11: =SUMPRODUCT(($D$2:$D$224=1)*($F$2:$F$224="R")*(MONTH($E$2:$E$224)=$O$8)*(YEAR($E$2:$E$224)=$P$8)) -> 0 | P11: =SUMPRODUCT(($D$2:$D$224=2)*($F$2:$F$224="R")*(MONTH($E$2:$E$224)=$O$8)*(YEAR($E$2:$E$224)=$P$8)) -> 0 | Q11: =O11+P11 -> 0 | R11: =SUMPRODUCT(($D$2:$D$224="pc")*($F$2:$F$224="R")*(MONTH($E$2:$E$224)=$O$8)*(YEAR($E$2:$E$224)=$P$8)) -> 0
A12: =HYPERLINK(CONCATENATE(repetoire,"\",(MID(CELL("nomfichier",$A$1),FIND("]",CELL("nomfichier",$A$1),1)+1,30)),"\","PA",ROW(A12)-1,".pdf"),ROW(A12)-1) -> 11 | B12: P1 - semelle | C12: point critique | D12: =IF(ISBLANK($C12), "", VLOOKUP($C12,PAcomplet,2,FALSE)) -> PC | E12: 41754 | F12: A | G12: 311 | H12: LSP | I12: BPE | L12: N | N12: Nb PA à réaliser | O12: =SUMPRODUCT(($D$2:$D$224=1)*(NOT(ISBLANK($F$2:$F$224)))*(MONTH($E$2:$E$224)=$O$8)*(YEAR($E$2:$E$224)=$P$8)) -> 0 | P12: =SUMPRODUCT(($D$2:$D$224=2)*(NOT(ISBLANK($F$2:$F$224)))*(MONTH($E$2:$E$224)=$O$8)*(YEAR($E$2:$E$224)=$P$8)) -> 28 | Q12: =O12+P12 -> 28 | R12: =SUMPRODUCT(($D$2:$D$224="PC")*(NOT(ISBLANK($F$2:$F$224)))*(MONTH($E$2:$E$224)=$O$8)*(YEAR($E$2:$E$224)=$P$8)) -> 0
A13: =HYPERLINK(CONCATENATE(repetoire,"\",(MID(CELL("nomfichier",$A$1),FIND("]",CELL("nomfichier",$A$1),1)+1,30)),"\","PA",ROW(A13)-1,".pdf"),ROW(A13)-1) -> 12 | B13: P1 - semelle | C13: autorisation de bétonnage | D13: =IF(ISBLANK($C13), "", VLOOKUP($C13,PAcomplet,2,FALSE)) -> 2 | E13: 41765 | F13: A | G13: 350 | H13: LSP | I13: BPE | L13: N | N13: Ratio PA acceptés | O13: =IFERROR(O10/($O$10+$O$11),"") | P13: =IFERROR(P10/(P10+P11),"") -> 1 | Q13: =IFERROR(Q10/(Q10+Q11),"") -> 1 | R13: =IFERROR(R10/(R10+R11),"")
B14: P1 - pile | C14: point critique | D14: =IF(ISBLANK($C14), "", VLOOKUP($C14,PAcomplet,2,FALSE)) -> PC | E14: 41779 | F14: A | G14: 448 | H14: LSP | I14: BPE | N14: Ratio PA refusés | O14: =IFERROR(O11/($O$10+$O$11),"") | P14: =IFERROR(P11/(P10+P11),"") -> 0 | Q14: =IFERROR(Q11/(Q10+Q11),"") -> 0 | R14: =IFERROR(R11/(R10+R11),"")
B15: P1 - pile | C15: autorisation de bétonnage | D15: =IF(ISBLANK($C15), "", VLOOKUP($C15,PAcomplet,2,FALSE)) -> 2 | E15: 41786 | F15: A | G15: 426 | H15: LSP | I15: BPE | N15: Ratio PA réalisés | O15: =IFERROR((O10+O11)/O12,"") | P15: =IFERROR((P10+P11)/P12,"") -> 0.25 | Q15: =IFERROR((Q10+Q11)/Q12,"") -> 0.25 | R15: =IFERROR((R10+R11)/R12,"")
B16: P1 - bossage | D16: =IF(ISBLANK($C16), "", VLOOKUP($C16,PAcomplet,2,FALSE)) | H16: LSP | I16: BPE
