Workbook
Name DecPA: Listes!$A$23:$A$25
Name Liste_AR: '385-SC-0'!$R$22:$R$24
Name Liste_AR: '561-SC-0'!$R$22:$R$23
Name Liste_AR: '581-LF-0'!$R$22:$R$23
Name Liste_AR: TCouverte!$R$22:$R$23
Name Liste_AR: '014-BM-0'!$R$22:$R$24
Name Liste_PA: '385-SC-0'!$S$2:$S$20
Name Liste_PA: '561-SC-0'!$S$2:$S$20
Name Liste_PA: '581-LF-0'!$S$2:$S$20
Name Liste_PA: TCouverte!$S$2:$S$20
Name Liste_PA: '014-BM-0'!$S$2:$S$20
Name Liste_resp: '385-SC-0'!$R$25:$R$27
Name Liste_resp: '561-SC-0'!$R$25:$R$27
Name Liste_resp: '581-LF-0'!$R$25:$R$27
Name Liste_resp: TCouverte!$R$25:$R$27
Name Liste_resp: '014-BM-0'!$R$25:$R$27
Name Liste_statut: '385-SC-0'!$S$22:$S$25
Name Liste_statut: '561-SC-0'!$S$22:$S$25
Name Liste_statut: '581-LF-0'!$S$22:$S$25
Name Liste_statut: TCouverte!$S$22:$S$25
Name Liste_statut: '014-BM-0'!$S$22:$S$25
Name nbPA1: '385-SC-0'!$O$2
Name nbPA1: '561-SC-0'!$O$2
Name nbPA1: '581-LF-0'!$O$2
Name nbPA1: TCouverte!$O$2
Name nbPA1: '014-BM-0'!$O$2
Name NbPA1mois: '385-SC-0'!$O$8
Name NbPA1mois: '561-SC-0'!$O$6
Name NbPA1mois: '581-LF-0'!$O$6
Name NbPA1mois: TCouverte!$O$6
Name NbPA1mois: '014-BM-0'!$O$8
Name NbPA2: '385-SC-0'!$P$2
Name NbPA2: '561-SC-0'!$P$2
Name NbPA2: '581-LF-0'!$P$2
Name NbPA2: TCouverte!$P$2
Name NbPA2: '014-BM-0'!$P$2
Name nbPA2mois: '385-SC-0'!$P$8
Name nbPA2mois: '561-SC-0'!$P$6
Name nbPA2mois: '581-LF-0'!$P$6
Name nbPA2mois: TCouverte!$P$6
Name nbPA2mois: '014-BM-0'!$P$8
Name PA: Listes!$B$1:$B$22
Name PAcomplet: Listes!$B$1:$C$21
Name Ratio_PA1: '385-SC-0'!$O$4
Name Ratio_PA1: '561-SC-0'!$O$3
Name Ratio_PA1: '581-LF-0'!$O$3
Name Ratio_PA1: TCouverte!$O$3
Name Ratio_PA1: '014-BM-0'!$O$4
Name Ratio_PA1_mois: '385-SC-0'!$O$15
Name Ratio_PA1_mois: '561-SC-0'!$O$7
Name Ratio_PA1_mois: '581-LF-0'!$O$7
Name Ratio_PA1_mois: TCouverte!$O$7
Name Ratio_PA1_mois: '014-BM-0'!$O$15
Name Ratio_PA2: '385-SC-0'!$P$4
Name Ratio_PA2: '561-SC-0'!$P$3
Name Ratio_PA2: '581-LF-0'!$P$3
Name Ratio_PA2: TCouverte!$P$3
Name Ratio_PA2: '014-BM-0'!$P$4
Name Ratio_PA2_mois: '385-SC-0'!$P$15
Name Ratio_PA2_mois: '561-SC-0'!$P$7

Sheet Listes
A1: IMP | B1: implantation | C1: 1 | D1: Y:\CNM INGENIERIE\3 Cellule Infrastructure\MOEG03 - OA\6. SUIVI DE CHANTIER\6.3 Points d'arrêt\Gard
A2: RFF | B2: réception fond de fouille | C2: 1
A3: CFP | B3: contrôle ferraillage pieu | C3: 2
A4: AB | B4: autorisation de bétonnage | C4: 2
A5: ARC | B5: réception du pieu | C5: 1
A6: AR | B6: autorisation de remblayer | C6: 2
A7: RRF | B7: réception remblai de fouille | C7: 1
A8: EE | B8: essais d'adhérence chape | C8: 1
A9: SG | B9: suivi géométrique | C9: 1
A10: PA | B10: plot d'ancrage des poteaux | C10: 1
A11: EPR | B11: épreuves | C11: 2
A12: AMT | B12: autorisation mise en tension | C12: 2
A13: AMF | B13: autorisation mise en fabrication atelier | C13: 1
... A20: ASA | B20: autorisation de scellement appuis | C20: 1
B21: point critique | C21: PC
B22: réception OA 1ière catégorie | C22: 1
A23: A | B23: BPE
A24: R | B24: Non BPE
A25: NP | B25: BPEU
A26: BGO | B26: BPEP
A27: NLA
A28: LSP
A29: FAS

Sheet Stat
B2: GARD
B5: Nb de PA levés | G5: Total | K5: =DATE(D14,C14,1) -> 41791
C7: PA1 | D7: PA2 | E7: TOTAL | F7: PC
B8: Nb PA acceptés | C8: =SUM('014-BM-0:581-LF-0'!O2) -> 9 | D8: =SUM('014-BM-0:581-LF-0'!P2) -> 69 | E8: =C8+D8 -> 78 | F8: =SUM('014-BM-0:581-LF-0'!R2) -> 23
B9: Nb PA refusés | C9: =SUM('014-BM-0:581-LF-0'!O3) -> 0 | D9: =SUM('014-BM-0:581-LF-0'!P3) -> 0 | E9: =C9+D9 -> 0 | F9: =SUM('014-BM-0:581-LF-0'!R3) -> 0
B10: Nb PA à réaliser | C10: =SUM('014-BM-0:581-LF-0'!O4) -> 9 | D10: =SUM('014-BM-0:581-LF-0'!P4) -> 102 | E10: =C10+D10 -> 111
B11: Ratio PA acceptés | C11: =IF(C10=0,"",C8/(C8+C9)) -> 1 | D11: =IF(D10=0,"",D8/(D8+D9)) -> 1 | E11: =IF(E10=0,"",E8/(E8+E9)) -> 1
B12: Ratio PA refusés | C12: =IF(C10=0,"",C9/(C8+C9)) -> 0 | D12: =IF(D10=0,"",D9/(D8+D9)) -> 0 | E12: =IF(E10=0,"",E9/(E8+E9)) -> 0
B13: PA réalisés/PA à faire | C13: =IF(C10=0,"",(C8+C9)/C10) -> 1 | D13: =IF(D10=0,"",(D8+D9)/D10) -> 0.67647059 | E13: =IF(E10=0,"",(E8+E9)/E10) -> 0.7027027
B14: Dans le mois | C14: 6 | D14: 2014
C15: PA1 | D15: PA2 | E15: TOTAL
B16: Nb PA acceptés | C16: =SUM('014-BM-0:581-LF-0'!O10) -> 0 | D16: =SUM('014-BM-0:581-LF-0'!P10) -> 28 | E16: =C16+D16 -> 28
B17: Nb PA refusés | C17: =SUM('014-BM-0:581-LF-0'!O11) -> 0 | D17: =SUM('014-BM-0:581-LF-0'!P11) -> 0 | E17: =C17+D17 -> 0
B18: Nb PA à réaliser | C18: =SUM('014-BM-0:581-LF-0'!O12) -> 0 | D18: =SUM('014-BM-0:581-LF-0'!P12) -> 54 | E18: =C18+D18 -> 54
B19: Ratio PA acceptés | C19: =IF(C18=0,"",C16/(C16+C17)) | D19: =IF(D18=0,"",D16/(D16+D17)) -> 1 | E19: =IF(E18=0,"",E16/(E16+E17)) -> 1
B20: Ratio PA refusés | C20: =IF(C18=0,"",C17/(C16+C17)) | D20: =IF(D18=0,"",D17/(D16+D17)) -> 0 | E20: =IF(E18=0,"",E17/(E16+E17)) -> 0
B21: PA réalisés/PA à faire | C21: =IF(C18=0,"",(C16+C17)/C18) | D21: =IF(D18=0,"",(D16+D17)/D18) -> 0.51851852 | E21: =IF(E18=0,"",(E16+E17)/E18) -> 0.51851852
B23: Nbre de PA réalisés par | C23: LSP | D23: NLA | E23: BGO | F23: FAS | G23: Total
C24: =SUM('014-BM-0:581-LF-0'!O18) -> 70 | D24: =SUM('014-BM-0:581-LF-0'!P18) -> 51 | E24: =SUM('014-BM-0:581-LF-0'!Q18) -> 20 | F24: =SUM('014-BM-0:581-LF-0'!R18) -> 3 | G24: =SUM(C24:F24) -> 144

Sheet Stat 2
G3: Dans le mois | H3: 1 | I3: 2014 | L3: Dans le mois | M3: 2 | N3: 2014 | Q3: Dans le mois | R3: 3 | S3: 2014 | V3: Dans le mois | W3: 4 | X3: 2014
C4: =Stat!C7 -> PA1 | D4: =Stat!D7 -> PA2 | E4: =Stat!E7 -> TOTAL | H4: PA1 | I4: PA2 | J4: TOTAL | M4: PA1 | N4: PA2 | O4: TOTAL | R4: PA1 | S4: PA2 | T4: TOTAL | W4: PA1 | X4: PA2 | Y4: TOTAL
B5: =Stat!B8 -> Nb PA acceptés | C5: =Stat!C8 -> 9 | D5: =Stat!D8 -> 69 | E5: =Stat!E8 -> 78 | G5: Nb PA acceptés | H5: 1 | I5: 0 | J5: 1 | L5: Nb PA acceptés | M5: 17 | N5: 10 | O5: 27 | Q5: Nb PA acceptés | R5: 18 | S5: 54 | T5: 72 | V5: Nb PA acceptés | W5: 35 | X5: 71 | Y5: 106
B6: =Stat!B9 -> Nb PA refusés | C6: =Stat!C9 -> 0 | D6: =Stat!D9 -> 0 | E6: =Stat!E9 -> 0 | G6: Nb PA refusés | H6: 0 | I6: 0 | J6: 0 | L6: Nb PA refusés | M6: 0 | N6: 0 | O6: 0 | Q6: Nb PA refusés | R6: 2 | S6: 4 | T6: 6 | V6: Nb PA refusés | W6: 8 | X6: 12 | Y6: 20
B7: =Stat!B10 -> Nb PA à réaliser | C7: =Stat!C10 -> 9 | D7: =Stat!D10 -> 102 | E7: =Stat!E10 -> 111 | G7: Nb PA à réaliser | H7: 1 | I7: 0 | J7: 1 | L7: Nb PA à réaliser | M7: 17 | N7: 10 | O7: 27 | Q7: Nb PA à réaliser | R7: 20 | S7: 89 | T7: 109 | V7: Nb PA à réaliser | W7: 43 | X7: 107 | Y7: 150
B8: =Stat!B11 -> Ratio PA acceptés | C8: =Stat!C11 -> 1 | D8: =Stat!D11 -> 1 | E8: =Stat!E11 -> 1 | G8: Ratio PA acceptés | H8: 1 | J8: 1 | L8: Ratio PA acceptés | M8: 1 | N8: 1 | O8: 1 | Q8: Ratio PA acceptés | R8: 0.9 | S8: 0.93103448 | T8: 0.92307692 | V8: Ratio PA acceptés | W8: 0.81395349 | X8: 0.85542169 | Y8: 0.84126984
B9: =Stat!B12 -> Ratio PA refusés | C9: =Stat!C12 -> 0 | D9: =Stat!D12 -> 0 | E9: =Stat!E12 -> 0 | G9: Ratio PA refusés | H9: 0 | J9: 0 | L9: Ratio PA refusés | M9: 0 | N9: 0 | O9: 0 | Q9: Ratio PA refusés | R9: 0.1 | S9: 0.068965517 | T9: 0.076923077 | V9: Ratio PA refusés | W9: 0.18604651 | X9: 0.14457831 | Y9: 0.15873016
B10: =Stat!B13 -> PA réalisés/PA à faire | C10: =Stat!C13 -> 1 | D10: =Stat!D13 -> 0.67647059 | E10: =Stat!E13 -> 0.7027027 | G10: Ratio PA levés | H10: 1 | J10: 1 | L10: Ratio PA levés | M10: 1 | N10: 1 | O10: 1 | Q10: Ratio PA levés | R10: 1 | S10: 0.65168539 | T10: 0.71559633 | V10: PA réalisés/PA à faire | W10: 1 | X10: 0.77570093 | Y10: 0.84
V11: Dans le mois | W11: 5 | X11: 2014
C12: PA total MOEG3 | D12: PA total à réaliser | E12: PA1 à réaliser | F12: PA1 Acceptés | G12: PA1 Refusés | H12: PA2 à réaliser | I12: PA2 Acceptés | J12: PA2 Refusés | K12: FNC demandées par MOEG3 | N12: Ratio PA1 levés | O12: Ratio PA1 acceptés | P12: Ratio PA1 refusés | Q12: Ratio PA2 levés | R12: Ratio PA2 acceptés | S12: Ratio PA2 refusés | W12: PA1 | X12: PA2 | Y12: TOTAL
B13: 41640 | C13: =E13+H13 -> 1 | D13: =F13+I13 -> 1 | E13: =H7 -> 1 | F13: =H5 -> 1 | G13: =H6 -> 0 | H13: =I5 -> 0 | I13: =I6 -> 0 | J13: =I7 -> 0 | K13: 0 | M13: 41640 | N13: =H10 -> 1 | O13: =H8 -> 1 | V13: Nb PA acceptés | W13: 37 | X13: 61 | Y13: 98
B14: 41671 | C14: =F14+G14+I14+J14 -> 27 | D14: =E14+H14 -> 27 | E14: =M7 -> 17 | F14: =M5 -> 17 | G14: =M6 -> 0 | H14: =N7 -> 10 | I14: =N5 -> 10 | J14: =N6 -> 0 | K14: 1 | M14: 41671 | N14: =M10 -> 1 | O14: =M8 -> 1 | P14: =N9 -> 0 | Q14: =N10 -> 1 | R14: =O8 -> 1 | S14: =O9 -> 0 | V14: Nb PA refusés | W14: 1 | X14: 2 | Y14: 3
B15: 41699 | C15: =F15+G15+I15+J15 -> 78 | D15: =E15+H15 -> 109 | E15: =R7 -> 20 | F15: =R5 -> 18 | G15: =R6 -> 2 | H15: =S7 -> 89 | I15: =S5 -> 54 | J15: =S6 -> 4 | K15: 5 | M15: 41699 | N15: =R10 -> 1 | O15: =R8 -> 0.9 | P15: =R9 -> 0.1 | Q15: =S10 -> 0.65168539 | R15: =S8 -> 0.93103448 | S15: =S9 -> 0.068965517 | V15: Nb PA à réaliser | W15: 38 | X15: 85 | Y15: 123
B16: 41730 | C16: =F16+G16+I16+J16 -> 126 | D16: =E16+H16 -> 150 | E16: =W7 -> 43 | F16: =W5 -> 35 | G16: =W6 -> 8 | H16: =X7 -> 107 | I16: =X5 -> 71 | J16: =X6 -> 12 | K16: 9 | M16: 41730 | N16: =W10 -> 1 | O16: =W8 -> 0.81395349 | P16: =W9 -> 0.18604651 | Q16: =X10 -> 0.77570093 | R16: =X8 -> 0.85542169 | S16: =X9 -> 0.14457831 | V16: Ratio PA acceptés | W16: 0.97368421 | X16: 0.96825397 | Y16: 0.97029703
B17: 41760 | C17: =F17+G17+I17+J17 -> 101 | D17: =E17+H17 -> 123 | E17: =W15 -> 38 | F17: =W13 -> 37 | G17: =W14 -> 1 | H17: =X15 -> 85 | I17: =X13 -> 61 | J17: =X14 -> 2 | K17: 4 | M17: 41760 | N17: =W18 -> 1 | O17: =W16 -> 0.97368421 | P17: =W17 -> 0.026315789 | Q17: =X18 -> 0.74117647 | R17: =X16 -> 0.96825397 | S17: =X17 -> 0.031746032 | V17: Ratio PA refusés | W17: 0.026315789 | X17: 0.031746032 | Y17: 0.02970297
B18: 41791 | C18: =F18+G18+I18+J18 -> 98 | D18: =E18+H18 -> 151 | E18: =W23 -> 39 | F18: =W21 -> 36 | G18: =W22 -> 3 | H18: =X23 -> 112 | I18: =X21 -> 54 | J18: =X22 -> 5 | K18: 23 | M18: 41791 | N18: =W26 -> 1 | O18: =W24 -> 0.92307692 | P18: =W25 -> 0.076923077 | Q18: =X26 -> 0.52678571 | R18: =X24 -> 0.91525424 | S18: =X25 -> 0.084745763 | V18: PA réalisés/PA à faire | W18: 1 | X18: 0.74117647 | Y18: 0.82113821
B19: 41821 | M19: 41821 | V19: Dans le mois | W19: 6 | X19: 2014
B20: 41852 | M20: 41852 | W20: PA1 | X20: PA2 | Y20: TOTAL
B21: 41883 | M21: 41883 | V21: Nb PA acceptés | W21: 36 | X21: 54 | Y21: 90
B22: 41913 | M22: 41913 | V22: Nb PA refusés | W22: 3 | X22: 5 | Y22: 8
B23: 41944 | M23: 41944 | V23: Nb PA à réaliser | W23: 39 | X23: 112 | Y23: 151
B24: 41974 | M24: 41974 | V24: Ratio PA acceptés | W24: 0.92307692 | X24: 0.91525424 | Y24: 0.91836735
B25: 42005 | M25: 42005 | V25: Ratio PA refusés | W25: 0.076923077 | X25: 0.084745763 | Y25: 0.081632653
B26: 42036 | M26: 42036 | V26: PA réalisés/PA à faire | W26: 1 | X26: 0.52678571 | Y26: 0.64900662
B27: 42064 | M27: 42064 | V27: Dans le mois
B28: 42095 | M28: 42095
B29: 42125 | M29: 42125 | V29: Nb PA acceptés
B30: 42156 | M30: 42156 | V30: Nb PA refusés
B31: 42186 | M31: 42186 | V31: Nb PA à réaliser
B32: 42217 | M32: 42217 | V32: Ratio PA acceptés
B33: 42248 | M33: 42248 | V33: Ratio PA refusés
B34: 42278 | M34: 42278 | V34: PA réalisés/PA à faire
B35: 42309 | M35: 42309 | V35: Dans le mois
B36: 42339 | M36: 42339
V37: Nb PA acceptés
B38: Récap | C38: =SUM(C13:C37) -> 431 | D38: =SUM(D13:D37) -> 561 | E38: =SUM(E13:E37) -> 158 | F38: =SUM(F13:F37) -> 144 | G38: =SUM(G13:G37) -> 14 | H38: =SUM(H13:H37) -> 403 | I38: =SUM(I13:I37) -> 250 | J38: =SUM(J13:J37) -> 23 | K38: =SUM(K13:K37) -> 42 | N38: =C10 -> 1 | O38: =C8 -> 1 | P38: =C9 -> 0 | Q38: =D10 -> 0.67647059 | R38: =D8 -> 1 | S38: =D9 -> 0 | V38: Nb PA refusés
C39: PA total MOEG3 | D39: PA total à réaliser | E39: PA1 à réaliser | F39: PA1 Acceptés | G39: PA1 Refusés | H39: PA2 à réaliser | I39: PA2 Acceptés | J39: PA2 Refusés | K39: FNC demandées par MOEG3 | N39: Ratio PA1 levés | O39: Ratio PA1 acceptés | P39: Ratio PA1 refusés | Q39: Ratio PA2 levés | R39: Ratio PA2 acceptés | S39: Ratio PA2 refusés | V39: Nb PA à réaliser
V40: Ratio PA acceptés
V41: Ratio PA refusés
V42: PA réalisés/PA à faire
V43: Dans le mois | W43: 6 | X43: 2014
W44: PA1 | X44: PA2 | Y44: TOTAL
V45: Nb PA acceptés
V46: Nb PA refusés
V47: Nb PA à réaliser
V48: Ratio PA acceptés
V49: Ratio PA refusés
V50: PA réalisés/PA à faire
V51: Dans le mois | W51: 6 | X51: 2014
W52: PA1 | X52: PA2 | Y52: TOTAL
V53: Nb PA acceptés
V54: Nb PA refusés
V55: Nb PA à réaliser
V56: Ratio PA acceptés
V57: Ratio PA refusés
V58: PA réalisés/PA à faire
V59: Dans le mois | W59: 6 | X59: 2014
W60: PA1 | X60: PA2 | Y60: TOTAL
V61: Nb PA acceptés
V62: Nb PA refusés
V63: Nb PA à réaliser
V64: Ratio PA acceptés
V65: Ratio PA refusés
V66: PA réalisés/PA à faire
V67: Dans le mois | W67: 6 | X67: 2014
W68: PA1 | X68: PA2 | Y68: TOTAL
V69: Nb PA acceptés
V70: Nb PA refusés
V71: Nb PA à réaliser
V72: Ratio PA acceptés
V73: Ratio PA refusés
V74: PA réalisés/PA à faire
V75: Dans le mois | W75: 6 | X75: 2014
W76: PA1 | X76: PA2 | Y76: TOTAL
V77: Nb PA acceptés
V78: Nb PA refusés
V79: Nb PA à réaliser
V80: Ratio PA acceptés
V81: Ratio PA refusés
V82: PA réalisés/PA à faire
V83: Dans le mois | W83: 6 | X83: 2014
W84: PA1 | X84: PA2 | Y84: TOTAL
V85: Nb PA acceptés
V86: Nb PA refusés
V87: Nb PA à réaliser
V88: Ratio PA acceptés
V89: Ratio PA refusés
V90: PA réalisés/PA à faire
V91: Dans le mois | W91: 6 | X91: 2014
W92: PA1 | X92: PA2 | Y92: TOTAL
V93: Nb PA acceptés
V94: Nb PA refusés
V95: Nb PA à réaliser
V96: Ratio PA acceptés
V97: Ratio PA refusés
V98: PA réalisés/PA à faire
V99: Dans le mois | W99: 6 | X99: 2014
W100: PA1 | X100: PA2 | Y100: TOTAL
V101: Nb PA acceptés
V102: Nb PA refusés
...

Sheet 014-BM-0
A1: Numéro point d'arrêt | B1: Partie d'ouvrage | C1: PA | D1: Type PA | E1: Date | F1: Accepté A ou réfusé R | G1: Numéro du Rapport de surveillance | H1: Responsable du PA | I1: Statut des doc d'exe | J1: Réserves | K1: Observations | L1: Point d'arrêt scanné | O1: PA1 | P1: PA2 | Q1: TOTAL | R1: PC
A2: =HYPERLINK(CONCATENATE(repetoire,"\",(MID(CELL("nomfichier",$A$1),FIND("]",CELL("nomfichier",$A$1),1)+1,30)),"\","PA",ROW(A2)-1,".pdf"),ROW(A2)-1) -> 1 | B2: Radier | C2: réception fond de fouille | D2: =IF(ISBLANK($C2), "", VLOOKUP($C2,PAcomplet,2,FALSE)) -> 1 | E2: 41652 | F2: A | G2: 21 | H2: NLA | I2: Non BPE | J2: Absence de note géotech. niveau G3 | L2: N | N2: Nb PA acceptés | O2: =SUMPRODUCT(($D$2:$D$218=1)*($F$2:$F$218="A")) -> 2 | P2: =SUMPRODUCT(($D$2:$D$218=2)*($F$2:$F$218="A")) -> 10 | Q2: =O2+P2 -> 12 | R2: =SUMPRODUCT(($D$2:$D$218="PC")*($F$2:$F$218="A")) -> 2
A3: =HYPERLINK(CONCATENATE(repetoire,"\",(MID(CELL("nomfichier",$A$1),FIND("]",CELL("nomfichier",$A$1),1)+1,30)),"\","PA",ROW(A3)-1,".pdf"),ROW(A3)-1) -> 2 | B3: Radier + murs | C3: implantation | D3: =IF(ISBLANK($C3), "", VLOOKUP($C3,PAcomplet,2,FALSE)) -> 1 | E3: 41684 | F3: A | H3: NLA | I3: BPE | L3: O | N3: Nb PA refusés | O3: =SUMPRODUCT(($D$2:$D$218=1)*($F$2:$F$218="R")) -> 0 | P3: =SUMPRODUCT(($D$2:$D$218=2)*($F$2:$F$218="R")) -> 0 | Q3: =O3+P3 -> 0 | R3: =SUMPRODUCT(($D$2:$D$218="PC")*($F$2:$F$218="R")) -> 0
A4: =HYPERLINK(CONCATENATE(repetoire,"\",(MID(CELL("nomfichier",$A$1),FIND("]",CELL("nomfichier",$A$1),1)+1,30)),"\","PA",ROW(A4)-1,".pdf"),ROW(A4)-1) -> 3 | B4: Radier | C4: autorisation de bétonnage | D4: =IF(ISBLANK($C4), "", VLOOKUP($C4,PAcomplet,2,FALSE)) -> 2 | E4: 41682 | F4: A | G4: 47 | H4: NLA | I4: BPE | K4: Rajout d'un TS compte tenu d'un surenrobage sur la face supérieure | L4: N | N4: Nb PA à réaliser | O4: =SUMPRODUCT(($D$2:$D$218=1)*(NOT(ISBLANK($F$2:$F$218)))) -> 2 | P4: =SUMPRODUCT(($D$2:$D$218=2)*(NOT(ISBLANK($F$2:$F$218)))) -> 13 | Q4: =O4+P4 -> 15 | R4: =SUMPRODUCT(($D$2:$D$218="pc")*(NOT(ISBLANK($F$2:$F$218)))) -> 2
A5: =HYPERLINK(CONCATENATE(repetoire,"\",(MID(CELL("nomfichier",$A$1),FIND("]",CELL("nomfichier",$A$1),1)+1,30)),"\","PA",ROW(A5)-1,".pdf"),ROW(A5)-1) -> 4 | B5: Semelle mur M3 | C5: autorisation de bétonnage | D5: =IF(ISBLANK($C5), "", VLOOKUP($C5,PAcomplet,2,FALSE)) -> 2 | E5: 41696 | F5: A | G5: 79 | H5: BGO | I5: BPE | J5: Enrobage, aciers 52 à reprendre. | K5: Réserves levées le 27/02/2014 | L5: N | N5: Ratio PA acceptés | O5: =IFERROR(O2/(O2+O3),"") -> 1 | P5: =IFERROR(P2/(P2+P3),"") -> 1 | Q5: =IFERROR(Q2/(Q2+Q3),"") -> 1 | R5: =IF(R4=0,"",R2/(R2+R3)) -> 1
A6: =HYPERLINK(CONCATENATE(repetoire,"\",(MID(CELL("nomfichier",$A$1),FIND("]",CELL("nomfichier",$A$1),1)+1,30)),"\","PA",ROW(A6)-1,".pdf"),ROW(A6)-1) -> 5 | B6: Semelle mur M4 | C6: autorisation de bétonnage | D6: =IF(ISBLANK($C6), "", VLOOKUP($C6,PAcomplet,2,FALSE)) -> 2 | E6: 41690 | F6: A | G6: 62 | H6: BGO | I6: BPE | L6: N | N6: Ratio PA refusés | O6: =IFERROR(O3/(O2+O3),"") -> 0 | P6: =IFERROR(P3/(P2+P3),"") -> 0 | Q6: =IFERROR(Q3/(Q2+Q3),"") -> 0 | R6: =IF(R4=0,"",R3/(R2+R3)) -> 0
A7: =HYPERLINK(CONCATENATE(repetoire,"\",(MID(CELL("nomfichier",$A$1),FIND("]",CELL("nomfichier",$A$1),1)+1,30)),"\","PA",ROW(A7)-1,".pdf"),ROW(A7)-1) -> 6 | B7: Piédroit n°1 | C7: autorisation de bétonnage | D7: =IF(ISBLANK($C7), "", VLOOKUP($C7,PAcomplet,2,FALSE)) -> 2 | E7: 41711 | F7: A | G7: 119 | H7: LSP | I7: BPE | L7: N | N7: Ratio PA réalisés | O7: =IFERROR((O2+O3)/O4,"") -> 1 | P7: =IFERROR((P2+P3)/P4,"") -> 0.76923077 | Q7: =IFERROR((Q2+Q3)/Q4,"") -> 0.8 | R7: =IF(R4=0,"",(R2+R3)/R4) -> 1
A8: =HYPERLINK(CONCATENATE(repetoire,"\",(MID(CELL("nomfichier",$A$1),FIND("]",CELL("nomfichier",$A$1),1)+1,30)),"\","PA",ROW(A8)-1,".pdf"),ROW(A8)-1) -> 7 | B8: Piédroit n°2 | C8: autorisation de bétonnage | D8: =IF(ISBLANK($C8), "", VLOOKUP($C8,PAcomplet,2,FALSE)) -> 2 | E8: 41718 | F8: NP | H8: LSP | I8: BPE | L8: N | N8: Dans le mois | O8: =Stat!$C$14 -> 6 | P8: =Stat!$D$14 -> 2014
A9: =HYPERLINK(CONCATENATE(repetoire,"\",(MID(CELL("nomfichier",$A$1),FIND("]",CELL("nomfichier",$A$1),1)+1,30)),"\","PA",ROW(A9)-1,".pdf"),ROW(A9)-1) -> 8 | B9: Traverse sup. | C9: autorisation de bétonnage | D9: =IF(ISBLANK($C9), "", VLOOKUP($C9,PAcomplet,2,FALSE)) -> 2 | E9: 41795 | F9: A | G9: 510 | H9: LSP | I9: BPE | L9: N | O9: PA1 | P9: PA2 | Q9: TOTAL
A10: =HYPERLINK(CONCATENATE(repetoire,"\",(MID(CELL("nomfichier",$A$1),FIND("]",CELL("nomfichier",$A$1),1)+1,30)),"\","PA",ROW(A10)-1,".pdf"),ROW(A10)-1) -> 9 | B10: Traverse sup. | C10: autorisation de bétonnage | D10: =IF(ISBLANK($C10), "", VLOOKUP($C10,PAcomplet,2,FALSE)) -> 2 | E10: 41801 | F10: A | G10: 539 | H10: LSP | I10: BPE | L10: N | N10: Nb PA acceptés | O10: =SUMPRODUCT(($D$2:$D$218=1)*($F$2:$F$218="A")*(MONTH($E$2:$E$218)=$O$8)*(YEAR($E$2:$E$218)=$P$8)) -> 0 | P10: =SUMPRODUCT(($D$2:$D$218=2)*($F$2:$F$218="A")*(MONTH($E$2:$E$218)=$O$8)*(YEAR($E$2:$E$218)=$P$8)) -> 2 | Q10: =O10+P10 -> 2 | R10: =SUMPRODUCT(($D$2:$D$218="pc")*($F$2:$F$218="A")*(MONTH($E$2:$E$218)=$O$8)*(YEAR($E$2:$E$218)=$P$8)) -> 0
A11: =HYPERLINK(CONCATENATE(repetoire,"\",(MID(CELL("nomfichier",$A$1),FIND("]",CELL("nomfichier",$A$1),1)+1,30)),"\","PA",ROW(A11)-1,".pdf"),ROW(A11)-1) -> 10 | B11: Mur M1 | C11: autorisation de bétonnage | D11: =IF(ISBLANK($C11), "", VLOOKUP($C11,PAcomplet,2,FALSE)) -> 2 | E11: 41752 | F11: A | G11: 293 | H11: LSP | I11: BPE | L11: N | N11: Nb PA refusés | O11: =SUMPRODUCT(($D$2:$D$218=1)*($F$2:$F$218="R")*(MONTH($E$2:$E$218)=$O$8)*(YEAR($E$2:$E$218)=$P$8)) -> 0 | P11: =SUMPRODUCT(($D$2:$D$218=2)*($F$2:$F$218="R")*(MONTH($E$2:$E$218)=$O$8)*(YEAR($E$2:$E$218)=$P$8)) -> 0 | Q11: =O11+P11 -> 0 | R11: =SUMPRODUCT(($D$2:$D$218="pc")*($F$2:$F$218="R")*(MONTH($E$2:$E$218)=$O$8)*(YEAR($E$2:$E$218)=$P$8)) -> 0
A12: =HYPERLINK(CONCATENATE(repetoire,"\",(MID(CELL("nomfichier",$A$1),FIND("]",CELL("nomfichier",$A$1),1)+1,30)),"\","PA",ROW(A12)-1,".pdf"),ROW(A12)-1) -> 11 | B12: Mur M2 | C12: point critique | D12: =IF(ISBLANK($C12), "", VLOOKUP($C12,PAcomplet,2,FALSE)) -> PC | E12: 41729 | F12: A | G12: 177 | H12: LSP | I12: BPE | K12: reprendre les recouvrements | L12: N | N12: Nb PA à réaliser | O12: =SUMPRODUCT(($D$2:$D$218=1)*(NOT(ISBLANK($F$2:$F$218)))*(MONTH($E$2:$E$218)=$O$8)*(YEAR($E$2:$E$218)=$P$8)) -> 0 | P12: =SUMPRODUCT(($D$2:$D$218=2)*(NOT(ISBLANK($F$2:$F$218)))*(MONTH($E$2:$E$218)=$O$8)*(YEAR($E$2:$E$218)=$P$8)) -> 4 | Q12: =O12+P12 -> 4 | R12: =SUMPRODUCT(($D$2:$D$218="PC")*(NOT(ISBLANK($F$2:$F$218)))*(MONTH($E$2:$E$218)=$O$8)*(YEAR($E$2:$E$218)=$P$8)) -> 0
A13: =HYPERLINK(CONCATENATE(repetoire,"\",(MID(CELL("nomfichier",$A$1),FIND("]",CELL("nomfichier",$A$1),1)+1,30)),"\","PA",ROW(A13)-1,".pdf"),ROW(A13)-1) -> 12 | B13: Mur M2 | C13: autorisation de bétonnage | D13: =IF(ISBLANK($C13), "", VLOOKUP($C13,PAcomplet,2,FALSE)) -> 2 | E13: 41731 | F13: A | G13: 195 | H13: LSP | I13: BPE | L13: N | N13: Ratio PA acceptés | O13: =IFERROR(O10/($O$10+$O$11),"") | P13: =IFERROR(P10/(P10+P11),"") -> 1 | Q13: =IFERROR(Q10/(Q10+Q11),"") -> 1 | R13: =IFERROR(R10/(R10+R11),"")
A14: =HYPERLINK(CONCATENATE(repetoire,"\",(MID(CELL("nomfichier",$A$1),FIND("]",CELL("nomfichier",$A$1),1)+1,30)),"\","PA",ROW(A14)-1,".pdf"),ROW(A14)-1) -> 13 | B14: Mur M3 | C14: autorisation de bétonnage | D14: =IF(ISBLANK($C14), "", VLOOKUP($C14,PAcomplet,2,FALSE)) -> 2 | E14: 41765 | F14: A | G14: 352 | H14: LSP | I14: BPE | L14: N | N14: Ratio PA refusés | O14: =IFERROR(O11/($O$10+$O$11),"") | P14: =IFERROR(P11/(P10+P11),"") -> 0 | Q14: =IFERROR(Q11/(Q10+Q11),"") -> 0 | R14: =IFERROR(R11/(R10+R11),"")
A15: =HYPERLINK(CONCATENATE(repetoire,"\",(MID(CELL("nomfichier",$A$1),FIND("]",CELL("nomfichier",$A$1),1)+1,30)),"\","PA",ROW(A15)-1,".pdf"),ROW(A15)-1) -> 14 | B15: Mur M4 | C15: point critique | D15: =IF(ISBLANK($C15), "", VLOOKUP($C15,PAcomplet,2,FALSE)) -> PC | E15: 41737 | F15: A | G15: 223 | H15: LSP | I15: BPE | L15: N | N15: Ratio PA réalisés | O15: =IFERROR((O10+O11)/O12,"") | P15: =IFERROR((P10+P11)/P12,"") -> 0.5 | Q15: =IFERROR((Q10+Q11)/Q12,"") -> 0.5 | R15: =IFERROR((R10+R11)/R12,"")
A16: =HYPERLINK(CONCATENATE(repetoire,"\",(MID(CELL("nomfichier",$A$1),FIND("]",CELL("nomfichier",$A$1),1)+1,30)),"\","PA",ROW(A16)-1,".pdf"),ROW(A16)-1) -> 15 | B16: Mur M4 | C16: autorisation de bétonnage | D16: =IF(ISBLANK($C16), "", VLOOKUP($C16,PAcomplet,2,FALSE)) -> 2 | E16: 41739 | F16: A | G16: 230 | H16: LSP | I16: BPE | L16: N
A17: =HYPERLINK(CONCATENATE(repetoire,"\",(MID(CELL("nomfichier",$A$1),FIND("]",CELL("nomfichier",$A$1),1)+1,30)),"\","PA",ROW(A17)-1,".pdf"),ROW(A17)-1) -> 16 | B17: Longrine L1 | C17: autorisation de bétonnage | D17: =IF(ISBLANK($C17), "", VLOOKUP($C17,PAcomplet,2,FALSE)) -> 2 | E17: 41807 | F17: NP | H17: LSP | I17: BPE | N17: Nbre de PA réalisés par | O17: LSP | P17: NLA | Q17: BGO | R17: FAS
A18: =HYPERLINK(CONCATENATE(repetoire,"\",(MID(CELL("nomfichier",$A$1),FIND("]",CELL("nomfichier",$A$1),1)+1,30)),"\","PA",ROW(A18)-1,".pdf"),ROW(A18)-1) -> 17 | B18: Longrine L2 | C18: autorisation de bétonnage | D18: =IF(ISBLANK($C18), "", VLOOKUP($C18,PAcomplet,2,FALSE)) -> 2 | E18: 41806 | F18: NP | H18: LSP | I18: BPE | O18: =COUNTIF($H$2:$H$199,"LSP") -> 12 | P18: =COUNTIF($H$2:$I$199,"NLA") -> 3 | Q18: =COUNTIF($H$2:$J$199,"BGO") -> 2 | R18: =COUNTIF($H$2:$J$199,R17) -> 0
A19: =HYPERLINK(CONCATENATE(repetoire,"\",(MID(CELL("nomfichier",$A$1),FIND("]",CELL("nomfichier",$A$1),1)+1,30)),"\","PA",ROW(A19)-1,".pdf"),ROW(A19)-1) -> 18 | D19: =IF(ISBLANK($C19), "", VLOOKUP($C19,PAcomplet,2,FALSE))
A20: =HYPERLINK(CONCATENATE(repetoire,"\",(MID(CELL("nomfichier",$A$1),FIND("]",CELL("nomfichier",$A$1),1)+1,30)),"\","PA",ROW(A20)-1,".pdf"),ROW(A20)-1) -> 19 | D20: =IF(ISBLANK($C20), "", VLOOKUP($C20,PAcomplet,2,FALSE))
A21: =HYPERLINK(CONCATENATE(repetoire,"\",(MID(CELL("nomfichier",$A$1),FIND("]",CELL("nomfichier",$A$1),1)+1,30)),"\","PA",ROW(A21)-1,".pdf"),ROW(A21)-1) -> 20 | D21: =IF(ISBLANK($C21), "", VLOOKUP($C21,PAcomplet,2,FALSE))
A22: =HYPERLINK(CONCATENATE(repetoire,"\",(MID(CELL("nomfichier",$A$1),FIND("]",CELL("nomfichier",$A$1),1)+1,30)),"\","PA",ROW(A22)-1,".pdf"),ROW(A22)-1) -> 21 | D22: =IF(ISBLANK($C22), "", VLOOKUP($C22,PAcomplet,2,FALSE))
A23: =HYPERLINK(CONCATENATE(repetoire,"\",(MID(CELL("nomfichier",$A$1),FIND("]",CELL("nomfichier",$A$1),1)+1,30)),"\","PA",ROW(A23)-1,".pdf"),ROW(A23)-1) -> 22 | D23: =IF(ISBLANK($C23), "", VLOOKUP($C23,PAcomplet,2,FALSE))
A24: =HYPERLINK(CONCATENATE(repetoire,"\",(MID(CELL("nomfichier",$A$1),FIND("]",CELL("nomfichier",$A$1),1)+1,30)),"\","PA",ROW(A24)-1,".pdf"),ROW(A24)-1) -> 23 | D24: =IF(ISBLANK($C24), "", VLOOKUP($C24,PAcomplet,2,FALSE))
A25: =HYPERLINK(CONCATENATE(repetoire,"\",(MID(CELL("nomfichier",$A$1),FIND("]",CELL("nomfichier",$A$1),1)+1,30)),"\","PA",ROW(A25)-1,".pdf"),ROW(A25)-1) -> 24 | D25: =IF(ISBLANK($C25), "", VLOOKUP($C25,PAcomplet,2,FALSE))
A26: =HYPERLINK(CONCATENATE(repetoire,"\",(MID(CELL("nomfichier",$A$1),FIND("]",CELL("nomfichier",$A$1),1)+1,30)),"\","PA",ROW(A26)-1,".pdf"),ROW(A26)-1) -> 25 | D26: =IF(ISBLANK($C26), "", VLOOKUP($C26,PAcomplet,2,FALSE))
A27: =HYPERLINK(CONCATENATE(repetoire,"\",(MID(CELL("nomfichier",$A$1),FIND("]",CELL("nomfichier",$A$1),1)+1,30)),"\","PA",ROW(A27)-1,".pdf"),ROW(A27)-1) -> 26 | D27: =IF(ISBLANK($C27), "", VLOOKUP($C27,PAcomplet,2,FALSE))
A28: =HYPERLINK(CONCATENATE(repetoire,"\",(MID(CELL("nomfichier",$A$1),FIND("]",CELL("nomfichier",$A$1),1)+1,30)),"\","PA",ROW(A28)-1,".pdf"),ROW(A28)-1) -> 27 | D28: =IF(ISBLANK($C28), "", VLOOKUP($C28,PAcomplet,2,FALSE))
A29: =HYPERLINK(CONCATENATE(repetoire,"\",(MID(CELL("nomfichier",$A$1),FIND("]",CELL("nomfichier",$A$1),1)+1,30)),"\","PA",ROW(A29)-1,".pdf"),ROW(A29)-1) -> 28 | D29: =IF(ISBLANK($C29), "", VLOOKUP($C29,PAcomplet,2,FALSE))
A30: =HYPERLINK(CONCATENATE(repetoire,"\",(MID(CELL("nomfichier",$A$1),FIND("]",CELL("nomfichier",$A$1),1)+1,30)),"\","PA",ROW(A30)-1,".pdf"),ROW(A30)-1) -> 29 | D30: =IF(ISBLANK($C30), "", VLOOKUP($C30,PAcomplet,2,FALSE))
... A199: =HYPERLINK(CONCATENATE(repetoire,"\",(MID(CELL("nomfichier",$A$1),FIND("]",CELL("nomfichier",$A$1),1)+1,30)),"\","PA",ROW(A199)-1,".pdf"),ROW(A199)-1) -> 198 | D199: =IF(ISBLANK($C199), "", VLOOKUP($C199,PAcomplet,2,FALSE))

Sheet TCouverte
A1: Numéro point d'arrêt | B1: Partie d'ouvrage | C1: PA | D1: Type PA | E1: Date | F1: Accepté A ou réfusé R | G1: Numéro du Rapport de surveillance | H1: Responsable du PA | I1: Statut des doc d'exe | J1: Réserves | K1: Observations | L1: Point d'arrêt scanné | O1: PA1 | P1: PA2 | Q1: TOTAL | R1: PC
A2: =HYPERLINK(CONCATENATE(repetoire,"\",(MID(CELL("nomfichier",$A$1),FIND("]",CELL("nomfichier",$A$1),1)+1,30)),"\","PA",ROW(A2)-1,".pdf"),ROW(A2)-1) -> 1 | B2: Galerie Sud | C2: implantation | D2: =IF(ISBLANK($C2), "", VLOOKUP($C2,PAcomplet,2,FALSE)) -> 1 | E2: 41730 | F2: A | H2: NLA | I2: BPE | L2: N | N2: Nb PA acceptés | O2: =SUMPRODUCT(($D$2:$D$220=1)*($F$2:$F$220="A")) -> 4 | P2: =SUMPRODUCT(($D$2:$D$220=2)*($F$2:$F$220="A")) -> 38 | Q2: =O2+P2 -> 42 | R2: =SUMPRODUCT(($D$2:$D$220="PC")*($F$2:$F$220="A")) -> 19
A3: =HYPERLINK(CONCATENATE(repetoire,"\",(MID(CELL("nomfichier",$A$1),FIND("]",CELL("nomfichier",$A$1),1)+1,30)),"\","PA",ROW(A3)-1,".pdf"),ROW(A3)-1) -> 2 | B3: Radier Sud - V1 - 31/34 | C3: autorisation de bétonnage | D3: =IF(ISBLANK($C3), "", VLOOKUP($C3,PAcomplet,2,FALSE)) -> 2 | E3: 41744 | F3: A | G3: 264 | H3: NLA | I3: BPE | L3: N | N3: Nb PA refusés | O3: =SUMPRODUCT(($D$2:$D$220=1)*($F$2:$F$220="R")) -> 0 | P3: =SUMPRODUCT(($D$2:$D$220=2)*($F$2:$F$220="R")) -> 0 | Q3: =O3+P3 -> 0 | R3: =SUMPRODUCT(($D$2:$D$220="PC")*($F$2:$F$220="R")) -> 0
A4: =HYPERLINK(CONCATENATE(repetoire,"\",(MID(CELL("nomfichier",$A$1),FIND("]",CELL("nomfichier",$A$1),1)+1,30)),"\","PA",ROW(A4)-1,".pdf"),ROW(A4)-1) -> 3 | B4: Radier Sud - V1 - 34/37 | C4: autorisation de bétonnage | D4: =IF(ISBLANK($C4), "", VLOOKUP($C4,PAcomplet,2,FALSE)) -> 2 | E4: 41752 | F4: A | G4: 294 | H4: NLA | I4: BPE | L4: N | N4: Nb PA à réaliser | O4: =SUMPRODUCT(($D$2:$D$220=1)*(NOT(ISBLANK($F$2:$F$220)))) -> 4 | P4: =SUMPRODUCT(($D$2:$D$220=2)*(NOT(ISBLANK($F$2:$F$220)))) -> 42 | Q4: =O4+P4 -> 46 | R4: =SUMPRODUCT(($D$2:$D$220="pc")*(NOT(ISBLANK($F$2:$F$220)))) -> 19
A5: =HYPERLINK(CONCATENATE(repetoire,"\",(MID(CELL("nomfichier",$A$1),FIND("]",CELL("nomfichier",$A$1),1)+1,30)),"\","PA",ROW(A5)-1,".pdf"),ROW(A5)-1) -> 4 | B5: Sud Vint - V1 - 31/33 | C5: autorisation de bétonnage | D5: =IF(ISBLANK($C5), "", VLOOKUP($C5,PAcomplet,2,FALSE)) -> 2 | E5: 41753 | F5: A | G5: 301 | H5: NLA | I5: BPE | L5: N | N5: Ratio PA acceptés | O5: =IFERROR(O2/(O2+O3),"") -> 1 | P5: =IFERROR(P2/(P2+P3),"") -> 1 | Q5: =IFERROR(Q2/(Q2+Q3),"") -> 1 | R5: =IF(R4=0,"",R2/(R2+R3)) -> 1
A6: =HYPERLINK(CONCATENATE(repetoire,"\",(MID(CELL("nomfichier",$A$1),FIND("]",CELL("nomfichier",$A$1),1)+1,30)),"\","PA",ROW(A6)-1,".pdf"),ROW(A6)-1) -> 5 | B6: Sud Vint - V1 - 33/35 | C6: autorisation de bétonnage | D6: =IF(ISBLANK($C6), "", VLOOKUP($C6,PAcomplet,2,FALSE)) -> 2 | E6: 41758 | F6: A | G6: 330 | H6: NLA | I6: BPE | L6: N | N6: Ratio PA refusés | O6: =IFERROR(O3/(O2+O3),"") -> 0 | P6: =IFERROR(P3/(P2+P3),"") -> 0 | Q6: =IFERROR(Q3/(Q2+Q3),"") -> 0 | R6: =IF(R4=0,"",R3/(R2+R3)) -> 0
A7: =HYPERLINK(CONCATENATE(repetoire,"\",(MID(CELL("nomfichier",$A$1),FIND("]",CELL("nomfichier",$A$1),1)+1,30)),"\","PA",ROW(A7)-1,".pdf"),ROW(A7)-1) -> 6 | B7: Sud Vext - V1 - 31/33 | C7: autorisation de bétonnage | D7: =IF(ISBLANK($C7), "", VLOOKUP($C7,PAcomplet,2,FALSE)) -> 2 | E7: 41758 | F7: A | G7: 331 | H7: NLA | I7: BPE | L7: N | N7: Ratio PA réalisés | O7: =IFERROR((O2+O3)/O4,"") -> 1 | P7: =IFERROR((P2+P3)/P4,"") -> 0.9047619 | Q7: =IFERROR((Q2+Q3)/Q4,"") -> 0.91304348 | R7: =IF(R4=0,"",(R2+R3)/R4) -> 1
A8: =HYPERLINK(CONCATENATE(repetoire,"\",(MID(CELL("nomfichier",$A$1),FIND("]",CELL("nomfichier",$A$1),1)+1,30)),"\","PA",ROW(A8)-1,".pdf"),ROW(A8)-1) -> 7 | B8: Radier Sud - V2 - 41/44 | C8: autorisation de bétonnage | D8: =IF(ISBLANK($C8), "", VLOOKUP($C8,PAcomplet,2,FALSE)) -> 2 | E8: 41758 | F8: A | G8: 332 | H8: NLA | I8: BPE | L8: N | N8: Dans le mois | O8: =Stat!$C$14 -> 6 | P8: =Stat!$D$14 -> 2014
A9: =HYPERLINK(CONCATENATE(repetoire,"\",(MID(CELL("nomfichier",$A$1),FIND("]",CELL("nomfichier",$A$1),1)+1,30)),"\","PA",ROW(A9)-1,".pdf"),ROW(A9)-1) -> 8 | B9: Galerie Nord | C9: implantation | D9: =IF(ISBLANK($C9), "", VLOOKUP($C9,PAcomplet,2,FALSE)) -> 1 | E9: 41758 | F9: A | H9: NLA | I9: BPE | L9: N | O9: PA1 | P9: PA2 | Q9: TOTAL
A10: =HYPERLINK(CONCATENATE(repetoire,"\",(MID(CELL("nomfichier",$A$1),FIND("]",CELL("nomfichier",$A$1),1)+1,30)),"\","PA",ROW(A10)-1,".pdf"),ROW(A10)-1) -> 9 | B10: Sud Vext - V1 33/35 | C10: point critique | D10: =IF(ISBLANK($C10), "", VLOOKUP($C10,PAcomplet,2,FALSE)) -> PC | E10: 41765 | F10: A | G10: 356 | H10: NLA | I10: BPE | L10: N | N10: Nb PA acceptés | O10: =SUMPRODUCT(($D$2:$D$220=1)*($F$2:$F$220="A")*(MONTH($E$2:$E$220)=$O$8)*(YEAR($E$2:$E$220)=$P$8)) -> 0 | P10: =SUMPRODUCT(($D$2:$D$220=2)*($F$2:$F$220="A")*(MONTH($E$2:$E$220)=$O$8)*(YEAR($E$2:$E$220)=$P$8)) -> 18 | Q10: =O10+P10 -> 18 | R10: =SUMPRODUCT(($D$2:$D$220="pc")*($F$2:$F$220="A")*(MONTH($E$2:$E$220)=$O$8)*(YEAR($E$2:$E$220)=$P$8)) -> 7
A11: =HYPERLINK(CONCATENATE(repetoire,"\",(MID(CELL("nomfichier",$A$1),FIND("]",CELL("nomfichier",$A$1),1)+1,30)),"\","PA",ROW(A11)-1,".pdf"),ROW(A11)-1) -> 10 | B11: Sud Vint - V2 41/44 | C11: point critique | D11: =IF(ISBLANK($C11), "", VLOOKUP($C11,PAcomplet,2,FALSE)) -> PC | E11: 41765 | F11: A | G11: 357 | H11: NLA | I11: BPE | L11: N | N11: Nb PA refusés | O11: =SUMPRODUCT(($D$2:$D$220=1)*($F$2:$F$220="R")*(MONTH($E$2:$E$220)=$O$8)*(YEAR($E$2:$E$220)=$P$8)) -> 0 | P11: =SUMPRODUCT(($D$2:$D$220=2)*($F$2:$F$220="R")*(MONTH($E$2:$E$220)=$O$8)*(YEAR($E$2:$E$220)=$P$8)) -> 0 | Q11: =O11+P11 -> 0 | R11: =SUMPRODUCT(($D$2:$D$220="pc")*($F$2:$F$220="R")*(MONTH($E$2:$E$220)=$O$8)*(YEAR($E$2:$E$220)=$P$8)) -> 0
A12: =HYPERLINK(CONCATENATE(repetoire,"\",(MID(CELL("nomfichier",$A$1),FIND("]",CELL("nomfichier",$A$1),1)+1,30)),"\","PA",ROW(A12)-1,".pdf"),ROW(A12)-1) -> 11 | B12: Radier Sud - V2 44 à 46 | C12: point critique | D12: =IF(ISBLANK($C12), "", VLOOKUP($C12,PAcomplet,2,FALSE)) -> PC | E12: 41765 | F12: A | G12: 358 | H12: NLA | I12: BPE | L12: N | N12: Nb PA à réaliser | O12: =SUMPRODUCT(($D$2:$D$220=1)*(NOT(ISBLANK($F$2:$F$220)))*(MONTH($E$2:$E$220)=$O$8)*(YEAR($E$2:$E$220)=$P$8)) -> 0 | P12: =SUMPRODUCT(($D$2:$D$220=2)*(NOT(ISBLANK($F$2:$F$220)))*(MONTH($E$2:$E$220)=$O$8)*(YEAR($E$2:$E$220)=$P$8)) -> 20 | Q12: =O12+P12 -> 20 | R12: =SUMPRODUCT(($D$2:$D$220="PC")*(NOT(ISBLANK($F$2:$F$220)))*(MONTH($E$2:$E$220)=$O$8)*(YEAR($E$2:$E$220)=$P$8)) -> 7
A13: =HYPERLINK(CONCATENATE(repetoire,"\",(MID(CELL("nomfichier",$A$1),FIND("]",CELL("nomfichier",$A$1),1)+1,30)),"\","PA",ROW(A13)-1,".pdf"),ROW(A13)-1) -> 12 | B13: Sud Vext - V1 33/35 | C13: autorisation de bétonnage | D13: =IF(ISBLANK($C13), "", VLOOKUP($C13,PAcomplet,2,FALSE)) -> 2 | E13: 41766 | F13: A | G13: 359 | H13: NLA | I13: BPE | L13: N | N13: Ratio PA acceptés | O13: =IFERROR(O10/($O$10+$O$11),"") | P13: =IFERROR(P10/(P10+P11),"") -> 1 | Q13: =IFERROR(Q10/(Q10+Q11),"") -> 1 | R13: =IFERROR(R10/(R10+R11),"") -> 1
A14: =HYPERLINK(CONCATENATE(repetoire,"\",(MID(CELL("nomfichier",$A$1),FIND("]",CELL("nomfichier",$A$1),1)+1,30)),"\","PA",ROW(A14)-1,".pdf"),ROW(A14)-1) -> 13 | B14: Sud Vint - V2 41/44 | C14: autorisation de bétonnage | D14: =IF(ISBLANK($C14), "", VLOOKUP($C14,PAcomplet,2,FALSE)) -> 2 | E14: 41766 | F14: A | G14: 360 | H14: NLA | I14: BPE | L14: N | N14: Ratio PA refusés | O14: =IFERROR(O11/($O$10+$O$11),"") | P14: =IFERROR(P11/(P10+P11),"") -> 0 | Q14: =IFERROR(Q11/(Q10+Q11),"") -> 0 | R14: =IFERROR(R11/(R10+R11),"") -> 0
A15: =HYPERLINK(CONCATENATE(repetoire,"\",(MID(CELL("nomfichier",$A$1),FIND("]",CELL("nomfichier",$A$1),1)+1,30)),"\","PA",ROW(A15)-1,".pdf"),ROW(A15)-1) -> 14 | B15: Radier Sud - V2 44 à 46 | C15: autorisation de bétonnage | D15: =IF(ISBLANK($C15), "", VLOOKUP($C15,PAcomplet,2,FALSE)) -> 2 | E15: 41766 | F15: A | G15: 361 | H15: NLA | I15: BPE | L15: N | N15: Ratio PA réalisés | O15: =IFERROR((O10+O11)/O12,"") | P15: =IFERROR((P10+P11)/P12,"") -> 0.9 | Q15: =IFERROR((Q10+Q11)/Q12,"") -> 0.9 | R15: =IFERROR((R10+R11)/R12,"") -> 1
A16: =HYPERLINK(CONCATENATE(repetoire,"\",(MID(CELL("nomfichier",$A$1),FIND("]",CELL("nomfichier",$A$1),1)+1,30)),"\","PA",ROW(A16)-1,".pdf"),ROW(A16)-1) -> 15 | B16: Murette guide n°--- à n°--- | C16: implantation | D16: =IF(ISBLANK($C16), "", VLOOKUP($C16,PAcomplet,2,FALSE)) -> 1 | E16: 41766 | F16: A | H16: NLA | I16: BPE | L16: N
A17: =HYPERLINK(CONCATENATE(repetoire,"\",(MID(CELL("nomfichier",$A$1),FIND("]",CELL("nomfichier",$A$1),1)+1,30)),"\","PA",ROW(A17)-1,".pdf"),ROW(A17)-1) -> 16 | B17: Sud Vint - V2 - 44/46 | C17: point critique | D17: =IF(ISBLANK($C17), "", VLOOKUP($C17,PAcomplet,2,FALSE)) -> PC | E17: 41772 | F17: A | G17: 394 | H17: NLA | I17: BPE | L17: N | N17: Nbre de PA réalisés par | O17: LSP | P17: NLA | Q17: BGO | R17: FAS
A18: =HYPERLINK(CONCATENATE(repetoire,"\",(MID(CELL("nomfichier",$A$1),FIND("]",CELL("nomfichier",$A$1),1)+1,30)),"\","PA",ROW(A18)-1,".pdf"),ROW(A18)-1) -> 17 | B18: Sud Vint - V2 - 44/46 | C18: autorisation de bétonnage | D18: =IF(ISBLANK($C18), "", VLOOKUP($C18,PAcomplet,2,FALSE)) -> 2 | E18: 41773 | F18: A | G18: 395 | H18: NLA | I18: BPE | L18: N | O18: =COUNTIF($H$2:$H$201,"LSP") -> 0 | P18: =COUNTIF($H$2:$I$201,"NLA") -> 48 | Q18: =COUNTIF($H$2:$J$201,"BGO") -> 15 | R18: =COUNTIF($H$2:$J$201,R17) -> 1
A19: =HYPERLINK(CONCATENATE(repetoire,"\",(MID(CELL("nomfichier",$A$1),FIND("]",CELL("nomfichier",$A$1),1)+1,30)),"\","PA",ROW(A19)-1,".pdf"),ROW(A19)-1) -> 18 | B19: Sud Vint - V1- 35/37 | C19: point critique | D19: =IF(ISBLANK($C19), "", VLOOKUP($C19,PAcomplet,2,FALSE)) -> PC | E19: 41772 | F19: A | G19: 396 | H19: NLA | I19: BPE | L19: N
A20: =HYPERLINK(CONCATENATE(repetoire,"\",(MID(CELL("nomfichier",$A$1),FIND("]",CELL("nomfichier",$A$1),1)+1,30)),"\","PA",ROW(A20)-1,".pdf"),ROW(A20)-1) -> 19 | B20: Sud Vint - V1- 35/37 | C20: autorisation de bétonnage | D20: =IF(ISBLANK($C20), "", VLOOKUP($C20,PAcomplet,2,FALSE)) -> 2 | E20: 41773 | F20: A | G20: 397 | H20: NLA | I20: BPE | L20: N
A21: =HYPERLINK(CONCATENATE(repetoire,"\",(MID(CELL("nomfichier",$A$1),FIND("]",CELL("nomfichier",$A$1),1)+1,30)),"\","PA",ROW(A21)-1,".pdf"),ROW(A21)-1) -> 20 | B21: Sud Vext - V1- 35/37 | C21: point critique | D21: =IF(ISBLANK($C21), "", VLOOKUP($C21,PAcomplet,2,FALSE)) -> PC | E21: 41772 | F21: A | G21: 398 | H21: NLA | I21: BPE | L21: N
A22: =HYPERLINK(CONCATENATE(repetoire,"\",(MID(CELL("nomfichier",$A$1),FIND("]",CELL("nomfichier",$A$1),1)+1,30)),"\","PA",ROW(A22)-1,".pdf"),ROW(A22)-1) -> 21 | B22: Sud Vext - V1- 35/37 | C22: autorisation de bétonnage | D22: =IF(ISBLANK($C22), "", VLOOKUP($C22,PAcomplet,2,FALSE)) -> 2 | E22: 41773 | F22: A | G22: 399 | H22: NLA | I22: BPE | L22: N
A23: =HYPERLINK(CONCATENATE(repetoire,"\",(MID(CELL("nomfichier",$A$1),FIND("]",CELL("nomfichier",$A$1),1)+1,30)),"\","PA",ROW(A23)-1,".pdf"),ROW(A23)-1) -> 22 | B23: Sud Vext - V2- 41/44 | C23: point critique | D23: =IF(ISBLANK($C23), "", VLOOKUP($C23,PAcomplet,2,FALSE)) -> PC | E23: 41773 | F23: A | G23: 400 | H23: NLA | I23: BPE | L23: N
A24: =HYPERLINK(CONCATENATE(repetoire,"\",(MID(CELL("nomfichier",$A$1),FIND("]",CELL("nomfichier",$A$1),1)+1,30)),"\","PA",ROW(A24)-1,".pdf"),ROW(A24)-1) -> 23 | B24: Sud Vext - V2- 41/44 | C24: autorisation de bétonnage | D24: =IF(ISBLANK($C24), "", VLOOKUP($C24,PAcomplet,2,FALSE)) -> 2 | E24: 41774 | F24: A | G24: 401 | H24: NLA | I24: BPE | L24: N
A25: =HYPERLINK(CONCATENATE(repetoire,"\",(MID(CELL("nomfichier",$A$1),FIND("]",CELL("nomfichier",$A$1),1)+1,30)),"\","PA",ROW(A25)-1,".pdf"),ROW(A25)-1) -> 24 | B25: Radier Sud - V1 - 37/38 | C25: autorisation de bétonnage | D25: =IF(ISBLANK($C25), "", VLOOKUP($C25,PAcomplet,2,FALSE)) -> 2 | E25: 41773 | F25: A | G25: 402 | H25: NLA | I25: BPE | L25: N
A26: =HYPERLINK(CONCATENATE(repetoire,"\",(MID(CELL("nomfichier",$A$1),FIND("]",CELL("nomfichier",$A$1),1)+1,30)),"\","PA",ROW(A26)-1,".pdf"),ROW(A26)-1) -> 25 | B26: Radier Sud - V2 - 46/49 | C26: autorisation de bétonnage | D26: =IF(ISBLANK($C26), "", VLOOKUP($C26,PAcomplet,2,FALSE)) -> 2 | E26: 41774 | F26: NP | I26: BPE | L26: N
A27: =HYPERLINK(CONCATENATE(repetoire,"\",(MID(CELL("nomfichier",$A$1),FIND("]",CELL("nomfichier",$A$1),1)+1,30)),"\","PA",ROW(A27)-1,".pdf"),ROW(A27)-1) -> 26 | B27: Radier Nord - V2 - 19/21 | C27: autorisation de bétonnage | D27: =IF(ISBLANK($C27), "", VLOOKUP($C27,PAcomplet,2,FALSE)) -> 2 | E27: 41774 | F27: A | G27: 403 | H27: NLA | I27: BPE | L27: N
A28: =HYPERLINK(CONCATENATE(repetoire,"\",(MID(CELL("nomfichier",$A$1),FIND("]",CELL("nomfichier",$A$1),1)+1,30)),"\","PA",ROW(A28)-1,".pdf"),ROW(A28)-1) -> 27 | B28: PNIV2 - 146 | C28: contrôle ferraillage pieu | D28: =IF(ISBLANK($C28), "", VLOOKUP($C28,PAcomplet,2,FALSE)) -> 2 | E28: 41773 | F28: A | G28: 404 | H28: NLA | I28: BPE | L28: N
A29: =HYPERLINK(CONCATENATE(repetoire,"\",(MID(CELL("nomfichier",$A$1),FIND("]",CELL("nomfichier",$A$1),1)+1,30)),"\","PA",ROW(A29)-1,".pdf"),ROW(A29)-1) -> 28 | B29: Murette guide n°--- à n°--- | C29: implantation | D29: =IF(ISBLANK($C29), "", VLOOKUP($C29,PAcomplet,2,FALSE)) -> 1 | E29: 41773 | F29: A | H29: NLA | I29: BPE | L29: N
A30: =HYPERLINK(CONCATENATE(repetoire,"\",(MID(CELL("nomfichier",$A$1),FIND("]",CELL("nomfichier",$A$1),1)+1,30)),"\","PA",ROW(A30)-1,".pdf"),ROW(A30)-1) -> 29 | B30: Sud Vext V2 44/46 | C30: autorisation de bétonnage | D30: =IF(ISBLANK($C30), "", VLOOKUP($C30,PAcomplet,2,FALSE)) -> 2 | E30: 41779 | F30: A | G30: 413 | H30: BGO | I30: BPE | L30: N
A31: =HYPERLINK(CONCATENATE(repetoire,"\",(MID(CELL("nomfichier",$A$1),FIND("]",CELL("nomfichier",$A$1),1)+1,30)),"\","PA",ROW(A31)-1,".pdf"),ROW(A31)-1) -> 30 | B31: Sud Vint V2 46/49 | C31: point critique | D31: =IF(ISBLANK($C31), "", VLOOKUP($C31,PAcomplet,2,FALSE)) -> PC | E31: 41779 | F31: A | G31: 413 | H31: BGO | I31: BPE | L31: N
A32: =HYPERLINK(CONCATENATE(repetoire,"\",(MID(CELL("nomfichier",$A$1),FIND("]",CELL("nomfichier",$A$1),1)+1,30)),"\","PA",ROW(A32)-1,".pdf"),ROW(A32)-1) -> 31 | B32: Nord Vint V1 5/10 | C32: point critique | D32: =IF(ISBLANK($C32), "", VLOOKUP($C32,PAcomplet,2,FALSE)) -> PC | E32: 41781 | F32: A | G32: 499 | H32: BGO | I32: BPE | L32: N
A33: =HYPERLINK(CONCATENATE(repetoire,"\",(MID(CELL("nomfichier",$A$1),FIND("]",CELL("nomfichier",$A$1),1)+1,30)),"\","PA",ROW(A33)-1,".pdf"),ROW(A33)-1) -> 32 | B33: Sud Vext V2 46/49 | C33: autorisation de bétonnage | D33: =IF(ISBLANK($C33), "", VLOOKUP($C33,PAcomplet,2,FALSE)) -> 2 | E33: 41781 | F33: A | G33: 499 | H33: BGO | I33: BPE | L33: N
A34: =HYPERLINK(CONCATENATE(repetoire,"\",(MID(CELL("nomfichier",$A$1),FIND("]",CELL("nomfichier",$A$1),1)+1,30)),"\","PA",ROW(A34)-1,".pdf"),ROW(A34)-1) -> 33 | B34: Nord Vint V1 5/7 | C34: autorisation de bétonnage | D34: =IF(ISBLANK($C34), "", VLOOKUP($C34,PAcomplet,2,FALSE)) -> 2 | E34: 41780 | F34: A | G34: 420 | H34: BGO | I34: BPE | L34: N
A35: =HYPERLINK(CONCATENATE(repetoire,"\",(MID(CELL("nomfichier",$A$1),FIND("]",CELL("nomfichier",$A$1),1)+1,30)),"\","PA",ROW(A35)-1,".pdf"),ROW(A35)-1) -> 34 | B35: Nord Radier V2 19/17 | C35: autorisation de bétonnage | D35: =IF(ISBLANK($C35), "", VLOOKUP($C35,PAcomplet,2,FALSE)) -> 2 | E35: 41780 | F35: A | G35: 420 | H35: BGO | I35: BPE | L35: N
A36: =HYPERLINK(CONCATENATE(repetoire,"\",(MID(CELL("nomfichier",$A$1),FIND("]",CELL("nomfichier",$A$1),1)+1,30)),"\","PA",ROW(A36)-1,".pdf"),ROW(A36)-1) -> 35 | B36: Radier Nord - V1 - 3/5 | C36: point critique | D36: =IF(ISBLANK($C36), "", VLOOKUP($C36,PAcomplet,2,FALSE)) -> PC | E36: 41786 | F36: A | G36: 500 | H36: BGO | I36: BPE | L36: N
A37: =HYPERLINK(CONCATENATE(repetoire,"\",(MID(CELL("nomfichier",$A$1),FIND("]",CELL("nomfichier",$A$1),1)+1,30)),"\","PA",ROW(A37)-1,".pdf"),ROW(A37)-1) -> 36 | B37: Radier Nord - V1 - 3/1 | C37: point critique | D37: =IF(ISBLANK($C37), "", VLOOKUP($C37,PAcomplet,2,FALSE)) -> PC | E37: 41786 | F37: A | G37: 500 | H37: BGO | I37: BPE | L37: N
A38: =HYPERLINK(CONCATENATE(repetoire,"\",(MID(CELL("nomfichier",$A$1),FIND("]",CELL("nomfichier",$A$1),1)+1,30)),"\","PA",ROW(A38)-1,".pdf"),ROW(A38)-1) -> 37 | B38: Radier Nord - V2 - 15/13 | C38: point critique | D38: =IF(ISBLANK($C38), "", VLOOKUP($C38,PAcomplet,2,FALSE)) -> PC | E38: 41786 | F38: A | G38: 500 | H38: BGO | I38: BPE | L38: N
A39: =HYPERLINK(CONCATENATE(repetoire,"\",(MID(CELL("nomfichier",$A$1),FIND("]",CELL("nomfichier",$A$1),1)+1,30)),"\","PA",ROW(A39)-1,".pdf"),ROW(A39)-1) -> 38 | B39: Nord Vint V1 7/10 | C39: autorisation de bétonnage | D39: =IF(ISBLANK($C39), "", VLOOKUP($C39,PAcomplet,2,FALSE)) -> 2 | E39: 41786 | F39: NP | H39: BGO | I39: BPE | L39: N
A40: =HYPERLINK(CONCATENATE(repetoire,"\",(MID(CELL("nomfichier",$A$1),FIND("]",CELL("nomfichier",$A$1),1)+1,30)),"\","PA",ROW(A40)-1,".pdf"),ROW(A40)-1) -> 39 | B40: Nord Vint V1 5/7 | C40: autorisation de bétonnage | D40: =IF(ISBLANK($C40), "", VLOOKUP($C40,PAcomplet,2,FALSE)) -> 2 | E40: 41792 | F40: A | G40: 501 | H40: BGO | I40: BPE | L40: N
A41: =HYPERLINK(CONCATENATE(repetoire,"\",(MID(CELL("nomfichier",$A$1),FIND("]",CELL("nomfichier",$A$1),1)+1,30)),"\","PA",ROW(A41)-1,".pdf"),ROW(A41)-1) -> 40 | B41: Nord V int V1 7/10 | C41: autorisation de bétonnage | D41: =IF(ISBLANK($C41), "", VLOOKUP($C41,PAcomplet,2,FALSE)) -> 2 | E41: 41792 | F41: A | G41: 501 | H41: BGO | I41: BPE | L41: N
A42: =HYPERLINK(CONCATENATE(repetoire,"\",(MID(CELL("nomfichier",$A$1),FIND("]",CELL("nomfichier",$A$1),1)+1,30)),"\","PA",ROW(A42)-1,".pdf"),ROW(A42)-1) -> 41 | B42: Nord V int V2 13/17 | C42: point critique | D42: =IF(ISBLANK($C42), "", VLOOKUP($C42,PAcomplet,2,FALSE)) -> PC | E42: 41792 | F42: A | G42: 501 | H42: BGO | I42: BPE | L42: N
A43: =HYPERLINK(CONCATENATE(repetoire,"\",(MID(CELL("nomfichier",$A$1),FIND("]",CELL("nomfichier",$A$1),1)+1,30)),"\","PA",ROW(A43)-1,".pdf"),ROW(A43)-1) -> 42 | B43: Nord Vext Nord V2 13/17 | C43: point critique | D43: =IF(ISBLANK($C43), "", VLOOKUP($C43,PAcomplet,2,FALSE)) -> PC | E43: 41792 | F43: A | G43: 501 | H43: BGO | I43: BPE | L43: N
A44: =HYPERLINK(CONCATENATE(repetoire,"\",(MID(CELL("nomfichier",$A$1),FIND("]",CELL("nomfichier",$A$1),1)+1,30)),"\","PA",ROW(A44)-1,".pdf"),ROW(A44)-1) -> 43 | B44: Nord Vext Nord V2 17/21 | C44: autorisation de bétonnage | D44: =IF(ISBLANK($C44), "", VLOOKUP($C44,PAcomplet,2,FALSE)) -> 2 | E44: 41792 | F44: A | G44: 501 | H44: BGO | I44: BPE | L44: N
A45: =HYPERLINK(CONCATENATE(repetoire,"\",(MID(CELL("nomfichier",$A$1),FIND("]",CELL("nomfichier",$A$1),1)+1,30)),"\","PA",ROW(A45)-1,".pdf"),ROW(A45)-1) -> 44 | B45: Vint Nord - V2 - 17/19 | C45: autorisation de bétonnage | D45: =IF(ISBLANK($C45), "", VLOOKUP($C45,PAcomplet,2,FALSE)) -> 2 | E45: 41794 | F45: A | G45: 511 | H45: NLA | I45: BPE | L45: N
A46: =HYPERLINK(CONCATENATE(repetoire,"\",(MID(CELL("nomfichier",$A$1),FIND("]",CELL("nomfichier",$A$1),1)+1,30)),"\","PA",ROW(A46)-1,".pdf"),ROW(A46)-1) -> 45 | B46: Vint Nord - V1 - 5/7 | C46: autorisation de bétonnage | D46: 2 | E46: 41794 | F46: A | G46: 512 | H46: NLA | I46: BPE | L46: N
A47: =HYPERLINK(CONCATENATE(repetoire,"\",(MID(CELL("nomfichier",$A$1),FIND("]",CELL("nomfichier",$A$1),1)+1,30)),"\","PA",ROW(A47)-1,".pdf"),ROW(A47)-1) -> 46 | B47: Radier Nord - V2 - 13/15 | C47: autorisation de bétonnage | D47: 2 | E47: 41794 | F47: A | G47: 513 | H47: NLA | I47: BPE | L47: N
A48: =HYPERLINK(CONCATENATE(repetoire,"\",(MID(CELL("nomfichier",$A$1),FIND("]",CELL("nomfichier",$A$1),1)+1,30)),"\","PA",ROW(A48)-1,".pdf"),ROW(A48)-1) -> 47 | B48: Radier Nord - V1 - 3/1 | C48: autorisation de bétonnage | D48: 2 | E48: 41794 | F48: A | G48: 514 | H48: NLA | I48: BPE | L48: N
A49: =HYPERLINK(CONCATENATE(repetoire,"\",(MID(CELL("nomfichier",$A$1),FIND("]",CELL("nomfichier",$A$1),1)+1,30)),"\","PA",ROW(A49)-1,".pdf"),ROW(A49)-1) -> 48 | B49: Vext Nord - V2 - 16/18 | C49: autorisation de bétonnage | D49: =IF(ISBLANK($C49), "", VLOOKUP($C49,PAcomplet,2,FALSE)) -> 2 | E49: 41796 | F49: A | G49: 515 | H49: NLA | I49: BPE | L49: N
A50: =HYPERLINK(CONCATENATE(repetoire,"\",(MID(CELL("nomfichier",$A$1),FIND("]",CELL("nomfichier",$A$1),1)+1,30)),"\","PA",ROW(A50)-1,".pdf"),ROW(A50)-1) -> 49 | B50: Vext Nord - V1 - 5/7 | C50: autorisation de bétonnage | D50: =IF(ISBLANK($C50), "", VLOOKUP($C50,PAcomplet,2,FALSE)) -> 2 | E50: 41796 | F50: A | G50: 516 | H50: NLA | I50: BPE | L50: N
A51: =HYPERLINK(CONCATENATE(repetoire,"\",(MID(CELL("nomfichier",$A$1),FIND("]",CELL("nomfichier",$A$1),1)+1,30)),"\","PA",ROW(A51)-1,".pdf"),ROW(A51)-1) -> 50 | B51: Panneau PMO V2-214 | C51: point critique | D51: =IF(ISBLANK($C51), "", VLOOKUP($C51,PAcomplet,2,FALSE)) -> PC | E51: 41796 | F51: A | G51: 517 | H51: NLA | I51: BPE | L51: N
A52: =HYPERLINK(CONCATENATE(repetoire,"\",(MID(CELL("nomfichier",$A$1),FIND("]",CELL("nomfichier",$A$1),1)+1,30)),"\","PA",ROW(A52)-1,".pdf"),ROW(A52)-1) -> 51 | B52: Dalle Sud - 41/44 | C52: point critique | D52: =IF(ISBLANK($C52), "", VLOOKUP($C52,PAcomplet,2,FALSE)) -> PC | E52: 41796 | F52: A | G52: 518 | H52: NLA | I52: BPE | L52: N
A53: =HYPERLINK(CONCATENATE(repetoire,"\",(MID(CELL("nomfichier",$A$1),FIND("]",CELL("nomfichier",$A$1),1)+1,30)),"\","PA",ROW(A53)-1,".pdf"),ROW(A53)-1) -> 52 | B53: Panneau PMO V1-224 | C53: point critique | D53: =IF(ISBLANK($C53), "", VLOOKUP($C53,PAcomplet,2,FALSE)) -> PC | E53: 41806 | F53: A | G53: 556 | H53: FAS | I53: BPE | L53: N
A54: =HYPERLINK(CONCATENATE(repetoire,"\",(MID(CELL("nomfichier",$A$1),FIND("]",CELL("nomfichier",$A$1),1)+1,30)),"\","PA",ROW(A54)-1,".pdf"),ROW(A54)-1) -> 53 | B54: Vint Nord - V2 - 14/16 | C54: autorisation de bétonnage | D54: =IF(ISBLANK($C54), "", VLOOKUP($C54,PAcomplet,2,FALSE)) -> 2 | E54: 41801 | F54: A | G54: 579 | H54: NLA | I54: BPE | L54: N
A55: =HYPERLINK(CONCATENATE(repetoire,"\",(MID(CELL("nomfichier",$A$1),FIND("]",CELL("nomfichier",$A$1),1)+1,30)),"\","PA",ROW(A55)-1,".pdf"),ROW(A55)-1) -> 54 | B55: Vint Nord - V1 - 2/5 | C55: autorisation de bétonnage | D55: 2 | E55: 41801 | F55: A | G55: 580 | H55: NLA | I55: BPE | L55: N
A56: =HYPERLINK(CONCATENATE(repetoire,"\",(MID(CELL("nomfichier",$A$1),FIND("]",CELL("nomfichier",$A$1),1)+1,30)),"\","PA",ROW(A56)-1,".pdf"),ROW(A56)-1) -> 55 | B56: Vext Nord - V2 - 14/17 | C56: autorisation de bétonnage | D56: =IF(ISBLANK($C56), "", VLOOKUP($C56,PAcomplet,2,FALSE)) -> 2 | E56: 41806 | F56: A | G56: 581 | H56: NLA | I56: BPE | L56: N
A57: =HYPERLINK(CONCATENATE(repetoire,"\",(MID(CELL("nomfichier",$A$1),FIND("]",CELL("nomfichier",$A$1),1)+1,30)),"\","PA",ROW(A57)-1,".pdf"),ROW(A57)-1) -> 56 | B57: Vext Nord - V1 - 2/5 | C57: autorisation de bétonnage | D57: =IF(ISBLANK($C57), "", VLOOKUP($C57,PAcomplet,2,FALSE)) -> 2 | E57: 41806 | F57: A | G57: 582 | H57: NLA | I57: BPE | L57: N
A58: =HYPERLINK(CONCATENATE(repetoire,"\",(MID(CELL("nomfichier",$A$1),FIND("]",CELL("nomfichier",$A$1),1)+1,30)),"\","PA",ROW(A58)-1,".pdf"),ROW(A58)-1) -> 57 | B58: Vint Nord - V2 - 13/14 | C58: autorisation de bétonnage | D58: =IF(ISBLANK($C58), "", VLOOKUP($C58,PAcomplet,2,FALSE)) -> 2 | E58: 41806 | F58: NP | H58: NLA | I58: BPE | L58: N
A59: =HYPERLINK(CONCATENATE(repetoire,"\",(MID(CELL("nomfichier",$A$1),FIND("]",CELL("nomfichier",$A$1),1)+1,30)),"\","PA",ROW(A59)-1,".pdf"),ROW(A59)-1) -> 58 | B59: Vint Nord - V1 - 1/2 | C59: autorisation de bétonnage | D59: =IF(ISBLANK($C59), "", VLOOKUP($C59,PAcomplet,2,FALSE)) -> 2 | E59: 41806 | F59: NP | H59: NLA | I59: BPE | L59: N
A60: =HYPERLINK(CONCATENATE(repetoire,"\",(MID(CELL("nomfichier",$A$1),FIND("]",CELL("nomfichier",$A$1),1)+1,30)),"\","PA",ROW(A60)-1,".pdf"),ROW(A60)-1) -> 59 | B60: Voile drapeau Vext Nord - V2 | C60: point critique | D60: =IF(ISBLANK($C60), "", VLOOKUP($C60,PAcomplet,2,FALSE)) -> PC | E60: 41808 | F60: A | G60: 596 | H60: NLA | I60: BPE | L60: N
A61: =HYPERLINK(CONCATENATE(repetoire,"\",(MID(CELL("nomfichier",$A$1),FIND("]",CELL("nomfichier",$A$1),1)+1,30)),"\","PA",ROW(A61)-1,".pdf"),ROW(A61)-1) -> 60 | B61: Vext Nord - V2 - 13/14 | C61: autorisation de bétonnage | D61: =IF(ISBLANK($C61), "", VLOOKUP($C61,PAcomplet,2,FALSE)) -> 2 | E61: 41809 | F61: A | G61: 597 | H61: NLA | I61: BPE | L61: N
A62: =HYPERLINK(CONCATENATE(repetoire,"\",(MID(CELL("nomfichier",$A$1),FIND("]",CELL("nomfichier",$A$1),1)+1,30)),"\","PA",ROW(A62)-1,".pdf"),ROW(A62)-1) -> 61 | B62: Vext Nord - V1 - 1/2 | C62: autorisation de bétonnage | D62: =IF(ISBLANK($C62), "", VLOOKUP($C62,PAcomplet,2,FALSE)) -> 2 | E62: 41809 | F62: A | G62: 598 | H62: NLA | I62: BPE | L62: N
A63: =HYPERLINK(CONCATENATE(repetoire,"\",(MID(CELL("nomfichier",$A$1),FIND("]",CELL("nomfichier",$A$1),1)+1,30)),"\","PA",ROW(A63)-1,".pdf"),ROW(A63)-1) -> 62 | B63: Voile drapeau Vext Nord - V2 | C63: autorisation de bétonnage | D63: =IF(ISBLANK($C63), "", VLOOKUP($C63,PAcomplet,2,FALSE)) -> 2 | E63: 41810 | F63: A | G63: 599 | H63: NLA | I63: BPE | L63: N
A64: =HYPERLINK(CONCATENATE(repetoire,"\",(MID(CELL("nomfichier",$A$1),FIND("]",CELL("nomfichier",$A$1),1)+1,30)),"\","PA",ROW(A64)-1,".pdf"),ROW(A64)-1) -> 63 | B64: Dalle Sud - 41/44 | C64: point critique | D64: =IF(ISBLANK($C64), "", VLOOKUP($C64,PAcomplet,2,FALSE)) -> PC | E64: 41801 | F64: A | G64: 600 | H64: NLA | I64: BPE | L64: N
A65: =HYPERLINK(CONCATENATE(repetoire,"\",(MID(CELL("nomfichier",$A$1),FIND("]",CELL("nomfichier",$A$1),1)+1,30)),"\","PA",ROW(A65)-1,".pdf"),ROW(A65)-1) -> 64 | B65: Dalle Sud - 41/44 | C65: autorisation de bétonnage | D65: =IF(ISBLANK($C65), "", VLOOKUP($C65,PAcomplet,2,FALSE)) -> 2 | E65: 41802 | F65: A | G65: 601 | H65: NLA | I65: BPE | L65: N
A66: =HYPERLINK(CONCATENATE(repetoire,"\",(MID(CELL("nomfichier",$A$1),FIND("]",CELL("nomfichier",$A$1),1)+1,30)),"\","PA",ROW(A66)-1,".pdf"),ROW(A66)-1) -> 65 | B66: Dalle Sud - 44/46 | C66: autorisation de bétonnage | D66: =IF(ISBLANK($C66), "", VLOOKUP($C66,PAcomplet,2,FALSE)) -> 2 | E66: 41813 | F66: A | G66: 609 | H66: NLA | I66: BPE | L66: N
A67: =HYPERLINK(CONCATENATE(repetoire,"\",(MID(CELL("nomfichier",$A$1),FIND("]",CELL("nomfichier",$A$1),1)+1,30)),"\","PA",ROW(A67)-1,".pdf"),ROW(A67)-1) -> 66 | D67: =IF(ISBLANK($C67), "", VLOOKUP($C67,PAcomplet,2,FALSE))
A68: =HYPERLINK(CONCATENATE(repetoire,"\",(MID(CELL("nomfichier",$A$1),FIND("]",CELL("nomfichier",$A$1),1)+1,30)),"\","PA",ROW(A68)-1,".pdf"),ROW(A68)-1) -> 67 | D68: =IF(ISBLANK($C68), "", VLOOKUP($C68,PAcomplet,2,FALSE))
A69: =HYPERLINK(CONCATENATE(repetoire,"\",(MID(CELL("nomfichier",$A$1),FIND("]",CELL("nomfichier",$A$1),1)+1,30)),"\","PA",ROW(A69)-1,".pdf"),ROW(A69)-1) -> 68 | D69: =IF(ISBLANK($C69), "", VLOOKUP($C69,PAcomplet,2,FALSE))
A70: =HYPERLINK(CONCATENATE(repetoire,"\",(MID(CELL("nomfichier",$A$1),FIND("]",CELL("nomfichier",$A$1),1)+1,30)),"\","PA",ROW(A70)-1,".pdf"),ROW(A70)-1) -> 69 | D70: =IF(ISBLANK($C70), "", VLOOKUP($C70,PAcomplet,2,FALSE))
A71: =HYPERLINK(CONCATENATE(repetoire,"\",(MID(CELL("nomfichier",$A$1),FIND("]",CELL("nomfichier",$A$1),1)+1,30)),"\","PA",ROW(A71)-1,".pdf"),ROW(A71)-1) -> 70 | D71: =IF(ISBLANK($C71), "", VLOOKUP($C71,PAcomplet,2,FALSE))
A72: =HYPERLINK(CONCATENATE(repetoire,"\",(MID(CELL("nomfichier",$A$1),FIND("]",CELL("nomfichier",$A$1),1)+1,30)),"\","PA",ROW(A72)-1,".pdf"),ROW(A72)-1) -> 71 | D72: =IF(ISBLANK($C72), "", VLOOKUP($C72,PAcomplet,2,FALSE))
A73: =HYPERLINK(CONCATENATE(repetoire,"\",(MID(CELL("nomfichier",$A$1),FIND("]",CELL("nomfichier",$A$1),1)+1,30)),"\","PA",ROW(A73)-1,".pdf"),ROW(A73)-1) -> 72 | D73: =IF(ISBLANK($C73), "", VLOOKUP($C73,PAcomplet,2,FALSE))
A74: =HYPERLINK(CONCATENATE(repetoire,"\",(MID(CELL("nomfichier",$A$1),FIND("]",CELL("nomfichier",$A$1),1)+1,30)),"\","PA",ROW(A74)-1,".pdf"),ROW(A74)-1) -> 73 | D74: =IF(ISBLANK($C74), "", VLOOKUP($C74,PAcomplet,2,FALSE))
A75: =HYPERLINK(CONCATENATE(repetoire,"\",(MID(CELL("nomfichier",$A$1),FIND("]",CELL("nomfichier",$A$1),1)+1,30)),"\","PA",ROW(A75)-1,".pdf"),ROW(A75)-1) -> 74 | D75: =IF(ISBLANK($C75), "", VLOOKUP($C75,PAcomplet,2,FALSE))
A76: =HYPERLINK(CONCATENATE(repetoire,"\",(MID(CELL("nomfichier",$A$1),FIND("]",CELL("nomfichier",$A$1),1)+1,30)),"\","PA",ROW(A76)-1,".pdf"),ROW(A76)-1) -> 75 | D76: =IF(ISBLANK($C76), "", VLOOKUP($C76,PAcomplet,2,FALSE))
A77: =HYPERLINK(CONCATENATE(repetoire,"\",(MID(CELL("nomfichier",$A$1),FIND("]",CELL("nomfichier",$A$1),1)+1,30)),"\","PA",ROW(A77)-1,".pdf"),ROW(A77)-1) -> 76 | D77: =IF(ISBLANK($C77), "", VLOOKUP($C77,PAcomplet,2,FALSE))
A78: =HYPERLINK(CONCATENATE(repetoire,"\",(MID(CELL("nomfichier",$A$1),FIND("]",CELL("nomfichier",$A$1),1)+1,30)),"\","PA",ROW(A78)-1,".pdf"),ROW(A78)-1) -> 77 | D78: =IF(ISBLANK($C78), "", VLOOKUP($C78,PAcomplet,2,FALSE))
... A198: =HYPERLINK(CONCATENATE(repetoire,"\",(MID(CELL("nomfichier",$A$1),FIND("]",CELL("nomfichier",$A$1),1)+1,30)),"\","PA",ROW(A198)-1,".pdf"),ROW(A198)-1) -> 197 | D198: =IF(ISBLANK($C198), "", VLOOKUP($C198,PAcomplet,2,FALSE))
A199: =HYPERLINK(CONCATENATE(repetoire,"\",(MID(CELL("nomfichier",$A$1),FIND("]",CELL("nomfichier",$A$1),1)+1,30)),"\","PA",ROW(A199)-1,".pdf"),ROW(A199)-1) -> 198
A200: =HYPERLINK(CONCATENATE(repetoire,"\",(MID(CELL("nomfichier",$A$1),FIND("]",CELL("nomfichier",$A$1),1)+1,30)),"\","PA",ROW(A200)-1,".pdf"),ROW(A200)-1) -> 199
A201: =HYPERLINK(CONCATENATE(repetoire,"\",(MID(CELL("nomfichier",$A$1),FIND("]",CELL("nomfichier",$A$1),1)+1,30)),"\","PA",ROW(A201)-1,".pdf"),ROW(A201)-1) -> 200

Sheet 385-SC-0
A1: Numéro point d'arrêt | B1: Partie d'ouvrage | C1: PA | D1: Type PA | E1: Date | F1: Accepté A ou réfusé R | G1: Numéro du Rapport de surveillance | H1: Responsable du PA | I1: Statut des doc d'exe | J1: Réserves | K1: Observations | L1: Point d'arrêt scanné | O1: PA1 | P1: PA2 | Q1: TOTAL | R1: PC
A2: =HYPERLINK(CONCATENATE(repetoire,"\",(MID(CELL("nomfichier",$A$1),FIND("]",CELL("nomfichier",$A$1),1)+1,30)),"\","PA",ROW(A2)-1,".pdf"),ROW(A2)-1) -> 1 | B2: ouvrage | C2: réception fond de fouille | D2: =IF(ISBLANK($C2), "", VLOOKUP($C2,PAcomplet,2,FALSE)) -> 1 | E2: 41775 | F2: A | G2: 570 | H2: LSP | I2: BPE | K2: Absence de note géotech. niveau G3 | L2: N | N2: Nb PA acceptés | O2: =SUMPRODUCT(($D$2:$D$219=1)*($F$2:$F$219="A")) -> 1 | P2: =SUMPRODUCT(($D$2:$D$219=2)*($F$2:$F$219="A")) -> 1 | Q2: =O2+P2 -> 2 | R2: =SUMPRODUCT(($D$2:$D$219="PC")*($F$2:$F$219="A")) -> 0
A3: =HYPERLINK(CONCATENATE(repetoire,"\",(MID(CELL("nomfichier",$A$1),FIND("]",CELL("nomfichier",$A$1),1)+1,30)),"\","PA",ROW(A3)-1,".pdf"),ROW(A3)-1) -> 2 | B3: Semelle Nîmes | C3: autorisation de bétonnage | D3: =IF(ISBLANK($C3), "", VLOOKUP($C3,PAcomplet,2,FALSE)) -> 2 | E3: 41814 | F3: A | G3: 569 | H3: LSP | I3: BPE | L3: n | N3: Nb PA refusés | O3: =SUMPRODUCT(($D$2:$D$219=1)*($F$2:$F$219="R")) -> 0 | P3: =SUMPRODUCT(($D$2:$D$219=2)*($F$2:$F$219="R")) -> 0 | Q3: =O3+P3 -> 0 | R3: =SUMPRODUCT(($D$2:$D$219="PC")*($F$2:$F$219="R")) -> 0
A4: =HYPERLINK(CONCATENATE(repetoire,"\",(MID(CELL("nomfichier",$A$1),FIND("]",CELL("nomfichier",$A$1),1)+1,30)),"\","PA",ROW(A4)-1,".pdf"),ROW(A4)-1) -> 3 | B4: Semelle Montp | C4: autorisation de bétonnage | D4: =IF(ISBLANK($C4), "", VLOOKUP($C4,PAcomplet,2,FALSE)) -> 2 | E4: 41815 | F4: np | H4: LSP | I4: BPE | L4: n | N4: Nb PA à réaliser | O4: =SUMPRODUCT(($D$2:$D$219=1)*(NOT(ISBLANK($F$2:$F$219)))) -> 1 | P4: =SUMPRODUCT(($D$2:$D$219=2)*(NOT(ISBLANK($F$2:$F$219)))) -> 2 | Q4: =O4+P4 -> 3 | R4: =SUMPRODUCT(($D$2:$D$219="pc")*(NOT(ISBLANK($F$2:$F$219)))) -> 0
A5: =HYPERLINK(CONCATENATE(repetoire,"\",(MID(CELL("nomfichier",$A$1),FIND("]",CELL("nomfichier",$A$1),1)+1,30)),"\","PA",ROW(A5)-1,".pdf"),ROW(A5)-1) -> 4 | B5: Piédroit Nîmes | D5: =IF(ISBLANK($C5), "", VLOOKUP($C5,PAcomplet,2,FALSE)) | N5: Ratio PA acceptés | O5: =IFERROR(O2/(O2+O3),"") -> 1 | P5: =IFERROR(P2/(P2+P3),"") -> 1 | Q5: =IFERROR(Q2/(Q2+Q3),"") -> 1 | R5: =IF(R4=0,"",R2/(R2+R3))
A6: =HYPERLINK(CONCATENATE(repetoire,"\",(MID(CELL("nomfichier",$A$1),FIND("]",CELL("nomfichier",$A$1),1)+1,30)),"\","PA",ROW(A6)-1,".pdf"),ROW(A6)-1) -> 5 | B6: Piédroit Montp | D6: =IF(ISBLANK($C6), "", VLOOKUP($C6,PAcomplet,2,FALSE)) | N6: Ratio PA refusés | O6: =IFERROR(O3/(O2+O3),"") -> 0 | P6: =IFERROR(P3/(P2+P3),"") -> 0 | Q6: =IFERROR(Q3/(Q2+Q3),"") -> 0 | R6: =IF(R4=0,"",R3/(R2+R3))
A7: =HYPERLINK(CONCATENATE(repetoire,"\",(MID(CELL("nomfichier",$A$1),FIND("]",CELL("nomfichier",$A$1),1)+1,30)),"\","PA",ROW(A7)-1,".pdf"),ROW(A7)-1) -> 6 | B7: Traverse | D7: =IF(ISBLANK($C7), "", VLOOKUP($C7,PAcomplet,2,FALSE)) | N7: Ratio PA réalisés | O7: =IFERROR((O2+O3)/O4,"") -> 1 | P7: =IFERROR((P2+P3)/P4,"") -> 0.5 | Q7: =IFERROR((Q2+Q3)/Q4,"") -> 0.66666667 | R7: =IF(R4=0,"",(R2+R3)/R4)
A8: =HYPERLINK(CONCATENATE(repetoire,"\",(MID(CELL("nomfichier",$A$1),FIND("]",CELL("nomfichier",$A$1),1)+1,30)),"\","PA",ROW(A8)-1,".pdf"),ROW(A8)-1) -> 7 | B8: Traverse | D8: =IF(ISBLANK($C8), "", VLOOKUP($C8,PAcomplet,2,FALSE)) | N8: Dans le mois | O8: =Stat!$C$14 -> 6 | P8: =Stat!$D$14 -> 2014
A9: =HYPERLINK(CONCATENATE(repetoire,"\",(MID(CELL("nomfichier",$A$1),FIND("]",CELL("nomfichier",$A$1),1)+1,30)),"\","PA",ROW(A9)-1,".pdf"),ROW(A9)-1) -> 8 | B9: Semelle Mur M1 | D9: =IF(ISBLANK($C9), "", VLOOKUP($C9,PAcomplet,2,FALSE)) | O9: PA1 | P9: PA2 | Q9: TOTAL
A10: =HYPERLINK(CONCATENATE(repetoire,"\",(MID(CELL("nomfichier",$A$1),FIND("]",CELL("nomfichier",$A$1),1)+1,30)),"\","PA",ROW(A10)-1,".pdf"),ROW(A10)-1) -> 9 | B10: Semelle Mur M2 | D10: =IF(ISBLANK($C10), "", VLOOKUP($C10,PAcomplet,2,FALSE)) | N10: Nb PA acceptés | O10: =SUMPRODUCT(($D$2:$D$219=1)*($F$2:$F$219="A")*(MONTH($E$2:$E$219)=$O$8)*(YEAR($E$2:$E$219)=$P$8)) -> 0 | P10: =SUMPRODUCT(($D$2:$D$219=2)*($F$2:$F$219="A")*(MONTH($E$2:$E$219)=$O$8)*(YEAR($E$2:$E$219)=$P$8)) -> 1 | Q10: =O10+P10 -> 1 | R10: =SUMPRODUCT(($D$2:$D$219="pc")*($F$2:$F$219="A")*(MONTH($E$2:$E$219)=$O$8)*(YEAR($E$2:$E$219)=$P$8)) -> 0
A11: =HYPERLINK(CONCATENATE(repetoire,"\",(MID(CELL("nomfichier",$A$1),FIND("]",CELL("nomfichier",$A$1),1)+1,30)),"\","PA",ROW(A11)-1,".pdf"),ROW(A11)-1) -> 10 | B11: Semelle Mur M3 | D11: =IF(ISBLANK($C11), "", VLOOKUP($C11,PAcomplet,2,FALSE)) | N11: Nb PA refusés | O11: =SUMPRODUCT(($D$2:$D$219=1)*($F$2:$F$219="R")*(MONTH($E$2:$E$219)=$O$8)*(YEAR($E$2:$E$219)=$P$8)) -> 0 | P11: =SUMPRODUCT(($D$2:$D$219=2)*($F$2:$F$219="R")*(MONTH($E$2:$E$219)=$O$8)*(YEAR($E$2:$E$219)=$P$8)) -> 0 | Q11: =O11+P11 -> 0 | R11: =SUMPRODUCT(($D$2:$D$219="pc")*($F$2:$F$219="R")*(MONTH($E$2:$E$219)=$O$8)*(YEAR($E$2:$E$219)=$P$8)) -> 0
A12: =HYPERLINK(CONCATENATE(repetoire,"\",(MID(CELL("nomfichier",$A$1),FIND("]",CELL("nomfichier",$A$1),1)+1,30)),"\","PA",ROW(A12)-1,".pdf"),ROW(A12)-1) -> 11 | B12: Semelle Mur M4 | D12: =IF(ISBLANK($C12), "", VLOOKUP($C12,PAcomplet,2,FALSE)) | N12: Nb PA à réaliser | O12: =SUMPRODUCT(($D$2:$D$219=1)*(NOT(ISBLANK($F$2:$F$219)))*(MONTH($E$2:$E$219)=$O$8)*(YEAR($E$2:$E$219)=$P$8)) -> 0 | P12: =SUMPRODUCT(($D$2:$D$219=2)*(NOT(ISBLANK($F$2:$F$219)))*(MONTH($E$2:$E$219)=$O$8)*(YEAR($E$2:$E$219)=$P$8)) -> 2 | Q12: =O12+P12 -> 2 | R12: =SUMPRODUCT(($D$2:$D$219="PC")*(NOT(ISBLANK($F$2:$F$219)))*(MONTH($E$2:$E$219)=$O$8)*(YEAR($E$2:$E$219)=$P$8)) -> 0
A13: =HYPERLINK(CONCATENATE(repetoire,"\",(MID(CELL("nomfichier",$A$1),FIND("]",CELL("nomfichier",$A$1),1)+1,30)),"\","PA",ROW(A13)-1,".pdf"),ROW(A13)-1) -> 12 | B13: Mur M1 | D13: =IF(ISBLANK($C13), "", VLOOKUP($C13,PAcomplet,2,FALSE)) | N13: Ratio PA acceptés | O13: =IFERROR(O10/($O$10+$O$11),"") | P13: =IFERROR(P10/(P10+P11),"") -> 1 | Q13: =IFERROR(Q10/(Q10+Q11),"") -> 1 | R13: =IFERROR(R10/(R10+R11),"")
A14: =HYPERLINK(CONCATENATE(repetoire,"\",(MID(CELL("nomfichier",$A$1),FIND("]",CELL("nomfichier",$A$1),1)+1,30)),"\","PA",ROW(A14)-1,".pdf"),ROW(A14)-1) -> 13 | B14: Mur M2 | D14: =IF(ISBLANK($C14), "", VLOOKUP($C14,PAcomplet,2,FALSE)) | N14: Ratio PA refusés | O14: =IFERROR(O11/($O$10+$O$11),"") | P14: =IFERROR(P11/(P10+P11),"") -> 0 | Q14: =IFERROR(Q11/(Q10+Q11),"") -> 0 | R14: =IFERROR(R11/(R10+R11),"")
A15: =HYPERLINK(CONCATENATE(repetoire,"\",(MID(CELL("nomfichier",$A$1),FIND("]",CELL("nomfichier",$A$1),1)+1,30)),"\","PA",ROW(A15)-1,".pdf"),ROW(A15)-1) -> 14 | B15: Mur M3 | D15: =IF(ISBLANK($C15), "", VLOOKUP($C15,PAcomplet,2,FALSE)) | N15: Ratio PA réalisés | O15: =IFERROR((O10+O11)/O12,"") | P15: =IFERROR((P10+P11)/P12,"") -> 0.5 | Q15: =IFERROR((Q10+Q11)/Q12,"") -> 0.5 | R15: =IFERROR((R10+R11)/R12,"")
A16: =HYPERLINK(CONCATENATE(repetoire,"\",(MID(CELL("nomfichier",$A$1),FIND("]",CELL("nomfichier",$A$1),1)+1,30)),"\","PA",ROW(A16)-1,".pdf"),ROW(A16)-1) -> 15 | B16: Mur M4 | D16: =IF(ISBLANK($C16), "", VLOOKUP($C16,PAcomplet,2,FALSE))
A17: =HYPERLINK(CONCATENATE(repetoire,"\",(MID(CELL("nomfichier",$A$1),FIND("]",CELL("nomfichier",$A$1),1)+1,30)),"\","PA",ROW(A17)-1,".pdf"),ROW(A17)-1) -> 16 | D17: =IF(ISBLANK($C17), "", VLOOKUP($C17,PAcomplet,2,FALSE)) | N17: Nbre de PA réalisés par | O17: LSP | P17: NLA | Q17: BGO | R17: FAS
A18: =HYPERLINK(CONCATENATE(repetoire,"\",(MID(CELL("nomfichier",$A$1),FIND("]",CELL("nomfichier",$A$1),1)+1,30)),"\","PA",ROW(A18)-1,".pdf"),ROW(A18)-1) -> 17 | O18: =COUNTIF($H$2:$H$200,"LSP") -> 3 | P18: =COUNTIF($H$2:$I$200,"NLA") -> 0 | Q18: =COUNTIF($H$2:$J$200,"BGO") -> 0 | R18: =COUNTIF($H$2:$J$200,R17) -> 0
A19: =HYPERLINK(CONCATENATE(repetoire,"\",(MID(CELL("nomfichier",$A$1),FIND("]",CELL("nomfichier",$A$1),1)+1,30)),"\","PA",ROW(A19)-1,".pdf"),ROW(A19)-1) -> 18
A20: =HYPERLINK(CONCATENATE(repetoire,"\",(MID(CELL("nomfichier",$A$1),FIND("]",CELL("nomfichier",$A$1),1)+1,30)),"\","PA",ROW(A20)-1,".pdf"),ROW(A20)-1) -> 19
A21: =HYPERLINK(CONCATENATE(repetoire,"\",(MID(CELL("nomfichier",$A$1),FIND("]",CELL("nomfichier",$A$1),1)+1,30)),"\","PA",ROW(A21)-1,".pdf"),ROW(A21)-1) -> 20 | D21: =IF(ISBLANK($C21), "", VLOOKUP($C21,PAcomplet,2,FALSE))
A22: =HYPERLINK(CONCATENATE(repetoire,"\",(MID(CELL("nomfichier",$A$1),FIND("]",CELL("nomfichier",$A$1),1)+1,30)),"\","PA",ROW(A22)-1,".pdf"),ROW(A22)-1) -> 21 | D22: =IF(ISBLANK($C22), "", VLOOKUP($C22,PAcomplet,2,FALSE))
A23: =HYPERLINK(CONCATENATE(repetoire,"\",(MID(CELL("nomfichier",$A$1),FIND("]",CELL("nomfichier",$A$1),1)+1,30)),"\","PA",ROW(A23)-1,".pdf"),ROW(A23)-1) -> 22 | D23: =IF(ISBLANK($C23), "", VLOOKUP($C23,PAcomplet,2,FALSE))
A24: =HYPERLINK(CONCATENATE(repetoire,"\",(MID(CELL("nomfichier",$A$1),FIND("]",CELL("nomfichier",$A$1),1)+1,30)),"\","PA",ROW(A24)-1,".pdf"),ROW(A24)-1) -> 23 | D24: =IF(ISBLANK($C24), "", VLOOKUP($C24,PAcomplet,2,FALSE))
A25: =HYPERLINK(CONCATENATE(repetoire,"\",(MID(CELL("nomfichier",$A$1),FIND("]",CELL("nomfichier",$A$1),1)+1,30)),"\","PA",ROW(A25)-1,".pdf"),ROW(A25)-1) -> 24 | D25: =IF(ISBLANK($C25), "", VLOOKUP($C25,PAcomplet,2,FALSE))
A26: =HYPERLINK(CONCATENATE(repetoire,"\",(MID(CELL("nomfichier",$A$1),FIND("]",CELL("nomfichier",$A$1),1)+1,30)),"\","PA",ROW(A26)-1,".pdf"),ROW(A26)-1) -> 25 | D26: =IF(ISBLANK($C26), "", VLOOKUP($C26,PAcomplet,2,FALSE))
A27: =HYPERLINK(CONCATENATE(repetoire,"\",(MID(CELL("nomfichier",$A$1),FIND("]",CELL("nomfichier",$A$1),1)+1,30)),"\","PA",ROW(A27)-1,".pdf"),ROW(A27)-1) -> 26 | D27: =IF(ISBLANK($C27), "", VLOOKUP($C27,PAcomplet,2,FALSE))
A28: =HYPERLINK(CONCATENATE(repetoire,"\",(MID(CELL("nomfichier",$A$1),FIND("]",CELL("nomfichier",$A$1),1)+1,30)),"\","PA",ROW(A28)-1,".pdf"),ROW(A28)-1) -> 27 | D28: =IF(ISBLANK($C28), "", VLOOKUP($C28,PAcomplet,2,FALSE))
A29: =HYPERLINK(CONCATENATE(repetoire,"\",(MID(CELL("nomfichier",$A$1),FIND("]",CELL("nomfichier",$A$1),1)+1,30)),"\","PA",ROW(A29)-1,".pdf"),ROW(A29)-1) -> 28 | D29: =IF(ISBLANK($C29), "", VLOOKUP($C29,PAcomplet,2,FALSE))
A30: =HYPERLINK(CONCATENATE(repetoire,"\",(MID(CELL("nomfichier",$A$1),FIND("]",CELL("nomfichier",$A$1),1)+1,30)),"\","PA",ROW(A30)-1,".pdf"),ROW(A30)-1) -> 29 | D30: =IF(ISBLANK($C30), "", VLOOKUP($C30,PAcomplet,2,FALSE))
A31: =HYPERLINK(CONCATENATE(repetoire,"\",(MID(CELL("nomfichier",$A$1),FIND("]",CELL("nomfichier",$A$1),1)+1,30)),"\","PA",ROW(A31)-1,".pdf"),ROW(A31)-1) -> 30 | D31: =IF(ISBLANK($C31), "", VLOOKUP($C31,PAcomplet,2,FALSE))
A32: =HYPERLINK(CONCATENATE(repetoire,"\",(MID(CELL("nomfichier",$A$1),FIND("]",CELL("nomfichier",$A$1),1)+1,30)),"\","PA",ROW(A32)-1,".pdf"),ROW(A32)-1) -> 31 | D32: =IF(ISBLANK($C32), "", VLOOKUP($C32,PAcomplet,2,FALSE))
... A200: =HYPERLINK(CONCATENATE(repetoire,"\",(MID(CELL("nomfichier",$A$1),FIND("]",CELL("nomfichier",$A$1),1)+1,30)),"\","PA",ROW(A200)-1,".pdf"),ROW(A200)-1) -> 199 | D200: =IF(ISBLANK($C200), "", VLOOKUP($C200,PAcomplet,2,FALSE))

Sheet 561-SC-0
A1: Numéro point d'arrêt | B1: Partie d'ouvrage | C1: PA | D1: Type PA | E1: Date | F1: Accepté A, refusé R, Non Present | G1: Numéro du Rapport de surveillance | H1: Responsable du PA | I1: Statut des doc d'exe | J1: Réserves | K1: Observations | L1: Point d'arrêt scanné | O1: PA1 | P1: PA2 | Q1: TOTAL | R1: PC | T1: 5 | U1: 8
A2: =HYPERLINK(CONCATENATE(repetoire,"\",(MID(CELL("nomfichier",$A$1),FIND("]",CELL("nomfichier",$A$1),1)+1,30)),"\","PA",ROW(A2)-1,".pdf"),ROW(A2)-1) -> 1 | B2: P1 - pieux | C2: implantation | D2: =IF(ISBLANK($C2), "", VLOOKUP($C2,PAcomplet,2,FALSE)) -> 1 | E2: 41711 | F2: A | H2: BGO | I2: BPE | L2: O | N2: Nb PA acceptés | O2: =SUMPRODUCT(($D$2:$D$224=1)*($F$2:$F$224="A")) -> 2 | P2: =SUMPRODUCT(($D$2:$D$224=2)*($F$2:$F$224="A")) -> 20 | Q2: =O2+P2 -> 22 | R2: =SUMPRODUCT(($D$2:$D$224="PC")*($F$2:$F$224="A")) -> 2 | T2: 8
A3: =HYPERLINK(CONCATENATE(repetoire,"\",(MID(CELL("nomfichier",$A$1),FIND("]",CELL("nomfichier",$A$1),1)+1,30)),"\","PA",ROW(A3)-1,".pdf"),ROW(A3)-1) -> 2 | B3: P1 - pieu n°1 | C3: autorisation de bétonnage | D3: =IF(ISBLANK($C3), "", VLOOKUP($C3,PAcomplet,2,FALSE)) -> 2 | E3: 41711 | F3: A | G3: 128 | H3: BGO | I3: BPE | L3: O | N3: Nb PA refusés | O3: =SUMPRODUCT(($D$2:$D$224=1)*($F$2:$F$224="R")) -> 0 | P3: =SUMPRODUCT(($D$2:$D$224=2)*($F$2:$F$224="R")) -> 0 | Q3: =O3+P3 -> 0 | R3: =SUMPRODUCT(($D$2:$D$224="PC")*($F$2:$F$224="R")) -> 0
A4: =HYPERLINK(CONCATENATE(repetoire,"\",(MID(CELL("nomfichier",$A$1),FIND("]",CELL("nomfichier",$A$1),1)+1,30)),"\","PA",ROW(A4)-1,".pdf"),ROW(A4)-1) -> 3 | B4: P1 - pieu n°2 | C4: autorisation de bétonnage | D4: =IF(ISBLANK($C4), "", VLOOKUP($C4,PAcomplet,2,FALSE)) -> 2 | E4: 41712 | F4: A | G4: 133 | H4: BGO | I4: BPE | L4: O | N4: Nb PA à réaliser | O4: =SUMPRODUCT(($D$2:$D$224=1)*(NOT(ISBLANK($F$2:$F$224)))) -> 2 | P4: =SUMPRODUCT(($D$2:$D$224=2)*(NOT(ISBLANK($F$2:$F$224)))) -> 45 | Q4: =O4+P4 -> 47 | R4: =SUMPRODUCT(($D$2:$D$224="pc")*(NOT(ISBLANK($F$2:$F$224)))) -> 2
A5: =HYPERLINK(CONCATENATE(repetoire,"\",(MID(CELL("nomfichier",$A$1),FIND("]",CELL("nomfichier",$A$1),1)+1,30)),"\","PA",ROW(A5)-1,".pdf"),ROW(A5)-1) -> 4 | B5: P1 - pieu n°3 | C5: autorisation de bétonnage | D5: =IF(ISBLANK($C5), "", VLOOKUP($C5,PAcomplet,2,FALSE)) -> 2 | E5: 41715 | F5: A | G5: 129 | H5: LSP | I5: BPE | L5: O | N5: Ratio PA acceptés | O5: =IFERROR(O2/(O2+O3),"") -> 1 | P5: =IFERROR(P2/(P2+P3),"") -> 1 | Q5: =IFERROR(Q2/(Q2+Q3),"") -> 1 | R5: =IF(R4=0,"",R2/(R2+R3)) -> 1
A6: =HYPERLINK(CONCATENATE(repetoire,"\",(MID(CELL("nomfichier",$A$1),FIND("]",CELL("nomfichier",$A$1),1)+1,30)),"\","PA",ROW(A6)-1,".pdf"),ROW(A6)-1) -> 5 | B6: P1 - pieu n°4 | C6: autorisation de bétonnage | D6: =IF(ISBLANK($C6), "", VLOOKUP($C6,PAcomplet,2,FALSE)) -> 2 | E6: 41717 | F6: NP | H6: LSP | I6: BPE | L6: O | N6: Ratio PA refusés | O6: =IFERROR(O3/(O2+O3),"") -> 0 | P6: =IFERROR(P3/(P2+P3),"") -> 0 | Q6: =IFERROR(Q3/(Q2+Q3),"") -> 0 | R6: =IF(R4=0,"",R3/(R2+R3)) -> 0
A7: =HYPERLINK(CONCATENATE(repetoire,"\",(MID(CELL("nomfichier",$A$1),FIND("]",CELL("nomfichier",$A$1),1)+1,30)),"\","PA",ROW(A7)-1,".pdf"),ROW(A7)-1) -> 6 | B7: P1 - pieu n°5 | C7: autorisation de bétonnage | D7: =IF(ISBLANK($C7), "", VLOOKUP($C7,PAcomplet,2,FALSE)) -> 2 | E7: 41719 | F7: NP | H7: LSP | I7: BPE | L7: O | N7: Ratio PA réalisés | O7: =IFERROR((O2+O3)/O4,"") -> 1 | P7: =IFERROR((P2+P3)/P4,"") -> 0.44444444 | Q7: =IFERROR((Q2+Q3)/Q4,"") -> 0.46808511 | R7: =IF(R4=0,"",(R2+R3)/R4) -> 1
A8: =HYPERLINK(CONCATENATE(repetoire,"\",(MID(CELL("nomfichier",$A$1),FIND("]",CELL("nomfichier",$A$1),1)+1,30)),"\","PA",ROW(A8)-1,".pdf"),ROW(A8)-1) -> 7 | B8: P1 - pieu n°6 | C8: autorisation de bétonnage | D8: =IF(ISBLANK($C8), "", VLOOKUP($C8,PAcomplet,2,FALSE)) -> 2 | E8: 41718 | F8: NP | H8: LSP | I8: BPE | L8: O | N8: Dans le mois | O8: =Stat!$C$14 -> 6 | P8: =Stat!$D$14 -> 2014
A9: =HYPERLINK(CONCATENATE(repetoire,"\",(MID(CELL("nomfichier",$A$1),FIND("]",CELL("nomfichier",$A$1),1)+1,30)),"\","PA",ROW(A9)-1,".pdf"),ROW(A9)-1) -> 8 | B9: P1 - pieu n°7 | C9: autorisation de bétonnage | D9: =IF(ISBLANK($C9), "", VLOOKUP($C9,PAcomplet,2,FALSE)) -> 2 | E9: 41715 | F9: A | G9: 151 | H9: LSP | I9: BPE | L9: O | O9: PA1 | P9: PA2 | Q9: TOTAL
A10: =HYPERLINK(CONCATENATE(repetoire,"\",(MID(CELL("nomfichier",$A$1),FIND("]",CELL("nomfichier",$A$1),1)+1,30)),"\","PA",ROW(A10)-1,".pdf"),ROW(A10)-1) -> 9 | B10: P1 - pieu n°8 | C10: autorisation de bétonnage | D10: =IF(ISBLANK($C10), "", VLOOKUP($C10,PAcomplet,2,FALSE)) -> 2 | E10: 41722 | F10: A | G10: 152 | H10: LSP | I10: BPE | L10: O | N10: Nb PA acceptés | O10: =SUMPRODUCT(($D$2:$D$224=1)*($F$2:$F$224="A")*(MONTH($E$2:$E$224)=$O$8)*(YEAR($E$2:$E$224)=$P$8)) -> 0 | P10: =SUMPRODUCT(($D$2:$D$224=2)*($F$2:$F$224="A")*(MONTH($E$2:$E$224)=$O$8)*(YEAR($E$2:$E$224)=$P$8)) -> 7 | Q10: =O10+P10 -> 7 | R10: =SUMPRODUCT(($D$2:$D$224="pc")*($F$2:$F$224="A")*(MONTH($E$2:$E$224)=$O$8)*(YEAR($E$2:$E$224)=$P$8)) -> 0
A11: =HYPERLINK(CONCATENATE(repetoire,"\",(MID(CELL("nomfichier",$A$1),FIND("]",CELL("nomfichier",$A$1),1)+1,30)),"\","PA",ROW(A11)-1,".pdf"),ROW(A11)-1) -> 10 | B11: P1 - pieux | C11: réception du pieu | J11: remplissage tube autorisé par mail le 15/04 | N11: Nb PA refusés | O11: =SUMPRODUCT(($D$2:$D$224=1)*($F$2:$F$224="R")*(MONTH($E$2:$E$224)=$O$8)*(YEAR($E$2:$E$224)=$P$8)) -> 0 | P11: =SUMPRODUCT(($D$2:$D$224=2)*($F$2:$F$224="R")*(MONTH($E$2:$E$224)=$O$8)*(YEAR($E$2:$E$224)=$P$8)) -> 0 | Q11: =O11+P11 -> 0 | R11: =SUMPRODUCT(($D$2:$D$224="pc")*($F$2:$F$224="R")*(MONTH($E$2:$E$224)=$O$8)*(YEAR($E$2:$E$224)=$P$8)) -> 0
A12: =HYPERLINK(CONCATENATE(repetoire,"\",(MID(CELL("nomfichier",$A$1),FIND("]",CELL("nomfichier",$A$1),1)+1,30)),"\","PA",ROW(A12)-1,".pdf"),ROW(A12)-1) -> 11 | B12: P1 - semelle | C12: point critique | D12: =IF(ISBLANK($C12), "", VLOOKUP($C12,PAcomplet,2,FALSE)) -> PC | E12: 41754 | F12: A | G12: 311 | H12: LSP | I12: BPE | L12: N | N12: Nb PA à réaliser | O12: =SUMPRODUCT(($D$2:$D$224=1)*(NOT(ISBLANK($F$2:$F$224)))*(MONTH($E$2:$E$224)=$O$8)*(YEAR($E$2:$E$224)=$P$8)) -> 0 | P12: =SUMPRODUCT(($D$2:$D$224=2)*(NOT(ISBLANK($F$2:$F$224)))*(MONTH($E$2:$E$224)=$O$8)*(YEAR($E$2:$E$224)=$P$8)) -> 28 | Q12: =O12+P12 -> 28 | R12: =SUMPRODUCT(($D$2:$D$224="PC")*(NOT(ISBLANK($F$2:$F$224)))*(MONTH($E$2:$E$224)=$O$8)*(YEAR($E$2:$E$224)=$P$8)) -> 0
A13: =HYPERLINK(CONCATENATE(repetoire,"\",(MID(CELL("nomfichier",$A$1),FIND("]",CELL("nomfichier",$A$1),1)+1,30)),"\","PA",ROW(A13)-1,".pdf"),ROW(A13)-1) -> 12 | B13: P1 - semelle | C13: autorisation de bétonnage | D13: =IF(ISBLANK($C13), "", VLOOKUP($C13,PAcomplet,2,FALSE)) -> 2 | E13: 41765 | F13: A | G13: 350 | H13: LSP | I13: BPE | L13: N | N13: Ratio PA acceptés | O13: =IFERROR(O10/($O$10+$O$11),"") | P13: =IFERROR(P10/(P10+P11),"") -> 1 | Q13: =IFERROR(Q10/(Q10+Q11),"") -> 1 | R13: =IFERROR(R10/(R10+R11),"")
B14: P1 - pile | C14: point critique | D14: =IF(ISBLANK($C14), "", VLOOKUP($C14,PAcomplet,2,FALSE)) -> PC | E14: 41779 | F14: A | G14: 448 | H14: LSP | I14: BPE | N14: Ratio PA refusés | O14: =IFERROR(O11/($O$10+$O$11),"") | P14: =IFERROR(P11/(P10+P11),"") -> 0 | Q14: =IFERROR(Q11/(Q10+Q11),"") -> 0 | R14: =IFERROR(R11/(R10+R11),"")
B15: P1 - pile | C15: autorisation de bétonnage | D15: =IF(ISBLANK($C15), "", VLOOKUP($C15,PAcomplet,2,FALSE)) -> 2 | E15: 41786 | F15: A | G15: 426 | H15: LSP | I15: BPE | N15: Ratio PA réalisés | O15: =IFERROR((O10+O11)/O12,"") | P15: =IFERROR((P10+P11)/P12,"") -> 0.25 | Q15: =IFERROR((Q10+Q11)/Q12,"") -> 0.25 | R15: =IFERROR((R10+R11)/R12,"")
B16: P1 - bossage | D16: =IF(ISBLANK($C16), "", VLOOKUP($C16,PAcomplet,2,FALSE)) | H16: LSP | I16: BPE
A17: =HYPERLINK(CONCATENATE(repetoire,"\",(MID(CELL("nomfichier",$A$1),FIND("]",CELL("nomfichier",$A$1),1)+1,30)),"\","PA",ROW(A17)-1,".pdf"),ROW(A17)-1) -> 16 | B17: C0-pieux | C17: implantation | D17: =IF(ISBLANK($C17), "", VLOOKUP($C17,PAcomplet,2,FALSE)) -> 1 | E17: 41779 | F17: A | H17: LSP | I17: BPE | N17: Nbre de PA réalisés par | O17: LSP | P17: NLA | Q17: BGO | R17: FAS
A18: =HYPERLINK(CONCATENATE(repetoire,"\",(MID(CELL("nomfichier",$A$1),FIND("]",CELL("nomfichier",$A$1),1)+1,30)),"\","PA",ROW(A18)-1,".pdf"),ROW(A18)-1) -> 17 | B18: C0-pieux n°1 | C18: contrôle ferraillage pieu | D18: =IF(ISBLANK($C18), "", VLOOKUP($C18,PAcomplet,2,FALSE)) -> 2 | E18: 41806 | F18: NP | H18: LSP | I18: BPE | O18: =COUNTIF($H$2:$H$205,"LSP") -> 55 | P18: =COUNTIF($H$2:$I$205,"NLA") -> 0 | Q18: =COUNTIF($H$2:$J$205,"BGO") -> 3 | R18: =COUNTIF($H$2:$J$202,R17) -> 2
A19: =HYPERLINK(CONCATENATE(repetoire,"\",(MID(CELL("nomfichier",$A$1),FIND("]",CELL("nomfichier",$A$1),1)+1,30)),"\","PA",ROW(A19)-1,".pdf"),ROW(A19)-1) -> 18 | B19: C0-pieux n°2 | C19: contrôle ferraillage pieu | D19: =IF(ISBLANK($C19), "", VLOOKUP($C19,PAcomplet,2,FALSE)) -> 2 | E19: 41807 | F19: A | H19: LSP | I19: BPE
A20: =HYPERLINK(CONCATENATE(repetoire,"\",(MID(CELL("nomfichier",$A$1),FIND("]",CELL("nomfichier",$A$1),1)+1,30)),"\","PA",ROW(A20)-1,".pdf"),ROW(A20)-1) -> 19 | B20: C0-pieux n°3 | C20: contrôle ferraillage pieu | D20: =IF(ISBLANK($C20), "", VLOOKUP($C20,PAcomplet,2,FALSE)) -> 2 | E20: 41801 | F20: A | G20: 540 | H20: LSP | I20: BPE
A21: =HYPERLINK(CONCATENATE(repetoire,"\",(MID(CELL("nomfichier",$A$1),FIND("]",CELL("nomfichier",$A$1),1)+1,30)),"\","PA",ROW(A21)-1,".pdf"),ROW(A21)-1) -> 20 | B21: C0-pieux n°4 | C21: contrôle ferraillage pieu | D21: =IF(ISBLANK($C21), "", VLOOKUP($C21,PAcomplet,2,FALSE)) -> 2 | E21: 41803 | F21: NP | H21: LSP | I21: BPE
A22: =HYPERLINK(CONCATENATE(repetoire,"\",(MID(CELL("nomfichier",$A$1),FIND("]",CELL("nomfichier",$A$1),1)+1,30)),"\","PA",ROW(A22)-1,".pdf"),ROW(A22)-1) -> 21 | B22: C0-pieux n°5 | C22: contrôle ferraillage pieu | D22: =IF(ISBLANK($C22), "", VLOOKUP($C22,PAcomplet,2,FALSE)) -> 2 | E22: 41803 | F22: NP | H22: LSP | I22: BPE
A23: =HYPERLINK(CONCATENATE(repetoire,"\",(MID(CELL("nomfichier",$A$1),FIND("]",CELL("nomfichier",$A$1),1)+1,30)),"\","PA",ROW(A23)-1,".pdf"),ROW(A23)-1) -> 22 | B23: C0-pieux n°6 | C23: contrôle ferraillage pieu | D23: =IF(ISBLANK($C23), "", VLOOKUP($C23,PAcomplet,2,FALSE)) -> 2 | E23: 41802 | F23: NP | H23: LSP | I23: BPE
A24: =HYPERLINK(CONCATENATE(repetoire,"\",(MID(CELL("nomfichier",$A$1),FIND("]",CELL("nomfichier",$A$1),1)+1,30)),"\","PA",ROW(A24)-1,".pdf"),ROW(A24)-1) -> 23 | B24: C0-pieux n°7 | C24: contrôle ferraillage pieu | D24: =IF(ISBLANK($C24), "", VLOOKUP($C24,PAcomplet,2,FALSE)) -> 2 | E24: 41802 | F24: NP | H24: LSP | I24: BPE
A25: =HYPERLINK(CONCATENATE(repetoire,"\",(MID(CELL("nomfichier",$A$1),FIND("]",CELL("nomfichier",$A$1),1)+1,30)),"\","PA",ROW(A25)-1,".pdf"),ROW(A25)-1) -> 24 | B25: C0-pieux n°8 | C25: contrôle ferraillage pieu | D25: =IF(ISBLANK($C25), "", VLOOKUP($C25,PAcomplet,2,FALSE)) -> 2 | E25: 41801 | F25: A | G25: 540 | H25: LSP | I25: BPE
A26: =HYPERLINK(CONCATENATE(repetoire,"\",(MID(CELL("nomfichier",$A$1),FIND("]",CELL("nomfichier",$A$1),1)+1,30)),"\","PA",ROW(A26)-1,".pdf"),ROW(A26)-1) -> 25 | B26: C0-pieux n°9 | C26: contrôle ferraillage pieu | D26: =IF(ISBLANK($C26), "", VLOOKUP($C26,PAcomplet,2,FALSE)) -> 2 | E26: 41801 | F26: A | G26: 540 | H26: LSP | I26: BPE
A27: =HYPERLINK(CONCATENATE(repetoire,"\",(MID(CELL("nomfichier",$A$1),FIND("]",CELL("nomfichier",$A$1),1)+1,30)),"\","PA",ROW(A27)-1,".pdf"),ROW(A27)-1) -> 26 | B27: C0-pieux n°10 | C27: contrôle ferraillage pieu | D27: =IF(ISBLANK($C27), "", VLOOKUP($C27,PAcomplet,2,FALSE)) -> 2 | E27: 41801 | F27: NP | H27: LSP | I27: BPE
A28: =HYPERLINK(CONCATENATE(repetoire,"\",(MID(CELL("nomfichier",$A$1),FIND("]",CELL("nomfichier",$A$1),1)+1,30)),"\","PA",ROW(A28)-1,".pdf"),ROW(A28)-1) -> 27 | B28: C0-pieux n°11 | C28: contrôle ferraillage pieu | D28: =IF(ISBLANK($C28), "", VLOOKUP($C28,PAcomplet,2,FALSE)) -> 2 | E28: 41800 | F28: NP | H28: LSP | I28: BPE
A29: =HYPERLINK(CONCATENATE(repetoire,"\",(MID(CELL("nomfichier",$A$1),FIND("]",CELL("nomfichier",$A$1),1)+1,30)),"\","PA",ROW(A29)-1,".pdf"),ROW(A29)-1) -> 28 | B29: C0-pieux n°12 | C29: contrôle ferraillage pieu | D29: =IF(ISBLANK($C29), "", VLOOKUP($C29,PAcomplet,2,FALSE)) -> 2 | E29: 41798 | F29: NP | H29: LSP | I29: BPE
A30: =HYPERLINK(CONCATENATE(repetoire,"\",(MID(CELL("nomfichier",$A$1),FIND("]",CELL("nomfichier",$A$1),1)+1,30)),"\","PA",ROW(A30)-1,".pdf"),ROW(A30)-1) -> 29 | B30: C0-pieux n°13 | C30: contrôle ferraillage pieu | D30: =IF(ISBLANK($C30), "", VLOOKUP($C30,PAcomplet,2,FALSE)) -> 2 | E30: 41785 | F30: A | G30: 453 | H30: LSP | I30: BPE | J30: terminer le ferraillage des cages
A31: =HYPERLINK(CONCATENATE(repetoire,"\",(MID(CELL("nomfichier",$A$1),FIND("]",CELL("nomfichier",$A$1),1)+1,30)),"\","PA",ROW(A31)-1,".pdf"),ROW(A31)-1) -> 30 | B31: C0-pieux n°14 | C31: contrôle ferraillage pieu | D31: =IF(ISBLANK($C31), "", VLOOKUP($C31,PAcomplet,2,FALSE)) -> 2 | E31: 41792 | F31: A | G31: 485 | H31: FAS | I31: BPE | J31: écarteurs
A32: =HYPERLINK(CONCATENATE(repetoire,"\",(MID(CELL("nomfichier",$A$1),FIND("]",CELL("nomfichier",$A$1),1)+1,30)),"\","PA",ROW(A32)-1,".pdf"),ROW(A32)-1) -> 31 | B32: C0-pieux n°15 | C32: contrôle ferraillage pieu | D32: =IF(ISBLANK($C32), "", VLOOKUP($C32,PAcomplet,2,FALSE)) -> 2 | E32: 41785 | F32: A | G32: 453 | H32: LSP | I32: BPE | J32: terminer le ferraillage des cages
A33: =HYPERLINK(CONCATENATE(repetoire,"\",(MID(CELL("nomfichier",$A$1),FIND("]",CELL("nomfichier",$A$1),1)+1,30)),"\","PA",ROW(A33)-1,".pdf"),ROW(A33)-1) -> 32 | B33: C0-pieux n°16 | C33: contrôle ferraillage pieu | D33: =IF(ISBLANK($C33), "", VLOOKUP($C33,PAcomplet,2,FALSE)) -> 2 | E33: 41792 | F33: A | G33: 485 | H33: FAS | I33: BPE | J33: écarteurs
A34: =HYPERLINK(CONCATENATE(repetoire,"\",(MID(CELL("nomfichier",$A$1),FIND("]",CELL("nomfichier",$A$1),1)+1,30)),"\","PA",ROW(A34)-1,".pdf"),ROW(A34)-1) -> 33 | B34: C0-pieux n°17 | C34: contrôle ferraillage pieu | D34: =IF(ISBLANK($C34), "", VLOOKUP($C34,PAcomplet,2,FALSE)) -> 2 | E34: 41798 | F34: NP | H34: LSP | I34: BPE
A35: =HYPERLINK(CONCATENATE(repetoire,"\",(MID(CELL("nomfichier",$A$1),FIND("]",CELL("nomfichier",$A$1),1)+1,30)),"\","PA",ROW(A35)-1,".pdf"),ROW(A35)-1) -> 34 | B35: C0-pieux n°18 | C35: contrôle ferraillage pieu | D35: =IF(ISBLANK($C35), "", VLOOKUP($C35,PAcomplet,2,FALSE)) -> 2 | E35: 41778 | F35: A | G35: 425 | H35: LSP | I35: BPE
A36: =HYPERLINK(CONCATENATE(repetoire,"\",(MID(CELL("nomfichier",$A$1),FIND("]",CELL("nomfichier",$A$1),1)+1,30)),"\","PA",ROW(A36)-1,".pdf"),ROW(A36)-1) -> 35 | B36: C0-pieux n°19 | C36: contrôle ferraillage pieu | D36: =IF(ISBLANK($C36), "", VLOOKUP($C36,PAcomplet,2,FALSE)) -> 2 | E36: 41785 | F36: A | G36: 453 | H36: LSP | I36: BPE
A37: =HYPERLINK(CONCATENATE(repetoire,"\",(MID(CELL("nomfichier",$A$1),FIND("]",CELL("nomfichier",$A$1),1)+1,30)),"\","PA",ROW(A37)-1,".pdf"),ROW(A37)-1) -> 36 | B37: C0-pieux n°20 | C37: contrôle ferraillage pieu | D37: =IF(ISBLANK($C37), "", VLOOKUP($C37,PAcomplet,2,FALSE)) -> 2 | E37: 41782 | F37: A | G37: 425 | H37: LSP | I37: BPE
A38: =HYPERLINK(CONCATENATE(repetoire,"\",(MID(CELL("nomfichier",$A$1),FIND("]",CELL("nomfichier",$A$1),1)+1,30)),"\","PA",ROW(A38)-1,".pdf"),ROW(A38)-1) -> 37 | B38: C0-pieux n°21 | C38: contrôle ferraillage pieu | D38: =IF(ISBLANK($C38), "", VLOOKUP($C38,PAcomplet,2,FALSE)) -> 2 | E38: 41785 | F38: A | G38: 453 | H38: LSP | I38: BPE | J38: terminer le ferraillage des cages
A39: =HYPERLINK(CONCATENATE(repetoire,"\",(MID(CELL("nomfichier",$A$1),FIND("]",CELL("nomfichier",$A$1),1)+1,30)),"\","PA",ROW(A39)-1,".pdf"),ROW(A39)-1) -> 38 | B39: C0-pieux n°22 | C39: contrôle ferraillage pieu | D39: =IF(ISBLANK($C39), "", VLOOKUP($C39,PAcomplet,2,FALSE)) -> 2 | E39: 41783 | F39: NP
A40: =HYPERLINK(CONCATENATE(repetoire,"\",(MID(CELL("nomfichier",$A$1),FIND("]",CELL("nomfichier",$A$1),1)+1,30)),"\","PA",ROW(A40)-1,".pdf"),ROW(A40)-1) -> 39 | B40: C0 - pieux | C40: réception du pieu | D40: =IF(ISBLANK($C40), "", VLOOKUP($C40,PAcomplet,2,FALSE)) -> 1
A41: =HYPERLINK(CONCATENATE(repetoire,"\",(MID(CELL("nomfichier",$A$1),FIND("]",CELL("nomfichier",$A$1),1)+1,30)),"\","PA",ROW(A41)-1,".pdf"),ROW(A41)-1) -> 40 | B41: C0 - semelle | D41: =IF(ISBLANK($C41), "", VLOOKUP($C41,PAcomplet,2,FALSE))
A42: =HYPERLINK(CONCATENATE(repetoire,"\",(MID(CELL("nomfichier",$A$1),FIND("]",CELL("nomfichier",$A$1),1)+1,30)),"\","PA",ROW(A42)-1,".pdf"),ROW(A42)-1) -> 41 | B42: C0 - semelle
A43: =HYPERLINK(CONCATENATE(repetoire,"\",(MID(CELL("nomfichier",$A$1),FIND("]",CELL("nomfichier",$A$1),1)+1,30)),"\","PA",ROW(A43)-1,".pdf"),ROW(A43)-1) -> 42 | B43: C0 - semelle
A44: =HYPERLINK(CONCATENATE(repetoire,"\",(MID(CELL("nomfichier",$A$1),FIND("]",CELL("nomfichier",$A$1),1)+1,30)),"\","PA",ROW(A44)-1,".pdf"),ROW(A44)-1) -> 43 | B44: C2 - pieux | C44: implantation | D44: =IF(ISBLANK($C44), "", VLOOKUP($C44,PAcomplet,2,FALSE)) -> 1
A45: =HYPERLINK(CONCATENATE(repetoire,"\",(MID(CELL("nomfichier",$A$1),FIND("]",CELL("nomfichier",$A$1),1)+1,30)),"\","PA",ROW(A45)-1,".pdf"),ROW(A45)-1) -> 44 | B45: C2-pieux n°1 | C45: contrôle ferraillage pieu | D45: =IF(ISBLANK($C45), "", VLOOKUP($C45,PAcomplet,2,FALSE)) -> 2 | E45: 41810 | F45: A | H45: LSP | I45: BPE
A46: =HYPERLINK(CONCATENATE(repetoire,"\",(MID(CELL("nomfichier",$A$1),FIND("]",CELL("nomfichier",$A$1),1)+1,30)),"\","PA",ROW(A46)-1,".pdf"),ROW(A46)-1) -> 45 | B46: C2-pieux n°2 | C46: contrôle ferraillage pieu | D46: =IF(ISBLANK($C46), "", VLOOKUP($C46,PAcomplet,2,FALSE)) -> 2 | E46: 41813 | F46: NP | H46: LSP | I46: BPE
A47: =HYPERLINK(CONCATENATE(repetoire,"\",(MID(CELL("nomfichier",$A$1),FIND("]",CELL("nomfichier",$A$1),1)+1,30)),"\","PA",ROW(A47)-1,".pdf"),ROW(A47)-1) -> 46 | B47: C2-pieux n°3 | C47: contrôle ferraillage pieu | D47: =IF(ISBLANK($C47), "", VLOOKUP($C47,PAcomplet,2,FALSE)) -> 2 | E47: 41813 | F47: NP | H47: LSP | I47: BPE
A48: =HYPERLINK(CONCATENATE(repetoire,"\",(MID(CELL("nomfichier",$A$1),FIND("]",CELL("nomfichier",$A$1),1)+1,30)),"\","PA",ROW(A48)-1,".pdf"),ROW(A48)-1) -> 47 | B48: C2-pieux n°4 | C48: contrôle ferraillage pieu | D48: =IF(ISBLANK($C48), "", VLOOKUP($C48,PAcomplet,2,FALSE)) -> 2 | E48: 41814 | F48: NP | H48: LSP | I48: BPE
A49: =HYPERLINK(CONCATENATE(repetoire,"\",(MID(CELL("nomfichier",$A$1),FIND("]",CELL("nomfichier",$A$1),1)+1,30)),"\","PA",ROW(A49)-1,".pdf"),ROW(A49)-1) -> 48 | B49: C2-pieux n°5 | C49: contrôle ferraillage pieu | D49: =IF(ISBLANK($C49), "", VLOOKUP($C49,PAcomplet,2,FALSE)) -> 2 | E49: 41814 | F49: NP | H49: LSP | I49: BPE
A50: =HYPERLINK(CONCATENATE(repetoire,"\",(MID(CELL("nomfichier",$A$1),FIND("]",CELL("nomfichier",$A$1),1)+1,30)),"\","PA",ROW(A50)-1,".pdf"),ROW(A50)-1) -> 49 | B50: C2-pieux n°6 | C50: contrôle ferraillage pieu | D50: =IF(ISBLANK($C50), "", VLOOKUP($C50,PAcomplet,2,FALSE)) -> 2 | E50: 41815 | F50: NP | H50: LSP | I50: BPE
A51: =HYPERLINK(CONCATENATE(repetoire,"\",(MID(CELL("nomfichier",$A$1),FIND("]",CELL("nomfichier",$A$1),1)+1,30)),"\","PA",ROW(A51)-1,".pdf"),ROW(A51)-1) -> 50 | B51: C2-pieux n°7 | C51: contrôle ferraillage pieu | D51: =IF(ISBLANK($C51), "", VLOOKUP($C51,PAcomplet,2,FALSE)) -> 2 | E51: 41815 | F51: NP | H51: LSP | I51: BPE
A52: =HYPERLINK(CONCATENATE(repetoire,"\",(MID(CELL("nomfichier",$A$1),FIND("]",CELL("nomfichier",$A$1),1)+1,30)),"\","PA",ROW(A52)-1,".pdf"),ROW(A52)-1) -> 51 | B52: C2-pieux n°8 | C52: contrôle ferraillage pieu | D52: =IF(ISBLANK($C52), "", VLOOKUP($C52,PAcomplet,2,FALSE)) -> 2 | E52: 41816 | F52: NP | H52: LSP | I52: BPE
A53: =HYPERLINK(CONCATENATE(repetoire,"\",(MID(CELL("nomfichier",$A$1),FIND("]",CELL("nomfichier",$A$1),1)+1,30)),"\","PA",ROW(A53)-1,".pdf"),ROW(A53)-1) -> 52 | B53: C2-pieux n°9 | C53: contrôle ferraillage pieu | D53: =IF(ISBLANK($C53), "", VLOOKUP($C53,PAcomplet,2,FALSE)) -> 2 | E53: 41816 | F53: NP | H53: LSP | I53: BPE
A54: =HYPERLINK(CONCATENATE(repetoire,"\",(MID(CELL("nomfichier",$A$1),FIND("]",CELL("nomfichier",$A$1),1)+1,30)),"\","PA",ROW(A54)-1,".pdf"),ROW(A54)-1) -> 53 | B54: C2-pieux n°10 | C54: contrôle ferraillage pieu | D54: =IF(ISBLANK($C54), "", VLOOKUP($C54,PAcomplet,2,FALSE)) -> 2 | E54: 41817 | F54: NP | H54: LSP | I54: BPE
A55: =HYPERLINK(CONCATENATE(repetoire,"\",(MID(CELL("nomfichier",$A$1),FIND("]",CELL("nomfichier",$A$1),1)+1,30)),"\","PA",ROW(A55)-1,".pdf"),ROW(A55)-1) -> 54 | B55: C2-pieux n°11 | C55: contrôle ferraillage pieu | D55: =IF(ISBLANK($C55), "", VLOOKUP($C55,PAcomplet,2,FALSE)) -> 2 | E55: 41817 | F55: NP | H55: LSP | I55: BPE
A56: =HYPERLINK(CONCATENATE(repetoire,"\",(MID(CELL("nomfichier",$A$1),FIND("]",CELL("nomfichier",$A$1),1)+1,30)),"\","PA",ROW(A56)-1,".pdf"),ROW(A56)-1) -> 55 | B56: C2-pieux n°12 | C56: contrôle ferraillage pieu | D56: =IF(ISBLANK($C56), "", VLOOKUP($C56,PAcomplet,2,FALSE)) -> 2 | E56: 41820 | F56: NP | H56: LSP | I56: BPE
A57: =HYPERLINK(CONCATENATE(repetoire,"\",(MID(CELL("nomfichier",$A$1),FIND("]",CELL("nomfichier",$A$1),1)+1,30)),"\","PA",ROW(A57)-1,".pdf"),ROW(A57)-1) -> 56 | B57: C2-pieux n°13 | C57: contrôle ferraillage pieu | D57: =IF(ISBLANK($C57), "", VLOOKUP($C57,PAcomplet,2,FALSE)) -> 2 | E57: 41820 | F57: NP | H57: LSP | I57: BPE
A58: =HYPERLINK(CONCATENATE(repetoire,"\",(MID(CELL("nomfichier",$A$1),FIND("]",CELL("nomfichier",$A$1),1)+1,30)),"\","PA",ROW(A58)-1,".pdf"),ROW(A58)-1) -> 57 | B58: C2-pieux n°14 | C58: contrôle ferraillage pieu | D58: =IF(ISBLANK($C58), "", VLOOKUP($C58,PAcomplet,2,FALSE)) -> 2 | H58: LSP | I58: BPE
A59: =HYPERLINK(CONCATENATE(repetoire,"\",(MID(CELL("nomfichier",$A$1),FIND("]",CELL("nomfichier",$A$1),1)+1,30)),"\","PA",ROW(A59)-1,".pdf"),ROW(A59)-1) -> 58 | B59: C2-pieux n°15 | C59: contrôle ferraillage pieu | D59: =IF(ISBLANK($C59), "", VLOOKUP($C59,PAcomplet,2,FALSE)) -> 2 | H59: LSP | I59: BPE
A60: =HYPERLINK(CONCATENATE(repetoire,"\",(MID(CELL("nomfichier",$A$1),FIND("]",CELL("nomfichier",$A$1),1)+1,30)),"\","PA",ROW(A60)-1,".pdf"),ROW(A60)-1) -> 59 | B60: C2-pieux n°16 | C60: contrôle ferraillage pieu | D60: =IF(ISBLANK($C60), "", VLOOKUP($C60,PAcomplet,2,FALSE)) -> 2 | H60: LSP | I60: BPE
A61: =HYPERLINK(CONCATENATE(repetoire,"\",(MID(CELL("nomfichier",$A$1),FIND("]",CELL("nomfichier",$A$1),1)+1,30)),"\","PA",ROW(A61)-1,".pdf"),ROW(A61)-1) -> 60 | B61: C2-pieux n°17 | C61: contrôle ferraillage pieu | D61: =IF(ISBLANK($C61), "", VLOOKUP($C61,PAcomplet,2,FALSE)) -> 2 | H61: LSP | I61: BPE
A62: =HYPERLINK(CONCATENATE(repetoire,"\",(MID(CELL("nomfichier",$A$1),FIND("]",CELL("nomfichier",$A$1),1)+1,30)),"\","PA",ROW(A62)-1,".pdf"),ROW(A62)-1) -> 61 | B62: C2-pieux n°18 | C62: contrôle ferraillage pieu | D62: =IF(ISBLANK($C62), "", VLOOKUP($C62,PAcomplet,2,FALSE)) -> 2 | H62: LSP | I62: BPE
A63: =HYPERLINK(CONCATENATE(repetoire,"\",(MID(CELL("nomfichier",$A$1),FIND("]",CELL("nomfichier",$A$1),1)+1,30)),"\","PA",ROW(A63)-1,".pdf"),ROW(A63)-1) -> 62 | B63: C2-pieux n°19 | C63: contrôle ferraillage pieu | D63: =IF(ISBLANK($C63), "", VLOOKUP($C63,PAcomplet,2,FALSE)) -> 2 | H63: LSP | I63: BPE
A64: =HYPERLINK(CONCATENATE(repetoire,"\",(MID(CELL("nomfichier",$A$1),FIND("]",CELL("nomfichier",$A$1),1)+1,30)),"\","PA",ROW(A64)-1,".pdf"),ROW(A64)-1) -> 63 | B64: C2-pieux n°20 | C64: contrôle ferraillage pieu | D64: =IF(ISBLANK($C64), "", VLOOKUP($C64,PAcomplet,2,FALSE)) -> 2 | H64: LSP | I64: BPE
A65: =HYPERLINK(CONCATENATE(repetoire,"\",(MID(CELL("nomfichier",$A$1),FIND("]",CELL("nomfichier",$A$1),1)+1,30)),"\","PA",ROW(A65)-1,".pdf"),ROW(A65)-1) -> 64 | B65: C2-pieux n°21 | C65: contrôle ferraillage pieu | D65: =IF(ISBLANK($C65), "", VLOOKUP($C65,PAcomplet,2,FALSE)) -> 2 | H65: LSP | I65: BPE
A66: =HYPERLINK(CONCATENATE(repetoire,"\",(MID(CELL("nomfichier",$A$1),FIND("]",CELL("nomfichier",$A$1),1)+1,30)),"\","PA",ROW(A66)-1,".pdf"),ROW(A66)-1) -> 65 | B66: C2-pieux n°22 | C66: contrôle ferraillage pieu | D66: =IF(ISBLANK($C66), "", VLOOKUP($C66,PAcomplet,2,FALSE)) -> 2 | H66: LSP | I66: BPE
A67: =HYPERLINK(CONCATENATE(repetoire,"\",(MID(CELL("nomfichier",$A$1),FIND("]",CELL("nomfichier",$A$1),1)+1,30)),"\","PA",ROW(A67)-1,".pdf"),ROW(A67)-1) -> 66 | B67: C2-pieux n°23 | C67: contrôle ferraillage pieu | D67: =IF(ISBLANK($C67), "", VLOOKUP($C67,PAcomplet,2,FALSE)) -> 2 | H67: LSP | I67: BPE
A68: =HYPERLINK(CONCATENATE(repetoire,"\",(MID(CELL("nomfichier",$A$1),FIND("]",CELL("nomfichier",$A$1),1)+1,30)),"\","PA",ROW(A68)-1,".pdf"),ROW(A68)-1) -> 67 | B68: C2-pieux n°24 | C68: contrôle ferraillage pieu | D68: =IF(ISBLANK($C68), "", VLOOKUP($C68,PAcomplet,2,FALSE)) -> 2 | H68: LSP | I68: BPE
A69: =HYPERLINK(CONCATENATE(repetoire,"\",(MID(CELL("nomfichier",$A$1),FIND("]",CELL("nomfichier",$A$1),1)+1,30)),"\","PA",ROW(A69)-1,".pdf"),ROW(A69)-1) -> 68 | B69: C2-réception | D69: =IF(ISBLANK($C69), "", VLOOKUP($C69,PAcomplet,2,FALSE))
A70: =HYPERLINK(CONCATENATE(repetoire,"\",(MID(CELL("nomfichier",$A$1),FIND("]",CELL("nomfichier",$A$1),1)+1,30)),"\","PA",ROW(A70)-1,".pdf"),ROW(A70)-1) -> 69 | D70: =IF(ISBLANK($C70), "", VLOOKUP($C70,PAcomplet,2,FALSE))
A71: =HYPERLINK(CONCATENATE(repetoire,"\",(MID(CELL("nomfichier",$A$1),FIND("]",CELL("nomfichier",$A$1),1)+1,30)),"\","PA",ROW(A71)-1,".pdf"),ROW(A71)-1) -> 70 | D71: =IF(ISBLANK($C71), "", VLOOKUP($C71,PAcomplet,2,FALSE))
A72: =HYPERLINK(CONCATENATE(repetoire,"\",(MID(CELL("nomfichier",$A$1),FIND("]",CELL("nomfichier",$A$1),1)+1,30)),"\","PA",ROW(A72)-1,".pdf"),ROW(A72)-1) -> 71 | D72: =IF(ISBLANK($C72), "", VLOOKUP($C72,PAcomplet,2,FALSE))
A73: =HYPERLINK(CONCATENATE(repetoire,"\",(MID(CELL("nomfichier",$A$1),FIND("]",CELL("nomfichier",$A$1),1)+1,30)),"\","PA",ROW(A73)-1,".pdf"),ROW(A73)-1) -> 72 | D73: =IF(ISBLANK($C73), "", VLOOKUP($C73,PAcomplet,2,FALSE))
A74: =HYPERLINK(CONCATENATE(repetoire,"\",(MID(CELL("nomfichier",$A$1),FIND("]",CELL("nomfichier",$A$1),1)+1,30)),"\","PA",ROW(A74)-1,".pdf"),ROW(A74)-1) -> 73 | D74: =IF(ISBLANK($C74), "", VLOOKUP($C74,PAcomplet,2,FALSE))
A75: =HYPERLINK(CONCATENATE(repetoire,"\",(MID(CELL("nomfichier",$A$1),FIND("]",CELL("nomfichier",$A$1),1)+1,30)),"\","PA",ROW(A75)-1,".pdf"),ROW(A75)-1) -> 74 | D75: =IF(ISBLANK($C75), "", VLOOKUP($C75,PAcomplet,2,FALSE))
A76: =HYPERLINK(CONCATENATE(repetoire,"\",(MID(CELL("nomfichier",$A$1),FIND("]",CELL("nomfichier",$A$1),1)+1,30)),"\","PA",ROW(A76)-1,".pdf"),ROW(A76)-1) -> 75 | D76: =IF(ISBLANK($C76), "", VLOOKUP($C76,PAcomplet,2,FALSE))
A77: =HYPERLINK(CONCATENATE(repetoire,"\",(MID(CELL("nomfichier",$A$1),FIND("]",CELL("nomfichier",$A$1),1)+1,30)),"\","PA",ROW(A77)-1,".pdf"),ROW(A77)-1) -> 76 | D77: =IF(ISBLANK($C77), "", VLOOKUP($C77,PAcomplet,2,FALSE))
A78: =HYPERLINK(CONCATENATE(repetoire,"\",(MID(CELL("nomfichier",$A$1),FIND("]",CELL("nomfichier",$A$1),1)+1,30)),"\","PA",ROW(A78)-1,".pdf"),ROW(A78)-1) -> 77 | D78: =IF(ISBLANK($C78), "", VLOOKUP($C78,PAcomplet,2,FALSE))
A79: =HYPERLINK(CONCATENATE(repetoire,"\",(MID(CELL("nomfichier",$A$1),FIND("]",CELL("nomfichier",$A$1),1)+1,30)),"\","PA",ROW(A79)-1,".pdf"),ROW(A79)-1) -> 78 | D79: =IF(ISBLANK($C79), "", VLOOKUP($C79,PAcomplet,2,FALSE))
A80: =HYPERLINK(CONCATENATE(repetoire,"\",(MID(CELL("nomfichier",$A$1),FIND("]",CELL("nomfichier",$A$1),1)+1,30)),"\","PA",ROW(A80)-1,".pdf"),ROW(A80)-1) -> 79 | D80: =IF(ISBLANK($C80), "", VLOOKUP($C80,PAcomplet,2,FALSE))
A81: =HYPERLINK(CONCATENATE(repetoire,"\",(MID(CELL("nomfichier",$A$1),FIND("]",CELL("nomfichier",$A$1),1)+1,30)),"\","PA",ROW(A81)-1,".pdf"),ROW(A81)-1) -> 80 | D81: =IF(ISBLANK($C81), "", VLOOKUP($C81,PAcomplet,2,FALSE))
... A200: =HYPERLINK(CONCATENATE(repetoire,"\",(MID(CELL("nomfichier",$A$1),FIND("]",CELL("nomfichier",$A$1),1)+1,30)),"\","PA",ROW(A200)-1,".pdf"),ROW(A200)-1) -> 199 | D200: =IF(ISBLANK($C200), "", VLOOKUP($C200,PAcomplet,2,FALSE))
A201: =HYPERLINK(CONCATENATE(repetoire,"\",(MID(CELL("nomfichier",$A$1),FIND("]",CELL("nomfichier",$A$1),1)+1,30)),"\","PA",ROW(A201)-1,".pdf"),ROW(A201)-1) -> 200
A202: =HYPERLINK(CONCATENATE(repetoire,"\",(MID(CELL("nomfichier",$A$1),FIND("]",CELL("nomfichier",$A$1),1)+1,30)),"\","PA",ROW(A202)-1,".pdf"),ROW(A202)-1) -> 201
A203: =HYPERLINK(CONCATENATE(repetoire,"\",(MID(CELL("nomfichier",$A$1),FIND("]",CELL("nomfichier",$A$1),1)+1,30)),"\","PA",ROW(A203)-1,".pdf"),ROW(A203)-1) -> 202
A204: =HYPERLINK(CONCATENATE(repetoire,"\",(MID(CELL("nomfichier",$A$1),FIND("]",CELL("nomfichier",$A$1),1)+1,30)),"\","PA",ROW(A204)-1,".pdf"),ROW(A204)-1) -> 203
A205: =HYPERLINK(CONCATENATE(repetoire,"\",(MID(CELL("nomfichier",$A$1),FIND("]",CELL("nomfichier",$A$1),1)+1,30)),"\","PA",ROW(A205)-1,".pdf"),ROW(A205)-1) -> 204

Sheet 581-LF-0
A1: Numéro point d'arrêt | B1: Partie d'ouvrage | C1: PA | D1: Type PA | E1: Date | F1: Accepté A ou réfusé R | G1: Numéro du Rapport de surveillance | H1: Responsable du PA | I1: Statut des doc d'exe | J1: Réserves | K1: Observations | L1: Point d'arrêt scanné | O1: PA1 | P1: PA2 | Q1: TOTAL | R1: PC
A2: =HYPERLINK(CONCATENATE(repetoire,"\",(MID(CELL("nomfichier",$A$1),FIND("]",CELL("nomfichier",$A$1),1)+1,30)),"\","PA",ROW(A2)-1,".pdf"),ROW(A2)-1) -> 1 | N2: Nb PA acceptés | O2: =SUMPRODUCT(($D$2:$D$219=1)*($F$2:$F$219="A")) -> 0 | P2: =SUMPRODUCT(($D$2:$D$219=2)*($F$2:$F$219="A")) -> 0 | Q2: =O2+P2 -> 0 | R2: =SUMPRODUCT(($D$2:$D$219="PC")*($F$2:$F$219="A")) -> 0
A3: =HYPERLINK(CONCATENATE(repetoire,"\",(MID(CELL("nomfichier",$A$1),FIND("]",CELL("nomfichier",$A$1),1)+1,30)),"\","PA",ROW(A3)-1,".pdf"),ROW(A3)-1) -> 2 | N3: Nb PA refusés | O3: =SUMPRODUCT(($D$2:$D$219=1)*($F$2:$F$219="R")) -> 0 | P3: =SUMPRODUCT(($D$2:$D$219=2)*($F$2:$F$219="R")) -> 0 | Q3: =O3+P3 -> 0 | R3: =SUMPRODUCT(($D$2:$D$219="PC")*($F$2:$F$219="R")) -> 0
A4: =HYPERLINK(CONCATENATE(repetoire,"\",(MID(CELL("nomfichier",$A$1),FIND("]",CELL("nomfichier",$A$1),1)+1,30)),"\","PA",ROW(A4)-1,".pdf"),ROW(A4)-1) -> 3 | N4: Nb PA à réaliser | O4: =SUMPRODUCT(($D$2:$D$219=1)*(NOT(ISBLANK($F$2:$F$219)))) -> 0 | P4: =SUMPRODUCT(($D$2:$D$219=2)*(NOT(ISBLANK($F$2:$F$219)))) -> 0 | Q4: =O4+P4 -> 0 | R4: =SUMPRODUCT(($D$2:$D$219="pc")*(NOT(ISBLANK($F$2:$F$219)))) -> 0
A5: =HYPERLINK(CONCATENATE(repetoire,"\",(MID(CELL("nomfichier",$A$1),FIND("]",CELL("nomfichier",$A$1),1)+1,30)),"\","PA",ROW(A5)-1,".pdf"),ROW(A5)-1) -> 4 | N5: Ratio PA acceptés | O5: =IFERROR(O2/(O2+O3),"") | P5: =IFERROR(P2/(P2+P3),"") | Q5: =IFERROR(Q2/(Q2+Q3),"") | R5: =IF(R4=0,"",R2/(R2+R3))
A6: =HYPERLINK(CONCATENATE(repetoire,"\",(MID(CELL("nomfichier",$A$1),FIND("]",CELL("nomfichier",$A$1),1)+1,30)),"\","PA",ROW(A6)-1,".pdf"),ROW(A6)-1) -> 5 | N6: Ratio PA refusés | O6: =IFERROR(O3/(O2+O3),"") | P6: =IFERROR(P3/(P2+P3),"") | Q6: =IFERROR(Q3/(Q2+Q3),"") | R6: =IF(R4=0,"",R3/(R2+R3))
A7: =HYPERLINK(CONCATENATE(repetoire,"\",(MID(CELL("nomfichier",$A$1),FIND("]",CELL("nomfichier",$A$1),1)+1,30)),"\","PA",ROW(A7)-1,".pdf"),ROW(A7)-1) -> 6 | N7: Ratio PA réalisés | O7: =IFERROR((O2+O3)/O4,"") | P7: =IFERROR((P2+P3)/P4,"") | Q7: =IFERROR((Q2+Q3)/Q4,"") | R7: =IF(R4=0,"",(R2+R3)/R4)
A8: =HYPERLINK(CONCATENATE(repetoire,"\",(MID(CELL("nomfichier",$A$1),FIND("]",CELL("nomfichier",$A$1),1)+1,30)),"\","PA",ROW(A8)-1,".pdf"),ROW(A8)-1) -> 7 | N8: Dans le mois | O8: =Stat!$C$14 -> 6 | P8: =Stat!$D$14 -> 2014
A9: =HYPERLINK(CONCATENATE(repetoire,"\",(MID(CELL("nomfichier",$A$1),FIND("]",CELL("nomfichier",$A$1),1)+1,30)),"\","PA",ROW(A9)-1,".pdf"),ROW(A9)-1) -> 8 | O9: PA1 | P9: PA2 | Q9: TOTAL
A10: =HYPERLINK(CONCATENATE(repetoire,"\",(MID(CELL("nomfichier",$A$1),FIND("]",CELL("nomfichier",$A$1),1)+1,30)),"\","PA",ROW(A10)-1,".pdf"),ROW(A10)-1) -> 9 | N10: Nb PA acceptés | O10: =SUMPRODUCT(($D$2:$D$219=1)*($F$2:$F$219="A")*(MONTH($E$2:$E$219)=$O$8)*(YEAR($E$2:$E$219)=$P$8)) -> 0 | P10: =SUMPRODUCT(($D$2:$D$219=2)*($F$2:$F$219="A")*(MONTH($E$2:$E$219)=$O$8)*(YEAR($E$2:$E$219)=$P$8)) -> 0 | Q10: =O10+P10 -> 0 | R10: =SUMPRODUCT(($D$2:$D$219="pc")*($F$2:$F$219="A")*(MONTH($E$2:$E$219)=$O$8)*(YEAR($E$2:$E$219)=$P$8)) -> 0
A11: =HYPERLINK(CONCATENATE(repetoire,"\",(MID(CELL("nomfichier",$A$1),FIND("]",CELL("nomfichier",$A$1),1)+1,30)),"\","PA",ROW(A11)-1,".pdf"),ROW(A11)-1) -> 10 | N11: Nb PA refusés | O11: =SUMPRODUCT(($D$2:$D$219=1)*($F$2:$F$219="R")*(MONTH($E$2:$E$219)=$O$8)*(YEAR($E$2:$E$219)=$P$8)) -> 0 | P11: =SUMPRODUCT(($D$2:$D$219=2)*($F$2:$F$219="R")*(MONTH($E$2:$E$219)=$O$8)*(YEAR($E$2:$E$219)=$P$8)) -> 0 | Q11: =O11+P11 -> 0 | R11: =SUMPRODUCT(($D$2:$D$219="pc")*($F$2:$F$219="R")*(MONTH($E$2:$E$219)=$O$8)*(YEAR($E$2:$E$219)=$P$8)) -> 0
A12: =HYPERLINK(CONCATENATE(repetoire,"\",(MID(CELL("nomfichier",$A$1),FIND("]",CELL("nomfichier",$A$1),1)+1,30)),"\","PA",ROW(A12)-1,".pdf"),ROW(A12)-1) -> 11 | N12: Nb PA à réaliser | O12: =SUMPRODUCT(($D$2:$D$219=1)*(NOT(ISBLANK($F$2:$F$219)))*(MONTH($E$2:$E$219)=$O$8)*(YEAR($E$2:$E$219)=$P$8)) -> 0 | P12: =SUMPRODUCT(($D$2:$D$219=2)*(NOT(ISBLANK($F$2:$F$219)))*(MONTH($E$2:$E$219)=$O$8)*(YEAR($E$2:$E$219)=$P$8)) -> 0 | Q12: =O12+P12 -> 0 | R12: =SUMPRODUCT(($D$2:$D$219="PC")*(NOT(ISBLANK($F$2:$F$219)))*(MONTH($E$2:$E$219)=$O$8)*(YEAR($E$2:$E$219)=$P$8)) -> 0
A13: =HYPERLINK(CONCATENATE(repetoire,"\",(MID(CELL("nomfichier",$A$1),FIND("]",CELL("nomfichier",$A$1),1)+1,30)),"\","PA",ROW(A13)-1,".pdf"),ROW(A13)-1) -> 12 | N13: Ratio PA acceptés | O13: =IFERROR(O10/($O$10+$O$11),"") | P13: =IFERROR(P10/(P10+P11),"") | Q13: =IFERROR(Q10/(Q10+Q11),"") | R13: =IFERROR(R10/(R10+R11),"")
A14: =HYPERLINK(CONCATENATE(repetoire,"\",(MID(CELL("nomfichier",$A$1),FIND("]",CELL("nomfichier",$A$1),1)+1,30)),"\","PA",ROW(A14)-1,".pdf"),ROW(A14)-1) -> 13 | N14: Ratio PA refusés | O14: =IFERROR(O11/($O$10+$O$11),"") | P14: =IFERROR(P11/(P10+P11),"") | Q14: =IFERROR(Q11/(Q10+Q11),"") | R14: =IFERROR(R11/(R10+R11),"")
A15: =HYPERLINK(CONCATENATE(repetoire,"\",(MID(CELL("nomfichier",$A$1),FIND("]",CELL("nomfichier",$A$1),1)+1,30)),"\","PA",ROW(A15)-1,".pdf"),ROW(A15)-1) -> 14 | N15: Ratio PA réalisés | O15: =IFERROR((O10+O11)/O12,"") | P15: =IFERROR((P10+P11)/P12,"") | Q15: =IFERROR((Q10+Q11)/Q12,"") | R15: =IFERROR((R10+R11)/R12,"")
A16: =HYPERLINK(CONCATENATE(repetoire,"\",(MID(CELL("nomfichier",$A$1),FIND("]",CELL("nomfichier",$A$1),1)+1,30)),"\","PA",ROW(A16)-1,".pdf"),ROW(A16)-1) -> 15
A17: =HYPERLINK(CONCATENATE(repetoire,"\",(MID(CELL("nomfichier",$A$1),FIND("]",CELL("nomfichier",$A$1),1)+1,30)),"\","PA",ROW(A17)-1,".pdf"),ROW(A17)-1) -> 16 | N17: Nbre de PA réalisés par | O17: LSP | P17: NLA | Q17: BGO | R17: FAS
A18: =HYPERLINK(CONCATENATE(repetoire,"\",(MID(CELL("nomfichier",$A$1),FIND("]",CELL("nomfichier",$A$1),1)+1,30)),"\","PA",ROW(A18)-1,".pdf"),ROW(A18)-1) -> 17 | O18: =COUNTIF($H$2:$H$200,"LSP") -> 0 | P18: =COUNTIF($H$2:$I$200,"NLA") -> 0 | Q18: =COUNTIF($H$2:$J$200,"BGO") -> 0 | R18: =COUNTIF($H$2:$J$200,R17) -> 0
A19: =HYPERLINK(CONCATENATE(repetoire,"\",(MID(CELL("nomfichier",$A$1),FIND("]",CELL("nomfichier",$A$1),1)+1,30)),"\","PA",ROW(A19)-1,".pdf"),ROW(A19)-1) -> 18
A20: =HYPERLINK(CONCATENATE(repetoire,"\",(MID(CELL("nomfichier",$A$1),FIND("]",CELL("nomfichier",$A$1),1)+1,30)),"\","PA",ROW(A20)-1,".pdf"),ROW(A20)-1) -> 19
A21: =HYPERLINK(CONCATENATE(repetoire,"\",(MID(CELL("nomfichier",$A$1),FIND("]",CELL("nomfichier",$A$1),1)+1,30)),"\","PA",ROW(A21)-1,".pdf"),ROW(A21)-1) -> 20
A22: =HYPERLINK(CONCATENATE(repetoire,"\",(MID(CELL("nomfichier",$A$1),FIND("]",CELL("nomfichier",$A$1),1)+1,30)),"\","PA",ROW(A22)-1,".pdf"),ROW(A22)-1) -> 21
A23: =HYPERLINK(CONCATENATE(repetoire,"\",(MID(CELL("nomfichier",$A$1),FIND("]",CELL("nomfichier",$A$1),1)+1,30)),"\","PA",ROW(A23)-1,".pdf"),ROW(A23)-1) -> 22
A24: =HYPERLINK(CONCATENATE(repetoire,"\",(MID(CELL("nomfichier",$A$1),FIND("]",CELL("nomfichier",$A$1),1)+1,30)),"\","PA",ROW(A24)-1,".pdf"),ROW(A24)-1) -> 23
A25: =HYPERLINK(CONCATENATE(repetoire,"\",(MID(CELL("nomfichier",$A$1),FIND("]",CELL("nomfichier",$A$1),1)+1,30)),"\","PA",ROW(A25)-1,".pdf"),ROW(A25)-1) -> 24 | D25: =IF(ISBLANK($C25), "", VLOOKUP($C25,PAcomplet,2,FALSE))
A26: =HYPERLINK(CONCATENATE(repetoire,"\",(MID(CELL("nomfichier",$A$1),FIND("]",CELL("nomfichier",$A$1),1)+1,30)),"\","PA",ROW(A26)-1,".pdf"),ROW(A26)-1) -> 25 | D26: =IF(ISBLANK($C26), "", VLOOKUP($C26,PAcomplet,2,FALSE))
A27: =HYPERLINK(CONCATENATE(repetoire,"\",(MID(CELL("nomfichier",$A$1),FIND("]",CELL("nomfichier",$A$1),1)+1,30)),"\","PA",ROW(A27)-1,".pdf"),ROW(A27)-1) -> 26 | D27: =IF(ISBLANK($C27), "", VLOOKUP($C27,PAcomplet,2,FALSE))
A28: =HYPERLINK(CONCATENATE(repetoire,"\",(MID(CELL("nomfichier",$A$1),FIND("]",CELL("nomfichier",$A$1),1)+1,30)),"\","PA",ROW(A28)-1,".pdf"),ROW(A28)-1) -> 27 | D28: =IF(ISBLANK($C28), "", VLOOKUP($C28,PAcomplet,2,FALSE))
A29: =HYPERLINK(CONCATENATE(repetoire,"\",(MID(CELL("nomfichier",$A$1),FIND("]",CELL("nomfichier",$A$1),1)+1,30)),"\","PA",ROW(A29)-1,".pdf"),ROW(A29)-1) -> 28 | D29: =IF(ISBLANK($C29), "", VLOOKUP($C29,PAcomplet,2,FALSE))
A30: =HYPERLINK(CONCATENATE(repetoire,"\",(MID(CELL("nomfichier",$A$1),FIND("]",CELL("nomfichier",$A$1),1)+1,30)),"\","PA",ROW(A30)-1,".pdf"),ROW(A30)-1) -> 29 | D30: =IF(ISBLANK($C30), "", VLOOKUP($C30,PAcomplet,2,FALSE))
A31: =HYPERLINK(CONCATENATE(repetoire,"\",(MID(CELL("nomfichier",$A$1),FIND("]",CELL("nomfichier",$A$1),1)+1,30)),"\","PA",ROW(A31)-1,".pdf"),ROW(A31)-1) -> 30 | D31: =IF(ISBLANK($C31), "", VLOOKUP($C31,PAcomplet,2,FALSE))
A32: =HYPERLINK(CONCATENATE(repetoire,"\",(MID(CELL("nomfichier",$A$1),FIND("]",CELL("nomfichier",$A$1),1)+1,30)),"\","PA",ROW(A32)-1,".pdf"),ROW(A32)-1) -> 31 | D32: =IF(ISBLANK($C32), "", VLOOKUP($C32,PAcomplet,2,FALSE))
A33: =HYPERLINK(CONCATENATE(repetoire,"\",(MID(CELL("nomfichier",$A$1),FIND("]",CELL("nomfichier",$A$1),1)+1,30)),"\","PA",ROW(A33)-1,".pdf"),ROW(A33)-1) -> 32 | D33: =IF(ISBLANK($C33), "", VLOOKUP($C33,PAcomplet,2,FALSE))
A34: =HYPERLINK(CONCATENATE(repetoire,"\",(MID(CELL("nomfichier",$A$1),FIND("]",CELL("nomfichier",$A$1),1)+1,30)),"\","PA",ROW(A34)-1,".pdf"),ROW(A34)-1) -> 33 | D34: =IF(ISBLANK($C34), "", VLOOKUP($C34,PAcomplet,2,FALSE))
A35: =HYPERLINK(CONCATENATE(repetoire,"\",(MID(CELL("nomfichier",$A$1),FIND("]",CELL("nomfichier",$A$1),1)+1,30)),"\","PA",ROW(A35)-1,".pdf"),ROW(A35)-1) -> 34 | D35: =IF(ISBLANK($C35), "", VLOOKUP($C35,PAcomplet,2,FALSE))
A36: =HYPERLINK(CONCATENATE(repetoire,"\",(MID(CELL("nomfichier",$A$1),FIND("]",CELL("nomfichier",$A$1),1)+1,30)),"\","PA",ROW(A36)-1,".pdf"),ROW(A36)-1) -> 35 | D36: =IF(ISBLANK($C36), "", VLOOKUP($C36,PAcomplet,2,FALSE))
... A195: =HYPERLINK(CONCATENATE(repetoire,"\",(MID(CELL("nomfichier",$A$1),FIND("]",CELL("nomfichier",$A$1),1)+1,30)),"\","PA",ROW(A195)-1,".pdf"),ROW(A195)-1) -> 194 | D195: =IF(ISBLANK($C195), "", VLOOKUP($C195,PAcomplet,2,FALSE))
A196: =HYPERLINK(CONCATENATE(repetoire,"\",(MID(CELL("nomfichier",$A$1),FIND("]",CELL("nomfichier",$A$1),1)+1,30)),"\","PA",ROW(A196)-1,".pdf"),ROW(A196)-1) -> 195 | D196: =IF(ISBLANK($C196), "", IF(OR($C196=Listes!$B$4, $C196=Listes!$B$6, $C196=Listes!$B$11, $C196=Listes!$B$12), 2, 1))
A197: =HYPERLINK(CONCATENATE(repetoire,"\",(MID(CELL("nomfichier",$A$1),FIND("]",CELL("nomfichier",$A$1),1)+1,30)),"\","PA",ROW(A197)-1,".pdf"),ROW(A197)-1) -> 196
A198: =HYPERLINK(CONCATENATE(repetoire,"\",(MID(CELL("nomfichier",$A$1),FIND("]",CELL("nomfichier",$A$1),1)+1,30)),"\","PA",ROW(A198)-1,".pdf"),ROW(A198)-1) -> 197
A199: =HYPERLINK(CONCATENATE(repetoire,"\",(MID(CELL("nomfichier",$A$1),FIND("]",CELL("nomfichier",$A$1),1)+1,30)),"\","PA",ROW(A199)-1,".pdf"),ROW(A199)-1) -> 198
A200: =HYPERLINK(CONCATENATE(repetoire,"\",(MID(CELL("nomfichier",$A$1),FIND("]",CELL("nomfichier",$A$1),1)+1,30)),"\","PA",ROW(A200)-1,".pdf"),ROW(A200)-1) -> 199
A201: =HYPERLINK(CONCATENATE(repetoire,"\",(MID(CELL("nomfichier",$A$1),FIND("]",CELL("nomfichier",$A$1),1)+1,30)),"\","PA",ROW(A201)-1,".pdf"),ROW(A201)-1) -> 200
