Workbook
Name Limite01: 10
Name Limite02: 18

Sheet 1er Trimestre
B1: ETAT TRIMESTRIEL DES DIMANCHES
A3: Janvier | B3: M | C3: J | D3: V | E3: S | F3: D | G3: L | H3: M | I3: M | J3: J | K3: V | L3: S | M3: D | N3: L | O3: M | P3: M | Q3: J | R3: V | S3: S | T3: D | U3: L | V3: M | W3: M | X3: J | Y3: V | Z3: S | AA3: D | AB3: L | AC3: M | AD3: M | AE3: J | AF3: V | AG3: RECAPITULATIF | AJ3: Cumul des dimanches
B4: 1 | C4: 2 | D4: 3 | E4: 4 | F4: 5 | G4: 6 | H4: 7 | I4: 8 | J4: 9 | K4: 10 | L4: 11 | M4: 12 | N4: 13 | O4: 14 | P4: 15 | Q4: 16 | R4: 17 | S4: 18 | T4: 19 | U4: 20 | V4: 21 | W4: 22 | X4: 23 | Y4: 24 | Z4: 25 | AA4: 26 | AB4: 27 | AC4: 28 | AD4: 29 | AE4: 30 | AF4: 31 | AG4: Dimanches | AH4: Dimanches au-delà du 10eme | AI4: Dimanches au-delà du 18eme
AH5: IDW | AI5: JJ1
F6: D | T6: D | AG6: =MAX(0,MIN(AJ6,10)) -> 2 | AH6: =COUNTIF(B6:AF6,"D")-AG6-AI6 -> 0 | AI6: =MAX(0,MIN(AJ6-Limite02,COUNTIF(B6:AF6,"D"))) -> 0 | AJ6: =COUNTIF(B6:AF6,"D") -> 2
A8: Février | B8: S | C8: D | D8: L | E8: M | F8: M | G8: J | H8: V | I8: S | J8: D | K8: L | L8: M | M8: M | N8: J | O8: V | P8: S | Q8: D | R8: L | S8: M | T8: M | U8: J | V8: V | W8: S | X8: D | Y8: L | Z8: M | AA8: M | AB8: J | AC8: V | AD8: S | AG8: RECAPITULATIF
B9: 1 | C9: 2 | D9: 3 | E9: 4 | F9: 5 | G9: 6 | H9: 7 | I9: 8 | J9: 9 | K9: 10 | L9: 11 | M9: 12 | N9: 13 | O9: 14 | P9: 15 | Q9: 16 | R9: 17 | S9: 18 | T9: 19 | U9: 20 | V9: 21 | W9: 22 | X9: 23 | Y9: 24 | Z9: 25 | AA9: 26 | AB9: 27 | AC9: 28 | AD9: 29 | AG9: Dimanches | AH9: Dimanches au-delà du 10eme | AI9: Dimanches au-delà du 18eme
AH10: IDW | AI10: JJ1
C11: D | Q11: D | AG11: =MAX(0,MIN(Limite01-AJ6,COUNTIF(B11:AF11,"D"))) -> 2 | AH11: =COUNTIF(B11:AF11,"D")-AG11-AI11 -> 0 | AI11: =MAX(0,MIN(AJ11-Limite02,COUNTIF(B11:AF11,"D"))) -> 0 | AJ11: =COUNTIF(B11:AF11,"D")+AJ6 -> 4
A13: Mars | B13: D | C13: L | D13: M | E13: M | F13: J | G13: V | H13: S | I13: D | J13: L | K13: M | L13: M | M13: J | N13: V | O13: S | P13: D | Q13: L | R13: M | S13: M | T13: J | U13: V | V13: S | W13: D | X13: L | Y13: M | Z13: M | AA13: J | AB13: V | AC13: S | AD13: D | AE13: L | AF13: M | AG13: RECAPITULATIF
B14: 1 | C14: 2 | D14: 3 | E14: 4 | F14: 5 | G14: 6 | H14: 7 | I14: 8 | J14: 9 | K14: 10 | L14: 11 | M14: 12 | N14: 13 | O14: 14 | P14: 15 | Q14: 16 | R14: 17 | S14: 18 | T14: 19 | U14: 20 | V14: 21 | W14: 22 | X14: 23 | Y14: 24 | Z14: 25 | AA14: 26 | AB14: 27 | AC14: 28 | AD14: 29 | AE14: 30 | AF14: 31 | AG14: Dimanches | AH14: Dimanches au-delà du 10eme | AI14: Dimanches au-delà du 18eme
AH15: IDW | AI15: JJ1
B16: D | P16: D | AD16: D | AG16: =MAX(0,MIN(Limite01-AJ11,COUNTIF(B16:AF16,"D"))) -> 3 | AH16: =COUNTIF(B16:AF16,"D")-AG16-AI16 -> 0 | AI16: =MAX(0,MIN(AJ16-Limite02,COUNTIF(B16:AF16,"D"))) -> 0 | AJ16: =COUNTIF(B16:AF16,"D")+AJ11 -> 7
AG18: Dimanches | AH18: Au-delà du 10eme | AI18: Au-delà du 18eme
W19: TOTAL TRIMESTRIEL : | AG19: =AG6+AG11+AG16 -> 7 | AH19: =SUM(AH6,AH11,AH16) -> 0 | AI19: =SUM(AI6,AI11,AI16) -> 0
W20: TOTAL 2021 : | AG20: =AG19 -> 7 | AH20: =AH19 -> 0 | AI20: =AI19 -> 0
AG21: =AG20+AH20+AI20 -> 7

Sheet 2ème Trimestre
B1: ETAT TRIMESTRIEL DES DIMANCHES
AM2: 1 | AN2: 2
A3: Avril | B3: M | C3: J | D3: V | E3: S | F3: D | G3: L | H3: M | I3: M | J3: J | K3: V | L3: S | M3: D | N3: L | O3: M | P3: M | Q3: J | R3: V | S3: S | T3: D | U3: L | V3: M | W3: M | X3: J | Y3: V | Z3: S | AA3: D | AB3: L | AC3: M | AD3: M | AE3: J | AG3: RECAPITULATIF | AJ3: Cumul des dimanches
B4: 1 | C4: 2 | D4: 3 | E4: 4 | F4: 5 | G4: 6 | H4: 7 | I4: 8 | J4: 9 | K4: 10 | L4: 11 | M4: 12 | N4: 13 | O4: 14 | P4: 15 | Q4: 16 | R4: 17 | S4: 18 | T4: 19 | U4: 20 | V4: 21 | W4: 22 | X4: 23 | Y4: 24 | Z4: 25 | AA4: 26 | AB4: 27 | AC4: 28 | AD4: 29 | AE4: 30 | AG4: Dimanches | AH4: Dimanches au-delà du 10eme | AI4: Dimanches au-delà du 18eme | AL4: MAX(0;min(Limite01-AJ6;NB.SI(B11:AF11;"D")))
AH5: IDW | AI5: JJ1
M6: D | AA6: D | AG6: =MAX(0,MIN(Limite01-'1er Trimestre'!AJ16,COUNTIF(B6:AF6,"D"))) -> 2 | AH6: =COUNTIF(B6:AF6,"D")-AG6-AI6 -> 0 | AI6: =MAX(0,MIN(AJ6-Limite02,COUNTIF(B6:AF6,"D"))) -> 0 | AJ6: =COUNTIF(B6:AF6,"D")+'1er Trimestre'!AJ16 -> 9 | AN6: 3
AG7: 2 | AH7: 0 | AI7: 0
A8: Mai | B8: V | C8: S | D8: D | E8: L | F8: M | G8: M | H8: J | I8: V | J8: S | K8: D | L8: L | M8: M | N8: M | O8: J | P8: V | Q8: S | R8: D | S8: L | T8: M | U8: M | V8: J | W8: V | X8: S | Y8: D | Z8: L | AA8: M | AB8: M | AC8: J | AD8: V | AE8: S | AF8: D | AG8: RECAPITULATIF | AN8: 4
B9: 1 | C9: 2 | D9: 3 | E9: 4 | F9: 5 | G9: 6 | H9: 7 | I9: 8 | J9: 9 | K9: 10 | L9: 11 | M9: 12 | N9: 13 | O9: 14 | P9: 15 | Q9: 16 | R9: 17 | S9: 18 | T9: 19 | U9: 20 | V9: 21 | W9: 22 | X9: 23 | Y9: 24 | Z9: 25 | AA9: 26 | AB9: 27 | AC9: 28 | AD9: 29 | AE9: 30 | AF9: 31 | AG9: Dimanches | AH9: Dimanches au-delà du 10eme | AI9: Dimanches au-delà du 18eme | AL9: 1)renvoie le nombre de dimanches max éligibles dans cette cellule
AH10: IDW | AI10: JJ1 | AL10: 2)compte le nombre de dimanches sur cette ligne
K11: D | Y11: D | AG11: =MAX(0,MIN(Limite01-AJ6,COUNTIF(B11:AF11,"D"))) -> 1 | AH11: =COUNTIF(B11:AF11,"D")-AG11-AI11 -> 1 | AI11: =MAX(0,MIN(AJ11-Limite02,COUNTIF(B11:AF11,"D"))) -> 0 | AJ11: =COUNTIF(B11:AF11,"D")+AJ6 -> 11
AG12: 1 | AH12: 1 | AI12: 0 | AL12: 3) prend le min de 1 et 2
A13: Juin | B13: L | C13: M | D13: M | E13: J | F13: V | G13: S | H13: D | I13: L | J13: M | K13: M | L13: J | M13: V | N13: S | O13: D | P13: L | Q13: M | R13: M | S13: J | T13: V | U13: S | V13: D | W13: L | X13: M | Y13: M | Z13: J | AA13: V | AB13: S | AC13: D | AD13: L | AE13: M | AG13: RECAPITULATIF
B14: 1 | C14: 2 | D14: 3 | E14: 4 | F14: 5 | G14: 6 | H14: 7 | I14: 8 | J14: 9 | K14: 10 | L14: 11 | M14: 12 | N14: 13 | O14: 14 | P14: 15 | Q14: 16 | R14: 17 | S14: 18 | T14: 19 | U14: 20 | V14: 21 | W14: 22 | X14: 23 | Y14: 24 | Z14: 25 | AA14: 26 | AB14: 27 | AC14: 28 | AD14: 29 | AE14: 30 | AG14: Dimanches | AH14: Dimanches au-delà du 10eme | AI14: Dimanches au-delà du 18eme | AL14: 4) prend le max, entre 0 et le précédent résultat, pour ne pas tenir compte des résultatss négatifs
AH15: IDW | AI15: JJ1
O16: D | AC16: D | AG16: =MAX(0,MIN(Limite01-AJ11,COUNTIF(B16:AF16,"D"))) -> 0 | AH16: =COUNTIF(B16:AF16,"D")-AG16-AI16 -> 2 | AI16: =MAX(0,MIN(AJ16-Limite02,COUNTIF(B16:AF16,"D"))) -> 0 | AJ16: =COUNTIF(B16:AF16,"D")+AJ11 -> 13 | AL16: 5) Le même principe pour les formules en colonne AI
AG17: 0 | AH17: 2 | AI17: 0
AG18: Dimanches | AH18: Au-delà du 10eme | AI18: Au-delà du 18eme | AL18: 6) En colonne AH, une simple différence avec les prédents calculs
W19: TOTAL TRIMESTRIEL : | AG19: =+AG6+AG11+AG16 -> 3 | AH19: =+AH6+AH11+AH16 -> 3 | AI19: =+AI6+AI11+AI16 -> 0
AG20: 3 | AH20: 3 | AI20: 0
W21: TOTAL 2020: | AG21: ='1er Trimestre'!AG20+'2ème Trimestre'!AG19 -> 10 | AH21: ='1er Trimestre'!AH20+'2ème Trimestre'!AH19 -> 3 | AI21: ='1er Trimestre'!AI20+'2ème Trimestre'!AI19 -> 0
AG22: 10 | AH22: 3 | AI22: 0
AG23: =AG21+AH21+AI21 -> 13

Sheet 3ème Trimestre
B1: ETAT TRIMESTRIEL DES DIMANCHES
A3: Juillet | B3: M | C3: J | D3: V | E3: S | F3: D | G3: L | H3: M | I3: M | J3: J | K3: V | L3: S | M3: D | N3: L | O3: M | P3: M | Q3: J | R3: V | S3: S | T3: D | U3: L | V3: M | W3: M | X3: J | Y3: V | Z3: S | AA3: D | AB3: L | AC3: M | AD3: M | AE3: J | AF3: V | AG3: RECAPITULATIF | AJ3: Cumul des dimanches
B4: 1 | C4: 2 | D4: 3 | E4: 4 | F4: 5 | G4: 6 | H4: 7 | I4: 8 | J4: 9 | K4: 10 | L4: 11 | M4: 12 | N4: 13 | O4: 14 | P4: 15 | Q4: 16 | R4: 17 | S4: 18 | T4: 19 | U4: 20 | V4: 21 | W4: 22 | X4: 23 | Y4: 24 | Z4: 25 | AA4: 26 | AB4: 27 | AC4: 28 | AD4: 29 | AE4: 30 | AF4: 31 | AG4: Dimanches | AH4: Dimanches au-delà du 10eme | AI4: Dimanches au-delà du 18eme
AH5: IDW | AI5: JJ1
M6: D | AA6: D | AG6: =MAX(0,MIN(Limite01-'2ème Trimestre'!AJ16,COUNTIF(B6:AF6,"D"))) -> 0 | AH6: =COUNTIF(B6:AF6,"D")-AG6-AI6 -> 2 | AI6: =MAX(0,MIN(AJ6-Limite02,COUNTIF(B6:AF6,"D"))) -> 0 | AJ6: =COUNTIF(B6:AF6,"D")+'2ème Trimestre'!AJ16 -> 15
AG7: 0 | AH7: 2 | AI7: 0
A8: Août | B8: S | C8: D | D8: L | E8: M | F8: M | G8: J | H8: V | I8: S | J8: D | K8: L | L8: M | M8: M | N8: J | O8: V | P8: S | Q8: D | R8: L | S8: M | T8: M | U8: J | V8: V | W8: S | X8: D | Y8: L | Z8: M | AA8: M | AB8: J | AC8: V | AD8: S | AE8: D | AF8: L | AG8: RECAPITULATIF
B9: 1 | C9: 2 | D9: 3 | E9: 4 | F9: 5 | G9: 6 | H9: 7 | I9: 8 | J9: 9 | K9: 10 | L9: 11 | M9: 12 | N9: 13 | O9: 14 | P9: 15 | Q9: 16 | R9: 17 | S9: 18 | T9: 19 | U9: 20 | V9: 21 | W9: 22 | X9: 23 | Y9: 24 | Z9: 25 | AA9: 26 | AB9: 27 | AC9: 28 | AD9: 29 | AE9: 30 | AF9: 31 | AG9: Dimanches | AH9: Dimanches au-delà du 10eme | AI9: Dimanches au-delà du 18eme
AH10: IDW | AI10: JJ1
J11: D | X11: D | AG11: =MAX(0,MIN(Limite01-AJ6,COUNTIF(B11:AF11,"D"))) -> 0 | AH11: =COUNTIF(B11:AF11,"D")-AG11-AI11 -> 2 | AI11: =MAX(0,MIN(AJ11-Limite02,COUNTIF(B11:AF11,"D"))) -> 0 | AJ11: =COUNTIF(B11:AF11,"D")+AJ6 -> 17
AG12: 0 | AH12: 2 | AI12: 0
A13: Sept | B13: M | C13: M | D13: J | E13: V | F13: S | G13: D | H13: L | I13: M | J13: M | K13: J | L13: V | M13: S | N13: D | O13: L | P13: M | Q13: M | R13: J | S13: V | T13: S | U13: D | V13: L | W13: M | X13: M | Y13: J | Z13: V | AA13: S | AB13: D | AC13: L | AD13: M | AE13: M | AG13: RECAPITULATIF
B14: 1 | C14: 2 | D14: 3 | E14: 4 | F14: 5 | G14: 6 | H14: 7 | I14: 8 | J14: 9 | K14: 10 | L14: 11 | M14: 12 | N14: 13 | O14: 14 | P14: 15 | Q14: 16 | R14: 17 | S14: 18 | T14: 19 | U14: 20 | V14: 21 | W14: 22 | X14: 23 | Y14: 24 | Z14: 25 | AA14: 26 | AB14: 27 | AC14: 28 | AD14: 29 | AE14: 30 | AG14: Dimanches | AH14: Dimanches au-delà du 10eme | AI14: Dimanches au-delà du 18eme
AH15: IDW | AI15: JJ1
G16: D | U16: D | AG16: =MAX(0,MIN(Limite01-AJ11,COUNTIF(B16:AF16,"D"))) -> 0 | AH16: =COUNTIF(B16:AF16,"D")-AG16-AI16 -> 1 | AI16: =MAX(0,MIN(AJ16-Limite02,COUNTIF(B16:AF16,"D"))) -> 1 | AJ16: =COUNTIF(B16:AF16,"D")+AJ11 -> 19
AG17: 0 | AH17: 1 | AI17: 1
AG18: Dimanches | AH18: Au-delà du 10eme | AI18: Au-delà du 18eme
W19: TOTAL TRIMESTRIEL : | AG19: =SUM(AG6,AG11,AG16) -> 0 | AH19: =SUM(AH6,AH11,AH16) -> 5 | AI19: =SUM(AI6,AI11,AI16) -> 1
AG20: 0 | AH20: 5 | AI20: 1
W21: TOTAL 2020 : | AG21: ='2ème Trimestre'!AG21+'3ème Trimestre'!AG19 -> 10 | AH21: ='2ème Trimestre'!AH21+'3ème Trimestre'!AH19 -> 8 | AI21: ='2ème Trimestre'!AI21+'3ème Trimestre'!AI19 -> 1
AG22: 10 | AH22: 8 | AI22: 1
AG23: =AG21+AH21+AI21 -> 19

Sheet 4ème Trimestre
B1: ETAT TRIMESTRIEL DES DIMANCHES
A3: Oct | B3: M | C3: M | D3: J | E3: V | F3: S | G3: D | H3: L | I3: M | J3: M | K3: J | L3: V | M3: S | N3: D | O3: L | P3: M | Q3: M | R3: J | S3: V | T3: S | U3: D | V3: L | W3: M | X3: M | Y3: J | Z3: V | AA3: S | AB3: D | AC3: L | AD3: M | AE3: M | AF3: J | AG3: RECAPITULATIF | AJ3: Cumul des dimanches
B4: 1 | C4: 2 | D4: 3 | E4: 4 | F4: 5 | G4: 6 | H4: 7 | I4: 8 | J4: 9 | K4: 10 | L4: 11 | M4: 12 | N4: 13 | O4: 14 | P4: 15 | Q4: 16 | R4: 17 | S4: 18 | T4: 19 | U4: 20 | V4: 21 | W4: 22 | X4: 23 | Y4: 24 | Z4: 25 | AA4: 26 | AB4: 27 | AC4: 28 | AD4: 29 | AE4: 30 | AF4: 31 | AG4: Dimanches | AH4: Dimanches au-delà du 10eme | AI4: Dimanches au-delà du 18eme
AH5: IDW | AI5: JJ1
G6: D | U6: D | AG6: =MAX(0,MIN(Limite01-'3ème Trimestre'!AJ16,COUNTIF(B6:AF6,"D"))) -> 0 | AH6: =COUNTIF(B6:AF6,"D")-AG6-AI6 -> 0 | AI6: =MAX(0,MIN(AJ6-Limite02,COUNTIF(B6:AF6,"D"))) -> 2 | AJ6: =COUNTIF(B6:AF6,"D")+'3ème Trimestre'!AJ16 -> 21
AG7: 0 | AH7: 0 | AI7: 2
A8: Nov | B8: V | C8: S | D8: D | E8: L | F8: M | G8: M | H8: J | I8: V | J8: S | K8: D | L8: L | M8: M | N8: M | O8: J | P8: V | Q8: S | R8: D | S8: L | T8: M | U8: M | V8: J | W8: V | X8: S | Y8: D | Z8: L | AA8: M | AB8: M | AC8: J | AD8: V | AE8: S | AG8: RECAPITULATIF
B9: 1 | C9: 2 | D9: 3 | E9: 4 | F9: 5 | G9: 6 | H9: 7 | I9: 8 | J9: 9 | K9: 10 | L9: 11 | M9: 12 | N9: 13 | O9: 14 | P9: 15 | Q9: 16 | R9: 17 | S9: 18 | T9: 19 | U9: 20 | V9: 21 | W9: 22 | X9: 23 | Y9: 24 | Z9: 25 | AA9: 26 | AB9: 27 | AC9: 28 | AD9: 29 | AE9: 30 | AG9: Dimanches | AH9: Dimanches au-delà du 10eme | AI9: Dimanches au-delà du 18eme
AH10: IDW | AI10: JJ1
D11: D | R11: D | AG11: =MAX(0,MIN(Limite01-AJ6,COUNTIF(B11:AF11,"D"))) -> 0 | AH11: =COUNTIF(B11:AF11,"D")-AG11-AI11 -> 0 | AI11: =MAX(0,MIN(AJ11-Limite02,COUNTIF(B11:AF11,"D"))) -> 2 | AJ11: =COUNTIF(B11:AF11,"D")+AJ6 -> 23
AG12: 0 | AH12: 0 | AI12: 2
A13: Dec | B13: D | C13: L | D13: M | E13: M | F13: J | G13: V | H13: S | I13: D | J13: L | K13: M | L13: M | M13: J | N13: V | O13: S | P13: D | Q13: L | R13: M | S13: M | T13: J | U13: V | V13: S | W13: D | X13: L | Y13: M | Z13: M | AA13: J | AB13: V | AC13: S | AD13: D | AE13: L | AF13: M | AG13: RECAPITULATIF
B14: 1 | C14: 2 | D14: 3 | E14: 4 | F14: 5 | G14: 6 | H14: 7 | I14: 8 | J14: 9 | K14: 10 | L14: 11 | M14: 12 | N14: 13 | O14: 14 | P14: 15 | Q14: 16 | R14: 17 | S14: 18 | T14: 19 | U14: 20 | V14: 21 | W14: 22 | X14: 23 | Y14: 24 | Z14: 25 | AA14: 26 | AB14: 27 | AC14: 28 | AD14: 29 | AE14: 30 | AF14: 31 | AG14: Dimanches | AH14: Dimanches au-delà du 10eme | AI14: Dimanches au-delà du 18eme
AH15: IDW | AI15: JJ1
B16: D | P16: D | AD16: D | AG16: =MAX(0,MIN(Limite01-AJ11,COUNTIF(B16:AF16,"D"))) -> 0 | AH16: =COUNTIF(B16:AF16,"D")-AG16-AI16 -> 0 | AI16: =MAX(0,MIN(AJ16-Limite02,COUNTIF(B16:AF16,"D"))) -> 3 | AJ16: =COUNTIF(B16:AF16,"D")+AJ11 -> 26
AG17: 0 | AH17: 0 | AI17: 3
AG18: Dimanches | AH18: Au-delà du 10eme | AI18: Au-delà du 18eme
W19: TOTAL TRIMESTRIEL : | AG19: =SUM(AG6,AG11,AG16) -> 0 | AH19: =SUM(AH6,AH11,AH16) -> 0 | AI19: =SUM(AI6,AI11,AI16) -> 7
AG20: 0 | AH20: 0 | AI20: 7
W21: TOTAL 2019 : | AG21: ='3ème Trimestre'!AG21+'4ème Trimestre'!AG19 -> 10 | AH21: ='3ème Trimestre'!AH21+'4ème Trimestre'!AH19 -> 8 | AI21: ='3ème Trimestre'!AI21+'4ème Trimestre'!AI19 -> 8
AG22: 10 | AH22: 8 | AI22: 8
AG23: =AG21+AH21+AI21 -> 26
