Workbook

Sheet Base de donnée
A3: 1 | B3: 2 | C3: 3 | D3: 4 | E3: 5
A4: Enfant | D4: P
C5: PC87 | D5: P002 | E5: 46
B6: P002 | E6: 56
E7: 78
C8: KJ89
A9: Tigre | C9: 12 | D9: PC87
B10: Table | E10: Oreillet
B11: Ordinateur
A12: Chaise | B12: Couette

Sheet Récapitulatif
A1: Récapitulatif
A5: 3 | J5: Endroit ou l'on selectionne la colonne de l'autre feuille
A6: {=IFERROR(INDEX('Base de donnée'!$A$1:$E$12,SMALL(IF(OFFSET('Base de donnée'!$A$4:$A$12,,$A$5-1)<>"",ROW($A$4:$A$12)),ROWS($4:4)),MATCH($A$5,'Base de donnée'!$A$3:$E$3,0)),"")} -> PC87
A7: {=IFERROR(INDEX('Base de donnée'!$A$1:$E$12,SMALL(IF(OFFSET('Base de donnée'!$A$4:$A$12,,$A$5-1)<>"",ROW($A$4:$A$12)),ROWS($4:5)),MATCH($A$5,'Base de donnée'!$A$3:$E$3,0)),"")} -> KJ89
A8: {=IFERROR(INDEX('Base de donnée'!$A$1:$E$12,SMALL(IF(OFFSET('Base de donnée'!$A$4:$A$12,,$A$5-1)<>"",ROW($A$4:$A$12)),ROWS($4:6)),MATCH($A$5,'Base de donnée'!$A$3:$E$3,0)),"")} -> 12
A9: {=IFERROR(INDEX('Base de donnée'!$A$1:$E$12,SMALL(IF(OFFSET('Base de donnée'!$A$4:$A$12,,$A$5-1)<>"",ROW($A$4:$A$12)),ROWS($4:7)),MATCH($A$5,'Base de donnée'!$A$3:$E$3,0)),"")}
A10: {=IFERROR(INDEX('Base de donnée'!$A$1:$E$12,SMALL(IF(OFFSET('Base de donnée'!$A$4:$A$12,,$A$5-1)<>"",ROW($A$4:$A$12)),ROWS($4:8)),MATCH($A$5,'Base de donnée'!$A$3:$E$3,0)),"")}
A11: {=IFERROR(INDEX('Base de donnée'!$A$1:$E$12,SMALL(IF(OFFSET('Base de donnée'!$A$4:$A$12,,$A$5-1)<>"",ROW($A$4:$A$12)),ROWS($4:9)),MATCH($A$5,'Base de donnée'!$A$3:$E$3,0)),"")} | I11: Endroit ou les élèment doivent apparaître mais sans à la suite
A12: {=IFERROR(INDEX('Base de donnée'!$A$1:$E$12,SMALL(IF(OFFSET('Base de donnée'!$A$4:$A$12,,$A$5-1)<>"",ROW($A$4:$A$12)),ROWS($4:10)),MATCH($A$5,'Base de donnée'!$A$3:$E$3,0)),"")}
A13: {=IFERROR(INDEX('Base de donnée'!$A$1:$E$12,SMALL(IF(OFFSET('Base de donnée'!$A$4:$A$12,,$A$5-1)<>"",ROW($A$4:$A$12)),ROWS($4:11)),MATCH($A$5,'Base de donnée'!$A$3:$E$3,0)),"")}
A14: {=IFERROR(INDEX('Base de donnée'!$A$1:$E$12,SMALL(IF(OFFSET('Base de donnée'!$A$4:$A$12,,$A$5-1)<>"",ROW($A$4:$A$12)),ROWS($4:12)),MATCH($A$5,'Base de donnée'!$A$3:$E$3,0)),"")} | L14: Exemple si je choit la 1
A15: {=IFERROR(INDEX('Base de donnée'!$A$1:$E$12,SMALL(IF(OFFSET('Base de donnée'!$A$4:$A$12,,$A$5-1)<>"",ROW($A$4:$A$12)),ROWS($4:13)),MATCH($A$5,'Base de donnée'!$A$3:$E$3,0)),"")} | L15: 1
A16: {=IFERROR(INDEX('Base de donnée'!$A$1:$E$12,SMALL(IF(OFFSET('Base de donnée'!$A$4:$A$12,,$A$5-1)<>"",ROW($A$4:$A$12)),ROWS($4:14)),MATCH($A$5,'Base de donnée'!$A$3:$E$3,0)),"")} | L16: Enfant
L17: Tigne
L18: Chaise
A20: Ne marche que si la ligne 3 de base de données respecte toujours la numérotation de l'exemple

Sheet Récapitulatif (2)
A1: Récapitulatif
A5: 3 | J5: Endroit ou l'on selectionne la colonne de l'autre feuille
A6: {=IFERROR(INDEX('Base de donnée'!$A$1:$E$12,SMALL(IF(OFFSET('Base de donnée'!$A$4:$A$12,,MATCH($A$5,'Base de donnée'!$A$3:$E$3,0)-1)<>"",ROW($A$4:$A$12)),ROWS($4:4)),MATCH($A$5,'Base de donnée'!$A$3:$E$3,0)),"")} -> PC87
A7: {=IFERROR(INDEX('Base de donnée'!$A$1:$E$12,SMALL(IF(OFFSET('Base de donnée'!$A$4:$A$12,,MATCH($A$5,'Base de donnée'!$A$3:$E$3,0)-1)<>"",ROW($A$4:$A$12)),ROWS($4:5)),MATCH($A$5,'Base de donnée'!$A$3:$E$3,0)),"")} -> KJ89
A8: {=IFERROR(INDEX('Base de donnée'!$A$1:$E$12,SMALL(IF(OFFSET('Base de donnée'!$A$4:$A$12,,MATCH($A$5,'Base de donnée'!$A$3:$E$3,0)-1)<>"",ROW($A$4:$A$12)),ROWS($4:6)),MATCH($A$5,'Base de donnée'!$A$3:$E$3,0)),"")} -> 12
A9: {=IFERROR(INDEX('Base de donnée'!$A$1:$E$12,SMALL(IF(OFFSET('Base de donnée'!$A$4:$A$12,,MATCH($A$5,'Base de donnée'!$A$3:$E$3,0)-1)<>"",ROW($A$4:$A$12)),ROWS($4:7)),MATCH($A$5,'Base de donnée'!$A$3:$E$3,0)),"")}
A10: {=IFERROR(INDEX('Base de donnée'!$A$1:$E$12,SMALL(IF(OFFSET('Base de donnée'!$A$4:$A$12,,MATCH($A$5,'Base de donnée'!$A$3:$E$3,0)-1)<>"",ROW($A$4:$A$12)),ROWS($4:8)),MATCH($A$5,'Base de donnée'!$A$3:$E$3,0)),"")}
A11: {=IFERROR(INDEX('Base de donnée'!$A$1:$E$12,SMALL(IF(OFFSET('Base de donnée'!$A$4:$A$12,,MATCH($A$5,'Base de donnée'!$A$3:$E$3,0)-1)<>"",ROW($A$4:$A$12)),ROWS($4:9)),MATCH($A$5,'Base de donnée'!$A$3:$E$3,0)),"")} | I11: Endroit ou les élèment doivent apparaître mais sans à la suite
A12: {=IFERROR(INDEX('Base de donnée'!$A$1:$E$12,SMALL(IF(OFFSET('Base de donnée'!$A$4:$A$12,,MATCH($A$5,'Base de donnée'!$A$3:$E$3,0)-1)<>"",ROW($A$4:$A$12)),ROWS($4:10)),MATCH($A$5,'Base de donnée'!$A$3:$E$3,0)),"")}
A13: {=IFERROR(INDEX('Base de donnée'!$A$1:$E$12,SMALL(IF(OFFSET('Base de donnée'!$A$4:$A$12,,MATCH($A$5,'Base de donnée'!$A$3:$E$3,0)-1)<>"",ROW($A$4:$A$12)),ROWS($4:11)),MATCH($A$5,'Base de donnée'!$A$3:$E$3,0)),"")}
A14: {=IFERROR(INDEX('Base de donnée'!$A$1:$E$12,SMALL(IF(OFFSET('Base de donnée'!$A$4:$A$12,,MATCH($A$5,'Base de donnée'!$A$3:$E$3,0)-1)<>"",ROW($A$4:$A$12)),ROWS($4:12)),MATCH($A$5,'Base de donnée'!$A$3:$E$3,0)),"")} | L14: Exemple si je choit la 1
A15: {=IFERROR(INDEX('Base de donnée'!$A$1:$E$12,SMALL(IF(OFFSET('Base de donnée'!$A$4:$A$12,,MATCH($A$5,'Base de donnée'!$A$3:$E$3,0)-1)<>"",ROW($A$4:$A$12)),ROWS($4:13)),MATCH($A$5,'Base de donnée'!$A$3:$E$3,0)),"")} | L15: 1
A16: {=IFERROR(INDEX('Base de donnée'!$A$1:$E$12,SMALL(IF(OFFSET('Base de donnée'!$A$4:$A$12,,MATCH($A$5,'Base de donnée'!$A$3:$E$3,0)-1)<>"",ROW($A$4:$A$12)),ROWS($4:14)),MATCH($A$5,'Base de donnée'!$A$3:$E$3,0)),"")} | L16: Enfant
L17: Tigne
L18: Chaise
A20: Marche quelque soit le type de valeurs ligne 3 de la feuille base de données
