Workbook

Sheet Recap
A1: Recap
G4: Sub1 | X4: Sub2 | AO4: Sub3 | BF4: Sub4 | BW4: Sub5
E5: Mois
A6: Nom | B6: Prénom | C6: Matricule | D6: A regler | E6: Janvier | G6: Nom | H6: Prénom | I6: Matricule | J6: A regler | K6: Janvier | L6: Février | M6: Mars | N6: Avril | O6: Mai | P6: Juin | Q6: Juillet | R6: Août | S6: Septembre | T6: Octobre | U6: Novembre | V6: Decembre | X6: Nom | Y6: Prénom | Z6: Matricule | AA6: A payer au salarié | AB6: Janvier | AC6: Février | AD6: Mars | AE6: Avril | AF6: Mai | AG6: Juin | AH6: Juillet | AI6: Août | AJ6: Septembre | AK6: Octobre | AL6: Novembre | AM6: Decembre | AO6: Nom | AP6: Prénom | AQ6: Matricule | AR6: A regler | AS6: Janvier | AT6: Février | AU6: Mars | AV6: Avril | AW6: Mai | AX6: Juin | AY6: Juillet | AZ6: Août | BA6: Septembre | BB6: Octobre | BC6: Novembre | BD6: Decembre | BF6: Nom | BG6: Prénom | BH6: Matricule | BI6: A regler | BJ6: Janvier | BK6: Février | BL6: Mars | BM6: Avril | BN6: Mai | BO6: Juin | BP6: Juillet | BQ6: Août | BR6: Septembre | BS6: Octobre | BT6: Novembre | BU6: Decembre | BW6: Nom | BX6: Prénom | BY6: Matricule | BZ6: A regler | CA6: Janvier | CB6: Février | CC6: Mars | CD6: Avril | CE6: Mai | CF6: Juin | CG6: Juillet | CH6: Août | CI6: Septembre | CJ6: Octobre | CK6: Novembre | CL6: Decembre
A7: Nom1 | B7: Prénom1 | C7: 0000001 | D7: =IF(C7="","",ROUND((E7-(E7)*33%),2)) -> 20.1 | E7: 30 | G7: {=IFERROR(INDEX('Sub1'!A:A,SMALL(IF('Sub1'!$AC$5:$AC$34<>"",ROW('Sub1'!$AC$5:$AC$34)),ROWS(I$7:I7))),"")} -> Nom5 | H7: {=IFERROR(INDEX('Sub1'!B:B,SMALL(IF('Sub1'!$AC$5:$AC$34<>"",ROW('Sub1'!$AC$5:$AC$34)),ROWS(I$7:I7))),"")} -> Prénom5 | I7: {=IFERROR(INDEX('Sub1'!C:C,SMALL(IF('Sub1'!$AC$5:$AC$34<>"",ROW('Sub1'!$AC$5:$AC$34)),ROWS(I$7:I7))),"")} -> 0000005 | J7: {=IFERROR(INDEX('Sub1'!AC:AC,SMALL(IF('Sub1'!$AC$5:$AC$34<>"",ROW('Sub1'!$AC$5:$AC$34)),ROWS(I$7:I7))),"")} -> 120.6 | K7: {=IFERROR(INDEX('Sub1'!G:G,SMALL(IF('Sub1'!$AC$5:$AC$34<>"",ROW('Sub1'!$AC$5:$AC$34)),ROWS(I$7:I7))),"")} -> 300 | L7: {=IFERROR(INDEX('Sub1'!H:H,SMALL(IF('Sub1'!$AC$5:$AC$34<>"",ROW('Sub1'!$AC$5:$AC$34)),ROWS(I$7:I7))),"")} -> 0 | M7: {=IFERROR(INDEX('Sub1'!I:I,SMALL(IF('Sub1'!$AC$5:$AC$34<>"",ROW('Sub1'!$AC$5:$AC$34)),ROWS(I$7:I7))),"")} -> 0 | N7: {=IFERROR(INDEX('Sub1'!J:J,SMALL(IF('Sub1'!$AC$5:$AC$34<>"",ROW('Sub1'!$AC$5:$AC$34)),ROWS(I$7:I7))),"")} -> 0 | O7: {=IFERROR(INDEX('Sub1'!K:K,SMALL(IF('Sub1'!$AC$5:$AC$34<>"",ROW('Sub1'!$AC$5:$AC$34)),ROWS(I$7:I7))),"")} -> 0 | P7: {=IFERROR(INDEX('Sub1'!L:L,SMALL(IF('Sub1'!$AC$5:$AC$34<>"",ROW('Sub1'!$AC$5:$AC$34)),ROWS(I$7:I7))),"")} -> 0 | Q7: {=IFERROR(INDEX('Sub1'!M:M,SMALL(IF('Sub1'!$AC$5:$AC$34<>"",ROW('Sub1'!$AC$5:$AC$34)),ROWS(I$7:I7))),"")} -> 0 | R7: {=IFERROR(INDEX('Sub1'!N:N,SMALL(IF('Sub1'!$AC$5:$AC$34<>"",ROW('Sub1'!$AC$5:$AC$34)),ROWS(I$7:I7))),"")} -> 0 | S7: {=IFERROR(INDEX('Sub1'!O:O,SMALL(IF('Sub1'!$AC$5:$AC$34<>"",ROW('Sub1'!$AC$5:$AC$34)),ROWS(I$7:I7))),"")} -> 0 | T7: {=IFERROR(INDEX('Sub1'!P:P,SMALL(IF('Sub1'!$AC$5:$AC$34<>"",ROW('Sub1'!$AC$5:$AC$34)),ROWS(I$7:I7))),"")} -> 0 | U7: {=IFERROR(INDEX('Sub1'!Q:Q,SMALL(IF('Sub1'!$AC$5:$AC$34<>"",ROW('Sub1'!$AC$5:$AC$34)),ROWS(I$7:I7))),"")} -> 0 | V7: {=IFERROR(INDEX('Sub1'!R:R,SMALL(IF('Sub1'!$AC$5:$AC$34<>"",ROW('Sub1'!$AC$5:$AC$34)),ROWS(I$7:I7))),"")} -> 0 | X7: {=IFERROR(INDEX('Sub2'!A:A,SMALL(IF('Sub2'!$Y$5:$Y$34<>"",ROW('Sub2'!$Y$5:$Y$34)),ROWS(Z$7:Z7))),"")} -> Nom1 | Y7: {=IFERROR(INDEX('Sub2'!B:B,SMALL(IF('Sub2'!$Y$5:$Y$34<>"",ROW('Sub2'!$Y$5:$Y$34)),ROWS(Z$7:Z7))),"")} -> Prénom1 | Z7: {=IFERROR(INDEX('Sub2'!C:C,SMALL(IF('Sub2'!$Y$5:$Y$34<>"",ROW('Sub2'!$Y$5:$Y$34)),ROWS(Z$7:Z7))),"")} -> 0000001 | AA7: {=IFERROR(INDEX('Sub2'!Y:Y,SMALL(IF('Sub2'!$Y$5:$Y$34<>"",ROW('Sub2'!$Y$5:$Y$34)),ROWS(Z$7:Z7))),"")} -> 3.35 | AB7: {=IFERROR(INDEX('Sub2'!F:F,SMALL(IF('Sub2'!$Y$5:$Y$34<>"",ROW('Sub2'!$Y$5:$Y$34)),ROWS(Z$7:Z7))),"")} -> 30 | AC7: {=IFERROR(INDEX('Sub2'!G:G,SMALL(IF('Sub2'!$Y$5:$Y$34<>"",ROW('Sub2'!$Y$5:$Y$34)),ROWS(Z$7:Z7))),"")} -> 0 | AD7: {=IFERROR(INDEX('Sub2'!H:H,SMALL(IF('Sub2'!$Y$5:$Y$34<>"",ROW('Sub2'!$Y$5:$Y$34)),ROWS(Z$7:Z7))),"")} -> 0 | AE7: {=IFERROR(INDEX('Sub2'!I:I,SMALL(IF('Sub2'!$Y$5:$Y$34<>"",ROW('Sub2'!$Y$5:$Y$34)),ROWS(Z$7:Z7))),"")} -> 0 | AF7: {=IFERROR(INDEX('Sub2'!J:J,SMALL(IF('Sub2'!$Y$5:$Y$34<>"",ROW('Sub2'!$Y$5:$Y$34)),ROWS(Z$7:Z7))),"")} -> 0 | AG7: {=IFERROR(INDEX('Sub2'!K:K,SMALL(IF('Sub2'!$Y$5:$Y$34<>"",ROW('Sub2'!$Y$5:$Y$34)),ROWS(Z$7:Z7))),"")} -> 0 | AH7: {=IFERROR(INDEX('Sub2'!L:L,SMALL(IF('Sub2'!$Y$5:$Y$34<>"",ROW('Sub2'!$Y$5:$Y$34)),ROWS(Z$7:Z7))),"")} -> 0 | AI7: {=IFERROR(INDEX('Sub2'!M:M,SMALL(IF('Sub2'!$Y$5:$Y$34<>"",ROW('Sub2'!$Y$5:$Y$34)),ROWS(Z$7:Z7))),"")} -> 0 | AJ7: {=IFERROR(INDEX('Sub2'!N:N,SMALL(IF('Sub2'!$Y$5:$Y$34<>"",ROW('Sub2'!$Y$5:$Y$34)),ROWS(Z$7:Z7))),"")} -> 40 | AK7: {=IFERROR(INDEX('Sub2'!O:O,SMALL(IF('Sub2'!$Y$5:$Y$34<>"",ROW('Sub2'!$Y$5:$Y$34)),ROWS(Z$7:Z7))),"")} -> 0 | AL7: {=IFERROR(INDEX('Sub2'!P:P,SMALL(IF('Sub2'!$Y$5:$Y$34<>"",ROW('Sub2'!$Y$5:$Y$34)),ROWS(Z$7:Z7))),"")} -> 0 | AM7: {=IFERROR(INDEX('Sub2'!Q:Q,SMALL(IF('Sub2'!$Y$5:$Y$34<>"",ROW('Sub2'!$Y$5:$Y$34)),ROWS(Z$7:Z7))),"")} -> 0 | AO7: {=IFERROR(INDEX('Sub3'!A:A,SMALL(IF('Sub3'!$Y$5:$Y$34<>"",ROW('Sub3'!$Y$5:$Y$34)),ROWS($AQ$7:$AQ7))),"")} -> Nom8 | AP7: {=IFERROR(INDEX('Sub3'!B:B,SMALL(IF('Sub3'!$Y$5:$Y$34<>"",ROW('Sub3'!$Y$5:$Y$34)),ROWS($AQ$7:$AQ7))),"")} -> Prénom8 | AQ7: {=IFERROR(INDEX('Sub3'!C:C,SMALL(IF('Sub3'!$Y$5:$Y$34<>"",ROW('Sub3'!$Y$5:$Y$34)),ROWS($AQ$7:$AQ7))),"")} -> 0000008 | AR7: {=IFERROR(INDEX('Sub3'!Y:Y,SMALL(IF('Sub3'!$Y$5:$Y$34<>"",ROW('Sub3'!$Y$5:$Y$34)),ROWS($AQ$7:$AQ7))),"")} -> 4.02 | AS7: {=IFERROR(INDEX('Sub3'!F:F,SMALL(IF('Sub3'!$Y$5:$Y$34<>"",ROW('Sub3'!$Y$5:$Y$34)),ROWS($AQ$7:$AQ7))),"")} -> 0 | AT7: {=IFERROR(INDEX('Sub3'!G:G,SMALL(IF('Sub3'!$Y$5:$Y$34<>"",ROW('Sub3'!$Y$5:$Y$34)),ROWS($AQ$7:$AQ7))),"")} -> 0 | AU7: {=IFERROR(INDEX('Sub3'!H:H,SMALL(IF('Sub3'!$Y$5:$Y$34<>"",ROW('Sub3'!$Y$5:$Y$34)),ROWS($AQ$7:$AQ7))),"")} -> 0 | AV7: {=IFERROR(INDEX('Sub3'!I:I,SMALL(IF('Sub3'!$Y$5:$Y$34<>"",ROW('Sub3'!$Y$5:$Y$34)),ROWS($AQ$7:$AQ7))),"")} -> 0 | AW7: {=IFERROR(INDEX('Sub3'!J:J,SMALL(IF('Sub3'!$Y$5:$Y$34<>"",ROW('Sub3'!$Y$5:$Y$34)),ROWS($AQ$7:$AQ7))),"")} -> 50 | AX7: {=IFERROR(INDEX('Sub3'!K:K,SMALL(IF('Sub3'!$Y$5:$Y$34<>"",ROW('Sub3'!$Y$5:$Y$34)),ROWS($AQ$7:$AQ7))),"")} -> 0 | AY7: {=IFERROR(INDEX('Sub3'!L:L,SMALL(IF('Sub3'!$Y$5:$Y$34<>"",ROW('Sub3'!$Y$5:$Y$34)),ROWS($AQ$7:$AQ7))),"")} -> 0 | AZ7: {=IFERROR(INDEX('Sub3'!M:M,SMALL(IF('Sub3'!$Y$5:$Y$34<>"",ROW('Sub3'!$Y$5:$Y$34)),ROWS($AQ$7:$AQ7))),"")} -> 0 | BA7: {=IFERROR(INDEX('Sub3'!N:N,SMALL(IF('Sub3'!$Y$5:$Y$34<>"",ROW('Sub3'!$Y$5:$Y$34)),ROWS($AQ$7:$AQ7))),"")} -> 0 | BB7: {=IFERROR(INDEX('Sub3'!O:O,SMALL(IF('Sub3'!$Y$5:$Y$34<>"",ROW('Sub3'!$Y$5:$Y$34)),ROWS($AQ$7:$AQ7))),"")} -> 0 | BC7: {=IFERROR(INDEX('Sub3'!P:P,SMALL(IF('Sub3'!$Y$5:$Y$34<>"",ROW('Sub3'!$Y$5:$Y$34)),ROWS($AQ$7:$AQ7))),"")} -> 0 | BD7: {=IFERROR(INDEX('Sub3'!Q:Q,SMALL(IF('Sub3'!$Y$5:$Y$34<>"",ROW('Sub3'!$Y$5:$Y$34)),ROWS($AQ$7:$AQ7))),"")} -> 0 | BF7: {=IFERROR(INDEX('Sub4'!A:A,SMALL(IF('Sub4'!$W$5:$W$34<>"",ROW('Sub4'!$W$5:$W$34)),ROWS($BH$7:$BH7))),"")} -> Nom1 | BG7: {=IFERROR(INDEX('Sub4'!B:B,SMALL(IF('Sub4'!$W$5:$W$34<>"",ROW('Sub4'!$W$5:$W$34)),ROWS($BH$7:$BH7))),"")} -> Prénom1 | BH7: {=IFERROR(INDEX('Sub4'!C:C,SMALL(IF('Sub4'!$W$5:$W$34<>"",ROW('Sub4'!$W$5:$W$34)),ROWS($BH$7:$BH7))),"")} -> 0000001 | BI7: {=IFERROR(INDEX('Sub4'!W:W,SMALL(IF('Sub4'!$W$5:$W$34<>"",ROW('Sub4'!$W$5:$W$34)),ROWS($BH$7:$BH7))),"")} -> 0 | BJ7: {=IFERROR(INDEX('Sub4'!F:F,SMALL(IF('Sub4'!$W$5:$W$34<>"",ROW('Sub4'!$W$5:$W$34)),ROWS($BH$7:$BH7))),"")} -> 0 | BK7: {=IFERROR(INDEX('Sub4'!G:G,SMALL(IF('Sub4'!$W$5:$W$34<>"",ROW('Sub4'!$W$5:$W$34)),ROWS($BH$7:$BH7))),"")} -> 0 | BL7: {=IFERROR(INDEX('Sub4'!H:H,SMALL(IF('Sub4'!$W$5:$W$34<>"",ROW('Sub4'!$W$5:$W$34)),ROWS($BH$7:$BH7))),"")} -> 0 | BM7: {=IFERROR(INDEX('Sub4'!I:I,SMALL(IF('Sub4'!$W$5:$W$34<>"",ROW('Sub4'!$W$5:$W$34)),ROWS($BH$7:$BH7))),"")} -> 0 | BN7: {=IFERROR(INDEX('Sub4'!J:J,SMALL(IF('Sub4'!$W$5:$W$34<>"",ROW('Sub4'!$W$5:$W$34)),ROWS($BH$7:$BH7))),"")} -> 0 | BO7: {=IFERROR(INDEX('Sub4'!K:K,SMALL(IF('Sub4'!$W$5:$W$34<>"",ROW('Sub4'!$W$5:$W$34)),ROWS($BH$7:$BH7))),"")} -> 0 | BP7: {=IFERROR(INDEX('Sub4'!L:L,SMALL(IF('Sub4'!$W$5:$W$34<>"",ROW('Sub4'!$W$5:$W$34)),ROWS($BH$7:$BH7))),"")} -> 0 | BQ7: {=IFERROR(INDEX('Sub4'!M:M,SMALL(IF('Sub4'!$W$5:$W$34<>"",ROW('Sub4'!$W$5:$W$34)),ROWS($BH$7:$BH7))),"")} -> 0 | BR7: {=IFERROR(INDEX('Sub4'!N:N,SMALL(IF('Sub4'!$W$5:$W$34<>"",ROW('Sub4'!$W$5:$W$34)),ROWS($BH$7:$BH7))),"")} -> 150 | BS7: {=IFERROR(INDEX('Sub4'!O:O,SMALL(IF('Sub4'!$W$5:$W$34<>"",ROW('Sub4'!$W$5:$W$34)),ROWS($BH$7:$BH7))),"")} -> 0 | BT7: {=IFERROR(INDEX('Sub4'!P:P,SMALL(IF('Sub4'!$W$5:$W$34<>"",ROW('Sub4'!$W$5:$W$34)),ROWS($BH$7:$BH7))),"")} -> 0 | BU7: {=IFERROR(INDEX('Sub4'!Q:Q,SMALL(IF('Sub4'!$W$5:$W$34<>"",ROW('Sub4'!$W$5:$W$34)),ROWS($BH$7:$BH7))),"")} -> 0 | BW7: {=IFERROR(INDEX('Sub5'!A:A,SMALL(IF('Sub5'!$Y$5:$Y$34<>"",ROW('Sub5'!$Y$5:$Y$34)),ROWS($BY$7:$BY7))),"")} -> Nom16 | BX7: {=IFERROR(INDEX('Sub5'!B:B,SMALL(IF('Sub5'!$Y$5:$Y$34<>"",ROW('Sub5'!$Y$5:$Y$34)),ROWS($BY$7:$BY7))),"")} -> Prénom16 | BY7: {=IFERROR(INDEX('Sub5'!C:C,SMALL(IF('Sub5'!$Y$5:$Y$34<>"",ROW('Sub5'!$Y$5:$Y$34)),ROWS($BY$7:$BY7))),"")} -> 0000016 | BZ7: {=IFERROR(INDEX('Sub5'!Y:Y,SMALL(IF('Sub5'!$Y$5:$Y$34<>"",ROW('Sub5'!$Y$5:$Y$34)),ROWS($BY$7:$BY7))),"")} -> 26.8 | CA7: {=IFERROR(INDEX('Sub5'!F:F,SMALL(IF('Sub5'!$Y$5:$Y$34<>"",ROW('Sub5'!$Y$5:$Y$34)),ROWS($BY$7:$BY7))),"")} -> 0 | CB7: {=IFERROR(INDEX('Sub5'!G:G,SMALL(IF('Sub5'!$Y$5:$Y$34<>"",ROW('Sub5'!$Y$5:$Y$34)),ROWS($BY$7:$BY7))),"")} -> 0 | CC7: {=IFERROR(INDEX('Sub5'!H:H,SMALL(IF('Sub5'!$Y$5:$Y$34<>"",ROW('Sub5'!$Y$5:$Y$34)),ROWS($BY$7:$BY7))),"")} -> 100 | CD7: {=IFERROR(INDEX('Sub5'!I:I,SMALL(IF('Sub5'!$Y$5:$Y$34<>"",ROW('Sub5'!$Y$5:$Y$34)),ROWS($BY$7:$BY7))),"")} -> 0 | CE7: {=IFERROR(INDEX('Sub5'!J:J,SMALL(IF('Sub5'!$Y$5:$Y$34<>"",ROW('Sub5'!$Y$5:$Y$34)),ROWS($BY$7:$BY7))),"")} -> 0 | CF7: {=IFERROR(INDEX('Sub5'!K:K,SMALL(IF('Sub5'!$Y$5:$Y$34<>"",ROW('Sub5'!$Y$5:$Y$34)),ROWS($BY$7:$BY7))),"")} -> 0 | CG7: {=IFERROR(INDEX('Sub5'!L:L,SMALL(IF('Sub5'!$Y$5:$Y$34<>"",ROW('Sub5'!$Y$5:$Y$34)),ROWS($BY$7:$BY7))),"")} -> 0 | CH7: {=IFERROR(INDEX('Sub5'!M:M,SMALL(IF('Sub5'!$Y$5:$Y$34<>"",ROW('Sub5'!$Y$5:$Y$34)),ROWS($BY$7:$BY7))),"")} -> 0 | CI7: {=IFERROR(INDEX('Sub5'!N:N,SMALL(IF('Sub5'!$Y$5:$Y$34<>"",ROW('Sub5'!$Y$5:$Y$34)),ROWS($BY$7:$BY7))),"")} -> 0 | CJ7: {=IFERROR(INDEX('Sub5'!O:O,SMALL(IF('Sub5'!$Y$5:$Y$34<>"",ROW('Sub5'!$Y$5:$Y$34)),ROWS($BY$7:$BY7))),"")} -> 0 | CK7: {=IFERROR(INDEX('Sub5'!P:P,SMALL(IF('Sub5'!$Y$5:$Y$34<>"",ROW('Sub5'!$Y$5:$Y$34)),ROWS($BY$7:$BY7))),"")} -> 0 | CL7: {=IFERROR(INDEX('Sub5'!Q:Q,SMALL(IF('Sub5'!$Y$5:$Y$34<>"",ROW('Sub5'!$Y$5:$Y$34)),ROWS($BY$7:$BY7))),"")} -> 0
A8: Nom2 | B8: Prénom5 | C8: 0000005 | D8: =IF(C8="","",ROUND((E8-(E8)*33%),2)) -> 201 | E8: 300 | G8: {=IFERROR(INDEX('Sub1'!A:A,SMALL(IF('Sub1'!$AC$5:$AC$34<>"",ROW('Sub1'!$AC$5:$AC$34)),ROWS(G$7:G8))),"")} -> Nom13 | H8: {=IFERROR(INDEX('Sub1'!B:B,SMALL(IF('Sub1'!$AC$5:$AC$34<>"",ROW('Sub1'!$AC$5:$AC$34)),ROWS(H$7:H8))),"")} -> Prénom13 | I8: {=IFERROR(INDEX('Sub1'!C:C,SMALL(IF('Sub1'!$AC$5:$AC$34<>"",ROW('Sub1'!$AC$5:$AC$34)),ROWS(I$7:I8))),"")} -> 0000013 | J8: {=IFERROR(INDEX('Sub1'!AC:AC,SMALL(IF('Sub1'!$AC$5:$AC$34<>"",ROW('Sub1'!$AC$5:$AC$34)),ROWS(J$7:J8))),"")} -> 167.5 | K8: {=IFERROR(INDEX('Sub1'!G:G,SMALL(IF('Sub1'!$AC$5:$AC$34<>"",ROW('Sub1'!$AC$5:$AC$34)),ROWS(I$7:I8))),"")} -> 500 | L8: {=IFERROR(INDEX('Sub1'!H:H,SMALL(IF('Sub1'!$AC$5:$AC$34<>"",ROW('Sub1'!$AC$5:$AC$34)),ROWS(I$7:I8))),"")} -> 0 | M8: {=IFERROR(INDEX('Sub1'!I:I,SMALL(IF('Sub1'!$AC$5:$AC$34<>"",ROW('Sub1'!$AC$5:$AC$34)),ROWS(I$7:I8))),"")} -> 0 | N8: {=IFERROR(INDEX('Sub1'!J:J,SMALL(IF('Sub1'!$AC$5:$AC$34<>"",ROW('Sub1'!$AC$5:$AC$34)),ROWS(I$7:I8))),"")} -> 0 | O8: {=IFERROR(INDEX('Sub1'!K:K,SMALL(IF('Sub1'!$AC$5:$AC$34<>"",ROW('Sub1'!$AC$5:$AC$34)),ROWS(I$7:I8))),"")} -> 0 | P8: {=IFERROR(INDEX('Sub1'!L:L,SMALL(IF('Sub1'!$AC$5:$AC$34<>"",ROW('Sub1'!$AC$5:$AC$34)),ROWS(I$7:I8))),"")} -> 0 | Q8: {=IFERROR(INDEX('Sub1'!M:M,SMALL(IF('Sub1'!$AC$5:$AC$34<>"",ROW('Sub1'!$AC$5:$AC$34)),ROWS(I$7:I8))),"")} -> 0 | R8: {=IFERROR(INDEX('Sub1'!N:N,SMALL(IF('Sub1'!$AC$5:$AC$34<>"",ROW('Sub1'!$AC$5:$AC$34)),ROWS(I$7:I8))),"")} -> 0 | S8: {=IFERROR(INDEX('Sub1'!O:O,SMALL(IF('Sub1'!$AC$5:$AC$34<>"",ROW('Sub1'!$AC$5:$AC$34)),ROWS(I$7:I8))),"")} -> 0 | T8: {=IFERROR(INDEX('Sub1'!P:P,SMALL(IF('Sub1'!$AC$5:$AC$34<>"",ROW('Sub1'!$AC$5:$AC$34)),ROWS(I$7:I8))),"")} -> 0 | U8: {=IFERROR(INDEX('Sub1'!Q:Q,SMALL(IF('Sub1'!$AC$5:$AC$34<>"",ROW('Sub1'!$AC$5:$AC$34)),ROWS(I$7:I8))),"")} -> 0 | V8: {=IFERROR(INDEX('Sub1'!R:R,SMALL(IF('Sub1'!$AC$5:$AC$34<>"",ROW('Sub1'!$AC$5:$AC$34)),ROWS(I$7:I8))),"")} -> 0 | X8: {=IFERROR(INDEX('Sub2'!A:A,SMALL(IF('Sub2'!$Y$5:$Y$34<>"",ROW('Sub2'!$Y$5:$Y$34)),ROWS(Z$7:Z8))),"")} -> Nom7 | Y8: {=IFERROR(INDEX('Sub2'!B:B,SMALL(IF('Sub2'!$Y$5:$Y$34<>"",ROW('Sub2'!$Y$5:$Y$34)),ROWS(Z$7:Z8))),"")} -> Prénom7 | Z8: {=IFERROR(INDEX('Sub2'!C:C,SMALL(IF('Sub2'!$Y$5:$Y$34<>"",ROW('Sub2'!$Y$5:$Y$34)),ROWS(Z$7:Z8))),"")} -> 0000007 | AA8: {=IFERROR(INDEX('Sub2'!Y:Y,SMALL(IF('Sub2'!$Y$5:$Y$34<>"",ROW('Sub2'!$Y$5:$Y$34)),ROWS(Z$7:Z8))),"")} -> 16.75 | AB8: {=IFERROR(INDEX('Sub2'!F:F,SMALL(IF('Sub2'!$Y$5:$Y$34<>"",ROW('Sub2'!$Y$5:$Y$34)),ROWS(Z$7:Z8))),"")} -> 0 | AC8: {=IFERROR(INDEX('Sub2'!G:G,SMALL(IF('Sub2'!$Y$5:$Y$34<>"",ROW('Sub2'!$Y$5:$Y$34)),ROWS(Z$7:Z8))),"")} -> 50 | AD8: {=IFERROR(INDEX('Sub2'!H:H,SMALL(IF('Sub2'!$Y$5:$Y$34<>"",ROW('Sub2'!$Y$5:$Y$34)),ROWS(Z$7:Z8))),"")} -> 0 | AE8: {=IFERROR(INDEX('Sub2'!I:I,SMALL(IF('Sub2'!$Y$5:$Y$34<>"",ROW('Sub2'!$Y$5:$Y$34)),ROWS(Z$7:Z8))),"")} -> 0 | AF8: {=IFERROR(INDEX('Sub2'!J:J,SMALL(IF('Sub2'!$Y$5:$Y$34<>"",ROW('Sub2'!$Y$5:$Y$34)),ROWS(Z$7:Z8))),"")} -> 0 | AG8: {=IFERROR(INDEX('Sub2'!K:K,SMALL(IF('Sub2'!$Y$5:$Y$34<>"",ROW('Sub2'!$Y$5:$Y$34)),ROWS(Z$7:Z8))),"")} -> 0 | AH8: {=IFERROR(INDEX('Sub2'!L:L,SMALL(IF('Sub2'!$Y$5:$Y$34<>"",ROW('Sub2'!$Y$5:$Y$34)),ROWS(Z$7:Z8))),"")} -> 0 | AI8: {=IFERROR(INDEX('Sub2'!M:M,SMALL(IF('Sub2'!$Y$5:$Y$34<>"",ROW('Sub2'!$Y$5:$Y$34)),ROWS(Z$7:Z8))),"")} -> 0 | AJ8: {=IFERROR(INDEX('Sub2'!N:N,SMALL(IF('Sub2'!$Y$5:$Y$34<>"",ROW('Sub2'!$Y$5:$Y$34)),ROWS(Z$7:Z8))),"")} -> 0 | AK8: {=IFERROR(INDEX('Sub2'!O:O,SMALL(IF('Sub2'!$Y$5:$Y$34<>"",ROW('Sub2'!$Y$5:$Y$34)),ROWS(Z$7:Z8))),"")} -> 0 | AL8: {=IFERROR(INDEX('Sub2'!P:P,SMALL(IF('Sub2'!$Y$5:$Y$34<>"",ROW('Sub2'!$Y$5:$Y$34)),ROWS(Z$7:Z8))),"")} -> 0 | AM8: {=IFERROR(INDEX('Sub2'!Q:Q,SMALL(IF('Sub2'!$Y$5:$Y$34<>"",ROW('Sub2'!$Y$5:$Y$34)),ROWS(Z$7:Z8))),"")} -> 0 | AO8: {=IFERROR(INDEX('Sub3'!A:A,SMALL(IF('Sub3'!$Y$5:$Y$34<>"",ROW('Sub3'!$Y$5:$Y$34)),ROWS($AQ$7:$AQ8))),"")} | AP8: {=IFERROR(INDEX('Sub3'!B:B,SMALL(IF('Sub3'!$Y$5:$Y$34<>"",ROW('Sub3'!$Y$5:$Y$34)),ROWS($AQ$7:$AQ8))),"")} | AQ8: {=IFERROR(INDEX('Sub3'!C:C,SMALL(IF('Sub3'!$Y$5:$Y$34<>"",ROW('Sub3'!$Y$5:$Y$34)),ROWS($AQ$7:$AQ8))),"")} | AR8: {=IFERROR(INDEX('Sub3'!Y:Y,SMALL(IF('Sub3'!$Y$5:$Y$34<>"",ROW('Sub3'!$Y$5:$Y$34)),ROWS($AQ$7:$AQ8))),"")} | AS8: {=IFERROR(INDEX('Sub3'!F:F,SMALL(IF('Sub3'!$Y$5:$Y$34<>"",ROW('Sub3'!$Y$5:$Y$34)),ROWS($AQ$7:$AQ8))),"")} | AT8: {=IFERROR(INDEX('Sub3'!G:G,SMALL(IF('Sub3'!$Y$5:$Y$34<>"",ROW('Sub3'!$Y$5:$Y$34)),ROWS($AQ$7:$AQ8))),"")} | AU8: {=IFERROR(INDEX('Sub3'!H:H,SMALL(IF('Sub3'!$Y$5:$Y$34<>"",ROW('Sub3'!$Y$5:$Y$34)),ROWS($AQ$7:$AQ8))),"")} | AV8: {=IFERROR(INDEX('Sub3'!I:I,SMALL(IF('Sub3'!$Y$5:$Y$34<>"",ROW('Sub3'!$Y$5:$Y$34)),ROWS($AQ$7:$AQ8))),"")} | AW8: {=IFERROR(INDEX('Sub3'!J:J,SMALL(IF('Sub3'!$Y$5:$Y$34<>"",ROW('Sub3'!$Y$5:$Y$34)),ROWS($AQ$7:$AQ8))),"")} | AX8: {=IFERROR(INDEX('Sub3'!K:K,SMALL(IF('Sub3'!$Y$5:$Y$34<>"",ROW('Sub3'!$Y$5:$Y$34)),ROWS($AQ$7:$AQ8))),"")} | AY8: {=IFERROR(INDEX('Sub3'!L:L,SMALL(IF('Sub3'!$Y$5:$Y$34<>"",ROW('Sub3'!$Y$5:$Y$34)),ROWS($AQ$7:$AQ8))),"")} | AZ8: {=IFERROR(INDEX('Sub3'!M:M,SMALL(IF('Sub3'!$Y$5:$Y$34<>"",ROW('Sub3'!$Y$5:$Y$34)),ROWS($AQ$7:$AQ8))),"")} | BA8: {=IFERROR(INDEX('Sub3'!N:N,SMALL(IF('Sub3'!$Y$5:$Y$34<>"",ROW('Sub3'!$Y$5:$Y$34)),ROWS($AQ$7:$AQ8))),"")} | BB8: {=IFERROR(INDEX('Sub3'!O:O,SMALL(IF('Sub3'!$Y$5:$Y$34<>"",ROW('Sub3'!$Y$5:$Y$34)),ROWS($AQ$7:$AQ8))),"")} | BC8: {=IFERROR(INDEX('Sub3'!P:P,SMALL(IF('Sub3'!$Y$5:$Y$34<>"",ROW('Sub3'!$Y$5:$Y$34)),ROWS($AQ$7:$AQ8))),"")} | BD8: {=IFERROR(INDEX('Sub3'!Q:Q,SMALL(IF('Sub3'!$Y$5:$Y$34<>"",ROW('Sub3'!$Y$5:$Y$34)),ROWS($AQ$7:$AQ8))),"")} | BF8: {=IFERROR(INDEX('Sub4'!A:A,SMALL(IF('Sub4'!$W$5:$W$34<>"",ROW('Sub4'!$W$5:$W$34)),ROWS($BH$7:$BH8))),"")} -> Nom2 | BG8: {=IFERROR(INDEX('Sub4'!B:B,SMALL(IF('Sub4'!$W$5:$W$34<>"",ROW('Sub4'!$W$5:$W$34)),ROWS($BH$7:$BH8))),"")} -> Prénom2 | BH8: {=IFERROR(INDEX('Sub4'!C:C,SMALL(IF('Sub4'!$W$5:$W$34<>"",ROW('Sub4'!$W$5:$W$34)),ROWS($BH$7:$BH8))),"")} -> 0000002 | BI8: {=IFERROR(INDEX('Sub4'!W:W,SMALL(IF('Sub4'!$W$5:$W$34<>"",ROW('Sub4'!$W$5:$W$34)),ROWS($BH$7:$BH8))),"")} -> 12.06 | BJ8: {=IFERROR(INDEX('Sub4'!F:F,SMALL(IF('Sub4'!$W$5:$W$34<>"",ROW('Sub4'!$W$5:$W$34)),ROWS($BH$7:$BH8))),"")} -> 0 | BK8: {=IFERROR(INDEX('Sub4'!G:G,SMALL(IF('Sub4'!$W$5:$W$34<>"",ROW('Sub4'!$W$5:$W$34)),ROWS($BH$7:$BH8))),"")} -> 100 | BL8: {=IFERROR(INDEX('Sub4'!H:H,SMALL(IF('Sub4'!$W$5:$W$34<>"",ROW('Sub4'!$W$5:$W$34)),ROWS($BH$7:$BH8))),"")} -> 0 | BM8: {=IFERROR(INDEX('Sub4'!I:I,SMALL(IF('Sub4'!$W$5:$W$34<>"",ROW('Sub4'!$W$5:$W$34)),ROWS($BH$7:$BH8))),"")} -> 0 | BN8: {=IFERROR(INDEX('Sub4'!J:J,SMALL(IF('Sub4'!$W$5:$W$34<>"",ROW('Sub4'!$W$5:$W$34)),ROWS($BH$7:$BH8))),"")} -> 0 | BO8: {=IFERROR(INDEX('Sub4'!K:K,SMALL(IF('Sub4'!$W$5:$W$34<>"",ROW('Sub4'!$W$5:$W$34)),ROWS($BH$7:$BH8))),"")} -> 0 | BP8: {=IFERROR(INDEX('Sub4'!L:L,SMALL(IF('Sub4'!$W$5:$W$34<>"",ROW('Sub4'!$W$5:$W$34)),ROWS($BH$7:$BH8))),"")} -> 0 | BQ8: {=IFERROR(INDEX('Sub4'!M:M,SMALL(IF('Sub4'!$W$5:$W$34<>"",ROW('Sub4'!$W$5:$W$34)),ROWS($BH$7:$BH8))),"")} -> 0 | BR8: {=IFERROR(INDEX('Sub4'!N:N,SMALL(IF('Sub4'!$W$5:$W$34<>"",ROW('Sub4'!$W$5:$W$34)),ROWS($BH$7:$BH8))),"")} -> 0 | BS8: {=IFERROR(INDEX('Sub4'!O:O,SMALL(IF('Sub4'!$W$5:$W$34<>"",ROW('Sub4'!$W$5:$W$34)),ROWS($BH$7:$BH8))),"")} -> 0 | BT8: {=IFERROR(INDEX('Sub4'!P:P,SMALL(IF('Sub4'!$W$5:$W$34<>"",ROW('Sub4'!$W$5:$W$34)),ROWS($BH$7:$BH8))),"")} -> 0 | BU8: {=IFERROR(INDEX('Sub4'!Q:Q,SMALL(IF('Sub4'!$W$5:$W$34<>"",ROW('Sub4'!$W$5:$W$34)),ROWS($BH$7:$BH8))),"")} -> 0 | BW8: {=IFERROR(INDEX('Sub5'!A:A,SMALL(IF('Sub5'!$Y$5:$Y$34<>"",ROW('Sub5'!$Y$5:$Y$34)),ROWS($BY$7:$BY8))),"")} | BX8: {=IFERROR(INDEX('Sub5'!B:B,SMALL(IF('Sub5'!$Y$5:$Y$34<>"",ROW('Sub5'!$Y$5:$Y$34)),ROWS($BY$7:$BY8))),"")} | BY8: {=IFERROR(INDEX('Sub5'!C:C,SMALL(IF('Sub5'!$Y$5:$Y$34<>"",ROW('Sub5'!$Y$5:$Y$34)),ROWS($BY$7:$BY8))),"")} | BZ8: {=IFERROR(INDEX('Sub5'!Y:Y,SMALL(IF('Sub5'!$Y$5:$Y$34<>"",ROW('Sub5'!$Y$5:$Y$34)),ROWS($BY$7:$BY8))),"")} | CA8: {=IFERROR(INDEX('Sub5'!F:F,SMALL(IF('Sub5'!$Y$5:$Y$34<>"",ROW('Sub5'!$Y$5:$Y$34)),ROWS($BY$7:$BY8))),"")} | CB8: {=IFERROR(INDEX('Sub5'!G:G,SMALL(IF('Sub5'!$Y$5:$Y$34<>"",ROW('Sub5'!$Y$5:$Y$34)),ROWS($BY$7:$BY8))),"")} | CC8: {=IFERROR(INDEX('Sub5'!H:H,SMALL(IF('Sub5'!$Y$5:$Y$34<>"",ROW('Sub5'!$Y$5:$Y$34)),ROWS($BY$7:$BY8))),"")} | CD8: {=IFERROR(INDEX('Sub5'!I:I,SMALL(IF('Sub5'!$Y$5:$Y$34<>"",ROW('Sub5'!$Y$5:$Y$34)),ROWS($BY$7:$BY8))),"")} | CE8: {=IFERROR(INDEX('Sub5'!J:J,SMALL(IF('Sub5'!$Y$5:$Y$34<>"",ROW('Sub5'!$Y$5:$Y$34)),ROWS($BY$7:$BY8))),"")} | CF8: {=IFERROR(INDEX('Sub5'!K:K,SMALL(IF('Sub5'!$Y$5:$Y$34<>"",ROW('Sub5'!$Y$5:$Y$34)),ROWS($BY$7:$BY8))),"")} | CG8: {=IFERROR(INDEX('Sub5'!L:L,SMALL(IF('Sub5'!$Y$5:$Y$34<>"",ROW('Sub5'!$Y$5:$Y$34)),ROWS($BY$7:$BY8))),"")} | CH8: {=IFERROR(INDEX('Sub5'!M:M,SMALL(IF('Sub5'!$Y$5:$Y$34<>"",ROW('Sub5'!$Y$5:$Y$34)),ROWS($BY$7:$BY8))),"")} | CI8: {=IFERROR(INDEX('Sub5'!N:N,SMALL(IF('Sub5'!$Y$5:$Y$34<>"",ROW('Sub5'!$Y$5:$Y$34)),ROWS($BY$7:$BY8))),"")} | CJ8: {=IFERROR(INDEX('Sub5'!O:O,SMALL(IF('Sub5'!$Y$5:$Y$34<>"",ROW('Sub5'!$Y$5:$Y$34)),ROWS($BY$7:$BY8))),"")} | CK8: {=IFERROR(INDEX('Sub5'!P:P,SMALL(IF('Sub5'!$Y$5:$Y$34<>"",ROW('Sub5'!$Y$5:$Y$34)),ROWS($BY$7:$BY8))),"")} | CL8: {=IFERROR(INDEX('Sub5'!Q:Q,SMALL(IF('Sub5'!$Y$5:$Y$34<>"",ROW('Sub5'!$Y$5:$Y$34)),ROWS($BY$7:$BY8))),"")}
A9: Nom5 | B9: Prénom13 | C9: 0000013 | D9: =IF(C9="","",ROUND((E9-(E9)*33%),2)) -> 335 | E9: 500 | G9: {=IFERROR(INDEX('Sub1'!A:A,SMALL(IF('Sub1'!$AC$5:$AC$34<>"",ROW('Sub1'!$AC$5:$AC$34)),ROWS(G$7:G9))),"")} | H9: {=IFERROR(INDEX('Sub1'!B:B,SMALL(IF('Sub1'!$AC$5:$AC$34<>"",ROW('Sub1'!$AC$5:$AC$34)),ROWS(H$7:H9))),"")} | I9: {=IFERROR(INDEX('Sub1'!C:C,SMALL(IF('Sub1'!$AC$5:$AC$34<>"",ROW('Sub1'!$AC$5:$AC$34)),ROWS(I$7:I9))),"")} | J9: {=IFERROR(INDEX('Sub1'!AC:AC,SMALL(IF('Sub1'!$AC$5:$AC$34<>"",ROW('Sub1'!$AC$5:$AC$34)),ROWS(J$7:J9))),"")} | K9: {=IFERROR(INDEX('Sub1'!G:G,SMALL(IF('Sub1'!$AC$5:$AC$34<>"",ROW('Sub1'!$AC$5:$AC$34)),ROWS(I$7:I9))),"")} | L9: {=IFERROR(INDEX('Sub1'!H:H,SMALL(IF('Sub1'!$AC$5:$AC$34<>"",ROW('Sub1'!$AC$5:$AC$34)),ROWS(I$7:I9))),"")} | M9: {=IFERROR(INDEX('Sub1'!I:I,SMALL(IF('Sub1'!$AC$5:$AC$34<>"",ROW('Sub1'!$AC$5:$AC$34)),ROWS(I$7:I9))),"")} | N9: {=IFERROR(INDEX('Sub1'!J:J,SMALL(IF('Sub1'!$AC$5:$AC$34<>"",ROW('Sub1'!$AC$5:$AC$34)),ROWS(I$7:I9))),"")} | O9: {=IFERROR(INDEX('Sub1'!K:K,SMALL(IF('Sub1'!$AC$5:$AC$34<>"",ROW('Sub1'!$AC$5:$AC$34)),ROWS(I$7:I9))),"")} | P9: {=IFERROR(INDEX('Sub1'!L:L,SMALL(IF('Sub1'!$AC$5:$AC$34<>"",ROW('Sub1'!$AC$5:$AC$34)),ROWS(I$7:I9))),"")} | Q9: {=IFERROR(INDEX('Sub1'!M:M,SMALL(IF('Sub1'!$AC$5:$AC$34<>"",ROW('Sub1'!$AC$5:$AC$34)),ROWS(I$7:I9))),"")} | R9: {=IFERROR(INDEX('Sub1'!N:N,SMALL(IF('Sub1'!$AC$5:$AC$34<>"",ROW('Sub1'!$AC$5:$AC$34)),ROWS(I$7:I9))),"")} | S9: {=IFERROR(INDEX('Sub1'!O:O,SMALL(IF('Sub1'!$AC$5:$AC$34<>"",ROW('Sub1'!$AC$5:$AC$34)),ROWS(I$7:I9))),"")} | T9: {=IFERROR(INDEX('Sub1'!P:P,SMALL(IF('Sub1'!$AC$5:$AC$34<>"",ROW('Sub1'!$AC$5:$AC$34)),ROWS(I$7:I9))),"")} | U9: {=IFERROR(INDEX('Sub1'!Q:Q,SMALL(IF('Sub1'!$AC$5:$AC$34<>"",ROW('Sub1'!$AC$5:$AC$34)),ROWS(I$7:I9))),"")} | V9: {=IFERROR(INDEX('Sub1'!R:R,SMALL(IF('Sub1'!$AC$5:$AC$34<>"",ROW('Sub1'!$AC$5:$AC$34)),ROWS(I$7:I9))),"")} | X9: {=IFERROR(INDEX('Sub2'!A:A,SMALL(IF('Sub2'!$Y$5:$Y$34<>"",ROW('Sub2'!$Y$5:$Y$34)),ROWS(Z$7:Z9))),"")} | Y9: {=IFERROR(INDEX('Sub2'!B:B,SMALL(IF('Sub2'!$Y$5:$Y$34<>"",ROW('Sub2'!$Y$5:$Y$34)),ROWS(Z$7:Z9))),"")} | Z9: {=IFERROR(INDEX('Sub2'!C:C,SMALL(IF('Sub2'!$Y$5:$Y$34<>"",ROW('Sub2'!$Y$5:$Y$34)),ROWS(Z$7:Z9))),"")} | AA9: {=IFERROR(INDEX('Sub2'!Y:Y,SMALL(IF('Sub2'!$Y$5:$Y$34<>"",ROW('Sub2'!$Y$5:$Y$34)),ROWS(Z$7:Z9))),"")} | AB9: {=IFERROR(INDEX('Sub2'!F:F,SMALL(IF('Sub2'!$Y$5:$Y$34<>"",ROW('Sub2'!$Y$5:$Y$34)),ROWS(Z$7:Z9))),"")} | AC9: {=IFERROR(INDEX('Sub2'!G:G,SMALL(IF('Sub2'!$Y$5:$Y$34<>"",ROW('Sub2'!$Y$5:$Y$34)),ROWS(Z$7:Z9))),"")} | AD9: {=IFERROR(INDEX('Sub2'!H:H,SMALL(IF('Sub2'!$Y$5:$Y$34<>"",ROW('Sub2'!$Y$5:$Y$34)),ROWS(Z$7:Z9))),"")} | AE9: {=IFERROR(INDEX('Sub2'!I:I,SMALL(IF('Sub2'!$Y$5:$Y$34<>"",ROW('Sub2'!$Y$5:$Y$34)),ROWS(Z$7:Z9))),"")} | AF9: {=IFERROR(INDEX('Sub2'!J:J,SMALL(IF('Sub2'!$Y$5:$Y$34<>"",ROW('Sub2'!$Y$5:$Y$34)),ROWS(Z$7:Z9))),"")} | AG9: {=IFERROR(INDEX('Sub2'!K:K,SMALL(IF('Sub2'!$Y$5:$Y$34<>"",ROW('Sub2'!$Y$5:$Y$34)),ROWS(Z$7:Z9))),"")} | AH9: {=IFERROR(INDEX('Sub2'!L:L,SMALL(IF('Sub2'!$Y$5:$Y$34<>"",ROW('Sub2'!$Y$5:$Y$34)),ROWS(Z$7:Z9))),"")} | AI9: {=IFERROR(INDEX('Sub2'!M:M,SMALL(IF('Sub2'!$Y$5:$Y$34<>"",ROW('Sub2'!$Y$5:$Y$34)),ROWS(Z$7:Z9))),"")} | AJ9: {=IFERROR(INDEX('Sub2'!N:N,SMALL(IF('Sub2'!$Y$5:$Y$34<>"",ROW('Sub2'!$Y$5:$Y$34)),ROWS(Z$7:Z9))),"")} | AK9: {=IFERROR(INDEX('Sub2'!O:O,SMALL(IF('Sub2'!$Y$5:$Y$34<>"",ROW('Sub2'!$Y$5:$Y$34)),ROWS(Z$7:Z9))),"")} | AL9: {=IFERROR(INDEX('Sub2'!P:P,SMALL(IF('Sub2'!$Y$5:$Y$34<>"",ROW('Sub2'!$Y$5:$Y$34)),ROWS(Z$7:Z9))),"")} | AM9: {=IFERROR(INDEX('Sub2'!Q:Q,SMALL(IF('Sub2'!$Y$5:$Y$34<>"",ROW('Sub2'!$Y$5:$Y$34)),ROWS(Z$7:Z9))),"")} | AO9: {=IFERROR(INDEX('Sub3'!A:A,SMALL(IF('Sub3'!$Y$5:$Y$34<>"",ROW('Sub3'!$Y$5:$Y$34)),ROWS($AQ$7:$AQ9))),"")} | AP9: {=IFERROR(INDEX('Sub3'!B:B,SMALL(IF('Sub3'!$Y$5:$Y$34<>"",ROW('Sub3'!$Y$5:$Y$34)),ROWS($AQ$7:$AQ9))),"")} | AQ9: {=IFERROR(INDEX('Sub3'!C:C,SMALL(IF('Sub3'!$Y$5:$Y$34<>"",ROW('Sub3'!$Y$5:$Y$34)),ROWS($AQ$7:$AQ9))),"")} | AR9: {=IFERROR(INDEX('Sub3'!Y:Y,SMALL(IF('Sub3'!$Y$5:$Y$34<>"",ROW('Sub3'!$Y$5:$Y$34)),ROWS($AQ$7:$AQ9))),"")} | AS9: {=IFERROR(INDEX('Sub3'!F:F,SMALL(IF('Sub3'!$Y$5:$Y$34<>"",ROW('Sub3'!$Y$5:$Y$34)),ROWS($AQ$7:$AQ9))),"")} | AT9: {=IFERROR(INDEX('Sub3'!G:G,SMALL(IF('Sub3'!$Y$5:$Y$34<>"",ROW('Sub3'!$Y$5:$Y$34)),ROWS($AQ$7:$AQ9))),"")} | AU9: {=IFERROR(INDEX('Sub3'!H:H,SMALL(IF('Sub3'!$Y$5:$Y$34<>"",ROW('Sub3'!$Y$5:$Y$34)),ROWS($AQ$7:$AQ9))),"")} | AV9: {=IFERROR(INDEX('Sub3'!I:I,SMALL(IF('Sub3'!$Y$5:$Y$34<>"",ROW('Sub3'!$Y$5:$Y$34)),ROWS($AQ$7:$AQ9))),"")} | AW9: {=IFERROR(INDEX('Sub3'!J:J,SMALL(IF('Sub3'!$Y$5:$Y$34<>"",ROW('Sub3'!$Y$5:$Y$34)),ROWS($AQ$7:$AQ9))),"")} | AX9: {=IFERROR(INDEX('Sub3'!K:K,SMALL(IF('Sub3'!$Y$5:$Y$34<>"",ROW('Sub3'!$Y$5:$Y$34)),ROWS($AQ$7:$AQ9))),"")} | AY9: {=IFERROR(INDEX('Sub3'!L:L,SMALL(IF('Sub3'!$Y$5:$Y$34<>"",ROW('Sub3'!$Y$5:$Y$34)),ROWS($AQ$7:$AQ9))),"")} | AZ9: {=IFERROR(INDEX('Sub3'!M:M,SMALL(IF('Sub3'!$Y$5:$Y$34<>"",ROW('Sub3'!$Y$5:$Y$34)),ROWS($AQ$7:$AQ9))),"")} | BA9: {=IFERROR(INDEX('Sub3'!N:N,SMALL(IF('Sub3'!$Y$5:$Y$34<>"",ROW('Sub3'!$Y$5:$Y$34)),ROWS($AQ$7:$AQ9))),"")} | BB9: {=IFERROR(INDEX('Sub3'!O:O,SMALL(IF('Sub3'!$Y$5:$Y$34<>"",ROW('Sub3'!$Y$5:$Y$34)),ROWS($AQ$7:$AQ9))),"")} | BC9: {=IFERROR(INDEX('Sub3'!P:P,SMALL(IF('Sub3'!$Y$5:$Y$34<>"",ROW('Sub3'!$Y$5:$Y$34)),ROWS($AQ$7:$AQ9))),"")} | BD9: {=IFERROR(INDEX('Sub3'!Q:Q,SMALL(IF('Sub3'!$Y$5:$Y$34<>"",ROW('Sub3'!$Y$5:$Y$34)),ROWS($AQ$7:$AQ9))),"")} | BF9: {=IFERROR(INDEX('Sub4'!A:A,SMALL(IF('Sub4'!$W$5:$W$34<>"",ROW('Sub4'!$W$5:$W$34)),ROWS($BH$7:$BH9))),"")} -> Nom11 | BG9: {=IFERROR(INDEX('Sub4'!B:B,SMALL(IF('Sub4'!$W$5:$W$34<>"",ROW('Sub4'!$W$5:$W$34)),ROWS($BH$7:$BH9))),"")} -> Prénom11 | BH9: {=IFERROR(INDEX('Sub4'!C:C,SMALL(IF('Sub4'!$W$5:$W$34<>"",ROW('Sub4'!$W$5:$W$34)),ROWS($BH$7:$BH9))),"")} -> 0000011 | BI9: {=IFERROR(INDEX('Sub4'!W:W,SMALL(IF('Sub4'!$W$5:$W$34<>"",ROW('Sub4'!$W$5:$W$34)),ROWS($BH$7:$BH9))),"")} -> 20.1 | BJ9: {=IFERROR(INDEX('Sub4'!F:F,SMALL(IF('Sub4'!$W$5:$W$34<>"",ROW('Sub4'!$W$5:$W$34)),ROWS($BH$7:$BH9))),"")} -> 0 | BK9: {=IFERROR(INDEX('Sub4'!G:G,SMALL(IF('Sub4'!$W$5:$W$34<>"",ROW('Sub4'!$W$5:$W$34)),ROWS($BH$7:$BH9))),"")} -> 0 | BL9: {=IFERROR(INDEX('Sub4'!H:H,SMALL(IF('Sub4'!$W$5:$W$34<>"",ROW('Sub4'!$W$5:$W$34)),ROWS($BH$7:$BH9))),"")} -> 0 | BM9: {=IFERROR(INDEX('Sub4'!I:I,SMALL(IF('Sub4'!$W$5:$W$34<>"",ROW('Sub4'!$W$5:$W$34)),ROWS($BH$7:$BH9))),"")} -> 0 | BN9: {=IFERROR(INDEX('Sub4'!J:J,SMALL(IF('Sub4'!$W$5:$W$34<>"",ROW('Sub4'!$W$5:$W$34)),ROWS($BH$7:$BH9))),"")} -> 120 | BO9: {=IFERROR(INDEX('Sub4'!K:K,SMALL(IF('Sub4'!$W$5:$W$34<>"",ROW('Sub4'!$W$5:$W$34)),ROWS($BH$7:$BH9))),"")} -> 0 | BP9: {=IFERROR(INDEX('Sub4'!L:L,SMALL(IF('Sub4'!$W$5:$W$34<>"",ROW('Sub4'!$W$5:$W$34)),ROWS($BH$7:$BH9))),"")} -> 0 | BQ9: {=IFERROR(INDEX('Sub4'!M:M,SMALL(IF('Sub4'!$W$5:$W$34<>"",ROW('Sub4'!$W$5:$W$34)),ROWS($BH$7:$BH9))),"")} -> 0 | BR9: {=IFERROR(INDEX('Sub4'!N:N,SMALL(IF('Sub4'!$W$5:$W$34<>"",ROW('Sub4'!$W$5:$W$34)),ROWS($BH$7:$BH9))),"")} -> 0 | BS9: {=IFERROR(INDEX('Sub4'!O:O,SMALL(IF('Sub4'!$W$5:$W$34<>"",ROW('Sub4'!$W$5:$W$34)),ROWS($BH$7:$BH9))),"")} -> 0 | BT9: {=IFERROR(INDEX('Sub4'!P:P,SMALL(IF('Sub4'!$W$5:$W$34<>"",ROW('Sub4'!$W$5:$W$34)),ROWS($BH$7:$BH9))),"")} -> 0 | BU9: {=IFERROR(INDEX('Sub4'!Q:Q,SMALL(IF('Sub4'!$W$5:$W$34<>"",ROW('Sub4'!$W$5:$W$34)),ROWS($BH$7:$BH9))),"")} -> 0 | BW9: {=IFERROR(INDEX('Sub5'!A:A,SMALL(IF('Sub5'!$Y$5:$Y$34<>"",ROW('Sub5'!$Y$5:$Y$34)),ROWS($BY$7:$BY9))),"")} | BX9: {=IFERROR(INDEX('Sub5'!B:B,SMALL(IF('Sub5'!$Y$5:$Y$34<>"",ROW('Sub5'!$Y$5:$Y$34)),ROWS($BY$7:$BY9))),"")} | BY9: {=IFERROR(INDEX('Sub5'!C:C,SMALL(IF('Sub5'!$Y$5:$Y$34<>"",ROW('Sub5'!$Y$5:$Y$34)),ROWS($BY$7:$BY9))),"")} | BZ9: {=IFERROR(INDEX('Sub5'!Y:Y,SMALL(IF('Sub5'!$Y$5:$Y$34<>"",ROW('Sub5'!$Y$5:$Y$34)),ROWS($BY$7:$BY9))),"")} | CA9: {=IFERROR(INDEX('Sub5'!F:F,SMALL(IF('Sub5'!$Y$5:$Y$34<>"",ROW('Sub5'!$Y$5:$Y$34)),ROWS($BY$7:$BY9))),"")} | CB9: {=IFERROR(INDEX('Sub5'!G:G,SMALL(IF('Sub5'!$Y$5:$Y$34<>"",ROW('Sub5'!$Y$5:$Y$34)),ROWS($BY$7:$BY9))),"")} | CC9: {=IFERROR(INDEX('Sub5'!H:H,SMALL(IF('Sub5'!$Y$5:$Y$34<>"",ROW('Sub5'!$Y$5:$Y$34)),ROWS($BY$7:$BY9))),"")} | CD9: {=IFERROR(INDEX('Sub5'!I:I,SMALL(IF('Sub5'!$Y$5:$Y$34<>"",ROW('Sub5'!$Y$5:$Y$34)),ROWS($BY$7:$BY9))),"")} | CE9: {=IFERROR(INDEX('Sub5'!J:J,SMALL(IF('Sub5'!$Y$5:$Y$34<>"",ROW('Sub5'!$Y$5:$Y$34)),ROWS($BY$7:$BY9))),"")} | CF9: {=IFERROR(INDEX('Sub5'!K:K,SMALL(IF('Sub5'!$Y$5:$Y$34<>"",ROW('Sub5'!$Y$5:$Y$34)),ROWS($BY$7:$BY9))),"")} | CG9: {=IFERROR(INDEX('Sub5'!L:L,SMALL(IF('Sub5'!$Y$5:$Y$34<>"",ROW('Sub5'!$Y$5:$Y$34)),ROWS($BY$7:$BY9))),"")} | CH9: {=IFERROR(INDEX('Sub5'!M:M,SMALL(IF('Sub5'!$Y$5:$Y$34<>"",ROW('Sub5'!$Y$5:$Y$34)),ROWS($BY$7:$BY9))),"")} | CI9: {=IFERROR(INDEX('Sub5'!N:N,SMALL(IF('Sub5'!$Y$5:$Y$34<>"",ROW('Sub5'!$Y$5:$Y$34)),ROWS($BY$7:$BY9))),"")} | CJ9: {=IFERROR(INDEX('Sub5'!O:O,SMALL(IF('Sub5'!$Y$5:$Y$34<>"",ROW('Sub5'!$Y$5:$Y$34)),ROWS($BY$7:$BY9))),"")} | CK9: {=IFERROR(INDEX('Sub5'!P:P,SMALL(IF('Sub5'!$Y$5:$Y$34<>"",ROW('Sub5'!$Y$5:$Y$34)),ROWS($BY$7:$BY9))),"")} | CL9: {=IFERROR(INDEX('Sub5'!Q:Q,SMALL(IF('Sub5'!$Y$5:$Y$34<>"",ROW('Sub5'!$Y$5:$Y$34)),ROWS($BY$7:$BY9))),"")}
A10: Nom7 | G10: {=IFERROR(INDEX('Sub1'!A:A,SMALL(IF('Sub1'!$AC$5:$AC$34<>"",ROW('Sub1'!$AC$5:$AC$34)),ROWS(G$7:G10))),"")} | H10: {=IFERROR(INDEX('Sub1'!B:B,SMALL(IF('Sub1'!$AC$5:$AC$34<>"",ROW('Sub1'!$AC$5:$AC$34)),ROWS(H$7:H10))),"")} | I10: {=IFERROR(INDEX('Sub1'!C:C,SMALL(IF('Sub1'!$AC$5:$AC$34<>"",ROW('Sub1'!$AC$5:$AC$34)),ROWS(I$7:I10))),"")} | J10: {=IFERROR(INDEX('Sub1'!AC:AC,SMALL(IF('Sub1'!$AC$5:$AC$34<>"",ROW('Sub1'!$AC$5:$AC$34)),ROWS(J$7:J10))),"")} | K10: {=IFERROR(INDEX('Sub1'!G:G,SMALL(IF('Sub1'!$AC$5:$AC$34<>"",ROW('Sub1'!$AC$5:$AC$34)),ROWS(I$7:I10))),"")} | L10: {=IFERROR(INDEX('Sub1'!H:H,SMALL(IF('Sub1'!$AC$5:$AC$34<>"",ROW('Sub1'!$AC$5:$AC$34)),ROWS(I$7:I10))),"")} | M10: {=IFERROR(INDEX('Sub1'!I:I,SMALL(IF('Sub1'!$AC$5:$AC$34<>"",ROW('Sub1'!$AC$5:$AC$34)),ROWS(I$7:I10))),"")} | N10: {=IFERROR(INDEX('Sub1'!J:J,SMALL(IF('Sub1'!$AC$5:$AC$34<>"",ROW('Sub1'!$AC$5:$AC$34)),ROWS(I$7:I10))),"")} | O10: {=IFERROR(INDEX('Sub1'!K:K,SMALL(IF('Sub1'!$AC$5:$AC$34<>"",ROW('Sub1'!$AC$5:$AC$34)),ROWS(I$7:I10))),"")} | P10: {=IFERROR(INDEX('Sub1'!L:L,SMALL(IF('Sub1'!$AC$5:$AC$34<>"",ROW('Sub1'!$AC$5:$AC$34)),ROWS(I$7:I10))),"")} | Q10: {=IFERROR(INDEX('Sub1'!M:M,SMALL(IF('Sub1'!$AC$5:$AC$34<>"",ROW('Sub1'!$AC$5:$AC$34)),ROWS(I$7:I10))),"")} | R10: {=IFERROR(INDEX('Sub1'!N:N,SMALL(IF('Sub1'!$AC$5:$AC$34<>"",ROW('Sub1'!$AC$5:$AC$34)),ROWS(I$7:I10))),"")} | S10: {=IFERROR(INDEX('Sub1'!O:O,SMALL(IF('Sub1'!$AC$5:$AC$34<>"",ROW('Sub1'!$AC$5:$AC$34)),ROWS(I$7:I10))),"")} | T10: {=IFERROR(INDEX('Sub1'!P:P,SMALL(IF('Sub1'!$AC$5:$AC$34<>"",ROW('Sub1'!$AC$5:$AC$34)),ROWS(I$7:I10))),"")} | U10: {=IFERROR(INDEX('Sub1'!Q:Q,SMALL(IF('Sub1'!$AC$5:$AC$34<>"",ROW('Sub1'!$AC$5:$AC$34)),ROWS(I$7:I10))),"")} | V10: {=IFERROR(INDEX('Sub1'!R:R,SMALL(IF('Sub1'!$AC$5:$AC$34<>"",ROW('Sub1'!$AC$5:$AC$34)),ROWS(I$7:I10))),"")} | X10: {=IFERROR(INDEX('Sub2'!A:A,SMALL(IF('Sub2'!$Y$5:$Y$34<>"",ROW('Sub2'!$Y$5:$Y$34)),ROWS(Z$7:Z10))),"")} | Y10: {=IFERROR(INDEX('Sub2'!B:B,SMALL(IF('Sub2'!$Y$5:$Y$34<>"",ROW('Sub2'!$Y$5:$Y$34)),ROWS(Z$7:Z10))),"")} | Z10: {=IFERROR(INDEX('Sub2'!C:C,SMALL(IF('Sub2'!$Y$5:$Y$34<>"",ROW('Sub2'!$Y$5:$Y$34)),ROWS(Z$7:Z10))),"")} | AA10: {=IFERROR(INDEX('Sub2'!Y:Y,SMALL(IF('Sub2'!$Y$5:$Y$34<>"",ROW('Sub2'!$Y$5:$Y$34)),ROWS(Z$7:Z10))),"")} | AB10: {=IFERROR(INDEX('Sub2'!F:F,SMALL(IF('Sub2'!$Y$5:$Y$34<>"",ROW('Sub2'!$Y$5:$Y$34)),ROWS(Z$7:Z10))),"")} | AC10: {=IFERROR(INDEX('Sub2'!G:G,SMALL(IF('Sub2'!$Y$5:$Y$34<>"",ROW('Sub2'!$Y$5:$Y$34)),ROWS(Z$7:Z10))),"")} | AD10: {=IFERROR(INDEX('Sub2'!H:H,SMALL(IF('Sub2'!$Y$5:$Y$34<>"",ROW('Sub2'!$Y$5:$Y$34)),ROWS(Z$7:Z10))),"")} | AE10: {=IFERROR(INDEX('Sub2'!I:I,SMALL(IF('Sub2'!$Y$5:$Y$34<>"",ROW('Sub2'!$Y$5:$Y$34)),ROWS(Z$7:Z10))),"")} | AF10: {=IFERROR(INDEX('Sub2'!J:J,SMALL(IF('Sub2'!$Y$5:$Y$34<>"",ROW('Sub2'!$Y$5:$Y$34)),ROWS(Z$7:Z10))),"")} | AG10: {=IFERROR(INDEX('Sub2'!K:K,SMALL(IF('Sub2'!$Y$5:$Y$34<>"",ROW('Sub2'!$Y$5:$Y$34)),ROWS(Z$7:Z10))),"")} | AH10: {=IFERROR(INDEX('Sub2'!L:L,SMALL(IF('Sub2'!$Y$5:$Y$34<>"",ROW('Sub2'!$Y$5:$Y$34)),ROWS(Z$7:Z10))),"")} | AI10: {=IFERROR(INDEX('Sub2'!M:M,SMALL(IF('Sub2'!$Y$5:$Y$34<>"",ROW('Sub2'!$Y$5:$Y$34)),ROWS(Z$7:Z10))),"")} | AJ10: {=IFERROR(INDEX('Sub2'!N:N,SMALL(IF('Sub2'!$Y$5:$Y$34<>"",ROW('Sub2'!$Y$5:$Y$34)),ROWS(Z$7:Z10))),"")} | AK10: {=IFERROR(INDEX('Sub2'!O:O,SMALL(IF('Sub2'!$Y$5:$Y$34<>"",ROW('Sub2'!$Y$5:$Y$34)),ROWS(Z$7:Z10))),"")} | AL10: {=IFERROR(INDEX('Sub2'!P:P,SMALL(IF('Sub2'!$Y$5:$Y$34<>"",ROW('Sub2'!$Y$5:$Y$34)),ROWS(Z$7:Z10))),"")} | AM10: {=IFERROR(INDEX('Sub2'!Q:Q,SMALL(IF('Sub2'!$Y$5:$Y$34<>"",ROW('Sub2'!$Y$5:$Y$34)),ROWS(Z$7:Z10))),"")} | AO10: {=IFERROR(INDEX('Sub3'!A:A,SMALL(IF('Sub3'!$Y$5:$Y$34<>"",ROW('Sub3'!$Y$5:$Y$34)),ROWS($AQ$7:$AQ10))),"")} | AP10: {=IFERROR(INDEX('Sub3'!B:B,SMALL(IF('Sub3'!$Y$5:$Y$34<>"",ROW('Sub3'!$Y$5:$Y$34)),ROWS($AQ$7:$AQ10))),"")} | AQ10: {=IFERROR(INDEX('Sub3'!C:C,SMALL(IF('Sub3'!$Y$5:$Y$34<>"",ROW('Sub3'!$Y$5:$Y$34)),ROWS($AQ$7:$AQ10))),"")} | AR10: {=IFERROR(INDEX('Sub3'!Y:Y,SMALL(IF('Sub3'!$Y$5:$Y$34<>"",ROW('Sub3'!$Y$5:$Y$34)),ROWS($AQ$7:$AQ10))),"")} | AS10: {=IFERROR(INDEX('Sub3'!F:F,SMALL(IF('Sub3'!$Y$5:$Y$34<>"",ROW('Sub3'!$Y$5:$Y$34)),ROWS($AQ$7:$AQ10))),"")} | AT10: {=IFERROR(INDEX('Sub3'!G:G,SMALL(IF('Sub3'!$Y$5:$Y$34<>"",ROW('Sub3'!$Y$5:$Y$34)),ROWS($AQ$7:$AQ10))),"")} | AU10: {=IFERROR(INDEX('Sub3'!H:H,SMALL(IF('Sub3'!$Y$5:$Y$34<>"",ROW('Sub3'!$Y$5:$Y$34)),ROWS($AQ$7:$AQ10))),"")} | AV10: {=IFERROR(INDEX('Sub3'!I:I,SMALL(IF('Sub3'!$Y$5:$Y$34<>"",ROW('Sub3'!$Y$5:$Y$34)),ROWS($AQ$7:$AQ10))),"")} | AW10: {=IFERROR(INDEX('Sub3'!J:J,SMALL(IF('Sub3'!$Y$5:$Y$34<>"",ROW('Sub3'!$Y$5:$Y$34)),ROWS($AQ$7:$AQ10))),"")} | AX10: {=IFERROR(INDEX('Sub3'!K:K,SMALL(IF('Sub3'!$Y$5:$Y$34<>"",ROW('Sub3'!$Y$5:$Y$34)),ROWS($AQ$7:$AQ10))),"")} | AY10: {=IFERROR(INDEX('Sub3'!L:L,SMALL(IF('Sub3'!$Y$5:$Y$34<>"",ROW('Sub3'!$Y$5:$Y$34)),ROWS($AQ$7:$AQ10))),"")} | AZ10: {=IFERROR(INDEX('Sub3'!M:M,SMALL(IF('Sub3'!$Y$5:$Y$34<>"",ROW('Sub3'!$Y$5:$Y$34)),ROWS($AQ$7:$AQ10))),"")} | BA10: {=IFERROR(INDEX('Sub3'!N:N,SMALL(IF('Sub3'!$Y$5:$Y$34<>"",ROW('Sub3'!$Y$5:$Y$34)),ROWS($AQ$7:$AQ10))),"")} | BB10: {=IFERROR(INDEX('Sub3'!O:O,SMALL(IF('Sub3'!$Y$5:$Y$34<>"",ROW('Sub3'!$Y$5:$Y$34)),ROWS($AQ$7:$AQ10))),"")} | BC10: {=IFERROR(INDEX('Sub3'!P:P,SMALL(IF('Sub3'!$Y$5:$Y$34<>"",ROW('Sub3'!$Y$5:$Y$34)),ROWS($AQ$7:$AQ10))),"")} | BD10: {=IFERROR(INDEX('Sub3'!Q:Q,SMALL(IF('Sub3'!$Y$5:$Y$34<>"",ROW('Sub3'!$Y$5:$Y$34)),ROWS($AQ$7:$AQ10))),"")} | BF10: {=IFERROR(INDEX('Sub4'!A:A,SMALL(IF('Sub4'!$W$5:$W$34<>"",ROW('Sub4'!$W$5:$W$34)),ROWS($BH$7:$BH10))),"")} | BG10: {=IFERROR(INDEX('Sub4'!B:B,SMALL(IF('Sub4'!$W$5:$W$34<>"",ROW('Sub4'!$W$5:$W$34)),ROWS($BH$7:$BH10))),"")} | BH10: {=IFERROR(INDEX('Sub4'!C:C,SMALL(IF('Sub4'!$W$5:$W$34<>"",ROW('Sub4'!$W$5:$W$34)),ROWS($BH$7:$BH10))),"")} | BI10: {=IFERROR(INDEX('Sub4'!W:W,SMALL(IF('Sub4'!$W$5:$W$34<>"",ROW('Sub4'!$W$5:$W$34)),ROWS($BH$7:$BH10))),"")} | BJ10: {=IFERROR(INDEX('Sub4'!F:F,SMALL(IF('Sub4'!$W$5:$W$34<>"",ROW('Sub4'!$W$5:$W$34)),ROWS($BH$7:$BH10))),"")} | BK10: {=IFERROR(INDEX('Sub4'!G:G,SMALL(IF('Sub4'!$W$5:$W$34<>"",ROW('Sub4'!$W$5:$W$34)),ROWS($BH$7:$BH10))),"")} | BL10: {=IFERROR(INDEX('Sub4'!H:H,SMALL(IF('Sub4'!$W$5:$W$34<>"",ROW('Sub4'!$W$5:$W$34)),ROWS($BH$7:$BH10))),"")} | BM10: {=IFERROR(INDEX('Sub4'!I:I,SMALL(IF('Sub4'!$W$5:$W$34<>"",ROW('Sub4'!$W$5:$W$34)),ROWS($BH$7:$BH10))),"")} | BN10: {=IFERROR(INDEX('Sub4'!J:J,SMALL(IF('Sub4'!$W$5:$W$34<>"",ROW('Sub4'!$W$5:$W$34)),ROWS($BH$7:$BH10))),"")} | BO10: {=IFERROR(INDEX('Sub4'!K:K,SMALL(IF('Sub4'!$W$5:$W$34<>"",ROW('Sub4'!$W$5:$W$34)),ROWS($BH$7:$BH10))),"")} | BP10: {=IFERROR(INDEX('Sub4'!L:L,SMALL(IF('Sub4'!$W$5:$W$34<>"",ROW('Sub4'!$W$5:$W$34)),ROWS($BH$7:$BH10))),"")} | BQ10: {=IFERROR(INDEX('Sub4'!M:M,SMALL(IF('Sub4'!$W$5:$W$34<>"",ROW('Sub4'!$W$5:$W$34)),ROWS($BH$7:$BH10))),"")} | BR10: {=IFERROR(INDEX('Sub4'!N:N,SMALL(IF('Sub4'!$W$5:$W$34<>"",ROW('Sub4'!$W$5:$W$34)),ROWS($BH$7:$BH10))),"")} | BS10: {=IFERROR(INDEX('Sub4'!O:O,SMALL(IF('Sub4'!$W$5:$W$34<>"",ROW('Sub4'!$W$5:$W$34)),ROWS($BH$7:$BH10))),"")} | BT10: {=IFERROR(INDEX('Sub4'!P:P,SMALL(IF('Sub4'!$W$5:$W$34<>"",ROW('Sub4'!$W$5:$W$34)),ROWS($BH$7:$BH10))),"")} | BU10: {=IFERROR(INDEX('Sub4'!Q:Q,SMALL(IF('Sub4'!$W$5:$W$34<>"",ROW('Sub4'!$W$5:$W$34)),ROWS($BH$7:$BH10))),"")} | BW10: {=IFERROR(INDEX('Sub5'!A:A,SMALL(IF('Sub5'!$Y$5:$Y$34<>"",ROW('Sub5'!$Y$5:$Y$34)),ROWS($BY$7:$BY10))),"")} | BX10: {=IFERROR(INDEX('Sub5'!B:B,SMALL(IF('Sub5'!$Y$5:$Y$34<>"",ROW('Sub5'!$Y$5:$Y$34)),ROWS($BY$7:$BY10))),"")} | BY10: {=IFERROR(INDEX('Sub5'!C:C,SMALL(IF('Sub5'!$Y$5:$Y$34<>"",ROW('Sub5'!$Y$5:$Y$34)),ROWS($BY$7:$BY10))),"")} | BZ10: {=IFERROR(INDEX('Sub5'!Y:Y,SMALL(IF('Sub5'!$Y$5:$Y$34<>"",ROW('Sub5'!$Y$5:$Y$34)),ROWS($BY$7:$BY10))),"")} | CA10: {=IFERROR(INDEX('Sub5'!F:F,SMALL(IF('Sub5'!$Y$5:$Y$34<>"",ROW('Sub5'!$Y$5:$Y$34)),ROWS($BY$7:$BY10))),"")} | CB10: {=IFERROR(INDEX('Sub5'!G:G,SMALL(IF('Sub5'!$Y$5:$Y$34<>"",ROW('Sub5'!$Y$5:$Y$34)),ROWS($BY$7:$BY10))),"")} | CC10: {=IFERROR(INDEX('Sub5'!H:H,SMALL(IF('Sub5'!$Y$5:$Y$34<>"",ROW('Sub5'!$Y$5:$Y$34)),ROWS($BY$7:$BY10))),"")} | CD10: {=IFERROR(INDEX('Sub5'!I:I,SMALL(IF('Sub5'!$Y$5:$Y$34<>"",ROW('Sub5'!$Y$5:$Y$34)),ROWS($BY$7:$BY10))),"")} | CE10: {=IFERROR(INDEX('Sub5'!J:J,SMALL(IF('Sub5'!$Y$5:$Y$34<>"",ROW('Sub5'!$Y$5:$Y$34)),ROWS($BY$7:$BY10))),"")} | CF10: {=IFERROR(INDEX('Sub5'!K:K,SMALL(IF('Sub5'!$Y$5:$Y$34<>"",ROW('Sub5'!$Y$5:$Y$34)),ROWS($BY$7:$BY10))),"")} | CG10: {=IFERROR(INDEX('Sub5'!L:L,SMALL(IF('Sub5'!$Y$5:$Y$34<>"",ROW('Sub5'!$Y$5:$Y$34)),ROWS($BY$7:$BY10))),"")} | CH10: {=IFERROR(INDEX('Sub5'!M:M,SMALL(IF('Sub5'!$Y$5:$Y$34<>"",ROW('Sub5'!$Y$5:$Y$34)),ROWS($BY$7:$BY10))),"")} | CI10: {=IFERROR(INDEX('Sub5'!N:N,SMALL(IF('Sub5'!$Y$5:$Y$34<>"",ROW('Sub5'!$Y$5:$Y$34)),ROWS($BY$7:$BY10))),"")} | CJ10: {=IFERROR(INDEX('Sub5'!O:O,SMALL(IF('Sub5'!$Y$5:$Y$34<>"",ROW('Sub5'!$Y$5:$Y$34)),ROWS($BY$7:$BY10))),"")} | CK10: {=IFERROR(INDEX('Sub5'!P:P,SMALL(IF('Sub5'!$Y$5:$Y$34<>"",ROW('Sub5'!$Y$5:$Y$34)),ROWS($BY$7:$BY10))),"")} | CL10: {=IFERROR(INDEX('Sub5'!Q:Q,SMALL(IF('Sub5'!$Y$5:$Y$34<>"",ROW('Sub5'!$Y$5:$Y$34)),ROWS($BY$7:$BY10))),"")}
A11: Nom8 | G11: {=IFERROR(INDEX('Sub1'!A:A,SMALL(IF('Sub1'!$AC$5:$AC$34<>"",ROW('Sub1'!$AC$5:$AC$34)),ROWS(G$7:G11))),"")} | H11: {=IFERROR(INDEX('Sub1'!B:B,SMALL(IF('Sub1'!$AC$5:$AC$34<>"",ROW('Sub1'!$AC$5:$AC$34)),ROWS(H$7:H11))),"")} | I11: {=IFERROR(INDEX('Sub1'!C:C,SMALL(IF('Sub1'!$AC$5:$AC$34<>"",ROW('Sub1'!$AC$5:$AC$34)),ROWS(I$7:I11))),"")} | J11: {=IFERROR(INDEX('Sub1'!AC:AC,SMALL(IF('Sub1'!$AC$5:$AC$34<>"",ROW('Sub1'!$AC$5:$AC$34)),ROWS(J$7:J11))),"")} | K11: {=IFERROR(INDEX('Sub1'!G:G,SMALL(IF('Sub1'!$AC$5:$AC$34<>"",ROW('Sub1'!$AC$5:$AC$34)),ROWS(I$7:I11))),"")} | L11: {=IFERROR(INDEX('Sub1'!H:H,SMALL(IF('Sub1'!$AC$5:$AC$34<>"",ROW('Sub1'!$AC$5:$AC$34)),ROWS(I$7:I11))),"")} | M11: {=IFERROR(INDEX('Sub1'!I:I,SMALL(IF('Sub1'!$AC$5:$AC$34<>"",ROW('Sub1'!$AC$5:$AC$34)),ROWS(I$7:I11))),"")} | N11: {=IFERROR(INDEX('Sub1'!J:J,SMALL(IF('Sub1'!$AC$5:$AC$34<>"",ROW('Sub1'!$AC$5:$AC$34)),ROWS(I$7:I11))),"")} | O11: {=IFERROR(INDEX('Sub1'!K:K,SMALL(IF('Sub1'!$AC$5:$AC$34<>"",ROW('Sub1'!$AC$5:$AC$34)),ROWS(I$7:I11))),"")} | P11: {=IFERROR(INDEX('Sub1'!L:L,SMALL(IF('Sub1'!$AC$5:$AC$34<>"",ROW('Sub1'!$AC$5:$AC$34)),ROWS(I$7:I11))),"")} | Q11: {=IFERROR(INDEX('Sub1'!M:M,SMALL(IF('Sub1'!$AC$5:$AC$34<>"",ROW('Sub1'!$AC$5:$AC$34)),ROWS(I$7:I11))),"")} | R11: {=IFERROR(INDEX('Sub1'!N:N,SMALL(IF('Sub1'!$AC$5:$AC$34<>"",ROW('Sub1'!$AC$5:$AC$34)),ROWS(I$7:I11))),"")} | S11: {=IFERROR(INDEX('Sub1'!O:O,SMALL(IF('Sub1'!$AC$5:$AC$34<>"",ROW('Sub1'!$AC$5:$AC$34)),ROWS(I$7:I11))),"")} | T11: {=IFERROR(INDEX('Sub1'!P:P,SMALL(IF('Sub1'!$AC$5:$AC$34<>"",ROW('Sub1'!$AC$5:$AC$34)),ROWS(I$7:I11))),"")} | U11: {=IFERROR(INDEX('Sub1'!Q:Q,SMALL(IF('Sub1'!$AC$5:$AC$34<>"",ROW('Sub1'!$AC$5:$AC$34)),ROWS(I$7:I11))),"")} | V11: {=IFERROR(INDEX('Sub1'!R:R,SMALL(IF('Sub1'!$AC$5:$AC$34<>"",ROW('Sub1'!$AC$5:$AC$34)),ROWS(I$7:I11))),"")} | X11: {=IFERROR(INDEX('Sub2'!A:A,SMALL(IF('Sub2'!$Y$5:$Y$34<>"",ROW('Sub2'!$Y$5:$Y$34)),ROWS(Z$7:Z11))),"")} | Y11: {=IFERROR(INDEX('Sub2'!B:B,SMALL(IF('Sub2'!$Y$5:$Y$34<>"",ROW('Sub2'!$Y$5:$Y$34)),ROWS(Z$7:Z11))),"")} | Z11: {=IFERROR(INDEX('Sub2'!C:C,SMALL(IF('Sub2'!$Y$5:$Y$34<>"",ROW('Sub2'!$Y$5:$Y$34)),ROWS(Z$7:Z11))),"")} | AA11: {=IFERROR(INDEX('Sub2'!Y:Y,SMALL(IF('Sub2'!$Y$5:$Y$34<>"",ROW('Sub2'!$Y$5:$Y$34)),ROWS(Z$7:Z11))),"")} | AB11: {=IFERROR(INDEX('Sub2'!F:F,SMALL(IF('Sub2'!$Y$5:$Y$34<>"",ROW('Sub2'!$Y$5:$Y$34)),ROWS(Z$7:Z11))),"")} | AC11: {=IFERROR(INDEX('Sub2'!G:G,SMALL(IF('Sub2'!$Y$5:$Y$34<>"",ROW('Sub2'!$Y$5:$Y$34)),ROWS(Z$7:Z11))),"")} | AD11: {=IFERROR(INDEX('Sub2'!H:H,SMALL(IF('Sub2'!$Y$5:$Y$34<>"",ROW('Sub2'!$Y$5:$Y$34)),ROWS(Z$7:Z11))),"")} | AE11: {=IFERROR(INDEX('Sub2'!I:I,SMALL(IF('Sub2'!$Y$5:$Y$34<>"",ROW('Sub2'!$Y$5:$Y$34)),ROWS(Z$7:Z11))),"")} | AF11: {=IFERROR(INDEX('Sub2'!J:J,SMALL(IF('Sub2'!$Y$5:$Y$34<>"",ROW('Sub2'!$Y$5:$Y$34)),ROWS(Z$7:Z11))),"")} | AG11: {=IFERROR(INDEX('Sub2'!K:K,SMALL(IF('Sub2'!$Y$5:$Y$34<>"",ROW('Sub2'!$Y$5:$Y$34)),ROWS(Z$7:Z11))),"")} | AH11: {=IFERROR(INDEX('Sub2'!L:L,SMALL(IF('Sub2'!$Y$5:$Y$34<>"",ROW('Sub2'!$Y$5:$Y$34)),ROWS(Z$7:Z11))),"")} | AI11: {=IFERROR(INDEX('Sub2'!M:M,SMALL(IF('Sub2'!$Y$5:$Y$34<>"",ROW('Sub2'!$Y$5:$Y$34)),ROWS(Z$7:Z11))),"")} | AJ11: {=IFERROR(INDEX('Sub2'!N:N,SMALL(IF('Sub2'!$Y$5:$Y$34<>"",ROW('Sub2'!$Y$5:$Y$34)),ROWS(Z$7:Z11))),"")} | AK11: {=IFERROR(INDEX('Sub2'!O:O,SMALL(IF('Sub2'!$Y$5:$Y$34<>"",ROW('Sub2'!$Y$5:$Y$34)),ROWS(Z$7:Z11))),"")} | AL11: {=IFERROR(INDEX('Sub2'!P:P,SMALL(IF('Sub2'!$Y$5:$Y$34<>"",ROW('Sub2'!$Y$5:$Y$34)),ROWS(Z$7:Z11))),"")} | AM11: {=IFERROR(INDEX('Sub2'!Q:Q,SMALL(IF('Sub2'!$Y$5:$Y$34<>"",ROW('Sub2'!$Y$5:$Y$34)),ROWS(Z$7:Z11))),"")} | AO11: {=IFERROR(INDEX('Sub3'!A:A,SMALL(IF('Sub3'!$Y$5:$Y$34<>"",ROW('Sub3'!$Y$5:$Y$34)),ROWS($AQ$7:$AQ11))),"")} | AP11: {=IFERROR(INDEX('Sub3'!B:B,SMALL(IF('Sub3'!$Y$5:$Y$34<>"",ROW('Sub3'!$Y$5:$Y$34)),ROWS($AQ$7:$AQ11))),"")} | AQ11: {=IFERROR(INDEX('Sub3'!C:C,SMALL(IF('Sub3'!$Y$5:$Y$34<>"",ROW('Sub3'!$Y$5:$Y$34)),ROWS($AQ$7:$AQ11))),"")} | AR11: {=IFERROR(INDEX('Sub3'!Y:Y,SMALL(IF('Sub3'!$Y$5:$Y$34<>"",ROW('Sub3'!$Y$5:$Y$34)),ROWS($AQ$7:$AQ11))),"")} | AS11: {=IFERROR(INDEX('Sub3'!F:F,SMALL(IF('Sub3'!$Y$5:$Y$34<>"",ROW('Sub3'!$Y$5:$Y$34)),ROWS($AQ$7:$AQ11))),"")} | AT11: {=IFERROR(INDEX('Sub3'!G:G,SMALL(IF('Sub3'!$Y$5:$Y$34<>"",ROW('Sub3'!$Y$5:$Y$34)),ROWS($AQ$7:$AQ11))),"")} | AU11: {=IFERROR(INDEX('Sub3'!H:H,SMALL(IF('Sub3'!$Y$5:$Y$34<>"",ROW('Sub3'!$Y$5:$Y$34)),ROWS($AQ$7:$AQ11))),"")} | AV11: {=IFERROR(INDEX('Sub3'!I:I,SMALL(IF('Sub3'!$Y$5:$Y$34<>"",ROW('Sub3'!$Y$5:$Y$34)),ROWS($AQ$7:$AQ11))),"")} | AW11: {=IFERROR(INDEX('Sub3'!J:J,SMALL(IF('Sub3'!$Y$5:$Y$34<>"",ROW('Sub3'!$Y$5:$Y$34)),ROWS($AQ$7:$AQ11))),"")} | AX11: {=IFERROR(INDEX('Sub3'!K:K,SMALL(IF('Sub3'!$Y$5:$Y$34<>"",ROW('Sub3'!$Y$5:$Y$34)),ROWS($AQ$7:$AQ11))),"")} | AY11: {=IFERROR(INDEX('Sub3'!L:L,SMALL(IF('Sub3'!$Y$5:$Y$34<>"",ROW('Sub3'!$Y$5:$Y$34)),ROWS($AQ$7:$AQ11))),"")} | AZ11: {=IFERROR(INDEX('Sub3'!M:M,SMALL(IF('Sub3'!$Y$5:$Y$34<>"",ROW('Sub3'!$Y$5:$Y$34)),ROWS($AQ$7:$AQ11))),"")} | BA11: {=IFERROR(INDEX('Sub3'!N:N,SMALL(IF('Sub3'!$Y$5:$Y$34<>"",ROW('Sub3'!$Y$5:$Y$34)),ROWS($AQ$7:$AQ11))),"")} | BB11: {=IFERROR(INDEX('Sub3'!O:O,SMALL(IF('Sub3'!$Y$5:$Y$34<>"",ROW('Sub3'!$Y$5:$Y$34)),ROWS($AQ$7:$AQ11))),"")} | BC11: {=IFERROR(INDEX('Sub3'!P:P,SMALL(IF('Sub3'!$Y$5:$Y$34<>"",ROW('Sub3'!$Y$5:$Y$34)),ROWS($AQ$7:$AQ11))),"")} | BD11: {=IFERROR(INDEX('Sub3'!Q:Q,SMALL(IF('Sub3'!$Y$5:$Y$34<>"",ROW('Sub3'!$Y$5:$Y$34)),ROWS($AQ$7:$AQ11))),"")} | BF11: {=IFERROR(INDEX('Sub4'!A:A,SMALL(IF('Sub4'!$W$5:$W$34<>"",ROW('Sub4'!$W$5:$W$34)),ROWS($BH$7:$BH11))),"")} | BG11: {=IFERROR(INDEX('Sub4'!B:B,SMALL(IF('Sub4'!$W$5:$W$34<>"",ROW('Sub4'!$W$5:$W$34)),ROWS($BH$7:$BH11))),"")} | BH11: {=IFERROR(INDEX('Sub4'!C:C,SMALL(IF('Sub4'!$W$5:$W$34<>"",ROW('Sub4'!$W$5:$W$34)),ROWS($BH$7:$BH11))),"")} | BI11: {=IFERROR(INDEX('Sub4'!W:W,SMALL(IF('Sub4'!$W$5:$W$34<>"",ROW('Sub4'!$W$5:$W$34)),ROWS($BH$7:$BH11))),"")} | BJ11: {=IFERROR(INDEX('Sub4'!F:F,SMALL(IF('Sub4'!$W$5:$W$34<>"",ROW('Sub4'!$W$5:$W$34)),ROWS($BH$7:$BH11))),"")} | BK11: {=IFERROR(INDEX('Sub4'!G:G,SMALL(IF('Sub4'!$W$5:$W$34<>"",ROW('Sub4'!$W$5:$W$34)),ROWS($BH$7:$BH11))),"")} | BL11: {=IFERROR(INDEX('Sub4'!H:H,SMALL(IF('Sub4'!$W$5:$W$34<>"",ROW('Sub4'!$W$5:$W$34)),ROWS($BH$7:$BH11))),"")} | BM11: {=IFERROR(INDEX('Sub4'!I:I,SMALL(IF('Sub4'!$W$5:$W$34<>"",ROW('Sub4'!$W$5:$W$34)),ROWS($BH$7:$BH11))),"")} | BN11: {=IFERROR(INDEX('Sub4'!J:J,SMALL(IF('Sub4'!$W$5:$W$34<>"",ROW('Sub4'!$W$5:$W$34)),ROWS($BH$7:$BH11))),"")} | BO11: {=IFERROR(INDEX('Sub4'!K:K,SMALL(IF('Sub4'!$W$5:$W$34<>"",ROW('Sub4'!$W$5:$W$34)),ROWS($BH$7:$BH11))),"")} | BP11: {=IFERROR(INDEX('Sub4'!L:L,SMALL(IF('Sub4'!$W$5:$W$34<>"",ROW('Sub4'!$W$5:$W$34)),ROWS($BH$7:$BH11))),"")} | BQ11: {=IFERROR(INDEX('Sub4'!M:M,SMALL(IF('Sub4'!$W$5:$W$34<>"",ROW('Sub4'!$W$5:$W$34)),ROWS($BH$7:$BH11))),"")} | BR11: {=IFERROR(INDEX('Sub4'!N:N,SMALL(IF('Sub4'!$W$5:$W$34<>"",ROW('Sub4'!$W$5:$W$34)),ROWS($BH$7:$BH11))),"")} | BS11: {=IFERROR(INDEX('Sub4'!O:O,SMALL(IF('Sub4'!$W$5:$W$34<>"",ROW('Sub4'!$W$5:$W$34)),ROWS($BH$7:$BH11))),"")} | BT11: {=IFERROR(INDEX('Sub4'!P:P,SMALL(IF('Sub4'!$W$5:$W$34<>"",ROW('Sub4'!$W$5:$W$34)),ROWS($BH$7:$BH11))),"")} | BU11: {=IFERROR(INDEX('Sub4'!Q:Q,SMALL(IF('Sub4'!$W$5:$W$34<>"",ROW('Sub4'!$W$5:$W$34)),ROWS($BH$7:$BH11))),"")} | BW11: {=IFERROR(INDEX('Sub5'!A:A,SMALL(IF('Sub5'!$Y$5:$Y$34<>"",ROW('Sub5'!$Y$5:$Y$34)),ROWS($BY$7:$BY11))),"")} | BX11: {=IFERROR(INDEX('Sub5'!B:B,SMALL(IF('Sub5'!$Y$5:$Y$34<>"",ROW('Sub5'!$Y$5:$Y$34)),ROWS($BY$7:$BY11))),"")} | BY11: {=IFERROR(INDEX('Sub5'!C:C,SMALL(IF('Sub5'!$Y$5:$Y$34<>"",ROW('Sub5'!$Y$5:$Y$34)),ROWS($BY$7:$BY11))),"")} | BZ11: {=IFERROR(INDEX('Sub5'!Y:Y,SMALL(IF('Sub5'!$Y$5:$Y$34<>"",ROW('Sub5'!$Y$5:$Y$34)),ROWS($BY$7:$BY11))),"")} | CA11: {=IFERROR(INDEX('Sub5'!F:F,SMALL(IF('Sub5'!$Y$5:$Y$34<>"",ROW('Sub5'!$Y$5:$Y$34)),ROWS($BY$7:$BY11))),"")} | CB11: {=IFERROR(INDEX('Sub5'!G:G,SMALL(IF('Sub5'!$Y$5:$Y$34<>"",ROW('Sub5'!$Y$5:$Y$34)),ROWS($BY$7:$BY11))),"")} | CC11: {=IFERROR(INDEX('Sub5'!H:H,SMALL(IF('Sub5'!$Y$5:$Y$34<>"",ROW('Sub5'!$Y$5:$Y$34)),ROWS($BY$7:$BY11))),"")} | CD11: {=IFERROR(INDEX('Sub5'!I:I,SMALL(IF('Sub5'!$Y$5:$Y$34<>"",ROW('Sub5'!$Y$5:$Y$34)),ROWS($BY$7:$BY11))),"")} | CE11: {=IFERROR(INDEX('Sub5'!J:J,SMALL(IF('Sub5'!$Y$5:$Y$34<>"",ROW('Sub5'!$Y$5:$Y$34)),ROWS($BY$7:$BY11))),"")} | CF11: {=IFERROR(INDEX('Sub5'!K:K,SMALL(IF('Sub5'!$Y$5:$Y$34<>"",ROW('Sub5'!$Y$5:$Y$34)),ROWS($BY$7:$BY11))),"")} | CG11: {=IFERROR(INDEX('Sub5'!L:L,SMALL(IF('Sub5'!$Y$5:$Y$34<>"",ROW('Sub5'!$Y$5:$Y$34)),ROWS($BY$7:$BY11))),"")} | CH11: {=IFERROR(INDEX('Sub5'!M:M,SMALL(IF('Sub5'!$Y$5:$Y$34<>"",ROW('Sub5'!$Y$5:$Y$34)),ROWS($BY$7:$BY11))),"")} | CI11: {=IFERROR(INDEX('Sub5'!N:N,SMALL(IF('Sub5'!$Y$5:$Y$34<>"",ROW('Sub5'!$Y$5:$Y$34)),ROWS($BY$7:$BY11))),"")} | CJ11: {=IFERROR(INDEX('Sub5'!O:O,SMALL(IF('Sub5'!$Y$5:$Y$34<>"",ROW('Sub5'!$Y$5:$Y$34)),ROWS($BY$7:$BY11))),"")} | CK11: {=IFERROR(INDEX('Sub5'!P:P,SMALL(IF('Sub5'!$Y$5:$Y$34<>"",ROW('Sub5'!$Y$5:$Y$34)),ROWS($BY$7:$BY11))),"")} | CL11: {=IFERROR(INDEX('Sub5'!Q:Q,SMALL(IF('Sub5'!$Y$5:$Y$34<>"",ROW('Sub5'!$Y$5:$Y$34)),ROWS($BY$7:$BY11))),"")}
A12: Nom11 | G12: {=IFERROR(INDEX('Sub1'!A:A,SMALL(IF('Sub1'!$AC$5:$AC$34<>"",ROW('Sub1'!$AC$5:$AC$34)),ROWS(G$7:G12))),"")} | H12: {=IFERROR(INDEX('Sub1'!B:B,SMALL(IF('Sub1'!$AC$5:$AC$34<>"",ROW('Sub1'!$AC$5:$AC$34)),ROWS(H$7:H12))),"")} | I12: {=IFERROR(INDEX('Sub1'!C:C,SMALL(IF('Sub1'!$AC$5:$AC$34<>"",ROW('Sub1'!$AC$5:$AC$34)),ROWS(I$7:I12))),"")} | J12: {=IFERROR(INDEX('Sub1'!AC:AC,SMALL(IF('Sub1'!$AC$5:$AC$34<>"",ROW('Sub1'!$AC$5:$AC$34)),ROWS(J$7:J12))),"")} | K12: {=IFERROR(INDEX('Sub1'!G:G,SMALL(IF('Sub1'!$AC$5:$AC$34<>"",ROW('Sub1'!$AC$5:$AC$34)),ROWS(I$7:I12))),"")} | L12: {=IFERROR(INDEX('Sub1'!H:H,SMALL(IF('Sub1'!$AC$5:$AC$34<>"",ROW('Sub1'!$AC$5:$AC$34)),ROWS(I$7:I12))),"")} | M12: {=IFERROR(INDEX('Sub1'!I:I,SMALL(IF('Sub1'!$AC$5:$AC$34<>"",ROW('Sub1'!$AC$5:$AC$34)),ROWS(I$7:I12))),"")} | N12: {=IFERROR(INDEX('Sub1'!J:J,SMALL(IF('Sub1'!$AC$5:$AC$34<>"",ROW('Sub1'!$AC$5:$AC$34)),ROWS(I$7:I12))),"")} | O12: {=IFERROR(INDEX('Sub1'!K:K,SMALL(IF('Sub1'!$AC$5:$AC$34<>"",ROW('Sub1'!$AC$5:$AC$34)),ROWS(I$7:I12))),"")} | P12: {=IFERROR(INDEX('Sub1'!L:L,SMALL(IF('Sub1'!$AC$5:$AC$34<>"",ROW('Sub1'!$AC$5:$AC$34)),ROWS(I$7:I12))),"")} | Q12: {=IFERROR(INDEX('Sub1'!M:M,SMALL(IF('Sub1'!$AC$5:$AC$34<>"",ROW('Sub1'!$AC$5:$AC$34)),ROWS(I$7:I12))),"")} | R12: {=IFERROR(INDEX('Sub1'!N:N,SMALL(IF('Sub1'!$AC$5:$AC$34<>"",ROW('Sub1'!$AC$5:$AC$34)),ROWS(I$7:I12))),"")} | S12: {=IFERROR(INDEX('Sub1'!O:O,SMALL(IF('Sub1'!$AC$5:$AC$34<>"",ROW('Sub1'!$AC$5:$AC$34)),ROWS(I$7:I12))),"")} | T12: {=IFERROR(INDEX('Sub1'!P:P,SMALL(IF('Sub1'!$AC$5:$AC$34<>"",ROW('Sub1'!$AC$5:$AC$34)),ROWS(I$7:I12))),"")} | U12: {=IFERROR(INDEX('Sub1'!Q:Q,SMALL(IF('Sub1'!$AC$5:$AC$34<>"",ROW('Sub1'!$AC$5:$AC$34)),ROWS(I$7:I12))),"")} | V12: {=IFERROR(INDEX('Sub1'!R:R,SMALL(IF('Sub1'!$AC$5:$AC$34<>"",ROW('Sub1'!$AC$5:$AC$34)),ROWS(I$7:I12))),"")} | X12: {=IFERROR(INDEX('Sub2'!A:A,SMALL(IF('Sub2'!$Y$5:$Y$34<>"",ROW('Sub2'!$Y$5:$Y$34)),ROWS(Z$7:Z12))),"")} | Y12: {=IFERROR(INDEX('Sub2'!B:B,SMALL(IF('Sub2'!$Y$5:$Y$34<>"",ROW('Sub2'!$Y$5:$Y$34)),ROWS(Z$7:Z12))),"")} | Z12: {=IFERROR(INDEX('Sub2'!C:C,SMALL(IF('Sub2'!$Y$5:$Y$34<>"",ROW('Sub2'!$Y$5:$Y$34)),ROWS(Z$7:Z12))),"")} | AA12: {=IFERROR(INDEX('Sub2'!Y:Y,SMALL(IF('Sub2'!$Y$5:$Y$34<>"",ROW('Sub2'!$Y$5:$Y$34)),ROWS(Z$7:Z12))),"")} | AB12: {=IFERROR(INDEX('Sub2'!F:F,SMALL(IF('Sub2'!$Y$5:$Y$34<>"",ROW('Sub2'!$Y$5:$Y$34)),ROWS(Z$7:Z12))),"")} | AC12: {=IFERROR(INDEX('Sub2'!G:G,SMALL(IF('Sub2'!$Y$5:$Y$34<>"",ROW('Sub2'!$Y$5:$Y$34)),ROWS(Z$7:Z12))),"")} | AD12: {=IFERROR(INDEX('Sub2'!H:H,SMALL(IF('Sub2'!$Y$5:$Y$34<>"",ROW('Sub2'!$Y$5:$Y$34)),ROWS(Z$7:Z12))),"")} | AE12: {=IFERROR(INDEX('Sub2'!I:I,SMALL(IF('Sub2'!$Y$5:$Y$34<>"",ROW('Sub2'!$Y$5:$Y$34)),ROWS(Z$7:Z12))),"")} | AF12: {=IFERROR(INDEX('Sub2'!J:J,SMALL(IF('Sub2'!$Y$5:$Y$34<>"",ROW('Sub2'!$Y$5:$Y$34)),ROWS(Z$7:Z12))),"")} | AG12: {=IFERROR(INDEX('Sub2'!K:K,SMALL(IF('Sub2'!$Y$5:$Y$34<>"",ROW('Sub2'!$Y$5:$Y$34)),ROWS(Z$7:Z12))),"")} | AH12: {=IFERROR(INDEX('Sub2'!L:L,SMALL(IF('Sub2'!$Y$5:$Y$34<>"",ROW('Sub2'!$Y$5:$Y$34)),ROWS(Z$7:Z12))),"")} | AI12: {=IFERROR(INDEX('Sub2'!M:M,SMALL(IF('Sub2'!$Y$5:$Y$34<>"",ROW('Sub2'!$Y$5:$Y$34)),ROWS(Z$7:Z12))),"")} | AJ12: {=IFERROR(INDEX('Sub2'!N:N,SMALL(IF('Sub2'!$Y$5:$Y$34<>"",ROW('Sub2'!$Y$5:$Y$34)),ROWS(Z$7:Z12))),"")} | AK12: {=IFERROR(INDEX('Sub2'!O:O,SMALL(IF('Sub2'!$Y$5:$Y$34<>"",ROW('Sub2'!$Y$5:$Y$34)),ROWS(Z$7:Z12))),"")} | AL12: {=IFERROR(INDEX('Sub2'!P:P,SMALL(IF('Sub2'!$Y$5:$Y$34<>"",ROW('Sub2'!$Y$5:$Y$34)),ROWS(Z$7:Z12))),"")} | AM12: {=IFERROR(INDEX('Sub2'!Q:Q,SMALL(IF('Sub2'!$Y$5:$Y$34<>"",ROW('Sub2'!$Y$5:$Y$34)),ROWS(Z$7:Z12))),"")} | AO12: {=IFERROR(INDEX('Sub3'!A:A,SMALL(IF('Sub3'!$Y$5:$Y$34<>"",ROW('Sub3'!$Y$5:$Y$34)),ROWS($AQ$7:$AQ12))),"")} | AP12: {=IFERROR(INDEX('Sub3'!B:B,SMALL(IF('Sub3'!$Y$5:$Y$34<>"",ROW('Sub3'!$Y$5:$Y$34)),ROWS($AQ$7:$AQ12))),"")} | AQ12: {=IFERROR(INDEX('Sub3'!C:C,SMALL(IF('Sub3'!$Y$5:$Y$34<>"",ROW('Sub3'!$Y$5:$Y$34)),ROWS($AQ$7:$AQ12))),"")} | AR12: {=IFERROR(INDEX('Sub3'!Y:Y,SMALL(IF('Sub3'!$Y$5:$Y$34<>"",ROW('Sub3'!$Y$5:$Y$34)),ROWS($AQ$7:$AQ12))),"")} | AS12: {=IFERROR(INDEX('Sub3'!F:F,SMALL(IF('Sub3'!$Y$5:$Y$34<>"",ROW('Sub3'!$Y$5:$Y$34)),ROWS($AQ$7:$AQ12))),"")} | AT12: {=IFERROR(INDEX('Sub3'!G:G,SMALL(IF('Sub3'!$Y$5:$Y$34<>"",ROW('Sub3'!$Y$5:$Y$34)),ROWS($AQ$7:$AQ12))),"")} | AU12: {=IFERROR(INDEX('Sub3'!H:H,SMALL(IF('Sub3'!$Y$5:$Y$34<>"",ROW('Sub3'!$Y$5:$Y$34)),ROWS($AQ$7:$AQ12))),"")} | AV12: {=IFERROR(INDEX('Sub3'!I:I,SMALL(IF('Sub3'!$Y$5:$Y$34<>"",ROW('Sub3'!$Y$5:$Y$34)),ROWS($AQ$7:$AQ12))),"")} | AW12: {=IFERROR(INDEX('Sub3'!J:J,SMALL(IF('Sub3'!$Y$5:$Y$34<>"",ROW('Sub3'!$Y$5:$Y$34)),ROWS($AQ$7:$AQ12))),"")} | AX12: {=IFERROR(INDEX('Sub3'!K:K,SMALL(IF('Sub3'!$Y$5:$Y$34<>"",ROW('Sub3'!$Y$5:$Y$34)),ROWS($AQ$7:$AQ12))),"")} | AY12: {=IFERROR(INDEX('Sub3'!L:L,SMALL(IF('Sub3'!$Y$5:$Y$34<>"",ROW('Sub3'!$Y$5:$Y$34)),ROWS($AQ$7:$AQ12))),"")} | AZ12: {=IFERROR(INDEX('Sub3'!M:M,SMALL(IF('Sub3'!$Y$5:$Y$34<>"",ROW('Sub3'!$Y$5:$Y$34)),ROWS($AQ$7:$AQ12))),"")} | BA12: {=IFERROR(INDEX('Sub3'!N:N,SMALL(IF('Sub3'!$Y$5:$Y$34<>"",ROW('Sub3'!$Y$5:$Y$34)),ROWS($AQ$7:$AQ12))),"")} | BB12: {=IFERROR(INDEX('Sub3'!O:O,SMALL(IF('Sub3'!$Y$5:$Y$34<>"",ROW('Sub3'!$Y$5:$Y$34)),ROWS($AQ$7:$AQ12))),"")} | BC12: {=IFERROR(INDEX('Sub3'!P:P,SMALL(IF('Sub3'!$Y$5:$Y$34<>"",ROW('Sub3'!$Y$5:$Y$34)),ROWS($AQ$7:$AQ12))),"")} | BD12: {=IFERROR(INDEX('Sub3'!Q:Q,SMALL(IF('Sub3'!$Y$5:$Y$34<>"",ROW('Sub3'!$Y$5:$Y$34)),ROWS($AQ$7:$AQ12))),"")} | BF12: {=IFERROR(INDEX('Sub4'!A:A,SMALL(IF('Sub4'!$W$5:$W$34<>"",ROW('Sub4'!$W$5:$W$34)),ROWS($BH$7:$BH12))),"")} | BG12: {=IFERROR(INDEX('Sub4'!B:B,SMALL(IF('Sub4'!$W$5:$W$34<>"",ROW('Sub4'!$W$5:$W$34)),ROWS($BH$7:$BH12))),"")} | BH12: {=IFERROR(INDEX('Sub4'!C:C,SMALL(IF('Sub4'!$W$5:$W$34<>"",ROW('Sub4'!$W$5:$W$34)),ROWS($BH$7:$BH12))),"")} | BI12: {=IFERROR(INDEX('Sub4'!W:W,SMALL(IF('Sub4'!$W$5:$W$34<>"",ROW('Sub4'!$W$5:$W$34)),ROWS($BH$7:$BH12))),"")} | BJ12: {=IFERROR(INDEX('Sub4'!F:F,SMALL(IF('Sub4'!$W$5:$W$34<>"",ROW('Sub4'!$W$5:$W$34)),ROWS($BH$7:$BH12))),"")} | BK12: {=IFERROR(INDEX('Sub4'!G:G,SMALL(IF('Sub4'!$W$5:$W$34<>"",ROW('Sub4'!$W$5:$W$34)),ROWS($BH$7:$BH12))),"")} | BL12: {=IFERROR(INDEX('Sub4'!H:H,SMALL(IF('Sub4'!$W$5:$W$34<>"",ROW('Sub4'!$W$5:$W$34)),ROWS($BH$7:$BH12))),"")} | BM12: {=IFERROR(INDEX('Sub4'!I:I,SMALL(IF('Sub4'!$W$5:$W$34<>"",ROW('Sub4'!$W$5:$W$34)),ROWS($BH$7:$BH12))),"")} | BN12: {=IFERROR(INDEX('Sub4'!J:J,SMALL(IF('Sub4'!$W$5:$W$34<>"",ROW('Sub4'!$W$5:$W$34)),ROWS($BH$7:$BH12))),"")} | BO12: {=IFERROR(INDEX('Sub4'!K:K,SMALL(IF('Sub4'!$W$5:$W$34<>"",ROW('Sub4'!$W$5:$W$34)),ROWS($BH$7:$BH12))),"")} | BP12: {=IFERROR(INDEX('Sub4'!L:L,SMALL(IF('Sub4'!$W$5:$W$34<>"",ROW('Sub4'!$W$5:$W$34)),ROWS($BH$7:$BH12))),"")} | BQ12: {=IFERROR(INDEX('Sub4'!M:M,SMALL(IF('Sub4'!$W$5:$W$34<>"",ROW('Sub4'!$W$5:$W$34)),ROWS($BH$7:$BH12))),"")} | BR12: {=IFERROR(INDEX('Sub4'!N:N,SMALL(IF('Sub4'!$W$5:$W$34<>"",ROW('Sub4'!$W$5:$W$34)),ROWS($BH$7:$BH12))),"")} | BS12: {=IFERROR(INDEX('Sub4'!O:O,SMALL(IF('Sub4'!$W$5:$W$34<>"",ROW('Sub4'!$W$5:$W$34)),ROWS($BH$7:$BH12))),"")} | BT12: {=IFERROR(INDEX('Sub4'!P:P,SMALL(IF('Sub4'!$W$5:$W$34<>"",ROW('Sub4'!$W$5:$W$34)),ROWS($BH$7:$BH12))),"")} | BU12: {=IFERROR(INDEX('Sub4'!Q:Q,SMALL(IF('Sub4'!$W$5:$W$34<>"",ROW('Sub4'!$W$5:$W$34)),ROWS($BH$7:$BH12))),"")} | BW12: {=IFERROR(INDEX('Sub5'!A:A,SMALL(IF('Sub5'!$Y$5:$Y$34<>"",ROW('Sub5'!$Y$5:$Y$34)),ROWS($BY$7:$BY12))),"")} | BX12: {=IFERROR(INDEX('Sub5'!B:B,SMALL(IF('Sub5'!$Y$5:$Y$34<>"",ROW('Sub5'!$Y$5:$Y$34)),ROWS($BY$7:$BY12))),"")} | BY12: {=IFERROR(INDEX('Sub5'!C:C,SMALL(IF('Sub5'!$Y$5:$Y$34<>"",ROW('Sub5'!$Y$5:$Y$34)),ROWS($BY$7:$BY12))),"")} | BZ12: {=IFERROR(INDEX('Sub5'!Y:Y,SMALL(IF('Sub5'!$Y$5:$Y$34<>"",ROW('Sub5'!$Y$5:$Y$34)),ROWS($BY$7:$BY12))),"")} | CA12: {=IFERROR(INDEX('Sub5'!F:F,SMALL(IF('Sub5'!$Y$5:$Y$34<>"",ROW('Sub5'!$Y$5:$Y$34)),ROWS($BY$7:$BY12))),"")} | CB12: {=IFERROR(INDEX('Sub5'!G:G,SMALL(IF('Sub5'!$Y$5:$Y$34<>"",ROW('Sub5'!$Y$5:$Y$34)),ROWS($BY$7:$BY12))),"")} | CC12: {=IFERROR(INDEX('Sub5'!H:H,SMALL(IF('Sub5'!$Y$5:$Y$34<>"",ROW('Sub5'!$Y$5:$Y$34)),ROWS($BY$7:$BY12))),"")} | CD12: {=IFERROR(INDEX('Sub5'!I:I,SMALL(IF('Sub5'!$Y$5:$Y$34<>"",ROW('Sub5'!$Y$5:$Y$34)),ROWS($BY$7:$BY12))),"")} | CE12: {=IFERROR(INDEX('Sub5'!J:J,SMALL(IF('Sub5'!$Y$5:$Y$34<>"",ROW('Sub5'!$Y$5:$Y$34)),ROWS($BY$7:$BY12))),"")} | CF12: {=IFERROR(INDEX('Sub5'!K:K,SMALL(IF('Sub5'!$Y$5:$Y$34<>"",ROW('Sub5'!$Y$5:$Y$34)),ROWS($BY$7:$BY12))),"")} | CG12: {=IFERROR(INDEX('Sub5'!L:L,SMALL(IF('Sub5'!$Y$5:$Y$34<>"",ROW('Sub5'!$Y$5:$Y$34)),ROWS($BY$7:$BY12))),"")} | CH12: {=IFERROR(INDEX('Sub5'!M:M,SMALL(IF('Sub5'!$Y$5:$Y$34<>"",ROW('Sub5'!$Y$5:$Y$34)),ROWS($BY$7:$BY12))),"")} | CI12: {=IFERROR(INDEX('Sub5'!N:N,SMALL(IF('Sub5'!$Y$5:$Y$34<>"",ROW('Sub5'!$Y$5:$Y$34)),ROWS($BY$7:$BY12))),"")} | CJ12: {=IFERROR(INDEX('Sub5'!O:O,SMALL(IF('Sub5'!$Y$5:$Y$34<>"",ROW('Sub5'!$Y$5:$Y$34)),ROWS($BY$7:$BY12))),"")} | CK12: {=IFERROR(INDEX('Sub5'!P:P,SMALL(IF('Sub5'!$Y$5:$Y$34<>"",ROW('Sub5'!$Y$5:$Y$34)),ROWS($BY$7:$BY12))),"")} | CL12: {=IFERROR(INDEX('Sub5'!Q:Q,SMALL(IF('Sub5'!$Y$5:$Y$34<>"",ROW('Sub5'!$Y$5:$Y$34)),ROWS($BY$7:$BY12))),"")}
