Workbook

Sheet Recap
A1: Recap
G4: Sub1 | X4: Sub2 | AO4: Sub3 | BF4: Sub4 | BW4: Sub5
E5: Mois
A6: Nom | B6: Prénom | C6: Matricule | D6: A regler | E6: Janvier | G6: Nom | H6: Prénom | I6: Matricule | J6: A regler | K6: Janvier | L6: Février | M6: Mars | N6: Avril | O6: Mai | P6: Juin | Q6: Juillet | R6: Août | S6: Septembre | T6: Octobre | U6: Novembre | V6: Decembre | X6: Nom | Y6: Prénom | Z6: Matricule | AA6: A payer au salarié | AB6: Janvier | AC6: Février | AD6: Mars | AE6: Avril | AF6: Mai | AG6: Juin | AH6: Juillet | AI6: Août | AJ6: Septembre | AK6: Octobre | AL6: Novembre | AM6: Decembre | AO6: Nom | AP6: Prénom | AQ6: Matricule | AR6: A regler | AS6: Janvier | AT6: Février | AU6: Mars | AV6: Avril | AW6: Mai | AX6: Juin | AY6: Juillet | AZ6: Août | BA6: Septembre | BB6: Octobre | BC6: Novembre | BD6: Decembre | BF6: Nom | BG6: Prénom | BH6: Matricule | BI6: A regler | BJ6: Janvier | BK6: Février | BL6: Mars | BM6: Avril | BN6: Mai | BO6: Juin | BP6: Juillet | BQ6: Août | BR6: Septembre | BS6: Octobre | BT6: Novembre | BU6: Decembre | BW6: Nom | BX6: Prénom | BY6: Matricule | BZ6: A regler | CA6: Janvier | CB6: Février | CC6: Mars | CD6: Avril | CE6: Mai | CF6: Juin | CG6: Juillet | CH6: Août | CI6: Septembre | CJ6: Octobre | CK6: Novembre | CL6: Decembre
A7: Nom1 | B7: Prénom1 | C7: 0000001 | D7: =IF(C7="","",ROUND((E7-(E7)*33%),2)) -> 20.1 | E7: 30 | G7: {=IFERROR(INDEX('Sub1'!A:A,SMALL(IF('Sub1'!$AC$5:$AC$34<>"",ROW('Sub1'!$AC$5:$AC$34)),ROWS(I$7:I7))),"")} -> Nom5 | H7: {=IFERROR(INDEX('Sub1'!B:B,SMALL(IF('Sub1'!$AC$5:$AC$34<>"",ROW('Sub1'!$AC$5:$AC$34)),ROWS(I$7:I7))),"")} -> Prénom5 | I7: {=IFERROR(INDEX('Sub1'!C:C,SMALL(IF('Sub1'!$AC$5:$AC$34<>"",ROW('Sub1'!$AC$5:$AC$34)),ROWS(I$7:I7))),"")} -> 0000005 | J7: {=IFERROR(INDEX('Sub1'!AC:AC,SMALL(IF('Sub1'!$AC$5:$AC$34<>"",ROW('Sub1'!$AC$5:$AC$34)),ROWS(I$7:I7))),"")} -> 120.6 | K7: {=IFERROR(INDEX('Sub1'!G:G,SMALL(IF('Sub1'!$AC$5:$AC$34<>"",ROW('Sub1'!$AC$5:$AC$34)),ROWS(I$7:I7))),"")} -> 300 | L7: {=IFERROR(INDEX('Sub1'!H:H,SMALL(IF('Sub1'!$AC$5:$AC$34<>"",ROW('Sub1'!$AC$5:$AC$34)),ROWS(I$7:I7))),"")} -> 0 | M7: {=IFERROR(INDEX('Sub1'!I:I,SMALL(IF('Sub1'!$AC$5:$AC$34<>"",ROW('Sub1'!$AC$5:$AC$34)),ROWS(I$7:I7))),"")} -> 0 | N7: {=IFERROR(INDEX('Sub1'!J:J,SMALL(IF('Sub1'!$AC$5:$AC$34<>"",ROW('Sub1'!$AC$5:$AC$34)),ROWS(I$7:I7))),"")} -> 0 | O7: {=IFERROR(INDEX('Sub1'!K:K,SMALL(IF('Sub1'!$AC$5:$AC$34<>"",ROW('Sub1'!$AC$5:$AC$34)),ROWS(I$7:I7))),"")} -> 0 | P7: {=IFERROR(INDEX('Sub1'!L:L,SMALL(IF('Sub1'!$AC$5:$AC$34<>"",ROW('Sub1'!$AC$5:$AC$34)),ROWS(I$7:I7))),"")} -> 0 | Q7: {=IFERROR(INDEX('Sub1'!M:M,SMALL(IF('Sub1'!$AC$5:$AC$34<>"",ROW('Sub1'!$AC$5:$AC$34)),ROWS(I$7:I7))),"")} -> 0 | R7: {=IFERROR(INDEX('Sub1'!N:N,SMALL(IF('Sub1'!$AC$5:$AC$34<>"",ROW('Sub1'!$AC$5:$AC$34)),ROWS(I$7:I7))),"")} -> 0 | S7: {=IFERROR(INDEX('Sub1'!O:O,SMALL(IF('Sub1'!$AC$5:$AC$34<>"",ROW('Sub1'!$AC$5:$AC$34)),ROWS(I$7:I7))),"")} -> 0 | T7: {=IFERROR(INDEX('Sub1'!P:P,SMALL(IF('Sub1'!$AC$5:$AC$34<>"",ROW('Sub1'!$AC$5:$AC$34)),ROWS(I$7:I7))),"")} -> 0 | U7: {=IFERROR(INDEX('Sub1'!Q:Q,SMALL(IF('Sub1'!$AC$5:$AC$34<>"",ROW('Sub1'!$AC$5:$AC$34)),ROWS(I$7:I7))),"")} -> 0 | V7: {=IFERROR(INDEX('Sub1'!R:R,SMALL(IF('Sub1'!$AC$5:$AC$34<>"",ROW('Sub1'!$AC$5:$AC$34)),ROWS(I$7:I7))),"")} -> 0 | X7: {=IFERROR(INDEX('Sub2'!A:A,SMALL(IF('Sub2'!$Y$5:$Y$34<>"",ROW('Sub2'!$Y$5:$Y$34)),ROWS(Z$7:Z7))),"")} -> Nom1 | Y7: {=IFERROR(INDEX('Sub2'!B:B,SMALL(IF('Sub2'!$Y$5:$Y$34<>"",ROW('Sub2'!$Y$5:$Y$34)),ROWS(Z$7:Z7))),"")} -> Prénom1 | Z7: {=IFERROR(INDEX('Sub2'!C:C,SMALL(IF('Sub2'!$Y$5:$Y$34<>"",ROW('Sub2'!$Y$5:$Y$34)),ROWS(Z$7:Z7))),"")} -> 0000001 | AA7: {=IFERROR(INDEX('Sub2'!Y:Y,SMALL(IF('Sub2'!$Y$5:$Y$34<>"",ROW('Sub2'!$Y$5:$Y$34)),ROWS(Z$7:Z7))),"")} -> 3.35 | AB7: {=IFERROR(INDEX('Sub2'!F:F,SMALL(IF('Sub2'!$Y$5:$Y$34<>"",ROW('Sub2'!$Y$5:$Y$34)),ROWS(Z$7:Z7))),"")} -> 30 | AC7: {=IFERROR(INDEX('Sub2'!G:G,SMALL(IF('Sub2'!$Y$5:$Y$34<>"",ROW('Sub2'!$Y$5:$Y$34)),ROWS(Z$7:Z7))),"")} -> 0 | AD7: {=IFERROR(INDEX('Sub2'!H:H,SMALL(IF('Sub2'!$Y$5:$Y$34<>"",ROW('Sub2'!$Y$5:$Y$34)),ROWS(Z$7:Z7))),"")} -> 0 | AE7: {=IFERROR(INDEX('Sub2'!I:I,SMALL(IF('Sub2'!$Y$5:$Y$34<>"",ROW('Sub2'!$Y$5:$Y$34)),ROWS(Z$7:Z7))),"")} -> 0 | AF7: {=IFERROR(INDEX('Sub2'!J:J,SMALL(IF('Sub2'!$Y$5:$Y$34<>"",ROW('Sub2'!$Y$5:$Y$34)),ROWS(Z$7:Z7))),"")} -> 0 | AG7: {=IFERROR(INDEX('Sub2'!K:K,SMALL(IF('Sub2'!$Y$5:$Y$34<>"",ROW('Sub2'!$Y$5:$Y$34)),ROWS(Z$7:Z7))),"")} -> 0 | AH7: {=IFERROR(INDEX('Sub2'!L:L,SMALL(IF('Sub2'!$Y$5:$Y$34<>"",ROW('Sub2'!$Y$5:$Y$34)),ROWS(Z$7:Z7))),"")} -> 0 | AI7: {=IFERROR(INDEX('Sub2'!M:M,SMALL(IF('Sub2'!$Y$5:$Y$34<>"",ROW('Sub2'!$Y$5:$Y$34)),ROWS(Z$7:Z7))),"")} -> 0 | AJ7: {=IFERROR(INDEX('Sub2'!N:N,SMALL(IF('Sub2'!$Y$5:$Y$34<>"",ROW('Sub2'!$Y$5:$Y$34)),ROWS(Z$7:Z7))),"")} -> 40 | AK7: {=IFERROR(INDEX('Sub2'!O:O,SMALL(IF('Sub2'!$Y$5:$Y$34<>"",ROW('Sub2'!$Y$5:$Y$34)),ROWS(Z$7:Z7))),"")} -> 0 | AL7: {=IFERROR(INDEX('Sub2'!P:P,SMALL(IF('Sub2'!$Y$5:$Y$34<>"",ROW('Sub2'!$Y$5:$Y$34)),ROWS(Z$7:Z7))),"")} -> 0 | AM7: {=IFERROR(INDEX('Sub2'!Q:Q,SMALL(IF('Sub2'!$Y$5:$Y$34<>"",ROW('Sub2'!$Y$5:$Y$34)),ROWS(Z$7:Z7))),"")} -> 0 | AO7: {=IFERROR(INDEX('Sub3'!A:A,SMALL(IF('Sub3'!$Y$5:$Y$34<>"",ROW('Sub3'!$Y$5:$Y$34)),ROWS($AQ$7:$AQ7))),"")} -> Nom8 | AP7: {=IFERROR(INDEX('Sub3'!B:B,SMALL(IF('Sub3'!$Y$5:$Y$34<>"",ROW('Sub3'!$Y$5:$Y$34)),ROWS($AQ$7:$AQ7))),"")} -> Prénom8 | AQ7: {=IFERROR(INDEX('Sub3'!C:C,SMALL(IF('Sub3'!$Y$5:$Y$34<>"",ROW('Sub3'!$Y$5:$Y$34)),ROWS($AQ$7:$AQ7))),"")} -> 0000008 | AR7: {=IFERROR(INDEX('Sub3'!Y:Y,SMALL(IF('Sub3'!$Y$5:$Y$34<>"",ROW('Sub3'!$Y$5:$Y$34)),ROWS($AQ$7:$AQ7))),"")} -> 4.02 | AS7: {=IFERROR(INDEX('Sub3'!F:F,SMALL(IF('Sub3'!$Y$5:$Y$34<>"",ROW('Sub3'!$Y$5:$Y$34)),ROWS($AQ$7:$AQ7))),"")} -> 0 | AT7: {=IFERROR(INDEX('Sub3'!G:G,SMALL(IF('Sub3'!$Y$5:$Y$34<>"",ROW('Sub3'!$Y$5:$Y$34)),ROWS($AQ$7:$AQ7))),"")} -> 0 | AU7: {=IFERROR(INDEX('Sub3'!H:H,SMALL(IF('Sub3'!$Y$5:$Y$34<>"",ROW('Sub3'!$Y$5:$Y$34)),ROWS($AQ$7:$AQ7))),"")} -> 0 | AV7: {=IFERROR(INDEX('Sub3'!I:I,SMALL(IF('Sub3'!$Y$5:$Y$34<>"",ROW('Sub3'!$Y$5:$Y$34)),ROWS($AQ$7:$AQ7))),"")} -> 0 | AW7: {=IFERROR(INDEX('Sub3'!J:J,SMALL(IF('Sub3'!$Y$5:$Y$34<>"",ROW('Sub3'!$Y$5:$Y$34)),ROWS($AQ$7:$AQ7))),"")} -> 50 | AX7: {=IFERROR(INDEX('Sub3'!K:K,SMALL(IF('Sub3'!$Y$5:$Y$34<>"",ROW('Sub3'!$Y$5:$Y$34)),ROWS($AQ$7:$AQ7))),"")} -> 0 | AY7: {=IFERROR(INDEX('Sub3'!L:L,SMALL(IF('Sub3'!$Y$5:$Y$34<>"",ROW('Sub3'!$Y$5:$Y$34)),ROWS($AQ$7:$AQ7))),"")} -> 0 | AZ7: {=IFERROR(INDEX('Sub3'!M:M,SMALL(IF('Sub3'!$Y$5:$Y$34<>"",ROW('Sub3'!$Y$5:$Y$34)),ROWS($AQ$7:$AQ7))),"")} -> 0 | BA7: {=IFERROR(INDEX('Sub3'!N:N,SMALL(IF('Sub3'!$Y$5:$Y$34<>"",ROW('Sub3'!$Y$5:$Y$34)),ROWS($AQ$7:$AQ7))),"")} -> 0 | BB7: {=IFERROR(INDEX('Sub3'!O:O,SMALL(IF('Sub3'!$Y$5:$Y$34<>"",ROW('Sub3'!$Y$5:$Y$34)),ROWS($AQ$7:$AQ7))),"")} -> 0 | BC7: {=IFERROR(INDEX('Sub3'!P:P,SMALL(IF('Sub3'!$Y$5:$Y$34<>"",ROW('Sub3'!$Y$5:$Y$34)),ROWS($AQ$7:$AQ7))),"")} -> 0 | BD7: {=IFERROR(INDEX('Sub3'!Q:Q,SMALL(IF('Sub3'!$Y$5:$Y$34<>"",ROW('Sub3'!$Y$5:$Y$34)),ROWS($AQ$7:$AQ7))),"")} -> 0 | BF7: {=IFERROR(INDEX('Sub4'!A:A,SMALL(IF('Sub4'!$W$5:$W$34<>"",ROW('Sub4'!$W$5:$W$34)),ROWS($BH$7:$BH7))),"")} -> Nom1 | BG7: {=IFERROR(INDEX('Sub4'!B:B,SMALL(IF('Sub4'!$W$5:$W$34<>"",ROW('Sub4'!$W$5:$W$34)),ROWS($BH$7:$BH7))),"")} -> Prénom1 | BH7: {=IFERROR(INDEX('Sub4'!C:C,SMALL(IF('Sub4'!$W$5:$W$34<>"",ROW('Sub4'!$W$5:$W$34)),ROWS($BH$7:$BH7))),"")} -> 0000001 | BI7: {=IFERROR(INDEX('Sub4'!W:W,SMALL(IF('Sub4'!$W$5:$W$34<>"",ROW('Sub4'!$W$5:$W$34)),ROWS($BH$7:$BH7))),"")} -> 0 | BJ7: {=IFERROR(INDEX('Sub4'!F:F,SMALL(IF('Sub4'!$W$5:$W$34<>"",ROW('Sub4'!$W$5:$W$34)),ROWS($BH$7:$BH7))),"")} -> 0 | BK7: {=IFERROR(INDEX('Sub4'!G:G,SMALL(IF('Sub4'!$W$5:$W$34<>"",ROW('Sub4'!$W$5:$W$34)),ROWS($BH$7:$BH7))),"")} -> 0 | BL7: {=IFERROR(INDEX('Sub4'!H:H,SMALL(IF('Sub4'!$W$5:$W$34<>"",ROW('Sub4'!$W$5:$W$34)),ROWS($BH$7:$BH7))),"")} -> 0 | BM7: {=IFERROR(INDEX('Sub4'!I:I,SMALL(IF('Sub4'!$W$5:$W$34<>"",ROW('Sub4'!$W$5:$W$34)),ROWS($BH$7:$BH7))),"")} -> 0 | BN7: {=IFERROR(INDEX('Sub4'!J:J,SMALL(IF('Sub4'!$W$5:$W$34<>"",ROW('Sub4'!$W$5:$W$34)),ROWS($BH$7:$BH7))),"")} -> 0 | BO7: {=IFERROR(INDEX('Sub4'!K:K,SMALL(IF('Sub4'!$W$5:$W$34<>"",ROW('Sub4'!$W$5:$W$34)),ROWS($BH$7:$BH7))),"")} -> 0 | BP7: {=IFERROR(INDEX('Sub4'!L:L,SMALL(IF('Sub4'!$W$5:$W$34<>"",ROW('Sub4'!$W$5:$W$34)),ROWS($BH$7:$BH7))),"")} -> 0 | BQ7: {=IFERROR(INDEX('Sub4'!M:M,SMALL(IF('Sub4'!$W$5:$W$34<>"",ROW('Sub4'!$W$5:$W$34)),ROWS($BH$7:$BH7))),"")} -> 0 | BR7: {=IFERROR(INDEX('Sub4'!N:N,SMALL(IF('Sub4'!$W$5:$W$34<>"",ROW('Sub4'!$W$5:$W$34)),ROWS($BH$7:$BH7))),"")} -> 150 | BS7: {=IFERROR(INDEX('Sub4'!O:O,SMALL(IF('Sub4'!$W$5:$W$34<>"",ROW('Sub4'!$W$5:$W$34)),ROWS($BH$7:$BH7))),"")} -> 0 | BT7: {=IFERROR(INDEX('Sub4'!P:P,SMALL(IF('Sub4'!$W$5:$W$34<>"",ROW('Sub4'!$W$5:$W$34)),ROWS($BH$7:$BH7))),"")} -> 0 | BU7: {=IFERROR(INDEX('Sub4'!Q:Q,SMALL(IF('Sub4'!$W$5:$W$34<>"",ROW('Sub4'!$W$5:$W$34)),ROWS($BH$7:$BH7))),"")} -> 0 | BW7: {=IFERROR(INDEX('Sub5'!A:A,SMALL(IF('Sub5'!$Y$5:$Y$34<>"",ROW('Sub5'!$Y$5:$Y$34)),ROWS($BY$7:$BY7))),"")} -> Nom16 | BX7: {=IFERROR(INDEX('Sub5'!B:B,SMALL(IF('Sub5'!$Y$5:$Y$34<>"",ROW('Sub5'!$Y$5:$Y$34)),ROWS($BY$7:$BY7))),"")} -> Prénom16 | BY7: {=IFERROR(INDEX('Sub5'!C:C,SMALL(IF('Sub5'!$Y$5:$Y$34<>"",ROW('Sub5'!$Y$5:$Y$34)),ROWS($BY$7:$BY7))),"")} -> 0000016 | BZ7: {=IFERROR(INDEX('Sub5'!Y:Y,SMALL(IF('Sub5'!$Y$5:$Y$34<>"",ROW('Sub5'!$Y$5:$Y$34)),ROWS($BY$7:$BY7))),"")} -> 26.8 | CA7: {=IFERROR(INDEX('Sub5'!F:F,SMALL(IF('Sub5'!$Y$5:$Y$34<>"",ROW('Sub5'!$Y$5:$Y$34)),ROWS($BY$7:$BY7))),"")} -> 0 | CB7: {=IFERROR(INDEX('Sub5'!G:G,SMALL(IF('Sub5'!$Y$5:$Y$34<>"",ROW('Sub5'!$Y$5:$Y$34)),ROWS($BY$7:$BY7))),"")} -> 0 | CC7: {=IFERROR(INDEX('Sub5'!H:H,SMALL(IF('Sub5'!$Y$5:$Y$34<>"",ROW('Sub5'!$Y$5:$Y$34)),ROWS($BY$7:$BY7))),"")} -> 100 | CD7: {=IFERROR(INDEX('Sub5'!I:I,SMALL(IF('Sub5'!$Y$5:$Y$34<>"",ROW('Sub5'!$Y$5:$Y$34)),ROWS($BY$7:$BY7))),"")} -> 0 | CE7: {=IFERROR(INDEX('Sub5'!J:J,SMALL(IF('Sub5'!$Y$5:$Y$34<>"",ROW('Sub5'!$Y$5:$Y$34)),ROWS($BY$7:$BY7))),"")} -> 0 | CF7: {=IFERROR(INDEX('Sub5'!K:K,SMALL(IF('Sub5'!$Y$5:$Y$34<>"",ROW('Sub5'!$Y$5:$Y$34)),ROWS($BY$7:$BY7))),"")} -> 0 | CG7: {=IFERROR(INDEX('Sub5'!L:L,SMALL(IF('Sub5'!$Y$5:$Y$34<>"",ROW('Sub5'!$Y$5:$Y$34)),ROWS($BY$7:$BY7))),"")} -> 0 | CH7: {=IFERROR(INDEX('Sub5'!M:M,SMALL(IF('Sub5'!$Y$5:$Y$34<>"",ROW('Sub5'!$Y$5:$Y$34)),ROWS($BY$7:$BY7))),"")} -> 0 | CI7: {=IFERROR(INDEX('Sub5'!N:N,SMALL(IF('Sub5'!$Y$5:$Y$34<>"",ROW('Sub5'!$Y$5:$Y$34)),ROWS($BY$7:$BY7))),"")} -> 0 | CJ7: {=IFERROR(INDEX('Sub5'!O:O,SMALL(IF('Sub5'!$Y$5:$Y$34<>"",ROW('Sub5'!$Y$5:$Y$34)),ROWS($BY$7:$BY7))),"")} -> 0 | CK7: {=IFERROR(INDEX('Sub5'!P:P,SMALL(IF('Sub5'!$Y$5:$Y$34<>"",ROW('Sub5'!$Y$5:$Y$34)),ROWS($BY$7:$BY7))),"")} -> 0 | CL7: {=IFERROR(INDEX('Sub5'!Q:Q,SMALL(IF('Sub5'!$Y$5:$Y$34<>"",ROW('Sub5'!$Y$5:$Y$34)),ROWS($BY$7:$BY7))),"")} -> 0
A8: Nom2 | B8: Prénom5 | C8: 0000005 | D8: =IF(C8="","",ROUND((E8-(E8)*33%),2)) -> 201 | E8: 300 | G8: {=IFERROR(INDEX('Sub1'!A:A,SMALL(IF('Sub1'!$AC$5:$AC$34<>"",ROW('Sub1'!$AC$5:$AC$34)),ROWS(G$7:G8))),"")} -> Nom13 | H8: {=IFERROR(INDEX('Sub1'!B:B,SMALL(IF('Sub1'!$AC$5:$AC$34<>"",ROW('Sub1'!$AC$5:$AC$34)),ROWS(H$7:H8))),"")} -> Prénom13 | I8: {=IFERROR(INDEX('Sub1'!C:C,SMALL(IF('Sub1'!$AC$5:$AC$34<>"",ROW('Sub1'!$AC$5:$AC$34)),ROWS(I$7:I8))),"")} -> 0000013 | J8: {=IFERROR(INDEX('Sub1'!AC:AC,SMALL(IF('Sub1'!$AC$5:$AC$34<>"",ROW('Sub1'!$AC$5:$AC$34)),ROWS(J$7:J8))),"")} -> 167.5 | K8: {=IFERROR(INDEX('Sub1'!G:G,SMALL(IF('Sub1'!$AC$5:$AC$34<>"",ROW('Sub1'!$AC$5:$AC$34)),ROWS(I$7:I8))),"")} -> 500 | L8: {=IFERROR(INDEX('Sub1'!H:H,SMALL(IF('Sub1'!$AC$5:$AC$34<>"",ROW('Sub1'!$AC$5:$AC$34)),ROWS(I$7:I8))),"")} -> 0 | M8: {=IFERROR(INDEX('Sub1'!I:I,SMALL(IF('Sub1'!$AC$5:$AC$34<>"",ROW('Sub1'!$AC$5:$AC$34)),ROWS(I$7:I8))),"")} -> 0 | N8: {=IFERROR(INDEX('Sub1'!J:J,SMALL(IF('Sub1'!$AC$5:$AC$34<>"",ROW('Sub1'!$AC$5:$AC$34)),ROWS(I$7:I8))),"")} -> 0 | O8: {=IFERROR(INDEX('Sub1'!K:K,SMALL(IF('Sub1'!$AC$5:$AC$34<>"",ROW('Sub1'!$AC$5:$AC$34)),ROWS(I$7:I8))),"")} -> 0 | P8: {=IFERROR(INDEX('Sub1'!L:L,SMALL(IF('Sub1'!$AC$5:$AC$34<>"",ROW('Sub1'!$AC$5:$AC$34)),ROWS(I$7:I8))),"")} -> 0 | Q8: {=IFERROR(INDEX('Sub1'!M:M,SMALL(IF('Sub1'!$AC$5:$AC$34<>"",ROW('Sub1'!$AC$5:$AC$34)),ROWS(I$7:I8))),"")} -> 0 | R8: {=IFERROR(INDEX('Sub1'!N:N,SMALL(IF('Sub1'!$AC$5:$AC$34<>"",ROW('Sub1'!$AC$5:$AC$34)),ROWS(I$7:I8))),"")} -> 0 | S8: {=IFERROR(INDEX('Sub1'!O:O,SMALL(IF('Sub1'!$AC$5:$AC$34<>"",ROW('Sub1'!$AC$5:$AC$34)),ROWS(I$7:I8))),"")} -> 0 | T8: {=IFERROR(INDEX('Sub1'!P:P,SMALL(IF('Sub1'!$AC$5:$AC$34<>"",ROW('Sub1'!$AC$5:$AC$34)),ROWS(I$7:I8))),"")} -> 0 | U8: {=IFERROR(INDEX('Sub1'!Q:Q,SMALL(IF('Sub1'!$AC$5:$AC$34<>"",ROW('Sub1'!$AC$5:$AC$34)),ROWS(I$7:I8))),"")} -> 0 | V8: {=IFERROR(INDEX('Sub1'!R:R,SMALL(IF('Sub1'!$AC$5:$AC$34<>"",ROW('Sub1'!$AC$5:$AC$34)),ROWS(I$7:I8))),"")} -> 0 | X8: {=IFERROR(INDEX('Sub2'!A:A,SMALL(IF('Sub2'!$Y$5:$Y$34<>"",ROW('Sub2'!$Y$5:$Y$34)),ROWS(Z$7:Z8))),"")} -> Nom7 | Y8: {=IFERROR(INDEX('Sub2'!B:B,SMALL(IF('Sub2'!$Y$5:$Y$34<>"",ROW('Sub2'!$Y$5:$Y$34)),ROWS(Z$7:Z8))),"")} -> Prénom7 | Z8: {=IFERROR(INDEX('Sub2'!C:C,SMALL(IF('Sub2'!$Y$5:$Y$34<>"",ROW('Sub2'!$Y$5:$Y$34)),ROWS(Z$7:Z8))),"")} -> 0000007 | AA8: {=IFERROR(INDEX('Sub2'!Y:Y,SMALL(IF('Sub2'!$Y$5:$Y$34<>"",ROW('Sub2'!$Y$5:$Y$34)),ROWS(Z$7:Z8))),"")} -> 16.75 | AB8: {=IFERROR(INDEX('Sub2'!F:F,SMALL(IF('Sub2'!$Y$5:$Y$34<>"",ROW('Sub2'!$Y$5:$Y$34)),ROWS(Z$7:Z8))),"")} -> 0 | AC8: {=IFERROR(INDEX('Sub2'!G:G,SMALL(IF('Sub2'!$Y$5:$Y$34<>"",ROW('Sub2'!$Y$5:$Y$34)),ROWS(Z$7:Z8))),"")} -> 50 | AD8: {=IFERROR(INDEX('Sub2'!H:H,SMALL(IF('Sub2'!$Y$5:$Y$34<>"",ROW('Sub2'!$Y$5:$Y$34)),ROWS(Z$7:Z8))),"")} -> 0 | AE8: {=IFERROR(INDEX('Sub2'!I:I,SMALL(IF('Sub2'!$Y$5:$Y$34<>"",ROW('Sub2'!$Y$5:$Y$34)),ROWS(Z$7:Z8))),"")} -> 0 | AF8: {=IFERROR(INDEX('Sub2'!J:J,SMALL(IF('Sub2'!$Y$5:$Y$34<>"",ROW('Sub2'!$Y$5:$Y$34)),ROWS(Z$7:Z8))),"")} -> 0 | AG8: {=IFERROR(INDEX('Sub2'!K:K,SMALL(IF('Sub2'!$Y$5:$Y$34<>"",ROW('Sub2'!$Y$5:$Y$34)),ROWS(Z$7:Z8))),"")} -> 0 | AH8: {=IFERROR(INDEX('Sub2'!L:L,SMALL(IF('Sub2'!$Y$5:$Y$34<>"",ROW('Sub2'!$Y$5:$Y$34)),ROWS(Z$7:Z8))),"")} -> 0 | AI8: {=IFERROR(INDEX('Sub2'!M:M,SMALL(IF('Sub2'!$Y$5:$Y$34<>"",ROW('Sub2'!$Y$5:$Y$34)),ROWS(Z$7:Z8))),"")} -> 0 | AJ8: {=IFERROR(INDEX('Sub2'!N:N,SMALL(IF('Sub2'!$Y$5:$Y$34<>"",ROW('Sub2'!$Y$5:$Y$34)),ROWS(Z$7:Z8))),"")} -> 0 | AK8: {=IFERROR(INDEX('Sub2'!O:O,SMALL(IF('Sub2'!$Y$5:$Y$34<>"",ROW('Sub2'!$Y$5:$Y$34)),ROWS(Z$7:Z8))),"")} -> 0 | AL8: {=IFERROR(INDEX('Sub2'!P:P,SMALL(IF('Sub2'!$Y$5:$Y$34<>"",ROW('Sub2'!$Y$5:$Y$34)),ROWS(Z$7:Z8))),"")} -> 0 | AM8: {=IFERROR(INDEX('Sub2'!Q:Q,SMALL(IF('Sub2'!$Y$5:$Y$34<>"",ROW('Sub2'!$Y$5:$Y$34)),ROWS(Z$7:Z8))),"")} -> 0 | AO8: {=IFERROR(INDEX('Sub3'!A:A,SMALL(IF('Sub3'!$Y$5:$Y$34<>"",ROW('Sub3'!$Y$5:$Y$34)),ROWS($AQ$7:$AQ8))),"")} | AP8: {=IFERROR(INDEX('Sub3'!B:B,SMALL(IF('Sub3'!$Y$5:$Y$34<>"",ROW('Sub3'!$Y$5:$Y$34)),ROWS($AQ$7:$AQ8))),"")} | AQ8: {=IFERROR(INDEX('Sub3'!C:C,SMALL(IF('Sub3'!$Y$5:$Y$34<>"",ROW('Sub3'!$Y$5:$Y$34)),ROWS($AQ$7:$AQ8))),"")} | AR8: {=IFERROR(INDEX('Sub3'!Y:Y,SMALL(IF('Sub3'!$Y$5:$Y$34<>"",ROW('Sub3'!$Y$5:$Y$34)),ROWS($AQ$7:$AQ8))),"")} | AS8: {=IFERROR(INDEX('Sub3'!F:F,SMALL(IF('Sub3'!$Y$5:$Y$34<>"",ROW('Sub3'!$Y$5:$Y$34)),ROWS($AQ$7:$AQ8))),"")} | AT8: {=IFERROR(INDEX('Sub3'!G:G,SMALL(IF('Sub3'!$Y$5:$Y$34<>"",ROW('Sub3'!$Y$5:$Y$34)),ROWS($AQ$7:$AQ8))),"")} | AU8: {=IFERROR(INDEX('Sub3'!H:H,SMALL(IF('Sub3'!$Y$5:$Y$34<>"",ROW('Sub3'!$Y$5:$Y$34)),ROWS($AQ$7:$AQ8))),"")} | AV8: {=IFERROR(INDEX('Sub3'!I:I,SMALL(IF('Sub3'!$Y$5:$Y$34<>"",ROW('Sub3'!$Y$5:$Y$34)),ROWS($AQ$7:$AQ8))),"")} | AW8: {=IFERROR(INDEX('Sub3'!J:J,SMALL(IF('Sub3'!$Y$5:$Y$34<>"",ROW('Sub3'!$Y$5:$Y$34)),ROWS($AQ$7:$AQ8))),"")} | AX8: {=IFERROR(INDEX('Sub3'!K:K,SMALL(IF('Sub3'!$Y$5:$Y$34<>"",ROW('Sub3'!$Y$5:$Y$34)),ROWS($AQ$7:$AQ8))),"")} | AY8: {=IFERROR(INDEX('Sub3'!L:L,SMALL(IF('Sub3'!$Y$5:$Y$34<>"",ROW('Sub3'!$Y$5:$Y$34)),ROWS($AQ$7:$AQ8))),"")} | AZ8: {=IFERROR(INDEX('Sub3'!M:M,SMALL(IF('Sub3'!$Y$5:$Y$34<>"",ROW('Sub3'!$Y$5:$Y$34)),ROWS($AQ$7:$AQ8))),"")} | BA8: {=IFERROR(INDEX('Sub3'!N:N,SMALL(IF('Sub3'!$Y$5:$Y$34<>"",ROW('Sub3'!$Y$5:$Y$34)),ROWS($AQ$7:$AQ8))),"")} | BB8: {=IFERROR(INDEX('Sub3'!O:O,SMALL(IF('Sub3'!$Y$5:$Y$34<>"",ROW('Sub3'!$Y$5:$Y$34)),ROWS($AQ$7:$AQ8))),"")} | BC8: {=IFERROR(INDEX('Sub3'!P:P,SMALL(IF('Sub3'!$Y$5:$Y$34<>"",ROW('Sub3'!$Y$5:$Y$34)),ROWS($AQ$7:$AQ8))),"")} | BD8: {=IFERROR(INDEX('Sub3'!Q:Q,SMALL(IF('Sub3'!$Y$5:$Y$34<>"",ROW('Sub3'!$Y$5:$Y$34)),ROWS($AQ$7:$AQ8))),"")} | BF8: {=IFERROR(INDEX('Sub4'!A:A,SMALL(IF('Sub4'!$W$5:$W$34<>"",ROW('Sub4'!$W$5:$W$34)),ROWS($BH$7:$BH8))),"")} -> Nom2 | BG8: {=IFERROR(INDEX('Sub4'!B:B,SMALL(IF('Sub4'!$W$5:$W$34<>"",ROW('Sub4'!$W$5:$W$34)),ROWS($BH$7:$BH8))),"")} -> Prénom2 | BH8: {=IFERROR(INDEX('Sub4'!C:C,SMALL(IF('Sub4'!$W$5:$W$34<>"",ROW('Sub4'!$W$5:$W$34)),ROWS($BH$7:$BH8))),"")} -> 0000002 | BI8: {=IFERROR(INDEX('Sub4'!W:W,SMALL(IF('Sub4'!$W$5:$W$34<>"",ROW('Sub4'!$W$5:$W$34)),ROWS($BH$7:$BH8))),"")} -> 12.06 | BJ8: {=IFERROR(INDEX('Sub4'!F:F,SMALL(IF('Sub4'!$W$5:$W$34<>"",ROW('Sub4'!$W$5:$W$34)),ROWS($BH$7:$BH8))),"")} -> 0 | BK8: {=IFERROR(INDEX('Sub4'!G:G,SMALL(IF('Sub4'!$W$5:$W$34<>"",ROW('Sub4'!$W$5:$W$34)),ROWS($BH$7:$BH8))),"")} -> 100 | BL8: {=IFERROR(INDEX('Sub4'!H:H,SMALL(IF('Sub4'!$W$5:$W$34<>"",ROW('Sub4'!$W$5:$W$34)),ROWS($BH$7:$BH8))),"")} -> 0 | BM8: {=IFERROR(INDEX('Sub4'!I:I,SMALL(IF('Sub4'!$W$5:$W$34<>"",ROW('Sub4'!$W$5:$W$34)),ROWS($BH$7:$BH8))),"")} -> 0 | BN8: {=IFERROR(INDEX('Sub4'!J:J,SMALL(IF('Sub4'!$W$5:$W$34<>"",ROW('Sub4'!$W$5:$W$34)),ROWS($BH$7:$BH8))),"")} -> 0 | BO8: {=IFERROR(INDEX('Sub4'!K:K,SMALL(IF('Sub4'!$W$5:$W$34<>"",ROW('Sub4'!$W$5:$W$34)),ROWS($BH$7:$BH8))),"")} -> 0 | BP8: {=IFERROR(INDEX('Sub4'!L:L,SMALL(IF('Sub4'!$W$5:$W$34<>"",ROW('Sub4'!$W$5:$W$34)),ROWS($BH$7:$BH8))),"")} -> 0 | BQ8: {=IFERROR(INDEX('Sub4'!M:M,SMALL(IF('Sub4'!$W$5:$W$34<>"",ROW('Sub4'!$W$5:$W$34)),ROWS($BH$7:$BH8))),"")} -> 0 | BR8: {=IFERROR(INDEX('Sub4'!N:N,SMALL(IF('Sub4'!$W$5:$W$34<>"",ROW('Sub4'!$W$5:$W$34)),ROWS($BH$7:$BH8))),"")} -> 0 | BS8: {=IFERROR(INDEX('Sub4'!O:O,SMALL(IF('Sub4'!$W$5:$W$34<>"",ROW('Sub4'!$W$5:$W$34)),ROWS($BH$7:$BH8))),"")} -> 0 | BT8: {=IFERROR(INDEX('Sub4'!P:P,SMALL(IF('Sub4'!$W$5:$W$34<>"",ROW('Sub4'!$W$5:$W$34)),ROWS($BH$7:$BH8))),"")} -> 0 | BU8: {=IFERROR(INDEX('Sub4'!Q:Q,SMALL(IF('Sub4'!$W$5:$W$34<>"",ROW('Sub4'!$W$5:$W$34)),ROWS($BH$7:$BH8))),"")} -> 0 | BW8: {=IFERROR(INDEX('Sub5'!A:A,SMALL(IF('Sub5'!$Y$5:$Y$34<>"",ROW('Sub5'!$Y$5:$Y$34)),ROWS($BY$7:$BY8))),"")} | BX8: {=IFERROR(INDEX('Sub5'!B:B,SMALL(IF('Sub5'!$Y$5:$Y$34<>"",ROW('Sub5'!$Y$5:$Y$34)),ROWS($BY$7:$BY8))),"")} | BY8: {=IFERROR(INDEX('Sub5'!C:C,SMALL(IF('Sub5'!$Y$5:$Y$34<>"",ROW('Sub5'!$Y$5:$Y$34)),ROWS($BY$7:$BY8))),"")} | BZ8: {=IFERROR(INDEX('Sub5'!Y:Y,SMALL(IF('Sub5'!$Y$5:$Y$34<>"",ROW('Sub5'!$Y$5:$Y$34)),ROWS($BY$7:$BY8))),"")} | CA8: {=IFERROR(INDEX('Sub5'!F:F,SMALL(IF('Sub5'!$Y$5:$Y$34<>"",ROW('Sub5'!$Y$5:$Y$34)),ROWS($BY$7:$BY8))),"")} | CB8: {=IFERROR(INDEX('Sub5'!G:G,SMALL(IF('Sub5'!$Y$5:$Y$34<>"",ROW('Sub5'!$Y$5:$Y$34)),ROWS($BY$7:$BY8))),"")} | CC8: {=IFERROR(INDEX('Sub5'!H:H,SMALL(IF('Sub5'!$Y$5:$Y$34<>"",ROW('Sub5'!$Y$5:$Y$34)),ROWS($BY$7:$BY8))),"")} | CD8: {=IFERROR(INDEX('Sub5'!I:I,SMALL(IF('Sub5'!$Y$5:$Y$34<>"",ROW('Sub5'!$Y$5:$Y$34)),ROWS($BY$7:$BY8))),"")} | CE8: {=IFERROR(INDEX('Sub5'!J:J,SMALL(IF('Sub5'!$Y$5:$Y$34<>"",ROW('Sub5'!$Y$5:$Y$34)),ROWS($BY$7:$BY8))),"")} | CF8: {=IFERROR(INDEX('Sub5'!K:K,SMALL(IF('Sub5'!$Y$5:$Y$34<>"",ROW('Sub5'!$Y$5:$Y$34)),ROWS($BY$7:$BY8))),"")} | CG8: {=IFERROR(INDEX('Sub5'!L:L,SMALL(IF('Sub5'!$Y$5:$Y$34<>"",ROW('Sub5'!$Y$5:$Y$34)),ROWS($BY$7:$BY8))),"")} | CH8: {=IFERROR(INDEX('Sub5'!M:M,SMALL(IF('Sub5'!$Y$5:$Y$34<>"",ROW('Sub5'!$Y$5:$Y$34)),ROWS($BY$7:$BY8))),"")} | CI8: {=IFERROR(INDEX('Sub5'!N:N,SMALL(IF('Sub5'!$Y$5:$Y$34<>"",ROW('Sub5'!$Y$5:$Y$34)),ROWS($BY$7:$BY8))),"")} | CJ8: {=IFERROR(INDEX('Sub5'!O:O,SMALL(IF('Sub5'!$Y$5:$Y$34<>"",ROW('Sub5'!$Y$5:$Y$34)),ROWS($BY$7:$BY8))),"")} | CK8: {=IFERROR(INDEX('Sub5'!P:P,SMALL(IF('Sub5'!$Y$5:$Y$34<>"",ROW('Sub5'!$Y$5:$Y$34)),ROWS($BY$7:$BY8))),"")} | CL8: {=IFERROR(INDEX('Sub5'!Q:Q,SMALL(IF('Sub5'!$Y$5:$Y$34<>"",ROW('Sub5'!$Y$5:$Y$34)),ROWS($BY$7:$BY8))),"")}
A9: Nom5 | B9: Prénom13 | C9: 0000013 | D9: =IF(C9="","",ROUND((E9-(E9)*33%),2)) -> 335 | E9: 500 | G9: {=IFERROR(INDEX('Sub1'!A:A,SMALL(IF('Sub1'!$AC$5:$AC$34<>"",ROW('Sub1'!$AC$5:$AC$34)),ROWS(G$7:G9))),"")} | H9: {=IFERROR(INDEX('Sub1'!B:B,SMALL(IF('Sub1'!$AC$5:$AC$34<>"",ROW('Sub1'!$AC$5:$AC$34)),ROWS(H$7:H9))),"")} | I9: {=IFERROR(INDEX('Sub1'!C:C,SMALL(IF('Sub1'!$AC$5:$AC$34<>"",ROW('Sub1'!$AC$5:$AC$34)),ROWS(I$7:I9))),"")} | J9: {=IFERROR(INDEX('Sub1'!AC:AC,SMALL(IF('Sub1'!$AC$5:$AC$34<>"",ROW('Sub1'!$AC$5:$AC$34)),ROWS(J$7:J9))),"")} | K9: {=IFERROR(INDEX('Sub1'!G:G,SMALL(IF('Sub1'!$AC$5:$AC$34<>"",ROW('Sub1'!$AC$5:$AC$34)),ROWS(I$7:I9))),"")} | L9: {=IFERROR(INDEX('Sub1'!H:H,SMALL(IF('Sub1'!$AC$5:$AC$34<>"",ROW('Sub1'!$AC$5:$AC$34)),ROWS(I$7:I9))),"")} | M9: {=IFERROR(INDEX('Sub1'!I:I,SMALL(IF('Sub1'!$AC$5:$AC$34<>"",ROW('Sub1'!$AC$5:$AC$34)),ROWS(I$7:I9))),"")} | N9: {=IFERROR(INDEX('Sub1'!J:J,SMALL(IF('Sub1'!$AC$5:$AC$34<>"",ROW('Sub1'!$AC$5:$AC$34)),ROWS(I$7:I9))),"")} | O9: {=IFERROR(INDEX('Sub1'!K:K,SMALL(IF('Sub1'!$AC$5:$AC$34<>"",ROW('Sub1'!$AC$5:$AC$34)),ROWS(I$7:I9))),"")} | P9: {=IFERROR(INDEX('Sub1'!L:L,SMALL(IF('Sub1'!$AC$5:$AC$34<>"",ROW('Sub1'!$AC$5:$AC$34)),ROWS(I$7:I9))),"")} | Q9: {=IFERROR(INDEX('Sub1'!M:M,SMALL(IF('Sub1'!$AC$5:$AC$34<>"",ROW('Sub1'!$AC$5:$AC$34)),ROWS(I$7:I9))),"")} | R9: {=IFERROR(INDEX('Sub1'!N:N,SMALL(IF('Sub1'!$AC$5:$AC$34<>"",ROW('Sub1'!$AC$5:$AC$34)),ROWS(I$7:I9))),"")} | S9: {=IFERROR(INDEX('Sub1'!O:O,SMALL(IF('Sub1'!$AC$5:$AC$34<>"",ROW('Sub1'!$AC$5:$AC$34)),ROWS(I$7:I9))),"")} | T9: {=IFERROR(INDEX('Sub1'!P:P,SMALL(IF('Sub1'!$AC$5:$AC$34<>"",ROW('Sub1'!$AC$5:$AC$34)),ROWS(I$7:I9))),"")} | U9: {=IFERROR(INDEX('Sub1'!Q:Q,SMALL(IF('Sub1'!$AC$5:$AC$34<>"",ROW('Sub1'!$AC$5:$AC$34)),ROWS(I$7:I9))),"")} | V9: {=IFERROR(INDEX('Sub1'!R:R,SMALL(IF('Sub1'!$AC$5:$AC$34<>"",ROW('Sub1'!$AC$5:$AC$34)),ROWS(I$7:I9))),"")} | X9: {=IFERROR(INDEX('Sub2'!A:A,SMALL(IF('Sub2'!$Y$5:$Y$34<>"",ROW('Sub2'!$Y$5:$Y$34)),ROWS(Z$7:Z9))),"")} | Y9: {=IFERROR(INDEX('Sub2'!B:B,SMALL(IF('Sub2'!$Y$5:$Y$34<>"",ROW('Sub2'!$Y$5:$Y$34)),ROWS(Z$7:Z9))),"")} | Z9: {=IFERROR(INDEX('Sub2'!C:C,SMALL(IF('Sub2'!$Y$5:$Y$34<>"",ROW('Sub2'!$Y$5:$Y$34)),ROWS(Z$7:Z9))),"")} | AA9: {=IFERROR(INDEX('Sub2'!Y:Y,SMALL(IF('Sub2'!$Y$5:$Y$34<>"",ROW('Sub2'!$Y$5:$Y$34)),ROWS(Z$7:Z9))),"")} | AB9: {=IFERROR(INDEX('Sub2'!F:F,SMALL(IF('Sub2'!$Y$5:$Y$34<>"",ROW('Sub2'!$Y$5:$Y$34)),ROWS(Z$7:Z9))),"")} | AC9: {=IFERROR(INDEX('Sub2'!G:G,SMALL(IF('Sub2'!$Y$5:$Y$34<>"",ROW('Sub2'!$Y$5:$Y$34)),ROWS(Z$7:Z9))),"")} | AD9: {=IFERROR(INDEX('Sub2'!H:H,SMALL(IF('Sub2'!$Y$5:$Y$34<>"",ROW('Sub2'!$Y$5:$Y$34)),ROWS(Z$7:Z9))),"")} | AE9: {=IFERROR(INDEX('Sub2'!I:I,SMALL(IF('Sub2'!$Y$5:$Y$34<>"",ROW('Sub2'!$Y$5:$Y$34)),ROWS(Z$7:Z9))),"")} | AF9: {=IFERROR(INDEX('Sub2'!J:J,SMALL(IF('Sub2'!$Y$5:$Y$34<>"",ROW('Sub2'!$Y$5:$Y$34)),ROWS(Z$7:Z9))),"")} | AG9: {=IFERROR(INDEX('Sub2'!K:K,SMALL(IF('Sub2'!$Y$5:$Y$34<>"",ROW('Sub2'!$Y$5:$Y$34)),ROWS(Z$7:Z9))),"")} | AH9: {=IFERROR(INDEX('Sub2'!L:L,SMALL(IF('Sub2'!$Y$5:$Y$34<>"",ROW('Sub2'!$Y$5:$Y$34)),ROWS(Z$7:Z9))),"")} | AI9: {=IFERROR(INDEX('Sub2'!M:M,SMALL(IF('Sub2'!$Y$5:$Y$34<>"",ROW('Sub2'!$Y$5:$Y$34)),ROWS(Z$7:Z9))),"")} | AJ9: {=IFERROR(INDEX('Sub2'!N:N,SMALL(IF('Sub2'!$Y$5:$Y$34<>"",ROW('Sub2'!$Y$5:$Y$34)),ROWS(Z$7:Z9))),"")} | AK9: {=IFERROR(INDEX('Sub2'!O:O,SMALL(IF('Sub2'!$Y$5:$Y$34<>"",ROW('Sub2'!$Y$5:$Y$34)),ROWS(Z$7:Z9))),"")} | AL9: {=IFERROR(INDEX('Sub2'!P:P,SMALL(IF('Sub2'!$Y$5:$Y$34<>"",ROW('Sub2'!$Y$5:$Y$34)),ROWS(Z$7:Z9))),"")} | AM9: {=IFERROR(INDEX('Sub2'!Q:Q,SMALL(IF('Sub2'!$Y$5:$Y$34<>"",ROW('Sub2'!$Y$5:$Y$34)),ROWS(Z$7:Z9))),"")} | AO9: {=IFERROR(INDEX('Sub3'!A:A,SMALL(IF('Sub3'!$Y$5:$Y$34<>"",ROW('Sub3'!$Y$5:$Y$34)),ROWS($AQ$7:$AQ9))),"")} | AP9: {=IFERROR(INDEX('Sub3'!B:B,SMALL(IF('Sub3'!$Y$5:$Y$34<>"",ROW('Sub3'!$Y$5:$Y$34)),ROWS($AQ$7:$AQ9))),"")} | AQ9: {=IFERROR(INDEX('Sub3'!C:C,SMALL(IF('Sub3'!$Y$5:$Y$34<>"",ROW('Sub3'!$Y$5:$Y$34)),ROWS($AQ$7:$AQ9))),"")} | AR9: {=IFERROR(INDEX('Sub3'!Y:Y,SMALL(IF('Sub3'!$Y$5:$Y$34<>"",ROW('Sub3'!$Y$5:$Y$34)),ROWS($AQ$7:$AQ9))),"")} | AS9: {=IFERROR(INDEX('Sub3'!F:F,SMALL(IF('Sub3'!$Y$5:$Y$34<>"",ROW('Sub3'!$Y$5:$Y$34)),ROWS($AQ$7:$AQ9))),"")} | AT9: {=IFERROR(INDEX('Sub3'!G:G,SMALL(IF('Sub3'!$Y$5:$Y$34<>"",ROW('Sub3'!$Y$5:$Y$34)),ROWS($AQ$7:$AQ9))),"")} | AU9: {=IFERROR(INDEX('Sub3'!H:H,SMALL(IF('Sub3'!$Y$5:$Y$34<>"",ROW('Sub3'!$Y$5:$Y$34)),ROWS($AQ$7:$AQ9))),"")} | AV9: {=IFERROR(INDEX('Sub3'!I:I,SMALL(IF('Sub3'!$Y$5:$Y$34<>"",ROW('Sub3'!$Y$5:$Y$34)),ROWS($AQ$7:$AQ9))),"")} | AW9: {=IFERROR(INDEX('Sub3'!J:J,SMALL(IF('Sub3'!$Y$5:$Y$34<>"",ROW('Sub3'!$Y$5:$Y$34)),ROWS($AQ$7:$AQ9))),"")} | AX9: {=IFERROR(INDEX('Sub3'!K:K,SMALL(IF('Sub3'!$Y$5:$Y$34<>"",ROW('Sub3'!$Y$5:$Y$34)),ROWS($AQ$7:$AQ9))),"")} | AY9: {=IFERROR(INDEX('Sub3'!L:L,SMALL(IF('Sub3'!$Y$5:$Y$34<>"",ROW('Sub3'!$Y$5:$Y$34)),ROWS($AQ$7:$AQ9))),"")} | AZ9: {=IFERROR(INDEX('Sub3'!M:M,SMALL(IF('Sub3'!$Y$5:$Y$34<>"",ROW('Sub3'!$Y$5:$Y$34)),ROWS($AQ$7:$AQ9))),"")} | BA9: {=IFERROR(INDEX('Sub3'!N:N,SMALL(IF('Sub3'!$Y$5:$Y$34<>"",ROW('Sub3'!$Y$5:$Y$34)),ROWS($AQ$7:$AQ9))),"")} | BB9: {=IFERROR(INDEX('Sub3'!O:O,SMALL(IF('Sub3'!$Y$5:$Y$34<>"",ROW('Sub3'!$Y$5:$Y$34)),ROWS($AQ$7:$AQ9))),"")} | BC9: {=IFERROR(INDEX('Sub3'!P:P,SMALL(IF('Sub3'!$Y$5:$Y$34<>"",ROW('Sub3'!$Y$5:$Y$34)),ROWS($AQ$7:$AQ9))),"")} | BD9: {=IFERROR(INDEX('Sub3'!Q:Q,SMALL(IF('Sub3'!$Y$5:$Y$34<>"",ROW('Sub3'!$Y$5:$Y$34)),ROWS($AQ$7:$AQ9))),"")} | BF9: {=IFERROR(INDEX('Sub4'!A:A,SMALL(IF('Sub4'!$W$5:$W$34<>"",ROW('Sub4'!$W$5:$W$34)),ROWS($BH$7:$BH9))),"")} -> Nom11 | BG9: {=IFERROR(INDEX('Sub4'!B:B,SMALL(IF('Sub4'!$W$5:$W$34<>"",ROW('Sub4'!$W$5:$W$34)),ROWS($BH$7:$BH9))),"")} -> Prénom11 | BH9: {=IFERROR(INDEX('Sub4'!C:C,SMALL(IF('Sub4'!$W$5:$W$34<>"",ROW('Sub4'!$W$5:$W$34)),ROWS($BH$7:$BH9))),"")} -> 0000011 | BI9: {=IFERROR(INDEX('Sub4'!W:W,SMALL(IF('Sub4'!$W$5:$W$34<>"",ROW('Sub4'!$W$5:$W$34)),ROWS($BH$7:$BH9))),"")} -> 20.1 | BJ9: {=IFERROR(INDEX('Sub4'!F:F,SMALL(IF('Sub4'!$W$5:$W$34<>"",ROW('Sub4'!$W$5:$W$34)),ROWS($BH$7:$BH9))),"")} -> 0 | BK9: {=IFERROR(INDEX('Sub4'!G:G,SMALL(IF('Sub4'!$W$5:$W$34<>"",ROW('Sub4'!$W$5:$W$34)),ROWS($BH$7:$BH9))),"")} -> 0 | BL9: {=IFERROR(INDEX('Sub4'!H:H,SMALL(IF('Sub4'!$W$5:$W$34<>"",ROW('Sub4'!$W$5:$W$34)),ROWS($BH$7:$BH9))),"")} -> 0 | BM9: {=IFERROR(INDEX('Sub4'!I:I,SMALL(IF('Sub4'!$W$5:$W$34<>"",ROW('Sub4'!$W$5:$W$34)),ROWS($BH$7:$BH9))),"")} -> 0 | BN9: {=IFERROR(INDEX('Sub4'!J:J,SMALL(IF('Sub4'!$W$5:$W$34<>"",ROW('Sub4'!$W$5:$W$34)),ROWS($BH$7:$BH9))),"")} -> 120 | BO9: {=IFERROR(INDEX('Sub4'!K:K,SMALL(IF('Sub4'!$W$5:$W$34<>"",ROW('Sub4'!$W$5:$W$34)),ROWS($BH$7:$BH9))),"")} -> 0 | BP9: {=IFERROR(INDEX('Sub4'!L:L,SMALL(IF('Sub4'!$W$5:$W$34<>"",ROW('Sub4'!$W$5:$W$34)),ROWS($BH$7:$BH9))),"")} -> 0 | BQ9: {=IFERROR(INDEX('Sub4'!M:M,SMALL(IF('Sub4'!$W$5:$W$34<>"",ROW('Sub4'!$W$5:$W$34)),ROWS($BH$7:$BH9))),"")} -> 0 | BR9: {=IFERROR(INDEX('Sub4'!N:N,SMALL(IF('Sub4'!$W$5:$W$34<>"",ROW('Sub4'!$W$5:$W$34)),ROWS($BH$7:$BH9))),"")} -> 0 | BS9: {=IFERROR(INDEX('Sub4'!O:O,SMALL(IF('Sub4'!$W$5:$W$34<>"",ROW('Sub4'!$W$5:$W$34)),ROWS($BH$7:$BH9))),"")} -> 0 | BT9: {=IFERROR(INDEX('Sub4'!P:P,SMALL(IF('Sub4'!$W$5:$W$34<>"",ROW('Sub4'!$W$5:$W$34)),ROWS($BH$7:$BH9))),"")} -> 0 | BU9: {=IFERROR(INDEX('Sub4'!Q:Q,SMALL(IF('Sub4'!$W$5:$W$34<>"",ROW('Sub4'!$W$5:$W$34)),ROWS($BH$7:$BH9))),"")} -> 0 | BW9: {=IFERROR(INDEX('Sub5'!A:A,SMALL(IF('Sub5'!$Y$5:$Y$34<>"",ROW('Sub5'!$Y$5:$Y$34)),ROWS($BY$7:$BY9))),"")} | BX9: {=IFERROR(INDEX('Sub5'!B:B,SMALL(IF('Sub5'!$Y$5:$Y$34<>"",ROW('Sub5'!$Y$5:$Y$34)),ROWS($BY$7:$BY9))),"")} | BY9: {=IFERROR(INDEX('Sub5'!C:C,SMALL(IF('Sub5'!$Y$5:$Y$34<>"",ROW('Sub5'!$Y$5:$Y$34)),ROWS($BY$7:$BY9))),"")} | BZ9: {=IFERROR(INDEX('Sub5'!Y:Y,SMALL(IF('Sub5'!$Y$5:$Y$34<>"",ROW('Sub5'!$Y$5:$Y$34)),ROWS($BY$7:$BY9))),"")} | CA9: {=IFERROR(INDEX('Sub5'!F:F,SMALL(IF('Sub5'!$Y$5:$Y$34<>"",ROW('Sub5'!$Y$5:$Y$34)),ROWS($BY$7:$BY9))),"")} | CB9: {=IFERROR(INDEX('Sub5'!G:G,SMALL(IF('Sub5'!$Y$5:$Y$34<>"",ROW('Sub5'!$Y$5:$Y$34)),ROWS($BY$7:$BY9))),"")} | CC9: {=IFERROR(INDEX('Sub5'!H:H,SMALL(IF('Sub5'!$Y$5:$Y$34<>"",ROW('Sub5'!$Y$5:$Y$34)),ROWS($BY$7:$BY9))),"")} | CD9: {=IFERROR(INDEX('Sub5'!I:I,SMALL(IF('Sub5'!$Y$5:$Y$34<>"",ROW('Sub5'!$Y$5:$Y$34)),ROWS($BY$7:$BY9))),"")} | CE9: {=IFERROR(INDEX('Sub5'!J:J,SMALL(IF('Sub5'!$Y$5:$Y$34<>"",ROW('Sub5'!$Y$5:$Y$34)),ROWS($BY$7:$BY9))),"")} | CF9: {=IFERROR(INDEX('Sub5'!K:K,SMALL(IF('Sub5'!$Y$5:$Y$34<>"",ROW('Sub5'!$Y$5:$Y$34)),ROWS($BY$7:$BY9))),"")} | CG9: {=IFERROR(INDEX('Sub5'!L:L,SMALL(IF('Sub5'!$Y$5:$Y$34<>"",ROW('Sub5'!$Y$5:$Y$34)),ROWS($BY$7:$BY9))),"")} | CH9: {=IFERROR(INDEX('Sub5'!M:M,SMALL(IF('Sub5'!$Y$5:$Y$34<>"",ROW('Sub5'!$Y$5:$Y$34)),ROWS($BY$7:$BY9))),"")} | CI9: {=IFERROR(INDEX('Sub5'!N:N,SMALL(IF('Sub5'!$Y$5:$Y$34<>"",ROW('Sub5'!$Y$5:$Y$34)),ROWS($BY$7:$BY9))),"")} | CJ9: {=IFERROR(INDEX('Sub5'!O:O,SMALL(IF('Sub5'!$Y$5:$Y$34<>"",ROW('Sub5'!$Y$5:$Y$34)),ROWS($BY$7:$BY9))),"")} | CK9: {=IFERROR(INDEX('Sub5'!P:P,SMALL(IF('Sub5'!$Y$5:$Y$34<>"",ROW('Sub5'!$Y$5:$Y$34)),ROWS($BY$7:$BY9))),"")} | CL9: {=IFERROR(INDEX('Sub5'!Q:Q,SMALL(IF('Sub5'!$Y$5:$Y$34<>"",ROW('Sub5'!$Y$5:$Y$34)),ROWS($BY$7:$BY9))),"")}
A10: Nom7 | G10: {=IFERROR(INDEX('Sub1'!A:A,SMALL(IF('Sub1'!$AC$5:$AC$34<>"",ROW('Sub1'!$AC$5:$AC$34)),ROWS(G$7:G10))),"")} | H10: {=IFERROR(INDEX('Sub1'!B:B,SMALL(IF('Sub1'!$AC$5:$AC$34<>"",ROW('Sub1'!$AC$5:$AC$34)),ROWS(H$7:H10))),"")} | I10: {=IFERROR(INDEX('Sub1'!C:C,SMALL(IF('Sub1'!$AC$5:$AC$34<>"",ROW('Sub1'!$AC$5:$AC$34)),ROWS(I$7:I10))),"")} | J10: {=IFERROR(INDEX('Sub1'!AC:AC,SMALL(IF('Sub1'!$AC$5:$AC$34<>"",ROW('Sub1'!$AC$5:$AC$34)),ROWS(J$7:J10))),"")} | K10: {=IFERROR(INDEX('Sub1'!G:G,SMALL(IF('Sub1'!$AC$5:$AC$34<>"",ROW('Sub1'!$AC$5:$AC$34)),ROWS(I$7:I10))),"")} | L10: {=IFERROR(INDEX('Sub1'!H:H,SMALL(IF('Sub1'!$AC$5:$AC$34<>"",ROW('Sub1'!$AC$5:$AC$34)),ROWS(I$7:I10))),"")} | M10: {=IFERROR(INDEX('Sub1'!I:I,SMALL(IF('Sub1'!$AC$5:$AC$34<>"",ROW('Sub1'!$AC$5:$AC$34)),ROWS(I$7:I10))),"")} | N10: {=IFERROR(INDEX('Sub1'!J:J,SMALL(IF('Sub1'!$AC$5:$AC$34<>"",ROW('Sub1'!$AC$5:$AC$34)),ROWS(I$7:I10))),"")} | O10: {=IFERROR(INDEX('Sub1'!K:K,SMALL(IF('Sub1'!$AC$5:$AC$34<>"",ROW('Sub1'!$AC$5:$AC$34)),ROWS(I$7:I10))),"")} | P10: {=IFERROR(INDEX('Sub1'!L:L,SMALL(IF('Sub1'!$AC$5:$AC$34<>"",ROW('Sub1'!$AC$5:$AC$34)),ROWS(I$7:I10))),"")} | Q10: {=IFERROR(INDEX('Sub1'!M:M,SMALL(IF('Sub1'!$AC$5:$AC$34<>"",ROW('Sub1'!$AC$5:$AC$34)),ROWS(I$7:I10))),"")} | R10: {=IFERROR(INDEX('Sub1'!N:N,SMALL(IF('Sub1'!$AC$5:$AC$34<>"",ROW('Sub1'!$AC$5:$AC$34)),ROWS(I$7:I10))),"")} | S10: {=IFERROR(INDEX('Sub1'!O:O,SMALL(IF('Sub1'!$AC$5:$AC$34<>"",ROW('Sub1'!$AC$5:$AC$34)),ROWS(I$7:I10))),"")} | T10: {=IFERROR(INDEX('Sub1'!P:P,SMALL(IF('Sub1'!$AC$5:$AC$34<>"",ROW('Sub1'!$AC$5:$AC$34)),ROWS(I$7:I10))),"")} | U10: {=IFERROR(INDEX('Sub1'!Q:Q,SMALL(IF('Sub1'!$AC$5:$AC$34<>"",ROW('Sub1'!$AC$5:$AC$34)),ROWS(I$7:I10))),"")} | V10: {=IFERROR(INDEX('Sub1'!R:R,SMALL(IF('Sub1'!$AC$5:$AC$34<>"",ROW('Sub1'!$AC$5:$AC$34)),ROWS(I$7:I10))),"")} | X10: {=IFERROR(INDEX('Sub2'!A:A,SMALL(IF('Sub2'!$Y$5:$Y$34<>"",ROW('Sub2'!$Y$5:$Y$34)),ROWS(Z$7:Z10))),"")} | Y10: {=IFERROR(INDEX('Sub2'!B:B,SMALL(IF('Sub2'!$Y$5:$Y$34<>"",ROW('Sub2'!$Y$5:$Y$34)),ROWS(Z$7:Z10))),"")} | Z10: {=IFERROR(INDEX('Sub2'!C:C,SMALL(IF('Sub2'!$Y$5:$Y$34<>"",ROW('Sub2'!$Y$5:$Y$34)),ROWS(Z$7:Z10))),"")} | AA10: {=IFERROR(INDEX('Sub2'!Y:Y,SMALL(IF('Sub2'!$Y$5:$Y$34<>"",ROW('Sub2'!$Y$5:$Y$34)),ROWS(Z$7:Z10))),"")} | AB10: {=IFERROR(INDEX('Sub2'!F:F,SMALL(IF('Sub2'!$Y$5:$Y$34<>"",ROW('Sub2'!$Y$5:$Y$34)),ROWS(Z$7:Z10))),"")} | AC10: {=IFERROR(INDEX('Sub2'!G:G,SMALL(IF('Sub2'!$Y$5:$Y$34<>"",ROW('Sub2'!$Y$5:$Y$34)),ROWS(Z$7:Z10))),"")} | AD10: {=IFERROR(INDEX('Sub2'!H:H,SMALL(IF('Sub2'!$Y$5:$Y$34<>"",ROW('Sub2'!$Y$5:$Y$34)),ROWS(Z$7:Z10))),"")} | AE10: {=IFERROR(INDEX('Sub2'!I:I,SMALL(IF('Sub2'!$Y$5:$Y$34<>"",ROW('Sub2'!$Y$5:$Y$34)),ROWS(Z$7:Z10))),"")} | AF10: {=IFERROR(INDEX('Sub2'!J:J,SMALL(IF('Sub2'!$Y$5:$Y$34<>"",ROW('Sub2'!$Y$5:$Y$34)),ROWS(Z$7:Z10))),"")} | AG10: {=IFERROR(INDEX('Sub2'!K:K,SMALL(IF('Sub2'!$Y$5:$Y$34<>"",ROW('Sub2'!$Y$5:$Y$34)),ROWS(Z$7:Z10))),"")} | AH10: {=IFERROR(INDEX('Sub2'!L:L,SMALL(IF('Sub2'!$Y$5:$Y$34<>"",ROW('Sub2'!$Y$5:$Y$34)),ROWS(Z$7:Z10))),"")} | AI10: {=IFERROR(INDEX('Sub2'!M:M,SMALL(IF('Sub2'!$Y$5:$Y$34<>"",ROW('Sub2'!$Y$5:$Y$34)),ROWS(Z$7:Z10))),"")} | AJ10: {=IFERROR(INDEX('Sub2'!N:N,SMALL(IF('Sub2'!$Y$5:$Y$34<>"",ROW('Sub2'!$Y$5:$Y$34)),ROWS(Z$7:Z10))),"")} | AK10: {=IFERROR(INDEX('Sub2'!O:O,SMALL(IF('Sub2'!$Y$5:$Y$34<>"",ROW('Sub2'!$Y$5:$Y$34)),ROWS(Z$7:Z10))),"")} | AL10: {=IFERROR(INDEX('Sub2'!P:P,SMALL(IF('Sub2'!$Y$5:$Y$34<>"",ROW('Sub2'!$Y$5:$Y$34)),ROWS(Z$7:Z10))),"")} | AM10: {=IFERROR(INDEX('Sub2'!Q:Q,SMALL(IF('Sub2'!$Y$5:$Y$34<>"",ROW('Sub2'!$Y$5:$Y$34)),ROWS(Z$7:Z10))),"")} | AO10: {=IFERROR(INDEX('Sub3'!A:A,SMALL(IF('Sub3'!$Y$5:$Y$34<>"",ROW('Sub3'!$Y$5:$Y$34)),ROWS($AQ$7:$AQ10))),"")} | AP10: {=IFERROR(INDEX('Sub3'!B:B,SMALL(IF('Sub3'!$Y$5:$Y$34<>"",ROW('Sub3'!$Y$5:$Y$34)),ROWS($AQ$7:$AQ10))),"")} | AQ10: {=IFERROR(INDEX('Sub3'!C:C,SMALL(IF('Sub3'!$Y$5:$Y$34<>"",ROW('Sub3'!$Y$5:$Y$34)),ROWS($AQ$7:$AQ10))),"")} | AR10: {=IFERROR(INDEX('Sub3'!Y:Y,SMALL(IF('Sub3'!$Y$5:$Y$34<>"",ROW('Sub3'!$Y$5:$Y$34)),ROWS($AQ$7:$AQ10))),"")} | AS10: {=IFERROR(INDEX('Sub3'!F:F,SMALL(IF('Sub3'!$Y$5:$Y$34<>"",ROW('Sub3'!$Y$5:$Y$34)),ROWS($AQ$7:$AQ10))),"")} | AT10: {=IFERROR(INDEX('Sub3'!G:G,SMALL(IF('Sub3'!$Y$5:$Y$34<>"",ROW('Sub3'!$Y$5:$Y$34)),ROWS($AQ$7:$AQ10))),"")} | AU10: {=IFERROR(INDEX('Sub3'!H:H,SMALL(IF('Sub3'!$Y$5:$Y$34<>"",ROW('Sub3'!$Y$5:$Y$34)),ROWS($AQ$7:$AQ10))),"")} | AV10: {=IFERROR(INDEX('Sub3'!I:I,SMALL(IF('Sub3'!$Y$5:$Y$34<>"",ROW('Sub3'!$Y$5:$Y$34)),ROWS($AQ$7:$AQ10))),"")} | AW10: {=IFERROR(INDEX('Sub3'!J:J,SMALL(IF('Sub3'!$Y$5:$Y$34<>"",ROW('Sub3'!$Y$5:$Y$34)),ROWS($AQ$7:$AQ10))),"")} | AX10: {=IFERROR(INDEX('Sub3'!K:K,SMALL(IF('Sub3'!$Y$5:$Y$34<>"",ROW('Sub3'!$Y$5:$Y$34)),ROWS($AQ$7:$AQ10))),"")} | AY10: {=IFERROR(INDEX('Sub3'!L:L,SMALL(IF('Sub3'!$Y$5:$Y$34<>"",ROW('Sub3'!$Y$5:$Y$34)),ROWS($AQ$7:$AQ10))),"")} | AZ10: {=IFERROR(INDEX('Sub3'!M:M,SMALL(IF('Sub3'!$Y$5:$Y$34<>"",ROW('Sub3'!$Y$5:$Y$34)),ROWS($AQ$7:$AQ10))),"")} | BA10: {=IFERROR(INDEX('Sub3'!N:N,SMALL(IF('Sub3'!$Y$5:$Y$34<>"",ROW('Sub3'!$Y$5:$Y$34)),ROWS($AQ$7:$AQ10))),"")} | BB10: {=IFERROR(INDEX('Sub3'!O:O,SMALL(IF('Sub3'!$Y$5:$Y$34<>"",ROW('Sub3'!$Y$5:$Y$34)),ROWS($AQ$7:$AQ10))),"")} | BC10: {=IFERROR(INDEX('Sub3'!P:P,SMALL(IF('Sub3'!$Y$5:$Y$34<>"",ROW('Sub3'!$Y$5:$Y$34)),ROWS($AQ$7:$AQ10))),"")} | BD10: {=IFERROR(INDEX('Sub3'!Q:Q,SMALL(IF('Sub3'!$Y$5:$Y$34<>"",ROW('Sub3'!$Y$5:$Y$34)),ROWS($AQ$7:$AQ10))),"")} | BF10: {=IFERROR(INDEX('Sub4'!A:A,SMALL(IF('Sub4'!$W$5:$W$34<>"",ROW('Sub4'!$W$5:$W$34)),ROWS($BH$7:$BH10))),"")} | BG10: {=IFERROR(INDEX('Sub4'!B:B,SMALL(IF('Sub4'!$W$5:$W$34<>"",ROW('Sub4'!$W$5:$W$34)),ROWS($BH$7:$BH10))),"")} | BH10: {=IFERROR(INDEX('Sub4'!C:C,SMALL(IF('Sub4'!$W$5:$W$34<>"",ROW('Sub4'!$W$5:$W$34)),ROWS($BH$7:$BH10))),"")} | BI10: {=IFERROR(INDEX('Sub4'!W:W,SMALL(IF('Sub4'!$W$5:$W$34<>"",ROW('Sub4'!$W$5:$W$34)),ROWS($BH$7:$BH10))),"")} | BJ10: {=IFERROR(INDEX('Sub4'!F:F,SMALL(IF('Sub4'!$W$5:$W$34<>"",ROW('Sub4'!$W$5:$W$34)),ROWS($BH$7:$BH10))),"")} | BK10: {=IFERROR(INDEX('Sub4'!G:G,SMALL(IF('Sub4'!$W$5:$W$34<>"",ROW('Sub4'!$W$5:$W$34)),ROWS($BH$7:$BH10))),"")} | BL10: {=IFERROR(INDEX('Sub4'!H:H,SMALL(IF('Sub4'!$W$5:$W$34<>"",ROW('Sub4'!$W$5:$W$34)),ROWS($BH$7:$BH10))),"")} | BM10: {=IFERROR(INDEX('Sub4'!I:I,SMALL(IF('Sub4'!$W$5:$W$34<>"",ROW('Sub4'!$W$5:$W$34)),ROWS($BH$7:$BH10))),"")} | BN10: {=IFERROR(INDEX('Sub4'!J:J,SMALL(IF('Sub4'!$W$5:$W$34<>"",ROW('Sub4'!$W$5:$W$34)),ROWS($BH$7:$BH10))),"")} | BO10: {=IFERROR(INDEX('Sub4'!K:K,SMALL(IF('Sub4'!$W$5:$W$34<>"",ROW('Sub4'!$W$5:$W$34)),ROWS($BH$7:$BH10))),"")} | BP10: {=IFERROR(INDEX('Sub4'!L:L,SMALL(IF('Sub4'!$W$5:$W$34<>"",ROW('Sub4'!$W$5:$W$34)),ROWS($BH$7:$BH10))),"")} | BQ10: {=IFERROR(INDEX('Sub4'!M:M,SMALL(IF('Sub4'!$W$5:$W$34<>"",ROW('Sub4'!$W$5:$W$34)),ROWS($BH$7:$BH10))),"")} | BR10: {=IFERROR(INDEX('Sub4'!N:N,SMALL(IF('Sub4'!$W$5:$W$34<>"",ROW('Sub4'!$W$5:$W$34)),ROWS($BH$7:$BH10))),"")} | BS10: {=IFERROR(INDEX('Sub4'!O:O,SMALL(IF('Sub4'!$W$5:$W$34<>"",ROW('Sub4'!$W$5:$W$34)),ROWS($BH$7:$BH10))),"")} | BT10: {=IFERROR(INDEX('Sub4'!P:P,SMALL(IF('Sub4'!$W$5:$W$34<>"",ROW('Sub4'!$W$5:$W$34)),ROWS($BH$7:$BH10))),"")} | BU10: {=IFERROR(INDEX('Sub4'!Q:Q,SMALL(IF('Sub4'!$W$5:$W$34<>"",ROW('Sub4'!$W$5:$W$34)),ROWS($BH$7:$BH10))),"")} | BW10: {=IFERROR(INDEX('Sub5'!A:A,SMALL(IF('Sub5'!$Y$5:$Y$34<>"",ROW('Sub5'!$Y$5:$Y$34)),ROWS($BY$7:$BY10))),"")} | BX10: {=IFERROR(INDEX('Sub5'!B:B,SMALL(IF('Sub5'!$Y$5:$Y$34<>"",ROW('Sub5'!$Y$5:$Y$34)),ROWS($BY$7:$BY10))),"")} | BY10: {=IFERROR(INDEX('Sub5'!C:C,SMALL(IF('Sub5'!$Y$5:$Y$34<>"",ROW('Sub5'!$Y$5:$Y$34)),ROWS($BY$7:$BY10))),"")} | BZ10: {=IFERROR(INDEX('Sub5'!Y:Y,SMALL(IF('Sub5'!$Y$5:$Y$34<>"",ROW('Sub5'!$Y$5:$Y$34)),ROWS($BY$7:$BY10))),"")} | CA10: {=IFERROR(INDEX('Sub5'!F:F,SMALL(IF('Sub5'!$Y$5:$Y$34<>"",ROW('Sub5'!$Y$5:$Y$34)),ROWS($BY$7:$BY10))),"")} | CB10: {=IFERROR(INDEX('Sub5'!G:G,SMALL(IF('Sub5'!$Y$5:$Y$34<>"",ROW('Sub5'!$Y$5:$Y$34)),ROWS($BY$7:$BY10))),"")} | CC10: {=IFERROR(INDEX('Sub5'!H:H,SMALL(IF('Sub5'!$Y$5:$Y$34<>"",ROW('Sub5'!$Y$5:$Y$34)),ROWS($BY$7:$BY10))),"")} | CD10: {=IFERROR(INDEX('Sub5'!I:I,SMALL(IF('Sub5'!$Y$5:$Y$34<>"",ROW('Sub5'!$Y$5:$Y$34)),ROWS($BY$7:$BY10))),"")} | CE10: {=IFERROR(INDEX('Sub5'!J:J,SMALL(IF('Sub5'!$Y$5:$Y$34<>"",ROW('Sub5'!$Y$5:$Y$34)),ROWS($BY$7:$BY10))),"")} | CF10: {=IFERROR(INDEX('Sub5'!K:K,SMALL(IF('Sub5'!$Y$5:$Y$34<>"",ROW('Sub5'!$Y$5:$Y$34)),ROWS($BY$7:$BY10))),"")} | CG10: {=IFERROR(INDEX('Sub5'!L:L,SMALL(IF('Sub5'!$Y$5:$Y$34<>"",ROW('Sub5'!$Y$5:$Y$34)),ROWS($BY$7:$BY10))),"")} | CH10: {=IFERROR(INDEX('Sub5'!M:M,SMALL(IF('Sub5'!$Y$5:$Y$34<>"",ROW('Sub5'!$Y$5:$Y$34)),ROWS($BY$7:$BY10))),"")} | CI10: {=IFERROR(INDEX('Sub5'!N:N,SMALL(IF('Sub5'!$Y$5:$Y$34<>"",ROW('Sub5'!$Y$5:$Y$34)),ROWS($BY$7:$BY10))),"")} | CJ10: {=IFERROR(INDEX('Sub5'!O:O,SMALL(IF('Sub5'!$Y$5:$Y$34<>"",ROW('Sub5'!$Y$5:$Y$34)),ROWS($BY$7:$BY10))),"")} | CK10: {=IFERROR(INDEX('Sub5'!P:P,SMALL(IF('Sub5'!$Y$5:$Y$34<>"",ROW('Sub5'!$Y$5:$Y$34)),ROWS($BY$7:$BY10))),"")} | CL10: {=IFERROR(INDEX('Sub5'!Q:Q,SMALL(IF('Sub5'!$Y$5:$Y$34<>"",ROW('Sub5'!$Y$5:$Y$34)),ROWS($BY$7:$BY10))),"")}
A11: Nom8 | G11: {=IFERROR(INDEX('Sub1'!A:A,SMALL(IF('Sub1'!$AC$5:$AC$34<>"",ROW('Sub1'!$AC$5:$AC$34)),ROWS(G$7:G11))),"")} | H11: {=IFERROR(INDEX('Sub1'!B:B,SMALL(IF('Sub1'!$AC$5:$AC$34<>"",ROW('Sub1'!$AC$5:$AC$34)),ROWS(H$7:H11))),"")} | I11: {=IFERROR(INDEX('Sub1'!C:C,SMALL(IF('Sub1'!$AC$5:$AC$34<>"",ROW('Sub1'!$AC$5:$AC$34)),ROWS(I$7:I11))),"")} | J11: {=IFERROR(INDEX('Sub1'!AC:AC,SMALL(IF('Sub1'!$AC$5:$AC$34<>"",ROW('Sub1'!$AC$5:$AC$34)),ROWS(J$7:J11))),"")} | K11: {=IFERROR(INDEX('Sub1'!G:G,SMALL(IF('Sub1'!$AC$5:$AC$34<>"",ROW('Sub1'!$AC$5:$AC$34)),ROWS(I$7:I11))),"")} | L11: {=IFERROR(INDEX('Sub1'!H:H,SMALL(IF('Sub1'!$AC$5:$AC$34<>"",ROW('Sub1'!$AC$5:$AC$34)),ROWS(I$7:I11))),"")} | M11: {=IFERROR(INDEX('Sub1'!I:I,SMALL(IF('Sub1'!$AC$5:$AC$34<>"",ROW('Sub1'!$AC$5:$AC$34)),ROWS(I$7:I11))),"")} | N11: {=IFERROR(INDEX('Sub1'!J:J,SMALL(IF('Sub1'!$AC$5:$AC$34<>"",ROW('Sub1'!$AC$5:$AC$34)),ROWS(I$7:I11))),"")} | O11: {=IFERROR(INDEX('Sub1'!K:K,SMALL(IF('Sub1'!$AC$5:$AC$34<>"",ROW('Sub1'!$AC$5:$AC$34)),ROWS(I$7:I11))),"")} | P11: {=IFERROR(INDEX('Sub1'!L:L,SMALL(IF('Sub1'!$AC$5:$AC$34<>"",ROW('Sub1'!$AC$5:$AC$34)),ROWS(I$7:I11))),"")} | Q11: {=IFERROR(INDEX('Sub1'!M:M,SMALL(IF('Sub1'!$AC$5:$AC$34<>"",ROW('Sub1'!$AC$5:$AC$34)),ROWS(I$7:I11))),"")} | R11: {=IFERROR(INDEX('Sub1'!N:N,SMALL(IF('Sub1'!$AC$5:$AC$34<>"",ROW('Sub1'!$AC$5:$AC$34)),ROWS(I$7:I11))),"")} | S11: {=IFERROR(INDEX('Sub1'!O:O,SMALL(IF('Sub1'!$AC$5:$AC$34<>"",ROW('Sub1'!$AC$5:$AC$34)),ROWS(I$7:I11))),"")} | T11: {=IFERROR(INDEX('Sub1'!P:P,SMALL(IF('Sub1'!$AC$5:$AC$34<>"",ROW('Sub1'!$AC$5:$AC$34)),ROWS(I$7:I11))),"")} | U11: {=IFERROR(INDEX('Sub1'!Q:Q,SMALL(IF('Sub1'!$AC$5:$AC$34<>"",ROW('Sub1'!$AC$5:$AC$34)),ROWS(I$7:I11))),"")} | V11: {=IFERROR(INDEX('Sub1'!R:R,SMALL(IF('Sub1'!$AC$5:$AC$34<>"",ROW('Sub1'!$AC$5:$AC$34)),ROWS(I$7:I11))),"")} | X11: {=IFERROR(INDEX('Sub2'!A:A,SMALL(IF('Sub2'!$Y$5:$Y$34<>"",ROW('Sub2'!$Y$5:$Y$34)),ROWS(Z$7:Z11))),"")} | Y11: {=IFERROR(INDEX('Sub2'!B:B,SMALL(IF('Sub2'!$Y$5:$Y$34<>"",ROW('Sub2'!$Y$5:$Y$34)),ROWS(Z$7:Z11))),"")} | Z11: {=IFERROR(INDEX('Sub2'!C:C,SMALL(IF('Sub2'!$Y$5:$Y$34<>"",ROW('Sub2'!$Y$5:$Y$34)),ROWS(Z$7:Z11))),"")} | AA11: {=IFERROR(INDEX('Sub2'!Y:Y,SMALL(IF('Sub2'!$Y$5:$Y$34<>"",ROW('Sub2'!$Y$5:$Y$34)),ROWS(Z$7:Z11))),"")} | AB11: {=IFERROR(INDEX('Sub2'!F:F,SMALL(IF('Sub2'!$Y$5:$Y$34<>"",ROW('Sub2'!$Y$5:$Y$34)),ROWS(Z$7:Z11))),"")} | AC11: {=IFERROR(INDEX('Sub2'!G:G,SMALL(IF('Sub2'!$Y$5:$Y$34<>"",ROW('Sub2'!$Y$5:$Y$34)),ROWS(Z$7:Z11))),"")} | AD11: {=IFERROR(INDEX('Sub2'!H:H,SMALL(IF('Sub2'!$Y$5:$Y$34<>"",ROW('Sub2'!$Y$5:$Y$34)),ROWS(Z$7:Z11))),"")} | AE11: {=IFERROR(INDEX('Sub2'!I:I,SMALL(IF('Sub2'!$Y$5:$Y$34<>"",ROW('Sub2'!$Y$5:$Y$34)),ROWS(Z$7:Z11))),"")} | AF11: {=IFERROR(INDEX('Sub2'!J:J,SMALL(IF('Sub2'!$Y$5:$Y$34<>"",ROW('Sub2'!$Y$5:$Y$34)),ROWS(Z$7:Z11))),"")} | AG11: {=IFERROR(INDEX('Sub2'!K:K,SMALL(IF('Sub2'!$Y$5:$Y$34<>"",ROW('Sub2'!$Y$5:$Y$34)),ROWS(Z$7:Z11))),"")} | AH11: {=IFERROR(INDEX('Sub2'!L:L,SMALL(IF('Sub2'!$Y$5:$Y$34<>"",ROW('Sub2'!$Y$5:$Y$34)),ROWS(Z$7:Z11))),"")} | AI11: {=IFERROR(INDEX('Sub2'!M:M,SMALL(IF('Sub2'!$Y$5:$Y$34<>"",ROW('Sub2'!$Y$5:$Y$34)),ROWS(Z$7:Z11))),"")} | AJ11: {=IFERROR(INDEX('Sub2'!N:N,SMALL(IF('Sub2'!$Y$5:$Y$34<>"",ROW('Sub2'!$Y$5:$Y$34)),ROWS(Z$7:Z11))),"")} | AK11: {=IFERROR(INDEX('Sub2'!O:O,SMALL(IF('Sub2'!$Y$5:$Y$34<>"",ROW('Sub2'!$Y$5:$Y$34)),ROWS(Z$7:Z11))),"")} | AL11: {=IFERROR(INDEX('Sub2'!P:P,SMALL(IF('Sub2'!$Y$5:$Y$34<>"",ROW('Sub2'!$Y$5:$Y$34)),ROWS(Z$7:Z11))),"")} | AM11: {=IFERROR(INDEX('Sub2'!Q:Q,SMALL(IF('Sub2'!$Y$5:$Y$34<>"",ROW('Sub2'!$Y$5:$Y$34)),ROWS(Z$7:Z11))),"")} | AO11: {=IFERROR(INDEX('Sub3'!A:A,SMALL(IF('Sub3'!$Y$5:$Y$34<>"",ROW('Sub3'!$Y$5:$Y$34)),ROWS($AQ$7:$AQ11))),"")} | AP11: {=IFERROR(INDEX('Sub3'!B:B,SMALL(IF('Sub3'!$Y$5:$Y$34<>"",ROW('Sub3'!$Y$5:$Y$34)),ROWS($AQ$7:$AQ11))),"")} | AQ11: {=IFERROR(INDEX('Sub3'!C:C,SMALL(IF('Sub3'!$Y$5:$Y$34<>"",ROW('Sub3'!$Y$5:$Y$34)),ROWS($AQ$7:$AQ11))),"")} | AR11: {=IFERROR(INDEX('Sub3'!Y:Y,SMALL(IF('Sub3'!$Y$5:$Y$34<>"",ROW('Sub3'!$Y$5:$Y$34)),ROWS($AQ$7:$AQ11))),"")} | AS11: {=IFERROR(INDEX('Sub3'!F:F,SMALL(IF('Sub3'!$Y$5:$Y$34<>"",ROW('Sub3'!$Y$5:$Y$34)),ROWS($AQ$7:$AQ11))),"")} | AT11: {=IFERROR(INDEX('Sub3'!G:G,SMALL(IF('Sub3'!$Y$5:$Y$34<>"",ROW('Sub3'!$Y$5:$Y$34)),ROWS($AQ$7:$AQ11))),"")} | AU11: {=IFERROR(INDEX('Sub3'!H:H,SMALL(IF('Sub3'!$Y$5:$Y$34<>"",ROW('Sub3'!$Y$5:$Y$34)),ROWS($AQ$7:$AQ11))),"")} | AV11: {=IFERROR(INDEX('Sub3'!I:I,SMALL(IF('Sub3'!$Y$5:$Y$34<>"",ROW('Sub3'!$Y$5:$Y$34)),ROWS($AQ$7:$AQ11))),"")} | AW11: {=IFERROR(INDEX('Sub3'!J:J,SMALL(IF('Sub3'!$Y$5:$Y$34<>"",ROW('Sub3'!$Y$5:$Y$34)),ROWS($AQ$7:$AQ11))),"")} | AX11: {=IFERROR(INDEX('Sub3'!K:K,SMALL(IF('Sub3'!$Y$5:$Y$34<>"",ROW('Sub3'!$Y$5:$Y$34)),ROWS($AQ$7:$AQ11))),"")} | AY11: {=IFERROR(INDEX('Sub3'!L:L,SMALL(IF('Sub3'!$Y$5:$Y$34<>"",ROW('Sub3'!$Y$5:$Y$34)),ROWS($AQ$7:$AQ11))),"")} | AZ11: {=IFERROR(INDEX('Sub3'!M:M,SMALL(IF('Sub3'!$Y$5:$Y$34<>"",ROW('Sub3'!$Y$5:$Y$34)),ROWS($AQ$7:$AQ11))),"")} | BA11: {=IFERROR(INDEX('Sub3'!N:N,SMALL(IF('Sub3'!$Y$5:$Y$34<>"",ROW('Sub3'!$Y$5:$Y$34)),ROWS($AQ$7:$AQ11))),"")} | BB11: {=IFERROR(INDEX('Sub3'!O:O,SMALL(IF('Sub3'!$Y$5:$Y$34<>"",ROW('Sub3'!$Y$5:$Y$34)),ROWS($AQ$7:$AQ11))),"")} | BC11: {=IFERROR(INDEX('Sub3'!P:P,SMALL(IF('Sub3'!$Y$5:$Y$34<>"",ROW('Sub3'!$Y$5:$Y$34)),ROWS($AQ$7:$AQ11))),"")} | BD11: {=IFERROR(INDEX('Sub3'!Q:Q,SMALL(IF('Sub3'!$Y$5:$Y$34<>"",ROW('Sub3'!$Y$5:$Y$34)),ROWS($AQ$7:$AQ11))),"")} | BF11: {=IFERROR(INDEX('Sub4'!A:A,SMALL(IF('Sub4'!$W$5:$W$34<>"",ROW('Sub4'!$W$5:$W$34)),ROWS($BH$7:$BH11))),"")} | BG11: {=IFERROR(INDEX('Sub4'!B:B,SMALL(IF('Sub4'!$W$5:$W$34<>"",ROW('Sub4'!$W$5:$W$34)),ROWS($BH$7:$BH11))),"")} | BH11: {=IFERROR(INDEX('Sub4'!C:C,SMALL(IF('Sub4'!$W$5:$W$34<>"",ROW('Sub4'!$W$5:$W$34)),ROWS($BH$7:$BH11))),"")} | BI11: {=IFERROR(INDEX('Sub4'!W:W,SMALL(IF('Sub4'!$W$5:$W$34<>"",ROW('Sub4'!$W$5:$W$34)),ROWS($BH$7:$BH11))),"")} | BJ11: {=IFERROR(INDEX('Sub4'!F:F,SMALL(IF('Sub4'!$W$5:$W$34<>"",ROW('Sub4'!$W$5:$W$34)),ROWS($BH$7:$BH11))),"")} | BK11: {=IFERROR(INDEX('Sub4'!G:G,SMALL(IF('Sub4'!$W$5:$W$34<>"",ROW('Sub4'!$W$5:$W$34)),ROWS($BH$7:$BH11))),"")} | BL11: {=IFERROR(INDEX('Sub4'!H:H,SMALL(IF('Sub4'!$W$5:$W$34<>"",ROW('Sub4'!$W$5:$W$34)),ROWS($BH$7:$BH11))),"")} | BM11: {=IFERROR(INDEX('Sub4'!I:I,SMALL(IF('Sub4'!$W$5:$W$34<>"",ROW('Sub4'!$W$5:$W$34)),ROWS($BH$7:$BH11))),"")} | BN11: {=IFERROR(INDEX('Sub4'!J:J,SMALL(IF('Sub4'!$W$5:$W$34<>"",ROW('Sub4'!$W$5:$W$34)),ROWS($BH$7:$BH11))),"")} | BO11: {=IFERROR(INDEX('Sub4'!K:K,SMALL(IF('Sub4'!$W$5:$W$34<>"",ROW('Sub4'!$W$5:$W$34)),ROWS($BH$7:$BH11))),"")} | BP11: {=IFERROR(INDEX('Sub4'!L:L,SMALL(IF('Sub4'!$W$5:$W$34<>"",ROW('Sub4'!$W$5:$W$34)),ROWS($BH$7:$BH11))),"")} | BQ11: {=IFERROR(INDEX('Sub4'!M:M,SMALL(IF('Sub4'!$W$5:$W$34<>"",ROW('Sub4'!$W$5:$W$34)),ROWS($BH$7:$BH11))),"")} | BR11: {=IFERROR(INDEX('Sub4'!N:N,SMALL(IF('Sub4'!$W$5:$W$34<>"",ROW('Sub4'!$W$5:$W$34)),ROWS($BH$7:$BH11))),"")} | BS11: {=IFERROR(INDEX('Sub4'!O:O,SMALL(IF('Sub4'!$W$5:$W$34<>"",ROW('Sub4'!$W$5:$W$34)),ROWS($BH$7:$BH11))),"")} | BT11: {=IFERROR(INDEX('Sub4'!P:P,SMALL(IF('Sub4'!$W$5:$W$34<>"",ROW('Sub4'!$W$5:$W$34)),ROWS($BH$7:$BH11))),"")} | BU11: {=IFERROR(INDEX('Sub4'!Q:Q,SMALL(IF('Sub4'!$W$5:$W$34<>"",ROW('Sub4'!$W$5:$W$34)),ROWS($BH$7:$BH11))),"")} | BW11: {=IFERROR(INDEX('Sub5'!A:A,SMALL(IF('Sub5'!$Y$5:$Y$34<>"",ROW('Sub5'!$Y$5:$Y$34)),ROWS($BY$7:$BY11))),"")} | BX11: {=IFERROR(INDEX('Sub5'!B:B,SMALL(IF('Sub5'!$Y$5:$Y$34<>"",ROW('Sub5'!$Y$5:$Y$34)),ROWS($BY$7:$BY11))),"")} | BY11: {=IFERROR(INDEX('Sub5'!C:C,SMALL(IF('Sub5'!$Y$5:$Y$34<>"",ROW('Sub5'!$Y$5:$Y$34)),ROWS($BY$7:$BY11))),"")} | BZ11: {=IFERROR(INDEX('Sub5'!Y:Y,SMALL(IF('Sub5'!$Y$5:$Y$34<>"",ROW('Sub5'!$Y$5:$Y$34)),ROWS($BY$7:$BY11))),"")} | CA11: {=IFERROR(INDEX('Sub5'!F:F,SMALL(IF('Sub5'!$Y$5:$Y$34<>"",ROW('Sub5'!$Y$5:$Y$34)),ROWS($BY$7:$BY11))),"")} | CB11: {=IFERROR(INDEX('Sub5'!G:G,SMALL(IF('Sub5'!$Y$5:$Y$34<>"",ROW('Sub5'!$Y$5:$Y$34)),ROWS($BY$7:$BY11))),"")} | CC11: {=IFERROR(INDEX('Sub5'!H:H,SMALL(IF('Sub5'!$Y$5:$Y$34<>"",ROW('Sub5'!$Y$5:$Y$34)),ROWS($BY$7:$BY11))),"")} | CD11: {=IFERROR(INDEX('Sub5'!I:I,SMALL(IF('Sub5'!$Y$5:$Y$34<>"",ROW('Sub5'!$Y$5:$Y$34)),ROWS($BY$7:$BY11))),"")} | CE11: {=IFERROR(INDEX('Sub5'!J:J,SMALL(IF('Sub5'!$Y$5:$Y$34<>"",ROW('Sub5'!$Y$5:$Y$34)),ROWS($BY$7:$BY11))),"")} | CF11: {=IFERROR(INDEX('Sub5'!K:K,SMALL(IF('Sub5'!$Y$5:$Y$34<>"",ROW('Sub5'!$Y$5:$Y$34)),ROWS($BY$7:$BY11))),"")} | CG11: {=IFERROR(INDEX('Sub5'!L:L,SMALL(IF('Sub5'!$Y$5:$Y$34<>"",ROW('Sub5'!$Y$5:$Y$34)),ROWS($BY$7:$BY11))),"")} | CH11: {=IFERROR(INDEX('Sub5'!M:M,SMALL(IF('Sub5'!$Y$5:$Y$34<>"",ROW('Sub5'!$Y$5:$Y$34)),ROWS($BY$7:$BY11))),"")} | CI11: {=IFERROR(INDEX('Sub5'!N:N,SMALL(IF('Sub5'!$Y$5:$Y$34<>"",ROW('Sub5'!$Y$5:$Y$34)),ROWS($BY$7:$BY11))),"")} | CJ11: {=IFERROR(INDEX('Sub5'!O:O,SMALL(IF('Sub5'!$Y$5:$Y$34<>"",ROW('Sub5'!$Y$5:$Y$34)),ROWS($BY$7:$BY11))),"")} | CK11: {=IFERROR(INDEX('Sub5'!P:P,SMALL(IF('Sub5'!$Y$5:$Y$34<>"",ROW('Sub5'!$Y$5:$Y$34)),ROWS($BY$7:$BY11))),"")} | CL11: {=IFERROR(INDEX('Sub5'!Q:Q,SMALL(IF('Sub5'!$Y$5:$Y$34<>"",ROW('Sub5'!$Y$5:$Y$34)),ROWS($BY$7:$BY11))),"")}
A12: Nom11 | G12: {=IFERROR(INDEX('Sub1'!A:A,SMALL(IF('Sub1'!$AC$5:$AC$34<>"",ROW('Sub1'!$AC$5:$AC$34)),ROWS(G$7:G12))),"")} | H12: {=IFERROR(INDEX('Sub1'!B:B,SMALL(IF('Sub1'!$AC$5:$AC$34<>"",ROW('Sub1'!$AC$5:$AC$34)),ROWS(H$7:H12))),"")} | I12: {=IFERROR(INDEX('Sub1'!C:C,SMALL(IF('Sub1'!$AC$5:$AC$34<>"",ROW('Sub1'!$AC$5:$AC$34)),ROWS(I$7:I12))),"")} | J12: {=IFERROR(INDEX('Sub1'!AC:AC,SMALL(IF('Sub1'!$AC$5:$AC$34<>"",ROW('Sub1'!$AC$5:$AC$34)),ROWS(J$7:J12))),"")} | K12: {=IFERROR(INDEX('Sub1'!G:G,SMALL(IF('Sub1'!$AC$5:$AC$34<>"",ROW('Sub1'!$AC$5:$AC$34)),ROWS(I$7:I12))),"")} | L12: {=IFERROR(INDEX('Sub1'!H:H,SMALL(IF('Sub1'!$AC$5:$AC$34<>"",ROW('Sub1'!$AC$5:$AC$34)),ROWS(I$7:I12))),"")} | M12: {=IFERROR(INDEX('Sub1'!I:I,SMALL(IF('Sub1'!$AC$5:$AC$34<>"",ROW('Sub1'!$AC$5:$AC$34)),ROWS(I$7:I12))),"")} | N12: {=IFERROR(INDEX('Sub1'!J:J,SMALL(IF('Sub1'!$AC$5:$AC$34<>"",ROW('Sub1'!$AC$5:$AC$34)),ROWS(I$7:I12))),"")} | O12: {=IFERROR(INDEX('Sub1'!K:K,SMALL(IF('Sub1'!$AC$5:$AC$34<>"",ROW('Sub1'!$AC$5:$AC$34)),ROWS(I$7:I12))),"")} | P12: {=IFERROR(INDEX('Sub1'!L:L,SMALL(IF('Sub1'!$AC$5:$AC$34<>"",ROW('Sub1'!$AC$5:$AC$34)),ROWS(I$7:I12))),"")} | Q12: {=IFERROR(INDEX('Sub1'!M:M,SMALL(IF('Sub1'!$AC$5:$AC$34<>"",ROW('Sub1'!$AC$5:$AC$34)),ROWS(I$7:I12))),"")} | R12: {=IFERROR(INDEX('Sub1'!N:N,SMALL(IF('Sub1'!$AC$5:$AC$34<>"",ROW('Sub1'!$AC$5:$AC$34)),ROWS(I$7:I12))),"")} | S12: {=IFERROR(INDEX('Sub1'!O:O,SMALL(IF('Sub1'!$AC$5:$AC$34<>"",ROW('Sub1'!$AC$5:$AC$34)),ROWS(I$7:I12))),"")} | T12: {=IFERROR(INDEX('Sub1'!P:P,SMALL(IF('Sub1'!$AC$5:$AC$34<>"",ROW('Sub1'!$AC$5:$AC$34)),ROWS(I$7:I12))),"")} | U12: {=IFERROR(INDEX('Sub1'!Q:Q,SMALL(IF('Sub1'!$AC$5:$AC$34<>"",ROW('Sub1'!$AC$5:$AC$34)),ROWS(I$7:I12))),"")} | V12: {=IFERROR(INDEX('Sub1'!R:R,SMALL(IF('Sub1'!$AC$5:$AC$34<>"",ROW('Sub1'!$AC$5:$AC$34)),ROWS(I$7:I12))),"")} | X12: {=IFERROR(INDEX('Sub2'!A:A,SMALL(IF('Sub2'!$Y$5:$Y$34<>"",ROW('Sub2'!$Y$5:$Y$34)),ROWS(Z$7:Z12))),"")} | Y12: {=IFERROR(INDEX('Sub2'!B:B,SMALL(IF('Sub2'!$Y$5:$Y$34<>"",ROW('Sub2'!$Y$5:$Y$34)),ROWS(Z$7:Z12))),"")} | Z12: {=IFERROR(INDEX('Sub2'!C:C,SMALL(IF('Sub2'!$Y$5:$Y$34<>"",ROW('Sub2'!$Y$5:$Y$34)),ROWS(Z$7:Z12))),"")} | AA12: {=IFERROR(INDEX('Sub2'!Y:Y,SMALL(IF('Sub2'!$Y$5:$Y$34<>"",ROW('Sub2'!$Y$5:$Y$34)),ROWS(Z$7:Z12))),"")} | AB12: {=IFERROR(INDEX('Sub2'!F:F,SMALL(IF('Sub2'!$Y$5:$Y$34<>"",ROW('Sub2'!$Y$5:$Y$34)),ROWS(Z$7:Z12))),"")} | AC12: {=IFERROR(INDEX('Sub2'!G:G,SMALL(IF('Sub2'!$Y$5:$Y$34<>"",ROW('Sub2'!$Y$5:$Y$34)),ROWS(Z$7:Z12))),"")} | AD12: {=IFERROR(INDEX('Sub2'!H:H,SMALL(IF('Sub2'!$Y$5:$Y$34<>"",ROW('Sub2'!$Y$5:$Y$34)),ROWS(Z$7:Z12))),"")} | AE12: {=IFERROR(INDEX('Sub2'!I:I,SMALL(IF('Sub2'!$Y$5:$Y$34<>"",ROW('Sub2'!$Y$5:$Y$34)),ROWS(Z$7:Z12))),"")} | AF12: {=IFERROR(INDEX('Sub2'!J:J,SMALL(IF('Sub2'!$Y$5:$Y$34<>"",ROW('Sub2'!$Y$5:$Y$34)),ROWS(Z$7:Z12))),"")} | AG12: {=IFERROR(INDEX('Sub2'!K:K,SMALL(IF('Sub2'!$Y$5:$Y$34<>"",ROW('Sub2'!$Y$5:$Y$34)),ROWS(Z$7:Z12))),"")} | AH12: {=IFERROR(INDEX('Sub2'!L:L,SMALL(IF('Sub2'!$Y$5:$Y$34<>"",ROW('Sub2'!$Y$5:$Y$34)),ROWS(Z$7:Z12))),"")} | AI12: {=IFERROR(INDEX('Sub2'!M:M,SMALL(IF('Sub2'!$Y$5:$Y$34<>"",ROW('Sub2'!$Y$5:$Y$34)),ROWS(Z$7:Z12))),"")} | AJ12: {=IFERROR(INDEX('Sub2'!N:N,SMALL(IF('Sub2'!$Y$5:$Y$34<>"",ROW('Sub2'!$Y$5:$Y$34)),ROWS(Z$7:Z12))),"")} | AK12: {=IFERROR(INDEX('Sub2'!O:O,SMALL(IF('Sub2'!$Y$5:$Y$34<>"",ROW('Sub2'!$Y$5:$Y$34)),ROWS(Z$7:Z12))),"")} | AL12: {=IFERROR(INDEX('Sub2'!P:P,SMALL(IF('Sub2'!$Y$5:$Y$34<>"",ROW('Sub2'!$Y$5:$Y$34)),ROWS(Z$7:Z12))),"")} | AM12: {=IFERROR(INDEX('Sub2'!Q:Q,SMALL(IF('Sub2'!$Y$5:$Y$34<>"",ROW('Sub2'!$Y$5:$Y$34)),ROWS(Z$7:Z12))),"")} | AO12: {=IFERROR(INDEX('Sub3'!A:A,SMALL(IF('Sub3'!$Y$5:$Y$34<>"",ROW('Sub3'!$Y$5:$Y$34)),ROWS($AQ$7:$AQ12))),"")} | AP12: {=IFERROR(INDEX('Sub3'!B:B,SMALL(IF('Sub3'!$Y$5:$Y$34<>"",ROW('Sub3'!$Y$5:$Y$34)),ROWS($AQ$7:$AQ12))),"")} | AQ12: {=IFERROR(INDEX('Sub3'!C:C,SMALL(IF('Sub3'!$Y$5:$Y$34<>"",ROW('Sub3'!$Y$5:$Y$34)),ROWS($AQ$7:$AQ12))),"")} | AR12: {=IFERROR(INDEX('Sub3'!Y:Y,SMALL(IF('Sub3'!$Y$5:$Y$34<>"",ROW('Sub3'!$Y$5:$Y$34)),ROWS($AQ$7:$AQ12))),"")} | AS12: {=IFERROR(INDEX('Sub3'!F:F,SMALL(IF('Sub3'!$Y$5:$Y$34<>"",ROW('Sub3'!$Y$5:$Y$34)),ROWS($AQ$7:$AQ12))),"")} | AT12: {=IFERROR(INDEX('Sub3'!G:G,SMALL(IF('Sub3'!$Y$5:$Y$34<>"",ROW('Sub3'!$Y$5:$Y$34)),ROWS($AQ$7:$AQ12))),"")} | AU12: {=IFERROR(INDEX('Sub3'!H:H,SMALL(IF('Sub3'!$Y$5:$Y$34<>"",ROW('Sub3'!$Y$5:$Y$34)),ROWS($AQ$7:$AQ12))),"")} | AV12: {=IFERROR(INDEX('Sub3'!I:I,SMALL(IF('Sub3'!$Y$5:$Y$34<>"",ROW('Sub3'!$Y$5:$Y$34)),ROWS($AQ$7:$AQ12))),"")} | AW12: {=IFERROR(INDEX('Sub3'!J:J,SMALL(IF('Sub3'!$Y$5:$Y$34<>"",ROW('Sub3'!$Y$5:$Y$34)),ROWS($AQ$7:$AQ12))),"")} | AX12: {=IFERROR(INDEX('Sub3'!K:K,SMALL(IF('Sub3'!$Y$5:$Y$34<>"",ROW('Sub3'!$Y$5:$Y$34)),ROWS($AQ$7:$AQ12))),"")} | AY12: {=IFERROR(INDEX('Sub3'!L:L,SMALL(IF('Sub3'!$Y$5:$Y$34<>"",ROW('Sub3'!$Y$5:$Y$34)),ROWS($AQ$7:$AQ12))),"")} | AZ12: {=IFERROR(INDEX('Sub3'!M:M,SMALL(IF('Sub3'!$Y$5:$Y$34<>"",ROW('Sub3'!$Y$5:$Y$34)),ROWS($AQ$7:$AQ12))),"")} | BA12: {=IFERROR(INDEX('Sub3'!N:N,SMALL(IF('Sub3'!$Y$5:$Y$34<>"",ROW('Sub3'!$Y$5:$Y$34)),ROWS($AQ$7:$AQ12))),"")} | BB12: {=IFERROR(INDEX('Sub3'!O:O,SMALL(IF('Sub3'!$Y$5:$Y$34<>"",ROW('Sub3'!$Y$5:$Y$34)),ROWS($AQ$7:$AQ12))),"")} | BC12: {=IFERROR(INDEX('Sub3'!P:P,SMALL(IF('Sub3'!$Y$5:$Y$34<>"",ROW('Sub3'!$Y$5:$Y$34)),ROWS($AQ$7:$AQ12))),"")} | BD12: {=IFERROR(INDEX('Sub3'!Q:Q,SMALL(IF('Sub3'!$Y$5:$Y$34<>"",ROW('Sub3'!$Y$5:$Y$34)),ROWS($AQ$7:$AQ12))),"")} | BF12: {=IFERROR(INDEX('Sub4'!A:A,SMALL(IF('Sub4'!$W$5:$W$34<>"",ROW('Sub4'!$W$5:$W$34)),ROWS($BH$7:$BH12))),"")} | BG12: {=IFERROR(INDEX('Sub4'!B:B,SMALL(IF('Sub4'!$W$5:$W$34<>"",ROW('Sub4'!$W$5:$W$34)),ROWS($BH$7:$BH12))),"")} | BH12: {=IFERROR(INDEX('Sub4'!C:C,SMALL(IF('Sub4'!$W$5:$W$34<>"",ROW('Sub4'!$W$5:$W$34)),ROWS($BH$7:$BH12))),"")} | BI12: {=IFERROR(INDEX('Sub4'!W:W,SMALL(IF('Sub4'!$W$5:$W$34<>"",ROW('Sub4'!$W$5:$W$34)),ROWS($BH$7:$BH12))),"")} | BJ12: {=IFERROR(INDEX('Sub4'!F:F,SMALL(IF('Sub4'!$W$5:$W$34<>"",ROW('Sub4'!$W$5:$W$34)),ROWS($BH$7:$BH12))),"")} | BK12: {=IFERROR(INDEX('Sub4'!G:G,SMALL(IF('Sub4'!$W$5:$W$34<>"",ROW('Sub4'!$W$5:$W$34)),ROWS($BH$7:$BH12))),"")} | BL12: {=IFERROR(INDEX('Sub4'!H:H,SMALL(IF('Sub4'!$W$5:$W$34<>"",ROW('Sub4'!$W$5:$W$34)),ROWS($BH$7:$BH12))),"")} | BM12: {=IFERROR(INDEX('Sub4'!I:I,SMALL(IF('Sub4'!$W$5:$W$34<>"",ROW('Sub4'!$W$5:$W$34)),ROWS($BH$7:$BH12))),"")} | BN12: {=IFERROR(INDEX('Sub4'!J:J,SMALL(IF('Sub4'!$W$5:$W$34<>"",ROW('Sub4'!$W$5:$W$34)),ROWS($BH$7:$BH12))),"")} | BO12: {=IFERROR(INDEX('Sub4'!K:K,SMALL(IF('Sub4'!$W$5:$W$34<>"",ROW('Sub4'!$W$5:$W$34)),ROWS($BH$7:$BH12))),"")} | BP12: {=IFERROR(INDEX('Sub4'!L:L,SMALL(IF('Sub4'!$W$5:$W$34<>"",ROW('Sub4'!$W$5:$W$34)),ROWS($BH$7:$BH12))),"")} | BQ12: {=IFERROR(INDEX('Sub4'!M:M,SMALL(IF('Sub4'!$W$5:$W$34<>"",ROW('Sub4'!$W$5:$W$34)),ROWS($BH$7:$BH12))),"")} | BR12: {=IFERROR(INDEX('Sub4'!N:N,SMALL(IF('Sub4'!$W$5:$W$34<>"",ROW('Sub4'!$W$5:$W$34)),ROWS($BH$7:$BH12))),"")} | BS12: {=IFERROR(INDEX('Sub4'!O:O,SMALL(IF('Sub4'!$W$5:$W$34<>"",ROW('Sub4'!$W$5:$W$34)),ROWS($BH$7:$BH12))),"")} | BT12: {=IFERROR(INDEX('Sub4'!P:P,SMALL(IF('Sub4'!$W$5:$W$34<>"",ROW('Sub4'!$W$5:$W$34)),ROWS($BH$7:$BH12))),"")} | BU12: {=IFERROR(INDEX('Sub4'!Q:Q,SMALL(IF('Sub4'!$W$5:$W$34<>"",ROW('Sub4'!$W$5:$W$34)),ROWS($BH$7:$BH12))),"")} | BW12: {=IFERROR(INDEX('Sub5'!A:A,SMALL(IF('Sub5'!$Y$5:$Y$34<>"",ROW('Sub5'!$Y$5:$Y$34)),ROWS($BY$7:$BY12))),"")} | BX12: {=IFERROR(INDEX('Sub5'!B:B,SMALL(IF('Sub5'!$Y$5:$Y$34<>"",ROW('Sub5'!$Y$5:$Y$34)),ROWS($BY$7:$BY12))),"")} | BY12: {=IFERROR(INDEX('Sub5'!C:C,SMALL(IF('Sub5'!$Y$5:$Y$34<>"",ROW('Sub5'!$Y$5:$Y$34)),ROWS($BY$7:$BY12))),"")} | BZ12: {=IFERROR(INDEX('Sub5'!Y:Y,SMALL(IF('Sub5'!$Y$5:$Y$34<>"",ROW('Sub5'!$Y$5:$Y$34)),ROWS($BY$7:$BY12))),"")} | CA12: {=IFERROR(INDEX('Sub5'!F:F,SMALL(IF('Sub5'!$Y$5:$Y$34<>"",ROW('Sub5'!$Y$5:$Y$34)),ROWS($BY$7:$BY12))),"")} | CB12: {=IFERROR(INDEX('Sub5'!G:G,SMALL(IF('Sub5'!$Y$5:$Y$34<>"",ROW('Sub5'!$Y$5:$Y$34)),ROWS($BY$7:$BY12))),"")} | CC12: {=IFERROR(INDEX('Sub5'!H:H,SMALL(IF('Sub5'!$Y$5:$Y$34<>"",ROW('Sub5'!$Y$5:$Y$34)),ROWS($BY$7:$BY12))),"")} | CD12: {=IFERROR(INDEX('Sub5'!I:I,SMALL(IF('Sub5'!$Y$5:$Y$34<>"",ROW('Sub5'!$Y$5:$Y$34)),ROWS($BY$7:$BY12))),"")} | CE12: {=IFERROR(INDEX('Sub5'!J:J,SMALL(IF('Sub5'!$Y$5:$Y$34<>"",ROW('Sub5'!$Y$5:$Y$34)),ROWS($BY$7:$BY12))),"")} | CF12: {=IFERROR(INDEX('Sub5'!K:K,SMALL(IF('Sub5'!$Y$5:$Y$34<>"",ROW('Sub5'!$Y$5:$Y$34)),ROWS($BY$7:$BY12))),"")} | CG12: {=IFERROR(INDEX('Sub5'!L:L,SMALL(IF('Sub5'!$Y$5:$Y$34<>"",ROW('Sub5'!$Y$5:$Y$34)),ROWS($BY$7:$BY12))),"")} | CH12: {=IFERROR(INDEX('Sub5'!M:M,SMALL(IF('Sub5'!$Y$5:$Y$34<>"",ROW('Sub5'!$Y$5:$Y$34)),ROWS($BY$7:$BY12))),"")} | CI12: {=IFERROR(INDEX('Sub5'!N:N,SMALL(IF('Sub5'!$Y$5:$Y$34<>"",ROW('Sub5'!$Y$5:$Y$34)),ROWS($BY$7:$BY12))),"")} | CJ12: {=IFERROR(INDEX('Sub5'!O:O,SMALL(IF('Sub5'!$Y$5:$Y$34<>"",ROW('Sub5'!$Y$5:$Y$34)),ROWS($BY$7:$BY12))),"")} | CK12: {=IFERROR(INDEX('Sub5'!P:P,SMALL(IF('Sub5'!$Y$5:$Y$34<>"",ROW('Sub5'!$Y$5:$Y$34)),ROWS($BY$7:$BY12))),"")} | CL12: {=IFERROR(INDEX('Sub5'!Q:Q,SMALL(IF('Sub5'!$Y$5:$Y$34<>"",ROW('Sub5'!$Y$5:$Y$34)),ROWS($BY$7:$BY12))),"")}
A13: Nom13 | G13: {=IFERROR(INDEX('Sub1'!A:A,SMALL(IF('Sub1'!$AC$5:$AC$34<>"",ROW('Sub1'!$AC$5:$AC$34)),ROWS(G$7:G13))),"")} | H13: {=IFERROR(INDEX('Sub1'!B:B,SMALL(IF('Sub1'!$AC$5:$AC$34<>"",ROW('Sub1'!$AC$5:$AC$34)),ROWS(H$7:H13))),"")} | I13: {=IFERROR(INDEX('Sub1'!C:C,SMALL(IF('Sub1'!$AC$5:$AC$34<>"",ROW('Sub1'!$AC$5:$AC$34)),ROWS(I$7:I13))),"")} | J13: {=IFERROR(INDEX('Sub1'!AC:AC,SMALL(IF('Sub1'!$AC$5:$AC$34<>"",ROW('Sub1'!$AC$5:$AC$34)),ROWS(J$7:J13))),"")} | K13: {=IFERROR(INDEX('Sub1'!G:G,SMALL(IF('Sub1'!$AC$5:$AC$34<>"",ROW('Sub1'!$AC$5:$AC$34)),ROWS(I$7:I13))),"")} | L13: {=IFERROR(INDEX('Sub1'!H:H,SMALL(IF('Sub1'!$AC$5:$AC$34<>"",ROW('Sub1'!$AC$5:$AC$34)),ROWS(I$7:I13))),"")} | M13: {=IFERROR(INDEX('Sub1'!I:I,SMALL(IF('Sub1'!$AC$5:$AC$34<>"",ROW('Sub1'!$AC$5:$AC$34)),ROWS(I$7:I13))),"")} | N13: {=IFERROR(INDEX('Sub1'!J:J,SMALL(IF('Sub1'!$AC$5:$AC$34<>"",ROW('Sub1'!$AC$5:$AC$34)),ROWS(I$7:I13))),"")} | O13: {=IFERROR(INDEX('Sub1'!K:K,SMALL(IF('Sub1'!$AC$5:$AC$34<>"",ROW('Sub1'!$AC$5:$AC$34)),ROWS(I$7:I13))),"")} | P13: {=IFERROR(INDEX('Sub1'!L:L,SMALL(IF('Sub1'!$AC$5:$AC$34<>"",ROW('Sub1'!$AC$5:$AC$34)),ROWS(I$7:I13))),"")} | Q13: {=IFERROR(INDEX('Sub1'!M:M,SMALL(IF('Sub1'!$AC$5:$AC$34<>"",ROW('Sub1'!$AC$5:$AC$34)),ROWS(I$7:I13))),"")} | R13: {=IFERROR(INDEX('Sub1'!N:N,SMALL(IF('Sub1'!$AC$5:$AC$34<>"",ROW('Sub1'!$AC$5:$AC$34)),ROWS(I$7:I13))),"")} | S13: {=IFERROR(INDEX('Sub1'!O:O,SMALL(IF('Sub1'!$AC$5:$AC$34<>"",ROW('Sub1'!$AC$5:$AC$34)),ROWS(I$7:I13))),"")} | T13: {=IFERROR(INDEX('Sub1'!P:P,SMALL(IF('Sub1'!$AC$5:$AC$34<>"",ROW('Sub1'!$AC$5:$AC$34)),ROWS(I$7:I13))),"")} | U13: {=IFERROR(INDEX('Sub1'!Q:Q,SMALL(IF('Sub1'!$AC$5:$AC$34<>"",ROW('Sub1'!$AC$5:$AC$34)),ROWS(I$7:I13))),"")} | V13: {=IFERROR(INDEX('Sub1'!R:R,SMALL(IF('Sub1'!$AC$5:$AC$34<>"",ROW('Sub1'!$AC$5:$AC$34)),ROWS(I$7:I13))),"")} | X13: {=IFERROR(INDEX('Sub2'!A:A,SMALL(IF('Sub2'!$Y$5:$Y$34<>"",ROW('Sub2'!$Y$5:$Y$34)),ROWS(Z$7:Z13))),"")} | Y13: {=IFERROR(INDEX('Sub2'!B:B,SMALL(IF('Sub2'!$Y$5:$Y$34<>"",ROW('Sub2'!$Y$5:$Y$34)),ROWS(Z$7:Z13))),"")} | Z13: {=IFERROR(INDEX('Sub2'!C:C,SMALL(IF('Sub2'!$Y$5:$Y$34<>"",ROW('Sub2'!$Y$5:$Y$34)),ROWS(Z$7:Z13))),"")} | AA13: {=IFERROR(INDEX('Sub2'!Y:Y,SMALL(IF('Sub2'!$Y$5:$Y$34<>"",ROW('Sub2'!$Y$5:$Y$34)),ROWS(Z$7:Z13))),"")} | AB13: {=IFERROR(INDEX('Sub2'!F:F,SMALL(IF('Sub2'!$Y$5:$Y$34<>"",ROW('Sub2'!$Y$5:$Y$34)),ROWS(Z$7:Z13))),"")} | AC13: {=IFERROR(INDEX('Sub2'!G:G,SMALL(IF('Sub2'!$Y$5:$Y$34<>"",ROW('Sub2'!$Y$5:$Y$34)),ROWS(Z$7:Z13))),"")} | AD13: {=IFERROR(INDEX('Sub2'!H:H,SMALL(IF('Sub2'!$Y$5:$Y$34<>"",ROW('Sub2'!$Y$5:$Y$34)),ROWS(Z$7:Z13))),"")} | AE13: {=IFERROR(INDEX('Sub2'!I:I,SMALL(IF('Sub2'!$Y$5:$Y$34<>"",ROW('Sub2'!$Y$5:$Y$34)),ROWS(Z$7:Z13))),"")} | AF13: {=IFERROR(INDEX('Sub2'!J:J,SMALL(IF('Sub2'!$Y$5:$Y$34<>"",ROW('Sub2'!$Y$5:$Y$34)),ROWS(Z$7:Z13))),"")} | AG13: {=IFERROR(INDEX('Sub2'!K:K,SMALL(IF('Sub2'!$Y$5:$Y$34<>"",ROW('Sub2'!$Y$5:$Y$34)),ROWS(Z$7:Z13))),"")} | AH13: {=IFERROR(INDEX('Sub2'!L:L,SMALL(IF('Sub2'!$Y$5:$Y$34<>"",ROW('Sub2'!$Y$5:$Y$34)),ROWS(Z$7:Z13))),"")} | AI13: {=IFERROR(INDEX('Sub2'!M:M,SMALL(IF('Sub2'!$Y$5:$Y$34<>"",ROW('Sub2'!$Y$5:$Y$34)),ROWS(Z$7:Z13))),"")} | AJ13: {=IFERROR(INDEX('Sub2'!N:N,SMALL(IF('Sub2'!$Y$5:$Y$34<>"",ROW('Sub2'!$Y$5:$Y$34)),ROWS(Z$7:Z13))),"")} | AK13: {=IFERROR(INDEX('Sub2'!O:O,SMALL(IF('Sub2'!$Y$5:$Y$34<>"",ROW('Sub2'!$Y$5:$Y$34)),ROWS(Z$7:Z13))),"")} | AL13: {=IFERROR(INDEX('Sub2'!P:P,SMALL(IF('Sub2'!$Y$5:$Y$34<>"",ROW('Sub2'!$Y$5:$Y$34)),ROWS(Z$7:Z13))),"")} | AM13: {=IFERROR(INDEX('Sub2'!Q:Q,SMALL(IF('Sub2'!$Y$5:$Y$34<>"",ROW('Sub2'!$Y$5:$Y$34)),ROWS(Z$7:Z13))),"")} | AO13: {=IFERROR(INDEX('Sub3'!A:A,SMALL(IF('Sub3'!$Y$5:$Y$34<>"",ROW('Sub3'!$Y$5:$Y$34)),ROWS($AQ$7:$AQ13))),"")} | AP13: {=IFERROR(INDEX('Sub3'!B:B,SMALL(IF('Sub3'!$Y$5:$Y$34<>"",ROW('Sub3'!$Y$5:$Y$34)),ROWS($AQ$7:$AQ13))),"")} | AQ13: {=IFERROR(INDEX('Sub3'!C:C,SMALL(IF('Sub3'!$Y$5:$Y$34<>"",ROW('Sub3'!$Y$5:$Y$34)),ROWS($AQ$7:$AQ13))),"")} | AR13: {=IFERROR(INDEX('Sub3'!Y:Y,SMALL(IF('Sub3'!$Y$5:$Y$34<>"",ROW('Sub3'!$Y$5:$Y$34)),ROWS($AQ$7:$AQ13))),"")} | AS13: {=IFERROR(INDEX('Sub3'!F:F,SMALL(IF('Sub3'!$Y$5:$Y$34<>"",ROW('Sub3'!$Y$5:$Y$34)),ROWS($AQ$7:$AQ13))),"")} | AT13: {=IFERROR(INDEX('Sub3'!G:G,SMALL(IF('Sub3'!$Y$5:$Y$34<>"",ROW('Sub3'!$Y$5:$Y$34)),ROWS($AQ$7:$AQ13))),"")} | AU13: {=IFERROR(INDEX('Sub3'!H:H,SMALL(IF('Sub3'!$Y$5:$Y$34<>"",ROW('Sub3'!$Y$5:$Y$34)),ROWS($AQ$7:$AQ13))),"")} | AV13: {=IFERROR(INDEX('Sub3'!I:I,SMALL(IF('Sub3'!$Y$5:$Y$34<>"",ROW('Sub3'!$Y$5:$Y$34)),ROWS($AQ$7:$AQ13))),"")} | AW13: {=IFERROR(INDEX('Sub3'!J:J,SMALL(IF('Sub3'!$Y$5:$Y$34<>"",ROW('Sub3'!$Y$5:$Y$34)),ROWS($AQ$7:$AQ13))),"")} | AX13: {=IFERROR(INDEX('Sub3'!K:K,SMALL(IF('Sub3'!$Y$5:$Y$34<>"",ROW('Sub3'!$Y$5:$Y$34)),ROWS($AQ$7:$AQ13))),"")} | AY13: {=IFERROR(INDEX('Sub3'!L:L,SMALL(IF('Sub3'!$Y$5:$Y$34<>"",ROW('Sub3'!$Y$5:$Y$34)),ROWS($AQ$7:$AQ13))),"")} | AZ13: {=IFERROR(INDEX('Sub3'!M:M,SMALL(IF('Sub3'!$Y$5:$Y$34<>"",ROW('Sub3'!$Y$5:$Y$34)),ROWS($AQ$7:$AQ13))),"")} | BA13: {=IFERROR(INDEX('Sub3'!N:N,SMALL(IF('Sub3'!$Y$5:$Y$34<>"",ROW('Sub3'!$Y$5:$Y$34)),ROWS($AQ$7:$AQ13))),"")} | BB13: {=IFERROR(INDEX('Sub3'!O:O,SMALL(IF('Sub3'!$Y$5:$Y$34<>"",ROW('Sub3'!$Y$5:$Y$34)),ROWS($AQ$7:$AQ13))),"")} | BC13: {=IFERROR(INDEX('Sub3'!P:P,SMALL(IF('Sub3'!$Y$5:$Y$34<>"",ROW('Sub3'!$Y$5:$Y$34)),ROWS($AQ$7:$AQ13))),"")} | BD13: {=IFERROR(INDEX('Sub3'!Q:Q,SMALL(IF('Sub3'!$Y$5:$Y$34<>"",ROW('Sub3'!$Y$5:$Y$34)),ROWS($AQ$7:$AQ13))),"")} | BF13: {=IFERROR(INDEX('Sub4'!A:A,SMALL(IF('Sub4'!$W$5:$W$34<>"",ROW('Sub4'!$W$5:$W$34)),ROWS($BH$7:$BH13))),"")} | BG13: {=IFERROR(INDEX('Sub4'!B:B,SMALL(IF('Sub4'!$W$5:$W$34<>"",ROW('Sub4'!$W$5:$W$34)),ROWS($BH$7:$BH13))),"")} | BH13: {=IFERROR(INDEX('Sub4'!C:C,SMALL(IF('Sub4'!$W$5:$W$34<>"",ROW('Sub4'!$W$5:$W$34)),ROWS($BH$7:$BH13))),"")} | BI13: {=IFERROR(INDEX('Sub4'!W:W,SMALL(IF('Sub4'!$W$5:$W$34<>"",ROW('Sub4'!$W$5:$W$34)),ROWS($BH$7:$BH13))),"")} | BJ13: {=IFERROR(INDEX('Sub4'!F:F,SMALL(IF('Sub4'!$W$5:$W$34<>"",ROW('Sub4'!$W$5:$W$34)),ROWS($BH$7:$BH13))),"")} | BK13: {=IFERROR(INDEX('Sub4'!G:G,SMALL(IF('Sub4'!$W$5:$W$34<>"",ROW('Sub4'!$W$5:$W$34)),ROWS($BH$7:$BH13))),"")} | BL13: {=IFERROR(INDEX('Sub4'!H:H,SMALL(IF('Sub4'!$W$5:$W$34<>"",ROW('Sub4'!$W$5:$W$34)),ROWS($BH$7:$BH13))),"")} | BM13: {=IFERROR(INDEX('Sub4'!I:I,SMALL(IF('Sub4'!$W$5:$W$34<>"",ROW('Sub4'!$W$5:$W$34)),ROWS($BH$7:$BH13))),"")} | BN13: {=IFERROR(INDEX('Sub4'!J:J,SMALL(IF('Sub4'!$W$5:$W$34<>"",ROW('Sub4'!$W$5:$W$34)),ROWS($BH$7:$BH13))),"")} | BO13: {=IFERROR(INDEX('Sub4'!K:K,SMALL(IF('Sub4'!$W$5:$W$34<>"",ROW('Sub4'!$W$5:$W$34)),ROWS($BH$7:$BH13))),"")} | BP13: {=IFERROR(INDEX('Sub4'!L:L,SMALL(IF('Sub4'!$W$5:$W$34<>"",ROW('Sub4'!$W$5:$W$34)),ROWS($BH$7:$BH13))),"")} | BQ13: {=IFERROR(INDEX('Sub4'!M:M,SMALL(IF('Sub4'!$W$5:$W$34<>"",ROW('Sub4'!$W$5:$W$34)),ROWS($BH$7:$BH13))),"")} | BR13: {=IFERROR(INDEX('Sub4'!N:N,SMALL(IF('Sub4'!$W$5:$W$34<>"",ROW('Sub4'!$W$5:$W$34)),ROWS($BH$7:$BH13))),"")} | BS13: {=IFERROR(INDEX('Sub4'!O:O,SMALL(IF('Sub4'!$W$5:$W$34<>"",ROW('Sub4'!$W$5:$W$34)),ROWS($BH$7:$BH13))),"")} | BT13: {=IFERROR(INDEX('Sub4'!P:P,SMALL(IF('Sub4'!$W$5:$W$34<>"",ROW('Sub4'!$W$5:$W$34)),ROWS($BH$7:$BH13))),"")} | BU13: {=IFERROR(INDEX('Sub4'!Q:Q,SMALL(IF('Sub4'!$W$5:$W$34<>"",ROW('Sub4'!$W$5:$W$34)),ROWS($BH$7:$BH13))),"")} | BW13: {=IFERROR(INDEX('Sub5'!A:A,SMALL(IF('Sub5'!$Y$5:$Y$34<>"",ROW('Sub5'!$Y$5:$Y$34)),ROWS($BY$7:$BY13))),"")} | BX13: {=IFERROR(INDEX('Sub5'!B:B,SMALL(IF('Sub5'!$Y$5:$Y$34<>"",ROW('Sub5'!$Y$5:$Y$34)),ROWS($BY$7:$BY13))),"")} | BY13: {=IFERROR(INDEX('Sub5'!C:C,SMALL(IF('Sub5'!$Y$5:$Y$34<>"",ROW('Sub5'!$Y$5:$Y$34)),ROWS($BY$7:$BY13))),"")} | BZ13: {=IFERROR(INDEX('Sub5'!Y:Y,SMALL(IF('Sub5'!$Y$5:$Y$34<>"",ROW('Sub5'!$Y$5:$Y$34)),ROWS($BY$7:$BY13))),"")} | CA13: {=IFERROR(INDEX('Sub5'!F:F,SMALL(IF('Sub5'!$Y$5:$Y$34<>"",ROW('Sub5'!$Y$5:$Y$34)),ROWS($BY$7:$BY13))),"")} | CB13: {=IFERROR(INDEX('Sub5'!G:G,SMALL(IF('Sub5'!$Y$5:$Y$34<>"",ROW('Sub5'!$Y$5:$Y$34)),ROWS($BY$7:$BY13))),"")} | CC13: {=IFERROR(INDEX('Sub5'!H:H,SMALL(IF('Sub5'!$Y$5:$Y$34<>"",ROW('Sub5'!$Y$5:$Y$34)),ROWS($BY$7:$BY13))),"")} | CD13: {=IFERROR(INDEX('Sub5'!I:I,SMALL(IF('Sub5'!$Y$5:$Y$34<>"",ROW('Sub5'!$Y$5:$Y$34)),ROWS($BY$7:$BY13))),"")} | CE13: {=IFERROR(INDEX('Sub5'!J:J,SMALL(IF('Sub5'!$Y$5:$Y$34<>"",ROW('Sub5'!$Y$5:$Y$34)),ROWS($BY$7:$BY13))),"")} | CF13: {=IFERROR(INDEX('Sub5'!K:K,SMALL(IF('Sub5'!$Y$5:$Y$34<>"",ROW('Sub5'!$Y$5:$Y$34)),ROWS($BY$7:$BY13))),"")} | CG13: {=IFERROR(INDEX('Sub5'!L:L,SMALL(IF('Sub5'!$Y$5:$Y$34<>"",ROW('Sub5'!$Y$5:$Y$34)),ROWS($BY$7:$BY13))),"")} | CH13: {=IFERROR(INDEX('Sub5'!M:M,SMALL(IF('Sub5'!$Y$5:$Y$34<>"",ROW('Sub5'!$Y$5:$Y$34)),ROWS($BY$7:$BY13))),"")} | CI13: {=IFERROR(INDEX('Sub5'!N:N,SMALL(IF('Sub5'!$Y$5:$Y$34<>"",ROW('Sub5'!$Y$5:$Y$34)),ROWS($BY$7:$BY13))),"")} | CJ13: {=IFERROR(INDEX('Sub5'!O:O,SMALL(IF('Sub5'!$Y$5:$Y$34<>"",ROW('Sub5'!$Y$5:$Y$34)),ROWS($BY$7:$BY13))),"")} | CK13: {=IFERROR(INDEX('Sub5'!P:P,SMALL(IF('Sub5'!$Y$5:$Y$34<>"",ROW('Sub5'!$Y$5:$Y$34)),ROWS($BY$7:$BY13))),"")} | CL13: {=IFERROR(INDEX('Sub5'!Q:Q,SMALL(IF('Sub5'!$Y$5:$Y$34<>"",ROW('Sub5'!$Y$5:$Y$34)),ROWS($BY$7:$BY13))),"")}
A14: Nom16 | G14: {=IFERROR(INDEX('Sub1'!A:A,SMALL(IF('Sub1'!$AC$5:$AC$34<>"",ROW('Sub1'!$AC$5:$AC$34)),ROWS(G$7:G14))),"")} | H14: {=IFERROR(INDEX('Sub1'!B:B,SMALL(IF('Sub1'!$AC$5:$AC$34<>"",ROW('Sub1'!$AC$5:$AC$34)),ROWS(H$7:H14))),"")} | I14: {=IFERROR(INDEX('Sub1'!C:C,SMALL(IF('Sub1'!$AC$5:$AC$34<>"",ROW('Sub1'!$AC$5:$AC$34)),ROWS(I$7:I14))),"")} | J14: {=IFERROR(INDEX('Sub1'!AC:AC,SMALL(IF('Sub1'!$AC$5:$AC$34<>"",ROW('Sub1'!$AC$5:$AC$34)),ROWS(J$7:J14))),"")} | K14: {=IFERROR(INDEX('Sub1'!G:G,SMALL(IF('Sub1'!$AC$5:$AC$34<>"",ROW('Sub1'!$AC$5:$AC$34)),ROWS(I$7:I14))),"")} | L14: {=IFERROR(INDEX('Sub1'!H:H,SMALL(IF('Sub1'!$AC$5:$AC$34<>"",ROW('Sub1'!$AC$5:$AC$34)),ROWS(I$7:I14))),"")} | M14: {=IFERROR(INDEX('Sub1'!I:I,SMALL(IF('Sub1'!$AC$5:$AC$34<>"",ROW('Sub1'!$AC$5:$AC$34)),ROWS(I$7:I14))),"")} | N14: {=IFERROR(INDEX('Sub1'!J:J,SMALL(IF('Sub1'!$AC$5:$AC$34<>"",ROW('Sub1'!$AC$5:$AC$34)),ROWS(I$7:I14))),"")} | O14: {=IFERROR(INDEX('Sub1'!K:K,SMALL(IF('Sub1'!$AC$5:$AC$34<>"",ROW('Sub1'!$AC$5:$AC$34)),ROWS(I$7:I14))),"")} | P14: {=IFERROR(INDEX('Sub1'!L:L,SMALL(IF('Sub1'!$AC$5:$AC$34<>"",ROW('Sub1'!$AC$5:$AC$34)),ROWS(I$7:I14))),"")} | Q14: {=IFERROR(INDEX('Sub1'!M:M,SMALL(IF('Sub1'!$AC$5:$AC$34<>"",ROW('Sub1'!$AC$5:$AC$34)),ROWS(I$7:I14))),"")} | R14: {=IFERROR(INDEX('Sub1'!N:N,SMALL(IF('Sub1'!$AC$5:$AC$34<>"",ROW('Sub1'!$AC$5:$AC$34)),ROWS(I$7:I14))),"")} | S14: {=IFERROR(INDEX('Sub1'!O:O,SMALL(IF('Sub1'!$AC$5:$AC$34<>"",ROW('Sub1'!$AC$5:$AC$34)),ROWS(I$7:I14))),"")} | T14: {=IFERROR(INDEX('Sub1'!P:P,SMALL(IF('Sub1'!$AC$5:$AC$34<>"",ROW('Sub1'!$AC$5:$AC$34)),ROWS(I$7:I14))),"")} | U14: {=IFERROR(INDEX('Sub1'!Q:Q,SMALL(IF('Sub1'!$AC$5:$AC$34<>"",ROW('Sub1'!$AC$5:$AC$34)),ROWS(I$7:I14))),"")} | V14: {=IFERROR(INDEX('Sub1'!R:R,SMALL(IF('Sub1'!$AC$5:$AC$34<>"",ROW('Sub1'!$AC$5:$AC$34)),ROWS(I$7:I14))),"")} | X14: {=IFERROR(INDEX('Sub2'!A:A,SMALL(IF('Sub2'!$Y$5:$Y$34<>"",ROW('Sub2'!$Y$5:$Y$34)),ROWS(Z$7:Z14))),"")} | Y14: {=IFERROR(INDEX('Sub2'!B:B,SMALL(IF('Sub2'!$Y$5:$Y$34<>"",ROW('Sub2'!$Y$5:$Y$34)),ROWS(Z$7:Z14))),"")} | Z14: {=IFERROR(INDEX('Sub2'!C:C,SMALL(IF('Sub2'!$Y$5:$Y$34<>"",ROW('Sub2'!$Y$5:$Y$34)),ROWS(Z$7:Z14))),"")} | AA14: {=IFERROR(INDEX('Sub2'!Y:Y,SMALL(IF('Sub2'!$Y$5:$Y$34<>"",ROW('Sub2'!$Y$5:$Y$34)),ROWS(Z$7:Z14))),"")} | AB14: {=IFERROR(INDEX('Sub2'!F:F,SMALL(IF('Sub2'!$Y$5:$Y$34<>"",ROW('Sub2'!$Y$5:$Y$34)),ROWS(Z$7:Z14))),"")} | AC14: {=IFERROR(INDEX('Sub2'!G:G,SMALL(IF('Sub2'!$Y$5:$Y$34<>"",ROW('Sub2'!$Y$5:$Y$34)),ROWS(Z$7:Z14))),"")} | AD14: {=IFERROR(INDEX('Sub2'!H:H,SMALL(IF('Sub2'!$Y$5:$Y$34<>"",ROW('Sub2'!$Y$5:$Y$34)),ROWS(Z$7:Z14))),"")} | AE14: {=IFERROR(INDEX('Sub2'!I:I,SMALL(IF('Sub2'!$Y$5:$Y$34<>"",ROW('Sub2'!$Y$5:$Y$34)),ROWS(Z$7:Z14))),"")} | AF14: {=IFERROR(INDEX('Sub2'!J:J,SMALL(IF('Sub2'!$Y$5:$Y$34<>"",ROW('Sub2'!$Y$5:$Y$34)),ROWS(Z$7:Z14))),"")} | AG14: {=IFERROR(INDEX('Sub2'!K:K,SMALL(IF('Sub2'!$Y$5:$Y$34<>"",ROW('Sub2'!$Y$5:$Y$34)),ROWS(Z$7:Z14))),"")} | AH14: {=IFERROR(INDEX('Sub2'!L:L,SMALL(IF('Sub2'!$Y$5:$Y$34<>"",ROW('Sub2'!$Y$5:$Y$34)),ROWS(Z$7:Z14))),"")} | AI14: {=IFERROR(INDEX('Sub2'!M:M,SMALL(IF('Sub2'!$Y$5:$Y$34<>"",ROW('Sub2'!$Y$5:$Y$34)),ROWS(Z$7:Z14))),"")} | AJ14: {=IFERROR(INDEX('Sub2'!N:N,SMALL(IF('Sub2'!$Y$5:$Y$34<>"",ROW('Sub2'!$Y$5:$Y$34)),ROWS(Z$7:Z14))),"")} | AK14: {=IFERROR(INDEX('Sub2'!O:O,SMALL(IF('Sub2'!$Y$5:$Y$34<>"",ROW('Sub2'!$Y$5:$Y$34)),ROWS(Z$7:Z14))),"")} | AL14: {=IFERROR(INDEX('Sub2'!P:P,SMALL(IF('Sub2'!$Y$5:$Y$34<>"",ROW('Sub2'!$Y$5:$Y$34)),ROWS(Z$7:Z14))),"")} | AM14: {=IFERROR(INDEX('Sub2'!Q:Q,SMALL(IF('Sub2'!$Y$5:$Y$34<>"",ROW('Sub2'!$Y$5:$Y$34)),ROWS(Z$7:Z14))),"")} | AO14: {=IFERROR(INDEX('Sub3'!A:A,SMALL(IF('Sub3'!$Y$5:$Y$34<>"",ROW('Sub3'!$Y$5:$Y$34)),ROWS($AQ$7:$AQ14))),"")} | AP14: {=IFERROR(INDEX('Sub3'!B:B,SMALL(IF('Sub3'!$Y$5:$Y$34<>"",ROW('Sub3'!$Y$5:$Y$34)),ROWS($AQ$7:$AQ14))),"")} | AQ14: {=IFERROR(INDEX('Sub3'!C:C,SMALL(IF('Sub3'!$Y$5:$Y$34<>"",ROW('Sub3'!$Y$5:$Y$34)),ROWS($AQ$7:$AQ14))),"")} | AR14: {=IFERROR(INDEX('Sub3'!Y:Y,SMALL(IF('Sub3'!$Y$5:$Y$34<>"",ROW('Sub3'!$Y$5:$Y$34)),ROWS($AQ$7:$AQ14))),"")} | AS14: {=IFERROR(INDEX('Sub3'!F:F,SMALL(IF('Sub3'!$Y$5:$Y$34<>"",ROW('Sub3'!$Y$5:$Y$34)),ROWS($AQ$7:$AQ14))),"")} | AT14: {=IFERROR(INDEX('Sub3'!G:G,SMALL(IF('Sub3'!$Y$5:$Y$34<>"",ROW('Sub3'!$Y$5:$Y$34)),ROWS($AQ$7:$AQ14))),"")} | AU14: {=IFERROR(INDEX('Sub3'!H:H,SMALL(IF('Sub3'!$Y$5:$Y$34<>"",ROW('Sub3'!$Y$5:$Y$34)),ROWS($AQ$7:$AQ14))),"")} | AV14: {=IFERROR(INDEX('Sub3'!I:I,SMALL(IF('Sub3'!$Y$5:$Y$34<>"",ROW('Sub3'!$Y$5:$Y$34)),ROWS($AQ$7:$AQ14))),"")} | AW14: {=IFERROR(INDEX('Sub3'!J:J,SMALL(IF('Sub3'!$Y$5:$Y$34<>"",ROW('Sub3'!$Y$5:$Y$34)),ROWS($AQ$7:$AQ14))),"")} | AX14: {=IFERROR(INDEX('Sub3'!K:K,SMALL(IF('Sub3'!$Y$5:$Y$34<>"",ROW('Sub3'!$Y$5:$Y$34)),ROWS($AQ$7:$AQ14))),"")} | AY14: {=IFERROR(INDEX('Sub3'!L:L,SMALL(IF('Sub3'!$Y$5:$Y$34<>"",ROW('Sub3'!$Y$5:$Y$34)),ROWS($AQ$7:$AQ14))),"")} | AZ14: {=IFERROR(INDEX('Sub3'!M:M,SMALL(IF('Sub3'!$Y$5:$Y$34<>"",ROW('Sub3'!$Y$5:$Y$34)),ROWS($AQ$7:$AQ14))),"")} | BA14: {=IFERROR(INDEX('Sub3'!N:N,SMALL(IF('Sub3'!$Y$5:$Y$34<>"",ROW('Sub3'!$Y$5:$Y$34)),ROWS($AQ$7:$AQ14))),"")} | BB14: {=IFERROR(INDEX('Sub3'!O:O,SMALL(IF('Sub3'!$Y$5:$Y$34<>"",ROW('Sub3'!$Y$5:$Y$34)),ROWS($AQ$7:$AQ14))),"")} | BC14: {=IFERROR(INDEX('Sub3'!P:P,SMALL(IF('Sub3'!$Y$5:$Y$34<>"",ROW('Sub3'!$Y$5:$Y$34)),ROWS($AQ$7:$AQ14))),"")} | BD14: {=IFERROR(INDEX('Sub3'!Q:Q,SMALL(IF('Sub3'!$Y$5:$Y$34<>"",ROW('Sub3'!$Y$5:$Y$34)),ROWS($AQ$7:$AQ14))),"")} | BF14: {=IFERROR(INDEX('Sub4'!A:A,SMALL(IF('Sub4'!$W$5:$W$34<>"",ROW('Sub4'!$W$5:$W$34)),ROWS($BH$7:$BH14))),"")} | BG14: {=IFERROR(INDEX('Sub4'!B:B,SMALL(IF('Sub4'!$W$5:$W$34<>"",ROW('Sub4'!$W$5:$W$34)),ROWS($BH$7:$BH14))),"")} | BH14: {=IFERROR(INDEX('Sub4'!C:C,SMALL(IF('Sub4'!$W$5:$W$34<>"",ROW('Sub4'!$W$5:$W$34)),ROWS($BH$7:$BH14))),"")} | BI14: {=IFERROR(INDEX('Sub4'!W:W,SMALL(IF('Sub4'!$W$5:$W$34<>"",ROW('Sub4'!$W$5:$W$34)),ROWS($BH$7:$BH14))),"")} | BJ14: {=IFERROR(INDEX('Sub4'!F:F,SMALL(IF('Sub4'!$W$5:$W$34<>"",ROW('Sub4'!$W$5:$W$34)),ROWS($BH$7:$BH14))),"")} | BK14: {=IFERROR(INDEX('Sub4'!G:G,SMALL(IF('Sub4'!$W$5:$W$34<>"",ROW('Sub4'!$W$5:$W$34)),ROWS($BH$7:$BH14))),"")} | BL14: {=IFERROR(INDEX('Sub4'!H:H,SMALL(IF('Sub4'!$W$5:$W$34<>"",ROW('Sub4'!$W$5:$W$34)),ROWS($BH$7:$BH14))),"")} | BM14: {=IFERROR(INDEX('Sub4'!I:I,SMALL(IF('Sub4'!$W$5:$W$34<>"",ROW('Sub4'!$W$5:$W$34)),ROWS($BH$7:$BH14))),"")} | BN14: {=IFERROR(INDEX('Sub4'!J:J,SMALL(IF('Sub4'!$W$5:$W$34<>"",ROW('Sub4'!$W$5:$W$34)),ROWS($BH$7:$BH14))),"")} | BO14: {=IFERROR(INDEX('Sub4'!K:K,SMALL(IF('Sub4'!$W$5:$W$34<>"",ROW('Sub4'!$W$5:$W$34)),ROWS($BH$7:$BH14))),"")} | BP14: {=IFERROR(INDEX('Sub4'!L:L,SMALL(IF('Sub4'!$W$5:$W$34<>"",ROW('Sub4'!$W$5:$W$34)),ROWS($BH$7:$BH14))),"")} | BQ14: {=IFERROR(INDEX('Sub4'!M:M,SMALL(IF('Sub4'!$W$5:$W$34<>"",ROW('Sub4'!$W$5:$W$34)),ROWS($BH$7:$BH14))),"")} | BR14: {=IFERROR(INDEX('Sub4'!N:N,SMALL(IF('Sub4'!$W$5:$W$34<>"",ROW('Sub4'!$W$5:$W$34)),ROWS($BH$7:$BH14))),"")} | BS14: {=IFERROR(INDEX('Sub4'!O:O,SMALL(IF('Sub4'!$W$5:$W$34<>"",ROW('Sub4'!$W$5:$W$34)),ROWS($BH$7:$BH14))),"")} | BT14: {=IFERROR(INDEX('Sub4'!P:P,SMALL(IF('Sub4'!$W$5:$W$34<>"",ROW('Sub4'!$W$5:$W$34)),ROWS($BH$7:$BH14))),"")} | BU14: {=IFERROR(INDEX('Sub4'!Q:Q,SMALL(IF('Sub4'!$W$5:$W$34<>"",ROW('Sub4'!$W$5:$W$34)),ROWS($BH$7:$BH14))),"")} | BW14: {=IFERROR(INDEX('Sub5'!A:A,SMALL(IF('Sub5'!$Y$5:$Y$34<>"",ROW('Sub5'!$Y$5:$Y$34)),ROWS($BY$7:$BY14))),"")} | BX14: {=IFERROR(INDEX('Sub5'!B:B,SMALL(IF('Sub5'!$Y$5:$Y$34<>"",ROW('Sub5'!$Y$5:$Y$34)),ROWS($BY$7:$BY14))),"")} | BY14: {=IFERROR(INDEX('Sub5'!C:C,SMALL(IF('Sub5'!$Y$5:$Y$34<>"",ROW('Sub5'!$Y$5:$Y$34)),ROWS($BY$7:$BY14))),"")} | BZ14: {=IFERROR(INDEX('Sub5'!Y:Y,SMALL(IF('Sub5'!$Y$5:$Y$34<>"",ROW('Sub5'!$Y$5:$Y$34)),ROWS($BY$7:$BY14))),"")} | CA14: {=IFERROR(INDEX('Sub5'!F:F,SMALL(IF('Sub5'!$Y$5:$Y$34<>"",ROW('Sub5'!$Y$5:$Y$34)),ROWS($BY$7:$BY14))),"")} | CB14: {=IFERROR(INDEX('Sub5'!G:G,SMALL(IF('Sub5'!$Y$5:$Y$34<>"",ROW('Sub5'!$Y$5:$Y$34)),ROWS($BY$7:$BY14))),"")} | CC14: {=IFERROR(INDEX('Sub5'!H:H,SMALL(IF('Sub5'!$Y$5:$Y$34<>"",ROW('Sub5'!$Y$5:$Y$34)),ROWS($BY$7:$BY14))),"")} | CD14: {=IFERROR(INDEX('Sub5'!I:I,SMALL(IF('Sub5'!$Y$5:$Y$34<>"",ROW('Sub5'!$Y$5:$Y$34)),ROWS($BY$7:$BY14))),"")} | CE14: {=IFERROR(INDEX('Sub5'!J:J,SMALL(IF('Sub5'!$Y$5:$Y$34<>"",ROW('Sub5'!$Y$5:$Y$34)),ROWS($BY$7:$BY14))),"")} | CF14: {=IFERROR(INDEX('Sub5'!K:K,SMALL(IF('Sub5'!$Y$5:$Y$34<>"",ROW('Sub5'!$Y$5:$Y$34)),ROWS($BY$7:$BY14))),"")} | CG14: {=IFERROR(INDEX('Sub5'!L:L,SMALL(IF('Sub5'!$Y$5:$Y$34<>"",ROW('Sub5'!$Y$5:$Y$34)),ROWS($BY$7:$BY14))),"")} | CH14: {=IFERROR(INDEX('Sub5'!M:M,SMALL(IF('Sub5'!$Y$5:$Y$34<>"",ROW('Sub5'!$Y$5:$Y$34)),ROWS($BY$7:$BY14))),"")} | CI14: {=IFERROR(INDEX('Sub5'!N:N,SMALL(IF('Sub5'!$Y$5:$Y$34<>"",ROW('Sub5'!$Y$5:$Y$34)),ROWS($BY$7:$BY14))),"")} | CJ14: {=IFERROR(INDEX('Sub5'!O:O,SMALL(IF('Sub5'!$Y$5:$Y$34<>"",ROW('Sub5'!$Y$5:$Y$34)),ROWS($BY$7:$BY14))),"")} | CK14: {=IFERROR(INDEX('Sub5'!P:P,SMALL(IF('Sub5'!$Y$5:$Y$34<>"",ROW('Sub5'!$Y$5:$Y$34)),ROWS($BY$7:$BY14))),"")} | CL14: {=IFERROR(INDEX('Sub5'!Q:Q,SMALL(IF('Sub5'!$Y$5:$Y$34<>"",ROW('Sub5'!$Y$5:$Y$34)),ROWS($BY$7:$BY14))),"")}
G15: {=IFERROR(INDEX('Sub1'!A:A,SMALL(IF('Sub1'!$AC$5:$AC$34<>"",ROW('Sub1'!$AC$5:$AC$34)),ROWS(G$7:G15))),"")} | H15: {=IFERROR(INDEX('Sub1'!B:B,SMALL(IF('Sub1'!$AC$5:$AC$34<>"",ROW('Sub1'!$AC$5:$AC$34)),ROWS(H$7:H15))),"")} | I15: {=IFERROR(INDEX('Sub1'!C:C,SMALL(IF('Sub1'!$AC$5:$AC$34<>"",ROW('Sub1'!$AC$5:$AC$34)),ROWS(I$7:I15))),"")} | J15: {=IFERROR(INDEX('Sub1'!AC:AC,SMALL(IF('Sub1'!$AC$5:$AC$34<>"",ROW('Sub1'!$AC$5:$AC$34)),ROWS(J$7:J15))),"")} | K15: {=IFERROR(INDEX('Sub1'!G:G,SMALL(IF('Sub1'!$AC$5:$AC$34<>"",ROW('Sub1'!$AC$5:$AC$34)),ROWS(I$7:I15))),"")} | L15: {=IFERROR(INDEX('Sub1'!H:H,SMALL(IF('Sub1'!$AC$5:$AC$34<>"",ROW('Sub1'!$AC$5:$AC$34)),ROWS(I$7:I15))),"")} | M15: {=IFERROR(INDEX('Sub1'!I:I,SMALL(IF('Sub1'!$AC$5:$AC$34<>"",ROW('Sub1'!$AC$5:$AC$34)),ROWS(I$7:I15))),"")} | N15: {=IFERROR(INDEX('Sub1'!J:J,SMALL(IF('Sub1'!$AC$5:$AC$34<>"",ROW('Sub1'!$AC$5:$AC$34)),ROWS(I$7:I15))),"")} | O15: {=IFERROR(INDEX('Sub1'!K:K,SMALL(IF('Sub1'!$AC$5:$AC$34<>"",ROW('Sub1'!$AC$5:$AC$34)),ROWS(I$7:I15))),"")} | P15: {=IFERROR(INDEX('Sub1'!L:L,SMALL(IF('Sub1'!$AC$5:$AC$34<>"",ROW('Sub1'!$AC$5:$AC$34)),ROWS(I$7:I15))),"")} | Q15: {=IFERROR(INDEX('Sub1'!M:M,SMALL(IF('Sub1'!$AC$5:$AC$34<>"",ROW('Sub1'!$AC$5:$AC$34)),ROWS(I$7:I15))),"")} | R15: {=IFERROR(INDEX('Sub1'!N:N,SMALL(IF('Sub1'!$AC$5:$AC$34<>"",ROW('Sub1'!$AC$5:$AC$34)),ROWS(I$7:I15))),"")} | S15: {=IFERROR(INDEX('Sub1'!O:O,SMALL(IF('Sub1'!$AC$5:$AC$34<>"",ROW('Sub1'!$AC$5:$AC$34)),ROWS(I$7:I15))),"")} | T15: {=IFERROR(INDEX('Sub1'!P:P,SMALL(IF('Sub1'!$AC$5:$AC$34<>"",ROW('Sub1'!$AC$5:$AC$34)),ROWS(I$7:I15))),"")} | U15: {=IFERROR(INDEX('Sub1'!Q:Q,SMALL(IF('Sub1'!$AC$5:$AC$34<>"",ROW('Sub1'!$AC$5:$AC$34)),ROWS(I$7:I15))),"")} | V15: {=IFERROR(INDEX('Sub1'!R:R,SMALL(IF('Sub1'!$AC$5:$AC$34<>"",ROW('Sub1'!$AC$5:$AC$34)),ROWS(I$7:I15))),"")} | X15: {=IFERROR(INDEX('Sub2'!A:A,SMALL(IF('Sub2'!$Y$5:$Y$34<>"",ROW('Sub2'!$Y$5:$Y$34)),ROWS(Z$7:Z15))),"")} | Y15: {=IFERROR(INDEX('Sub2'!B:B,SMALL(IF('Sub2'!$Y$5:$Y$34<>"",ROW('Sub2'!$Y$5:$Y$34)),ROWS(Z$7:Z15))),"")} | Z15: {=IFERROR(INDEX('Sub2'!C:C,SMALL(IF('Sub2'!$Y$5:$Y$34<>"",ROW('Sub2'!$Y$5:$Y$34)),ROWS(Z$7:Z15))),"")} | AA15: {=IFERROR(INDEX('Sub2'!Y:Y,SMALL(IF('Sub2'!$Y$5:$Y$34<>"",ROW('Sub2'!$Y$5:$Y$34)),ROWS(Z$7:Z15))),"")} | AB15: {=IFERROR(INDEX('Sub2'!F:F,SMALL(IF('Sub2'!$Y$5:$Y$34<>"",ROW('Sub2'!$Y$5:$Y$34)),ROWS(Z$7:Z15))),"")} | AC15: {=IFERROR(INDEX('Sub2'!G:G,SMALL(IF('Sub2'!$Y$5:$Y$34<>"",ROW('Sub2'!$Y$5:$Y$34)),ROWS(Z$7:Z15))),"")} | AD15: {=IFERROR(INDEX('Sub2'!H:H,SMALL(IF('Sub2'!$Y$5:$Y$34<>"",ROW('Sub2'!$Y$5:$Y$34)),ROWS(Z$7:Z15))),"")} | AE15: {=IFERROR(INDEX('Sub2'!I:I,SMALL(IF('Sub2'!$Y$5:$Y$34<>"",ROW('Sub2'!$Y$5:$Y$34)),ROWS(Z$7:Z15))),"")} | AF15: {=IFERROR(INDEX('Sub2'!J:J,SMALL(IF('Sub2'!$Y$5:$Y$34<>"",ROW('Sub2'!$Y$5:$Y$34)),ROWS(Z$7:Z15))),"")} | AG15: {=IFERROR(INDEX('Sub2'!K:K,SMALL(IF('Sub2'!$Y$5:$Y$34<>"",ROW('Sub2'!$Y$5:$Y$34)),ROWS(Z$7:Z15))),"")} | AH15: {=IFERROR(INDEX('Sub2'!L:L,SMALL(IF('Sub2'!$Y$5:$Y$34<>"",ROW('Sub2'!$Y$5:$Y$34)),ROWS(Z$7:Z15))),"")} | AI15: {=IFERROR(INDEX('Sub2'!M:M,SMALL(IF('Sub2'!$Y$5:$Y$34<>"",ROW('Sub2'!$Y$5:$Y$34)),ROWS(Z$7:Z15))),"")} | AJ15: {=IFERROR(INDEX('Sub2'!N:N,SMALL(IF('Sub2'!$Y$5:$Y$34<>"",ROW('Sub2'!$Y$5:$Y$34)),ROWS(Z$7:Z15))),"")} | AK15: {=IFERROR(INDEX('Sub2'!O:O,SMALL(IF('Sub2'!$Y$5:$Y$34<>"",ROW('Sub2'!$Y$5:$Y$34)),ROWS(Z$7:Z15))),"")} | AL15: {=IFERROR(INDEX('Sub2'!P:P,SMALL(IF('Sub2'!$Y$5:$Y$34<>"",ROW('Sub2'!$Y$5:$Y$34)),ROWS(Z$7:Z15))),"")} | AM15: {=IFERROR(INDEX('Sub2'!Q:Q,SMALL(IF('Sub2'!$Y$5:$Y$34<>"",ROW('Sub2'!$Y$5:$Y$34)),ROWS(Z$7:Z15))),"")} | AO15: {=IFERROR(INDEX('Sub3'!A:A,SMALL(IF('Sub3'!$Y$5:$Y$34<>"",ROW('Sub3'!$Y$5:$Y$34)),ROWS($AQ$7:$AQ15))),"")} | AP15: {=IFERROR(INDEX('Sub3'!B:B,SMALL(IF('Sub3'!$Y$5:$Y$34<>"",ROW('Sub3'!$Y$5:$Y$34)),ROWS($AQ$7:$AQ15))),"")} | AQ15: {=IFERROR(INDEX('Sub3'!C:C,SMALL(IF('Sub3'!$Y$5:$Y$34<>"",ROW('Sub3'!$Y$5:$Y$34)),ROWS($AQ$7:$AQ15))),"")} | AR15: {=IFERROR(INDEX('Sub3'!Y:Y,SMALL(IF('Sub3'!$Y$5:$Y$34<>"",ROW('Sub3'!$Y$5:$Y$34)),ROWS($AQ$7:$AQ15))),"")} | AS15: {=IFERROR(INDEX('Sub3'!F:F,SMALL(IF('Sub3'!$Y$5:$Y$34<>"",ROW('Sub3'!$Y$5:$Y$34)),ROWS($AQ$7:$AQ15))),"")} | AT15: {=IFERROR(INDEX('Sub3'!G:G,SMALL(IF('Sub3'!$Y$5:$Y$34<>"",ROW('Sub3'!$Y$5:$Y$34)),ROWS($AQ$7:$AQ15))),"")} | AU15: {=IFERROR(INDEX('Sub3'!H:H,SMALL(IF('Sub3'!$Y$5:$Y$34<>"",ROW('Sub3'!$Y$5:$Y$34)),ROWS($AQ$7:$AQ15))),"")} | AV15: {=IFERROR(INDEX('Sub3'!I:I,SMALL(IF('Sub3'!$Y$5:$Y$34<>"",ROW('Sub3'!$Y$5:$Y$34)),ROWS($AQ$7:$AQ15))),"")} | AW15: {=IFERROR(INDEX('Sub3'!J:J,SMALL(IF('Sub3'!$Y$5:$Y$34<>"",ROW('Sub3'!$Y$5:$Y$34)),ROWS($AQ$7:$AQ15))),"")} | AX15: {=IFERROR(INDEX('Sub3'!K:K,SMALL(IF('Sub3'!$Y$5:$Y$34<>"",ROW('Sub3'!$Y$5:$Y$34)),ROWS($AQ$7:$AQ15))),"")} | AY15: {=IFERROR(INDEX('Sub3'!L:L,SMALL(IF('Sub3'!$Y$5:$Y$34<>"",ROW('Sub3'!$Y$5:$Y$34)),ROWS($AQ$7:$AQ15))),"")} | AZ15: {=IFERROR(INDEX('Sub3'!M:M,SMALL(IF('Sub3'!$Y$5:$Y$34<>"",ROW('Sub3'!$Y$5:$Y$34)),ROWS($AQ$7:$AQ15))),"")} | BA15: {=IFERROR(INDEX('Sub3'!N:N,SMALL(IF('Sub3'!$Y$5:$Y$34<>"",ROW('Sub3'!$Y$5:$Y$34)),ROWS($AQ$7:$AQ15))),"")} | BB15: {=IFERROR(INDEX('Sub3'!O:O,SMALL(IF('Sub3'!$Y$5:$Y$34<>"",ROW('Sub3'!$Y$5:$Y$34)),ROWS($AQ$7:$AQ15))),"")} | BC15: {=IFERROR(INDEX('Sub3'!P:P,SMALL(IF('Sub3'!$Y$5:$Y$34<>"",ROW('Sub3'!$Y$5:$Y$34)),ROWS($AQ$7:$AQ15))),"")} | BD15: {=IFERROR(INDEX('Sub3'!Q:Q,SMALL(IF('Sub3'!$Y$5:$Y$34<>"",ROW('Sub3'!$Y$5:$Y$34)),ROWS($AQ$7:$AQ15))),"")} | BF15: {=IFERROR(INDEX('Sub4'!A:A,SMALL(IF('Sub4'!$W$5:$W$34<>"",ROW('Sub4'!$W$5:$W$34)),ROWS($BH$7:$BH15))),"")} | BG15: {=IFERROR(INDEX('Sub4'!B:B,SMALL(IF('Sub4'!$W$5:$W$34<>"",ROW('Sub4'!$W$5:$W$34)),ROWS($BH$7:$BH15))),"")} | BH15: {=IFERROR(INDEX('Sub4'!C:C,SMALL(IF('Sub4'!$W$5:$W$34<>"",ROW('Sub4'!$W$5:$W$34)),ROWS($BH$7:$BH15))),"")} | BI15: {=IFERROR(INDEX('Sub4'!W:W,SMALL(IF('Sub4'!$W$5:$W$34<>"",ROW('Sub4'!$W$5:$W$34)),ROWS($BH$7:$BH15))),"")} | BJ15: {=IFERROR(INDEX('Sub4'!F:F,SMALL(IF('Sub4'!$W$5:$W$34<>"",ROW('Sub4'!$W$5:$W$34)),ROWS($BH$7:$BH15))),"")} | BK15: {=IFERROR(INDEX('Sub4'!G:G,SMALL(IF('Sub4'!$W$5:$W$34<>"",ROW('Sub4'!$W$5:$W$34)),ROWS($BH$7:$BH15))),"")} | BL15: {=IFERROR(INDEX('Sub4'!H:H,SMALL(IF('Sub4'!$W$5:$W$34<>"",ROW('Sub4'!$W$5:$W$34)),ROWS($BH$7:$BH15))),"")} | BM15: {=IFERROR(INDEX('Sub4'!I:I,SMALL(IF('Sub4'!$W$5:$W$34<>"",ROW('Sub4'!$W$5:$W$34)),ROWS($BH$7:$BH15))),"")} | BN15: {=IFERROR(INDEX('Sub4'!J:J,SMALL(IF('Sub4'!$W$5:$W$34<>"",ROW('Sub4'!$W$5:$W$34)),ROWS($BH$7:$BH15))),"")} | BO15: {=IFERROR(INDEX('Sub4'!K:K,SMALL(IF('Sub4'!$W$5:$W$34<>"",ROW('Sub4'!$W$5:$W$34)),ROWS($BH$7:$BH15))),"")} | BP15: {=IFERROR(INDEX('Sub4'!L:L,SMALL(IF('Sub4'!$W$5:$W$34<>"",ROW('Sub4'!$W$5:$W$34)),ROWS($BH$7:$BH15))),"")} | BQ15: {=IFERROR(INDEX('Sub4'!M:M,SMALL(IF('Sub4'!$W$5:$W$34<>"",ROW('Sub4'!$W$5:$W$34)),ROWS($BH$7:$BH15))),"")} | BR15: {=IFERROR(INDEX('Sub4'!N:N,SMALL(IF('Sub4'!$W$5:$W$34<>"",ROW('Sub4'!$W$5:$W$34)),ROWS($BH$7:$BH15))),"")} | BS15: {=IFERROR(INDEX('Sub4'!O:O,SMALL(IF('Sub4'!$W$5:$W$34<>"",ROW('Sub4'!$W$5:$W$34)),ROWS($BH$7:$BH15))),"")} | BT15: {=IFERROR(INDEX('Sub4'!P:P,SMALL(IF('Sub4'!$W$5:$W$34<>"",ROW('Sub4'!$W$5:$W$34)),ROWS($BH$7:$BH15))),"")} | BU15: {=IFERROR(INDEX('Sub4'!Q:Q,SMALL(IF('Sub4'!$W$5:$W$34<>"",ROW('Sub4'!$W$5:$W$34)),ROWS($BH$7:$BH15))),"")} | BW15: {=IFERROR(INDEX('Sub5'!A:A,SMALL(IF('Sub5'!$Y$5:$Y$34<>"",ROW('Sub5'!$Y$5:$Y$34)),ROWS($BY$7:$BY15))),"")} | BX15: {=IFERROR(INDEX('Sub5'!B:B,SMALL(IF('Sub5'!$Y$5:$Y$34<>"",ROW('Sub5'!$Y$5:$Y$34)),ROWS($BY$7:$BY15))),"")} | BY15: {=IFERROR(INDEX('Sub5'!C:C,SMALL(IF('Sub5'!$Y$5:$Y$34<>"",ROW('Sub5'!$Y$5:$Y$34)),ROWS($BY$7:$BY15))),"")} | BZ15: {=IFERROR(INDEX('Sub5'!Y:Y,SMALL(IF('Sub5'!$Y$5:$Y$34<>"",ROW('Sub5'!$Y$5:$Y$34)),ROWS($BY$7:$BY15))),"")} | CA15: {=IFERROR(INDEX('Sub5'!F:F,SMALL(IF('Sub5'!$Y$5:$Y$34<>"",ROW('Sub5'!$Y$5:$Y$34)),ROWS($BY$7:$BY15))),"")} | CB15: {=IFERROR(INDEX('Sub5'!G:G,SMALL(IF('Sub5'!$Y$5:$Y$34<>"",ROW('Sub5'!$Y$5:$Y$34)),ROWS($BY$7:$BY15))),"")} | CC15: {=IFERROR(INDEX('Sub5'!H:H,SMALL(IF('Sub5'!$Y$5:$Y$34<>"",ROW('Sub5'!$Y$5:$Y$34)),ROWS($BY$7:$BY15))),"")} | CD15: {=IFERROR(INDEX('Sub5'!I:I,SMALL(IF('Sub5'!$Y$5:$Y$34<>"",ROW('Sub5'!$Y$5:$Y$34)),ROWS($BY$7:$BY15))),"")} | CE15: {=IFERROR(INDEX('Sub5'!J:J,SMALL(IF('Sub5'!$Y$5:$Y$34<>"",ROW('Sub5'!$Y$5:$Y$34)),ROWS($BY$7:$BY15))),"")} | CF15: {=IFERROR(INDEX('Sub5'!K:K,SMALL(IF('Sub5'!$Y$5:$Y$34<>"",ROW('Sub5'!$Y$5:$Y$34)),ROWS($BY$7:$BY15))),"")} | CG15: {=IFERROR(INDEX('Sub5'!L:L,SMALL(IF('Sub5'!$Y$5:$Y$34<>"",ROW('Sub5'!$Y$5:$Y$34)),ROWS($BY$7:$BY15))),"")} | CH15: {=IFERROR(INDEX('Sub5'!M:M,SMALL(IF('Sub5'!$Y$5:$Y$34<>"",ROW('Sub5'!$Y$5:$Y$34)),ROWS($BY$7:$BY15))),"")} | CI15: {=IFERROR(INDEX('Sub5'!N:N,SMALL(IF('Sub5'!$Y$5:$Y$34<>"",ROW('Sub5'!$Y$5:$Y$34)),ROWS($BY$7:$BY15))),"")} | CJ15: {=IFERROR(INDEX('Sub5'!O:O,SMALL(IF('Sub5'!$Y$5:$Y$34<>"",ROW('Sub5'!$Y$5:$Y$34)),ROWS($BY$7:$BY15))),"")} | CK15: {=IFERROR(INDEX('Sub5'!P:P,SMALL(IF('Sub5'!$Y$5:$Y$34<>"",ROW('Sub5'!$Y$5:$Y$34)),ROWS($BY$7:$BY15))),"")} | CL15: {=IFERROR(INDEX('Sub5'!Q:Q,SMALL(IF('Sub5'!$Y$5:$Y$34<>"",ROW('Sub5'!$Y$5:$Y$34)),ROWS($BY$7:$BY15))),"")}
G16: {=IFERROR(INDEX('Sub1'!A:A,SMALL(IF('Sub1'!$AC$5:$AC$34<>"",ROW('Sub1'!$AC$5:$AC$34)),ROWS(G$7:G16))),"")} | H16: {=IFERROR(INDEX('Sub1'!B:B,SMALL(IF('Sub1'!$AC$5:$AC$34<>"",ROW('Sub1'!$AC$5:$AC$34)),ROWS(H$7:H16))),"")} | I16: {=IFERROR(INDEX('Sub1'!C:C,SMALL(IF('Sub1'!$AC$5:$AC$34<>"",ROW('Sub1'!$AC$5:$AC$34)),ROWS(I$7:I16))),"")} | J16: {=IFERROR(INDEX('Sub1'!AC:AC,SMALL(IF('Sub1'!$AC$5:$AC$34<>"",ROW('Sub1'!$AC$5:$AC$34)),ROWS(J$7:J16))),"")} | K16: {=IFERROR(INDEX('Sub1'!G:G,SMALL(IF('Sub1'!$AC$5:$AC$34<>"",ROW('Sub1'!$AC$5:$AC$34)),ROWS(I$7:I16))),"")} | L16: {=IFERROR(INDEX('Sub1'!H:H,SMALL(IF('Sub1'!$AC$5:$AC$34<>"",ROW('Sub1'!$AC$5:$AC$34)),ROWS(I$7:I16))),"")} | M16: {=IFERROR(INDEX('Sub1'!I:I,SMALL(IF('Sub1'!$AC$5:$AC$34<>"",ROW('Sub1'!$AC$5:$AC$34)),ROWS(I$7:I16))),"")} | N16: {=IFERROR(INDEX('Sub1'!J:J,SMALL(IF('Sub1'!$AC$5:$AC$34<>"",ROW('Sub1'!$AC$5:$AC$34)),ROWS(I$7:I16))),"")} | O16: {=IFERROR(INDEX('Sub1'!K:K,SMALL(IF('Sub1'!$AC$5:$AC$34<>"",ROW('Sub1'!$AC$5:$AC$34)),ROWS(I$7:I16))),"")} | P16: {=IFERROR(INDEX('Sub1'!L:L,SMALL(IF('Sub1'!$AC$5:$AC$34<>"",ROW('Sub1'!$AC$5:$AC$34)),ROWS(I$7:I16))),"")} | Q16: {=IFERROR(INDEX('Sub1'!M:M,SMALL(IF('Sub1'!$AC$5:$AC$34<>"",ROW('Sub1'!$AC$5:$AC$34)),ROWS(I$7:I16))),"")} | R16: {=IFERROR(INDEX('Sub1'!N:N,SMALL(IF('Sub1'!$AC$5:$AC$34<>"",ROW('Sub1'!$AC$5:$AC$34)),ROWS(I$7:I16))),"")} | S16: {=IFERROR(INDEX('Sub1'!O:O,SMALL(IF('Sub1'!$AC$5:$AC$34<>"",ROW('Sub1'!$AC$5:$AC$34)),ROWS(I$7:I16))),"")} | T16: {=IFERROR(INDEX('Sub1'!P:P,SMALL(IF('Sub1'!$AC$5:$AC$34<>"",ROW('Sub1'!$AC$5:$AC$34)),ROWS(I$7:I16))),"")} | U16: {=IFERROR(INDEX('Sub1'!Q:Q,SMALL(IF('Sub1'!$AC$5:$AC$34<>"",ROW('Sub1'!$AC$5:$AC$34)),ROWS(I$7:I16))),"")} | V16: {=IFERROR(INDEX('Sub1'!R:R,SMALL(IF('Sub1'!$AC$5:$AC$34<>"",ROW('Sub1'!$AC$5:$AC$34)),ROWS(I$7:I16))),"")} | X16: {=IFERROR(INDEX('Sub2'!A:A,SMALL(IF('Sub2'!$Y$5:$Y$34<>"",ROW('Sub2'!$Y$5:$Y$34)),ROWS(Z$7:Z16))),"")} | Y16: {=IFERROR(INDEX('Sub2'!B:B,SMALL(IF('Sub2'!$Y$5:$Y$34<>"",ROW('Sub2'!$Y$5:$Y$34)),ROWS(Z$7:Z16))),"")} | Z16: {=IFERROR(INDEX('Sub2'!C:C,SMALL(IF('Sub2'!$Y$5:$Y$34<>"",ROW('Sub2'!$Y$5:$Y$34)),ROWS(Z$7:Z16))),"")} | AA16: {=IFERROR(INDEX('Sub2'!Y:Y,SMALL(IF('Sub2'!$Y$5:$Y$34<>"",ROW('Sub2'!$Y$5:$Y$34)),ROWS(Z$7:Z16))),"")} | AB16: {=IFERROR(INDEX('Sub2'!F:F,SMALL(IF('Sub2'!$Y$5:$Y$34<>"",ROW('Sub2'!$Y$5:$Y$34)),ROWS(Z$7:Z16))),"")} | AC16: {=IFERROR(INDEX('Sub2'!G:G,SMALL(IF('Sub2'!$Y$5:$Y$34<>"",ROW('Sub2'!$Y$5:$Y$34)),ROWS(Z$7:Z16))),"")} | AD16: {=IFERROR(INDEX('Sub2'!H:H,SMALL(IF('Sub2'!$Y$5:$Y$34<>"",ROW('Sub2'!$Y$5:$Y$34)),ROWS(Z$7:Z16))),"")} | AE16: {=IFERROR(INDEX('Sub2'!I:I,SMALL(IF('Sub2'!$Y$5:$Y$34<>"",ROW('Sub2'!$Y$5:$Y$34)),ROWS(Z$7:Z16))),"")} | AF16: {=IFERROR(INDEX('Sub2'!J:J,SMALL(IF('Sub2'!$Y$5:$Y$34<>"",ROW('Sub2'!$Y$5:$Y$34)),ROWS(Z$7:Z16))),"")} | AG16: {=IFERROR(INDEX('Sub2'!K:K,SMALL(IF('Sub2'!$Y$5:$Y$34<>"",ROW('Sub2'!$Y$5:$Y$34)),ROWS(Z$7:Z16))),"")} | AH16: {=IFERROR(INDEX('Sub2'!L:L,SMALL(IF('Sub2'!$Y$5:$Y$34<>"",ROW('Sub2'!$Y$5:$Y$34)),ROWS(Z$7:Z16))),"")} | AI16: {=IFERROR(INDEX('Sub2'!M:M,SMALL(IF('Sub2'!$Y$5:$Y$34<>"",ROW('Sub2'!$Y$5:$Y$34)),ROWS(Z$7:Z16))),"")} | AJ16: {=IFERROR(INDEX('Sub2'!N:N,SMALL(IF('Sub2'!$Y$5:$Y$34<>"",ROW('Sub2'!$Y$5:$Y$34)),ROWS(Z$7:Z16))),"")} | AK16: {=IFERROR(INDEX('Sub2'!O:O,SMALL(IF('Sub2'!$Y$5:$Y$34<>"",ROW('Sub2'!$Y$5:$Y$34)),ROWS(Z$7:Z16))),"")} | AL16: {=IFERROR(INDEX('Sub2'!P:P,SMALL(IF('Sub2'!$Y$5:$Y$34<>"",ROW('Sub2'!$Y$5:$Y$34)),ROWS(Z$7:Z16))),"")} | AM16: {=IFERROR(INDEX('Sub2'!Q:Q,SMALL(IF('Sub2'!$Y$5:$Y$34<>"",ROW('Sub2'!$Y$5:$Y$34)),ROWS(Z$7:Z16))),"")} | AO16: {=IFERROR(INDEX('Sub3'!A:A,SMALL(IF('Sub3'!$Y$5:$Y$34<>"",ROW('Sub3'!$Y$5:$Y$34)),ROWS($AQ$7:$AQ16))),"")} | AP16: {=IFERROR(INDEX('Sub3'!B:B,SMALL(IF('Sub3'!$Y$5:$Y$34<>"",ROW('Sub3'!$Y$5:$Y$34)),ROWS($AQ$7:$AQ16))),"")} | AQ16: {=IFERROR(INDEX('Sub3'!C:C,SMALL(IF('Sub3'!$Y$5:$Y$34<>"",ROW('Sub3'!$Y$5:$Y$34)),ROWS($AQ$7:$AQ16))),"")} | AR16: {=IFERROR(INDEX('Sub3'!Y:Y,SMALL(IF('Sub3'!$Y$5:$Y$34<>"",ROW('Sub3'!$Y$5:$Y$34)),ROWS($AQ$7:$AQ16))),"")} | AS16: {=IFERROR(INDEX('Sub3'!F:F,SMALL(IF('Sub3'!$Y$5:$Y$34<>"",ROW('Sub3'!$Y$5:$Y$34)),ROWS($AQ$7:$AQ16))),"")} | AT16: {=IFERROR(INDEX('Sub3'!G:G,SMALL(IF('Sub3'!$Y$5:$Y$34<>"",ROW('Sub3'!$Y$5:$Y$34)),ROWS($AQ$7:$AQ16))),"")} | AU16: {=IFERROR(INDEX('Sub3'!H:H,SMALL(IF('Sub3'!$Y$5:$Y$34<>"",ROW('Sub3'!$Y$5:$Y$34)),ROWS($AQ$7:$AQ16))),"")} | AV16: {=IFERROR(INDEX('Sub3'!I:I,SMALL(IF('Sub3'!$Y$5:$Y$34<>"",ROW('Sub3'!$Y$5:$Y$34)),ROWS($AQ$7:$AQ16))),"")} | AW16: {=IFERROR(INDEX('Sub3'!J:J,SMALL(IF('Sub3'!$Y$5:$Y$34<>"",ROW('Sub3'!$Y$5:$Y$34)),ROWS($AQ$7:$AQ16))),"")} | AX16: {=IFERROR(INDEX('Sub3'!K:K,SMALL(IF('Sub3'!$Y$5:$Y$34<>"",ROW('Sub3'!$Y$5:$Y$34)),ROWS($AQ$7:$AQ16))),"")} | AY16: {=IFERROR(INDEX('Sub3'!L:L,SMALL(IF('Sub3'!$Y$5:$Y$34<>"",ROW('Sub3'!$Y$5:$Y$34)),ROWS($AQ$7:$AQ16))),"")} | AZ16: {=IFERROR(INDEX('Sub3'!M:M,SMALL(IF('Sub3'!$Y$5:$Y$34<>"",ROW('Sub3'!$Y$5:$Y$34)),ROWS($AQ$7:$AQ16))),"")} | BA16: {=IFERROR(INDEX('Sub3'!N:N,SMALL(IF('Sub3'!$Y$5:$Y$34<>"",ROW('Sub3'!$Y$5:$Y$34)),ROWS($AQ$7:$AQ16))),"")} | BB16: {=IFERROR(INDEX('Sub3'!O:O,SMALL(IF('Sub3'!$Y$5:$Y$34<>"",ROW('Sub3'!$Y$5:$Y$34)),ROWS($AQ$7:$AQ16))),"")} | BC16: {=IFERROR(INDEX('Sub3'!P:P,SMALL(IF('Sub3'!$Y$5:$Y$34<>"",ROW('Sub3'!$Y$5:$Y$34)),ROWS($AQ$7:$AQ16))),"")} | BD16: {=IFERROR(INDEX('Sub3'!Q:Q,SMALL(IF('Sub3'!$Y$5:$Y$34<>"",ROW('Sub3'!$Y$5:$Y$34)),ROWS($AQ$7:$AQ16))),"")} | BF16: {=IFERROR(INDEX('Sub4'!A:A,SMALL(IF('Sub4'!$W$5:$W$34<>"",ROW('Sub4'!$W$5:$W$34)),ROWS($BH$7:$BH16))),"")} | BG16: {=IFERROR(INDEX('Sub4'!B:B,SMALL(IF('Sub4'!$W$5:$W$34<>"",ROW('Sub4'!$W$5:$W$34)),ROWS($BH$7:$BH16))),"")} | BH16: {=IFERROR(INDEX('Sub4'!C:C,SMALL(IF('Sub4'!$W$5:$W$34<>"",ROW('Sub4'!$W$5:$W$34)),ROWS($BH$7:$BH16))),"")} | BI16: {=IFERROR(INDEX('Sub4'!W:W,SMALL(IF('Sub4'!$W$5:$W$34<>"",ROW('Sub4'!$W$5:$W$34)),ROWS($BH$7:$BH16))),"")} | BJ16: {=IFERROR(INDEX('Sub4'!F:F,SMALL(IF('Sub4'!$W$5:$W$34<>"",ROW('Sub4'!$W$5:$W$34)),ROWS($BH$7:$BH16))),"")} | BK16: {=IFERROR(INDEX('Sub4'!G:G,SMALL(IF('Sub4'!$W$5:$W$34<>"",ROW('Sub4'!$W$5:$W$34)),ROWS($BH$7:$BH16))),"")} | BL16: {=IFERROR(INDEX('Sub4'!H:H,SMALL(IF('Sub4'!$W$5:$W$34<>"",ROW('Sub4'!$W$5:$W$34)),ROWS($BH$7:$BH16))),"")} | BM16: {=IFERROR(INDEX('Sub4'!I:I,SMALL(IF('Sub4'!$W$5:$W$34<>"",ROW('Sub4'!$W$5:$W$34)),ROWS($BH$7:$BH16))),"")} | BN16: {=IFERROR(INDEX('Sub4'!J:J,SMALL(IF('Sub4'!$W$5:$W$34<>"",ROW('Sub4'!$W$5:$W$34)),ROWS($BH$7:$BH16))),"")} | BO16: {=IFERROR(INDEX('Sub4'!K:K,SMALL(IF('Sub4'!$W$5:$W$34<>"",ROW('Sub4'!$W$5:$W$34)),ROWS($BH$7:$BH16))),"")} | BP16: {=IFERROR(INDEX('Sub4'!L:L,SMALL(IF('Sub4'!$W$5:$W$34<>"",ROW('Sub4'!$W$5:$W$34)),ROWS($BH$7:$BH16))),"")} | BQ16: {=IFERROR(INDEX('Sub4'!M:M,SMALL(IF('Sub4'!$W$5:$W$34<>"",ROW('Sub4'!$W$5:$W$34)),ROWS($BH$7:$BH16))),"")} | BR16: {=IFERROR(INDEX('Sub4'!N:N,SMALL(IF('Sub4'!$W$5:$W$34<>"",ROW('Sub4'!$W$5:$W$34)),ROWS($BH$7:$BH16))),"")} | BS16: {=IFERROR(INDEX('Sub4'!O:O,SMALL(IF('Sub4'!$W$5:$W$34<>"",ROW('Sub4'!$W$5:$W$34)),ROWS($BH$7:$BH16))),"")} | BT16: {=IFERROR(INDEX('Sub4'!P:P,SMALL(IF('Sub4'!$W$5:$W$34<>"",ROW('Sub4'!$W$5:$W$34)),ROWS($BH$7:$BH16))),"")} | BU16: {=IFERROR(INDEX('Sub4'!Q:Q,SMALL(IF('Sub4'!$W$5:$W$34<>"",ROW('Sub4'!$W$5:$W$34)),ROWS($BH$7:$BH16))),"")} | BW16: {=IFERROR(INDEX('Sub5'!A:A,SMALL(IF('Sub5'!$Y$5:$Y$34<>"",ROW('Sub5'!$Y$5:$Y$34)),ROWS($BY$7:$BY16))),"")} | BX16: {=IFERROR(INDEX('Sub5'!B:B,SMALL(IF('Sub5'!$Y$5:$Y$34<>"",ROW('Sub5'!$Y$5:$Y$34)),ROWS($BY$7:$BY16))),"")} | BY16: {=IFERROR(INDEX('Sub5'!C:C,SMALL(IF('Sub5'!$Y$5:$Y$34<>"",ROW('Sub5'!$Y$5:$Y$34)),ROWS($BY$7:$BY16))),"")} | BZ16: {=IFERROR(INDEX('Sub5'!Y:Y,SMALL(IF('Sub5'!$Y$5:$Y$34<>"",ROW('Sub5'!$Y$5:$Y$34)),ROWS($BY$7:$BY16))),"")} | CA16: {=IFERROR(INDEX('Sub5'!F:F,SMALL(IF('Sub5'!$Y$5:$Y$34<>"",ROW('Sub5'!$Y$5:$Y$34)),ROWS($BY$7:$BY16))),"")} | CB16: {=IFERROR(INDEX('Sub5'!G:G,SMALL(IF('Sub5'!$Y$5:$Y$34<>"",ROW('Sub5'!$Y$5:$Y$34)),ROWS($BY$7:$BY16))),"")} | CC16: {=IFERROR(INDEX('Sub5'!H:H,SMALL(IF('Sub5'!$Y$5:$Y$34<>"",ROW('Sub5'!$Y$5:$Y$34)),ROWS($BY$7:$BY16))),"")} | CD16: {=IFERROR(INDEX('Sub5'!I:I,SMALL(IF('Sub5'!$Y$5:$Y$34<>"",ROW('Sub5'!$Y$5:$Y$34)),ROWS($BY$7:$BY16))),"")} | CE16: {=IFERROR(INDEX('Sub5'!J:J,SMALL(IF('Sub5'!$Y$5:$Y$34<>"",ROW('Sub5'!$Y$5:$Y$34)),ROWS($BY$7:$BY16))),"")} | CF16: {=IFERROR(INDEX('Sub5'!K:K,SMALL(IF('Sub5'!$Y$5:$Y$34<>"",ROW('Sub5'!$Y$5:$Y$34)),ROWS($BY$7:$BY16))),"")} | CG16: {=IFERROR(INDEX('Sub5'!L:L,SMALL(IF('Sub5'!$Y$5:$Y$34<>"",ROW('Sub5'!$Y$5:$Y$34)),ROWS($BY$7:$BY16))),"")} | CH16: {=IFERROR(INDEX('Sub5'!M:M,SMALL(IF('Sub5'!$Y$5:$Y$34<>"",ROW('Sub5'!$Y$5:$Y$34)),ROWS($BY$7:$BY16))),"")} | CI16: {=IFERROR(INDEX('Sub5'!N:N,SMALL(IF('Sub5'!$Y$5:$Y$34<>"",ROW('Sub5'!$Y$5:$Y$34)),ROWS($BY$7:$BY16))),"")} | CJ16: {=IFERROR(INDEX('Sub5'!O:O,SMALL(IF('Sub5'!$Y$5:$Y$34<>"",ROW('Sub5'!$Y$5:$Y$34)),ROWS($BY$7:$BY16))),"")} | CK16: {=IFERROR(INDEX('Sub5'!P:P,SMALL(IF('Sub5'!$Y$5:$Y$34<>"",ROW('Sub5'!$Y$5:$Y$34)),ROWS($BY$7:$BY16))),"")} | CL16: {=IFERROR(INDEX('Sub5'!Q:Q,SMALL(IF('Sub5'!$Y$5:$Y$34<>"",ROW('Sub5'!$Y$5:$Y$34)),ROWS($BY$7:$BY16))),"")}
G17: {=IFERROR(INDEX('Sub1'!A:A,SMALL(IF('Sub1'!$AC$5:$AC$34<>"",ROW('Sub1'!$AC$5:$AC$34)),ROWS(G$7:G17))),"")} | H17: {=IFERROR(INDEX('Sub1'!B:B,SMALL(IF('Sub1'!$AC$5:$AC$34<>"",ROW('Sub1'!$AC$5:$AC$34)),ROWS(H$7:H17))),"")} | I17: {=IFERROR(INDEX('Sub1'!C:C,SMALL(IF('Sub1'!$AC$5:$AC$34<>"",ROW('Sub1'!$AC$5:$AC$34)),ROWS(I$7:I17))),"")} | J17: {=IFERROR(INDEX('Sub1'!AC:AC,SMALL(IF('Sub1'!$AC$5:$AC$34<>"",ROW('Sub1'!$AC$5:$AC$34)),ROWS(J$7:J17))),"")} | K17: {=IFERROR(INDEX('Sub1'!G:G,SMALL(IF('Sub1'!$AC$5:$AC$34<>"",ROW('Sub1'!$AC$5:$AC$34)),ROWS(I$7:I17))),"")} | L17: {=IFERROR(INDEX('Sub1'!H:H,SMALL(IF('Sub1'!$AC$5:$AC$34<>"",ROW('Sub1'!$AC$5:$AC$34)),ROWS(I$7:I17))),"")} | M17: {=IFERROR(INDEX('Sub1'!I:I,SMALL(IF('Sub1'!$AC$5:$AC$34<>"",ROW('Sub1'!$AC$5:$AC$34)),ROWS(I$7:I17))),"")} | N17: {=IFERROR(INDEX('Sub1'!J:J,SMALL(IF('Sub1'!$AC$5:$AC$34<>"",ROW('Sub1'!$AC$5:$AC$34)),ROWS(I$7:I17))),"")} | O17: {=IFERROR(INDEX('Sub1'!K:K,SMALL(IF('Sub1'!$AC$5:$AC$34<>"",ROW('Sub1'!$AC$5:$AC$34)),ROWS(I$7:I17))),"")} | P17: {=IFERROR(INDEX('Sub1'!L:L,SMALL(IF('Sub1'!$AC$5:$AC$34<>"",ROW('Sub1'!$AC$5:$AC$34)),ROWS(I$7:I17))),"")} | Q17: {=IFERROR(INDEX('Sub1'!M:M,SMALL(IF('Sub1'!$AC$5:$AC$34<>"",ROW('Sub1'!$AC$5:$AC$34)),ROWS(I$7:I17))),"")} | R17: {=IFERROR(INDEX('Sub1'!N:N,SMALL(IF('Sub1'!$AC$5:$AC$34<>"",ROW('Sub1'!$AC$5:$AC$34)),ROWS(I$7:I17))),"")} | S17: {=IFERROR(INDEX('Sub1'!O:O,SMALL(IF('Sub1'!$AC$5:$AC$34<>"",ROW('Sub1'!$AC$5:$AC$34)),ROWS(I$7:I17))),"")} | T17: {=IFERROR(INDEX('Sub1'!P:P,SMALL(IF('Sub1'!$AC$5:$AC$34<>"",ROW('Sub1'!$AC$5:$AC$34)),ROWS(I$7:I17))),"")} | U17: {=IFERROR(INDEX('Sub1'!Q:Q,SMALL(IF('Sub1'!$AC$5:$AC$34<>"",ROW('Sub1'!$AC$5:$AC$34)),ROWS(I$7:I17))),"")} | V17: {=IFERROR(INDEX('Sub1'!R:R,SMALL(IF('Sub1'!$AC$5:$AC$34<>"",ROW('Sub1'!$AC$5:$AC$34)),ROWS(I$7:I17))),"")} | X17: {=IFERROR(INDEX('Sub2'!A:A,SMALL(IF('Sub2'!$Y$5:$Y$34<>"",ROW('Sub2'!$Y$5:$Y$34)),ROWS(Z$7:Z17))),"")} | Y17: {=IFERROR(INDEX('Sub2'!B:B,SMALL(IF('Sub2'!$Y$5:$Y$34<>"",ROW('Sub2'!$Y$5:$Y$34)),ROWS(Z$7:Z17))),"")} | Z17: {=IFERROR(INDEX('Sub2'!C:C,SMALL(IF('Sub2'!$Y$5:$Y$34<>"",ROW('Sub2'!$Y$5:$Y$34)),ROWS(Z$7:Z17))),"")} | AA17: {=IFERROR(INDEX('Sub2'!Y:Y,SMALL(IF('Sub2'!$Y$5:$Y$34<>"",ROW('Sub2'!$Y$5:$Y$34)),ROWS(Z$7:Z17))),"")} | AB17: {=IFERROR(INDEX('Sub2'!F:F,SMALL(IF('Sub2'!$Y$5:$Y$34<>"",ROW('Sub2'!$Y$5:$Y$34)),ROWS(Z$7:Z17))),"")} | AC17: {=IFERROR(INDEX('Sub2'!G:G,SMALL(IF('Sub2'!$Y$5:$Y$34<>"",ROW('Sub2'!$Y$5:$Y$34)),ROWS(Z$7:Z17))),"")} | AD17: {=IFERROR(INDEX('Sub2'!H:H,SMALL(IF('Sub2'!$Y$5:$Y$34<>"",ROW('Sub2'!$Y$5:$Y$34)),ROWS(Z$7:Z17))),"")} | AE17: {=IFERROR(INDEX('Sub2'!I:I,SMALL(IF('Sub2'!$Y$5:$Y$34<>"",ROW('Sub2'!$Y$5:$Y$34)),ROWS(Z$7:Z17))),"")} | AF17: {=IFERROR(INDEX('Sub2'!J:J,SMALL(IF('Sub2'!$Y$5:$Y$34<>"",ROW('Sub2'!$Y$5:$Y$34)),ROWS(Z$7:Z17))),"")} | AG17: {=IFERROR(INDEX('Sub2'!K:K,SMALL(IF('Sub2'!$Y$5:$Y$34<>"",ROW('Sub2'!$Y$5:$Y$34)),ROWS(Z$7:Z17))),"")} | AH17: {=IFERROR(INDEX('Sub2'!L:L,SMALL(IF('Sub2'!$Y$5:$Y$34<>"",ROW('Sub2'!$Y$5:$Y$34)),ROWS(Z$7:Z17))),"")} | AI17: {=IFERROR(INDEX('Sub2'!M:M,SMALL(IF('Sub2'!$Y$5:$Y$34<>"",ROW('Sub2'!$Y$5:$Y$34)),ROWS(Z$7:Z17))),"")} | AJ17: {=IFERROR(INDEX('Sub2'!N:N,SMALL(IF('Sub2'!$Y$5:$Y$34<>"",ROW('Sub2'!$Y$5:$Y$34)),ROWS(Z$7:Z17))),"")} | AK17: {=IFERROR(INDEX('Sub2'!O:O,SMALL(IF('Sub2'!$Y$5:$Y$34<>"",ROW('Sub2'!$Y$5:$Y$34)),ROWS(Z$7:Z17))),"")} | AL17: {=IFERROR(INDEX('Sub2'!P:P,SMALL(IF('Sub2'!$Y$5:$Y$34<>"",ROW('Sub2'!$Y$5:$Y$34)),ROWS(Z$7:Z17))),"")} | AM17: {=IFERROR(INDEX('Sub2'!Q:Q,SMALL(IF('Sub2'!$Y$5:$Y$34<>"",ROW('Sub2'!$Y$5:$Y$34)),ROWS(Z$7:Z17))),"")} | AO17: {=IFERROR(INDEX('Sub3'!A:A,SMALL(IF('Sub3'!$Y$5:$Y$34<>"",ROW('Sub3'!$Y$5:$Y$34)),ROWS($AQ$7:$AQ17))),"")} | AP17: {=IFERROR(INDEX('Sub3'!B:B,SMALL(IF('Sub3'!$Y$5:$Y$34<>"",ROW('Sub3'!$Y$5:$Y$34)),ROWS($AQ$7:$AQ17))),"")} | AQ17: {=IFERROR(INDEX('Sub3'!C:C,SMALL(IF('Sub3'!$Y$5:$Y$34<>"",ROW('Sub3'!$Y$5:$Y$34)),ROWS($AQ$7:$AQ17))),"")} | AR17: {=IFERROR(INDEX('Sub3'!Y:Y,SMALL(IF('Sub3'!$Y$5:$Y$34<>"",ROW('Sub3'!$Y$5:$Y$34)),ROWS($AQ$7:$AQ17))),"")} | AS17: {=IFERROR(INDEX('Sub3'!F:F,SMALL(IF('Sub3'!$Y$5:$Y$34<>"",ROW('Sub3'!$Y$5:$Y$34)),ROWS($AQ$7:$AQ17))),"")} | AT17: {=IFERROR(INDEX('Sub3'!G:G,SMALL(IF('Sub3'!$Y$5:$Y$34<>"",ROW('Sub3'!$Y$5:$Y$34)),ROWS($AQ$7:$AQ17))),"")} | AU17: {=IFERROR(INDEX('Sub3'!H:H,SMALL(IF('Sub3'!$Y$5:$Y$34<>"",ROW('Sub3'!$Y$5:$Y$34)),ROWS($AQ$7:$AQ17))),"")} | AV17: {=IFERROR(INDEX('Sub3'!I:I,SMALL(IF('Sub3'!$Y$5:$Y$34<>"",ROW('Sub3'!$Y$5:$Y$34)),ROWS($AQ$7:$AQ17))),"")} | AW17: {=IFERROR(INDEX('Sub3'!J:J,SMALL(IF('Sub3'!$Y$5:$Y$34<>"",ROW('Sub3'!$Y$5:$Y$34)),ROWS($AQ$7:$AQ17))),"")} | AX17: {=IFERROR(INDEX('Sub3'!K:K,SMALL(IF('Sub3'!$Y$5:$Y$34<>"",ROW('Sub3'!$Y$5:$Y$34)),ROWS($AQ$7:$AQ17))),"")} | AY17: {=IFERROR(INDEX('Sub3'!L:L,SMALL(IF('Sub3'!$Y$5:$Y$34<>"",ROW('Sub3'!$Y$5:$Y$34)),ROWS($AQ$7:$AQ17))),"")} | AZ17: {=IFERROR(INDEX('Sub3'!M:M,SMALL(IF('Sub3'!$Y$5:$Y$34<>"",ROW('Sub3'!$Y$5:$Y$34)),ROWS($AQ$7:$AQ17))),"")} | BA17: {=IFERROR(INDEX('Sub3'!N:N,SMALL(IF('Sub3'!$Y$5:$Y$34<>"",ROW('Sub3'!$Y$5:$Y$34)),ROWS($AQ$7:$AQ17))),"")} | BB17: {=IFERROR(INDEX('Sub3'!O:O,SMALL(IF('Sub3'!$Y$5:$Y$34<>"",ROW('Sub3'!$Y$5:$Y$34)),ROWS($AQ$7:$AQ17))),"")} | BC17: {=IFERROR(INDEX('Sub3'!P:P,SMALL(IF('Sub3'!$Y$5:$Y$34<>"",ROW('Sub3'!$Y$5:$Y$34)),ROWS($AQ$7:$AQ17))),"")} | BD17: {=IFERROR(INDEX('Sub3'!Q:Q,SMALL(IF('Sub3'!$Y$5:$Y$34<>"",ROW('Sub3'!$Y$5:$Y$34)),ROWS($AQ$7:$AQ17))),"")} | BF17: {=IFERROR(INDEX('Sub4'!A:A,SMALL(IF('Sub4'!$W$5:$W$34<>"",ROW('Sub4'!$W$5:$W$34)),ROWS($BH$7:$BH17))),"")} | BG17: {=IFERROR(INDEX('Sub4'!B:B,SMALL(IF('Sub4'!$W$5:$W$34<>"",ROW('Sub4'!$W$5:$W$34)),ROWS($BH$7:$BH17))),"")} | BH17: {=IFERROR(INDEX('Sub4'!C:C,SMALL(IF('Sub4'!$W$5:$W$34<>"",ROW('Sub4'!$W$5:$W$34)),ROWS($BH$7:$BH17))),"")} | BI17: {=IFERROR(INDEX('Sub4'!W:W,SMALL(IF('Sub4'!$W$5:$W$34<>"",ROW('Sub4'!$W$5:$W$34)),ROWS($BH$7:$BH17))),"")} | BJ17: {=IFERROR(INDEX('Sub4'!F:F,SMALL(IF('Sub4'!$W$5:$W$34<>"",ROW('Sub4'!$W$5:$W$34)),ROWS($BH$7:$BH17))),"")} | BK17: {=IFERROR(INDEX('Sub4'!G:G,SMALL(IF('Sub4'!$W$5:$W$34<>"",ROW('Sub4'!$W$5:$W$34)),ROWS($BH$7:$BH17))),"")} | BL17: {=IFERROR(INDEX('Sub4'!H:H,SMALL(IF('Sub4'!$W$5:$W$34<>"",ROW('Sub4'!$W$5:$W$34)),ROWS($BH$7:$BH17))),"")} | BM17: {=IFERROR(INDEX('Sub4'!I:I,SMALL(IF('Sub4'!$W$5:$W$34<>"",ROW('Sub4'!$W$5:$W$34)),ROWS($BH$7:$BH17))),"")} | BN17: {=IFERROR(INDEX('Sub4'!J:J,SMALL(IF('Sub4'!$W$5:$W$34<>"",ROW('Sub4'!$W$5:$W$34)),ROWS($BH$7:$BH17))),"")} | BO17: {=IFERROR(INDEX('Sub4'!K:K,SMALL(IF('Sub4'!$W$5:$W$34<>"",ROW('Sub4'!$W$5:$W$34)),ROWS($BH$7:$BH17))),"")} | BP17: {=IFERROR(INDEX('Sub4'!L:L,SMALL(IF('Sub4'!$W$5:$W$34<>"",ROW('Sub4'!$W$5:$W$34)),ROWS($BH$7:$BH17))),"")} | BQ17: {=IFERROR(INDEX('Sub4'!M:M,SMALL(IF('Sub4'!$W$5:$W$34<>"",ROW('Sub4'!$W$5:$W$34)),ROWS($BH$7:$BH17))),"")} | BR17: {=IFERROR(INDEX('Sub4'!N:N,SMALL(IF('Sub4'!$W$5:$W$34<>"",ROW('Sub4'!$W$5:$W$34)),ROWS($BH$7:$BH17))),"")} | BS17: {=IFERROR(INDEX('Sub4'!O:O,SMALL(IF('Sub4'!$W$5:$W$34<>"",ROW('Sub4'!$W$5:$W$34)),ROWS($BH$7:$BH17))),"")} | BT17: {=IFERROR(INDEX('Sub4'!P:P,SMALL(IF('Sub4'!$W$5:$W$34<>"",ROW('Sub4'!$W$5:$W$34)),ROWS($BH$7:$BH17))),"")} | BU17: {=IFERROR(INDEX('Sub4'!Q:Q,SMALL(IF('Sub4'!$W$5:$W$34<>"",ROW('Sub4'!$W$5:$W$34)),ROWS($BH$7:$BH17))),"")} | BW17: {=IFERROR(INDEX('Sub5'!A:A,SMALL(IF('Sub5'!$Y$5:$Y$34<>"",ROW('Sub5'!$Y$5:$Y$34)),ROWS($BY$7:$BY17))),"")} | BX17: {=IFERROR(INDEX('Sub5'!B:B,SMALL(IF('Sub5'!$Y$5:$Y$34<>"",ROW('Sub5'!$Y$5:$Y$34)),ROWS($BY$7:$BY17))),"")} | BY17: {=IFERROR(INDEX('Sub5'!C:C,SMALL(IF('Sub5'!$Y$5:$Y$34<>"",ROW('Sub5'!$Y$5:$Y$34)),ROWS($BY$7:$BY17))),"")} | BZ17: {=IFERROR(INDEX('Sub5'!Y:Y,SMALL(IF('Sub5'!$Y$5:$Y$34<>"",ROW('Sub5'!$Y$5:$Y$34)),ROWS($BY$7:$BY17))),"")} | CA17: {=IFERROR(INDEX('Sub5'!F:F,SMALL(IF('Sub5'!$Y$5:$Y$34<>"",ROW('Sub5'!$Y$5:$Y$34)),ROWS($BY$7:$BY17))),"")} | CB17: {=IFERROR(INDEX('Sub5'!G:G,SMALL(IF('Sub5'!$Y$5:$Y$34<>"",ROW('Sub5'!$Y$5:$Y$34)),ROWS($BY$7:$BY17))),"")} | CC17: {=IFERROR(INDEX('Sub5'!H:H,SMALL(IF('Sub5'!$Y$5:$Y$34<>"",ROW('Sub5'!$Y$5:$Y$34)),ROWS($BY$7:$BY17))),"")} | CD17: {=IFERROR(INDEX('Sub5'!I:I,SMALL(IF('Sub5'!$Y$5:$Y$34<>"",ROW('Sub5'!$Y$5:$Y$34)),ROWS($BY$7:$BY17))),"")} | CE17: {=IFERROR(INDEX('Sub5'!J:J,SMALL(IF('Sub5'!$Y$5:$Y$34<>"",ROW('Sub5'!$Y$5:$Y$34)),ROWS($BY$7:$BY17))),"")} | CF17: {=IFERROR(INDEX('Sub5'!K:K,SMALL(IF('Sub5'!$Y$5:$Y$34<>"",ROW('Sub5'!$Y$5:$Y$34)),ROWS($BY$7:$BY17))),"")} | CG17: {=IFERROR(INDEX('Sub5'!L:L,SMALL(IF('Sub5'!$Y$5:$Y$34<>"",ROW('Sub5'!$Y$5:$Y$34)),ROWS($BY$7:$BY17))),"")} | CH17: {=IFERROR(INDEX('Sub5'!M:M,SMALL(IF('Sub5'!$Y$5:$Y$34<>"",ROW('Sub5'!$Y$5:$Y$34)),ROWS($BY$7:$BY17))),"")} | CI17: {=IFERROR(INDEX('Sub5'!N:N,SMALL(IF('Sub5'!$Y$5:$Y$34<>"",ROW('Sub5'!$Y$5:$Y$34)),ROWS($BY$7:$BY17))),"")} | CJ17: {=IFERROR(INDEX('Sub5'!O:O,SMALL(IF('Sub5'!$Y$5:$Y$34<>"",ROW('Sub5'!$Y$5:$Y$34)),ROWS($BY$7:$BY17))),"")} | CK17: {=IFERROR(INDEX('Sub5'!P:P,SMALL(IF('Sub5'!$Y$5:$Y$34<>"",ROW('Sub5'!$Y$5:$Y$34)),ROWS($BY$7:$BY17))),"")} | CL17: {=IFERROR(INDEX('Sub5'!Q:Q,SMALL(IF('Sub5'!$Y$5:$Y$34<>"",ROW('Sub5'!$Y$5:$Y$34)),ROWS($BY$7:$BY17))),"")}
G18: {=IFERROR(INDEX('Sub1'!A:A,SMALL(IF('Sub1'!$AC$5:$AC$34<>"",ROW('Sub1'!$AC$5:$AC$34)),ROWS(G$7:G18))),"")} | H18: {=IFERROR(INDEX('Sub1'!B:B,SMALL(IF('Sub1'!$AC$5:$AC$34<>"",ROW('Sub1'!$AC$5:$AC$34)),ROWS(H$7:H18))),"")} | I18: {=IFERROR(INDEX('Sub1'!C:C,SMALL(IF('Sub1'!$AC$5:$AC$34<>"",ROW('Sub1'!$AC$5:$AC$34)),ROWS(I$7:I18))),"")} | J18: {=IFERROR(INDEX('Sub1'!AC:AC,SMALL(IF('Sub1'!$AC$5:$AC$34<>"",ROW('Sub1'!$AC$5:$AC$34)),ROWS(J$7:J18))),"")} | K18: {=IFERROR(INDEX('Sub1'!G:G,SMALL(IF('Sub1'!$AC$5:$AC$34<>"",ROW('Sub1'!$AC$5:$AC$34)),ROWS(I$7:I18))),"")} | L18: {=IFERROR(INDEX('Sub1'!H:H,SMALL(IF('Sub1'!$AC$5:$AC$34<>"",ROW('Sub1'!$AC$5:$AC$34)),ROWS(I$7:I18))),"")} | M18: {=IFERROR(INDEX('Sub1'!I:I,SMALL(IF('Sub1'!$AC$5:$AC$34<>"",ROW('Sub1'!$AC$5:$AC$34)),ROWS(I$7:I18))),"")} | N18: {=IFERROR(INDEX('Sub1'!J:J,SMALL(IF('Sub1'!$AC$5:$AC$34<>"",ROW('Sub1'!$AC$5:$AC$34)),ROWS(I$7:I18))),"")} | O18: {=IFERROR(INDEX('Sub1'!K:K,SMALL(IF('Sub1'!$AC$5:$AC$34<>"",ROW('Sub1'!$AC$5:$AC$34)),ROWS(I$7:I18))),"")} | P18: {=IFERROR(INDEX('Sub1'!L:L,SMALL(IF('Sub1'!$AC$5:$AC$34<>"",ROW('Sub1'!$AC$5:$AC$34)),ROWS(I$7:I18))),"")} | Q18: {=IFERROR(INDEX('Sub1'!M:M,SMALL(IF('Sub1'!$AC$5:$AC$34<>"",ROW('Sub1'!$AC$5:$AC$34)),ROWS(I$7:I18))),"")} | R18: {=IFERROR(INDEX('Sub1'!N:N,SMALL(IF('Sub1'!$AC$5:$AC$34<>"",ROW('Sub1'!$AC$5:$AC$34)),ROWS(I$7:I18))),"")} | S18: {=IFERROR(INDEX('Sub1'!O:O,SMALL(IF('Sub1'!$AC$5:$AC$34<>"",ROW('Sub1'!$AC$5:$AC$34)),ROWS(I$7:I18))),"")} | T18: {=IFERROR(INDEX('Sub1'!P:P,SMALL(IF('Sub1'!$AC$5:$AC$34<>"",ROW('Sub1'!$AC$5:$AC$34)),ROWS(I$7:I18))),"")} | U18: {=IFERROR(INDEX('Sub1'!Q:Q,SMALL(IF('Sub1'!$AC$5:$AC$34<>"",ROW('Sub1'!$AC$5:$AC$34)),ROWS(I$7:I18))),"")} | V18: {=IFERROR(INDEX('Sub1'!R:R,SMALL(IF('Sub1'!$AC$5:$AC$34<>"",ROW('Sub1'!$AC$5:$AC$34)),ROWS(I$7:I18))),"")} | X18: {=IFERROR(INDEX('Sub2'!A:A,SMALL(IF('Sub2'!$Y$5:$Y$34<>"",ROW('Sub2'!$Y$5:$Y$34)),ROWS(Z$7:Z18))),"")} | Y18: {=IFERROR(INDEX('Sub2'!B:B,SMALL(IF('Sub2'!$Y$5:$Y$34<>"",ROW('Sub2'!$Y$5:$Y$34)),ROWS(Z$7:Z18))),"")} | Z18: {=IFERROR(INDEX('Sub2'!C:C,SMALL(IF('Sub2'!$Y$5:$Y$34<>"",ROW('Sub2'!$Y$5:$Y$34)),ROWS(Z$7:Z18))),"")} | AA18: {=IFERROR(INDEX('Sub2'!Y:Y,SMALL(IF('Sub2'!$Y$5:$Y$34<>"",ROW('Sub2'!$Y$5:$Y$34)),ROWS(Z$7:Z18))),"")} | AB18: {=IFERROR(INDEX('Sub2'!F:F,SMALL(IF('Sub2'!$Y$5:$Y$34<>"",ROW('Sub2'!$Y$5:$Y$34)),ROWS(Z$7:Z18))),"")} | AC18: {=IFERROR(INDEX('Sub2'!G:G,SMALL(IF('Sub2'!$Y$5:$Y$34<>"",ROW('Sub2'!$Y$5:$Y$34)),ROWS(Z$7:Z18))),"")} | AD18: {=IFERROR(INDEX('Sub2'!H:H,SMALL(IF('Sub2'!$Y$5:$Y$34<>"",ROW('Sub2'!$Y$5:$Y$34)),ROWS(Z$7:Z18))),"")} | AE18: {=IFERROR(INDEX('Sub2'!I:I,SMALL(IF('Sub2'!$Y$5:$Y$34<>"",ROW('Sub2'!$Y$5:$Y$34)),ROWS(Z$7:Z18))),"")} | AF18: {=IFERROR(INDEX('Sub2'!J:J,SMALL(IF('Sub2'!$Y$5:$Y$34<>"",ROW('Sub2'!$Y$5:$Y$34)),ROWS(Z$7:Z18))),"")} | AG18: {=IFERROR(INDEX('Sub2'!K:K,SMALL(IF('Sub2'!$Y$5:$Y$34<>"",ROW('Sub2'!$Y$5:$Y$34)),ROWS(Z$7:Z18))),"")} | AH18: {=IFERROR(INDEX('Sub2'!L:L,SMALL(IF('Sub2'!$Y$5:$Y$34<>"",ROW('Sub2'!$Y$5:$Y$34)),ROWS(Z$7:Z18))),"")} | AI18: {=IFERROR(INDEX('Sub2'!M:M,SMALL(IF('Sub2'!$Y$5:$Y$34<>"",ROW('Sub2'!$Y$5:$Y$34)),ROWS(Z$7:Z18))),"")} | AJ18: {=IFERROR(INDEX('Sub2'!N:N,SMALL(IF('Sub2'!$Y$5:$Y$34<>"",ROW('Sub2'!$Y$5:$Y$34)),ROWS(Z$7:Z18))),"")} | AK18: {=IFERROR(INDEX('Sub2'!O:O,SMALL(IF('Sub2'!$Y$5:$Y$34<>"",ROW('Sub2'!$Y$5:$Y$34)),ROWS(Z$7:Z18))),"")} | AL18: {=IFERROR(INDEX('Sub2'!P:P,SMALL(IF('Sub2'!$Y$5:$Y$34<>"",ROW('Sub2'!$Y$5:$Y$34)),ROWS(Z$7:Z18))),"")} | AM18: {=IFERROR(INDEX('Sub2'!Q:Q,SMALL(IF('Sub2'!$Y$5:$Y$34<>"",ROW('Sub2'!$Y$5:$Y$34)),ROWS(Z$7:Z18))),"")} | AO18: {=IFERROR(INDEX('Sub3'!A:A,SMALL(IF('Sub3'!$Y$5:$Y$34<>"",ROW('Sub3'!$Y$5:$Y$34)),ROWS($AQ$7:$AQ18))),"")} | AP18: {=IFERROR(INDEX('Sub3'!B:B,SMALL(IF('Sub3'!$Y$5:$Y$34<>"",ROW('Sub3'!$Y$5:$Y$34)),ROWS($AQ$7:$AQ18))),"")} | AQ18: {=IFERROR(INDEX('Sub3'!C:C,SMALL(IF('Sub3'!$Y$5:$Y$34<>"",ROW('Sub3'!$Y$5:$Y$34)),ROWS($AQ$7:$AQ18))),"")} | AR18: {=IFERROR(INDEX('Sub3'!Y:Y,SMALL(IF('Sub3'!$Y$5:$Y$34<>"",ROW('Sub3'!$Y$5:$Y$34)),ROWS($AQ$7:$AQ18))),"")} | AS18: {=IFERROR(INDEX('Sub3'!F:F,SMALL(IF('Sub3'!$Y$5:$Y$34<>"",ROW('Sub3'!$Y$5:$Y$34)),ROWS($AQ$7:$AQ18))),"")} | AT18: {=IFERROR(INDEX('Sub3'!G:G,SMALL(IF('Sub3'!$Y$5:$Y$34<>"",ROW('Sub3'!$Y$5:$Y$34)),ROWS($AQ$7:$AQ18))),"")} | AU18: {=IFERROR(INDEX('Sub3'!H:H,SMALL(IF('Sub3'!$Y$5:$Y$34<>"",ROW('Sub3'!$Y$5:$Y$34)),ROWS($AQ$7:$AQ18))),"")} | AV18: {=IFERROR(INDEX('Sub3'!I:I,SMALL(IF('Sub3'!$Y$5:$Y$34<>"",ROW('Sub3'!$Y$5:$Y$34)),ROWS($AQ$7:$AQ18))),"")} | AW18: {=IFERROR(INDEX('Sub3'!J:J,SMALL(IF('Sub3'!$Y$5:$Y$34<>"",ROW('Sub3'!$Y$5:$Y$34)),ROWS($AQ$7:$AQ18))),"")} | AX18: {=IFERROR(INDEX('Sub3'!K:K,SMALL(IF('Sub3'!$Y$5:$Y$34<>"",ROW('Sub3'!$Y$5:$Y$34)),ROWS($AQ$7:$AQ18))),"")} | AY18: {=IFERROR(INDEX('Sub3'!L:L,SMALL(IF('Sub3'!$Y$5:$Y$34<>"",ROW('Sub3'!$Y$5:$Y$34)),ROWS($AQ$7:$AQ18))),"")} | AZ18: {=IFERROR(INDEX('Sub3'!M:M,SMALL(IF('Sub3'!$Y$5:$Y$34<>"",ROW('Sub3'!$Y$5:$Y$34)),ROWS($AQ$7:$AQ18))),"")} | BA18: {=IFERROR(INDEX('Sub3'!N:N,SMALL(IF('Sub3'!$Y$5:$Y$34<>"",ROW('Sub3'!$Y$5:$Y$34)),ROWS($AQ$7:$AQ18))),"")} | BB18: {=IFERROR(INDEX('Sub3'!O:O,SMALL(IF('Sub3'!$Y$5:$Y$34<>"",ROW('Sub3'!$Y$5:$Y$34)),ROWS($AQ$7:$AQ18))),"")} | BC18: {=IFERROR(INDEX('Sub3'!P:P,SMALL(IF('Sub3'!$Y$5:$Y$34<>"",ROW('Sub3'!$Y$5:$Y$34)),ROWS($AQ$7:$AQ18))),"")} | BD18: {=IFERROR(INDEX('Sub3'!Q:Q,SMALL(IF('Sub3'!$Y$5:$Y$34<>"",ROW('Sub3'!$Y$5:$Y$34)),ROWS($AQ$7:$AQ18))),"")} | BF18: {=IFERROR(INDEX('Sub4'!A:A,SMALL(IF('Sub4'!$W$5:$W$34<>"",ROW('Sub4'!$W$5:$W$34)),ROWS($BH$7:$BH18))),"")} | BG18: {=IFERROR(INDEX('Sub4'!B:B,SMALL(IF('Sub4'!$W$5:$W$34<>"",ROW('Sub4'!$W$5:$W$34)),ROWS($BH$7:$BH18))),"")} | BH18: {=IFERROR(INDEX('Sub4'!C:C,SMALL(IF('Sub4'!$W$5:$W$34<>"",ROW('Sub4'!$W$5:$W$34)),ROWS($BH$7:$BH18))),"")} | BI18: {=IFERROR(INDEX('Sub4'!W:W,SMALL(IF('Sub4'!$W$5:$W$34<>"",ROW('Sub4'!$W$5:$W$34)),ROWS($BH$7:$BH18))),"")} | BJ18: {=IFERROR(INDEX('Sub4'!F:F,SMALL(IF('Sub4'!$W$5:$W$34<>"",ROW('Sub4'!$W$5:$W$34)),ROWS($BH$7:$BH18))),"")} | BK18: {=IFERROR(INDEX('Sub4'!G:G,SMALL(IF('Sub4'!$W$5:$W$34<>"",ROW('Sub4'!$W$5:$W$34)),ROWS($BH$7:$BH18))),"")} | BL18: {=IFERROR(INDEX('Sub4'!H:H,SMALL(IF('Sub4'!$W$5:$W$34<>"",ROW('Sub4'!$W$5:$W$34)),ROWS($BH$7:$BH18))),"")} | BM18: {=IFERROR(INDEX('Sub4'!I:I,SMALL(IF('Sub4'!$W$5:$W$34<>"",ROW('Sub4'!$W$5:$W$34)),ROWS($BH$7:$BH18))),"")} | BN18: {=IFERROR(INDEX('Sub4'!J:J,SMALL(IF('Sub4'!$W$5:$W$34<>"",ROW('Sub4'!$W$5:$W$34)),ROWS($BH$7:$BH18))),"")} | BO18: {=IFERROR(INDEX('Sub4'!K:K,SMALL(IF('Sub4'!$W$5:$W$34<>"",ROW('Sub4'!$W$5:$W$34)),ROWS($BH$7:$BH18))),"")} | BP18: {=IFERROR(INDEX('Sub4'!L:L,SMALL(IF('Sub4'!$W$5:$W$34<>"",ROW('Sub4'!$W$5:$W$34)),ROWS($BH$7:$BH18))),"")} | BQ18: {=IFERROR(INDEX('Sub4'!M:M,SMALL(IF('Sub4'!$W$5:$W$34<>"",ROW('Sub4'!$W$5:$W$34)),ROWS($BH$7:$BH18))),"")} | BR18: {=IFERROR(INDEX('Sub4'!N:N,SMALL(IF('Sub4'!$W$5:$W$34<>"",ROW('Sub4'!$W$5:$W$34)),ROWS($BH$7:$BH18))),"")} | BS18: {=IFERROR(INDEX('Sub4'!O:O,SMALL(IF('Sub4'!$W$5:$W$34<>"",ROW('Sub4'!$W$5:$W$34)),ROWS($BH$7:$BH18))),"")} | BT18: {=IFERROR(INDEX('Sub4'!P:P,SMALL(IF('Sub4'!$W$5:$W$34<>"",ROW('Sub4'!$W$5:$W$34)),ROWS($BH$7:$BH18))),"")} | BU18: {=IFERROR(INDEX('Sub4'!Q:Q,SMALL(IF('Sub4'!$W$5:$W$34<>"",ROW('Sub4'!$W$5:$W$34)),ROWS($BH$7:$BH18))),"")} | BW18: {=IFERROR(INDEX('Sub5'!A:A,SMALL(IF('Sub5'!$Y$5:$Y$34<>"",ROW('Sub5'!$Y$5:$Y$34)),ROWS($BY$7:$BY18))),"")} | BX18: {=IFERROR(INDEX('Sub5'!B:B,SMALL(IF('Sub5'!$Y$5:$Y$34<>"",ROW('Sub5'!$Y$5:$Y$34)),ROWS($BY$7:$BY18))),"")} | BY18: {=IFERROR(INDEX('Sub5'!C:C,SMALL(IF('Sub5'!$Y$5:$Y$34<>"",ROW('Sub5'!$Y$5:$Y$34)),ROWS($BY$7:$BY18))),"")} | BZ18: {=IFERROR(INDEX('Sub5'!Y:Y,SMALL(IF('Sub5'!$Y$5:$Y$34<>"",ROW('Sub5'!$Y$5:$Y$34)),ROWS($BY$7:$BY18))),"")} | CA18: {=IFERROR(INDEX('Sub5'!F:F,SMALL(IF('Sub5'!$Y$5:$Y$34<>"",ROW('Sub5'!$Y$5:$Y$34)),ROWS($BY$7:$BY18))),"")} | CB18: {=IFERROR(INDEX('Sub5'!G:G,SMALL(IF('Sub5'!$Y$5:$Y$34<>"",ROW('Sub5'!$Y$5:$Y$34)),ROWS($BY$7:$BY18))),"")} | CC18: {=IFERROR(INDEX('Sub5'!H:H,SMALL(IF('Sub5'!$Y$5:$Y$34<>"",ROW('Sub5'!$Y$5:$Y$34)),ROWS($BY$7:$BY18))),"")} | CD18: {=IFERROR(INDEX('Sub5'!I:I,SMALL(IF('Sub5'!$Y$5:$Y$34<>"",ROW('Sub5'!$Y$5:$Y$34)),ROWS($BY$7:$BY18))),"")} | CE18: {=IFERROR(INDEX('Sub5'!J:J,SMALL(IF('Sub5'!$Y$5:$Y$34<>"",ROW('Sub5'!$Y$5:$Y$34)),ROWS($BY$7:$BY18))),"")} | CF18: {=IFERROR(INDEX('Sub5'!K:K,SMALL(IF('Sub5'!$Y$5:$Y$34<>"",ROW('Sub5'!$Y$5:$Y$34)),ROWS($BY$7:$BY18))),"")} | CG18: {=IFERROR(INDEX('Sub5'!L:L,SMALL(IF('Sub5'!$Y$5:$Y$34<>"",ROW('Sub5'!$Y$5:$Y$34)),ROWS($BY$7:$BY18))),"")} | CH18: {=IFERROR(INDEX('Sub5'!M:M,SMALL(IF('Sub5'!$Y$5:$Y$34<>"",ROW('Sub5'!$Y$5:$Y$34)),ROWS($BY$7:$BY18))),"")} | CI18: {=IFERROR(INDEX('Sub5'!N:N,SMALL(IF('Sub5'!$Y$5:$Y$34<>"",ROW('Sub5'!$Y$5:$Y$34)),ROWS($BY$7:$BY18))),"")} | CJ18: {=IFERROR(INDEX('Sub5'!O:O,SMALL(IF('Sub5'!$Y$5:$Y$34<>"",ROW('Sub5'!$Y$5:$Y$34)),ROWS($BY$7:$BY18))),"")} | CK18: {=IFERROR(INDEX('Sub5'!P:P,SMALL(IF('Sub5'!$Y$5:$Y$34<>"",ROW('Sub5'!$Y$5:$Y$34)),ROWS($BY$7:$BY18))),"")} | CL18: {=IFERROR(INDEX('Sub5'!Q:Q,SMALL(IF('Sub5'!$Y$5:$Y$34<>"",ROW('Sub5'!$Y$5:$Y$34)),ROWS($BY$7:$BY18))),"")}
G19: {=IFERROR(INDEX('Sub1'!A:A,SMALL(IF('Sub1'!$AC$5:$AC$34<>"",ROW('Sub1'!$AC$5:$AC$34)),ROWS(G$7:G19))),"")} | H19: {=IFERROR(INDEX('Sub1'!B:B,SMALL(IF('Sub1'!$AC$5:$AC$34<>"",ROW('Sub1'!$AC$5:$AC$34)),ROWS(H$7:H19))),"")} | I19: {=IFERROR(INDEX('Sub1'!C:C,SMALL(IF('Sub1'!$AC$5:$AC$34<>"",ROW('Sub1'!$AC$5:$AC$34)),ROWS(I$7:I19))),"")} | J19: {=IFERROR(INDEX('Sub1'!AC:AC,SMALL(IF('Sub1'!$AC$5:$AC$34<>"",ROW('Sub1'!$AC$5:$AC$34)),ROWS(J$7:J19))),"")} | K19: {=IFERROR(INDEX('Sub1'!G:G,SMALL(IF('Sub1'!$AC$5:$AC$34<>"",ROW('Sub1'!$AC$5:$AC$34)),ROWS(I$7:I19))),"")} | L19: {=IFERROR(INDEX('Sub1'!H:H,SMALL(IF('Sub1'!$AC$5:$AC$34<>"",ROW('Sub1'!$AC$5:$AC$34)),ROWS(I$7:I19))),"")} | M19: {=IFERROR(INDEX('Sub1'!I:I,SMALL(IF('Sub1'!$AC$5:$AC$34<>"",ROW('Sub1'!$AC$5:$AC$34)),ROWS(I$7:I19))),"")} | N19: {=IFERROR(INDEX('Sub1'!J:J,SMALL(IF('Sub1'!$AC$5:$AC$34<>"",ROW('Sub1'!$AC$5:$AC$34)),ROWS(I$7:I19))),"")} | O19: {=IFERROR(INDEX('Sub1'!K:K,SMALL(IF('Sub1'!$AC$5:$AC$34<>"",ROW('Sub1'!$AC$5:$AC$34)),ROWS(I$7:I19))),"")} | P19: {=IFERROR(INDEX('Sub1'!L:L,SMALL(IF('Sub1'!$AC$5:$AC$34<>"",ROW('Sub1'!$AC$5:$AC$34)),ROWS(I$7:I19))),"")} | Q19: {=IFERROR(INDEX('Sub1'!M:M,SMALL(IF('Sub1'!$AC$5:$AC$34<>"",ROW('Sub1'!$AC$5:$AC$34)),ROWS(I$7:I19))),"")} | R19: {=IFERROR(INDEX('Sub1'!N:N,SMALL(IF('Sub1'!$AC$5:$AC$34<>"",ROW('Sub1'!$AC$5:$AC$34)),ROWS(I$7:I19))),"")} | S19: {=IFERROR(INDEX('Sub1'!O:O,SMALL(IF('Sub1'!$AC$5:$AC$34<>"",ROW('Sub1'!$AC$5:$AC$34)),ROWS(I$7:I19))),"")} | T19: {=IFERROR(INDEX('Sub1'!P:P,SMALL(IF('Sub1'!$AC$5:$AC$34<>"",ROW('Sub1'!$AC$5:$AC$34)),ROWS(I$7:I19))),"")} | U19: {=IFERROR(INDEX('Sub1'!Q:Q,SMALL(IF('Sub1'!$AC$5:$AC$34<>"",ROW('Sub1'!$AC$5:$AC$34)),ROWS(I$7:I19))),"")} | V19: {=IFERROR(INDEX('Sub1'!R:R,SMALL(IF('Sub1'!$AC$5:$AC$34<>"",ROW('Sub1'!$AC$5:$AC$34)),ROWS(I$7:I19))),"")} | X19: {=IFERROR(INDEX('Sub2'!A:A,SMALL(IF('Sub2'!$Y$5:$Y$34<>"",ROW('Sub2'!$Y$5:$Y$34)),ROWS(Z$7:Z19))),"")} | Y19: {=IFERROR(INDEX('Sub2'!B:B,SMALL(IF('Sub2'!$Y$5:$Y$34<>"",ROW('Sub2'!$Y$5:$Y$34)),ROWS(Z$7:Z19))),"")} | Z19: {=IFERROR(INDEX('Sub2'!C:C,SMALL(IF('Sub2'!$Y$5:$Y$34<>"",ROW('Sub2'!$Y$5:$Y$34)),ROWS(Z$7:Z19))),"")} | AA19: {=IFERROR(INDEX('Sub2'!Y:Y,SMALL(IF('Sub2'!$Y$5:$Y$34<>"",ROW('Sub2'!$Y$5:$Y$34)),ROWS(Z$7:Z19))),"")} | AB19: {=IFERROR(INDEX('Sub2'!F:F,SMALL(IF('Sub2'!$Y$5:$Y$34<>"",ROW('Sub2'!$Y$5:$Y$34)),ROWS(Z$7:Z19))),"")} | AC19: {=IFERROR(INDEX('Sub2'!G:G,SMALL(IF('Sub2'!$Y$5:$Y$34<>"",ROW('Sub2'!$Y$5:$Y$34)),ROWS(Z$7:Z19))),"")} | AD19: {=IFERROR(INDEX('Sub2'!H:H,SMALL(IF('Sub2'!$Y$5:$Y$34<>"",ROW('Sub2'!$Y$5:$Y$34)),ROWS(Z$7:Z19))),"")} | AE19: {=IFERROR(INDEX('Sub2'!I:I,SMALL(IF('Sub2'!$Y$5:$Y$34<>"",ROW('Sub2'!$Y$5:$Y$34)),ROWS(Z$7:Z19))),"")} | AF19: {=IFERROR(INDEX('Sub2'!J:J,SMALL(IF('Sub2'!$Y$5:$Y$34<>"",ROW('Sub2'!$Y$5:$Y$34)),ROWS(Z$7:Z19))),"")} | AG19: {=IFERROR(INDEX('Sub2'!K:K,SMALL(IF('Sub2'!$Y$5:$Y$34<>"",ROW('Sub2'!$Y$5:$Y$34)),ROWS(Z$7:Z19))),"")} | AH19: {=IFERROR(INDEX('Sub2'!L:L,SMALL(IF('Sub2'!$Y$5:$Y$34<>"",ROW('Sub2'!$Y$5:$Y$34)),ROWS(Z$7:Z19))),"")} | AI19: {=IFERROR(INDEX('Sub2'!M:M,SMALL(IF('Sub2'!$Y$5:$Y$34<>"",ROW('Sub2'!$Y$5:$Y$34)),ROWS(Z$7:Z19))),"")} | AJ19: {=IFERROR(INDEX('Sub2'!N:N,SMALL(IF('Sub2'!$Y$5:$Y$34<>"",ROW('Sub2'!$Y$5:$Y$34)),ROWS(Z$7:Z19))),"")} | AK19: {=IFERROR(INDEX('Sub2'!O:O,SMALL(IF('Sub2'!$Y$5:$Y$34<>"",ROW('Sub2'!$Y$5:$Y$34)),ROWS(Z$7:Z19))),"")} | AL19: {=IFERROR(INDEX('Sub2'!P:P,SMALL(IF('Sub2'!$Y$5:$Y$34<>"",ROW('Sub2'!$Y$5:$Y$34)),ROWS(Z$7:Z19))),"")} | AM19: {=IFERROR(INDEX('Sub2'!Q:Q,SMALL(IF('Sub2'!$Y$5:$Y$34<>"",ROW('Sub2'!$Y$5:$Y$34)),ROWS(Z$7:Z19))),"")} | AO19: {=IFERROR(INDEX('Sub3'!A:A,SMALL(IF('Sub3'!$Y$5:$Y$34<>"",ROW('Sub3'!$Y$5:$Y$34)),ROWS($AQ$7:$AQ19))),"")} | AP19: {=IFERROR(INDEX('Sub3'!B:B,SMALL(IF('Sub3'!$Y$5:$Y$34<>"",ROW('Sub3'!$Y$5:$Y$34)),ROWS($AQ$7:$AQ19))),"")} | AQ19: {=IFERROR(INDEX('Sub3'!C:C,SMALL(IF('Sub3'!$Y$5:$Y$34<>"",ROW('Sub3'!$Y$5:$Y$34)),ROWS($AQ$7:$AQ19))),"")} | AR19: {=IFERROR(INDEX('Sub3'!Y:Y,SMALL(IF('Sub3'!$Y$5:$Y$34<>"",ROW('Sub3'!$Y$5:$Y$34)),ROWS($AQ$7:$AQ19))),"")} | AS19: {=IFERROR(INDEX('Sub3'!F:F,SMALL(IF('Sub3'!$Y$5:$Y$34<>"",ROW('Sub3'!$Y$5:$Y$34)),ROWS($AQ$7:$AQ19))),"")} | AT19: {=IFERROR(INDEX('Sub3'!G:G,SMALL(IF('Sub3'!$Y$5:$Y$34<>"",ROW('Sub3'!$Y$5:$Y$34)),ROWS($AQ$7:$AQ19))),"")} | AU19: {=IFERROR(INDEX('Sub3'!H:H,SMALL(IF('Sub3'!$Y$5:$Y$34<>"",ROW('Sub3'!$Y$5:$Y$34)),ROWS($AQ$7:$AQ19))),"")} | AV19: {=IFERROR(INDEX('Sub3'!I:I,SMALL(IF('Sub3'!$Y$5:$Y$34<>"",ROW('Sub3'!$Y$5:$Y$34)),ROWS($AQ$7:$AQ19))),"")} | AW19: {=IFERROR(INDEX('Sub3'!J:J,SMALL(IF('Sub3'!$Y$5:$Y$34<>"",ROW('Sub3'!$Y$5:$Y$34)),ROWS($AQ$7:$AQ19))),"")} | AX19: {=IFERROR(INDEX('Sub3'!K:K,SMALL(IF('Sub3'!$Y$5:$Y$34<>"",ROW('Sub3'!$Y$5:$Y$34)),ROWS($AQ$7:$AQ19))),"")} | AY19: {=IFERROR(INDEX('Sub3'!L:L,SMALL(IF('Sub3'!$Y$5:$Y$34<>"",ROW('Sub3'!$Y$5:$Y$34)),ROWS($AQ$7:$AQ19))),"")} | AZ19: {=IFERROR(INDEX('Sub3'!M:M,SMALL(IF('Sub3'!$Y$5:$Y$34<>"",ROW('Sub3'!$Y$5:$Y$34)),ROWS($AQ$7:$AQ19))),"")} | BA19: {=IFERROR(INDEX('Sub3'!N:N,SMALL(IF('Sub3'!$Y$5:$Y$34<>"",ROW('Sub3'!$Y$5:$Y$34)),ROWS($AQ$7:$AQ19))),"")} | BB19: {=IFERROR(INDEX('Sub3'!O:O,SMALL(IF('Sub3'!$Y$5:$Y$34<>"",ROW('Sub3'!$Y$5:$Y$34)),ROWS($AQ$7:$AQ19))),"")} | BC19: {=IFERROR(INDEX('Sub3'!P:P,SMALL(IF('Sub3'!$Y$5:$Y$34<>"",ROW('Sub3'!$Y$5:$Y$34)),ROWS($AQ$7:$AQ19))),"")} | BD19: {=IFERROR(INDEX('Sub3'!Q:Q,SMALL(IF('Sub3'!$Y$5:$Y$34<>"",ROW('Sub3'!$Y$5:$Y$34)),ROWS($AQ$7:$AQ19))),"")} | BF19: {=IFERROR(INDEX('Sub4'!A:A,SMALL(IF('Sub4'!$W$5:$W$34<>"",ROW('Sub4'!$W$5:$W$34)),ROWS($BH$7:$BH19))),"")} | BG19: {=IFERROR(INDEX('Sub4'!B:B,SMALL(IF('Sub4'!$W$5:$W$34<>"",ROW('Sub4'!$W$5:$W$34)),ROWS($BH$7:$BH19))),"")} | BH19: {=IFERROR(INDEX('Sub4'!C:C,SMALL(IF('Sub4'!$W$5:$W$34<>"",ROW('Sub4'!$W$5:$W$34)),ROWS($BH$7:$BH19))),"")} | BI19: {=IFERROR(INDEX('Sub4'!W:W,SMALL(IF('Sub4'!$W$5:$W$34<>"",ROW('Sub4'!$W$5:$W$34)),ROWS($BH$7:$BH19))),"")} | BJ19: {=IFERROR(INDEX('Sub4'!F:F,SMALL(IF('Sub4'!$W$5:$W$34<>"",ROW('Sub4'!$W$5:$W$34)),ROWS($BH$7:$BH19))),"")} | BK19: {=IFERROR(INDEX('Sub4'!G:G,SMALL(IF('Sub4'!$W$5:$W$34<>"",ROW('Sub4'!$W$5:$W$34)),ROWS($BH$7:$BH19))),"")} | BL19: {=IFERROR(INDEX('Sub4'!H:H,SMALL(IF('Sub4'!$W$5:$W$34<>"",ROW('Sub4'!$W$5:$W$34)),ROWS($BH$7:$BH19))),"")} | BM19: {=IFERROR(INDEX('Sub4'!I:I,SMALL(IF('Sub4'!$W$5:$W$34<>"",ROW('Sub4'!$W$5:$W$34)),ROWS($BH$7:$BH19))),"")} | BN19: {=IFERROR(INDEX('Sub4'!J:J,SMALL(IF('Sub4'!$W$5:$W$34<>"",ROW('Sub4'!$W$5:$W$34)),ROWS($BH$7:$BH19))),"")} | BO19: {=IFERROR(INDEX('Sub4'!K:K,SMALL(IF('Sub4'!$W$5:$W$34<>"",ROW('Sub4'!$W$5:$W$34)),ROWS($BH$7:$BH19))),"")} | BP19: {=IFERROR(INDEX('Sub4'!L:L,SMALL(IF('Sub4'!$W$5:$W$34<>"",ROW('Sub4'!$W$5:$W$34)),ROWS($BH$7:$BH19))),"")} | BQ19: {=IFERROR(INDEX('Sub4'!M:M,SMALL(IF('Sub4'!$W$5:$W$34<>"",ROW('Sub4'!$W$5:$W$34)),ROWS($BH$7:$BH19))),"")} | BR19: {=IFERROR(INDEX('Sub4'!N:N,SMALL(IF('Sub4'!$W$5:$W$34<>"",ROW('Sub4'!$W$5:$W$34)),ROWS($BH$7:$BH19))),"")} | BS19: {=IFERROR(INDEX('Sub4'!O:O,SMALL(IF('Sub4'!$W$5:$W$34<>"",ROW('Sub4'!$W$5:$W$34)),ROWS($BH$7:$BH19))),"")} | BT19: {=IFERROR(INDEX('Sub4'!P:P,SMALL(IF('Sub4'!$W$5:$W$34<>"",ROW('Sub4'!$W$5:$W$34)),ROWS($BH$7:$BH19))),"")} | BU19: {=IFERROR(INDEX('Sub4'!Q:Q,SMALL(IF('Sub4'!$W$5:$W$34<>"",ROW('Sub4'!$W$5:$W$34)),ROWS($BH$7:$BH19))),"")} | BW19: {=IFERROR(INDEX('Sub5'!A:A,SMALL(IF('Sub5'!$Y$5:$Y$34<>"",ROW('Sub5'!$Y$5:$Y$34)),ROWS($BY$7:$BY19))),"")} | BX19: {=IFERROR(INDEX('Sub5'!B:B,SMALL(IF('Sub5'!$Y$5:$Y$34<>"",ROW('Sub5'!$Y$5:$Y$34)),ROWS($BY$7:$BY19))),"")} | BY19: {=IFERROR(INDEX('Sub5'!C:C,SMALL(IF('Sub5'!$Y$5:$Y$34<>"",ROW('Sub5'!$Y$5:$Y$34)),ROWS($BY$7:$BY19))),"")} | BZ19: {=IFERROR(INDEX('Sub5'!Y:Y,SMALL(IF('Sub5'!$Y$5:$Y$34<>"",ROW('Sub5'!$Y$5:$Y$34)),ROWS($BY$7:$BY19))),"")} | CA19: {=IFERROR(INDEX('Sub5'!F:F,SMALL(IF('Sub5'!$Y$5:$Y$34<>"",ROW('Sub5'!$Y$5:$Y$34)),ROWS($BY$7:$BY19))),"")} | CB19: {=IFERROR(INDEX('Sub5'!G:G,SMALL(IF('Sub5'!$Y$5:$Y$34<>"",ROW('Sub5'!$Y$5:$Y$34)),ROWS($BY$7:$BY19))),"")} | CC19: {=IFERROR(INDEX('Sub5'!H:H,SMALL(IF('Sub5'!$Y$5:$Y$34<>"",ROW('Sub5'!$Y$5:$Y$34)),ROWS($BY$7:$BY19))),"")} | CD19: {=IFERROR(INDEX('Sub5'!I:I,SMALL(IF('Sub5'!$Y$5:$Y$34<>"",ROW('Sub5'!$Y$5:$Y$34)),ROWS($BY$7:$BY19))),"")} | CE19: {=IFERROR(INDEX('Sub5'!J:J,SMALL(IF('Sub5'!$Y$5:$Y$34<>"",ROW('Sub5'!$Y$5:$Y$34)),ROWS($BY$7:$BY19))),"")} | CF19: {=IFERROR(INDEX('Sub5'!K:K,SMALL(IF('Sub5'!$Y$5:$Y$34<>"",ROW('Sub5'!$Y$5:$Y$34)),ROWS($BY$7:$BY19))),"")} | CG19: {=IFERROR(INDEX('Sub5'!L:L,SMALL(IF('Sub5'!$Y$5:$Y$34<>"",ROW('Sub5'!$Y$5:$Y$34)),ROWS($BY$7:$BY19))),"")} | CH19: {=IFERROR(INDEX('Sub5'!M:M,SMALL(IF('Sub5'!$Y$5:$Y$34<>"",ROW('Sub5'!$Y$5:$Y$34)),ROWS($BY$7:$BY19))),"")} | CI19: {=IFERROR(INDEX('Sub5'!N:N,SMALL(IF('Sub5'!$Y$5:$Y$34<>"",ROW('Sub5'!$Y$5:$Y$34)),ROWS($BY$7:$BY19))),"")} | CJ19: {=IFERROR(INDEX('Sub5'!O:O,SMALL(IF('Sub5'!$Y$5:$Y$34<>"",ROW('Sub5'!$Y$5:$Y$34)),ROWS($BY$7:$BY19))),"")} | CK19: {=IFERROR(INDEX('Sub5'!P:P,SMALL(IF('Sub5'!$Y$5:$Y$34<>"",ROW('Sub5'!$Y$5:$Y$34)),ROWS($BY$7:$BY19))),"")} | CL19: {=IFERROR(INDEX('Sub5'!Q:Q,SMALL(IF('Sub5'!$Y$5:$Y$34<>"",ROW('Sub5'!$Y$5:$Y$34)),ROWS($BY$7:$BY19))),"")}
G20: {=IFERROR(INDEX('Sub1'!A:A,SMALL(IF('Sub1'!$AC$5:$AC$34<>"",ROW('Sub1'!$AC$5:$AC$34)),ROWS(G$7:G20))),"")} | H20: {=IFERROR(INDEX('Sub1'!B:B,SMALL(IF('Sub1'!$AC$5:$AC$34<>"",ROW('Sub1'!$AC$5:$AC$34)),ROWS(H$7:H20))),"")} | I20: {=IFERROR(INDEX('Sub1'!C:C,SMALL(IF('Sub1'!$AC$5:$AC$34<>"",ROW('Sub1'!$AC$5:$AC$34)),ROWS(I$7:I20))),"")} | J20: {=IFERROR(INDEX('Sub1'!AC:AC,SMALL(IF('Sub1'!$AC$5:$AC$34<>"",ROW('Sub1'!$AC$5:$AC$34)),ROWS(J$7:J20))),"")} | K20: {=IFERROR(INDEX('Sub1'!G:G,SMALL(IF('Sub1'!$AC$5:$AC$34<>"",ROW('Sub1'!$AC$5:$AC$34)),ROWS(I$7:I20))),"")} | L20: {=IFERROR(INDEX('Sub1'!H:H,SMALL(IF('Sub1'!$AC$5:$AC$34<>"",ROW('Sub1'!$AC$5:$AC$34)),ROWS(I$7:I20))),"")} | M20: {=IFERROR(INDEX('Sub1'!I:I,SMALL(IF('Sub1'!$AC$5:$AC$34<>"",ROW('Sub1'!$AC$5:$AC$34)),ROWS(I$7:I20))),"")} | N20: {=IFERROR(INDEX('Sub1'!J:J,SMALL(IF('Sub1'!$AC$5:$AC$34<>"",ROW('Sub1'!$AC$5:$AC$34)),ROWS(I$7:I20))),"")} | O20: {=IFERROR(INDEX('Sub1'!K:K,SMALL(IF('Sub1'!$AC$5:$AC$34<>"",ROW('Sub1'!$AC$5:$AC$34)),ROWS(I$7:I20))),"")} | P20: {=IFERROR(INDEX('Sub1'!L:L,SMALL(IF('Sub1'!$AC$5:$AC$34<>"",ROW('Sub1'!$AC$5:$AC$34)),ROWS(I$7:I20))),"")} | Q20: {=IFERROR(INDEX('Sub1'!M:M,SMALL(IF('Sub1'!$AC$5:$AC$34<>"",ROW('Sub1'!$AC$5:$AC$34)),ROWS(I$7:I20))),"")} | R20: {=IFERROR(INDEX('Sub1'!N:N,SMALL(IF('Sub1'!$AC$5:$AC$34<>"",ROW('Sub1'!$AC$5:$AC$34)),ROWS(I$7:I20))),"")} | S20: {=IFERROR(INDEX('Sub1'!O:O,SMALL(IF('Sub1'!$AC$5:$AC$34<>"",ROW('Sub1'!$AC$5:$AC$34)),ROWS(I$7:I20))),"")} | T20: {=IFERROR(INDEX('Sub1'!P:P,SMALL(IF('Sub1'!$AC$5:$AC$34<>"",ROW('Sub1'!$AC$5:$AC$34)),ROWS(I$7:I20))),"")} | U20: {=IFERROR(INDEX('Sub1'!Q:Q,SMALL(IF('Sub1'!$AC$5:$AC$34<>"",ROW('Sub1'!$AC$5:$AC$34)),ROWS(I$7:I20))),"")} | V20: {=IFERROR(INDEX('Sub1'!R:R,SMALL(IF('Sub1'!$AC$5:$AC$34<>"",ROW('Sub1'!$AC$5:$AC$34)),ROWS(I$7:I20))),"")} | X20: {=IFERROR(INDEX('Sub2'!A:A,SMALL(IF('Sub2'!$Y$5:$Y$34<>"",ROW('Sub2'!$Y$5:$Y$34)),ROWS(Z$7:Z20))),"")} | Y20: {=IFERROR(INDEX('Sub2'!B:B,SMALL(IF('Sub2'!$Y$5:$Y$34<>"",ROW('Sub2'!$Y$5:$Y$34)),ROWS(Z$7:Z20))),"")} | Z20: {=IFERROR(INDEX('Sub2'!C:C,SMALL(IF('Sub2'!$Y$5:$Y$34<>"",ROW('Sub2'!$Y$5:$Y$34)),ROWS(Z$7:Z20))),"")} | AA20: {=IFERROR(INDEX('Sub2'!Y:Y,SMALL(IF('Sub2'!$Y$5:$Y$34<>"",ROW('Sub2'!$Y$5:$Y$34)),ROWS(Z$7:Z20))),"")} | AB20: {=IFERROR(INDEX('Sub2'!F:F,SMALL(IF('Sub2'!$Y$5:$Y$34<>"",ROW('Sub2'!$Y$5:$Y$34)),ROWS(Z$7:Z20))),"")} | AC20: {=IFERROR(INDEX('Sub2'!G:G,SMALL(IF('Sub2'!$Y$5:$Y$34<>"",ROW('Sub2'!$Y$5:$Y$34)),ROWS(Z$7:Z20))),"")} | AD20: {=IFERROR(INDEX('Sub2'!H:H,SMALL(IF('Sub2'!$Y$5:$Y$34<>"",ROW('Sub2'!$Y$5:$Y$34)),ROWS(Z$7:Z20))),"")} | AE20: {=IFERROR(INDEX('Sub2'!I:I,SMALL(IF('Sub2'!$Y$5:$Y$34<>"",ROW('Sub2'!$Y$5:$Y$34)),ROWS(Z$7:Z20))),"")} | AF20: {=IFERROR(INDEX('Sub2'!J:J,SMALL(IF('Sub2'!$Y$5:$Y$34<>"",ROW('Sub2'!$Y$5:$Y$34)),ROWS(Z$7:Z20))),"")} | AG20: {=IFERROR(INDEX('Sub2'!K:K,SMALL(IF('Sub2'!$Y$5:$Y$34<>"",ROW('Sub2'!$Y$5:$Y$34)),ROWS(Z$7:Z20))),"")} | AH20: {=IFERROR(INDEX('Sub2'!L:L,SMALL(IF('Sub2'!$Y$5:$Y$34<>"",ROW('Sub2'!$Y$5:$Y$34)),ROWS(Z$7:Z20))),"")} | AI20: {=IFERROR(INDEX('Sub2'!M:M,SMALL(IF('Sub2'!$Y$5:$Y$34<>"",ROW('Sub2'!$Y$5:$Y$34)),ROWS(Z$7:Z20))),"")} | AJ20: {=IFERROR(INDEX('Sub2'!N:N,SMALL(IF('Sub2'!$Y$5:$Y$34<>"",ROW('Sub2'!$Y$5:$Y$34)),ROWS(Z$7:Z20))),"")} | AK20: {=IFERROR(INDEX('Sub2'!O:O,SMALL(IF('Sub2'!$Y$5:$Y$34<>"",ROW('Sub2'!$Y$5:$Y$34)),ROWS(Z$7:Z20))),"")} | AL20: {=IFERROR(INDEX('Sub2'!P:P,SMALL(IF('Sub2'!$Y$5:$Y$34<>"",ROW('Sub2'!$Y$5:$Y$34)),ROWS(Z$7:Z20))),"")} | AM20: {=IFERROR(INDEX('Sub2'!Q:Q,SMALL(IF('Sub2'!$Y$5:$Y$34<>"",ROW('Sub2'!$Y$5:$Y$34)),ROWS(Z$7:Z20))),"")} | AO20: {=IFERROR(INDEX('Sub3'!A:A,SMALL(IF('Sub3'!$Y$5:$Y$34<>"",ROW('Sub3'!$Y$5:$Y$34)),ROWS($AQ$7:$AQ20))),"")} | AP20: {=IFERROR(INDEX('Sub3'!B:B,SMALL(IF('Sub3'!$Y$5:$Y$34<>"",ROW('Sub3'!$Y$5:$Y$34)),ROWS($AQ$7:$AQ20))),"")} | AQ20: {=IFERROR(INDEX('Sub3'!C:C,SMALL(IF('Sub3'!$Y$5:$Y$34<>"",ROW('Sub3'!$Y$5:$Y$34)),ROWS($AQ$7:$AQ20))),"")} | AR20: {=IFERROR(INDEX('Sub3'!Y:Y,SMALL(IF('Sub3'!$Y$5:$Y$34<>"",ROW('Sub3'!$Y$5:$Y$34)),ROWS($AQ$7:$AQ20))),"")} | AS20: {=IFERROR(INDEX('Sub3'!F:F,SMALL(IF('Sub3'!$Y$5:$Y$34<>"",ROW('Sub3'!$Y$5:$Y$34)),ROWS($AQ$7:$AQ20))),"")} | AT20: {=IFERROR(INDEX('Sub3'!G:G,SMALL(IF('Sub3'!$Y$5:$Y$34<>"",ROW('Sub3'!$Y$5:$Y$34)),ROWS($AQ$7:$AQ20))),"")} | AU20: {=IFERROR(INDEX('Sub3'!H:H,SMALL(IF('Sub3'!$Y$5:$Y$34<>"",ROW('Sub3'!$Y$5:$Y$34)),ROWS($AQ$7:$AQ20))),"")} | AV20: {=IFERROR(INDEX('Sub3'!I:I,SMALL(IF('Sub3'!$Y$5:$Y$34<>"",ROW('Sub3'!$Y$5:$Y$34)),ROWS($AQ$7:$AQ20))),"")} | AW20: {=IFERROR(INDEX('Sub3'!J:J,SMALL(IF('Sub3'!$Y$5:$Y$34<>"",ROW('Sub3'!$Y$5:$Y$34)),ROWS($AQ$7:$AQ20))),"")} | AX20: {=IFERROR(INDEX('Sub3'!K:K,SMALL(IF('Sub3'!$Y$5:$Y$34<>"",ROW('Sub3'!$Y$5:$Y$34)),ROWS($AQ$7:$AQ20))),"")} | AY20: {=IFERROR(INDEX('Sub3'!L:L,SMALL(IF('Sub3'!$Y$5:$Y$34<>"",ROW('Sub3'!$Y$5:$Y$34)),ROWS($AQ$7:$AQ20))),"")} | AZ20: {=IFERROR(INDEX('Sub3'!M:M,SMALL(IF('Sub3'!$Y$5:$Y$34<>"",ROW('Sub3'!$Y$5:$Y$34)),ROWS($AQ$7:$AQ20))),"")} | BA20: {=IFERROR(INDEX('Sub3'!N:N,SMALL(IF('Sub3'!$Y$5:$Y$34<>"",ROW('Sub3'!$Y$5:$Y$34)),ROWS($AQ$7:$AQ20))),"")} | BB20: {=IFERROR(INDEX('Sub3'!O:O,SMALL(IF('Sub3'!$Y$5:$Y$34<>"",ROW('Sub3'!$Y$5:$Y$34)),ROWS($AQ$7:$AQ20))),"")} | BC20: {=IFERROR(INDEX('Sub3'!P:P,SMALL(IF('Sub3'!$Y$5:$Y$34<>"",ROW('Sub3'!$Y$5:$Y$34)),ROWS($AQ$7:$AQ20))),"")} | BD20: {=IFERROR(INDEX('Sub3'!Q:Q,SMALL(IF('Sub3'!$Y$5:$Y$34<>"",ROW('Sub3'!$Y$5:$Y$34)),ROWS($AQ$7:$AQ20))),"")} | BF20: {=IFERROR(INDEX('Sub4'!A:A,SMALL(IF('Sub4'!$W$5:$W$34<>"",ROW('Sub4'!$W$5:$W$34)),ROWS($BH$7:$BH20))),"")} | BG20: {=IFERROR(INDEX('Sub4'!B:B,SMALL(IF('Sub4'!$W$5:$W$34<>"",ROW('Sub4'!$W$5:$W$34)),ROWS($BH$7:$BH20))),"")} | BH20: {=IFERROR(INDEX('Sub4'!C:C,SMALL(IF('Sub4'!$W$5:$W$34<>"",ROW('Sub4'!$W$5:$W$34)),ROWS($BH$7:$BH20))),"")} | BI20: {=IFERROR(INDEX('Sub4'!W:W,SMALL(IF('Sub4'!$W$5:$W$34<>"",ROW('Sub4'!$W$5:$W$34)),ROWS($BH$7:$BH20))),"")} | BJ20: {=IFERROR(INDEX('Sub4'!F:F,SMALL(IF('Sub4'!$W$5:$W$34<>"",ROW('Sub4'!$W$5:$W$34)),ROWS($BH$7:$BH20))),"")} | BK20: {=IFERROR(INDEX('Sub4'!G:G,SMALL(IF('Sub4'!$W$5:$W$34<>"",ROW('Sub4'!$W$5:$W$34)),ROWS($BH$7:$BH20))),"")} | BL20: {=IFERROR(INDEX('Sub4'!H:H,SMALL(IF('Sub4'!$W$5:$W$34<>"",ROW('Sub4'!$W$5:$W$34)),ROWS($BH$7:$BH20))),"")} | BM20: {=IFERROR(INDEX('Sub4'!I:I,SMALL(IF('Sub4'!$W$5:$W$34<>"",ROW('Sub4'!$W$5:$W$34)),ROWS($BH$7:$BH20))),"")} | BN20: {=IFERROR(INDEX('Sub4'!J:J,SMALL(IF('Sub4'!$W$5:$W$34<>"",ROW('Sub4'!$W$5:$W$34)),ROWS($BH$7:$BH20))),"")} | BO20: {=IFERROR(INDEX('Sub4'!K:K,SMALL(IF('Sub4'!$W$5:$W$34<>"",ROW('Sub4'!$W$5:$W$34)),ROWS($BH$7:$BH20))),"")} | BP20: {=IFERROR(INDEX('Sub4'!L:L,SMALL(IF('Sub4'!$W$5:$W$34<>"",ROW('Sub4'!$W$5:$W$34)),ROWS($BH$7:$BH20))),"")} | BQ20: {=IFERROR(INDEX('Sub4'!M:M,SMALL(IF('Sub4'!$W$5:$W$34<>"",ROW('Sub4'!$W$5:$W$34)),ROWS($BH$7:$BH20))),"")} | BR20: {=IFERROR(INDEX('Sub4'!N:N,SMALL(IF('Sub4'!$W$5:$W$34<>"",ROW('Sub4'!$W$5:$W$34)),ROWS($BH$7:$BH20))),"")} | BS20: {=IFERROR(INDEX('Sub4'!O:O,SMALL(IF('Sub4'!$W$5:$W$34<>"",ROW('Sub4'!$W$5:$W$34)),ROWS($BH$7:$BH20))),"")} | BT20: {=IFERROR(INDEX('Sub4'!P:P,SMALL(IF('Sub4'!$W$5:$W$34<>"",ROW('Sub4'!$W$5:$W$34)),ROWS($BH$7:$BH20))),"")} | BU20: {=IFERROR(INDEX('Sub4'!Q:Q,SMALL(IF('Sub4'!$W$5:$W$34<>"",ROW('Sub4'!$W$5:$W$34)),ROWS($BH$7:$BH20))),"")} | BW20: {=IFERROR(INDEX('Sub5'!A:A,SMALL(IF('Sub5'!$Y$5:$Y$34<>"",ROW('Sub5'!$Y$5:$Y$34)),ROWS($BY$7:$BY20))),"")} | BX20: {=IFERROR(INDEX('Sub5'!B:B,SMALL(IF('Sub5'!$Y$5:$Y$34<>"",ROW('Sub5'!$Y$5:$Y$34)),ROWS($BY$7:$BY20))),"")} | BY20: {=IFERROR(INDEX('Sub5'!C:C,SMALL(IF('Sub5'!$Y$5:$Y$34<>"",ROW('Sub5'!$Y$5:$Y$34)),ROWS($BY$7:$BY20))),"")} | BZ20: {=IFERROR(INDEX('Sub5'!Y:Y,SMALL(IF('Sub5'!$Y$5:$Y$34<>"",ROW('Sub5'!$Y$5:$Y$34)),ROWS($BY$7:$BY20))),"")} | CA20: {=IFERROR(INDEX('Sub5'!F:F,SMALL(IF('Sub5'!$Y$5:$Y$34<>"",ROW('Sub5'!$Y$5:$Y$34)),ROWS($BY$7:$BY20))),"")} | CB20: {=IFERROR(INDEX('Sub5'!G:G,SMALL(IF('Sub5'!$Y$5:$Y$34<>"",ROW('Sub5'!$Y$5:$Y$34)),ROWS($BY$7:$BY20))),"")} | CC20: {=IFERROR(INDEX('Sub5'!H:H,SMALL(IF('Sub5'!$Y$5:$Y$34<>"",ROW('Sub5'!$Y$5:$Y$34)),ROWS($BY$7:$BY20))),"")} | CD20: {=IFERROR(INDEX('Sub5'!I:I,SMALL(IF('Sub5'!$Y$5:$Y$34<>"",ROW('Sub5'!$Y$5:$Y$34)),ROWS($BY$7:$BY20))),"")} | CE20: {=IFERROR(INDEX('Sub5'!J:J,SMALL(IF('Sub5'!$Y$5:$Y$34<>"",ROW('Sub5'!$Y$5:$Y$34)),ROWS($BY$7:$BY20))),"")} | CF20: {=IFERROR(INDEX('Sub5'!K:K,SMALL(IF('Sub5'!$Y$5:$Y$34<>"",ROW('Sub5'!$Y$5:$Y$34)),ROWS($BY$7:$BY20))),"")} | CG20: {=IFERROR(INDEX('Sub5'!L:L,SMALL(IF('Sub5'!$Y$5:$Y$34<>"",ROW('Sub5'!$Y$5:$Y$34)),ROWS($BY$7:$BY20))),"")} | CH20: {=IFERROR(INDEX('Sub5'!M:M,SMALL(IF('Sub5'!$Y$5:$Y$34<>"",ROW('Sub5'!$Y$5:$Y$34)),ROWS($BY$7:$BY20))),"")} | CI20: {=IFERROR(INDEX('Sub5'!N:N,SMALL(IF('Sub5'!$Y$5:$Y$34<>"",ROW('Sub5'!$Y$5:$Y$34)),ROWS($BY$7:$BY20))),"")} | CJ20: {=IFERROR(INDEX('Sub5'!O:O,SMALL(IF('Sub5'!$Y$5:$Y$34<>"",ROW('Sub5'!$Y$5:$Y$34)),ROWS($BY$7:$BY20))),"")} | CK20: {=IFERROR(INDEX('Sub5'!P:P,SMALL(IF('Sub5'!$Y$5:$Y$34<>"",ROW('Sub5'!$Y$5:$Y$34)),ROWS($BY$7:$BY20))),"")} | CL20: {=IFERROR(INDEX('Sub5'!Q:Q,SMALL(IF('Sub5'!$Y$5:$Y$34<>"",ROW('Sub5'!$Y$5:$Y$34)),ROWS($BY$7:$BY20))),"")}

Sheet Sub1
A1: ANNEE 2021 | C1: =RIGHT(CELL("nomfichier",A1),LEN(CELL("nomfichier",A1))-FIND("]",CELL("nomfichier",A1))) -> Sub1 | X1: Mot de passe : 18111958
A2: Tranche A | B2: Tranche B | C2: Tranche C | D2: Tranche D | E2: Tranche E
A3: 540 | B3: 480 | C3: 430 | D3: 380 | E3: 320 | G3: =SUM(G5:G34) -> 800 | H3: =SUM(H5:H34) -> 0 | I3: =SUM(I5:I34) -> 0 | J3: =SUM(J5:J34) -> 0 | K3: =SUM(K5:K34) -> 0 | L3: =SUM(L5:L34) -> 0 | M3: =SUM(M5:M34) -> 0 | N3: =SUM(N5:N34) -> 0 | ... S3: =SUM(S5:S34) -> 800 | X3: Calcul | AH3: Observation
A4: Nom | B4: Prénom | C4: Matricule | D4: Conjoint / enfant | E4: Tranche | F4: Somme Max Allouée | G4: Janvier 2021 | H4: Fevrier 2021 | I4: Mars 2021 | J4: Avril 2021 | K4: Mai 2021 | L4: Juin 2021 | M4: Juillet 2021 | N4: Août 2021 | O4: 44440 | P4: 44470 | Q4: 44501 | R4: 44531 | S4: CUMUL | T4: Reste à donner | U4: Année | V4: Semestre | W4: Trimestre | X4: Facture | Y4: S.S | Z4: Mut. | AA4: Reste à Charge | AB4: ce qui peut être remboursé | AC4: ce qui doit être donné | AD4: Cotisation 1 | AE4: Cotisation 2 | AF4: Reste à charge | AG4: Ce qui va être facturé
A5: Nom1 | B5: Prénom1 | C5: 0000001 | E5: D | F5: =IF(E5="A",$A$3,IF(E5="B",$B$3,IF(E5="C",$C$3,IF(E5="D",$D$3,IF(E5="E",$E$3,""))))) -> 380 | S5: =SUM(G5:R5) -> 0 | T5: =IF(F5="","",F5-S5) -> 380 | AA5: =IF(X5="","",X5-Y5-Z5) | AB5: =IF(X5="","",IF(SUM(X5-Y5-Z5)>=$F5,$F5,SUM(X5-Y5-Z5))) | AC5: =IF(X5="","",ROUND(AB5-(AB5*33%),2)) | AD5: =IF(X5="","",AB5-AC5) | AE5: =IF(X5="","",AC5*20%) | AF5: =IF(X5="","",AC5-AE5) | AG5: =IF(X5="","",AC5+AD5)
A6: Nom2 | B6: Prénom2 | C6: 0000002 | E6: A | F6: =IF(E6="A",$A$3,IF(E6="B",$B$3,IF(E6="C",$C$3,IF(E6="D",$D$3,IF(E6="E",$E$3,""))))) -> 540 | S6: =SUM(G6:R6) -> 0 | T6: =IF(F6="","",F6-S6) -> 540 | AA6: =IF(X6="","",X6-Y6-Z6) | AB6: =IF(X6="","",IF(SUM(X6-Y6-Z6)>=$F6,$F6,SUM(X6-Y6-Z6))) | AC6: =IF(X6="","",ROUND(AB6-(AB6*33%),2)) | AD6: =IF(X6="","",AB6-AC6) | AE6: =IF(X6="","",AC6*20%) | AF6: =IF(X6="","",AC6-AE6) | AG6: =IF(X6="","",AC6+AD6)
A7: Nom3 | B7: Prénom3 | C7: 0000003 | F7: =IF(E7="A",$A$3,IF(E7="B",$B$3,IF(E7="C",$C$3,IF(E7="D",$D$3,IF(E7="E",$E$3,""))))) | S7: =SUM(G7:R7) -> 0 | T7: =IF(F7="","",F7-S7) | AA7: =IF(X7="","",X7-Y7-Z7) | AB7: =IF(X7="","",IF(SUM(X7-Y7-Z7)>=$F7,$F7,SUM(X7-Y7-Z7))) | AC7: =IF(X7="","",ROUND(AB7-(AB7*33%),2)) | AD7: =IF(X7="","",AB7-AC7) | AE7: =IF(X7="","",AC7*20%) | AF7: =IF(X7="","",AC7-AE7) | AG7: =IF(X7="","",AC7+AD7)
A8: Nom4 | B8: Prénom4 | C8: 0000004 | E8: C | F8: =IF(E8="A",$A$3,IF(E8="B",$B$3,IF(E8="C",$C$3,IF(E8="D",$D$3,IF(E8="E",$E$3,""))))) -> 430 | S8: =SUM(G8:R8) -> 0 | T8: =IF(F8="","",F8-S8) -> 430 | AA8: =IF(X8="","",X8-Y8-Z8) | AB8: =IF(X8="","",IF(SUM(X8-Y8-Z8)>=$F8,$F8,SUM(X8-Y8-Z8))) | AC8: =IF(X8="","",ROUND(AB8-(AB8*33%),2)) | AD8: =IF(X8="","",AB8-AC8) | AE8: =IF(X8="","",AC8*20%) | AF8: =IF(X8="","",AC8-AE8) | AG8: =IF(X8="","",AC8+AD8)
A9: Nom5 | B9: Prénom5 | C9: 0000005 | E9: B | F9: =IF(E9="A",$A$3,IF(E9="B",$B$3,IF(E9="C",$C$3,IF(E9="D",$D$3,IF(E9="E",$E$3,""))))) -> 480 | G9: 300 | S9: =SUM(G9:R9) -> 300 | T9: =IF(F9="","",F9-S9) -> 180 | X9: 300 | Y9: 100 | Z9: 20 | AA9: =IF(X9="","",X9-Y9-Z9) -> 180 | AB9: =IF(X9="","",IF(SUM(X9-Y9-Z9)>=$F9,$F9,SUM(X9-Y9-Z9))) -> 180 | AC9: =IF(X9="","",ROUND(AB9-(AB9*33%),2)) -> 120.6 | AD9: =IF(X9="","",AB9-AC9) -> 59.4 | AE9: =IF(X9="","",AC9*20%) -> 24.12 | AF9: =IF(X9="","",AC9-AE9) -> 96.48 | AG9: =IF(X9="","",AC9+AD9) -> 180
A10: Nom6 | B10: Prénom6 | C10: 0000006 | F10: =IF(E10="A",$A$3,IF(E10="B",$B$3,IF(E10="C",$C$3,IF(E10="D",$D$3,IF(E10="E",$E$3,""))))) | S10: =SUM(G10:R10) -> 0 | T10: =IF(F10="","",F10-S10) | AA10: =IF(X10="","",X10-Y10-Z10) | AB10: =IF(X10="","",IF(SUM(X10-Y10-Z10)>=$F10,$F10,SUM(X10-Y10-Z10))) | AC10: =IF(X10="","",ROUND(AB10-(AB10*33%),2)) | AD10: =IF(X10="","",AB10-AC10) | AE10: =IF(X10="","",AC10*20%) | AF10: =IF(X10="","",AC10-AE10) | AG10: =IF(X10="","",AC10+AD10)
A11: Nom7 | B11: Prénom7 | C11: 0000007 | F11: =IF(E11="A",$A$3,IF(E11="B",$B$3,IF(E11="C",$C$3,IF(E11="D",$D$3,IF(E11="E",$E$3,""))))) | S11: =SUM(G11:R11) -> 0 | T11: =IF(F11="","",F11-S11) | AA11: =IF(X11="","",X11-Y11-Z11) | AB11: =IF(X11="","",IF(SUM(X11-Y11-Z11)>=$F11,$F11,SUM(X11-Y11-Z11))) | AC11: =IF(X11="","",ROUND(AB11-(AB11*33%),2)) | AD11: =IF(X11="","",AB11-AC11) | AE11: =IF(X11="","",AC11*20%) | AF11: =IF(X11="","",AC11-AE11) | AG11: =IF(X11="","",AC11+AD11)
A12: Nom8 | B12: Prénom8 | C12: 0000008 | F12: =IF(E12="A",$A$3,IF(E12="B",$B$3,IF(E12="C",$C$3,IF(E12="D",$D$3,IF(E12="E",$E$3,""))))) | S12: =SUM(G12:R12) -> 0 | T12: =IF(F12="","",F12-S12) | AA12: =IF(X12="","",X12-Y12-Z12) | AB12: =IF(X12="","",IF(SUM(X12-Y12-Z12)>=$F12,$F12,SUM(X12-Y12-Z12))) | AC12: =IF(X12="","",ROUND(AB12-(AB12*33%),2)) | AD12: =IF(X12="","",AB12-AC12) | AE12: =IF(X12="","",AC12*20%) | AF12: =IF(X12="","",AC12-AE12) | AG12: =IF(X12="","",AC12+AD12)
A13: Nom9 | B13: Prénom9 | C13: 0000009 | E13: B | F13: =IF(E13="A",$A$3,IF(E13="B",$B$3,IF(E13="C",$C$3,IF(E13="D",$D$3,IF(E13="E",$E$3,""))))) -> 480 | S13: =SUM(G13:R13) -> 0 | T13: =IF(F13="","",F13-S13) -> 480 | AA13: =IF(X13="","",X13-Y13-Z13) | AB13: =IF(X13="","",IF(SUM(X13-Y13-Z13)>=$F13,$F13,SUM(X13-Y13-Z13))) | AC13: =IF(X13="","",ROUND(AB13-(AB13*33%),2)) | AD13: =IF(X13="","",AB13-AC13) | AE13: =IF(X13="","",AC13*20%) | AF13: =IF(X13="","",AC13-AE13) | AG13: =IF(X13="","",AC13+AD13)
A14: Nom10 | B14: Prénom10 | C14: 0000010 | E14: A | F14: =IF(E14="A",$A$3,IF(E14="B",$B$3,IF(E14="C",$C$3,IF(E14="D",$D$3,IF(E14="E",$E$3,""))))) -> 540 | S14: =SUM(G14:R14) -> 0 | T14: =IF(F14="","",F14-S14) -> 540 | AA14: =IF(X14="","",X14-Y14-Z14) | AB14: =IF(X14="","",IF(SUM(X14-Y14-Z14)>=$F14,$F14,SUM(X14-Y14-Z14))) | AC14: =IF(X14="","",ROUND(AB14-(AB14*33%),2)) | AD14: =IF(X14="","",AB14-AC14) | AE14: =IF(X14="","",AC14*20%) | AF14: =IF(X14="","",AC14-AE14) | AG14: =IF(X14="","",AC14+AD14)
A15: Nom11 | B15: Prénom11 | C15: 0000011 | E15: A | F15: =IF(E15="A",$A$3,IF(E15="B",$B$3,IF(E15="C",$C$3,IF(E15="D",$D$3,IF(E15="E",$E$3,""))))) -> 540 | S15: =SUM(G15:R15) -> 0 | T15: =IF(F15="","",F15-S15) -> 540 | AA15: =IF(X15="","",X15-Y15-Z15) | AB15: =IF(X15="","",IF(SUM(X15-Y15-Z15)>=$F15,$F15,SUM(X15-Y15-Z15))) | AC15: =IF(X15="","",ROUND(AB15-(AB15*33%),2)) | AD15: =IF(X15="","",AB15-AC15) | AE15: =IF(X15="","",AC15*20%) | AF15: =IF(X15="","",AC15-AE15) | AG15: =IF(X15="","",AC15+AD15)
A16: Nom12 | B16: Prénom12 | C16: 0000012 | E16: D | F16: =IF(E16="A",$A$3,IF(E16="B",$B$3,IF(E16="C",$C$3,IF(E16="D",$D$3,IF(E16="E",$E$3,""))))) -> 380 | S16: =SUM(G16:R16) -> 0 | T16: =IF(F16="","",F16-S16) -> 380 | AA16: =IF(X16="","",X16-Y16-Z16) | AB16: =IF(X16="","",IF(SUM(X16-Y16-Z16)>=$F16,$F16,SUM(X16-Y16-Z16))) | AC16: =IF(X16="","",ROUND(AB16-(AB16*33%),2)) | AD16: =IF(X16="","",AB16-AC16) | AE16: =IF(X16="","",AC16*20%) | AF16: =IF(X16="","",AC16-AE16) | AG16: =IF(X16="","",AC16+AD16)
A17: Nom13 | B17: Prénom13 | C17: 0000013 | E17: E | F17: =IF(E17="A",$A$3,IF(E17="B",$B$3,IF(E17="C",$C$3,IF(E17="D",$D$3,IF(E17="E",$E$3,""))))) -> 320 | G17: 500 | S17: =SUM(G17:R17) -> 500 | T17: =IF(F17="","",F17-S17) -> -180 | X17: 500 | Y17: 150 | Z17: 100 | AA17: =IF(X17="","",X17-Y17-Z17) -> 250 | AB17: =IF(X17="","",IF(SUM(X17-Y17-Z17)>=$F17,$F17,SUM(X17-Y17-Z17))) -> 250 | AC17: =IF(X17="","",ROUND(AB17-(AB17*33%),2)) -> 167.5 | AD17: =IF(X17="","",AB17-AC17) -> 82.5 | AE17: =IF(X17="","",AC17*20%) -> 33.5 | AF17: =IF(X17="","",AC17-AE17) -> 134 | AG17: =IF(X17="","",AC17+AD17) -> 250
A18: Nom14 | B18: Prénom14 | C18: 0000014 | E18: E | F18: =IF(E18="A",$A$3,IF(E18="B",$B$3,IF(E18="C",$C$3,IF(E18="D",$D$3,IF(E18="E",$E$3,""))))) -> 320 | S18: =SUM(G18:R18) -> 0 | T18: =IF(F18="","",F18-S18) -> 320 | AA18: =IF(X18="","",X18-Y18-Z18) | AB18: =IF(X18="","",IF(SUM(X18-Y18-Z18)>=$F18,$F18,SUM(X18-Y18-Z18))) | AC18: =IF(X18="","",ROUND(AB18-(AB18*33%),2)) | AD18: =IF(X18="","",AB18-AC18) | AE18: =IF(X18="","",AC18*20%) | AF18: =IF(X18="","",AC18-AE18) | AG18: =IF(X18="","",AC18+AD18)
A19: Nom15 | B19: Prénom15 | C19: 0000015 | E19: B | F19: =IF(E19="A",$A$3,IF(E19="B",$B$3,IF(E19="C",$C$3,IF(E19="D",$D$3,IF(E19="E",$E$3,""))))) -> 480 | S19: =SUM(G19:R19) -> 0 | T19: =IF(F19="","",F19-S19) -> 480 | AA19: =IF(X19="","",X19-Y19-Z19) | AB19: =IF(X19="","",IF(SUM(X19-Y19-Z19)>=$F19,$F19,SUM(X19-Y19-Z19))) | AC19: =IF(X19="","",ROUND(AB19-(AB19*33%),2)) | AD19: =IF(X19="","",AB19-AC19) | AE19: =IF(X19="","",AC19*20%) | AF19: =IF(X19="","",AC19-AE19) | AG19: =IF(X19="","",AC19+AD19)
A20: Nom16 | B20: Prénom16 | C20: 0000016 | E20: A | F20: =IF(E20="A",$A$3,IF(E20="B",$B$3,IF(E20="C",$C$3,IF(E20="D",$D$3,IF(E20="E",$E$3,""))))) -> 540 | S20: =SUM(G20:R20) -> 0 | T20: =IF(F20="","",F20-S20) -> 540 | AA20: =IF(X20="","",X20-Y20-Z20) | AB20: =IF(X20="","",IF(SUM(X20-Y20-Z20)>=$F20,$F20,SUM(X20-Y20-Z20))) | AC20: =IF(X20="","",ROUND(AB20-(AB20*33%),2)) | AD20: =IF(X20="","",AB20-AC20) | AE20: =IF(X20="","",AC20*20%) | AF20: =IF(X20="","",AC20-AE20) | AG20: =IF(X20="","",AC20+AD20)
A21: Nom17 | B21: Prénom17 | C21: 0000017 | F21: =IF(E21="A",$A$3,IF(E21="B",$B$3,IF(E21="C",$C$3,IF(E21="D",$D$3,IF(E21="E",$E$3,""))))) | S21: =SUM(G21:R21) -> 0 | T21: =IF(F21="","",F21-S21) | AA21: =IF(X21="","",X21-Y21-Z21) | AB21: =IF(X21="","",IF(SUM(X21-Y21-Z21)>=$F21,$F21,SUM(X21-Y21-Z21))) | AC21: =IF(X21="","",ROUND(AB21-(AB21*33%),2)) | AD21: =IF(X21="","",AB21-AC21) | AE21: =IF(X21="","",AC21*20%) | AF21: =IF(X21="","",AC21-AE21) | AG21: =IF(X21="","",AC21+AD21)
A22: Nom18 | B22: Prénom18 | C22: 0000018 | E22: B | F22: =IF(E22="A",$A$3,IF(E22="B",$B$3,IF(E22="C",$C$3,IF(E22="D",$D$3,IF(E22="E",$E$3,""))))) -> 480 | S22: =SUM(G22:R22) -> 0 | T22: =IF(F22="","",F22-S22) -> 480 | AA22: =IF(X22="","",X22-Y22-Z22) | AB22: =IF(X22="","",IF(SUM(X22-Y22-Z22)>=$F22,$F22,SUM(X22-Y22-Z22))) | AC22: =IF(X22="","",ROUND(AB22-(AB22*33%),2)) | AD22: =IF(X22="","",AB22-AC22) | AE22: =IF(X22="","",AC22*20%) | AF22: =IF(X22="","",AC22-AE22) | AG22: =IF(X22="","",AC22+AD22)
A23: Nom19 | B23: Prénom19 | C23: 0000019 | E23: A | F23: =IF(E23="A",$A$3,IF(E23="B",$B$3,IF(E23="C",$C$3,IF(E23="D",$D$3,IF(E23="E",$E$3,""))))) -> 540 | S23: =SUM(G23:R23) -> 0 | T23: =IF(F23="","",F23-S23) -> 540 | AA23: =IF(X23="","",X23-Y23-Z23) | AB23: =IF(X23="","",IF(SUM(X23-Y23-Z23)>=$F23,$F23,SUM(X23-Y23-Z23))) | AC23: =IF(X23="","",ROUND(AB23-(AB23*33%),2)) | AD23: =IF(X23="","",AB23-AC23) | AE23: =IF(X23="","",AC23*20%) | AF23: =IF(X23="","",AC23-AE23) | AG23: =IF(X23="","",AC23+AD23)
A24: Nom20 | B24: Prénom20 | C24: 0000020 | F24: =IF(E24="A",$A$3,IF(E24="B",$B$3,IF(E24="C",$C$3,IF(E24="D",$D$3,IF(E24="E",$E$3,""))))) | S24: =SUM(G24:R24) -> 0 | T24: =IF(F24="","",F24-S24) | AA24: =IF(X24="","",X24-Y24-Z24) | AB24: =IF(X24="","",IF(SUM(X24-Y24-Z24)>=$F24,$F24,SUM(X24-Y24-Z24))) | AC24: =IF(X24="","",ROUND(AB24-(AB24*33%),2)) | AD24: =IF(X24="","",AB24-AC24) | AE24: =IF(X24="","",AC24*20%) | AF24: =IF(X24="","",AC24-AE24) | AG24: =IF(X24="","",AC24+AD24)
A25: Nom21 | B25: Prénom21 | C25: 0000021 | F25: =IF(E25="A",$A$3,IF(E25="B",$B$3,IF(E25="C",$C$3,IF(E25="D",$D$3,IF(E25="E",$E$3,""))))) | S25: =SUM(G25:R25) -> 0 | T25: =IF(F25="","",F25-S25) | AA25: =IF(X25="","",X25-Y25-Z25) | AB25: =IF(X25="","",IF(SUM(X25-Y25-Z25)>=$F25,$F25,SUM(X25-Y25-Z25))) | AC25: =IF(X25="","",ROUND(AB25-(AB25*33%),2)) | AD25: =IF(X25="","",AB25-AC25) | AE25: =IF(X25="","",AC25*20%) | AF25: =IF(X25="","",AC25-AE25) | AG25: =IF(X25="","",AC25+AD25)
A26: Nom22 | B26: Prénom22 | C26: 0000022 | E26: C | F26: =IF(E26="A",$A$3,IF(E26="B",$B$3,IF(E26="C",$C$3,IF(E26="D",$D$3,IF(E26="E",$E$3,""))))) -> 430 | S26: =SUM(G26:R26) -> 0 | T26: =IF(F26="","",F26-S26) -> 430 | AA26: =IF(X26="","",X26-Y26-Z26) | AB26: =IF(X26="","",IF(SUM(X26-Y26-Z26)>=$F26,$F26,SUM(X26-Y26-Z26))) | AC26: =IF(X26="","",ROUND(AB26-(AB26*33%),2)) | AD26: =IF(X26="","",AB26-AC26) | AE26: =IF(X26="","",AC26*20%) | AF26: =IF(X26="","",AC26-AE26) | AG26: =IF(X26="","",AC26+AD26)
A27: Nom23 | B27: Prénom23 | C27: 0000023 | E27: A | F27: =IF(E27="A",$A$3,IF(E27="B",$B$3,IF(E27="C",$C$3,IF(E27="D",$D$3,IF(E27="E",$E$3,""))))) -> 540 | S27: =SUM(G27:R27) -> 0 | T27: =IF(F27="","",F27-S27) -> 540 | AA27: =IF(X27="","",X27-Y27-Z27) | AB27: =IF(X27="","",IF(SUM(X27-Y27-Z27)>=$F27,$F27,SUM(X27-Y27-Z27))) | AC27: =IF(X27="","",ROUND(AB27-(AB27*33%),2)) | AD27: =IF(X27="","",AB27-AC27) | AE27: =IF(X27="","",AC27*20%) | AF27: =IF(X27="","",AC27-AE27) | AG27: =IF(X27="","",AC27+AD27)
A28: Nom24 | B28: Prénom24 | C28: 0000024 | E28: B | F28: =IF(E28="A",$A$3,IF(E28="B",$B$3,IF(E28="C",$C$3,IF(E28="D",$D$3,IF(E28="E",$E$3,""))))) -> 480 | S28: =SUM(G28:R28) -> 0 | T28: =IF(F28="","",F28-S28) -> 480 | AA28: =IF(X28="","",X28-Y28-Z28) | AB28: =IF(X28="","",IF(SUM(X28-Y28-Z28)>=$F28,$F28,SUM(X28-Y28-Z28))) | AC28: =IF(X28="","",ROUND(AB28-(AB28*33%),2)) | AD28: =IF(X28="","",AB28-AC28) | AE28: =IF(X28="","",AC28*20%) | AF28: =IF(X28="","",AC28-AE28) | AG28: =IF(X28="","",AC28+AD28)
A29: Nom25 | B29: Prénom25 | C29: 0000025 | F29: =IF(E29="A",$A$3,IF(E29="B",$B$3,IF(E29="C",$C$3,IF(E29="D",$D$3,IF(E29="E",$E$3,""))))) | S29: =SUM(G29:R29) -> 0 | T29: =IF(F29="","",F29-S29) | AA29: =IF(X29="","",X29-Y29-Z29) | AB29: =IF(X29="","",IF(SUM(X29-Y29-Z29)>=$F29,$F29,SUM(X29-Y29-Z29))) | AC29: =IF(X29="","",ROUND(AB29-(AB29*33%),2)) | AD29: =IF(X29="","",AB29-AC29) | AE29: =IF(X29="","",AC29*20%) | AF29: =IF(X29="","",AC29-AE29) | AG29: =IF(X29="","",AC29+AD29)
A30: Nom26 | B30: Prénom26 | C30: 0000026 | E30: A | F30: =IF(E30="A",$A$3,IF(E30="B",$B$3,IF(E30="C",$C$3,IF(E30="D",$D$3,IF(E30="E",$E$3,""))))) -> 540 | S30: =SUM(G30:R30) -> 0 | T30: =IF(F30="","",F30-S30) -> 540 | AA30: =IF(X30="","",X30-Y30-Z30) | AB30: =IF(X30="","",IF(SUM(X30-Y30-Z30)>=$F30,$F30,SUM(X30-Y30-Z30))) | AC30: =IF(X30="","",ROUND(AB30-(AB30*33%),2)) | AD30: =IF(X30="","",AB30-AC30) | AE30: =IF(X30="","",AC30*20%) | AF30: =IF(X30="","",AC30-AE30) | AG30: =IF(X30="","",AC30+AD30)
A31: Nom27 | B31: Prénom27 | C31: 0000027 | E31: B | F31: =IF(E31="A",$A$3,IF(E31="B",$B$3,IF(E31="C",$C$3,IF(E31="D",$D$3,IF(E31="E",$E$3,""))))) -> 480 | S31: =SUM(G31:R31) -> 0 | T31: =IF(F31="","",F31-S31) -> 480 | AA31: =IF(X31="","",X31-Y31-Z31) | AB31: =IF(X31="","",IF(SUM(X31-Y31-Z31)>=$F31,$F31,SUM(X31-Y31-Z31))) | AC31: =IF(X31="","",ROUND(AB31-(AB31*33%),2)) | AD31: =IF(X31="","",AB31-AC31) | AE31: =IF(X31="","",AC31*20%) | AF31: =IF(X31="","",AC31-AE31) | AG31: =IF(X31="","",AC31+AD31)
A32: Nom28 | B32: Prénom28 | C32: 0000028 | F32: =IF(E32="A",$A$3,IF(E32="B",$B$3,IF(E32="C",$C$3,IF(E32="D",$D$3,IF(E32="E",$E$3,""))))) | S32: =SUM(G32:R32) -> 0 | T32: =IF(F32="","",F32-S32) | AA32: =IF(X32="","",X32-Y32-Z32) | AB32: =IF(X32="","",IF(SUM(X32-Y32-Z32)>=$F32,$F32,SUM(X32-Y32-Z32))) | AC32: =IF(X32="","",ROUND(AB32-(AB32*33%),2)) | AD32: =IF(X32="","",AB32-AC32) | AE32: =IF(X32="","",AC32*20%) | AF32: =IF(X32="","",AC32-AE32) | AG32: =IF(X32="","",AC32+AD32)
A33: Nom29 | B33: Prénom29 | C33: 0000029 | F33: =IF(E33="A",$A$3,IF(E33="B",$B$3,IF(E33="C",$C$3,IF(E33="D",$D$3,IF(E33="E",$E$3,""))))) | S33: =SUM(G33:R33) -> 0 | T33: =IF(F33="","",F33-S33) | AA33: =IF(X33="","",X33-Y33-Z33) | AB33: =IF(X33="","",IF(SUM(X33-Y33-Z33)>=$F33,$F33,SUM(X33-Y33-Z33))) | AC33: =IF(X33="","",ROUND(AB33-(AB33*33%),2)) | AD33: =IF(X33="","",AB33-AC33) | AE33: =IF(X33="","",AC33*20%) | AF33: =IF(X33="","",AC33-AE33) | AG33: =IF(X33="","",AC33+AD33)
A34: Nom30 | B34: Prénom30 | C34: 0000030 | E34: D | F34: =IF(E34="A",$A$3,IF(E34="B",$B$3,IF(E34="C",$C$3,IF(E34="D",$D$3,IF(E34="E",$E$3,""))))) -> 380 | S34: =SUM(G34:R34) -> 0 | T34: =IF(F34="","",F34-S34) -> 380 | AA34: =IF(X34="","",X34-Y34-Z34) | AB34: =IF(X34="","",IF(SUM(X34-Y34-Z34)>=$F34,$F34,SUM(X34-Y34-Z34))) | AC34: =IF(X34="","",ROUND(AB34-(AB34*33%),2)) | AD34: =IF(X34="","",AB34-AC34) | AE34: =IF(X34="","",AC34*20%) | AF34: =IF(X34="","",AC34-AE34) | AG34: =IF(X34="","",AC34+AD34)

Sheet Sub2
A1: ANNEE 2021 | C1: =RIGHT(CELL("nomfichier",A1),LEN(CELL("nomfichier",A1))-FIND("]",CELL("nomfichier",A1))) -> Sub2 | S1: Mot de passe : 18111958
F3: =SUM(F5:F34) -> 30 | G3: =SUM(G5:G34) -> 50 | H3: =SUM(H5:H34) -> 0 | I3: =SUM(I5:I34) -> 0 | J3: =SUM(J5:J34) -> 0 | K3: =SUM(K5:K34) -> 0 | L3: =SUM(L5:L34) -> 0 | M3: =SUM(M5:M34) -> 0 | ... R3: =SUM(R5:R34) -> 120 | T3: Calcul
A4: Nom | B4: Prénom | C4: Matricule | D4: Conjoint / enfant | E4: Somme Max Allouée | F4: Janvier 2021 | G4: Fevrier 2021 | H4: Mars 2021 | I4: Avril 2021 | J4: Mai 2021 | K4: Juin 2021 | L4: Juillet 2021 | M4: Août 2021 | N4: 44440 | O4: 44470 | P4: 44501 | Q4: 44531 | R4: CUMUL | S4: Reste à donner | T4: Facture | U4: S.S | V4: Mut. | W4: Reste à Charge | X4: ce qui peut être remboursé | Y4: ce qui doit être donné | Z4: Cotisation 1 | AA4: Cotisation 2 | AB4: Reste à charge | AC4: Ce qui va être facturé
A5: Nom1 | B5: Prénom1 | C5: 0000001 | E5: 75 | F5: 30 | N5: 40 | R5: =SUM(F5:Q5) -> 70 | S5: =IF(E5="","",E5-R5) -> 5 | T5: 70 | U5: 30 | V5: 10 | W5: =IF(T5="","",T5-U5-V5) -> 30 | X5: =IF(W5="","",IF(W5>S5,S5,W5)) -> 5 | Y5: =IF(T5="","",ROUND(X5-(X5*33%),2)) -> 3.35 | Z5: =IF(T5="","",X5-Y5) -> 1.65 | AA5: =IF(T5="","",Y5*20%) -> 0.67 | AB5: =IF(T5="","",Y5-AA5) -> 2.68 | AC5: =IF(T5="","",Y5+Z5) -> 5
A6: Nom2 | B6: Prénom2 | C6: 0000002 | E6: 75 | R6: =SUM(F6:Q6) -> 0 | S6: =IF(E6="","",E6-R6) -> 75 | W6: =IF(T6="","",T6-U6-V6) | X6: =IF(W6="","",IF(W6>S6,S6,W6)) | Y6: =IF(T6="","",ROUND(X6-(X6*33%),2)) | Z6: =IF(T6="","",X6-Y6) | AA6: =IF(T6="","",Y6*20%) | AB6: =IF(T6="","",Y6-AA6) | AC6: =IF(T6="","",Y6+Z6)
A7: Nom3 | B7: Prénom3 | C7: 0000003 | E7: 75 | R7: =SUM(F7:Q7) -> 0 | S7: =IF(E7="","",E7-R7) -> 75 | W7: =IF(T7="","",T7-U7-V7) | X7: =IF(W7="","",IF(W7>S7,S7,W7)) | Y7: =IF(T7="","",ROUND(X7-(X7*33%),2)) | Z7: =IF(T7="","",X7-Y7) | AA7: =IF(T7="","",Y7*20%) | AB7: =IF(T7="","",Y7-AA7) | AC7: =IF(T7="","",Y7+Z7)
A8: Nom4 | B8: Prénom4 | C8: 0000004 | E8: 75 | R8: =SUM(F8:Q8) -> 0 | S8: =IF(E8="","",E8-R8) -> 75 | W8: =IF(T8="","",T8-U8-V8) | X8: =IF(W8="","",IF(W8>S8,S8,W8)) | Y8: =IF(T8="","",ROUND(X8-(X8*33%),2)) | Z8: =IF(T8="","",X8-Y8) | AA8: =IF(T8="","",Y8*20%) | AB8: =IF(T8="","",Y8-AA8) | AC8: =IF(T8="","",Y8+Z8)
A9: Nom5 | B9: Prénom5 | C9: 0000005 | E9: 75 | R9: =SUM(F9:Q9) -> 0 | S9: =IF(E9="","",E9-R9) -> 75 | W9: =IF(T9="","",T9-U9-V9) | X9: =IF(W9="","",IF(W9>S9,S9,W9)) | Y9: =IF(T9="","",ROUND(X9-(X9*33%),2)) | Z9: =IF(T9="","",X9-Y9) | AA9: =IF(T9="","",Y9*20%) | AB9: =IF(T9="","",Y9-AA9) | AC9: =IF(T9="","",Y9+Z9)
A10: Nom6 | B10: Prénom6 | C10: 0000006 | E10: 75 | R10: =SUM(F10:Q10) -> 0 | S10: =IF(E10="","",E10-R10) -> 75 | W10: =IF(T10="","",T10-U10-V10) | X10: =IF(W10="","",IF(W10>S10,S10,W10)) | Y10: =IF(T10="","",ROUND(X10-(X10*33%),2)) | Z10: =IF(T10="","",X10-Y10) | AA10: =IF(T10="","",Y10*20%) | AB10: =IF(T10="","",Y10-AA10) | AC10: =IF(T10="","",Y10+Z10)
A11: Nom7 | B11: Prénom7 | C11: 0000007 | E11: 75 | G11: 50 | R11: =SUM(F11:Q11) -> 50 | S11: =IF(E11="","",E11-R11) -> 25 | T11: 50 | U11: 10 | V11: 10 | W11: =IF(T11="","",T11-U11-V11) -> 30 | X11: =IF(W11="","",IF(W11>S11,S11,W11)) -> 25 | Y11: =IF(T11="","",ROUND(X11-(X11*33%),2)) -> 16.75 | Z11: =IF(T11="","",X11-Y11) -> 8.25 | AA11: =IF(T11="","",Y11*20%) -> 3.35 | AB11: =IF(T11="","",Y11-AA11) -> 13.4 | AC11: =IF(T11="","",Y11+Z11) -> 25
A12: Nom8 | B12: Prénom8 | C12: 0000008 | E12: 75 | R12: =SUM(F12:Q12) -> 0 | S12: =IF(E12="","",E12-R12) -> 75 | W12: =IF(T12="","",T12-U12-V12) | X12: =IF(W12="","",IF(W12>S12,S12,W12)) | Y12: =IF(T12="","",ROUND(X12-(X12*33%),2)) | Z12: =IF(T12="","",X12-Y12) | AA12: =IF(T12="","",Y12*20%) | AB12: =IF(T12="","",Y12-AA12) | AC12: =IF(T12="","",Y12+Z12)
A13: Nom9 | B13: Prénom9 | C13: 0000009 | E13: 75 | R13: =SUM(F13:Q13) -> 0 | S13: =IF(E13="","",E13-R13) -> 75 | W13: =IF(T13="","",T13-U13-V13) | X13: =IF(W13="","",IF(W13>S13,S13,W13)) | Y13: =IF(T13="","",ROUND(X13-(X13*33%),2)) | Z13: =IF(T13="","",X13-Y13) | AA13: =IF(T13="","",Y13*20%) | AB13: =IF(T13="","",Y13-AA13) | AC13: =IF(T13="","",Y13+Z13)
A14: Nom10 | B14: Prénom10 | C14: 0000010 | E14: 75 | R14: =SUM(F14:Q14) -> 0 | S14: =IF(E14="","",E14-R14) -> 75 | W14: =IF(T14="","",T14-U14-V14) | X14: =IF(W14="","",IF(W14>S14,S14,W14)) | Y14: =IF(T14="","",ROUND(X14-(X14*33%),2)) | Z14: =IF(T14="","",X14-Y14) | AA14: =IF(T14="","",Y14*20%) | AB14: =IF(T14="","",Y14-AA14) | AC14: =IF(T14="","",Y14+Z14)
A15: Nom11 | B15: Prénom11 | C15: 0000011 | E15: 75 | R15: =SUM(F15:Q15) -> 0 | S15: =IF(E15="","",E15-R15) -> 75 | W15: =IF(T15="","",T15-U15-V15) | X15: =IF(W15="","",IF(W15>S15,S15,W15)) | Y15: =IF(T15="","",ROUND(X15-(X15*33%),2)) | Z15: =IF(T15="","",X15-Y15) | AA15: =IF(T15="","",Y15*20%) | AB15: =IF(T15="","",Y15-AA15) | AC15: =IF(T15="","",Y15+Z15)
A16: Nom12 | B16: Prénom12 | C16: 0000012 | E16: 75 | R16: =SUM(F16:Q16) -> 0 | S16: =IF(E16="","",E16-R16) -> 75 | W16: =IF(T16="","",T16-U16-V16) | X16: =IF(W16="","",IF(W16>S16,S16,W16)) | Y16: =IF(T16="","",ROUND(X16-(X16*33%),2)) | Z16: =IF(T16="","",X16-Y16) | AA16: =IF(T16="","",Y16*20%) | AB16: =IF(T16="","",Y16-AA16) | AC16: =IF(T16="","",Y16+Z16)
A17: Nom13 | B17: Prénom13 | C17: 0000013 | E17: 75 | R17: =SUM(F17:Q17) -> 0 | S17: =IF(E17="","",E17-R17) -> 75 | W17: =IF(T17="","",T17-U17-V17) | X17: =IF(W17="","",IF(W17>S17,S17,W17)) | Y17: =IF(T17="","",ROUND(X17-(X17*33%),2)) | Z17: =IF(T17="","",X17-Y17) | AA17: =IF(T17="","",Y17*20%) | AB17: =IF(T17="","",Y17-AA17) | AC17: =IF(T17="","",Y17+Z17)
A18: Nom14 | B18: Prénom14 | C18: 0000014 | E18: 75 | R18: =SUM(F18:Q18) -> 0 | S18: =IF(E18="","",E18-R18) -> 75 | W18: =IF(T18="","",T18-U18-V18) | X18: =IF(W18="","",IF(W18>S18,S18,W18)) | Y18: =IF(T18="","",ROUND(X18-(X18*33%),2)) | Z18: =IF(T18="","",X18-Y18) | AA18: =IF(T18="","",Y18*20%) | AB18: =IF(T18="","",Y18-AA18) | AC18: =IF(T18="","",Y18+Z18)
A19: Nom15 | B19: Prénom15 | C19: 0000015 | E19: 75 | R19: =SUM(F19:Q19) -> 0 | S19: =IF(E19="","",E19-R19) -> 75 | W19: =IF(T19="","",T19-U19-V19) | X19: =IF(W19="","",IF(W19>S19,S19,W19)) | Y19: =IF(T19="","",ROUND(X19-(X19*33%),2)) | Z19: =IF(T19="","",X19-Y19) | AA19: =IF(T19="","",Y19*20%) | AB19: =IF(T19="","",Y19-AA19) | AC19: =IF(T19="","",Y19+Z19)
A20: Nom16 | B20: Prénom16 | C20: 0000016 | E20: 75 | R20: =SUM(F20:Q20) -> 0 | S20: =IF(E20="","",E20-R20) -> 75 | W20: =IF(T20="","",T20-U20-V20) | X20: =IF(W20="","",IF(W20>S20,S20,W20)) | Y20: =IF(T20="","",ROUND(X20-(X20*33%),2)) | Z20: =IF(T20="","",X20-Y20) | AA20: =IF(T20="","",Y20*20%) | AB20: =IF(T20="","",Y20-AA20) | AC20: =IF(T20="","",Y20+Z20)
A21: Nom17 | B21: Prénom17 | C21: 0000017 | E21: 75 | R21: =SUM(F21:Q21) -> 0 | S21: =IF(E21="","",E21-R21) -> 75 | W21: =IF(T21="","",T21-U21-V21) | X21: =IF(W21="","",IF(W21>S21,S21,W21)) | Y21: =IF(T21="","",ROUND(X21-(X21*33%),2)) | Z21: =IF(T21="","",X21-Y21) | AA21: =IF(T21="","",Y21*20%) | AB21: =IF(T21="","",Y21-AA21) | AC21: =IF(T21="","",Y21+Z21)
A22: Nom18 | B22: Prénom18 | C22: 0000018 | E22: 75 | R22: =SUM(F22:Q22) -> 0 | S22: =IF(E22="","",E22-R22) -> 75 | W22: =IF(T22="","",T22-U22-V22) | X22: =IF(W22="","",IF(W22>S22,S22,W22)) | Y22: =IF(T22="","",ROUND(X22-(X22*33%),2)) | Z22: =IF(T22="","",X22-Y22) | AA22: =IF(T22="","",Y22*20%) | AB22: =IF(T22="","",Y22-AA22) | AC22: =IF(T22="","",Y22+Z22)
A23: Nom19 | B23: Prénom19 | C23: 0000019 | E23: 75 | R23: =SUM(F23:Q23) -> 0 | S23: =IF(E23="","",E23-R23) -> 75 | W23: =IF(T23="","",T23-U23-V23) | X23: =IF(W23="","",IF(W23>S23,S23,W23)) | Y23: =IF(T23="","",ROUND(X23-(X23*33%),2)) | Z23: =IF(T23="","",X23-Y23) | AA23: =IF(T23="","",Y23*20%) | AB23: =IF(T23="","",Y23-AA23) | AC23: =IF(T23="","",Y23+Z23)
... A34: Nom30 | B34: Prénom30 | C34: 0000030 | E34: 75 | R34: =SUM(F34:Q34) -> 0 | S34: =IF(E34="","",E34-R34) -> 75 | W34: =IF(T34="","",T34-U34-V34) | X34: =IF(W34="","",IF(W34>S34,S34,W34)) | Y34: =IF(T34="","",ROUND(X34-(X34*33%),2)) | Z34: =IF(T34="","",X34-Y34) | AA34: =IF(T34="","",Y34*20%) | AB34: =IF(T34="","",Y34-AA34) | AC34: =IF(T34="","",Y34+Z34)

Sheet Sub3
A1: ANNEE 2021 SEMELLES | C1: =RIGHT(CELL("nomfichier",A1),LEN(CELL("nomfichier",A1))-FIND("]",CELL("nomfichier",A1))) -> Sub3 | T1: Mot de passe : 18111958
F3: =SUM(F5:F34) -> 0 | G3: =SUM(G5:G34) -> 0 | H3: =SUM(H5:H34) -> 0 | I3: =SUM(I5:I34) -> 0 | J3: =SUM(J5:J34) -> 50 | K3: =SUM(K5:K34) -> 0 | L3: =SUM(L5:L34) -> 0 | M3: =SUM(M5:M34) -> 0 | ... R3: =SUM(R5:R34) -> 50 | T3: Calcul
A4: Nom | B4: Prénom | C4: Matricule | D4: Conjoint / enfant | E4: Somme Max Allouée | F4: Janvier 2021 | G4: Fevrier 2021 | H4: Mars 2021 | I4: Avril 2021 | J4: Mai 2021 | K4: Juin 2021 | L4: Juillet 2021 | M4: Août 2021 | N4: 44440 | O4: 44470 | P4: 44501 | Q4: 44531 | R4: CUMUL | S4: Reste à donner | T4: Facture | U4: S.S | V4: Mut. | W4: Reste à Charge | X4: ce qui peut être remboursé | Y4: ce qui doit être donné | Z4: Cotisation 1 | AA4: Cotisation 2 | AB4: Reste à charge | AC4: Ce qui va être facturé
A5: Nom1 | B5: Prénom1 | C5: 0000001 | E5: 56 | R5: =SUM(F5:Q5) -> 0 | S5: =IF(R5>E5,0,E5-SUM(F5:Q5)) -> 56 | W5: =IF(T5="","",T5-U5-V5) | X5: =IF(W5="","",IF(W5>S5,S5,W5)) | Y5: =IF(T5="","",ROUND(X5-(X5*33%),2)) | Z5: =IF(T5="","",X5-Y5) | AA5: =IF(T5="","",Y5*20%) | AB5: =IF(T5="","",Y5-AA5) | AC5: =IF(T5="","",Y5+Z5)
A6: Nom2 | B6: Prénom2 | C6: 0000002 | E6: 56 | R6: =SUM(F6:Q6) -> 0 | S6: =IF(R6>E6,0,E6-SUM(F6:Q6)) -> 56 | W6: =IF(T6="","",T6-U6-V6) | X6: =IF(W6="","",IF(W6>S6,S6,W6)) | Y6: =IF(T6="","",ROUND(X6-(X6*33%),2)) | Z6: =IF(T6="","",X6-Y6) | AA6: =IF(T6="","",Y6*20%) | AB6: =IF(T6="","",Y6-AA6) | AC6: =IF(T6="","",Y6+Z6)
A7: Nom3 | B7: Prénom3 | C7: 0000003 | E7: 56 | R7: =SUM(F7:Q7) -> 0 | S7: =IF(R7>E7,0,E7-SUM(F7:Q7)) -> 56 | W7: =IF(T7="","",T7-U7-V7) | X7: =IF(W7="","",IF(W7>S7,S7,W7)) | Y7: =IF(T7="","",ROUND(X7-(X7*33%),2)) | Z7: =IF(T7="","",X7-Y7) | AA7: =IF(T7="","",Y7*20%) | AB7: =IF(T7="","",Y7-AA7) | AC7: =IF(T7="","",Y7+Z7)
A8: Nom4 | B8: Prénom4 | C8: 0000004 | E8: 56 | R8: =SUM(F8:Q8) -> 0 | S8: =IF(R8>E8,0,E8-SUM(F8:Q8)) -> 56 | W8: =IF(T8="","",T8-U8-V8) | X8: =IF(W8="","",IF(W8>S8,S8,W8)) | Y8: =IF(T8="","",ROUND(X8-(X8*33%),2)) | Z8: =IF(T8="","",X8-Y8) | AA8: =IF(T8="","",Y8*20%) | AB8: =IF(T8="","",Y8-AA8) | AC8: =IF(T8="","",Y8+Z8)
A9: Nom5 | B9: Prénom5 | C9: 0000005 | E9: 56 | R9: =SUM(F9:Q9) -> 0 | S9: =IF(R9>E9,0,E9-SUM(F9:Q9)) -> 56 | W9: =IF(T9="","",T9-U9-V9) | X9: =IF(W9="","",IF(W9>S9,S9,W9)) | Y9: =IF(T9="","",ROUND(X9-(X9*33%),2)) | Z9: =IF(T9="","",X9-Y9) | AA9: =IF(T9="","",Y9*20%) | AB9: =IF(T9="","",Y9-AA9) | AC9: =IF(T9="","",Y9+Z9)
A10: Nom6 | B10: Prénom6 | C10: 0000006 | E10: 56 | R10: =SUM(F10:Q10) -> 0 | S10: =IF(R10>E10,0,E10-SUM(F10:Q10)) -> 56 | W10: =IF(T10="","",T10-U10-V10) | X10: =IF(W10="","",IF(W10>S10,S10,W10)) | Y10: =IF(T10="","",ROUND(X10-(X10*33%),2)) | Z10: =IF(T10="","",X10-Y10) | AA10: =IF(T10="","",Y10*20%) | AB10: =IF(T10="","",Y10-AA10) | AC10: =IF(T10="","",Y10+Z10)
A11: Nom7 | B11: Prénom7 | C11: 0000007 | E11: 56 | R11: =SUM(F11:Q11) -> 0 | S11: =IF(R11>E11,0,E11-SUM(F11:Q11)) -> 56 | W11: =IF(T11="","",T11-U11-V11) | X11: =IF(W11="","",IF(W11>S11,S11,W11)) | Y11: =IF(T11="","",ROUND(X11-(X11*33%),2)) | Z11: =IF(T11="","",X11-Y11) | AA11: =IF(T11="","",Y11*20%) | AB11: =IF(T11="","",Y11-AA11) | AC11: =IF(T11="","",Y11+Z11)
A12: Nom8 | B12: Prénom8 | C12: 0000008 | E12: 56 | J12: 50 | R12: =SUM(F12:Q12) -> 50 | S12: =IF(R12>E12,0,E12-SUM(F12:Q12)) -> 6 | T12: 50 | U12: 10 | V12: 5 | W12: =IF(T12="","",T12-U12-V12) -> 35 | X12: =IF(W12="","",IF(W12>S12,S12,W12)) -> 6 | Y12: =IF(T12="","",ROUND(X12-(X12*33%),2)) -> 4.02 | Z12: =IF(T12="","",X12-Y12) -> 1.98 | AA12: =IF(T12="","",Y12*20%) -> 0.804 | AB12: =IF(T12="","",Y12-AA12) -> 3.216 | AC12: =IF(T12="","",Y12+Z12) -> 6
A13: Nom9 | B13: Prénom9 | C13: 0000009 | E13: 56 | R13: =SUM(F13:Q13) -> 0 | S13: =IF(R13>E13,0,E13-SUM(F13:Q13)) -> 56 | W13: =IF(T13="","",T13-U13-V13) | X13: =IF(W13="","",IF(W13>S13,S13,W13)) | Y13: =IF(T13="","",ROUND(X13-(X13*33%),2)) | Z13: =IF(T13="","",X13-Y13) | AA13: =IF(T13="","",Y13*20%) | AB13: =IF(T13="","",Y13-AA13) | AC13: =IF(T13="","",Y13+Z13)
A14: Nom10 | B14: Prénom10 | C14: 0000010 | E14: 56 | R14: =SUM(F14:Q14) -> 0 | S14: =IF(R14>E14,0,E14-SUM(F14:Q14)) -> 56 | W14: =IF(T14="","",T14-U14-V14) | X14: =IF(W14="","",IF(W14>S14,S14,W14)) | Y14: =IF(T14="","",ROUND(X14-(X14*33%),2)) | Z14: =IF(T14="","",X14-Y14) | AA14: =IF(T14="","",Y14*20%) | AB14: =IF(T14="","",Y14-AA14) | AC14: =IF(T14="","",Y14+Z14)
A15: Nom11 | B15: Prénom11 | C15: 0000011 | E15: 56 | R15: =SUM(F15:Q15) -> 0 | S15: =IF(R15>E15,0,E15-SUM(F15:Q15)) -> 56 | W15: =IF(T15="","",T15-U15-V15) | X15: =IF(W15="","",IF(W15>S15,S15,W15)) | Y15: =IF(T15="","",ROUND(X15-(X15*33%),2)) | Z15: =IF(T15="","",X15-Y15) | AA15: =IF(T15="","",Y15*20%) | AB15: =IF(T15="","",Y15-AA15) | AC15: =IF(T15="","",Y15+Z15)
A16: Nom12 | B16: Prénom12 | C16: 0000012 | E16: 56 | R16: =SUM(F16:Q16) -> 0 | S16: =IF(R16>E16,0,E16-SUM(F16:Q16)) -> 56 | W16: =IF(T16="","",T16-U16-V16) | X16: =IF(W16="","",IF(W16>S16,S16,W16)) | Y16: =IF(T16="","",ROUND(X16-(X16*33%),2)) | Z16: =IF(T16="","",X16-Y16) | AA16: =IF(T16="","",Y16*20%) | AB16: =IF(T16="","",Y16-AA16) | AC16: =IF(T16="","",Y16+Z16)
A17: Nom13 | B17: Prénom13 | C17: 0000013 | E17: 56 | R17: =SUM(F17:Q17) -> 0 | S17: =IF(R17>E17,0,E17-SUM(F17:Q17)) -> 56 | W17: =IF(T17="","",T17-U17-V17) | X17: =IF(W17="","",IF(W17>S17,S17,W17)) | Y17: =IF(T17="","",ROUND(X17-(X17*33%),2)) | Z17: =IF(T17="","",X17-Y17) | AA17: =IF(T17="","",Y17*20%) | AB17: =IF(T17="","",Y17-AA17) | AC17: =IF(T17="","",Y17+Z17)
A18: Nom14 | B18: Prénom14 | C18: 0000014 | E18: 56 | R18: =SUM(F18:Q18) -> 0 | S18: =IF(R18>E18,0,E18-SUM(F18:Q18)) -> 56 | W18: =IF(T18="","",T18-U18-V18) | X18: =IF(W18="","",IF(W18>S18,S18,W18)) | Y18: =IF(T18="","",ROUND(X18-(X18*33%),2)) | Z18: =IF(T18="","",X18-Y18) | AA18: =IF(T18="","",Y18*20%) | AB18: =IF(T18="","",Y18-AA18) | AC18: =IF(T18="","",Y18+Z18)
A19: Nom15 | B19: Prénom15 | C19: 0000015 | E19: 56 | R19: =SUM(F19:Q19) -> 0 | S19: =IF(R19>E19,0,E19-SUM(F19:Q19)) -> 56 | W19: =IF(T19="","",T19-U19-V19) | X19: =IF(W19="","",IF(W19>S19,S19,W19)) | Y19: =IF(T19="","",ROUND(X19-(X19*33%),2)) | Z19: =IF(T19="","",X19-Y19) | AA19: =IF(T19="","",Y19*20%) | AB19: =IF(T19="","",Y19-AA19) | AC19: =IF(T19="","",Y19+Z19)
A20: Nom16 | B20: Prénom16 | C20: 0000016 | E20: 56 | R20: =SUM(F20:Q20) -> 0 | S20: =IF(R20>E20,0,E20-SUM(F20:Q20)) -> 56 | W20: =IF(T20="","",T20-U20-V20) | X20: =IF(W20="","",IF(W20>S20,S20,W20)) | Y20: =IF(T20="","",ROUND(X20-(X20*33%),2)) | Z20: =IF(T20="","",X20-Y20) | AA20: =IF(T20="","",Y20*20%) | AB20: =IF(T20="","",Y20-AA20) | AC20: =IF(T20="","",Y20+Z20)
A21: Nom17 | B21: Prénom17 | C21: 0000017 | E21: 56 | R21: =SUM(F21:Q21) -> 0 | S21: =IF(R21>E21,0,E21-SUM(F21:Q21)) -> 56 | W21: =IF(T21="","",T21-U21-V21) | X21: =IF(W21="","",IF(W21>S21,S21,W21)) | Y21: =IF(T21="","",ROUND(X21-(X21*33%),2)) | Z21: =IF(T21="","",X21-Y21) | AA21: =IF(T21="","",Y21*20%) | AB21: =IF(T21="","",Y21-AA21) | AC21: =IF(T21="","",Y21+Z21)
A22: Nom18 | B22: Prénom18 | C22: 0000018 | E22: 56 | R22: =SUM(F22:Q22) -> 0 | S22: =IF(R22>E22,0,E22-SUM(F22:Q22)) -> 56 | W22: =IF(T22="","",T22-U22-V22) | X22: =IF(W22="","",IF(W22>S22,S22,W22)) | Y22: =IF(T22="","",ROUND(X22-(X22*33%),2)) | Z22: =IF(T22="","",X22-Y22) | AA22: =IF(T22="","",Y22*20%) | AB22: =IF(T22="","",Y22-AA22) | AC22: =IF(T22="","",Y22+Z22)
A23: Nom19 | B23: Prénom19 | C23: 0000019 | E23: 56 | R23: =SUM(F23:Q23) -> 0 | S23: =IF(R23>E23,0,E23-SUM(F23:Q23)) -> 56 | W23: =IF(T23="","",T23-U23-V23) | X23: =IF(W23="","",IF(W23>S23,S23,W23)) | Y23: =IF(T23="","",ROUND(X23-(X23*33%),2)) | Z23: =IF(T23="","",X23-Y23) | AA23: =IF(T23="","",Y23*20%) | AB23: =IF(T23="","",Y23-AA23) | AC23: =IF(T23="","",Y23+Z23)
A24: Nom20 | B24: Prénom20 | C24: 0000020 | E24: 56 | R24: =SUM(F24:Q24) -> 0 | S24: =IF(R24>E24,0,E24-SUM(F24:Q24)) -> 56 | W24: =IF(T24="","",T24-U24-V24) | X24: =IF(W24="","",IF(W24>S24,S24,W24)) | Y24: =IF(T24="","",ROUND(X24-(X24*33%),2)) | Z24: =IF(T24="","",X24-Y24) | AA24: =IF(T24="","",Y24*20%) | AB24: =IF(T24="","",Y24-AA24) | AC24: =IF(T24="","",Y24+Z24)
... A34: Nom30 | B34: Prénom30 | C34: 0000030 | E34: 56 | R34: =SUM(F34:Q34) -> 0 | S34: =IF(R34>E34,0,E34-SUM(F34:Q34)) -> 56 | W34: =IF(T34="","",T34-U34-V34) | X34: =IF(W34="","",IF(W34>S34,S34,W34)) | Y34: =IF(T34="","",ROUND(X34-(X34*33%),2)) | Z34: =IF(T34="","",X34-Y34) | AA34: =IF(T34="","",Y34*20%) | AB34: =IF(T34="","",Y34-AA34) | AC34: =IF(T34="","",Y34+Z34)

Sheet Sub4
A1: ANNEE 2021 INDEMNITES KILOMETRIQUES | C1: =RIGHT(CELL("nomfichier",A1),LEN(CELL("nomfichier",A1))-FIND("]",CELL("nomfichier",A1))) -> Sub4 | S1: Mot de passe : 18111958 | W1: Calculette Kilométrique
W2: 150 | X2: 0.12 | Y2: =W2*X2 -> 18
F3: =SUM(F5:F34) -> 0 | G3: =SUM(G5:G34) -> 100 | H3: =SUM(H5:H34) -> 0 | I3: =SUM(I5:I34) -> 0 | J3: =SUM(J5:J34) -> 120 | K3: =SUM(K5:K34) -> 0 | L3: =SUM(L5:L34) -> 0 | M3: =SUM(M5:M34) -> 0 | ... R3: =SUM(R5:R34) -> 370 | U3: Calcul
A4: Nom | B4: Prénom | C4: Matricule | D4: Conjoint / enfant | E4: Somme Max Allouée | F4: Janvier 2021 | G4: Fevrier 2021 | H4: Mars 2021 | I4: Avril 2021 | J4: Mai 2021 | K4: Juin 2021 | L4: Juillet 2021 | M4: Août 2021 | N4: 44440 | O4: 44470 | P4: 44501 | Q4: 44531 | R4: CUMUL | S4: Reste à donner | T4: Kms parcourus | U4: A Régler | V4: ce qui peut être remboursé | W4: ce qui doit être donné | X4: Cotisation 1 | Y4: Cotisation 2 | Z4: Reste à charge | AA4: Ce qui va être facturé
A5: Nom1 | B5: Prénom1 | C5: 0000001 | E5: 150 | N5: 150 | R5: =SUM(F5:Q5) -> 150 | S5: =IF(E5="","",E5-R5) -> 0 | T5: 200 | U5: =IF(T5="","",T5*$X$2) -> 24 | V5: =IF(U5="","",IF(U5>S5,S5,U5)) -> 0 | W5: =IF(R5=0,"",ROUND(V5-(V5*33%),2)) -> 0 | X5: =IF(R5=0,"",V5-W5) -> 0 | Y5: =IF(R5=0,"",W5*20%) -> 0 | Z5: =IF(R5=0,"",W5-Y5) -> 0 | AA5: =IF(R5=0,"",W5+X5) -> 0
A6: Nom2 | B6: Prénom2 | C6: 0000002 | E6: 150 | G6: 100 | R6: =SUM(F6:Q6) -> 100 | S6: =IF(E6="","",E6-R6) -> 50 | T6: 150 | U6: =IF(T6="","",T6*$X$2) -> 18 | V6: =IF(U6="","",IF(U6>S6,S6,U6)) -> 18 | W6: =IF(R6=0,"",ROUND(V6-(V6*33%),2)) -> 12.06 | X6: =IF(R6=0,"",V6-W6) -> 5.94 | Y6: =IF(R6=0,"",W6*20%) -> 2.412 | Z6: =IF(R6=0,"",W6-Y6) -> 9.648 | AA6: =IF(R6=0,"",W6+X6) -> 18
A7: Nom3 | B7: Prénom3 | C7: 0000003 | E7: 150 | R7: =SUM(F7:Q7) -> 0 | S7: =IF(E7="","",E7-R7) -> 150 | U7: =IF(T7="","",T7*$X$2) | V7: =IF(U7="","",IF(U7>S7,S7,U7)) | W7: =IF(R7=0,"",ROUND(V7-(V7*33%),2)) | X7: =IF(R7=0,"",V7-W7) | Y7: =IF(R7=0,"",W7*20%) | Z7: =IF(R7=0,"",W7-Y7) | AA7: =IF(R7=0,"",W7+X7)
A8: Nom4 | B8: Prénom4 | C8: 0000004 | E8: 150 | R8: =SUM(F8:Q8) -> 0 | S8: =IF(E8="","",E8-R8) -> 150 | U8: =IF(T8="","",T8*$X$2) | V8: =IF(U8="","",IF(U8>S8,S8,U8)) | W8: =IF(R8=0,"",ROUND(V8-(V8*33%),2)) | X8: =IF(R8=0,"",V8-W8) | Y8: =IF(R8=0,"",W8*20%) | Z8: =IF(R8=0,"",W8-Y8) | AA8: =IF(R8=0,"",W8+X8)
A9: Nom5 | B9: Prénom5 | C9: 0000005 | E9: 150 | R9: =SUM(F9:Q9) -> 0 | S9: =IF(E9="","",E9-R9) -> 150 | U9: =IF(T9="","",T9*$X$2) | V9: =IF(U9="","",IF(U9>S9,S9,U9)) | W9: =IF(R9=0,"",ROUND(V9-(V9*33%),2)) | X9: =IF(R9=0,"",V9-W9) | Y9: =IF(R9=0,"",W9*20%) | Z9: =IF(R9=0,"",W9-Y9) | AA9: =IF(R9=0,"",W9+X9)
A10: Nom6 | B10: Prénom6 | C10: 0000006 | E10: 150 | R10: =SUM(F10:Q10) -> 0 | S10: =IF(E10="","",E10-R10) -> 150 | U10: =IF(T10="","",T10*$X$2) | V10: =IF(U10="","",IF(U10>S10,S10,U10)) | W10: =IF(R10=0,"",ROUND(V10-(V10*33%),2)) | X10: =IF(R10=0,"",V10-W10) | Y10: =IF(R10=0,"",W10*20%) | Z10: =IF(R10=0,"",W10-Y10) | AA10: =IF(R10=0,"",W10+X10)
A11: Nom7 | B11: Prénom7 | C11: 0000007 | E11: 150 | R11: =SUM(F11:Q11) -> 0 | S11: =IF(E11="","",E11-R11) -> 150 | U11: =IF(T11="","",T11*$X$2) | V11: =IF(U11="","",IF(U11>S11,S11,U11)) | W11: =IF(R11=0,"",ROUND(V11-(V11*33%),2)) | X11: =IF(R11=0,"",V11-W11) | Y11: =IF(R11=0,"",W11*20%) | Z11: =IF(R11=0,"",W11-Y11) | AA11: =IF(R11=0,"",W11+X11)
A12: Nom8 | B12: Prénom8 | C12: 0000008 | E12: 150 | R12: =SUM(F12:Q12) -> 0 | S12: =IF(E12="","",E12-R12) -> 150 | U12: =IF(T12="","",T12*$X$2) | V12: =IF(U12="","",IF(U12>S12,S12,U12)) | W12: =IF(R12=0,"",ROUND(V12-(V12*33%),2)) | X12: =IF(R12=0,"",V12-W12) | Y12: =IF(R12=0,"",W12*20%) | Z12: =IF(R12=0,"",W12-Y12) | AA12: =IF(R12=0,"",W12+X12)
A13: Nom9 | B13: Prénom9 | C13: 0000009 | E13: 150 | R13: =SUM(F13:Q13) -> 0 | S13: =IF(E13="","",E13-R13) -> 150 | U13: =IF(T13="","",T13*$X$2) | V13: =IF(U13="","",IF(U13>S13,S13,U13)) | W13: =IF(R13=0,"",ROUND(V13-(V13*33%),2)) | X13: =IF(R13=0,"",V13-W13) | Y13: =IF(R13=0,"",W13*20%) | Z13: =IF(R13=0,"",W13-Y13) | AA13: =IF(R13=0,"",W13+X13)
A14: Nom10 | B14: Prénom10 | C14: 0000010 | E14: 150 | R14: =SUM(F14:Q14) -> 0 | S14: =IF(E14="","",E14-R14) -> 150 | U14: =IF(T14="","",T14*$X$2) | V14: =IF(U14="","",IF(U14>S14,S14,U14)) | W14: =IF(R14=0,"",ROUND(V14-(V14*33%),2)) | X14: =IF(R14=0,"",V14-W14) | Y14: =IF(R14=0,"",W14*20%) | Z14: =IF(R14=0,"",W14-Y14) | AA14: =IF(R14=0,"",W14+X14)
A15: Nom11 | B15: Prénom11 | C15: 0000011 | E15: 150 | J15: 120 | R15: =SUM(F15:Q15) -> 120 | S15: =IF(E15="","",E15-R15) -> 30 | T15: 250 | U15: =IF(T15="","",T15*$X$2) -> 30 | V15: =IF(U15="","",IF(U15>S15,S15,U15)) -> 30 | W15: =IF(R15=0,"",ROUND(V15-(V15*33%),2)) -> 20.1 | X15: =IF(R15=0,"",V15-W15) -> 9.9 | Y15: =IF(R15=0,"",W15*20%) -> 4.02 | Z15: =IF(R15=0,"",W15-Y15) -> 16.08 | AA15: =IF(R15=0,"",W15+X15) -> 30
A16: Nom12 | B16: Prénom12 | C16: 0000012 | E16: 150 | R16: =SUM(F16:Q16) -> 0 | S16: =IF(E16="","",E16-R16) -> 150 | U16: =IF(T16="","",T16*$X$2) | V16: =IF(U16="","",IF(U16>S16,S16,U16)) | W16: =IF(R16=0,"",ROUND(V16-(V16*33%),2)) | X16: =IF(R16=0,"",V16-W16) | Y16: =IF(R16=0,"",W16*20%) | Z16: =IF(R16=0,"",W16-Y16) | AA16: =IF(R16=0,"",W16+X16)
A17: Nom13 | B17: Prénom13 | C17: 0000013 | E17: 150 | R17: =SUM(F17:Q17) -> 0 | S17: =IF(E17="","",E17-R17) -> 150 | U17: =IF(T17="","",T17*$X$2) | V17: =IF(U17="","",IF(U17>S17,S17,U17)) | W17: =IF(R17=0,"",ROUND(V17-(V17*33%),2)) | X17: =IF(R17=0,"",V17-W17) | Y17: =IF(R17=0,"",W17*20%) | Z17: =IF(R17=0,"",W17-Y17) | AA17: =IF(R17=0,"",W17+X17)
A18: Nom14 | B18: Prénom14 | C18: 0000014 | E18: 150 | R18: =SUM(F18:Q18) -> 0 | S18: =IF(E18="","",E18-R18) -> 150 | U18: =IF(T18="","",T18*$X$2) | V18: =IF(U18="","",IF(U18>S18,S18,U18)) | W18: =IF(R18=0,"",ROUND(V18-(V18*33%),2)) | X18: =IF(R18=0,"",V18-W18) | Y18: =IF(R18=0,"",W18*20%) | Z18: =IF(R18=0,"",W18-Y18) | AA18: =IF(R18=0,"",W18+X18)
A19: Nom15 | B19: Prénom15 | C19: 0000015 | E19: 150 | R19: =SUM(F19:Q19) -> 0 | S19: =IF(E19="","",E19-R19) -> 150 | U19: =IF(T19="","",T19*$X$2) | V19: =IF(U19="","",IF(U19>S19,S19,U19)) | W19: =IF(R19=0,"",ROUND(V19-(V19*33%),2)) | X19: =IF(R19=0,"",V19-W19) | Y19: =IF(R19=0,"",W19*20%) | Z19: =IF(R19=0,"",W19-Y19) | AA19: =IF(R19=0,"",W19+X19)
A20: Nom16 | B20: Prénom16 | C20: 0000016 | E20: 150 | R20: =SUM(F20:Q20) -> 0 | S20: =IF(E20="","",E20-R20) -> 150 | U20: =IF(T20="","",T20*$X$2) | V20: =IF(U20="","",IF(U20>S20,S20,U20)) | W20: =IF(R20=0,"",ROUND(V20-(V20*33%),2)) | X20: =IF(R20=0,"",V20-W20) | Y20: =IF(R20=0,"",W20*20%) | Z20: =IF(R20=0,"",W20-Y20) | AA20: =IF(R20=0,"",W20+X20)
A21: Nom17 | B21: Prénom17 | C21: 0000017 | E21: 150 | R21: =SUM(F21:Q21) -> 0 | S21: =IF(E21="","",E21-R21) -> 150 | U21: =IF(T21="","",T21*$X$2) | V21: =IF(U21="","",IF(U21>S21,S21,U21)) | W21: =IF(R21=0,"",ROUND(V21-(V21*33%),2)) | X21: =IF(R21=0,"",V21-W21) | Y21: =IF(R21=0,"",W21*20%) | Z21: =IF(R21=0,"",W21-Y21) | AA21: =IF(R21=0,"",W21+X21)
A22: Nom18 | B22: Prénom18 | C22: 0000018 | E22: 150 | R22: =SUM(F22:Q22) -> 0 | S22: =IF(E22="","",E22-R22) -> 150 | U22: =IF(T22="","",T22*$X$2) | V22: =IF(U22="","",IF(U22>S22,S22,U22)) | W22: =IF(R22=0,"",ROUND(V22-(V22*33%),2)) | X22: =IF(R22=0,"",V22-W22) | Y22: =IF(R22=0,"",W22*20%) | Z22: =IF(R22=0,"",W22-Y22) | AA22: =IF(R22=0,"",W22+X22)
A23: Nom19 | B23: Prénom19 | C23: 0000019 | E23: 150 | R23: =SUM(F23:Q23) -> 0 | S23: =IF(E23="","",E23-R23) -> 150 | U23: =IF(T23="","",T23*$X$2) | V23: =IF(U23="","",IF(U23>S23,S23,U23)) | W23: =IF(R23=0,"",ROUND(V23-(V23*33%),2)) | X23: =IF(R23=0,"",V23-W23) | Y23: =IF(R23=0,"",W23*20%) | Z23: =IF(R23=0,"",W23-Y23) | AA23: =IF(R23=0,"",W23+X23)
A24: Nom20 | B24: Prénom20 | C24: 0000020 | E24: 150 | R24: =SUM(F24:Q24) -> 0 | S24: =IF(E24="","",E24-R24) -> 150 | U24: =IF(T24="","",T24*$X$2) | V24: =IF(U24="","",IF(U24>S24,S24,U24)) | W24: =IF(R24=0,"",ROUND(V24-(V24*33%),2)) | X24: =IF(R24=0,"",V24-W24) | Y24: =IF(R24=0,"",W24*20%) | Z24: =IF(R24=0,"",W24-Y24) | AA24: =IF(R24=0,"",W24+X24)
A25: Nom21 | B25: Prénom21 | C25: 0000021 | E25: 150 | R25: =SUM(F25:Q25) -> 0 | S25: =IF(E25="","",E25-R25) -> 150 | U25: =IF(T25="","",T25*$X$2) | V25: =IF(U25="","",IF(U25>S25,S25,U25)) | W25: =IF(R25=0,"",ROUND(V25-(V25*33%),2)) | X25: =IF(R25=0,"",V25-W25) | Y25: =IF(R25=0,"",W25*20%) | Z25: =IF(R25=0,"",W25-Y25) | AA25: =IF(R25=0,"",W25+X25)
A26: Nom22 | B26: Prénom22 | C26: 0000022 | E26: 150 | R26: =SUM(F26:Q26) -> 0 | S26: =IF(E26="","",E26-R26) -> 150 | U26: =IF(T26="","",T26*$X$2) | V26: =IF(U26="","",IF(U26>S26,S26,U26)) | W26: =IF(R26=0,"",ROUND(V26-(V26*33%),2)) | X26: =IF(R26=0,"",V26-W26) | Y26: =IF(R26=0,"",W26*20%) | Z26: =IF(R26=0,"",W26-Y26) | AA26: =IF(R26=0,"",W26+X26)
A27: Nom23 | B27: Prénom23 | C27: 0000023 | E27: 150 | R27: =SUM(F27:Q27) -> 0 | S27: =IF(E27="","",E27-R27) -> 150 | U27: =IF(T27="","",T27*$X$2) | V27: =IF(U27="","",IF(U27>S27,S27,U27)) | W27: =IF(R27=0,"",ROUND(V27-(V27*33%),2)) | X27: =IF(R27=0,"",V27-W27) | Y27: =IF(R27=0,"",W27*20%) | Z27: =IF(R27=0,"",W27-Y27) | AA27: =IF(R27=0,"",W27+X27)
... A34: Nom30 | B34: Prénom30 | C34: 0000030 | E34: 150 | R34: =SUM(F34:Q34) -> 0 | S34: =IF(E34="","",E34-R34) -> 150 | U34: =IF(T34="","",T34*$X$2) | V34: =IF(U34="","",IF(U34>S34,S34,U34)) | W34: =IF(R34=0,"",ROUND(V34-(V34*33%),2)) | X34: =IF(R34=0,"",V34-W34) | Y34: =IF(R34=0,"",W34*20%) | Z34: =IF(R34=0,"",W34-Y34) | AA34: =IF(R34=0,"",W34+X34)

Sheet Sub5
A1: ANNEE 2021 IMPLANT DENTAIRE | C1: =RIGHT(CELL("nomfichier",A1),LEN(CELL("nomfichier",A1))-FIND("]",CELL("nomfichier",A1))) -> Sub5 | S1: Mot de passe : 18111958
F3: =SUM(F5:F34) -> 0 | G3: =SUM(G5:G34) -> 0 | H3: =SUM(H5:H34) -> 100 | I3: =SUM(I5:I34) -> 0 | J3: =SUM(J5:J34) -> 0 | K3: =SUM(K5:K34) -> 0 | L3: =SUM(L5:L34) -> 0 | M3: =SUM(M5:M34) -> 0 | ... R3: =SUM(R5:R34) -> 100 | T3: Calcul
A4: Nom | B4: Prénom | C4: Matricule | D4: Conjoint / enfant | E4: Somme Max Allouée | F4: Janvier 2021 | G4: Fevrier 2021 | H4: Mars 2021 | I4: Avril 2021 | J4: Mai 2021 | K4: Juin 2021 | L4: Juillet 2021 | M4: Août 2021 | N4: 44440 | O4: 44470 | P4: 44501 | Q4: 44531 | R4: CUMUL | S4: Reste à donner | T4: Facture | U4: S.S | V4: Mut. | W4: Reste à Charge | X4: ce qui peut être remboursé | Y4: ce qui doit être donné | Z4: Cotisation 1 | AA4: Cotisation 2 | AB4: Reste à charge | AC4: Ce qui va être facturé
A5: Nom1 | B5: Prénom1 | C5: 0000001 | E5: 190 | R5: =SUM(F5:Q5) -> 0 | S5: =IF(R5>E5,0,E5-SUM(F5:Q5)) -> 190 | W5: =IF(T5="","",T5-U5-V5) | X5: =IF(W5="","",IF(W5>S5,S5,W5)) | Y5: =IF(T5="","",ROUND(X5-(X5*33%),2)) | Z5: =IF(T5="","",X5-Y5) | AA5: =IF(T5="","",Y5*20%) | AB5: =IF(T5="","",Y5-AA5) | AC5: =IF(T5="","",Y5+Z5)
A6: Nom2 | B6: Prénom2 | C6: 0000002 | E6: 190 | R6: =SUM(F6:Q6) -> 0 | S6: =IF(R6>E6,0,E6-SUM(F6:Q6)) -> 190 | W6: =IF(T6="","",T6-U6-V6) | X6: =IF(W6="","",IF(W6>S6,S6,W6)) | Y6: =IF(T6="","",ROUND(X6-(X6*33%),2)) | Z6: =IF(T6="","",X6-Y6) | AA6: =IF(T6="","",Y6*20%) | AB6: =IF(T6="","",Y6-AA6) | AC6: =IF(T6="","",Y6+Z6)
A7: Nom3 | B7: Prénom3 | C7: 0000003 | E7: 190 | R7: =SUM(F7:Q7) -> 0 | S7: =IF(R7>E7,0,E7-SUM(F7:Q7)) -> 190 | W7: =IF(T7="","",T7-U7-V7) | X7: =IF(W7="","",IF(W7>S7,S7,W7)) | Y7: =IF(T7="","",ROUND(X7-(X7*33%),2)) | Z7: =IF(T7="","",X7-Y7) | AA7: =IF(T7="","",Y7*20%) | AB7: =IF(T7="","",Y7-AA7) | AC7: =IF(T7="","",Y7+Z7)
A8: Nom4 | B8: Prénom4 | C8: 0000004 | E8: 190 | R8: =SUM(F8:Q8) -> 0 | S8: =IF(R8>E8,0,E8-SUM(F8:Q8)) -> 190 | W8: =IF(T8="","",T8-U8-V8) | X8: =IF(W8="","",IF(W8>S8,S8,W8)) | Y8: =IF(T8="","",ROUND(X8-(X8*33%),2)) | Z8: =IF(T8="","",X8-Y8) | AA8: =IF(T8="","",Y8*20%) | AB8: =IF(T8="","",Y8-AA8) | AC8: =IF(T8="","",Y8+Z8)
A9: Nom5 | B9: Prénom5 | C9: 0000005 | E9: 190 | R9: =SUM(F9:Q9) -> 0 | S9: =IF(R9>E9,0,E9-SUM(F9:Q9)) -> 190 | W9: =IF(T9="","",T9-U9-V9) | X9: =IF(W9="","",IF(W9>S9,S9,W9)) | Y9: =IF(T9="","",ROUND(X9-(X9*33%),2)) | Z9: =IF(T9="","",X9-Y9) | AA9: =IF(T9="","",Y9*20%) | AB9: =IF(T9="","",Y9-AA9) | AC9: =IF(T9="","",Y9+Z9)
A10: Nom6 | B10: Prénom6 | C10: 0000006 | E10: 190 | R10: =SUM(F10:Q10) -> 0 | S10: =IF(R10>E10,0,E10-SUM(F10:Q10)) -> 190 | W10: =IF(T10="","",T10-U10-V10) | X10: =IF(W10="","",IF(W10>S10,S10,W10)) | Y10: =IF(T10="","",ROUND(X10-(X10*33%),2)) | Z10: =IF(T10="","",X10-Y10) | AA10: =IF(T10="","",Y10*20%) | AB10: =IF(T10="","",Y10-AA10) | AC10: =IF(T10="","",Y10+Z10)
A11: Nom7 | B11: Prénom7 | C11: 0000007 | E11: 190 | R11: =SUM(F11:Q11) -> 0 | S11: =IF(R11>E11,0,E11-SUM(F11:Q11)) -> 190 | W11: =IF(T11="","",T11-U11-V11) | X11: =IF(W11="","",IF(W11>S11,S11,W11)) | Y11: =IF(T11="","",ROUND(X11-(X11*33%),2)) | Z11: =IF(T11="","",X11-Y11) | AA11: =IF(T11="","",Y11*20%) | AB11: =IF(T11="","",Y11-AA11) | AC11: =IF(T11="","",Y11+Z11)
A12: Nom8 | B12: Prénom8 | C12: 0000008 | E12: 190 | R12: =SUM(F12:Q12) -> 0 | S12: =IF(R12>E12,0,E12-SUM(F12:Q12)) -> 190 | W12: =IF(T12="","",T12-U12-V12) | X12: =IF(W12="","",IF(W12>S12,S12,W12)) | Y12: =IF(T12="","",ROUND(X12-(X12*33%),2)) | Z12: =IF(T12="","",X12-Y12) | AA12: =IF(T12="","",Y12*20%) | AB12: =IF(T12="","",Y12-AA12) | AC12: =IF(T12="","",Y12+Z12)
A13: Nom9 | B13: Prénom9 | C13: 0000009 | E13: 190 | R13: =SUM(F13:Q13) -> 0 | S13: =IF(R13>E13,0,E13-SUM(F13:Q13)) -> 190 | W13: =IF(T13="","",T13-U13-V13) | X13: =IF(W13="","",IF(W13>S13,S13,W13)) | Y13: =IF(T13="","",ROUND(X13-(X13*33%),2)) | Z13: =IF(T13="","",X13-Y13) | AA13: =IF(T13="","",Y13*20%) | AB13: =IF(T13="","",Y13-AA13) | AC13: =IF(T13="","",Y13+Z13)
A14: Nom10 | B14: Prénom10 | C14: 0000010 | E14: 190 | R14: =SUM(F14:Q14) -> 0 | S14: =IF(R14>E14,0,E14-SUM(F14:Q14)) -> 190 | W14: =IF(T14="","",T14-U14-V14) | X14: =IF(W14="","",IF(W14>S14,S14,W14)) | Y14: =IF(T14="","",ROUND(X14-(X14*33%),2)) | Z14: =IF(T14="","",X14-Y14) | AA14: =IF(T14="","",Y14*20%) | AB14: =IF(T14="","",Y14-AA14) | AC14: =IF(T14="","",Y14+Z14)
A15: Nom11 | B15: Prénom11 | C15: 0000011 | E15: 190 | R15: =SUM(F15:Q15) -> 0 | S15: =IF(R15>E15,0,E15-SUM(F15:Q15)) -> 190 | W15: =IF(T15="","",T15-U15-V15) | X15: =IF(W15="","",IF(W15>S15,S15,W15)) | Y15: =IF(T15="","",ROUND(X15-(X15*33%),2)) | Z15: =IF(T15="","",X15-Y15) | AA15: =IF(T15="","",Y15*20%) | AB15: =IF(T15="","",Y15-AA15) | AC15: =IF(T15="","",Y15+Z15)
A16: Nom12 | B16: Prénom12 | C16: 0000012 | E16: 190 | R16: =SUM(F16:Q16) -> 0 | S16: =IF(R16>E16,0,E16-SUM(F16:Q16)) -> 190 | W16: =IF(T16="","",T16-U16-V16) | X16: =IF(W16="","",IF(W16>S16,S16,W16)) | Y16: =IF(T16="","",ROUND(X16-(X16*33%),2)) | Z16: =IF(T16="","",X16-Y16) | AA16: =IF(T16="","",Y16*20%) | AB16: =IF(T16="","",Y16-AA16) | AC16: =IF(T16="","",Y16+Z16)
... A19: Nom15 | B19: Prénom15 | C19: 0000015 | E19: 190 | R19: =SUM(F19:Q19) -> 0 | S19: =IF(R19>E19,0,E19-SUM(F19:Q19)) -> 190 | W19: =IF(T19="","",T19-U19-V19) | X19: =IF(W19="","",IF(W19>S19,S19,W19)) | Y19: =IF(T19="","",ROUND(X19-(X19*33%),2)) | Z19: =IF(T19="","",X19-Y19) | AA19: =IF(T19="","",Y19*20%) | AB19: =IF(T19="","",Y19-AA19) | AC19: =IF(T19="","",Y19+Z19)
A20: Nom16 | B20: Prénom16 | C20: 0000016 | E20: 190 | H20: 100 | R20: =SUM(F20:Q20) -> 100 | S20: =IF(R20>E20,0,E20-SUM(F20:Q20)) -> 90 | T20: 100 | U20: 50 | V20: 10 | W20: =IF(T20="","",T20-U20-V20) -> 40 | X20: =IF(W20="","",IF(W20>S20,S20,W20)) -> 40 | Y20: =IF(T20="","",ROUND(X20-(X20*33%),2)) -> 26.8 | Z20: =IF(T20="","",X20-Y20) -> 13.2 | AA20: =IF(T20="","",Y20*20%) -> 5.36 | AB20: =IF(T20="","",Y20-AA20) -> 21.44 | AC20: =IF(T20="","",Y20+Z20) -> 40
A21: Nom17 | B21: Prénom17 | C21: 0000017 | E21: 190 | R21: =SUM(F21:Q21) -> 0 | S21: =IF(R21>E21,0,E21-SUM(F21:Q21)) -> 190 | W21: =IF(T21="","",T21-U21-V21) | X21: =IF(W21="","",IF(W21>S21,S21,W21)) | Y21: =IF(T21="","",ROUND(X21-(X21*33%),2)) | Z21: =IF(T21="","",X21-Y21) | AA21: =IF(T21="","",Y21*20%) | AB21: =IF(T21="","",Y21-AA21) | AC21: =IF(T21="","",Y21+Z21)
A22: Nom18 | B22: Prénom18 | C22: 0000018 | E22: 190 | R22: =SUM(F22:Q22) -> 0 | S22: =IF(R22>E22,0,E22-SUM(F22:Q22)) -> 190 | W22: =IF(T22="","",T22-U22-V22) | X22: =IF(W22="","",IF(W22>S22,S22,W22)) | Y22: =IF(T22="","",ROUND(X22-(X22*33%),2)) | Z22: =IF(T22="","",X22-Y22) | AA22: =IF(T22="","",Y22*20%) | AB22: =IF(T22="","",Y22-AA22) | AC22: =IF(T22="","",Y22+Z22)
A23: Nom19 | B23: Prénom19 | C23: 0000019 | E23: 190 | R23: =SUM(F23:Q23) -> 0 | S23: =IF(R23>E23,0,E23-SUM(F23:Q23)) -> 190 | W23: =IF(T23="","",T23-U23-V23) | X23: =IF(W23="","",IF(W23>S23,S23,W23)) | Y23: =IF(T23="","",ROUND(X23-(X23*33%),2)) | Z23: =IF(T23="","",X23-Y23) | AA23: =IF(T23="","",Y23*20%) | AB23: =IF(T23="","",Y23-AA23) | AC23: =IF(T23="","",Y23+Z23)
A24: Nom20 | B24: Prénom20 | C24: 0000020 | E24: 190 | R24: =SUM(F24:Q24) -> 0 | S24: =IF(R24>E24,0,E24-SUM(F24:Q24)) -> 190 | W24: =IF(T24="","",T24-U24-V24) | X24: =IF(W24="","",IF(W24>S24,S24,W24)) | Y24: =IF(T24="","",ROUND(X24-(X24*33%),2)) | Z24: =IF(T24="","",X24-Y24) | AA24: =IF(T24="","",Y24*20%) | AB24: =IF(T24="","",Y24-AA24) | AC24: =IF(T24="","",Y24+Z24)
A25: Nom21 | B25: Prénom21 | C25: 0000021 | E25: 190 | R25: =SUM(F25:Q25) -> 0 | S25: =IF(R25>E25,0,E25-SUM(F25:Q25)) -> 190 | W25: =IF(T25="","",T25-U25-V25) | X25: =IF(W25="","",IF(W25>S25,S25,W25)) | Y25: =IF(T25="","",ROUND(X25-(X25*33%),2)) | Z25: =IF(T25="","",X25-Y25) | AA25: =IF(T25="","",Y25*20%) | AB25: =IF(T25="","",Y25-AA25) | AC25: =IF(T25="","",Y25+Z25)
A26: Nom22 | B26: Prénom22 | C26: 0000022 | E26: 190 | R26: =SUM(F26:Q26) -> 0 | S26: =IF(R26>E26,0,E26-SUM(F26:Q26)) -> 190 | W26: =IF(T26="","",T26-U26-V26) | X26: =IF(W26="","",IF(W26>S26,S26,W26)) | Y26: =IF(T26="","",ROUND(X26-(X26*33%),2)) | Z26: =IF(T26="","",X26-Y26) | AA26: =IF(T26="","",Y26*20%) | AB26: =IF(T26="","",Y26-AA26) | AC26: =IF(T26="","",Y26+Z26)
A27: Nom23 | B27: Prénom23 | C27: 0000023 | E27: 190 | R27: =SUM(F27:Q27) -> 0 | S27: =IF(R27>E27,0,E27-SUM(F27:Q27)) -> 190 | W27: =IF(T27="","",T27-U27-V27) | X27: =IF(W27="","",IF(W27>S27,S27,W27)) | Y27: =IF(T27="","",ROUND(X27-(X27*33%),2)) | Z27: =IF(T27="","",X27-Y27) | AA27: =IF(T27="","",Y27*20%) | AB27: =IF(T27="","",Y27-AA27) | AC27: =IF(T27="","",Y27+Z27)
A28: Nom24 | B28: Prénom24 | C28: 0000024 | E28: 190 | R28: =SUM(F28:Q28) -> 0 | S28: =IF(R28>E28,0,E28-SUM(F28:Q28)) -> 190 | W28: =IF(T28="","",T28-U28-V28) | X28: =IF(W28="","",IF(W28>S28,S28,W28)) | Y28: =IF(T28="","",ROUND(X28-(X28*33%),2)) | Z28: =IF(T28="","",X28-Y28) | AA28: =IF(T28="","",Y28*20%) | AB28: =IF(T28="","",Y28-AA28) | AC28: =IF(T28="","",Y28+Z28)
A29: Nom25 | B29: Prénom25 | C29: 0000025 | E29: 190 | R29: =SUM(F29:Q29) -> 0 | S29: =IF(R29>E29,0,E29-SUM(F29:Q29)) -> 190 | W29: =IF(T29="","",T29-U29-V29) | X29: =IF(W29="","",IF(W29>S29,S29,W29)) | Y29: =IF(T29="","",ROUND(X29-(X29*33%),2)) | Z29: =IF(T29="","",X29-Y29) | AA29: =IF(T29="","",Y29*20%) | AB29: =IF(T29="","",Y29-AA29) | AC29: =IF(T29="","",Y29+Z29)
A30: Nom26 | B30: Prénom26 | C30: 0000026 | E30: 190 | R30: =SUM(F30:Q30) -> 0 | S30: =IF(R30>E30,0,E30-SUM(F30:Q30)) -> 190 | W30: =IF(T30="","",T30-U30-V30) | X30: =IF(W30="","",IF(W30>S30,S30,W30)) | Y30: =IF(T30="","",ROUND(X30-(X30*33%),2)) | Z30: =IF(T30="","",X30-Y30) | AA30: =IF(T30="","",Y30*20%) | AB30: =IF(T30="","",Y30-AA30) | AC30: =IF(T30="","",Y30+Z30)
A31: Nom27 | B31: Prénom27 | C31: 0000027 | E31: 190 | R31: =SUM(F31:Q31) -> 0 | S31: =IF(R31>E31,0,E31-SUM(F31:Q31)) -> 190 | W31: =IF(T31="","",T31-U31-V31) | X31: =IF(W31="","",IF(W31>S31,S31,W31)) | Y31: =IF(T31="","",ROUND(X31-(X31*33%),2)) | Z31: =IF(T31="","",X31-Y31) | AA31: =IF(T31="","",Y31*20%) | AB31: =IF(T31="","",Y31-AA31) | AC31: =IF(T31="","",Y31+Z31)
A32: Nom28 | B32: Prénom28 | C32: 0000028 | E32: 190 | R32: =SUM(F32:Q32) -> 0 | S32: =IF(R32>E32,0,E32-SUM(F32:Q32)) -> 190 | W32: =IF(T32="","",T32-U32-V32) | X32: =IF(W32="","",IF(W32>S32,S32,W32)) | Y32: =IF(T32="","",ROUND(X32-(X32*33%),2)) | Z32: =IF(T32="","",X32-Y32) | AA32: =IF(T32="","",Y32*20%) | AB32: =IF(T32="","",Y32-AA32) | AC32: =IF(T32="","",Y32+Z32)
... A34: Nom30 | B34: Prénom30 | C34: 0000030 | E34: 190 | R34: =SUM(F34:Q34) -> 0 | S34: =IF(R34>E34,0,E34-SUM(F34:Q34)) -> 190 | W34: =IF(T34="","",T34-U34-V34) | X34: =IF(W34="","",IF(W34>S34,S34,W34)) | Y34: =IF(T34="","",ROUND(X34-(X34*33%),2)) | Z34: =IF(T34="","",X34-Y34) | AA34: =IF(T34="","",Y34*20%) | AB34: =IF(T34="","",Y34-AA34) | AC34: =IF(T34="","",Y34+Z34)
