Workbook

Sheet Rapport
B10: Quant. | C10: Modèle | E10: Marque A | F10: Marque B | G10: Marque C | H10: Marque D | I10: Prix vente (TAR excl.) | K10: Prix vente (TAR excl.) | L10: Réf | M10: Prix Vente (TAR incl.)
I11: Unitaire | J11: TAR | K11: Total
B12: 1 | C12: =IF(L12="","",IFERROR(VLOOKUP(L12,Articles!$A$4:$F$503,2,0),"Réf. Inconnue")) -> artricle 1 | E12: =IF(L12="","",IFERROR(VLOOKUP(L12,Articles!$A$4:$F$503,3,0),"Réf. Inconnue")) -> X | F12: =IF(L12="","",IFERROR(VLOOKUP(L12,Articles!$A$4:$F$503,4,0),"Réf. Inconnue")) | G12: =IF(L12="","",IFERROR(VLOOKUP(L12,Articles!$A$4:$F$503,5,0),"Réf. Inconnue")) | H12: =IF(L12="","",IFERROR(VLOOKUP(L12,Articles!$A$4:$F$503,6,0),"Réf. Inconnue")) | I12: =M12-J12 -> 90 | J12: =IF(L12="","",IFERROR(VLOOKUP(L12,Articles!$A$4:$G$503,7,0),"")) -> 10 | K12: =IF(B12,B12*I12,"") -> 90 | L12: 1111111 | M12: 100
B13: 1 | C13: =IF(L13="","",IFERROR(VLOOKUP(L13,Articles!$A$4:$F$503,2,0),"Réf. Inconnue")) -> artricle 2 | E13: =IF(L13="","",IFERROR(VLOOKUP(L13,Articles!$A$4:$F$503,3,0),"Réf. Inconnue")) | F13: =IF(L13="","",IFERROR(VLOOKUP(L13,Articles!$A$4:$F$503,4,0),"Réf. Inconnue")) -> X | G13: =IF(L13="","",IFERROR(VLOOKUP(L13,Articles!$A$4:$F$503,5,0),"Réf. Inconnue")) | H13: =IF(L13="","",IFERROR(VLOOKUP(L13,Articles!$A$4:$F$503,6,0),"Réf. Inconnue")) | I13: =M13-J13 -> 100 | K13: =IF(B13,B13*I13,"") -> 100 | L13: 1111112 | M13: 100
C14: =IF(L14="","",IFERROR(VLOOKUP(L14,Articles!$A$4:$F$503,2,0),"Réf. Inconnue")) | E14: =IF(L14="","",IFERROR(VLOOKUP(L14,Articles!$A$4:$F$503,3,0),"Réf. Inconnue")) | F14: =IF(L14="","",IFERROR(VLOOKUP(L14,Articles!$A$4:$F$503,4,0),"Réf. Inconnue")) | G14: =IF(L14="","",IFERROR(VLOOKUP(L14,Articles!$A$4:$F$503,5,0),"Réf. Inconnue")) | H14: =IF(L14="","",IFERROR(VLOOKUP(L14,Articles!$A$4:$F$503,6,0),"Réf. Inconnue")) | I14: =M14-J14 -> #N/A | J14: =VLOOKUP(L14,Articles!$A$4:$G$503,7,0) -> #N/A | K14: =IF(B14,B14*I14,"")
C15: =IF(L15="","",IFERROR(VLOOKUP(L15,Articles!$A$4:$F$503,2,0),"Réf. Inconnue")) | E15: =IF(L15="","",IFERROR(VLOOKUP(L15,Articles!$A$4:$F$503,3,0),"Réf. Inconnue")) | F15: =IF(L15="","",IFERROR(VLOOKUP(L15,Articles!$A$4:$F$503,4,0),"Réf. Inconnue")) | G15: =IF(L15="","",IFERROR(VLOOKUP(L15,Articles!$A$4:$F$503,5,0),"Réf. Inconnue")) | H15: =IF(L15="","",IFERROR(VLOOKUP(L15,Articles!$A$4:$F$503,6,0),"Réf. Inconnue")) | I15: =M15-J15 -> #VALUE! | J15: =IF(L15="","",IFERROR(VLOOKUP(L15,Articles!$A$4:$G$503,7,0),"")) | K15: =IF(B15,B15*I15,"")
C16: =IF(L16="","",IFERROR(VLOOKUP(L16,Articles!$A$4:$F$503,2,0),"Réf. Inconnue")) | E16: =IF(L16="","",IFERROR(VLOOKUP(L16,Articles!$A$4:$F$503,3,0),"Réf. Inconnue")) | F16: =IF(L16="","",IFERROR(VLOOKUP(L16,Articles!$A$4:$F$503,4,0),"Réf. Inconnue")) | G16: =IF(L16="","",IFERROR(VLOOKUP(L16,Articles!$A$4:$F$503,5,0),"Réf. Inconnue")) | H16: =IF(L16="","",IFERROR(VLOOKUP(L16,Articles!$A$4:$F$503,6,0),"Réf. Inconnue")) | I16: =M16-J16 -> #VALUE! | J16: =IF(L16="","",IFERROR(VLOOKUP(L16,Articles!$A$4:$G$503,7,0),"")) | K16: =IF(B16,B16*I16,"")
C17: =IF(L17="","",IFERROR(VLOOKUP(L17,Articles!$A$4:$F$503,2,0),"Réf. Inconnue")) | E17: =IF(L17="","",IFERROR(VLOOKUP(L17,Articles!$A$4:$F$503,3,0),"Réf. Inconnue")) | F17: =IF(L17="","",IFERROR(VLOOKUP(L17,Articles!$A$4:$F$503,4,0),"Réf. Inconnue")) | G17: =IF(L17="","",IFERROR(VLOOKUP(L17,Articles!$A$4:$F$503,5,0),"Réf. Inconnue")) | H17: =IF(L17="","",IFERROR(VLOOKUP(L17,Articles!$A$4:$F$503,6,0),"Réf. Inconnue")) | I17: =M17-J17 -> #VALUE! | J17: =IF(L17="","",IFERROR(VLOOKUP(L17,Articles!$A$4:$G$503,7,0),"")) | K17: =IF(B17,B17*I17,"")
B18: =SUM(B11:B17) -> 2 | E18: =COUNTIF(E12:E17,"X") -> 1 | F18: =COUNTIF(F12:F17,"X") -> 1 | G18: =COUNTIF(G12:G17,"X") -> 0 | H18: =COUNTIF(H12:H17,"X") -> 0 | K18: =SUM(K11:K17) -> 190
G22: Sans formule
G23: Autre formule

Sheet Articles
A1: Article | B1: Désignation | C1: Marque
C2: Candy | D2: Hoover Pem | E2: Hoover GEM | F2: Rosiere | G2: TAR
G3: 0
A4: 1111111 | B4: artricle 1 | C4: X | G4: 10
A5: 1111112 | B5: artricle 2 | D5: X | G5: 20
A6: 1111113 | B6: artricle 3 | E6: X | G6: 30
A7: 1111114 | B7: artricle 4 | F7: X | G7: 40
A8: 1111115 | B8: artricle 5 | C8: X | G8: 50
A9: 1111116 | B9: artricle 6 | D9: X | G9: 60

Sheet Feuil3
