Workbook

Sheet SuiviDepense
C1: Saison : 2013 - 2014 | F1: SUIVI des DEPENSES
A3: Numéro comptable | B3: Date | D3: Mode de paiment | E3: Ordre | F3: Sport | G3: Niveau de compét. | H3: Lieu | I3: Km | J3: Montant | L3: Moyen de déplcement | Q3: Trajet | S3: Héberg. | T3: Restau. | U3: Indém. (divers acteurs) | V3: Frais divers
B4: émis | C4: action | L4: Voiture perso | M4: Location | N4: Minibus AS | O4: Train | P4: Avion | Q4: Carbu. | R4: Péage | V4: Lesquels | W4: Montant

Sheet Total
A1: Total
A3: Moyen de déplcement | F3: Trajet | H3: Héberg. | I3: Restau. | J3: Indém. (divers acteurs) | K3: Frais divers | M3: Total
A4: Voiture perso | B4: Location | C4: Minibus AS | D4: Train | E4: Avion | F4: Carbu. | G4: Péage | K4: Lesquels | L4: Montant

Sheet Par sport
A1: Total par Sport
A3: Sport | B3: Moyen de déplcement | G3: Trajet | I3: Héberg. | J3: Restau. | K3: Indém. (divers acteurs) | L3: Frais divers | N3: Total
B4: Voiture perso | C4: Location | D4: Minibus AS | E4: Train | F4: Avion | G4: Carbu. | H4: Péage | L4: Lesquels | M4: Montant
A6: Athletisme | B6: =SUMPRODUCT((SuiviDepense!$F$6:$F$300=$A6)*(SuiviDepense!L$6:L$300)) -> 0 | C6: =SUMPRODUCT((SuiviDepense!$F$6:$F$300=$A6)*(SuiviDepense!M$6:M$300)) -> 0 | D6: =SUMPRODUCT((SuiviDepense!$F$6:$F$300=$A6)*(SuiviDepense!N$6:N$300)) -> 0 | E6: =SUMPRODUCT((SuiviDepense!$F$6:$F$300=$A6)*(SuiviDepense!O$6:O$300)) -> 0 | F6: =SUMPRODUCT((SuiviDepense!$F$6:$F$300=$A6)*(SuiviDepense!P$6:P$300)) -> 0 | G6: =SUMPRODUCT((SuiviDepense!$F$6:$F$300=$A6)*(SuiviDepense!Q$6:Q$300)) -> 0 | H6: =SUMPRODUCT((SuiviDepense!$F$6:$F$300=$A6)*(SuiviDepense!R$6:R$300)) -> 0 | I6: =SUMPRODUCT((SuiviDepense!$F$6:$F$300=$A6)*(SuiviDepense!S$6:S$300)) -> 0 | ... M6: =SUMPRODUCT((SuiviDepense!$F$6:$F$300=$A6)*(SuiviDepense!W$6:W$300)) -> 0 | N6: =SUM(B6:M6) -> 0
A7: Basket | B7: =SUMPRODUCT((SuiviDepense!$F$6:$F$300=$A7)*(SuiviDepense!L$6:L$300)) -> 0 | C7: =SUMPRODUCT((SuiviDepense!$F$6:$F$300=$A7)*(SuiviDepense!M$6:M$300)) -> 0 | D7: =SUMPRODUCT((SuiviDepense!$F$6:$F$300=$A7)*(SuiviDepense!N$6:N$300)) -> 0 | E7: =SUMPRODUCT((SuiviDepense!$F$6:$F$300=$A7)*(SuiviDepense!O$6:O$300)) -> 0 | F7: =SUMPRODUCT((SuiviDepense!$F$6:$F$300=$A7)*(SuiviDepense!P$6:P$300)) -> 0 | G7: =SUMPRODUCT((SuiviDepense!$F$6:$F$300=$A7)*(SuiviDepense!Q$6:Q$300)) -> 0 | H7: =SUMPRODUCT((SuiviDepense!$F$6:$F$300=$A7)*(SuiviDepense!R$6:R$300)) -> 0 | I7: =SUMPRODUCT((SuiviDepense!$F$6:$F$300=$A7)*(SuiviDepense!S$6:S$300)) -> 0 | ... M7: =SUMPRODUCT((SuiviDepense!$F$6:$F$300=$A7)*(SuiviDepense!W$6:W$300)) -> 0 | N7: =SUM(B7:M7) -> 0
A8: Boxe | B8: =SUMPRODUCT((SuiviDepense!$F$6:$F$300=$A8)*(SuiviDepense!L$6:L$300)) -> 0 | C8: =SUMPRODUCT((SuiviDepense!$F$6:$F$300=$A8)*(SuiviDepense!M$6:M$300)) -> 0 | D8: =SUMPRODUCT((SuiviDepense!$F$6:$F$300=$A8)*(SuiviDepense!N$6:N$300)) -> 0 | E8: =SUMPRODUCT((SuiviDepense!$F$6:$F$300=$A8)*(SuiviDepense!O$6:O$300)) -> 0 | F8: =SUMPRODUCT((SuiviDepense!$F$6:$F$300=$A8)*(SuiviDepense!P$6:P$300)) -> 0 | G8: =SUMPRODUCT((SuiviDepense!$F$6:$F$300=$A8)*(SuiviDepense!Q$6:Q$300)) -> 0 | H8: =SUMPRODUCT((SuiviDepense!$F$6:$F$300=$A8)*(SuiviDepense!R$6:R$300)) -> 0 | I8: =SUMPRODUCT((SuiviDepense!$F$6:$F$300=$A8)*(SuiviDepense!S$6:S$300)) -> 0 | ... M8: =SUMPRODUCT((SuiviDepense!$F$6:$F$300=$A8)*(SuiviDepense!W$6:W$300)) -> 0 | N8: =SUM(B8:M8) -> 0
A9: CO | B9: =SUMPRODUCT((SuiviDepense!$F$6:$F$300=$A9)*(SuiviDepense!L$6:L$300)) -> 0 | C9: =SUMPRODUCT((SuiviDepense!$F$6:$F$300=$A9)*(SuiviDepense!M$6:M$300)) -> 0 | D9: =SUMPRODUCT((SuiviDepense!$F$6:$F$300=$A9)*(SuiviDepense!N$6:N$300)) -> 0 | E9: =SUMPRODUCT((SuiviDepense!$F$6:$F$300=$A9)*(SuiviDepense!O$6:O$300)) -> 0 | F9: =SUMPRODUCT((SuiviDepense!$F$6:$F$300=$A9)*(SuiviDepense!P$6:P$300)) -> 0 | G9: =SUMPRODUCT((SuiviDepense!$F$6:$F$300=$A9)*(SuiviDepense!Q$6:Q$300)) -> 0 | H9: =SUMPRODUCT((SuiviDepense!$F$6:$F$300=$A9)*(SuiviDepense!R$6:R$300)) -> 0 | I9: =SUMPRODUCT((SuiviDepense!$F$6:$F$300=$A9)*(SuiviDepense!S$6:S$300)) -> 0 | ... M9: =SUMPRODUCT((SuiviDepense!$F$6:$F$300=$A9)*(SuiviDepense!W$6:W$300)) -> 0 | N9: =SUM(B9:M9) -> 0
A10: Cyclisme | B10: =SUMPRODUCT((SuiviDepense!$F$6:$F$300=$A10)*(SuiviDepense!L$6:L$300)) -> 0 | C10: =SUMPRODUCT((SuiviDepense!$F$6:$F$300=$A10)*(SuiviDepense!M$6:M$300)) -> 0 | D10: =SUMPRODUCT((SuiviDepense!$F$6:$F$300=$A10)*(SuiviDepense!N$6:N$300)) -> 0 | E10: =SUMPRODUCT((SuiviDepense!$F$6:$F$300=$A10)*(SuiviDepense!O$6:O$300)) -> 0 | F10: =SUMPRODUCT((SuiviDepense!$F$6:$F$300=$A10)*(SuiviDepense!P$6:P$300)) -> 0 | G10: =SUMPRODUCT((SuiviDepense!$F$6:$F$300=$A10)*(SuiviDepense!Q$6:Q$300)) -> 0 | H10: =SUMPRODUCT((SuiviDepense!$F$6:$F$300=$A10)*(SuiviDepense!R$6:R$300)) -> 0 | I10: =SUMPRODUCT((SuiviDepense!$F$6:$F$300=$A10)*(SuiviDepense!S$6:S$300)) -> 0 | ... M10: =SUMPRODUCT((SuiviDepense!$F$6:$F$300=$A10)*(SuiviDepense!W$6:W$300)) -> 0 | N10: =SUM(B10:M10) -> 0
A11: Escalade | B11: =SUMPRODUCT((SuiviDepense!$F$6:$F$300=$A11)*(SuiviDepense!L$6:L$300)) -> 0 | C11: =SUMPRODUCT((SuiviDepense!$F$6:$F$300=$A11)*(SuiviDepense!M$6:M$300)) -> 0 | D11: =SUMPRODUCT((SuiviDepense!$F$6:$F$300=$A11)*(SuiviDepense!N$6:N$300)) -> 0 | E11: =SUMPRODUCT((SuiviDepense!$F$6:$F$300=$A11)*(SuiviDepense!O$6:O$300)) -> 0 | F11: =SUMPRODUCT((SuiviDepense!$F$6:$F$300=$A11)*(SuiviDepense!P$6:P$300)) -> 0 | G11: =SUMPRODUCT((SuiviDepense!$F$6:$F$300=$A11)*(SuiviDepense!Q$6:Q$300)) -> 0 | H11: =SUMPRODUCT((SuiviDepense!$F$6:$F$300=$A11)*(SuiviDepense!R$6:R$300)) -> 0 | I11: =SUMPRODUCT((SuiviDepense!$F$6:$F$300=$A11)*(SuiviDepense!S$6:S$300)) -> 0 | ... M11: =SUMPRODUCT((SuiviDepense!$F$6:$F$300=$A11)*(SuiviDepense!W$6:W$300)) -> 0 | N11: =SUM(B11:M11) -> 0
A12: Foot | B12: =SUMPRODUCT((SuiviDepense!$F$6:$F$300=$A12)*(SuiviDepense!L$6:L$300)) -> 0 | C12: =SUMPRODUCT((SuiviDepense!$F$6:$F$300=$A12)*(SuiviDepense!M$6:M$300)) -> 0 | D12: =SUMPRODUCT((SuiviDepense!$F$6:$F$300=$A12)*(SuiviDepense!N$6:N$300)) -> 0 | E12: =SUMPRODUCT((SuiviDepense!$F$6:$F$300=$A12)*(SuiviDepense!O$6:O$300)) -> 0 | F12: =SUMPRODUCT((SuiviDepense!$F$6:$F$300=$A12)*(SuiviDepense!P$6:P$300)) -> 0 | G12: =SUMPRODUCT((SuiviDepense!$F$6:$F$300=$A12)*(SuiviDepense!Q$6:Q$300)) -> 0 | H12: =SUMPRODUCT((SuiviDepense!$F$6:$F$300=$A12)*(SuiviDepense!R$6:R$300)) -> 0 | I12: =SUMPRODUCT((SuiviDepense!$F$6:$F$300=$A12)*(SuiviDepense!S$6:S$300)) -> 0 | ... M12: =SUMPRODUCT((SuiviDepense!$F$6:$F$300=$A12)*(SuiviDepense!W$6:W$300)) -> 0 | N12: =SUM(B12:M12) -> 0
A13: Golf | B13: =SUMPRODUCT((SuiviDepense!$F$6:$F$300=$A13)*(SuiviDepense!L$6:L$300)) -> 0 | C13: =SUMPRODUCT((SuiviDepense!$F$6:$F$300=$A13)*(SuiviDepense!M$6:M$300)) -> 0 | D13: =SUMPRODUCT((SuiviDepense!$F$6:$F$300=$A13)*(SuiviDepense!N$6:N$300)) -> 0 | E13: =SUMPRODUCT((SuiviDepense!$F$6:$F$300=$A13)*(SuiviDepense!O$6:O$300)) -> 0 | F13: =SUMPRODUCT((SuiviDepense!$F$6:$F$300=$A13)*(SuiviDepense!P$6:P$300)) -> 0 | G13: =SUMPRODUCT((SuiviDepense!$F$6:$F$300=$A13)*(SuiviDepense!Q$6:Q$300)) -> 0 | H13: =SUMPRODUCT((SuiviDepense!$F$6:$F$300=$A13)*(SuiviDepense!R$6:R$300)) -> 0 | I13: =SUMPRODUCT((SuiviDepense!$F$6:$F$300=$A13)*(SuiviDepense!S$6:S$300)) -> 0 | ... M13: =SUMPRODUCT((SuiviDepense!$F$6:$F$300=$A13)*(SuiviDepense!W$6:W$300)) -> 0 | N13: =SUM(B13:M13) -> 0
A14: Hand | B14: =SUMPRODUCT((SuiviDepense!$F$6:$F$300=$A14)*(SuiviDepense!L$6:L$300)) -> 0 | C14: =SUMPRODUCT((SuiviDepense!$F$6:$F$300=$A14)*(SuiviDepense!M$6:M$300)) -> 0 | D14: =SUMPRODUCT((SuiviDepense!$F$6:$F$300=$A14)*(SuiviDepense!N$6:N$300)) -> 0 | E14: =SUMPRODUCT((SuiviDepense!$F$6:$F$300=$A14)*(SuiviDepense!O$6:O$300)) -> 0 | F14: =SUMPRODUCT((SuiviDepense!$F$6:$F$300=$A14)*(SuiviDepense!P$6:P$300)) -> 0 | G14: =SUMPRODUCT((SuiviDepense!$F$6:$F$300=$A14)*(SuiviDepense!Q$6:Q$300)) -> 0 | H14: =SUMPRODUCT((SuiviDepense!$F$6:$F$300=$A14)*(SuiviDepense!R$6:R$300)) -> 0 | I14: =SUMPRODUCT((SuiviDepense!$F$6:$F$300=$A14)*(SuiviDepense!S$6:S$300)) -> 0 | ... M14: =SUMPRODUCT((SuiviDepense!$F$6:$F$300=$A14)*(SuiviDepense!W$6:W$300)) -> 0 | N14: =SUM(B14:M14) -> 0
A15: Judo | B15: =SUMPRODUCT((SuiviDepense!$F$6:$F$300=$A15)*(SuiviDepense!L$6:L$300)) -> 0 | C15: =SUMPRODUCT((SuiviDepense!$F$6:$F$300=$A15)*(SuiviDepense!M$6:M$300)) -> 0 | D15: =SUMPRODUCT((SuiviDepense!$F$6:$F$300=$A15)*(SuiviDepense!N$6:N$300)) -> 0 | E15: =SUMPRODUCT((SuiviDepense!$F$6:$F$300=$A15)*(SuiviDepense!O$6:O$300)) -> 0 | F15: =SUMPRODUCT((SuiviDepense!$F$6:$F$300=$A15)*(SuiviDepense!P$6:P$300)) -> 0 | G15: =SUMPRODUCT((SuiviDepense!$F$6:$F$300=$A15)*(SuiviDepense!Q$6:Q$300)) -> 0 | H15: =SUMPRODUCT((SuiviDepense!$F$6:$F$300=$A15)*(SuiviDepense!R$6:R$300)) -> 0 | I15: =SUMPRODUCT((SuiviDepense!$F$6:$F$300=$A15)*(SuiviDepense!S$6:S$300)) -> 0 | ... M15: =SUMPRODUCT((SuiviDepense!$F$6:$F$300=$A15)*(SuiviDepense!W$6:W$300)) -> 0 | N15: =SUM(B15:M15) -> 0
A16: Karate | B16: =SUMPRODUCT((SuiviDepense!$F$6:$F$300=$A16)*(SuiviDepense!L$6:L$300)) -> 0 | C16: =SUMPRODUCT((SuiviDepense!$F$6:$F$300=$A16)*(SuiviDepense!M$6:M$300)) -> 0 | D16: =SUMPRODUCT((SuiviDepense!$F$6:$F$300=$A16)*(SuiviDepense!N$6:N$300)) -> 0 | E16: =SUMPRODUCT((SuiviDepense!$F$6:$F$300=$A16)*(SuiviDepense!O$6:O$300)) -> 0 | F16: =SUMPRODUCT((SuiviDepense!$F$6:$F$300=$A16)*(SuiviDepense!P$6:P$300)) -> 0 | G16: =SUMPRODUCT((SuiviDepense!$F$6:$F$300=$A16)*(SuiviDepense!Q$6:Q$300)) -> 0 | H16: =SUMPRODUCT((SuiviDepense!$F$6:$F$300=$A16)*(SuiviDepense!R$6:R$300)) -> 0 | I16: =SUMPRODUCT((SuiviDepense!$F$6:$F$300=$A16)*(SuiviDepense!S$6:S$300)) -> 0 | ... M16: =SUMPRODUCT((SuiviDepense!$F$6:$F$300=$A16)*(SuiviDepense!W$6:W$300)) -> 0 | N16: =SUM(B16:M16) -> 0
A17: Natation | B17: =SUMPRODUCT((SuiviDepense!$F$6:$F$300=$A17)*(SuiviDepense!L$6:L$300)) -> 0 | C17: =SUMPRODUCT((SuiviDepense!$F$6:$F$300=$A17)*(SuiviDepense!M$6:M$300)) -> 0 | D17: =SUMPRODUCT((SuiviDepense!$F$6:$F$300=$A17)*(SuiviDepense!N$6:N$300)) -> 0 | E17: =SUMPRODUCT((SuiviDepense!$F$6:$F$300=$A17)*(SuiviDepense!O$6:O$300)) -> 0 | F17: =SUMPRODUCT((SuiviDepense!$F$6:$F$300=$A17)*(SuiviDepense!P$6:P$300)) -> 0 | G17: =SUMPRODUCT((SuiviDepense!$F$6:$F$300=$A17)*(SuiviDepense!Q$6:Q$300)) -> 0 | H17: =SUMPRODUCT((SuiviDepense!$F$6:$F$300=$A17)*(SuiviDepense!R$6:R$300)) -> 0 | I17: =SUMPRODUCT((SuiviDepense!$F$6:$F$300=$A17)*(SuiviDepense!S$6:S$300)) -> 0 | ... M17: =SUMPRODUCT((SuiviDepense!$F$6:$F$300=$A17)*(SuiviDepense!W$6:W$300)) -> 0 | N17: =SUM(B17:M17) -> 0
... A23: Volley | B23: =SUMPRODUCT((SuiviDepense!$F$6:$F$300=$A23)*(SuiviDepense!L$6:L$300)) -> 0 | C23: =SUMPRODUCT((SuiviDepense!$F$6:$F$300=$A23)*(SuiviDepense!M$6:M$300)) -> 0 | D23: =SUMPRODUCT((SuiviDepense!$F$6:$F$300=$A23)*(SuiviDepense!N$6:N$300)) -> 0 | E23: =SUMPRODUCT((SuiviDepense!$F$6:$F$300=$A23)*(SuiviDepense!O$6:O$300)) -> 0 | F23: =SUMPRODUCT((SuiviDepense!$F$6:$F$300=$A23)*(SuiviDepense!P$6:P$300)) -> 0 | G23: =SUMPRODUCT((SuiviDepense!$F$6:$F$300=$A23)*(SuiviDepense!Q$6:Q$300)) -> 0 | H23: =SUMPRODUCT((SuiviDepense!$F$6:$F$300=$A23)*(SuiviDepense!R$6:R$300)) -> 0 | I23: =SUMPRODUCT((SuiviDepense!$F$6:$F$300=$A23)*(SuiviDepense!S$6:S$300)) -> 0 | ... M23: =SUMPRODUCT((SuiviDepense!$F$6:$F$300=$A23)*(SuiviDepense!W$6:W$300)) -> 0 | N23: =SUM(B23:M23) -> 0
A27: Erreur
A29: toute les issus sont connues dans la matrice [A6:A23]
A30: si Erreur [B27:M27] est differents de 0 ou vide alors une faute de frappe s'est glissé dans le tableau de SuiviDepense!
A31: Merci :)

Sheet Par niveau
A1: Total par Niveau
A3: Niveau | B3: Moyen de déplcement | G3: Trajet | I3: Héberg. | J3: Restau. | K3: Indém. (divers acteurs) | L3: Frais divers | N3: Total
B4: Voiture perso | C4: Location | D4: Minibus AS | E4: Train | F4: Avion | G4: Carbu. | H4: Péage | L4: Lesquels | M4: Montant
A6: Acad. | B6: =SUMPRODUCT((SuiviDepense!$G$6:$G$300=$A6)*(SuiviDepense!L$6:L$300)) -> 0 | C6: =SUMPRODUCT((SuiviDepense!$G$6:$G$300=$A6)*(SuiviDepense!M$6:M$300)) -> 0 | D6: =SUMPRODUCT((SuiviDepense!$G$6:$G$300=$A6)*(SuiviDepense!N$6:N$300)) -> 0 | E6: =SUMPRODUCT((SuiviDepense!$G$6:$G$300=$A6)*(SuiviDepense!O$6:O$300)) -> 0 | F6: =SUMPRODUCT((SuiviDepense!$G$6:$G$300=$A6)*(SuiviDepense!P$6:P$300)) -> 0 | G6: =SUMPRODUCT((SuiviDepense!$G$6:$G$300=$A6)*(SuiviDepense!Q$6:Q$300)) -> 0 | H6: =SUMPRODUCT((SuiviDepense!$G$6:$G$300=$A6)*(SuiviDepense!R$6:R$300)) -> 0 | I6: =SUMPRODUCT((SuiviDepense!$G$6:$G$300=$A6)*(SuiviDepense!S$6:S$300)) -> 0 | ... M6: =SUMPRODUCT((SuiviDepense!$G$6:$G$300=$A6)*(SuiviDepense!W$6:W$300)) -> 0 | N6: =SUM(B6:M6) -> 0
A7: IR | B7: =SUMPRODUCT((SuiviDepense!$G$6:$G$300=$A7)*(SuiviDepense!L$6:L$300)) -> 0 | C7: =SUMPRODUCT((SuiviDepense!$G$6:$G$300=$A7)*(SuiviDepense!M$6:M$300)) -> 0 | D7: =SUMPRODUCT((SuiviDepense!$G$6:$G$300=$A7)*(SuiviDepense!N$6:N$300)) -> 0 | E7: =SUMPRODUCT((SuiviDepense!$G$6:$G$300=$A7)*(SuiviDepense!O$6:O$300)) -> 0 | F7: =SUMPRODUCT((SuiviDepense!$G$6:$G$300=$A7)*(SuiviDepense!P$6:P$300)) -> 0 | G7: =SUMPRODUCT((SuiviDepense!$G$6:$G$300=$A7)*(SuiviDepense!Q$6:Q$300)) -> 0 | H7: =SUMPRODUCT((SuiviDepense!$G$6:$G$300=$A7)*(SuiviDepense!R$6:R$300)) -> 0 | I7: =SUMPRODUCT((SuiviDepense!$G$6:$G$300=$A7)*(SuiviDepense!S$6:S$300)) -> 0 | ... M7: =SUMPRODUCT((SuiviDepense!$G$6:$G$300=$A7)*(SuiviDepense!W$6:W$300)) -> 0 | N7: =SUM(B7:M7) -> 0
A8: CFU | B8: =SUMPRODUCT((SuiviDepense!$G$6:$G$300=$A8)*(SuiviDepense!L$6:L$300)) -> 0 | C8: =SUMPRODUCT((SuiviDepense!$G$6:$G$300=$A8)*(SuiviDepense!M$6:M$300)) -> 0 | D8: =SUMPRODUCT((SuiviDepense!$G$6:$G$300=$A8)*(SuiviDepense!N$6:N$300)) -> 0 | E8: =SUMPRODUCT((SuiviDepense!$G$6:$G$300=$A8)*(SuiviDepense!O$6:O$300)) -> 0 | F8: =SUMPRODUCT((SuiviDepense!$G$6:$G$300=$A8)*(SuiviDepense!P$6:P$300)) -> 0 | G8: =SUMPRODUCT((SuiviDepense!$G$6:$G$300=$A8)*(SuiviDepense!Q$6:Q$300)) -> 0 | H8: =SUMPRODUCT((SuiviDepense!$G$6:$G$300=$A8)*(SuiviDepense!R$6:R$300)) -> 0 | I8: =SUMPRODUCT((SuiviDepense!$G$6:$G$300=$A8)*(SuiviDepense!S$6:S$300)) -> 0 | ... M8: =SUMPRODUCT((SuiviDepense!$G$6:$G$300=$A8)*(SuiviDepense!W$6:W$300)) -> 0 | N8: =SUM(B8:M8) -> 0
A9: EUSA | B9: =SUMPRODUCT((SuiviDepense!$G$6:$G$300=$A9)*(SuiviDepense!L$6:L$300)) -> 0 | C9: =SUMPRODUCT((SuiviDepense!$G$6:$G$300=$A9)*(SuiviDepense!M$6:M$300)) -> 0 | D9: =SUMPRODUCT((SuiviDepense!$G$6:$G$300=$A9)*(SuiviDepense!N$6:N$300)) -> 0 | E9: =SUMPRODUCT((SuiviDepense!$G$6:$G$300=$A9)*(SuiviDepense!O$6:O$300)) -> 0 | F9: =SUMPRODUCT((SuiviDepense!$G$6:$G$300=$A9)*(SuiviDepense!P$6:P$300)) -> 0 | G9: =SUMPRODUCT((SuiviDepense!$G$6:$G$300=$A9)*(SuiviDepense!Q$6:Q$300)) -> 0 | H9: =SUMPRODUCT((SuiviDepense!$G$6:$G$300=$A9)*(SuiviDepense!R$6:R$300)) -> 0 | I9: =SUMPRODUCT((SuiviDepense!$G$6:$G$300=$A9)*(SuiviDepense!S$6:S$300)) -> 0 | ... M9: =SUMPRODUCT((SuiviDepense!$G$6:$G$300=$A9)*(SuiviDepense!W$6:W$300)) -> 0 | N9: =SUM(B9:M9) -> 0
A10: Autre | B10: =SUMPRODUCT((SuiviDepense!$G$6:$G$300=$A10)*(SuiviDepense!L$6:L$300)) -> 0 | C10: =SUMPRODUCT((SuiviDepense!$G$6:$G$300=$A10)*(SuiviDepense!M$6:M$300)) -> 0 | D10: =SUMPRODUCT((SuiviDepense!$G$6:$G$300=$A10)*(SuiviDepense!N$6:N$300)) -> 0 | E10: =SUMPRODUCT((SuiviDepense!$G$6:$G$300=$A10)*(SuiviDepense!O$6:O$300)) -> 0 | F10: =SUMPRODUCT((SuiviDepense!$G$6:$G$300=$A10)*(SuiviDepense!P$6:P$300)) -> 0 | G10: =SUMPRODUCT((SuiviDepense!$G$6:$G$300=$A10)*(SuiviDepense!Q$6:Q$300)) -> 0 | H10: =SUMPRODUCT((SuiviDepense!$G$6:$G$300=$A10)*(SuiviDepense!R$6:R$300)) -> 0 | I10: =SUMPRODUCT((SuiviDepense!$G$6:$G$300=$A10)*(SuiviDepense!S$6:S$300)) -> 0 | ... M10: =SUMPRODUCT((SuiviDepense!$G$6:$G$300=$A10)*(SuiviDepense!W$6:W$300)) -> 0 | N10: =SUM(B10:M10) -> 0
