Workbook

Sheet  Datas BITOOL
A1: ENTREPRISE | B1: LOT | C1: Resp échec | D1: Commentaires entreprise si échec MOE | E1: Mois | F1: Semaine | G1: jour | H1: Intervention | I1: Référence contrat | J1: Projet spider | K1: Clé De Regroupement | L1: Référence projet | M1: Nom de site | N1: Gamme intervention | O1: Nom-prénom demandeur | P1: Chef de projet SFR | Q1: N° site de l'équipement | R1: Caractéristiques de l'intervention | S1: Date création intervention (hs) | T1: Date début objectif intervention | U1: Date fin objectif intervention | V1: Durée coupure de service | W1: Date début réelle intervention | X1: Date fin réelle intervention | Y1: Durée réelle intervention HH | Z1: Entité intervenant | AA1: Etat administratif intervention | AB1: Etat approbation intervention | AC1: Etat technique intervention | AD1: Identifiant tâche | AE1: OMC équipement | AF1: Famille gamme intervention | AG1: Region SFR | AH1: Entité intervenant | AI1: Tâche | AJ1: Tâches-Nom-prénom Intervenants | AK1: Type de réseau | AL1: Compte rendu à chaud | AM1: Cause
A2: =IF($B2="2005","Hors PRODEP",IF(LEFT($Q2,2)="20","BASTIA",VLOOKUP($B2,Légendes!$B:$C,2,0))) -> Hors PRODEP | B2: =IF(ISERROR(VLOOKUP($L2,Légendes!$A:$B,2,0)),"2005",VLOOKUP($L2,Légendes!$A:$B,2,0)) -> 2005 | C2: =IF($AC2="","état final TP ?",IF($AC2<>"Echec",$AC2,IF(ISERROR(VLOOKUP($AM2,Légendes!$E:$F,2,0)),"A statuer",CONCATENATE("échec resp ",VLOOKUP($AM2,Légendes!$E:$F,2,0))))) -> échec resp MOE | E2: =IF($W2="","",$W2) -> 41757.743 | F2: =IF($G2="","",CONCATENATE("S",WEEKNUM($G2))) -> S18 | G2: =IF($W2="","",INT($W2)) -> 41757 | H2: =RIGHT($AD2,7) -> 4353591 | I2: CONTRAT/NSN | J2: 358428 | M2: FOSSES_TDF | N2: INTEGRATION_BTS | O2: GINF_SPERVEAUX | P2: habib.tahir@sfr.com | Q2: 951567 | R2: Intégration d'une nouvelle BTS | S2: 41747.415 | T2: 41757.375 | U2: 41757.542 | V2: 0 | W2: 41757.743 | X2: 41757.744 | Y2: 0.033333333 | Z2: NSN | AA2: Terminée | AB2: Approuvée | AC2: Echec | AD2: 04353591 | AF2: RAR | AG2: PAR | AH2: NSN | AI2: ADM | AJ2: 0170617868,0170617868�, | AK2: BSS | AL2: Erreur planification | AM2: Défaut de planification / Synchronisation client CA
A3: =IF($B3="2005","Hors PRODEP",IF(LEFT($Q3,2)="20","BASTIA",VLOOKUP($B3,Légendes!$B:$C,2,0))) -> Hors PRODEP | B3: =IF(ISERROR(VLOOKUP($L3,Légendes!$A:$B,2,0)),"2005",VLOOKUP($L3,Légendes!$A:$B,2,0)) -> 2005 | C3: =IF($AC3="","état final TP ?",IF($AC3<>"Echec",$AC3,IF(ISERROR(VLOOKUP($AM3,Légendes!$E:$F,2,0)),"A statuer",CONCATENATE("échec resp ",VLOOKUP($AM3,Légendes!$E:$F,2,0))))) -> échec resp MOE | E3: =IF($W3="","",$W3) -> 41757.375 | F3: =IF($G3="","",CONCATENATE("S",WEEKNUM($G3))) -> S18 | G3: =IF($W3="","",INT($W3)) -> 41757 | H3: =RIGHT($AD3,7) -> 4353592 | I3: CONTRAT/NSN | J3: 358428 | M3: FOSSES_TDF | N3: INTEGRATION_NODEB | O3: GINF_SPERVEAUX | P3: habib.tahir@sfr.com | Q3: 951567 | R3: Intégration d'un nouveau Node | S3: 41747.415 | T3: 41757.375 | U3: 41757.542 | V3: 0 | W3: 41757.375 | X3: 41757.389 | Y3: 0.33333333 | Z3: NSN | AA3: Terminée | AB3: Approuvée | AC3: Echec | AD3: 04353592 | AF3: RAR | AG3: PAR | AH3: NSN | AI3: ADM | AJ3: 0170617868,0170617868�, | AK3: UTRAN | AL3: erreur planification | AM3: Défaut de planification / Incompatibilité autre TP
A4: =IF($B4="2005","Hors PRODEP",IF(LEFT($Q4,2)="20","BASTIA",VLOOKUP($B4,Légendes!$B:$C,2,0))) -> Hors PRODEP | B4: =IF(ISERROR(VLOOKUP($L4,Légendes!$A:$B,2,0)),"2005",VLOOKUP($L4,Légendes!$A:$B,2,0)) -> 2005 | C4: =IF($AC4="","état final TP ?",IF($AC4<>"Echec",$AC4,IF(ISERROR(VLOOKUP($AM4,Légendes!$E:$F,2,0)),"A statuer",CONCATENATE("échec resp ",VLOOKUP($AM4,Légendes!$E:$F,2,0))))) -> échec resp MOE | E4: =IF($W4="","",$W4) -> 41759.375 | F4: =IF($G4="","",CONCATENATE("S",WEEKNUM($G4))) -> S18 | G4: =IF($W4="","",INT($W4)) -> 41759 | H4: =RIGHT($AD4,7) -> 4357711 | I4: CONTRAT/NSN | M4: VALENTON-3 | N4: INTEGRATION_RNC | O4: remi berot | P4: ceeckman777@beijaflore.com | Q4: 940311 | R4: Integration IuCS du RNC_Val3D | S4: 41751.672 | T4: 41759.375 | U4: 41759.75 | V4: 0 | W4: 41759.375 | X4: 41759.75 | Y4: 9 | Z4: NSN | AA4: Terminée | AB4: Approuvée | AC4: Echec | AD4: 04357711 | AF4: RAR | AG4: PAR | AH4: NSN | AI4: ADM_CC | AJ4: 0170617868�,610402888, | AK4: UTRAN | AL4: Couche RANAP ne remonte pas au RNC | AM4: Terminée par pilote : Défaut Pré-requis / Terrain
A5: =IF($B5="2005","Hors PRODEP",IF(LEFT($Q5,2)="20","BASTIA",VLOOKUP($B5,Légendes!$B:$C,2,0))) -> Hors PRODEP | B5: =IF(ISERROR(VLOOKUP($L5,Légendes!$A:$B,2,0)),"2005",VLOOKUP($L5,Légendes!$A:$B,2,0)) -> 2005 | C5: =IF($AC5="","état final TP ?",IF($AC5<>"Echec",$AC5,IF(ISERROR(VLOOKUP($AM5,Légendes!$E:$F,2,0)),"A statuer",CONCATENATE("échec resp ",VLOOKUP($AM5,Légendes!$E:$F,2,0))))) -> échec resp MOE | E5: =IF($W5="","",$W5) -> 41759.375 | F5: =IF($G5="","",CONCATENATE("S",WEEKNUM($G5))) -> S18 | G5: =IF($W5="","",INT($W5)) -> 41759 | H5: =RIGHT($AD5,7) -> 4357711 | I5: MOZART/MCO/DON/IDF/TDF | M5: VALENTON-3 | N5: INTEGRATION_RNC | O5: remi berot | P5: ceeckman777@beijaflore.com | Q5: 940311 | R5: Integration IuCS du RNC_Val3D | S5: 41751.672 | T5: 41759.375 | U5: 41759.75 | V5: 0 | W5: 41759.375 | X5: 41759.75 | Y5: 9 | Z5: TDF | AA5: Terminée | AB5: Approuvée | AC5: Echec | AD5: 04357711 | AF5: RAR | AG5: PAR | AH5: TDF | AI5: ADM | AJ5: 04 72 61 48 17, | AK5: UTRAN | AL5: Couche RANAP ne remonte pas au RNC | AM5: Défaut Pré-requis / Terrain
A6: =IF($B6="2005","Hors PRODEP",IF(LEFT($Q6,2)="20","BASTIA",VLOOKUP($B6,Légendes!$B:$C,2,0))) -> Hors PRODEP | B6: =IF(ISERROR(VLOOKUP($L6,Légendes!$A:$B,2,0)),"2005",VLOOKUP($L6,Légendes!$A:$B,2,0)) -> 2005 | C6: =IF($AC6="","état final TP ?",IF($AC6<>"Echec",$AC6,IF(ISERROR(VLOOKUP($AM6,Légendes!$E:$F,2,0)),"A statuer",CONCATENATE("échec resp ",VLOOKUP($AM6,Légendes!$E:$F,2,0))))) -> échec resp SFR | E6: =IF($W6="","",$W6) -> 41753.628 | F6: =IF($G6="","",CONCATENATE("S",WEEKNUM($G6))) -> S17 | G6: =IF($W6="","",INT($W6)) -> 41753 | H6: =RIGHT($AD6,7) -> 4346464 | I6: MOZART/MCO/DON/N-E/TDF | M6: BRUAY NORD | N6: MUTATION_NODEB_SUPPORT_TRANSMISSION | O6: GNOR_VDAUBRESSE | P6: taous.mezdad.prestataire@sfr.com | Q6: 620201 | R6: Mutation de support de transmission pour une NODE B | S6: 41744.722 | T6: 41753.375 | U6: 41753.708 | V6: 0.5 | W6: 41753.628 | X6: 41753.708 | Y6: 1.9269444 | Z6: TDF | AA6: Terminée | AB6: Approuvée | AC6: Echec | AD6: 04346464 | AE6: NON RENSEIGNE | AF6: RAR | AG6: MTZ | AH6: TDF | AI6: ADM | AJ6: 0472614811, | AK6: UTRAN | AL6: Lien shynchro en défaut ticket C13048264 | AM6: Défaut matériel / Panne resp SFR
A7: =IF($B7="2005","Hors PRODEP",IF(LEFT($Q7,2)="20","BASTIA",VLOOKUP($B7,Légendes!$B:$C,2,0))) -> Hors PRODEP | B7: =IF(ISERROR(VLOOKUP($L7,Légendes!$A:$B,2,0)),"2005",VLOOKUP($L7,Légendes!$A:$B,2,0)) -> 2005 | C7: =IF($AC7="","état final TP ?",IF($AC7<>"Echec",$AC7,IF(ISERROR(VLOOKUP($AM7,Légendes!$E:$F,2,0)),"A statuer",CONCATENATE("échec resp ",VLOOKUP($AM7,Légendes!$E:$F,2,0))))) -> échec resp SFR | E7: =IF($W7="","",$W7) -> 41757.376 | F7: =IF($G7="","",CONCATENATE("S",WEEKNUM($G7))) -> S18 | G7: =IF($W7="","",INT($W7)) -> 41757 | H7: =RIGHT($AD7,7) -> 4357683 | I7: MOZART/MCO/DOS/S-O/DALKIA | J7: 404546 | K7: SFR-404546-14042288 | M7: BALMA ZI 2 | N7: MES_NODEB | O7: GTOU Vincent Boizard | P7: pierre.moulager@sfr.com | Q7: 312208 | R7: MES NodeB U2100 312208 | S7: 41751.665 | T7: 41757.333 | U7: 41757.583 | V7: 0 | W7: 41757.376 | X7: 41757.668 | Y7: 7.0036111 | Z7: DALKIA | AA7: Terminée | AB7: Approuvée | AC7: Echec | AD7: 04357683 | AE7: OMCHwaSingleRan1 | AF7: RAR | AG7: TOU | AH7: DALKIA | AI7: ADM | AJ7: 0437422035, | AK7: UTRAN | AL7: Pas de CI sur les bases de données. | AM7: Défaut Outils
A8: =IF($B8="2005","Hors PRODEP",IF(LEFT($Q8,2)="20","BASTIA",VLOOKUP($B8,Légendes!$B:$C,2,0))) -> Hors PRODEP | B8: =IF(ISERROR(VLOOKUP($L8,Légendes!$A:$B,2,0)),"2005",VLOOKUP($L8,Légendes!$A:$B,2,0)) -> 2005 | C8: =IF($AC8="","état final TP ?",IF($AC8<>"Echec",$AC8,IF(ISERROR(VLOOKUP($AM8,Légendes!$E:$F,2,0)),"A statuer",CONCATENATE("échec resp ",VLOOKUP($AM8,Légendes!$E:$F,2,0))))) -> échec resp SFR | E8: =IF($W8="","",$W8) -> 41757.375 | F8: =IF($G8="","",CONCATENATE("S",WEEKNUM($G8))) -> S18 | G8: =IF($W8="","",INT($W8)) -> 41757 | H8: =RIGHT($AD8,7) -> 4357682 | I8: MOZART/MCO/DOS/S-O/DALKIA | J8: 404547 | K8: SFR-404547-14042287 | M8: BALMA ZI 2 | N8: MES_NODEB | O8: GTOU Vincent Boizard | P8: pierre.moulager@sfr.com | Q8: 312208 | R8: MES NodeB U900 312208 | S8: 41751.665 | T8: 41757.333 | U8: 41757.583 | V8: 0 | W8: 41757.375 | X8: 41757.667 | Y8: 7.0061111 | Z8: DALKIA | AA8: Terminée | AB8: Approuvée | AC8: Echec | AD8: 04357682 | AE8: OMCHwaSingleRan1 | AF8: RAR | AG8: TOU | AH8: DALKIA | AI8: ADM | AJ8: 0437422035, | AK8: UTRAN | AL8: Pas CI sur les bases de données. | AM8: Défaut Outils
A9: =IF($B9="2005","Hors PRODEP",IF(LEFT($Q9,2)="20","BASTIA",VLOOKUP($B9,Légendes!$B:$C,2,0))) -> MOBILCOM | B9: =IF(ISERROR(VLOOKUP($L9,Légendes!$A:$B,2,0)),"2005",VLOOKUP($L9,Légendes!$A:$B,2,0)) -> R13-020 | C9: =IF($AC9="","état final TP ?",IF($AC9<>"Echec",$AC9,IF(ISERROR(VLOOKUP($AM9,Légendes!$E:$F,2,0)),"A statuer",CONCATENATE("échec resp ",VLOOKUP($AM9,Légendes!$E:$F,2,0))))) -> échec resp SFR | E9: =IF($W9="","",$W9) -> 41751.452 | F9: =IF($G9="","",CONCATENATE("S",WEEKNUM($G9))) -> S17 | G9: =IF($W9="","",INT($W9)) -> 41751 | H9: =RIGHT($AD9,7) -> 4345341 | I9: RAR/MOE/DPL/C-E/VINCI ENERGIE | J9: 955439 | K9: SFR-955439-14041687 | L9: R13-020 | M9: FONTANIL CORNILLON | N9: CHANGEMENT_FOURNISSEUR_BTS | O9: GMOB_GMENU | P9: didier.chapuis@sfr.fr | Q9: 380149 | R9: Changement de fournisseur BTS | S9: 41744.617 | T9: 41751.375 | U9: 41751.5 | V9: 5 | W9: 41751.452 | X9: 41751.671 | Y9: 5.2677778 | Z9: GRANIOU | AA9: Terminée | AB9: Approuvée | AC9: Echec | AD9: 04345341 | AE9: RC3-2G | AF9: RAR | AG9: LYO | AH9: GRANIOU | AI9: TERRAIN | AJ9: 0624029209, | AK9: BSS | AL9: Trans :NOK (lien remote alarm ) | AM9: Terminée par pilote : Défaut de lien / Resp SFR
A10: =IF($B10="2005","Hors PRODEP",IF(LEFT($Q10,2)="20","BASTIA",VLOOKUP($B10,Légendes!$B:$C,2,0))) -> MOBILCOM | B10: =IF(ISERROR(VLOOKUP($L10,Légendes!$A:$B,2,0)),"2005",VLOOKUP($L10,Légendes!$A:$B,2,0)) -> R13-020 | C10: =IF($AC10="","état final TP ?",IF($AC10<>"Echec",$AC10,IF(ISERROR(VLOOKUP($AM10,Légendes!$E:$F,2,0)),"A statuer",CONCATENATE("échec resp ",VLOOKUP($AM10,Légendes!$E:$F,2,0))))) -> échec resp SFR | E10: =IF($W10="","",$W10) -> 41751.452 | F10: =IF($G10="","",CONCATENATE("S",WEEKNUM($G10))) -> S17 | G10: =IF($W10="","",INT($W10)) -> 41751 | H10: =RIGHT($AD10,7) -> 4345342 | I10: RAR/MOE/DPL/C-E/VINCI ENERGIE | J10: 955439 | K10: SFR-955439-14041687 | L10: R13-020 | M10: FONTANIL CORNILLON | N10: CHANGEMENT_FOURNISSEUR_NB | O10: GMOB_GMENU | P10: didier.chapuis@sfr.fr | Q10: 380149 | R10: Changement de fournisse NB | S10: 41744.617 | T10: 41752.375 | U10: 41752.5 | V10: 5 | W10: 41751.452 | X10: 41752.87 | Y10: 34.046389 | Z10: GRANIOU | AA10: Terminée | AB10: Approuvée | AC10: Echec | AD10: 04345342 | AE10: RC3-3G | AF10: RAR | AG10: LYO | AH10: GRANIOU | AI10: TERRAIN | AJ10: 0624029209, | AK10: UTRAN | AL10: Retour arrière cause trans Tibco NOK. Pb sur OMC NSN RC3 => impossible de vérifier l'état de la baie 3G post retour arrière (baie probablement lockée) | AM10: Défaut de lien / Resp SFR
A11: =IF($B11="2005","Hors PRODEP",IF(LEFT($Q11,2)="20","BASTIA",VLOOKUP($B11,Légendes!$B:$C,2,0))) -> MOBILCOM | B11: =IF(ISERROR(VLOOKUP($L11,Légendes!$A:$B,2,0)),"2005",VLOOKUP($L11,Légendes!$A:$B,2,0)) -> R13-020 | C11: =IF($AC11="","état final TP ?",IF($AC11<>"Echec",$AC11,IF(ISERROR(VLOOKUP($AM11,Légendes!$E:$F,2,0)),"A statuer",CONCATENATE("échec resp ",VLOOKUP($AM11,Légendes!$E:$F,2,0))))) -> échec resp SFR | E11: =IF($W11="","",$W11) -> 41751.452 | F11: =IF($G11="","",CONCATENATE("S",WEEKNUM($G11))) -> S17 | G11: =IF($W11="","",INT($W11)) -> 41751 | H11: =RIGHT($AD11,7) -> 4345342 | I11: RAR/MOE/DPL/C-E/VINCI ENERGIE | J11: 955439 | K11: SFR-955439-14041687 | L11: R13-020 | M11: FONTANIL CORNILLON | N11: CHANGEMENT_FOURNISSEUR_NB | O11: GMOB_GMENU | P11: didier.chapuis@sfr.fr | Q11: 380149 | R11: Changement de fournisse NB | S11: 41744.617 | T11: 41752.375 | U11: 41752.5 | V11: 5 | W11: 41751.452 | X11: 41752.87 | Y11: 34.046389 | Z11: GRANIOU | AA11: Terminée | AB11: Approuvée | AC11: Echec | AD11: 04345342 | AE11: RC3-3G | AF11: RAR | AG11: LYO | AH11: GRANIOU | AI11: TERRAIN | AJ11: 0624029209, | AK11: UTRAN | AL11: Retour arrière cause trans Tibco NOK. Pb sur OMC NSN RC3 => impossible de vérifier l'état de la baie 3G post retour arrière (baie probablement lockée) | AM11: Terminée par pilote : Défaut matériel / Panne resp SFR
A12: =IF($B12="2005","Hors PRODEP",IF(LEFT($Q12,2)="20","BASTIA",VLOOKUP($B12,Légendes!$B:$C,2,0))) -> MOBILCOM | B12: =IF(ISERROR(VLOOKUP($L12,Légendes!$A:$B,2,0)),"2005",VLOOKUP($L12,Légendes!$A:$B,2,0)) -> R13-131 | C12: =IF($AC12="","état final TP ?",IF($AC12<>"Echec",$AC12,IF(ISERROR(VLOOKUP($AM12,Légendes!$E:$F,2,0)),"A statuer",CONCATENATE("échec resp ",VLOOKUP($AM12,Légendes!$E:$F,2,0))))) -> échec resp SFR | E12: =IF($W12="","",$W12) -> 41754.454 | F12: =IF($G12="","",CONCATENATE("S",WEEKNUM($G12))) -> S17 | G12: =IF($W12="","",INT($W12)) -> 41754 | H12: =RIGHT($AD12,7) -> 4345102 | I12: RAR/MOE/DPL/C-E/VINCI ENERGIE | J12: 966038 | K12: SFR-966038-14041654 | L12: R13-131 | M12: MELLECEY | N12: CREATION_MUTATION_SUR_SUPPORT_IP_OU_ATM_AVEC_COUPURE | O12: GMOB-PGIROUD | P12: stephane.wallois@sfr.com | Q12: 710291 | R12: Création-Mutation sur support IP ou ATM avec coupure | S12: 41744.596 | T12: 41754.417 | U12: 41754.583 | V12: 4 | W12: 41754.454 | X12: 41754.539 | Y12: 2.0375 | Z12: GRANIOU | AA12: Terminée | AB12: Approuvée | AC12: Echec | AD12: 04345102 | AE12: OMCHwaSingleRan1 | AF12: RAR | AG12: LYO | AH12: GRANIOU | AI12: TERRAIN | AJ12: 0611934116, | AK12: BSS | AL12: Boucle RSTP non conforme sur le site 710018. Ports LAN fermés sur 2 éléments de la boucle. Ticket Clarify C13053181 | AM12: Terminée par pilote : Défaut matériel / Panne resp SFR
A13: =IF($B13="2005","Hors PRODEP",IF(LEFT($Q13,2)="20","BASTIA",VLOOKUP($B13,Légendes!$B:$C,2,0))) -> BASTIA | B13: =IF(ISERROR(VLOOKUP($L13,Légendes!$A:$B,2,0)),"2005",VLOOKUP($L13,Légendes!$A:$B,2,0)) -> R13-073 | C13: =IF($AC13="","état final TP ?",IF($AC13<>"Echec",$AC13,IF(ISERROR(VLOOKUP($AM13,Légendes!$E:$F,2,0)),"A statuer",CONCATENATE("échec resp ",VLOOKUP($AM13,Légendes!$E:$F,2,0))))) -> échec resp MOE | E13: =IF($W13="","",$W13) -> 41795.48 | F13: =IF($G13="","",CONCATENATE("S",WEEKNUM($G13))) -> S23 | G13: =IF($W13="","",INT($W13)) -> 41795 | H13: =RIGHT($AD13,7) -> 4432218 | I13: RAR/MOE/DPL/VINCI | K13: SFR-545789-14052807 | L13: R13-073 | M13: ALATA CASTAGNOLA | N13: AJOUT_CHANGEMENT_CARTE_NODEB | O13: GBAS_CFERRASSE | P13: herve.ruellan@sfr.com | Q13: 200466 | R13: Ajout ou Remplacement de carte | S13: 41787.723 | T13: 41795.333 | U13: 41795.583 | V13: 1 | W13: 41795.48 | X13: 41795.514 | Y13: 0.82694444 | Z13: GRANIOU_CA | AA13: Terminée | AB13: Approuvée | AC13: Echec | AD13: 04432218 | AE13: RC1-3G | AF13: RAR | AG13: AIX | AH13: GRANIOU_CA | AI13: ADM | AJ13: 0426489286, | AK13: UTRAN | AL13: Soft de la carte manquant en local | AM13: Défaut matériel / Absent
A14: =IF($B14="2005","Hors PRODEP",IF(LEFT($Q14,2)="20","BASTIA",VLOOKUP($B14,Légendes!$B:$C,2,0))) -> BASTIA | B14: =IF(ISERROR(VLOOKUP($L14,Légendes!$A:$B,2,0)),"2005",VLOOKUP($L14,Légendes!$A:$B,2,0)) -> R13-073 | C14: =IF($AC14="","état final TP ?",IF($AC14<>"Echec",$AC14,IF(ISERROR(VLOOKUP($AM14,Légendes!$E:$F,2,0)),"A statuer",CONCATENATE("échec resp ",VLOOKUP($AM14,Légendes!$E:$F,2,0))))) -> échec resp MOE | E14: =IF($W14="","",$W14) -> 41795.48 | F14: =IF($G14="","",CONCATENATE("S",WEEKNUM($G14))) -> S23 | G14: =IF($W14="","",INT($W14)) -> 41795 | H14: =RIGHT($AD14,7) -> 4432218 | I14: RAR/MOE/DPL/VINCI | K14: SFR-545789-14052807 | L14: R13-073 | M14: ALATA CASTAGNOLA | N14: AJOUT_CHANGEMENT_CARTE_NODEB | O14: GBAS_CFERRASSE | P14: herve.ruellan@sfr.com | Q14: 200466 | R14: Ajout ou Remplacement de carte | S14: 41787.723 | T14: 41795.333 | U14: 41795.583 | V14: 1 | W14: 41795.48 | X14: 41795.514 | Y14: 0.82694444 | Z14: GRANIOU_CA | AA14: Terminée | AB14: Approuvée | AC14: Echec | AD14: 04432218 | AE14: RC1-3G | AF14: RAR | AG14: AIX | AH14: GRANIOU_CA | AI14: ADM | AJ14: 0426489286, | AK14: UTRAN | AL14: Soft de la carte manquant en local | AM14: Replanification
A15: =IF($B15="2005","Hors PRODEP",IF(LEFT($Q15,2)="20","BASTIA",VLOOKUP($B15,Légendes!$B:$C,2,0))) -> OUEST | B15: =IF(ISERROR(VLOOKUP($L15,Légendes!$A:$B,2,0)),"2005",VLOOKUP($L15,Légendes!$A:$B,2,0)) -> R13-072 | C15: =IF($AC15="","état final TP ?",IF($AC15<>"Echec",$AC15,IF(ISERROR(VLOOKUP($AM15,Légendes!$E:$F,2,0)),"A statuer",CONCATENATE("échec resp ",VLOOKUP($AM15,Légendes!$E:$F,2,0))))) -> échec resp MOE | E15: =IF($W15="","",$W15) -> 41795.542 | F15: =IF($G15="","",CONCATENATE("S",WEEKNUM($G15))) -> S23 | G15: =IF($W15="","",INT($W15)) -> 41795 | H15: =RIGHT($AD15,7) -> 4427106 | I15: RAR/MOE/DPL/VINCI | K15: SFR-568949-14052490 | L15: R13-072 | M15: ST VITTE | N15: AJOUT_DIMINUTION_CAPA_IUB | O15: GVDL_VJODET | P15: christophe.guillemot@sfr.com | Q15: 180016 | R15: Ajout - Diminution de capacité lu B - n° CS 159542 | S15: 41786.658 | T15: 41795.583 | U15: 41795.75 | V15: 2 | W15: 41795.542 | X15: 41795.731 | Y15: 4.5461111 | Z15: GRANIOU_CA | AA15: Terminée | AB15: Approuvée | AC15: Echec | AD15: 04427106 | AE15: urcmsal1 | AF15: RAR | AG15: NAN | AH15: GRANIOU_CA | AI15: ADM | AJ15: 0427401054, | AK15: UTRAN | AL15: Fax d'accès sur le site intermédiaire 180014 (Chateau d'eau) non envoyé par SFR dans les délais la compagnie des eaux refuse de fournir l'accès. | AM15: Défaut d'accès / Bailleur
A16: =IF($B16="2005","Hors PRODEP",IF(LEFT($Q16,2)="20","BASTIA",VLOOKUP($B16,Légendes!$B:$C,2,0))) -> INFRACOM | B16: =IF(ISERROR(VLOOKUP($L16,Légendes!$A:$B,2,0)),"2005",VLOOKUP($L16,Légendes!$A:$B,2,0)) -> R13-010 | C16: =IF($AC16="","état final TP ?",IF($AC16<>"Echec",$AC16,IF(ISERROR(VLOOKUP($AM16,Légendes!$E:$F,2,0)),"A statuer",CONCATENATE("échec resp ",VLOOKUP($AM16,Légendes!$E:$F,2,0))))) -> échec resp MOE | E16: =IF($W16="","",$W16) -> 41792.504 | F16: =IF($G16="","",CONCATENATE("S",WEEKNUM($G16))) -> S23 | G16: =IF($W16="","",INT($W16)) -> 41792 | H16: =RIGHT($AD16,7) -> 4427209 | I16: RAR/MOE/DPL/VINCI | K16: SFR-LTE-plaque-14052491 | L16: R13-010 | M16: PARIS(RUE DU SERGENT) | N16: INTEGRATION_MES_4_EME_PORTEUSE_NSN | O16: GINF_SPERVEAUX | P16: xavier.christophe.prestataire@sfr.com | Q16: 750474 | R16: (LTE) U2100 - Intégration et mise en service d'une 4ème porteuse 3G | S16: 41786.661 | T16: 41792.375 | U16: 41792.667 | V16: 4 | W16: 41792.504 | X16: 41792.704 | Y16: 4.8047222 | Z16: GRANIOU_CA | AA16: Terminée | AB16: Approuvée | AC16: Echec | AD16: 04427209 | AE16: RC4 | AF16: RAR | AG16: PAR | AH16: GRANIOU_CA | AI16: ADM | AJ16: 0427401057, | AK16: UTRAN | AL16: Défaut ROS --> module FAGB à remplacer. | AM16: Défaut matériel / Aériens
A17: =IF($B17="2005","Hors PRODEP",IF(LEFT($Q17,2)="20","BASTIA",VLOOKUP($B17,Légendes!$B:$C,2,0))) -> Hors PRODEP | B17: =IF(ISERROR(VLOOKUP($L17,Légendes!$A:$B,2,0)),"2005",VLOOKUP($L17,Légendes!$A:$B,2,0)) -> 2005 | C17: =IF($AC17="","état final TP ?",IF($AC17<>"Echec",$AC17,IF(ISERROR(VLOOKUP($AM17,Légendes!$E:$F,2,0)),"A statuer",CONCATENATE("échec resp ",VLOOKUP($AM17,Légendes!$E:$F,2,0))))) -> échec resp SFR | E17: =IF($W17="","",$W17) -> 41794.732 | F17: =IF($G17="","",CONCATENATE("S",WEEKNUM($G17))) -> S23 | G17: =IF($W17="","",INT($W17)) -> 41794 | H17: =RIGHT($AD17,7) -> 4420265 | I17: TRANS/MOE/DPL/TIBCO | K17: SFR-375526-14052148 | L17: AUTRES | M17: MENTON CAREI | N17: MUTATION_NODEB_SUPPORT_TRANS_FH_FHP | O17: GNIC_PCUVELIER | P17: christophe.martin@davidson.fr | Q17: 060603 | R17: Mutation NodeB sur FH paquet | S17: 41785.428 | T17: 41794.458 | U17: 41794.5 | V17: 0.5 | W17: 41794.732 | X17: 41794.732 | Y17: 0.0013888889 | Z17: TIBCO | AA17: Terminée | AB17: Approuvée | AC17: Echec | AD17: 04420265 | AE17: RC1-3G | AF17: RAR | AG17: AIX | AH17: TIBCO | AI17: ADM2 | AJ17: 0472095937, | AK17: UTRAN | AL17: Indisponibilité du RM 1354 chez TIBCO pour finir les mutations dans le 06. Site n'est pas impacté. | AM17: Terminée par pilote : Défaut Outils
A18: =IF($B18="2005","Hors PRODEP",IF(LEFT($Q18,2)="20","BASTIA",VLOOKUP($B18,Légendes!$B:$C,2,0))) -> Hors PRODEP | B18: =IF(ISERROR(VLOOKUP($L18,Légendes!$A:$B,2,0)),"2005",VLOOKUP($L18,Légendes!$A:$B,2,0)) -> 2005 | C18: =IF($AC18="","état final TP ?",IF($AC18<>"Echec",$AC18,IF(ISERROR(VLOOKUP($AM18,Légendes!$E:$F,2,0)),"A statuer",CONCATENATE("échec resp ",VLOOKUP($AM18,Légendes!$E:$F,2,0))))) -> échec resp SFR | E18: =IF($W18="","",$W18) -> 41794.733 | F18: =IF($G18="","",CONCATENATE("S",WEEKNUM($G18))) -> S23 | G18: =IF($W18="","",INT($W18)) -> 41794 | H18: =RIGHT($AD18,7) -> 4420256 | I18: TRANS/MOE/DPL/TIBCO | K18: SFR-375526-14052148 | L18: AUTRES | M18: MENTON CENTRE | N18: MUTATION_BTS_SUPPORT_TRANS_FH_FHP | O18: GNIC_PCUVELIER | P18: christophe.martin@davidson.fr | Q18: 060042 | R18: Mutation BTS sur FH paquet | S18: 41785.428 | T18: 41794.458 | U18: 41794.5 | V18: 0.5 | W18: 41794.733 | X18: 41794.733 | Y18: 0.0011111111 | Z18: TIBCO | AA18: Terminée | AB18: Approuvée | AC18: Echec | AD18: 04420256 | AE18: RC2-2G | AF18: RAR | AG18: AIX | AH18: TIBCO | AI18: ADM2 | AJ18: 0472095937, | AK18: BSS | AL18: Indisponibilité du RM 1354 chez TIBCO pour finir les mutations dans le 06. | AM18: Terminée par pilote : Défaut Outils
A19: =IF($B19="2005","Hors PRODEP",IF(LEFT($Q19,2)="20","BASTIA",VLOOKUP($B19,Légendes!$B:$C,2,0))) -> Hors PRODEP | B19: =IF(ISERROR(VLOOKUP($L19,Légendes!$A:$B,2,0)),"2005",VLOOKUP($L19,Légendes!$A:$B,2,0)) -> 2005 | C19: =IF($AC19="","état final TP ?",IF($AC19<>"Echec",$AC19,IF(ISERROR(VLOOKUP($AM19,Légendes!$E:$F,2,0)),"A statuer",CONCATENATE("échec resp ",VLOOKUP($AM19,Légendes!$E:$F,2,0))))) -> échec resp SFR | E19: =IF($W19="","",$W19) -> 41794.734 | F19: =IF($G19="","",CONCATENATE("S",WEEKNUM($G19))) -> S23 | G19: =IF($W19="","",INT($W19)) -> 41794 | H19: =RIGHT($AD19,7) -> 4420257 | I19: TRANS/MOE/DPL/TIBCO | K19: SFR-375526-14052148 | L19: AUTRES | M19: MENTON CENTRE PORT | N19: MUTATION_BTS_SUPPORT_TRANS_FH_FHP | O19: GNIC_PCUVELIER | P19: christophe.martin@davidson.fr | Q19: 060168 | R19: Mutation BTS sur FH paquet | S19: 41785.428 | T19: 41794.458 | U19: 41794.5 | V19: 0.5 | W19: 41794.734 | X19: 41794.734 | Y19: 0.0011111111 | Z19: TIBCO | AA19: Terminée | AB19: Approuvée | AC19: Echec | AD19: 04420257 | AE19: RC2-2G | AF19: RAR | AG19: AIX | AH19: TIBCO | AI19: ADM2 | AJ19: 0472095937, | AK19: BSS | AL19: Indisponibilité du RM 1354 chez TIBCO pour finir les mutations dans le 06. Le site n'est pas impacté. | AM19: Terminée par pilote : Défaut Outils
A20: =IF($B20="2005","Hors PRODEP",IF(LEFT($Q20,2)="20","BASTIA",VLOOKUP($B20,Légendes!$B:$C,2,0))) -> Hors PRODEP | B20: =IF(ISERROR(VLOOKUP($L20,Légendes!$A:$B,2,0)),"2005",VLOOKUP($L20,Légendes!$A:$B,2,0)) -> 2005 | C20: =IF($AC20="","état final TP ?",IF($AC20<>"Echec",$AC20,IF(ISERROR(VLOOKUP($AM20,Légendes!$E:$F,2,0)),"A statuer",CONCATENATE("échec resp ",VLOOKUP($AM20,Légendes!$E:$F,2,0))))) -> échec resp SFR | E20: =IF($W20="","",$W20) -> 41794.676 | F20: =IF($G20="","",CONCATENATE("S",WEEKNUM($G20))) -> S23 | G20: =IF($W20="","",INT($W20)) -> 41794 | H20: =RIGHT($AD20,7) -> 4420258 | I20: TRANS/MOE/DPL/TIBCO | K20: SFR-375526-14052148 | L20: AUTRES | M20: MENTON RIGAUDI | N20: MUTATION_BTS_SUPPORT_TRANS_FH_FHP | O20: GNIC_PCUVELIER | P20: christophe.martin@davidson.fr | Q20: 060602 | R20: Mutation BTS sur FH paquet | S20: 41785.428 | T20: 41794.458 | U20: 41794.5 | V20: 0.5 | W20: 41794.676 | X20: 41794.719 | Y20: 1.0294444 | Z20: TIBCO | AA20: Terminée | AB20: Approuvée | AC20: Echec | AD20: 04420258 | AE20: RC2-2G | AF20: RAR | AG20: AIX | AH20: TIBCO | AI20: ADM2 | AJ20: 0472095937, | AK20: BSS | AL20: Indisponibilité du RM 1354 chez TIBCO pour finir les mutations dans le 06. | AM20: Terminée par pilote : Défaut Outils
A21: =IF($B21="2005","Hors PRODEP",IF(LEFT($Q21,2)="20","BASTIA",VLOOKUP($B21,Légendes!$B:$C,2,0))) -> Hors PRODEP | B21: =IF(ISERROR(VLOOKUP($L21,Légendes!$A:$B,2,0)),"2005",VLOOKUP($L21,Légendes!$A:$B,2,0)) -> 2005 | C21: =IF($AC21="","état final TP ?",IF($AC21<>"Echec",$AC21,IF(ISERROR(VLOOKUP($AM21,Légendes!$E:$F,2,0)),"A statuer",CONCATENATE("échec resp ",VLOOKUP($AM21,Légendes!$E:$F,2,0))))) -> échec resp SFR | E21: =IF($W21="","",$W21) -> 41794.733 | F21: =IF($G21="","",CONCATENATE("S",WEEKNUM($G21))) -> S23 | G21: =IF($W21="","",INT($W21)) -> 41794 | H21: =RIGHT($AD21,7) -> 4420264 | I21: TRANS/MOE/DPL/TIBCO | K21: SFR-375526-14052148 | L21: AUTRES | M21: MENTON RIGAUDI | N21: MUTATION_NODEB_SUPPORT_TRANS_FH_FHP | O21: GNIC_PCUVELIER | P21: christophe.martin@davidson.fr | Q21: 060602 | R21: Mutation NodeB sur FH paquet | S21: 41785.428 | T21: 41794.458 | U21: 41794.5 | V21: 0.5 | W21: 41794.733 | X21: 41794.733 | Y21: 0.0013888889 | Z21: TIBCO | AA21: Terminée | AB21: Approuvée | AC21: Echec | AD21: 04420264 | AE21: RC1-3G | AF21: RAR | AG21: AIX | AH21: TIBCO | AI21: ADM2 | AJ21: 0472095937, | AK21: UTRAN | AL21: Indisponibilité du RM 1354 chez TIBCO pour finir les mutations dans le 06. | AM21: Terminée par pilote : Défaut Outils
A22: =IF($B22="2005","Hors PRODEP",IF(LEFT($Q22,2)="20","BASTIA",VLOOKUP($B22,Légendes!$B:$C,2,0))) -> Hors PRODEP | B22: =IF(ISERROR(VLOOKUP($L22,Légendes!$A:$B,2,0)),"2005",VLOOKUP($L22,Légendes!$A:$B,2,0)) -> 2005 | C22: =IF($AC22="","état final TP ?",IF($AC22<>"Echec",$AC22,IF(ISERROR(VLOOKUP($AM22,Légendes!$E:$F,2,0)),"A statuer",CONCATENATE("échec resp ",VLOOKUP($AM22,Légendes!$E:$F,2,0))))) -> échec resp SFR | E22: =IF($W22="","",$W22) -> 41792.375 | F22: =IF($G22="","",CONCATENATE("S",WEEKNUM($G22))) -> S23 | G22: =IF($W22="","",INT($W22)) -> 41792 | H22: =RIGHT($AD22,7) -> 4424174 | I22: TRANS/MOE/DPL/TIBCO | K22: SFR-389987-14052317 | L22: Autre | M22: PLEURTUIT | N22: MUTATION_NODEB_SUPPORT_TRANSMISSION | O22: GNAN_LEGONIDEC | P22: taous.mezdad.prestataire@sfr.com | Q22: 350106 | R22: Mutation de support transmission UMTS | S22: 41786.428 | T22: 41792.375 | U22: 41792.708 | V22: 0.5 | W22: 41792.375 | X22: 41792.708 | Y22: 8 | Z22: TIBCO | AA22: Terminée | AB22: Approuvée | AC22: Echec | AD22: 04424174 | AE22: urcmsal1 | AF22: RAR | AG22: NAN | AH22: TIBCO | AI22: ADM2 | AJ22: 0472095928, | AK22: UTRAN | AL22: PB sur l'Aviat Ouest. Ticket FSC C13230459 | AM22: Terminée par pilote : Défaut Outils
A23: =IF($B23="2005","Hors PRODEP",IF(LEFT($Q23,2)="20","BASTIA",VLOOKUP($B23,Légendes!$B:$C,2,0))) -> Hors PRODEP | B23: =IF(ISERROR(VLOOKUP($L23,Légendes!$A:$B,2,0)),"2005",VLOOKUP($L23,Légendes!$A:$B,2,0)) -> 2005 | C23: =IF($AC23="","état final TP ?",IF($AC23<>"Echec",$AC23,IF(ISERROR(VLOOKUP($AM23,Légendes!$E:$F,2,0)),"A statuer",CONCATENATE("échec resp ",VLOOKUP($AM23,Légendes!$E:$F,2,0))))) -> échec resp SFR | E23: =IF($W23="","",$W23) -> 41792.375 | F23: =IF($G23="","",CONCATENATE("S",WEEKNUM($G23))) -> S23 | G23: =IF($W23="","",INT($W23)) -> 41792 | H23: =RIGHT($AD23,7) -> 4424175 | I23: TRANS/MOE/DPL/TIBCO | K23: SFR-389987-14052317 | L23: Autre | M23: ST-COULOMB TDF | N23: MUTATION_NODEB_SUPPORT_TRANSMISSION | O23: GNAN_LEGONIDEC | P23: taous.mezdad.prestataire@sfr.com | Q23: 350630 | R23: Mutation de support transmission UMTS | S23: 41786.428 | T23: 41792.375 | U23: 41792.708 | V23: 0.5 | W23: 41792.375 | X23: 41792.708 | Y23: 8 | Z23: TIBCO | AA23: Terminée | AB23: Approuvée | AC23: Echec | AD23: 04424175 | AE23: urcmsal1 | AF23: RAR | AG23: NAN | AH23: TIBCO | AI23: ADM2 | AJ23: 0472095928, | AK23: UTRAN | AL23: PB sur l'Aviat Ouest. Ticket FSC C13230459 | AM23: Terminée par pilote : Défaut Outils
A24: =IF($B24="2005","Hors PRODEP",IF(LEFT($Q24,2)="20","BASTIA",VLOOKUP($B24,Légendes!$B:$C,2,0))) -> MOBILCOM | B24: =IF(ISERROR(VLOOKUP($L24,Légendes!$A:$B,2,0)),"2005",VLOOKUP($L24,Légendes!$A:$B,2,0)) -> R13-039 | C24: =IF($AC24="","état final TP ?",IF($AC24<>"Echec",$AC24,IF(ISERROR(VLOOKUP($AM24,Légendes!$E:$F,2,0)),"A statuer",CONCATENATE("échec resp ",VLOOKUP($AM24,Légendes!$E:$F,2,0))))) -> Abandonnée | E24: =IF($W24="","",$W24) | F24: =IF($G24="","",CONCATENATE("S",WEEKNUM($G24))) | G24: =IF($W24="","",INT($W24)) | H24: =RIGHT($AD24,7) -> 4429133 | I24: TRANS/MOE/DPL/TIBCO | K24: SFR-403170-14052625 | L24: BFA-039 | M24: VERNET LA VARENNE | N24: MUTATION_BTS_SUPPORT_TRANSMISSION | O24: GMOB-EBOURGIN | P24: stephane.wallois@sfr.com | Q24: 630817 | R24: Mutation LTS 124009-001/002/003 => LTS 158879-007/008/009 | S24: 41787.364 | T24: 41793.583 | U24: 41793.604 | V24: 0.5 | Z24: TIBCO | AA24: Terminée | AC24: Abandonnée | AD24: 04429133 | AE24: OMCHwaSingleRan1 | AF24: RAR | AG24: LYO | AH24: TIBCO | AI24: ADM2 | AJ24: 0472095937, | AK24: BSS | AM24: Abandon
A25: =IF($B25="2005","Hors PRODEP",IF(LEFT($Q25,2)="20","BASTIA",VLOOKUP($B25,Légendes!$B:$C,2,0))) -> MOBILCOM | B25: =IF(ISERROR(VLOOKUP($L25,Légendes!$A:$B,2,0)),"2005",VLOOKUP($L25,Légendes!$A:$B,2,0)) -> R13-039 | C25: =IF($AC25="","état final TP ?",IF($AC25<>"Echec",$AC25,IF(ISERROR(VLOOKUP($AM25,Légendes!$E:$F,2,0)),"A statuer",CONCATENATE("échec resp ",VLOOKUP($AM25,Légendes!$E:$F,2,0))))) -> Abandonnée | E25: =IF($W25="","",$W25) | F25: =IF($G25="","",CONCATENATE("S",WEEKNUM($G25))) | G25: =IF($W25="","",INT($W25)) | H25: =RIGHT($AD25,7) -> 4429134 | I25: TRANS/MOE/DPL/TIBCO | K25: SFR-403170-14052625 | L25: BFA-039 | M25: VERNET LA VARENNE | N25: MUTATION_NODEB_SUPPORT_TRANSMISSION | O25: GMOB-EBOURGIN | P25: stephane.wallois@sfr.com | Q25: 630817 | R25: Mutation LTS 124009-001/002/003 => LTS 158879-007/008/009 | S25: 41787.364 | T25: 41793.604 | U25: 41793.625 | V25: 0.5 | Z25: TIBCO | AA25: Terminée | AC25: Abandonnée | AD25: 04429134 | AE25: OMCHwaSingleRan1 | AF25: RAR | AG25: LYO | AH25: TIBCO | AI25: ADM2 | AJ25: 0472095937, | AK25: UTRAN | AM25: Abandon
A26: =IF($B26="2005","Hors PRODEP",IF(LEFT($Q26,2)="20","BASTIA",VLOOKUP($B26,Légendes!$B:$C,2,0))) -> OUEST | B26: =IF(ISERROR(VLOOKUP($L26,Légendes!$A:$B,2,0)),"2005",VLOOKUP($L26,Légendes!$A:$B,2,0)) -> R13-049 | C26: =IF($AC26="","état final TP ?",IF($AC26<>"Echec",$AC26,IF(ISERROR(VLOOKUP($AM26,Légendes!$E:$F,2,0)),"A statuer",CONCATENATE("échec resp ",VLOOKUP($AM26,Légendes!$E:$F,2,0))))) -> A statuer | E26: =IF($W26="","",$W26) -> 41792.465 | F26: =IF($G26="","",CONCATENATE("S",WEEKNUM($G26))) -> S23 | G26: =IF($W26="","",INT($W26)) -> 41792 | H26: =RIGHT($AD26,7) -> 4424164 | I26: TRANS/MOE/DPL/TIBCO | K26: SFR-525976-14052320 | L26: R13-049 | M26: NEANT SUR YVEL | N26: MUTATION_BTS_SUPPORT_TRANSMISSION | O26: GNAN_LEGONIDEC | P26: christophe.guillemot@sfr.com | Q26: 560041 | R26: Mutation de support transmission DCS1 | S26: 41786.428 | T26: 41792.375 | U26: 41792.708 | V26: 0.5 | W26: 41792.465 | X26: 41792.697 | Y26: 5.5636111 | Z26: TIBCO | AA26: Terminée | AB26: Approuvée | AC26: Echec | AD26: 04424164 | AE26: NTSomcA4 | AF26: RAR | AG26: NAN | AH26: TIBCO | AI26: ADM2 | AJ26: 0472095918, | AK26: BSS | AM26: Terminée par pilote : Défaut Pré-requis / Pb exploitation
A27: =IF($B27="2005","Hors PRODEP",IF(LEFT($Q27,2)="20","BASTIA",VLOOKUP($B27,Légendes!$B:$C,2,0))) -> OUEST | B27: =IF(ISERROR(VLOOKUP($L27,Légendes!$A:$B,2,0)),"2005",VLOOKUP($L27,Légendes!$A:$B,2,0)) -> R13-072 | C27: =IF($AC27="","état final TP ?",IF($AC27<>"Echec",$AC27,IF(ISERROR(VLOOKUP($AM27,Légendes!$E:$F,2,0)),"A statuer",CONCATENATE("échec resp ",VLOOKUP($AM27,Légendes!$E:$F,2,0))))) -> échec resp MOE | E27: =IF($W27="","",$W27) -> 41795.542 | F27: =IF($G27="","",CONCATENATE("S",WEEKNUM($G27))) -> S23 | G27: =IF($W27="","",INT($W27)) -> 41795 | H27: =RIGHT($AD27,7) -> 4427106 | I27: TRANS/MOE/DPL/TIBCO | K27: SFR-568949-14052490 | L27: R13-072 | M27: ST VITTE | N27: AJOUT_DIMINUTION_CAPA_IUB | O27: GVDL_VJODET | P27: christophe.guillemot@sfr.com | Q27: 180016 | R27: Ajout - Diminution de capacité lu B - n° CS 159542 | S27: 41786.658 | T27: 41795.583 | U27: 41795.75 | V27: 2 | W27: 41795.542 | X27: 41795.731 | Y27: 4.5461111 | Z27: TIBCO | AA27: Terminée | AB27: Approuvée | AC27: Echec | AD27: 04427106 | AE27: urcmsal1 | AF27: RAR | AG27: NAN | AH27: TIBCO | AI27: ADM2 | AJ27: HOTLINE, | AK27: UTRAN | AL27: Fax d'accès sur le site intermédiaire 180014 (Chateau d'eau) non envoyé par SFR dans les délais la compagnie des eaux refuse de fournir l'accès. | AM27: Terminée par pilote : Défaut d'accès / Bailleur
A28: =IF($B28="2005","Hors PRODEP",IF(LEFT($Q28,2)="20","BASTIA",VLOOKUP($B28,Légendes!$B:$C,2,0))) -> Hors PRODEP | B28: =IF(ISERROR(VLOOKUP($L28,Légendes!$A:$B,2,0)),"2005",VLOOKUP($L28,Légendes!$A:$B,2,0)) -> 2005 | C28: =IF($AC28="","état final TP ?",IF($AC28<>"Echec",$AC28,IF(ISERROR(VLOOKUP($AM28,Légendes!$E:$F,2,0)),"A statuer",CONCATENATE("échec resp ",VLOOKUP($AM28,Légendes!$E:$F,2,0))))) -> échec resp SFR | E28: =IF($W28="","",$W28) -> 41794.403 | F28: =IF($G28="","",CONCATENATE("S",WEEKNUM($G28))) -> S23 | G28: =IF($W28="","",INT($W28)) -> 41794 | H28: =RIGHT($AD28,7) -> 4432452 | I28: TRANS/MOE/DPL/TIBCO | L28: 309447 | M28: SISCO VILLAGE | N28: MUTATION_BTS_SUPPORT_TRANSMISSION | O28: GBAS_CFERRASSE | P28: christophe.martin@davidson.fr | Q28: 200620 | R28: Mutation de la F3G_200620_2 | S28: 41787.763 | T28: 41794.417 | U28: 41794.625 | V28: 0.5 | W28: 41794.403 | X28: 41794.5 | Y28: 2.3186111 | Z28: TIBCO | AA28: Terminée | AB28: Approuvée | AC28: Echec | AD28: 04432452 | AE28: RC1-3G | AF28: RAR | AG28: AIX | AH28: TIBCO | AI28: ADM2 | AJ28: , | AK28: UTRAN | AM28: Terminée par pilote : Défaut matériel / Panne resp SFR

Sheet Claims
I1: TOTAL | J1: => | K1: =SUBTOTAL(109,K4:K4) -> 80 | L1: =SUBTOTAL(109,L4:L4) -> 180 | M1: =SUBTOTAL(109,M4:M4) -> 260
B3: Entreprise GRANIOU | C3: N° G2R | D3: Nom G2R | E3: N° OT | F3: Type et nom du lot | G3: Nature opération en échec | H3: Date opération | I3: Nbre pers. | J3: Durée INTER (j) | K3: Part Entreprise | L3: Part CA | M3: Impact financier | N3: Famille échec | O3: Commentaires échec
B4: GRANIOU NICE | C4: 750199 | D4: PARIS (GA PER CLICHY) | E4: 526576 | F4: GEO IF2 Lot R13-046 | G4: DBT/DPT HORS DELAI | H4: 41628 | I4: =IF(ISERROR(VLOOKUP($G4,[1]Légendes!$A:$G,3,0)),"",IF($G4=[1]Légendes!$A$8,"",VLOOKUP($G4,[1]Légendes!$A:$G,3,0))) -> 1 | J4: =IF(ISERROR(VLOOKUP($G4,[1]Légendes!$A:$G,4,0)),"",IF($G4=[1]Légendes!$A$8,"",VLOOKUP($G4,[1]Légendes!$A:$G,4,0))) -> 1 | K4: =IF(ISERROR(VLOOKUP($G4,[1]Légendes!$A:$G,5,0)),"",IF($G4=[1]Légendes!$A$8,"",VLOOKUP($G4,[1]Légendes!$A:$G,5,0))) -> 80 | L4: =IF(ISERROR(VLOOKUP($G4,[1]Légendes!$A:$G,6,0)),"",IF($G4=[1]Légendes!$A$8,"",VLOOKUP($G4,[1]Légendes!$A:$G,6,0)*K4)) -> 180 | M4: =IF(ISERROR(VLOOKUP($G4,[1]Légendes!$A:$G,7,0)),"",IF($G4=[1]Légendes!$A$8,"",VLOOKUP($G4,[1]Légendes!$A:$G,7,0))) -> 260 | N4: Défaut ingénierie | O4: issu CLAIMS gel réseaux fin d'année

Sheet Légendes
A1: Réf projet | B1: LOT | C1: ENTREPRISE | E1: Cause ECHEC | F1: RESPONSABILITE | G1: Commentaires | H1: Périmètre d'utilisation | J1: NATURE OPERATION EN ECHEC | K1: Type intervention | L1: Nbre personne | M1: Durée | N1: Part Terrain | O1: Part CA | P1: Montant Total
A2: R13-006 | B2: R13-006 | C2: MEDITERR. | E2: Abandon | F2: MOE | J2: VISITE | K2: 1ère visite terrain (brique négo, IT) | L2: 2 | M2: 0.5 | N2: =810*M2*L2 -> 810 | O2: 0.1 | P2: =IF(O2="",N2,O2*N2+N2) -> 891
A3: R13-007 | B3: R13-007 | C3: MEDITERR. | E3: Annulé par le réalisateur | F3: MOE | H3: Cas des annulations si intervention précédente plus longue | K3: autre visite aériens | L3: 2 | M3: 0.25 | N3: =810*M3*L3 -> 405 | P3: =IF(O3="",N3,O3*N3+N3) -> 405
A4: R13-009 | B4: R13-009 | C4: MOBILCOM | E4: Défaut d'accès / Bailleur | F4: MOE | K4: autre visite local | L4: 1 | M4: 0.25 | N4: =810*M4*L4 -> 202.5 | P4: =IF(O4="",N4,O4*N4+N4) -> 202.5
A5: R13-010 | B5: R13-010 | C5: INFRACOM | E5: Défaut d'accès / Matériel | F5: MOE | J5: TX INFRAS | K5: travaux avec coupure 1J max | L5: 2 | M5: 1 | N5: =810*M5*L5 -> 1620 | O5: 0.05 | P5: =IF(O5="",N5,O5*N5+N5) -> 1701
A6: R13-010/750137 | B6: R13-010 | C6: INFRACOM | E6: Défaut de lien / Resp réalisateur | F6: MOE | K6: travaux sans coupure | L6: 2 | M6: 1 | N6: =810*M6*L6 -> 1620 | P6: =IF(O6="",N6,O6*N6+N6) -> 1620
A7: R13-010/751324 | B7: R13-010 | C7: INFRACOM | E7: Défaut de planification / Opération déjà réalisée | F7: MOE | G7: A EVITER car confusion : à passer en abandon ? | K7: cout nacelle/grue/tiers | L7: SUR DEVIS
A8: R13-018 | B8: R13-018 | C8: TOULOUSE | E8: Défaut de planification / Synchronisation client CA | F8: MOE | J8: SWAP RADIO | L8: 2 | M8: 1 | N8: =810*M8*L8 -> 1620 | O8: 0.3 | P8: =IF(O8="",N8,O8*N8+N8) -> 2106
A9: R13-020 | B9: R13-020 | C9: MOBILCOM | E9: Défaut de ressource / CA | F9: MOE | J9: SWAP FH | K9: mode "à la place de" | L9: 4 | M9: 1 | N9: =810*M9*L9 -> 3240 | O9: 0.1 | P9: =IF(O9="",N9,O9*N9+N9) -> 3564
A10: R13-026 | B10: R13-026 | C10: INFRANORD | E10: Défaut de ressource / Terrain | F10: MOE | J10: IMES FH | K10: optim / RAN " à cote de" | L10: 2 | M10: 1 | N10: =810*M10*L10 -> 1620 | O10: 0.1 | P10: =IF(O10="",N10,O10*N10+N10) -> 1782
A11: R13-031 | B11: R13-031 | C11: INFRANORD | E11: Défaut matériel / Absent | F11: MOE | J11: INTEGRATION BAIE | K11: Tout type de syst | L11: 1 | M11: 1 | N11: =810*M11*L11 -> 810 | O11: 0.25 | P11: =IF(O11="",N11,O11*N11+N11) -> 1012.5
A12: R13-039 | B12: R13-039 | C12: MOBILCOM | E12: Défaut matériel / Aériens | F12: MOE | J12: AJOUT CAPA RADIO/TRANS | L12: 1 | M12: 0.5 | N12: =810*M12*L12 -> 405 | O12: 0.3 | P12: =IF(O12="",N12,O12*N12+N12) -> 526.5
A13: R13-046 | B13: R13-046 | C13: INFRACOM | E13: Défaut matériel / Configuration | F13: MOE | J13: QUALIF IP / mutation FTTS | L13: 1 | M13: 1 | N13: =810*M13*L13 -> 810 | O13: 0.2 | P13: =IF(O13="",N13,O13*N13+N13) -> 972
A14: R13-048 | B14: R13-048 | C14: BORDEAUX | E14: Défaut matériel / Panne resp réalisateur | F14: MOE | J14: MUTATION FH | L14: 2 | M14: 1 | N14: =810*M14*L14 -> 1620 | O14: 0.15 | P14: =IF(O14="",N14,O14*N14+N14) -> 1863
A15: R13-049 | B15: R13-049 | C15: OUEST | E15: Défaut Pré-requis / Pb exploitation | F15: MOE | J15: MISE EN SUPERVISION FH | L15: 1 | M15: 1 | N15: =810*M15*L15 -> 810 | O15: 0.1 | P15: =IF(O15="",N15,O15*N15+N15) -> 891
A16: R13-049 | B16: R13-049 | C16: OUEST | E16: Défaut Pré-requis / Terrain | F16: MOE | J16: RECETTE | K16: 1 site | L16: 1 | M16: 0.5 | N16: =810*M16*L16 -> 405 | O16: 0.2 | P16: =IF(O16="",N16,O16*N16+N16) -> 486
A17: R13-049_140356 | B17: R13-049 | C17: OUEST | E17: Demande d'information | F17: MOE | K17: 2 sites (bond FH) | L17: 1 | M17: 1 | N17: =810*M17*L17 -> 810 | O17: 0.1 | P17: =IF(O17="",N17,O17*N17+N17) -> 891
A18: R13-049_140420 | B18: R13-049 | C18: OUEST | E18: Pb logistique / accès site | F18: MOE | G18: A UTILISER seulement pour les resp GRANIOU | H18: Ex clef ou badge oublié, convoc nok…
A19: R13-049_220024 | B19: R13-049 | C19: OUEST | E19: Pb technique / exploitation | F19: MOE
A20: R13-049_290060 | B20: R13-049 | C20: OUEST | E20: Pb test / tests post mep NOK | F20: MOE
A21: R13-049_290172 | B21: R13-049 | C21: OUEST | E21: Qualif Administration | F21: MOE
A22: R13-049_290464 | B22: R13-049 | C22: OUEST | E22: Qualif Ingénierie | F22: MOE | H22: A utiliser si on a des défauts ingénierie réalisée par GRANIOU
A23: R13-049_291264 | B23: R13-049 | C23: OUEST | E23: Qualif Matériel | F23: MOE
A24: R13-049_350075 | B24: R13-049 | C24: OUEST | E24: Replanification | F24: MOE
A25: R13-049_350120 | B25: R13-049 | C25: OUEST | E25: Succès | F25: MOE | G25: Cause échec incohérent : NE PAS UTILISER
A26: R13-089 | B26: R13-089 | C26: MOBILCOM | E26: Terminé via SVI | F26: MOE | G26: Cause échec incohérent : NE PAS UTILISER
A27: R13-130 | B27: R13-130 | C27: BORDEAUX | E27: Annulé par SFR | F27: SFR
A28: R13-131 | B28: R13-131 | C28: MOBILCOM | E28: Défaut d'accès / Intempéries | F28: SFR | G28: A UTILISER systématiquement pour les pbs aléas climatiques
A29: R13-O018 | B29: R13-018 | C29: TOULOUSE | E29: Défaut de lien / Resp SFR | F29: SFR | G29: A UTILISER pour les pbs trans non resp GRANIOU
A30: R13-022 | B30: R13-022 | C30: NICE | E30: Défaut de planification / Gel réseau | F30: SFR | H30: Pour toute opération en échec cause gel SFR
A31: BFA-039 | B31: R13-039 | C31: MOBILCOM | E31: Défaut matériel / Panne resp SFR | F31: SFR | G31: A UTILISER pour les pb site HS, équipement fourni HS
A32: BFA-139 | B32: R13-139 | C32: MOBILCOM | E32: Défaut Outils | F32: SFR | H32: Pour pb accès base SFR mais également pour pb licence si non obtenu équipementier..
A33: R13-049 | B33: R13-049 | C33: OUEST | E33: Défaut Pré-requis / Pb Ingénierie | F33: SFR | H33: A utiliser uniquement si ingénierie réalisée par tiers (non GRANIOU)
A34: R13-139 | B34: R13-139 | C34: MOBILCOM | E34: Défaut Pré-requis / Ingénieries | F34: SFR | H34: A utiliser uniquement si ingénierie réalisée par tiers (non GRANIOU)
A35: R13-068 | B35: R13-068 | C35: MOBILCOM | E35: Défaut de planification / Incompatibilité autre TP | F35: MOE
A36: R13-151 | B36: R13-151 | C36: MOBILCOM | E36: Terminée par pilote : Défaut Pré-requis / Terrain | F36: MOE
A37: R13-138 | B37: R13-138 | C37: BORDEAUX | E37: Terminée par pilote : Défaut de lien / Resp SFR | F37: SFR
A38: R13-034 | B38: R13-034 | C38: INFRANORD | E38: Terminée par pilote : Défaut matériel / Panne resp SFR | F38: SFR
A39: R13-073 | B39: R13-073 | C39: BORDEAUX | E39: Terminée par pilote : Défaut matériel / Configuration | F39: MOE
A40: R13-108 | B40: R13-108-M1-BCN | C40: OUEST | E40: Terminée par pilote : Défaut de planification / Synchronisation client CA | F40: MOE
...
