Workbook

Sheet Août 2021
B2: Date | C2: Etablissement | D2: Poste | E2: Adresse | F2: Contact sur place | G2: Tarif horaire | H2: Heure de début | I2: Heure de fin | J2: Temps de pause | K2: Heure travaillée | L2: Indemnité | M2: Cotisations | N2: Heure majorée | O2: C E T | P2: Total brut | Q2: Total net
B3: 44440 | C3: / | E3: =VLOOKUP(C3,'Fiche employeur'!$F$11:$J$15,2,FALSE) -> / | F3: =VLOOKUP(C3,'Fiche employeur'!$F$11:$J$15,3,FALSE) -> / | G3: =VLOOKUP(C3,'Fiche employeur'!$F$11:$J$15,4,FALSE) -> 0 | H3: 0.91666667 | I3: 0.25 | J3: =IF(ISBLANK(H3),"",IF(I3-H3+IF(H3<I3,0,1)>1/4,1/48,0)) -> 0.020833333 | K3: =IF(ISBLANK(H3),"",I3-H3+IF(H3<I3,0,1)-IF(I3-H3+IF(H3<I3,0,1)>1/4,1/48,0)) -> 0.3125 | L3: =VLOOKUP(C3,'Fiche employeur'!$F$11:$J$15,5,FALSE) -> 0 | M3: =((P3-L3)*6.9%)+((P3-L3)*0.4%)+(((P3-L3)*2)*4.01%)+(((P3-L3)*98.74%)*6.8%)+(((P3-L3)*97.74%)*2.9%) -> 0 | N3: =IF(I3<TIME(5,0,0),TIME(0,0,0)+I3,TIME(0,0,0)) -> 0 | P3: =(((CONVERT(K3,"hr","mn")+CONVERT(N3,"hr","mn"))*G3)/2.5)+L3 -> 0 | Q3: =(((CONVERT(K3,"hr","mn")+CONVERT(N3,"hr","mn"))*G3)/2.5)+L3-M3 -> 0
B4: 44442 | C4: / | E4: =VLOOKUP(C4,'Fiche employeur'!$F$11:$J$15,2,FALSE) -> / | F4: =VLOOKUP(C4,'Fiche employeur'!$F$11:$J$15,3,FALSE) -> / | G4: =VLOOKUP(C4,'Fiche employeur'!$F$11:$J$15,4,FALSE) -> 0 | H4: 0.70833333 | I4: 0.83333333 | J4: =IF(ISBLANK(H4),"",IF(I4-H4+IF(H4<I4,0,1)>1/4,1/48,0)) -> 0 | K4: =IF(ISBLANK(H4),"",I4-H4+IF(H4<I4,0,1)-IF(I4-H4+IF(H4<I4,0,1)>1/4,1/48,0)) -> 0.125 | L4: =VLOOKUP(C4,'Fiche employeur'!$F$11:$J$15,5,FALSE) -> 0 | M4: =((P4-L4)*6.9%)+((P4-L4)*0.4%)+(((P4-L4)*2)*4.01%)+(((P4-L4)*98.74%)*6.8%)+(((P4-L4)*97.74%)*2.9%) -> 0 | N4: =IF(I4<TIME(5,0,0),TIME(0,0,0)+I4,TIME(0,0,0)) -> 0 | P4: =(((CONVERT(K4,"hr","mn")+CONVERT(N4,"hr","mn"))*G4)/2.5)+L4 -> 0 | Q4: =(((CONVERT(K4,"hr","mn")+CONVERT(N4,"hr","mn"))*G4)/2.5)+L4-M4 -> 0
B5: 44443 | C5: / | E5: =VLOOKUP(C5,'Fiche employeur'!$F$11:$J$15,2,FALSE) -> / | F5: =VLOOKUP(C5,'Fiche employeur'!$F$11:$J$15,3,FALSE) -> / | G5: =VLOOKUP(C5,'Fiche employeur'!$F$11:$J$15,4,FALSE) -> 0 | J5: =IF(ISBLANK(H5),"",IF(I5-H5+IF(H5<I5,0,1)>1/4,1/48,0)) | K5: =IF(ISBLANK(H5),"",I5-H5+IF(H5<I5,0,1)-IF(I5-H5+IF(H5<I5,0,1)>1/4,1/48,0)) | L5: =VLOOKUP(C5,'Fiche employeur'!$F$11:$J$15,5,FALSE) -> 0 | M5: =((P5-L5)*6.9%)+((P5-L5)*0.4%)+(((P5-L5)*2)*4.01%)+(((P5-L5)*98.74%)*6.8%)+(((P5-L5)*97.74%)*2.9%) -> #VALUE! | N5: =IF(I5<TIME(5,0,0),TIME(0,0,0)+I5,TIME(0,0,0)) -> 0 | P5: =(((CONVERT(K5,"hr","mn")+CONVERT(N5,"hr","mn"))*G5)/2.5)+L5 -> #VALUE! | Q5: =(((CONVERT(K5,"hr","mn")+CONVERT(N5,"hr","mn"))*G5)/2.5)+L5-M5 -> #VALUE!
B6: 44444 | C6: / | E6: =VLOOKUP(C6,'Fiche employeur'!$F$11:$J$15,2,FALSE) -> / | F6: =VLOOKUP(C6,'Fiche employeur'!$F$11:$J$15,3,FALSE) -> / | G6: =VLOOKUP(C6,'Fiche employeur'!$F$11:$J$15,4,FALSE) -> 0 | J6: =IF(ISBLANK(H6),"",IF(I6-H6+IF(H6<I6,0,1)>1/4,1/48,0)) | K6: =IF(ISBLANK(H6),"",I6-H6+IF(H6<I6,0,1)-IF(I6-H6+IF(H6<I6,0,1)>1/4,1/48,0)) | L6: =VLOOKUP(C6,'Fiche employeur'!$F$11:$J$15,5,FALSE) -> 0 | M6: =((P6-L6)*6.9%)+((P6-L6)*0.4%)+(((P6-L6)*2)*4.01%)+(((P6-L6)*98.74%)*6.8%)+(((P6-L6)*97.74%)*2.9%) -> #VALUE! | N6: =IF(I6<TIME(5,0,0),TIME(0,0,0)+I6,TIME(0,0,0)) -> 0 | P6: =(((CONVERT(K6,"hr","mn")+CONVERT(N6,"hr","mn"))*G6)/2.5)+L6 -> #VALUE! | Q6: =(((CONVERT(K6,"hr","mn")+CONVERT(N6,"hr","mn"))*G6)/2.5)+L6-M6 -> #VALUE!
B7: 44446 | C7: / | E7: =VLOOKUP(C7,'Fiche employeur'!$F$11:$J$15,2,FALSE) -> / | F7: =VLOOKUP(C7,'Fiche employeur'!$F$11:$J$15,3,FALSE) -> / | G7: =VLOOKUP(C7,'Fiche employeur'!$F$11:$J$15,4,FALSE) -> 0 | J7: =IF(ISBLANK(H7),"",IF(I7-H7+IF(H7<I7,0,1)>1/4,1/48,0)) | K7: =IF(ISBLANK(H7),"",I7-H7+IF(H7<I7,0,1)-IF(I7-H7+IF(H7<I7,0,1)>1/4,1/48,0)) | L7: =VLOOKUP(C7,'Fiche employeur'!$F$11:$J$15,5,FALSE) -> 0 | M7: =((P7-L7)*6.9%)+((P7-L7)*0.4%)+(((P7-L7)*2)*4.01%)+(((P7-L7)*98.74%)*6.8%)+(((P7-L7)*97.74%)*2.9%) -> #VALUE! | N7: =IF(I7<TIME(5,0,0),TIME(0,0,0)+I7,TIME(0,0,0)) -> 0 | P7: =(((CONVERT(K7,"hr","mn")+CONVERT(N7,"hr","mn"))*G7)/2.5)+L7 -> #VALUE! | Q7: =(((CONVERT(K7,"hr","mn")+CONVERT(N7,"hr","mn"))*G7)/2.5)+L7-M7 -> #VALUE!
B8: 44447 | C8: / | E8: =VLOOKUP(C8,'Fiche employeur'!$F$11:$J$15,2,FALSE) -> / | F8: =VLOOKUP(C8,'Fiche employeur'!$F$11:$J$15,3,FALSE) -> / | G8: =VLOOKUP(C8,'Fiche employeur'!$F$11:$J$15,4,FALSE) -> 0 | J8: =IF(ISBLANK(H8),"",IF(I8-H8+IF(H8<I8,0,1)>1/4,1/48,0)) | K8: =IF(ISBLANK(H8),"",I8-H8+IF(H8<I8,0,1)-IF(I8-H8+IF(H8<I8,0,1)>1/4,1/48,0)) | L8: =VLOOKUP(C8,'Fiche employeur'!$F$11:$J$15,5,FALSE) -> 0 | M8: =((P8-L8)*6.9%)+((P8-L8)*0.4%)+(((P8-L8)*2)*4.01%)+(((P8-L8)*98.74%)*6.8%)+(((P8-L8)*97.74%)*2.9%) -> #VALUE! | N8: =IF(I8<TIME(5,0,0),TIME(0,0,0)+I8,TIME(0,0,0)) -> 0 | P8: =(((CONVERT(K8,"hr","mn")+CONVERT(N8,"hr","mn"))*G8)/2.5)+L8 -> #VALUE! | Q8: =(((CONVERT(K8,"hr","mn")+CONVERT(N8,"hr","mn"))*G8)/2.5)+L8-M8 -> #VALUE!
B9: 44448 | C9: / | E9: =VLOOKUP(C9,'Fiche employeur'!$F$11:$J$15,2,FALSE) -> / | F9: =VLOOKUP(C9,'Fiche employeur'!$F$11:$J$15,3,FALSE) -> / | G9: =VLOOKUP(C9,'Fiche employeur'!$F$11:$J$15,4,FALSE) -> 0 | J9: =IF(ISBLANK(H9),"",IF(I9-H9+IF(H9<I9,0,1)>1/4,1/48,0)) | K9: =IF(ISBLANK(H9),"",I9-H9+IF(H9<I9,0,1)-IF(I9-H9+IF(H9<I9,0,1)>1/4,1/48,0)) | L9: =VLOOKUP(C9,'Fiche employeur'!$F$11:$J$15,5,FALSE) -> 0 | M9: =((P9-L9)*6.9%)+((P9-L9)*0.4%)+(((P9-L9)*2)*4.01%)+(((P9-L9)*98.74%)*6.8%)+(((P9-L9)*97.74%)*2.9%) -> #VALUE! | N9: =IF(I9<TIME(5,0,0),TIME(0,0,0)+I9,TIME(0,0,0)) -> 0 | P9: =(((CONVERT(K9,"hr","mn")+CONVERT(N9,"hr","mn"))*G9)/2.5)+L9 -> #VALUE! | Q9: =(((CONVERT(K9,"hr","mn")+CONVERT(N9,"hr","mn"))*G9)/2.5)+L9-M9 -> #VALUE!
B10: 44449 | C10: / | E10: =VLOOKUP(C10,'Fiche employeur'!$F$11:$J$15,2,FALSE) -> / | F10: =VLOOKUP(C10,'Fiche employeur'!$F$11:$J$15,3,FALSE) -> / | G10: =VLOOKUP(C10,'Fiche employeur'!$F$11:$J$15,4,FALSE) -> 0 | J10: =IF(ISBLANK(H10),"",IF(I10-H10+IF(H10<I10,0,1)>1/4,1/48,0)) | K10: =IF(ISBLANK(H10),"",I10-H10+IF(H10<I10,0,1)-IF(I10-H10+IF(H10<I10,0,1)>1/4,1/48,0)) | L10: =VLOOKUP(C10,'Fiche employeur'!$F$11:$J$15,5,FALSE) -> 0 | M10: =((P10-L10)*6.9%)+((P10-L10)*0.4%)+(((P10-L10)*2)*4.01%)+(((P10-L10)*98.74%)*6.8%)+(((P10-L10)*97.74%)*2.9%) -> #VALUE! | N10: =IF(I10<TIME(5,0,0),TIME(0,0,0)+I10,TIME(0,0,0)) -> 0 | P10: =(((CONVERT(K10,"hr","mn")+CONVERT(N10,"hr","mn"))*G10)/2.5)+L10 -> #VALUE! | Q10: =(((CONVERT(K10,"hr","mn")+CONVERT(N10,"hr","mn"))*G10)/2.5)+L10-M10 -> #VALUE!
B11: 44450 | C11: / | E11: =VLOOKUP(C11,'Fiche employeur'!$F$11:$J$15,2,FALSE) -> / | F11: =VLOOKUP(C11,'Fiche employeur'!$F$11:$J$15,3,FALSE) -> / | G11: =VLOOKUP(C11,'Fiche employeur'!$F$11:$J$15,4,FALSE) -> 0 | J11: =IF(ISBLANK(H11),"",IF(I11-H11+IF(H11<I11,0,1)>1/4,1/48,0)) | K11: =IF(ISBLANK(H11),"",I11-H11+IF(H11<I11,0,1)-IF(I11-H11+IF(H11<I11,0,1)>1/4,1/48,0)) | L11: =VLOOKUP(C11,'Fiche employeur'!$F$11:$J$15,5,FALSE) -> 0 | M11: =((P11-L11)*6.9%)+((P11-L11)*0.4%)+(((P11-L11)*2)*4.01%)+(((P11-L11)*98.74%)*6.8%)+(((P11-L11)*97.74%)*2.9%) -> #VALUE! | N11: =IF(I11<TIME(5,0,0),TIME(0,0,0)+I11,TIME(0,0,0)) -> 0 | P11: =(((CONVERT(K11,"hr","mn")+CONVERT(N11,"hr","mn"))*G11)/2.5)+L11 -> #VALUE! | Q11: =(((CONVERT(K11,"hr","mn")+CONVERT(N11,"hr","mn"))*G11)/2.5)+L11-M11 -> #VALUE!
B12: 44451 | C12: / | E12: =VLOOKUP(C12,'Fiche employeur'!$F$11:$J$15,2,FALSE) -> / | F12: =VLOOKUP(C12,'Fiche employeur'!$F$11:$J$15,3,FALSE) -> / | G12: =VLOOKUP(C12,'Fiche employeur'!$F$11:$J$15,4,FALSE) -> 0 | J12: =IF(ISBLANK(H12),"",IF(I12-H12+IF(H12<I12,0,1)>1/4,1/48,0)) | K12: =IF(ISBLANK(H12),"",I12-H12+IF(H12<I12,0,1)-IF(I12-H12+IF(H12<I12,0,1)>1/4,1/48,0)) | L12: =VLOOKUP(C12,'Fiche employeur'!$F$11:$J$15,5,FALSE) -> 0 | M12: =((P12-L12)*6.9%)+((P12-L12)*0.4%)+(((P12-L12)*2)*4.01%)+(((P12-L12)*98.74%)*6.8%)+(((P12-L12)*97.74%)*2.9%) -> #VALUE! | N12: =IF(I12<TIME(5,0,0),TIME(0,0,0)+I12,TIME(0,0,0)) -> 0 | P12: =(((CONVERT(K12,"hr","mn")+CONVERT(N12,"hr","mn"))*G12)/2.5)+L12 -> #VALUE! | Q12: =(((CONVERT(K12,"hr","mn")+CONVERT(N12,"hr","mn"))*G12)/2.5)+L12-M12 -> #VALUE!
B13: 44452 | C13: / | E13: =VLOOKUP(C13,'Fiche employeur'!$F$11:$J$15,2,FALSE) -> / | F13: =VLOOKUP(C13,'Fiche employeur'!$F$11:$J$15,3,FALSE) -> / | G13: =VLOOKUP(C13,'Fiche employeur'!$F$11:$J$15,4,FALSE) -> 0 | J13: =IF(ISBLANK(H13),"",IF(I13-H13+IF(H13<I13,0,1)>1/4,1/48,0)) | K13: =IF(ISBLANK(H13),"",I13-H13+IF(H13<I13,0,1)-IF(I13-H13+IF(H13<I13,0,1)>1/4,1/48,0)) | L13: =VLOOKUP(C13,'Fiche employeur'!$F$11:$J$15,5,FALSE) -> 0 | M13: =((P13-L13)*6.9%)+((P13-L13)*0.4%)+(((P13-L13)*2)*4.01%)+(((P13-L13)*98.74%)*6.8%)+(((P13-L13)*97.74%)*2.9%) -> #VALUE! | N13: =IF(I13<TIME(5,0,0),TIME(0,0,0)+I13,TIME(0,0,0)) -> 0 | P13: =(((CONVERT(K13,"hr","mn")+CONVERT(N13,"hr","mn"))*G13)/2.5)+L13 -> #VALUE! | Q13: =(((CONVERT(K13,"hr","mn")+CONVERT(N13,"hr","mn"))*G13)/2.5)+L13-M13 -> #VALUE!
B14: 44453 | C14: / | E14: =VLOOKUP(C14,'Fiche employeur'!$F$11:$J$15,2,FALSE) -> / | F14: =VLOOKUP(C14,'Fiche employeur'!$F$11:$J$15,3,FALSE) -> / | G14: =VLOOKUP(C14,'Fiche employeur'!$F$11:$J$15,4,FALSE) -> 0 | J14: =IF(ISBLANK(H14),"",IF(I14-H14+IF(H14<I14,0,1)>1/4,1/48,0)) | K14: =IF(ISBLANK(H14),"",I14-H14+IF(H14<I14,0,1)-IF(I14-H14+IF(H14<I14,0,1)>1/4,1/48,0)) | L14: =VLOOKUP(C14,'Fiche employeur'!$F$11:$J$15,5,FALSE) -> 0 | M14: =((P14-L14)*6.9%)+((P14-L14)*0.4%)+(((P14-L14)*2)*4.01%)+(((P14-L14)*98.74%)*6.8%)+(((P14-L14)*97.74%)*2.9%) -> #VALUE! | N14: =IF(I14<TIME(5,0,0),TIME(0,0,0)+I14,TIME(0,0,0)) -> 0 | P14: =(((CONVERT(K14,"hr","mn")+CONVERT(N14,"hr","mn"))*G14)/2.5)+L14 -> #VALUE! | Q14: =(((CONVERT(K14,"hr","mn")+CONVERT(N14,"hr","mn"))*G14)/2.5)+L14-M14 -> #VALUE!
B15: 44454 | C15: / | E15: =VLOOKUP(C15,'Fiche employeur'!$F$11:$J$15,2,FALSE) -> / | F15: =VLOOKUP(C15,'Fiche employeur'!$F$11:$J$15,3,FALSE) -> / | G15: =VLOOKUP(C15,'Fiche employeur'!$F$11:$J$15,4,FALSE) -> 0 | J15: =IF(ISBLANK(H15),"",IF(I15-H15+IF(H15<I15,0,1)>1/4,1/48,0)) | K15: =IF(ISBLANK(H15),"",I15-H15+IF(H15<I15,0,1)-IF(I15-H15+IF(H15<I15,0,1)>1/4,1/48,0)) | L15: =VLOOKUP(C15,'Fiche employeur'!$F$11:$J$15,5,FALSE) -> 0 | M15: =((P15-L15)*6.9%)+((P15-L15)*0.4%)+(((P15-L15)*2)*4.01%)+(((P15-L15)*98.74%)*6.8%)+(((P15-L15)*97.74%)*2.9%) -> #VALUE! | N15: =IF(I15<TIME(5,0,0),TIME(0,0,0)+I15,TIME(0,0,0)) -> 0 | P15: =(((CONVERT(K15,"hr","mn")+CONVERT(N15,"hr","mn"))*G15)/2.5)+L15 -> #VALUE! | Q15: =(((CONVERT(K15,"hr","mn")+CONVERT(N15,"hr","mn"))*G15)/2.5)+L15-M15 -> #VALUE!
B16: 44455 | C16: / | E16: =VLOOKUP(C16,'Fiche employeur'!$F$11:$J$15,2,FALSE) -> / | F16: =VLOOKUP(C16,'Fiche employeur'!$F$11:$J$15,3,FALSE) -> / | G16: =VLOOKUP(C16,'Fiche employeur'!$F$11:$J$15,4,FALSE) -> 0 | J16: =IF(ISBLANK(H16),"",IF(I16-H16+IF(H16<I16,0,1)>1/4,1/48,0)) | K16: =IF(ISBLANK(H16),"",I16-H16+IF(H16<I16,0,1)-IF(I16-H16+IF(H16<I16,0,1)>1/4,1/48,0)) | L16: =VLOOKUP(C16,'Fiche employeur'!$F$11:$J$15,5,FALSE) -> 0 | M16: =((P16-L16)*6.9%)+((P16-L16)*0.4%)+(((P16-L16)*2)*4.01%)+(((P16-L16)*98.74%)*6.8%)+(((P16-L16)*97.74%)*2.9%) -> #VALUE! | N16: =IF(I16<TIME(5,0,0),TIME(0,0,0)+I16,TIME(0,0,0)) -> 0 | P16: =(((CONVERT(K16,"hr","mn")+CONVERT(N16,"hr","mn"))*G16)/2.5)+L16 -> #VALUE! | Q16: =(((CONVERT(K16,"hr","mn")+CONVERT(N16,"hr","mn"))*G16)/2.5)+L16-M16 -> #VALUE!
... B20: 44459 | C20: / | E20: =VLOOKUP(C20,'Fiche employeur'!$F$11:$J$15,2,FALSE) -> / | F20: =VLOOKUP(C20,'Fiche employeur'!$F$11:$J$15,3,FALSE) -> / | G20: =VLOOKUP(C20,'Fiche employeur'!$F$11:$J$15,4,FALSE) -> 0 | J20: =IF(ISBLANK(H20),"",IF(I20-H20+IF(H20<I20,0,1)>1/4,1/48,0)) | K20: =IF(ISBLANK(H20),"",I20-H20+IF(H20<I20,0,1)-IF(I20-H20+IF(H20<I20,0,1)>1/4,1/48,0)) | L20: =VLOOKUP(C20,'Fiche employeur'!$F$11:$J$15,5,FALSE) -> 0 | M20: =((P20-L20)*6.9%)+((P20-L20)*0.4%)+(((P20-L20)*2)*4.01%)+(((P20-L20)*98.74%)*6.8%)+(((P20-L20)*97.74%)*2.9%) -> #VALUE! | N20: =IF(I20<TIME(5,0,0),TIME(0,0,0)+I20,TIME(0,0,0)) -> 0 | P20: =(((CONVERT(K20,"hr","mn")+CONVERT(N20,"hr","mn"))*G20)/2.5)+L20 -> #VALUE! | Q20: =(((CONVERT(K20,"hr","mn")+CONVERT(N20,"hr","mn"))*G20)/2.5)+L20-M20 -> #VALUE!
B21: 44460 | C21: entreprise 1 | D21: Chef de rang | E21: =VLOOKUP(C21,'Fiche employeur'!$F$11:$J$15,2,FALSE) -> Adresse 1 | F21: =VLOOKUP(C21,'Fiche employeur'!$F$11:$J$15,3,FALSE) -> Sébastien | G21: =VLOOKUP(C21,'Fiche employeur'!$F$11:$J$15,4,FALSE) -> 11.09 | H21: 0.75 | I21: 1 | J21: =IF(ISBLANK(H21),"",IF(I21-H21+IF(H21<I21,0,1)>1/4,1/48,0)) -> 0.020833333 | K21: =IF(ISBLANK(H21),"",I21-H21+IF(H21<I21,0,1)-IF(I21-H21+IF(H21<I21,0,1)>1/4,1/48,0)) -> 0.22916667 | L21: =VLOOKUP(C21,'Fiche employeur'!$F$11:$J$15,5,FALSE) -> 5.93 | M21: =((P21-L21)*6.9%)+((P21-L21)*0.4%)+(((P21-L21)*2)*4.01%)+(((P21-L21)*98.74%)*6.8%)+(((P21-L21)*97.74%)*2.9%) -> 15.168712 | N21: =IF(I21<TIME(5,0,0),TIME(0,0,0)+I21,TIME(0,0,0)) -> 0 | P21: =(((CONVERT(K21,"hr","mn")+CONVERT(N21,"hr","mn"))*G21)/2.5)+L21 -> 66.925 | Q21: =(((CONVERT(K21,"hr","mn")+CONVERT(N21,"hr","mn"))*G21)/2.5)+L21-M21 -> 51.756288
B22: 44461 | C22: / | E22: =VLOOKUP(C22,'Fiche employeur'!$F$11:$J$15,2,FALSE) -> / | F22: =VLOOKUP(C22,'Fiche employeur'!$F$11:$J$15,3,FALSE) -> / | G22: =VLOOKUP(C22,'Fiche employeur'!$F$11:$J$15,4,FALSE) -> 0 | J22: =IF(ISBLANK(H22),"",IF(I22-H22+IF(H22<I22,0,1)>1/4,1/48,0)) | K22: =IF(ISBLANK(H22),"",I22-H22+IF(H22<I22,0,1)-IF(I22-H22+IF(H22<I22,0,1)>1/4,1/48,0)) | L22: =VLOOKUP(C22,'Fiche employeur'!$F$11:$J$15,5,FALSE) -> 0 | M22: =((P22-L22)*6.9%)+((P22-L22)*0.4%)+(((P22-L22)*2)*4.01%)+(((P22-L22)*98.74%)*6.8%)+(((P22-L22)*97.74%)*2.9%) -> #VALUE! | N22: =IF(I22<TIME(5,0,0),TIME(0,0,0)+I22,TIME(0,0,0)) -> 0 | P22: =(((CONVERT(K22,"hr","mn")+CONVERT(N22,"hr","mn"))*G22)/2.5)+L22 -> #VALUE! | Q22: =(((CONVERT(K22,"hr","mn")+CONVERT(N22,"hr","mn"))*G22)/2.5)+L22-M22 -> #VALUE!
B23: 44462 | C23: / | E23: =VLOOKUP(C23,'Fiche employeur'!$F$11:$J$15,2,FALSE) -> / | F23: =VLOOKUP(C23,'Fiche employeur'!$F$11:$J$15,3,FALSE) -> / | G23: =VLOOKUP(C23,'Fiche employeur'!$F$11:$J$15,4,FALSE) -> 0 | J23: =IF(ISBLANK(H23),"",IF(I23-H23+IF(H23<I23,0,1)>1/4,1/48,0)) | K23: =IF(ISBLANK(H23),"",I23-H23+IF(H23<I23,0,1)-IF(I23-H23+IF(H23<I23,0,1)>1/4,1/48,0)) | L23: =VLOOKUP(C23,'Fiche employeur'!$F$11:$J$15,5,FALSE) -> 0 | M23: =((P23-L23)*6.9%)+((P23-L23)*0.4%)+(((P23-L23)*2)*4.01%)+(((P23-L23)*98.74%)*6.8%)+(((P23-L23)*97.74%)*2.9%) -> #VALUE! | N23: =IF(I23<TIME(5,0,0),TIME(0,0,0)+I23,TIME(0,0,0)) -> 0 | P23: =(((CONVERT(K23,"hr","mn")+CONVERT(N23,"hr","mn"))*G23)/2.5)+L23 -> #VALUE! | Q23: =(((CONVERT(K23,"hr","mn")+CONVERT(N23,"hr","mn"))*G23)/2.5)+L23-M23 -> #VALUE!
B24: 44463 | C24: / | E24: =VLOOKUP(C24,'Fiche employeur'!$F$11:$J$15,2,FALSE) -> / | F24: =VLOOKUP(C24,'Fiche employeur'!$F$11:$J$15,3,FALSE) -> / | G24: =VLOOKUP(C24,'Fiche employeur'!$F$11:$J$15,4,FALSE) -> 0 | J24: =IF(ISBLANK(H24),"",IF(I24-H24+IF(H24<I24,0,1)>1/4,1/48,0)) | K24: =IF(ISBLANK(H24),"",I24-H24+IF(H24<I24,0,1)-IF(I24-H24+IF(H24<I24,0,1)>1/4,1/48,0)) | L24: =VLOOKUP(C24,'Fiche employeur'!$F$11:$J$15,5,FALSE) -> 0 | M24: =((P24-L24)*6.9%)+((P24-L24)*0.4%)+(((P24-L24)*2)*4.01%)+(((P24-L24)*98.74%)*6.8%)+(((P24-L24)*97.74%)*2.9%) -> #VALUE! | N24: =IF(I24<TIME(5,0,0),TIME(0,0,0)+I24,TIME(0,0,0)) -> 0 | P24: =(((CONVERT(K24,"hr","mn")+CONVERT(N24,"hr","mn"))*G24)/2.5)+L24 -> #VALUE! | Q24: =(((CONVERT(K24,"hr","mn")+CONVERT(N24,"hr","mn"))*G24)/2.5)+L24-M24 -> #VALUE!
B25: 44464 | C25: / | E25: =VLOOKUP(C25,'Fiche employeur'!$F$11:$J$15,2,FALSE) -> / | F25: =VLOOKUP(C25,'Fiche employeur'!$F$11:$J$15,3,FALSE) -> / | G25: =VLOOKUP(C25,'Fiche employeur'!$F$11:$J$15,4,FALSE) -> 0 | J25: =IF(ISBLANK(H25),"",IF(I25-H25+IF(H25<I25,0,1)>1/4,1/48,0)) | K25: =IF(ISBLANK(H25),"",I25-H25+IF(H25<I25,0,1)-IF(I25-H25+IF(H25<I25,0,1)>1/4,1/48,0)) | L25: =VLOOKUP(C25,'Fiche employeur'!$F$11:$J$15,5,FALSE) -> 0 | M25: =((P25-L25)*6.9%)+((P25-L25)*0.4%)+(((P25-L25)*2)*4.01%)+(((P25-L25)*98.74%)*6.8%)+(((P25-L25)*97.74%)*2.9%) -> #VALUE! | N25: =IF(I25<TIME(5,0,0),TIME(0,0,0)+I25,TIME(0,0,0)) -> 0 | P25: =(((CONVERT(K25,"hr","mn")+CONVERT(N25,"hr","mn"))*G25)/2.5)+L25 -> #VALUE! | Q25: =(((CONVERT(K25,"hr","mn")+CONVERT(N25,"hr","mn"))*G25)/2.5)+L25-M25 -> #VALUE!
B26: 44465 | C26: / | E26: =VLOOKUP(C26,'Fiche employeur'!$F$11:$J$15,2,FALSE) -> / | F26: =VLOOKUP(C26,'Fiche employeur'!$F$11:$J$15,3,FALSE) -> / | G26: =VLOOKUP(C26,'Fiche employeur'!$F$11:$J$15,4,FALSE) -> 0 | J26: =IF(ISBLANK(H26),"",IF(I26-H26+IF(H26<I26,0,1)>1/4,1/48,0)) | K26: =IF(ISBLANK(H26),"",I26-H26+IF(H26<I26,0,1)-IF(I26-H26+IF(H26<I26,0,1)>1/4,1/48,0)) | L26: =VLOOKUP(C26,'Fiche employeur'!$F$11:$J$15,5,FALSE) -> 0 | M26: =((P26-L26)*6.9%)+((P26-L26)*0.4%)+(((P26-L26)*2)*4.01%)+(((P26-L26)*98.74%)*6.8%)+(((P26-L26)*97.74%)*2.9%) -> #VALUE! | N26: =IF(I26<TIME(5,0,0),TIME(0,0,0)+I26,TIME(0,0,0)) -> 0 | P26: =(((CONVERT(K26,"hr","mn")+CONVERT(N26,"hr","mn"))*G26)/2.5)+L26 -> #VALUE! | Q26: =(((CONVERT(K26,"hr","mn")+CONVERT(N26,"hr","mn"))*G26)/2.5)+L26-M26 -> #VALUE!
B27: 44466 | C27: / | E27: =VLOOKUP(C27,'Fiche employeur'!$F$11:$J$15,2,FALSE) -> / | F27: =VLOOKUP(C27,'Fiche employeur'!$F$11:$J$15,3,FALSE) -> / | G27: =VLOOKUP(C27,'Fiche employeur'!$F$11:$J$15,4,FALSE) -> 0 | J27: =IF(ISBLANK(H27),"",IF(I27-H27+IF(H27<I27,0,1)>1/4,1/48,0)) | K27: =IF(ISBLANK(H27),"",I27-H27+IF(H27<I27,0,1)-IF(I27-H27+IF(H27<I27,0,1)>1/4,1/48,0)) | L27: =VLOOKUP(C27,'Fiche employeur'!$F$11:$J$15,5,FALSE) -> 0 | M27: =((P27-L27)*6.9%)+((P27-L27)*0.4%)+(((P27-L27)*2)*4.01%)+(((P27-L27)*98.74%)*6.8%)+(((P27-L27)*97.74%)*2.9%) -> #VALUE! | N27: =IF(I27<TIME(5,0,0),TIME(0,0,0)+I27,TIME(0,0,0)) -> 0 | P27: =(((CONVERT(K27,"hr","mn")+CONVERT(N27,"hr","mn"))*G27)/2.5)+L27 -> #VALUE! | Q27: =(((CONVERT(K27,"hr","mn")+CONVERT(N27,"hr","mn"))*G27)/2.5)+L27-M27 -> #VALUE!
B28: 44467 | C28: entreprise 2 | D28: Runner | E28: =VLOOKUP(C28,'Fiche employeur'!$F$11:$J$15,2,FALSE) -> Adresse 2 | F28: =VLOOKUP(C28,'Fiche employeur'!$F$11:$J$15,3,FALSE) -> Michiko | G28: =VLOOKUP(C28,'Fiche employeur'!$F$11:$J$15,4,FALSE) -> 11 | H28: 0.77083333 | I28: 0.97916667 | J28: =IF(ISBLANK(H28),"",IF(I28-H28+IF(H28<I28,0,1)>1/4,1/48,0)) -> 0 | K28: =IF(ISBLANK(H28),"",I28-H28+IF(H28<I28,0,1)-IF(I28-H28+IF(H28<I28,0,1)>1/4,1/48,0)) -> 0.20833333 | L28: =VLOOKUP(C28,'Fiche employeur'!$F$11:$J$15,5,FALSE) -> 2.28 | M28: =((P28-L28)*6.9%)+((P28-L28)*0.4%)+(((P28-L28)*2)*4.01%)+(((P28-L28)*98.74%)*6.8%)+(((P28-L28)*97.74%)*2.9%) -> 13.677829 | N28: =IF(I28<TIME(5,0,0),TIME(0,0,0)+I28,TIME(0,0,0)) -> 0 | P28: =(((CONVERT(K28,"hr","mn")+CONVERT(N28,"hr","mn"))*G28)/2.5)+L28 -> 57.28 | Q28: =(((CONVERT(K28,"hr","mn")+CONVERT(N28,"hr","mn"))*G28)/2.5)+L28-M28 -> 43.602171
B29: 44468 | C29: / | E29: =VLOOKUP(C29,'Fiche employeur'!$F$11:$J$15,2,FALSE) -> / | F29: =VLOOKUP(C29,'Fiche employeur'!$F$11:$J$15,3,FALSE) -> / | G29: =VLOOKUP(C29,'Fiche employeur'!$F$11:$J$15,4,FALSE) -> 0 | J29: =IF(ISBLANK(H29),"",IF(I29-H29+IF(H29<I29,0,1)>1/4,1/48,0)) | K29: =IF(ISBLANK(H29),"",I29-H29+IF(H29<I29,0,1)-IF(I29-H29+IF(H29<I29,0,1)>1/4,1/48,0)) | L29: =VLOOKUP(C29,'Fiche employeur'!$F$11:$J$15,5,FALSE) -> 0 | M29: =((P29-L29)*6.9%)+((P29-L29)*0.4%)+(((P29-L29)*2)*4.01%)+(((P29-L29)*98.74%)*6.8%)+(((P29-L29)*97.74%)*2.9%) -> #VALUE! | N29: =IF(I29<TIME(5,0,0),TIME(0,0,0)+I29,TIME(0,0,0)) -> 0 | P29: =(((CONVERT(K29,"hr","mn")+CONVERT(N29,"hr","mn"))*G29)/2.5)+L29 -> #VALUE! | Q29: =(((CONVERT(K29,"hr","mn")+CONVERT(N29,"hr","mn"))*G29)/2.5)+L29-M29 -> #VALUE!
B30: 44469 | C30: entreprise 3 | D30: Chef de rang | E30: =VLOOKUP(C30,'Fiche employeur'!$F$11:$J$15,2,FALSE) -> Adresse 3 | F30: =VLOOKUP(C30,'Fiche employeur'!$F$11:$J$15,3,FALSE) -> Nicolas | G30: =VLOOKUP(C30,'Fiche employeur'!$F$11:$J$15,4,FALSE) -> 12 | H30: 0.3125 | I30: 0.625 | J30: =IF(ISBLANK(H30),"",IF(I30-H30+IF(H30<I30,0,1)>1/4,1/48,0)) -> 0.020833333 | K30: =IF(ISBLANK(H30),"",I30-H30+IF(H30<I30,0,1)-IF(I30-H30+IF(H30<I30,0,1)>1/4,1/48,0)) -> 0.29166667 | L30: =VLOOKUP(C30,'Fiche employeur'!$F$11:$J$15,5,FALSE) -> 8.8 | M30: =((P30-L30)*6.9%)+((P30-L30)*0.4%)+(((P30-L30)*2)*4.01%)+(((P30-L30)*98.74%)*6.8%)+(((P30-L30)*97.74%)*2.9%) -> 20.889775 | N30: =IF(I30<TIME(5,0,0),TIME(0,0,0)+I30,TIME(0,0,0)) -> 0 | P30: =(((CONVERT(K30,"hr","mn")+CONVERT(N30,"hr","mn"))*G30)/2.5)+L30 -> 92.8 | Q30: =(((CONVERT(K30,"hr","mn")+CONVERT(N30,"hr","mn"))*G30)/2.5)+L30-M30 -> 71.910225
B31: 31/09/2021 | C31: Châteauform' Romainville | D31: Chef de rang | E31: =VLOOKUP(C31,'Fiche employeur'!$F$11:$J$15,2,FALSE) -> #N/A | F31: =VLOOKUP(C31,'Fiche employeur'!$F$11:$J$15,3,FALSE) -> #N/A | G31: =VLOOKUP(C31,'Fiche employeur'!$F$11:$J$15,4,FALSE) -> #N/A | H31: 0.3125 | I31: 0.625 | J31: =IF(ISBLANK(H31),"",IF(I31-H31+IF(H31<I31,0,1)>1/4,1/48,0)) -> 0.020833333 | K31: =IF(ISBLANK(H31),"",I31-H31+IF(H31<I31,0,1)-IF(I31-H31+IF(H31<I31,0,1)>1/4,1/48,0)) -> 0.29166667 | L31: =VLOOKUP(C31,'Fiche employeur'!$F$11:$J$15,5,FALSE) -> #N/A | M31: =((P31-L31)*6.9%)+((P31-L31)*0.4%)+(((P31-L31)*2)*4.01%)+(((P31-L31)*98.74%)*6.8%)+(((P31-L31)*97.74%)*2.9%) -> #N/A | N31: =IF(I31<TIME(5,0,0),TIME(0,0,0)+I31,TIME(0,0,0)) -> 0 | P31: =(((CONVERT(K31,"hr","mn")+CONVERT(N31,"hr","mn"))*G31)/2.5)+L31 -> #N/A | Q31: =(((CONVERT(K31,"hr","mn")+CONVERT(N31,"hr","mn"))*G31)/2.5)+L31-M31 -> #N/A
G32: Moyenne | H32: Total heure travaillé | L32: Total indemnité | M32: Total cotisations | N32: Nombre d'heure majorée | O32: Total CET | P32: Total brut | Q32: Total net
G33: =AVERAGEIF(G3:G31,">0",G3:G31) -> 11.363333 | H33: =SUM(K3:K31) -> 1.4583333 | L33: =SUM(L3:L31) -> #N/A | M33: =SUM(M3:M31) -> #VALUE! | N33: =SUM(N3:N31) -> 0 | P33: =SUM(P3:P31) -> #VALUE! | Q33: =SUM(Q3:Q31) -> #VALUE!

Sheet Fiche employeur
B2: Colonne1 | D2: Colonne1
B3: entreprise 1 | D3: Runner
B4: entreprise 2 | D4: Commis
B5: entreprise 3 | D5: Demi-chef de rang
B6: / | D6: Chef de rang
D7: Maître d'hôtel
F11: Etablissement | G11: Adresse | H11: Contact sur place | I11: Tarif horaire | J11: Indemnité
F12: entreprise 1 | G12: Adresse 1 | H12: Sébastien | I12: 11.09 | J12: =3.65+2.28+3.65-3.65 -> 5.93
F13: entreprise 2 | G13: Adresse 2 | H13: Michiko | I13: 11 | J13: =3.65+2.28-3.65 -> 2.28
F14: entreprise 3 | G14: Adresse 3 | H14: Nicolas | I14: 12 | J14: 8.8
F15: / | G15: / | H15: / | I15: 0 | J15: 0
B18: Heure
B19: 0.20833333
B20: 0.22916667
B21: 0.25
B22: 0.27083333
B23: 0.29166667
B24: 0.3125
B25: 0.33333333
B26: 0.35416667
B27: 0.375
B28: 0.39583333
B29: 0.41666667
B30: 0.4375
... B66: 0.1875
