Workbook
Name Juin: Juin!$A$1:$T$16

Sheet Mars
A1: Personne | B1: Pour qui | C1: Quantité | D1: type | E1: sport | F1: Club/Pays | G1: Do / Ext | H1: Taille | I1: Numéro | J1: Joueur | K1: Date de commande | L1: Date d'envoi | M1: date de réception | N1: Temps d'exp | O1: Temps (O to R) | P1: achat | Q1: Frais | R1: vente
A2: Seb 3h | C2: 1 | D2: Jersey | E2: Soccer | F2: Bayern | G2: Third | H2: M | I2: 7 | J2: Ribéry | L2: 50.13 | M2: 1.2 | R2: 25 | S2: Payé | T2: =IF(S2="Payé",1,0) -> 1
A3: Seb 3h | C3: 1 | D3: Jersey | E3: Soccer | F3: Italy | G3: Home | H3: S | I3: 87 | J3: Candreva | R3: 0 | T3: =IF(S3="Payé",1,0) -> 0
A4: Seb A | C4: 1 | D4: Jacket | E4: Soccer | F4: PSG | G4: Home | H4: L | L4: 18.18 | M4: 0.56 | R4: 55 | S4: Payé | T4: =IF(S4="Payé",1,0) -> 1
A5: Seb A | C5: 1 | D5: Jacket | E5: Soccer | F5: PSG | G5: Away | H5: L | L5: 18.18 | M5: 0.56 | R5: 0 | T5: =IF(S5="Payé",1,0) -> 0
A6: Seb A | C6: 1 | D6: Jersey | E6: Soccer | F6: France | G6: Home | H6: L | R6: 0 | T6: =IF(S6="Payé",1,0) -> 0
A7: Dadado | C7: 1 | D7: Jersey | E7: Soccer | F7: Portugal | G7: Home | H7: S | I7: 3 | J7: Pepe | L7: 122.27 | M7: 2.65 | R7: 25 | S7: Payé | T7: =IF(S7="Payé",1,0) -> 1
A8: Dadado | C8: 1 | D8: Jersey | E8: Soccer | F8: Brazil | G8: Away | H8: L | L8: 14.15 | M8: 0.87 | R8: 0 | T8: =IF(S8="Payé",1,0) -> 0
A9: Dadado | C9: 1 | D9: Jersey | E9: Soccer | F9: Pays Bas | G9: Home | H9: M | L9: 14.15 | M9: 0.87 | R9: 25 | S9: Payé | T9: =IF(S9="Payé",1,0) -> 1
A10: Dadado | C10: 1 | D10: Jersey | E10: Soccer | F10: Barcelona | G10: Home | H10: 28 | I10: 11 | J10: Neymar | L10: 78.81 | M10: 1.78 | R10: 25 | S10: Payé | T10: =IF(S10="Payé",1,0) -> 1
A11: Dadado | C11: 1 | D11: Jersey | E11: Soccer | F11: Juventus | G11: Home | H11: L | I11: 21 | J11: Pirlo | L11: 27.43 | M11: 0.75 | R11: 25 | S11: Payé | T11: =IF(S11="Payé",1,0) -> 1
A12: Dadado | C12: 1 | D12: Jersey | E12: Soccer | F12: Real Madrid | G12: Away | H12: L | I12: 7 | J12: Ronaldo | L12: 12.99 | M12: 0.46 | R12: 25 | S12: Payé | T12: =IF(S12="Payé",1,0) -> 1
A13: Dadado | C13: 1 | D13: Jersey | E13: Soccer | F13: Chelsea | G13: Home | H13: L | L13: 65.71 | M13: 1.51 | R13: 25 | S13: Payé | T13: =IF(S13="Payé",1,0) -> 1
A14: Dadado | C14: 1 | D14: Jersey | E14: Soccer | F14: Milan AC | G14: Home | H14: L | R14: 25 | S14: Payé | T14: =IF(S14="Payé",1,0) -> 1
A15: Dadado | C15: 1 | D15: Jersey | E15: Soccer | F15: Bayern | G15: Home | H15: L | R15: 25 | S15: Payé | T15: =IF(S15="Payé",1,0) -> 1
A16: Dadado | C16: 1 | D16: Jersey | E16: Soccer | F16: Barcelona | G16: Home | H16: L | R16: 25 | S16: Payé | T16: =IF(S16="Payé",1,0) -> 1
A17: Dadado | C17: 1 | D17: Jersey | E17: Soccer | F17: Italy | G17: Home | H17: L | R17: 25 | S17: Payé | T17: =IF(S17="Payé",1,0) -> 1
A18: Dadado | C18: 1 | D18: Jersey | E18: Soccer | F18: Portugal | G18: Home | H18: S | R18: 25 | S18: Payé | T18: =IF(S18="Payé",1,0) -> 1
A19: Dadado | C19: 1 | D19: Jersey | E19: Soccer | F19: France | G19: Away | H19: L | R19: 0 | S19: Payé | T19: =IF(S19="Payé",1,0) -> 1
A20: Dadado | C20: 1 | D20: Jersey | E20: Soccer | F20: Portugal | G20: Home | H20: M | R20: 25 | S20: Payé | T20: =IF(S20="Payé",1,0) -> 1
A21: Dadado | C21: 1 | D21: Jersey | E21: Soccer | F21: France | G21: Away | H21: XL | R21: 25 | S21: Payé | T21: =IF(S21="Payé",1,0) -> 1
A22: Dadado | C22: 1 | D22: Jersey | E22: Soccer | F22: Barcelona | G22: Home | H22: XL | R22: 25 | S22: Payé | T22: =IF(S22="Payé",1,0) -> 1
A23: Dadado | C23: 1 | D23: Jersey | E23: Soccer | F23: PSG | G23: Away | H23: L | I23: 2 | J23: T. Silva | R23: 25 | S23: Payé | T23: =IF(S23="Payé",1,0) -> 1
A24: Dadado | C24: 1 | D24: Jersey | E24: Soccer | F24: PSG | G24: Away | H24: S | I24: 9 | J24: Cavani | R24: 25 | S24: Payé | T24: =IF(S24="Payé",1,0) -> 1
A25: Dadado | C25: 1 | D25: Jersey | E25: Soccer | F25: Spain | G25: Home | H25: XL | R25: 25 | S25: Payé | T25: =IF(S25="Payé",1,0) -> 1 | W25: =SUM(R7:R26)-SUMPRODUCT(R7:R26,T7:T25) -> #VALUE!
A26: Dadado | C26: 1 | D26: Jersey | E26: Basket Ball | F26: Bulls | G26: RED | H26: XL | I26: 1 | J26: Rose | R26: 30 | S26: Payé | T26: =IF(S26="Payé",1,0) -> 1
A27: Boum | C27: 1 | D27: Jersey | E27: Soccer | F27: Real Madrid | G27: Home | H27: M | I27: 7 | J27: Ronaldo | R27: 25 | S27: Payé | T27: =IF(S27="Payé",1,0) -> 1
A28: Jawed | C28: 1 | D28: Jersey | E28: Soccer | F28: PSG | G28: Home/woman | H28: S | R28: 20 | S28: Payé | T28: =IF(S28="Payé",1,0) -> 1
A29: Jawed | C29: 1 | D29: Jersey | E29: Soccer | F29: PSG | G29: Home | H29: M | I29: 10 | J29: Ibrahimovic | R29: 25 | S29: Payé | T29: =IF(S29="Payé",1,0) -> 1
A30: Jawed | C30: 1 | D30: Jersey | E30: Soccer | F30: Germany | G30: Home | H30: M | I30: 21 | J30: Reus | R30: 25 | S30: Payé | T30: =IF(S30="Payé",1,0) -> 1
A31: Pascal | C31: 1 | D31: Jersey | E31: Soccer | F31: Portugal | G31: Home/woman | H31: S | R31: 25 | T31: =IF(S31="Payé",1,0) -> 0
A32: Pascal | C32: 1 | D32: Jersey | E32: Soccer | F32: France | G32: away 2013 | H32: L | I32: 11 | J32: Griezmann | R32: 25 | T32: =IF(S32="Payé",1,0) -> 0
A33: Pascal | C33: 1 | D33: Jersey | E33: Soccer | F33: France | G33: away 2014 | H33: L | I33: 11 | J33: Griezmann | R33: 25 | T33: =IF(S33="Payé",1,0) -> 0
A34: Pascal | C34: 1 | D34: Jersey | E34: Soccer | F34: France | G34: away 2014 | H34: L | I34: 11 | J34: Griezmann | R34: 25 | T34: =IF(S34="Payé",1,0) -> 0 | U34: =SUM(R31:R35)-SUMPRODUCT(R31:R35,T30:T34) -> 100
A35: Pascal | C35: 1 | D35: Jersey | E35: Soccer | F35: France | G35: away 2014 | H35: L | I35: 11 | J35: Griezmann | R35: 25 | T35: =IF(S35="Payé",1,0) -> 0
A36: Fabien | C36: 1 | D36: Jersey | E36: Soccer | F36: Spain | G36: Home | H36: M | R36: 0 | T36: =IF(S36="Payé",1,0) -> 0
A37: Fabien | C37: 1 | D37: Jersey | E37: Soccer | F37: Bayern | G37: Away | H37: M | R37: 0 | T37: =IF(S37="Payé",1,0) -> 0
A38: Fabien | C38: 1 | D38: Jersey | E38: Soccer | F38: Uruguay | G38: Home | H38: M | R38: 0
T46: =SUMPRODUCT(R2:R38,T2:T37) -> #VALUE! | W46: restant du | X46: =R47-T46 -> #VALUE!
R47: =SUM(R2:R38) -> 755

Sheet Avril
A1: Personne | B1: Pour qui | C1: Quantité | D1: type | E1: sport | F1: Club/Pays | G1: Ho / Aw | H1: Taille | I1: Numéro | J1: Joueur | K1: Date de commande | L1: Date d'envoi | M1: date de réception | N1: Temps d'exp | O1: Temps (O to R) | P1: achat | Q1: Frais | R1: vente
A2: Dadado | B2: Dadado | C2: 1 | D2: Jacket | E2: Foot | F2: France | G2: Home | H2: L | K2: 41736 | L2: 41750 | M2: 41753 | N2: =SUMPRODUCT((WEEKDAY(ROW(INDIRECT(K2&":"&L2)),2)<7)*(COUNTIF('Jours fériés'!C$6:C$16,ROW(INDIRECT(Avril!K2&":"&L2)))=0)) -> 11 | O2: =SUMPRODUCT((WEEKDAY(ROW(INDIRECT(K2&":"&M2)),2)<7)*(COUNTIF('Jours fériés'!C1:C16,ROW(INDIRECT(Avril!K2&":"&M2)))=0)) -> 14 | P2: 18.19 | Q2: 0.56 | R2: 0 | T2: =IF(S2="Payé",1,0) -> 0
A3: Seb 3h | B3: Micka | C3: 1 | D3: Jersey | E3: Foot | F3: Brazil | G3: Home | H3: XL | K3: 41738 | L3: 41746 | M3: 41753 | N3: =SUMPRODUCT((WEEKDAY(ROW(INDIRECT(K3&":"&L3)),2)<7)*(COUNTIF('Jours fériés'!C$6:C$16,ROW(INDIRECT(Avril!K3&":"&L3)))=0)) -> 7 | O3: =SUMPRODUCT((WEEKDAY(ROW(INDIRECT(K3&":"&M3)),2)<7)*(COUNTIF('Jours fériés'!C1:C16,ROW(INDIRECT(Avril!K3&":"&M3)))=0)) -> 12 | P3: 121.89 | Q3: 2.64 | R3: 25 | S3: Payé | T3: =IF(S3="Payé",1,0) -> 1
A4: Seb 3h | B4: Micka | C4: 1 | D4: Jersey | E4: Foot | F4: Portugal | G4: Home | H4: M | I4: 7 | J4: Ronaldo | K4: 41738 | L4: 41746 | M4: 41753 | N4: =SUMPRODUCT((WEEKDAY(ROW(INDIRECT(K4&":"&L4)),2)<7)*(COUNTIF('Jours fériés'!C$6:C$16,ROW(INDIRECT(Avril!K4&":"&L4)))=0)) -> 7 | O4: =SUMPRODUCT((WEEKDAY(ROW(INDIRECT(K4&":"&M4)),2)<7)*(COUNTIF('Jours fériés'!C1:C16,ROW(INDIRECT(Avril!K4&":"&M4)))=0)) -> 12 | R4: 25 | S4: Payé | T4: =IF(S4="Payé",1,0) -> 1
A5: Seb 3h | B5: Micka | C5: 1 | D5: Jersey | E5: Foot | F5: Portugal | G5: Away | H5: M | I5: 10 | J5: Quaresma | K5: 41738 | L5: 41746 | M5: 41753 | N5: =SUMPRODUCT((WEEKDAY(ROW(INDIRECT(K5&":"&L5)),2)<7)*(COUNTIF('Jours fériés'!C$6:C$16,ROW(INDIRECT(Avril!K5&":"&L5)))=0)) -> 7 | O5: =SUMPRODUCT((WEEKDAY(ROW(INDIRECT(K5&":"&M5)),2)<7)*(COUNTIF('Jours fériés'!C1:C16,ROW(INDIRECT(Avril!K5&":"&M5)))=0)) -> 12 | R5: 25 | S5: Payé | T5: =IF(S5="Payé",1,0) -> 1
A6: Seb 3h | B6: Micka | C6: 1 | D6: Jersey | E6: Foot | F6: France | G6: Home | H6: L | I6: 10 | J6: Anto | K6: 41738 | L6: 41746 | M6: 41753 | N6: =SUMPRODUCT((WEEKDAY(ROW(INDIRECT(K6&":"&L6)),2)<7)*(COUNTIF('Jours fériés'!C$6:C$16,ROW(INDIRECT(Avril!K6&":"&L6)))=0)) -> 7 | O6: =SUMPRODUCT((WEEKDAY(ROW(INDIRECT(K6&":"&M6)),2)<7)*(COUNTIF('Jours fériés'!C1:C16,ROW(INDIRECT(Avril!K6&":"&M6)))=0)) -> 12 | R6: 25 | S6: Payé | T6: =IF(S6="Payé",1,0) -> 1
A7: Seb 3h | B7: Micka | C7: 1 | D7: Jersey | E7: Foot | F7: Bayern | G7: Home | H7: L | I7: 31 | J7: Schweinsteiger | K7: 41738 | L7: 41746 | M7: 41753 | N7: =SUMPRODUCT((WEEKDAY(ROW(INDIRECT(K7&":"&L7)),2)<7)*(COUNTIF('Jours fériés'!C$6:C$16,ROW(INDIRECT(Avril!K7&":"&L7)))=0)) -> 7 | O7: =SUMPRODUCT((WEEKDAY(ROW(INDIRECT(K7&":"&M7)),2)<7)*(COUNTIF('Jours fériés'!C1:C16,ROW(INDIRECT(Avril!K7&":"&M7)))=0)) -> 12 | R7: 25 | S7: Payé | T7: =IF(S7="Payé",1,0) -> 1
A8: Seb 3h | B8: Micka | C8: 1 | D8: Jersey | E8: Foot | F8: Portugal | G8: Away | H8: M | I8: 7 | J8: Ronaldo | K8: 41738 | L8: 41746 | M8: 41753 | N8: =SUMPRODUCT((WEEKDAY(ROW(INDIRECT(K8&":"&L8)),2)<7)*(COUNTIF('Jours fériés'!C$6:C$16,ROW(INDIRECT(Avril!K8&":"&L8)))=0)) -> 7 | O8: =SUMPRODUCT((WEEKDAY(ROW(INDIRECT(K8&":"&M8)),2)<7)*(COUNTIF('Jours fériés'!C1:C16,ROW(INDIRECT(Avril!K8&":"&M8)))=0)) -> 12 | R8: 25 | S8: Payé | T8: =IF(S8="Payé",1,0) -> 1
A9: Seb 3h | B9: Micka | C9: 1 | D9: Jersey | E9: Foot | F9: Bayern | G9: Third | H9: M | I9: 7 | J9: Ribéry | K9: 41738 | L9: 41746 | M9: 41753 | N9: =SUMPRODUCT((WEEKDAY(ROW(INDIRECT(K9&":"&L9)),2)<7)*(COUNTIF('Jours fériés'!C$6:C$16,ROW(INDIRECT(Avril!K9&":"&L9)))=0)) -> 7 | O9: =SUMPRODUCT((WEEKDAY(ROW(INDIRECT(K9&":"&M9)),2)<7)*(COUNTIF('Jours fériés'!C1:C16,ROW(INDIRECT(Avril!K9&":"&M9)))=0)) -> 12 | R9: 0 | S9: Payé | T9: =IF(S9="Payé",1,0) -> 1
A10: Seb 3h | B10: Micka | C10: 1 | D10: Jersey | E10: Foot | F10: Juventus | G10: Home | H10: 24 | I10: 7 | J10: Enzo | K10: 41738 | L10: 41746 | M10: 41753 | N10: =SUMPRODUCT((WEEKDAY(ROW(INDIRECT(K10&":"&L10)),2)<7)*(COUNTIF('Jours fériés'!C$6:C$16,ROW(INDIRECT(Avril!K10&":"&L10)))=0)) -> 7 | O10: =SUMPRODUCT((WEEKDAY(ROW(INDIRECT(K10&":"&M10)),2)<7)*(COUNTIF('Jours fériés'!C3:C16,ROW(INDIRECT(Avril!K10&":"&M10)))=0)) -> 12 | R10: 25 | S10: Payé | T10: =IF(S10="Payé",1,0) -> 1
A11: Seb 3h | B11: Micka | C11: 1 | D11: Jersey | E11: Foot | F11: Barcelona | G11: Home | H11: 28 | I11: 11 | J11: Neymar Jr. | K11: 41738 | L11: 41746 | M11: 41753 | N11: =SUMPRODUCT((WEEKDAY(ROW(INDIRECT(K11&":"&L11)),2)<7)*(COUNTIF('Jours fériés'!C$6:C$16,ROW(INDIRECT(Avril!K11&":"&L11)))=0)) -> 7 | O11: =SUMPRODUCT((WEEKDAY(ROW(INDIRECT(K11&":"&M11)),2)<7)*(COUNTIF('Jours fériés'!C4:C16,ROW(INDIRECT(Avril!K11&":"&M11)))=0)) -> 12 | R11: 25 | S11: Payé | T11: =IF(S11="Payé",1,0) -> 1
A12: Pascal | C12: 1 | D12: Short | E12: Foot | F12: Portugal | G12: Home | H12: S | K12: 41738 | L12: 41746 | M12: 41753 | N12: =SUMPRODUCT((WEEKDAY(ROW(INDIRECT(K12&":"&L12)),2)<7)*(COUNTIF('Jours fériés'!C$6:C$16,ROW(INDIRECT(Avril!K12&":"&L12)))=0)) -> 7 | O12: =SUMPRODUCT((WEEKDAY(ROW(INDIRECT(K12&":"&M12)),2)<7)*(COUNTIF('Jours fériés'!C5:C16,ROW(INDIRECT(Avril!K12&":"&M12)))=0)) -> 12 | R12: 0 | T12: =IF(S12="Payé",1,0) -> 0
A13: Dadado | C13: 1 | D13: Jersey | E13: Rugby | F13: France | G13: Home | H13: L | K13: 41739 | L13: 41741 | M13: 41754 | N13: =SUMPRODUCT((WEEKDAY(ROW(INDIRECT(K13&":"&L13)),2)<7)*(COUNTIF('Jours fériés'!C$6:C$16,ROW(INDIRECT(Avril!K13&":"&L13)))=0)) -> 3 | O13: =SUMPRODUCT((WEEKDAY(ROW(INDIRECT(K13&":"&M13)),2)<7)*(COUNTIF('Jours fériés'!C1:C16,ROW(INDIRECT(Avril!K13&":"&M13)))=0)) -> 13 | P13: 15.83 | Q13: 0.52 | R13: 25 | S13: Payé | T13: =IF(S13="Payé",1,0) -> 1
A14: Fabien | C14: 1 | D14: Jersey | E14: Foot | F14: Italy | G14: Home | H14: M | K14: 41741 | L14: 41745 | M14: 41751 | N14: =SUMPRODUCT((WEEKDAY(ROW(INDIRECT(K14&":"&L14)),2)<7)*(COUNTIF('Jours fériés'!C$6:C$16,ROW(INDIRECT(Avril!K14&":"&L14)))=0)) -> 4 | O14: =SUMPRODUCT((WEEKDAY(ROW(INDIRECT(K14&":"&M14)),2)<7)*(COUNTIF('Jours fériés'!C6:C17,ROW(INDIRECT(Avril!K14&":"&M14)))=0)) -> 8 | R14: 0 | T14: =IF(S14="Payé",1,0) -> 0
A15: Fabien | C15: 1 | D15: Jersey | E15: Foot | F15: France | G15: Home | H15: M | K15: 41741 | L15: 41745 | M15: 41751 | N15: =SUMPRODUCT((WEEKDAY(ROW(INDIRECT(K15&":"&L15)),2)<7)*(COUNTIF('Jours fériés'!C$6:C$16,ROW(INDIRECT(Avril!K15&":"&L15)))=0)) -> 4 | O15: =SUMPRODUCT((WEEKDAY(ROW(INDIRECT(K15&":"&M15)),2)<7)*(COUNTIF('Jours fériés'!C6:C18,ROW(INDIRECT(Avril!K15&":"&M15)))=0)) -> 8 | R15: 0 | T15: =IF(S15="Payé",1,0) -> 0
A16: Fabien | C16: 1 | D16: Jersey | E16: Foot | F16: Portugal | G16: Home | H16: M | K16: 41741 | L16: 41745 | M16: 41751 | N16: =SUMPRODUCT((WEEKDAY(ROW(INDIRECT(K16&":"&L16)),2)<7)*(COUNTIF('Jours fériés'!C$6:C$16,ROW(INDIRECT(Avril!K16&":"&L16)))=0)) -> 4 | O16: =SUMPRODUCT((WEEKDAY(ROW(INDIRECT(K16&":"&M16)),2)<7)*(COUNTIF('Jours fériés'!C6:C19,ROW(INDIRECT(Avril!K16&":"&M16)))=0)) -> 8 | R16: 0 | T16: =IF(S16="Payé",1,0) -> 0
A17: Dadado | C17: 1 | D17: Jersey | E17: Basket | F17: Spurs | G17: Home | H17: 12 years | I17: 9 | J17: Parker | K17: 41742 | L17: 41744 | M17: 41787 | N17: =SUMPRODUCT((WEEKDAY(ROW(INDIRECT(K17&":"&L17)),2)<7)*(COUNTIF('Jours fériés'!C$6:C$16,ROW(INDIRECT(Avril!K17&":"&L17)))=0)) -> 2 | O17: =SUMPRODUCT((WEEKDAY(ROW(INDIRECT(K17&":"&M17)),2)<7)*(COUNTIF('Jours fériés'!C10:C20,ROW(INDIRECT(Avril!K17&":"&M17)))=0)) -> 39 | P17: 14.43 | Q17: 0.49 | R17: 25 | S17: Payé | T17: =IF(S17="Payé",1,0) -> 1
A18: Seb 3h | C18: 1 | D18: Jersey | E18: Foot | F18: Monaco | G18: Home | H18: S | K18: 41742 | L18: 41744 | M18: 41782 | N18: =SUMPRODUCT((WEEKDAY(ROW(INDIRECT(K18&":"&L18)),2)<7)*(COUNTIF('Jours fériés'!C$6:C$16,ROW(INDIRECT(Avril!K18&":"&L18)))=0)) -> 2 | O18: =SUMPRODUCT((WEEKDAY(ROW(INDIRECT(K18&":"&M18)),2)<7)*(COUNTIF('Jours fériés'!C11:C21,ROW(INDIRECT(Avril!K18&":"&M18)))=0)) -> 35 | P18: 12.72 | R18: 0 | T18: =IF(S18="Payé",1,0) -> 0
A19: Dadado | C19: 1 | D19: Jersey | E19: Foot | F19: Psg | G19: Home | H19: 12 years | I19: 10 | J19: Ibrahimovic | K19: 41745 | L19: 41751 | M19: 41759 | N19: =SUMPRODUCT((WEEKDAY(ROW(INDIRECT(K19&":"&L19)),2)<7)*(COUNTIF('Jours fériés'!C$6:C$16,ROW(INDIRECT(Avril!K19&":"&L19)))=0)) -> 5 | O19: =SUMPRODUCT((WEEKDAY(ROW(INDIRECT(K19&":"&M19)),2)<7)*(COUNTIF('Jours fériés'!C$1:C$30,ROW(INDIRECT(Avril!K19&":"&M19)))=0)) -> 12 | P19: 132.25 | R19: 25 | S19: Payé | T19: =IF(S19="Payé",1,0) -> 1
A20: Dadado | C20: 1 | D20: Jersey | E20: Foot | F20: Portugal | G20: Home | H20: 14 years | I20: 7 | J20: Ronaldo | K20: 41745 | L20: 41751 | M20: 41759 | N20: =SUMPRODUCT((WEEKDAY(ROW(INDIRECT(K20&":"&L20)),2)<7)*(COUNTIF('Jours fériés'!C$6:C$16,ROW(INDIRECT(Avril!K20&":"&L20)))=0)) -> 5 | O20: =SUMPRODUCT((WEEKDAY(ROW(INDIRECT(K20&":"&M20)),2)<7)*(COUNTIF('Jours fériés'!C$1:C$30,ROW(INDIRECT(Avril!K20&":"&M20)))=0)) -> 12 | R20: 25 | S20: Payé | T20: =IF(S20="Payé",1,0) -> 1
A21: Dadado | C21: 1 | D21: Jersey | E21: Foot | F21: Barcelona | G21: Away | H21: 12 years | I21: 10 | J21: Messi | K21: 41745 | L21: 41751 | M21: 41759 | N21: =SUMPRODUCT((WEEKDAY(ROW(INDIRECT(K21&":"&L21)),2)<7)*(COUNTIF('Jours fériés'!C$6:C$16,ROW(INDIRECT(Avril!K21&":"&L21)))=0)) -> 5 | O21: =SUMPRODUCT((WEEKDAY(ROW(INDIRECT(K21&":"&M21)),2)<7)*(COUNTIF('Jours fériés'!C$1:C$30,ROW(INDIRECT(Avril!K21&":"&M21)))=0)) -> 12 | R21: 25 | S21: Payé | T21: =IF(S21="Payé",1,0) -> 1
A22: Dadado | C22: 1 | D22: Jersey | E22: Foot | F22: Barcelona | G22: Away | H22: S | I22: 11 | J22: Neymar | K22: 41745 | L22: 41751 | M22: 41759 | N22: =SUMPRODUCT((WEEKDAY(ROW(INDIRECT(K22&":"&L22)),2)<7)*(COUNTIF('Jours fériés'!C$6:C$16,ROW(INDIRECT(Avril!K22&":"&L22)))=0)) -> 5 | O22: =SUMPRODUCT((WEEKDAY(ROW(INDIRECT(K22&":"&M22)),2)<7)*(COUNTIF('Jours fériés'!C$1:C$30,ROW(INDIRECT(Avril!K22&":"&M22)))=0)) -> 12 | R22: 25 | S22: Payé | T22: =IF(S22="Payé",1,0) -> 1
A23: Dadado | C23: 1 | D23: Jersey | E23: Foot | F23: Spain | G23: Home | H23: XL | K23: 41745 | L23: 41751 | M23: 41759 | N23: =SUMPRODUCT((WEEKDAY(ROW(INDIRECT(K23&":"&L23)),2)<7)*(COUNTIF('Jours fériés'!C$6:C$16,ROW(INDIRECT(Avril!K23&":"&L23)))=0)) -> 5 | O23: =SUMPRODUCT((WEEKDAY(ROW(INDIRECT(K23&":"&M23)),2)<7)*(COUNTIF('Jours fériés'!C$1:C$30,ROW(INDIRECT(Avril!K23&":"&M23)))=0)) -> 12 | R23: 25 | S23: Payé | T23: =IF(S23="Payé",1,0) -> 1
A24: Dadado | C24: 1 | D24: Jersey | E24: Foot | F24: France | G24: Home | H24: 12 years | I24: 6 | J24: Clément | K24: 41745 | L24: 41751 | M24: 41759 | N24: =SUMPRODUCT((WEEKDAY(ROW(INDIRECT(K24&":"&L24)),2)<7)*(COUNTIF('Jours fériés'!C$6:C$16,ROW(INDIRECT(Avril!K24&":"&L24)))=0)) -> 5 | O24: =SUMPRODUCT((WEEKDAY(ROW(INDIRECT(K24&":"&M24)),2)<7)*(COUNTIF('Jours fériés'!C$1:C$30,ROW(INDIRECT(Avril!K24&":"&M24)))=0)) -> 12 | R24: 25 | S24: Payé | T24: =IF(S24="Payé",1,0) -> 1
A25: Seb 3h | C25: 1 | D25: Jersey | E25: Foot | F25: PSG | G25: Home | H25: M | I25: 10 | J25: Ibrahimovic | K25: 41745 | L25: 41751 | M25: 41759 | N25: =SUMPRODUCT((WEEKDAY(ROW(INDIRECT(K25&":"&L25)),2)<7)*(COUNTIF('Jours fériés'!C$6:C$16,ROW(INDIRECT(Avril!K25&":"&L25)))=0)) -> 5 | O25: =SUMPRODUCT((WEEKDAY(ROW(INDIRECT(K25&":"&M25)),2)<7)*(COUNTIF('Jours fériés'!C$1:C$30,ROW(INDIRECT(Avril!K25&":"&M25)))=0)) -> 12 | R25: 25 | S25: Payé | T25: =IF(S25="Payé",1,0) -> 1
A26: Seb 3h | C26: 1 | D26: Jersey | E26: Foot | F26: Real | G26: Third | H26: M | I26: 7 | J26: Ronaldo | K26: 41745 | L26: 41751 | M26: 41759 | N26: =SUMPRODUCT((WEEKDAY(ROW(INDIRECT(K26&":"&L26)),2)<7)*(COUNTIF('Jours fériés'!C$6:C$16,ROW(INDIRECT(Avril!K26&":"&L26)))=0)) -> 5 | O26: =SUMPRODUCT((WEEKDAY(ROW(INDIRECT(K26&":"&M26)),2)<7)*(COUNTIF('Jours fériés'!C$1:C$30,ROW(INDIRECT(Avril!K26&":"&M26)))=0)) -> 12 | R26: 25 | S26: Payé | T26: =IF(S26="Payé",1,0) -> 1
A27: Seb 3h | C27: 1 | D27: Jersey | E27: Foot | F27: Real | G27: Third | H27: 7 years | I27: 7 | J27: Ronaldo | K27: 41745 | L27: 41751 | M27: 41759 | N27: =SUMPRODUCT((WEEKDAY(ROW(INDIRECT(K27&":"&L27)),2)<7)*(COUNTIF('Jours fériés'!C$6:C$16,ROW(INDIRECT(Avril!K27&":"&L27)))=0)) -> 5 | O27: =SUMPRODUCT((WEEKDAY(ROW(INDIRECT(K27&":"&M27)),2)<7)*(COUNTIF('Jours fériés'!C$1:C$30,ROW(INDIRECT(Avril!K27&":"&M27)))=0)) -> 12 | R27: 25 | S27: Payé | T27: =IF(S27="Payé",1,0) -> 1
A28: Seb 3h | C28: 1 | D28: Jersey | E28: Foot | F28: Portugal | G28: Away | H28: 7 years | I28: 7 | J28: Ronaldo | K28: 41745 | L28: 41751 | M28: 41785 | N28: =SUMPRODUCT((WEEKDAY(ROW(INDIRECT(K28&":"&L28)),2)<7)*(COUNTIF('Jours fériés'!C$6:C$16,ROW(INDIRECT(Avril!K28&":"&L28)))=0)) -> 5 | O28: =SUMPRODUCT((WEEKDAY(ROW(INDIRECT(K28&":"&M28)),2)<7)*(COUNTIF('Jours fériés'!C$1:C$30,ROW(INDIRECT(Avril!K28&":"&M28)))=0)) -> 32 | R28: 25 | S28: Payé | T28: =IF(S28="Payé",1,0) -> 1
A29: Jawed | C29: 1 | D29: Jersey | E29: Foot | F29: PSG | G29: Home | H29: S | I29: 10 | J29: Ibrahimovic | K29: 41747 | L29: 41770 | M29: 41785 | N29: =SUMPRODUCT((WEEKDAY(ROW(INDIRECT(K29&":"&L29)),2)<7)*(COUNTIF('Jours fériés'!C$6:C$16,ROW(INDIRECT(Avril!K29&":"&L29)))=0)) -> 17 | O29: =SUMPRODUCT((WEEKDAY(ROW(INDIRECT(K29&":"&M29)),2)<7)*(COUNTIF('Jours fériés'!C22:C32,ROW(INDIRECT(Avril!K29&":"&M29)))=0)) -> 33 | P29: 219.42 | R29: 25 | S29: Payé | T29: =IF(S29="Payé",1,0) -> 1
A30: Jawed | C30: 1 | D30: Jersey | E30: Foot | F30: Barcelona | G30: Third | H30: S | I30: 11 | J30: Neymar JR. | K30: 41747 | L30: 41769 | M30: 41780 | N30: =SUMPRODUCT((WEEKDAY(ROW(INDIRECT(K30&":"&L30)),2)<7)*(COUNTIF('Jours fériés'!C$6:C$16,ROW(INDIRECT(Avril!K30&":"&L30)))=0)) -> 17 | O30: =SUMPRODUCT((WEEKDAY(ROW(INDIRECT(K30&":"&M30)),2)<7)*(COUNTIF('Jours fériés'!C23:C33,ROW(INDIRECT(Avril!K30&":"&M30)))=0)) -> 29 | R30: 25 | S30: Payé | T30: =IF(S30="Payé",1,0) -> 1
A31: Jawed | C31: 1 | D31: Jersey | E31: Foot | F31: PSG | G31: Home | H31: M | I31: 7 | J31: Ménez | K31: 41747 | L31: 41769 | M31: 41780 | N31: =SUMPRODUCT((WEEKDAY(ROW(INDIRECT(K31&":"&L31)),2)<7)*(COUNTIF('Jours fériés'!C$6:C$16,ROW(INDIRECT(Avril!K31&":"&L31)))=0)) -> 17 | O31: =SUMPRODUCT((WEEKDAY(ROW(INDIRECT(K31&":"&M31)),2)<7)*(COUNTIF('Jours fériés'!C24:C34,ROW(INDIRECT(Avril!K31&":"&M31)))=0)) -> 29 | R31: 25 | S31: Payé | T31: =IF(S31="Payé",1,0) -> 1
A32: Jawed | C32: 1 | D32: Jersey | E32: Foot | F32: PSG/women | G32: Away | H32: S | I32: 9 | J32: Cavani | K32: 41747 | L32: 41769 | M32: 41780 | N32: =SUMPRODUCT((WEEKDAY(ROW(INDIRECT(K32&":"&L32)),2)<7)*(COUNTIF('Jours fériés'!C$6:C$16,ROW(INDIRECT(Avril!K32&":"&L32)))=0)) -> 17 | O32: =SUMPRODUCT((WEEKDAY(ROW(INDIRECT(K32&":"&M32)),2)<7)*(COUNTIF('Jours fériés'!C25:C35,ROW(INDIRECT(Avril!K32&":"&M32)))=0)) -> 29 | R32: 20 | S32: Payé | T32: =IF(S32="Payé",1,0) -> 1
A33: Jawed | C33: 1 | D33: Jersey | E33: Foot | F33: Barça/Women | G33: Third | H33: L | K33: 41747 | L33: 41769 | M33: 41778 | N33: =SUMPRODUCT((WEEKDAY(ROW(INDIRECT(K33&":"&L33)),2)<7)*(COUNTIF('Jours fériés'!C$6:C$16,ROW(INDIRECT(Avril!K33&":"&L33)))=0)) -> 17 | O33: =SUMPRODUCT((WEEKDAY(ROW(INDIRECT(K33&":"&M33)),2)<7)*(COUNTIF('Jours fériés'!C26:C36,ROW(INDIRECT(Avril!K33&":"&M33)))=0)) -> 27 | R33: 20 | S33: Payé | T33: =IF(S33="Payé",1,0) -> 1
A34: Jawed | C34: 1 | D34: Jersey | E34: Foot | F34: PSG | G34: Home | H34: L | I34: 2 | J34: T. Silva | K34: 41747 | L34: 41770 | M34: 41785 | N34: =SUMPRODUCT((WEEKDAY(ROW(INDIRECT(K34&":"&L34)),2)<7)*(COUNTIF('Jours fériés'!C$6:C$16,ROW(INDIRECT(Avril!K34&":"&L34)))=0)) -> 17 | O34: =SUMPRODUCT((WEEKDAY(ROW(INDIRECT(K34&":"&M34)),2)<7)*(COUNTIF('Jours fériés'!C27:C37,ROW(INDIRECT(Avril!K34&":"&M34)))=0)) -> 33 | R34: 25 | S34: Payé | T34: =IF(S34="Payé",1,0) -> 1
A35: Jawed | C35: 1 | D35: Jersey | E35: Foot | F35: AC Milan | G35: Home | H35: 16 | I35: 10 | K35: 41747 | L35: 41769 | M35: 41778 | N35: =SUMPRODUCT((WEEKDAY(ROW(INDIRECT(K35&":"&L35)),2)<7)*(COUNTIF('Jours fériés'!C$6:C$16,ROW(INDIRECT(Avril!K35&":"&L35)))=0)) -> 17 | O35: =SUMPRODUCT((WEEKDAY(ROW(INDIRECT(K35&":"&M35)),2)<7)*(COUNTIF('Jours fériés'!C28:C38,ROW(INDIRECT(Avril!K35&":"&M35)))=0)) -> 27 | R35: 25 | S35: Payé | T35: =IF(S35="Payé",1,0) -> 1
A36: Jawed | C36: 1 | D36: Jersey | E36: Foot | F36: Barcelona | G36: Third | H36: 18 | I36: 10 | K36: 41747 | L36: 41769 | M36: 41778 | N36: =SUMPRODUCT((WEEKDAY(ROW(INDIRECT(K36&":"&L36)),2)<7)*(COUNTIF('Jours fériés'!C$6:C$16,ROW(INDIRECT(Avril!K36&":"&L36)))=0)) -> 17 | O36: =SUMPRODUCT((WEEKDAY(ROW(INDIRECT(K36&":"&M36)),2)<7)*(COUNTIF('Jours fériés'!C29:C39,ROW(INDIRECT(Avril!K36&":"&M36)))=0)) -> 27 | R36: 25 | S36: Payé | T36: =IF(S36="Payé",1,0) -> 1
A37: Jawed | C37: 1 | D37: Jersey | E37: Foot | F37: Bayern | G37: Home | H37: 20 | I37: 10 | K37: 41747 | L37: 41769 | M37: 41778 | N37: =SUMPRODUCT((WEEKDAY(ROW(INDIRECT(K37&":"&L37)),2)<7)*(COUNTIF('Jours fériés'!C$6:C$16,ROW(INDIRECT(Avril!K37&":"&L37)))=0)) -> 17 | O37: =SUMPRODUCT((WEEKDAY(ROW(INDIRECT(K37&":"&M37)),2)<7)*(COUNTIF('Jours fériés'!C30:C40,ROW(INDIRECT(Avril!K37&":"&M37)))=0)) -> 27 | R37: 25 | S37: Payé | T37: =IF(S37="Payé",1,0) -> 1
A38: Jawed | C38: 1 | D38: Jersey | E38: Foot | F38: Barcelona | G38: Home | H38: 20 | I38: 10 | K38: 41747 | L38: 41769 | M38: 41778 | N38: =SUMPRODUCT((WEEKDAY(ROW(INDIRECT(K38&":"&L38)),2)<7)*(COUNTIF('Jours fériés'!C$6:C$16,ROW(INDIRECT(Avril!K38&":"&L38)))=0)) -> 17 | O38: =SUMPRODUCT((WEEKDAY(ROW(INDIRECT(K38&":"&M38)),2)<7)*(COUNTIF('Jours fériés'!C31:C41,ROW(INDIRECT(Avril!K38&":"&M38)))=0)) -> 27 | R38: 25 | S38: Payé | T38: =IF(S38="Payé",1,0) -> 1
A39: Jawed | C39: 1 | D39: Jersey | E39: Foot | F39: PSG | G39: Away | H39: 22 | I39: 10 | K39: 41747 | L39: 41769 | M39: 41778 | N39: =SUMPRODUCT((WEEKDAY(ROW(INDIRECT(K39&":"&L39)),2)<7)*(COUNTIF('Jours fériés'!C$6:C$16,ROW(INDIRECT(Avril!K39&":"&L39)))=0)) -> 17 | O39: =SUMPRODUCT((WEEKDAY(ROW(INDIRECT(K39&":"&M39)),2)<7)*(COUNTIF('Jours fériés'!C32:C42,ROW(INDIRECT(Avril!K39&":"&M39)))=0)) -> 27 | R39: 25 | S39: Payé | T39: =IF(S39="Payé",1,0) -> 1
A40: Jawed | C40: 1 | D40: Jersey | E40: Foot | F40: PSG | G40: Home | H40: 24 | I40: 10 | K40: 41747 | L40: 41769 | M40: 41778 | N40: =SUMPRODUCT((WEEKDAY(ROW(INDIRECT(K40&":"&L40)),2)<7)*(COUNTIF('Jours fériés'!C$6:C$16,ROW(INDIRECT(Avril!K40&":"&L40)))=0)) -> 17 | O40: =SUMPRODUCT((WEEKDAY(ROW(INDIRECT(K40&":"&M40)),2)<7)*(COUNTIF('Jours fériés'!C33:C43,ROW(INDIRECT(Avril!K40&":"&M40)))=0)) -> 27 | Q40: 60 | R40: 25 | S40: Payé | T40: =IF(S40="Payé",1,0) -> 1
...

Sheet Mai
A1: Personne | B1: Pour qui | C1: Quantité | D1: type | E1: sport | F1: Club/Pays | G1: Ho / Aw | H1: Taille | I1: Numéro | J1: Joueur | K1: Date de commande | L1: Date d'envoi | M1: date de réception | N1: Temps d'exp | O1: Temps (O to R) | P1: achat | Q1: Frais | R1: vente
A2: Dadado | C2: 1 | D2: Jersey | E2: Hockey | F2: Montreal | G2: Red | H2: M | K2: 41760 | L2: 41760 | M2: 41776 | N2: =SUMPRODUCT((WEEKDAY(ROW(INDIRECT(K2&":"&L2)),2)<7)*(COUNTIF('Jours fériés'!C$6:C$16,ROW(INDIRECT(Mai!K2&":"&L2)))=0)) -> 0 | O2: =SUMPRODUCT((WEEKDAY(ROW(INDIRECT(K2&":"&M2)),2)<7)*(COUNTIF('Jours fériés'!C$1:C$16,ROW(INDIRECT(Mai!K2&":"&M2)))=0)) -> 13 | P2: 19.02 | R2: 30 | S2: Payé | T2: =IF(S2="Payé",R2,0) -> 30
A3: Dadado | B3: Tony Dessurne | C3: 1 | D3: Jersey/short | E3: Basket | F3: Bulls | G3: Red | H3: Kids (XL) | I3: 1 | J3: Rose | K3: 41761 | L3: 41762 | M3: 41778 | N3: =SUMPRODUCT((WEEKDAY(ROW(INDIRECT(K3&":"&L3)),2)<7)*(COUNTIF('Jours fériés'!C$6:C$16,ROW(INDIRECT(Mai!K3&":"&L3)))=0)) -> 2 | O3: =SUMPRODUCT((WEEKDAY(ROW(INDIRECT(K3&":"&M3)),2)<7)*(COUNTIF('Jours fériés'!C$1:C$16,ROW(INDIRECT(Mai!K3&":"&M3)))=0)) -> 14 | P3: 14.62 | R3: 30 | T3: =IF(S3="Payé",R3,0) -> 0
A4: Dadado | B4: Nounours | C4: 1 | D4: Jersey | E4: Rugby | F4: France | G4: Home | H4: XL | K4: 41761 | L4: 41764 | M4: 41778 | N4: =SUMPRODUCT((WEEKDAY(ROW(INDIRECT(K4&":"&L4)),2)<7)*(COUNTIF('Jours fériés'!C$6:C$16,ROW(INDIRECT(Mai!K4&":"&L4)))=0)) -> 3 | O4: =SUMPRODUCT((WEEKDAY(ROW(INDIRECT(K4&":"&M4)),2)<7)*(COUNTIF('Jours fériés'!C$1:C$16,ROW(INDIRECT(Mai!K4&":"&M4)))=0)) -> 14 | P4: 139.42 | R4: 25 | S4: Payé | T4: =IF(S4="Payé",R4,0) -> 25
A5: Dadado | B5: Nounours | C5: 1 | D5: Jersey | E5: Rugby | F5: France | G5: Home | H5: XL | K5: 41761 | L5: 41764 | M5: 41778 | N5: =SUMPRODUCT((WEEKDAY(ROW(INDIRECT(K5&":"&L5)),2)<7)*(COUNTIF('Jours fériés'!C$6:C$16,ROW(INDIRECT(Mai!K5&":"&L5)))=0)) -> 3 | O5: =SUMPRODUCT((WEEKDAY(ROW(INDIRECT(K5&":"&M5)),2)<7)*(COUNTIF('Jours fériés'!C$1:C$16,ROW(INDIRECT(Mai!K5&":"&M5)))=0)) -> 14 | R5: 25 | S5: Payé | T5: =IF(S5="Payé",R5,0) -> 25
A6: Dadado | B6: Mathieu Pont | C6: 1 | D6: Jersey | E6: Rugby | F6: France | G6: Home | H6: XL | K6: 41761 | L6: 41764 | M6: 41778 | N6: =SUMPRODUCT((WEEKDAY(ROW(INDIRECT(K6&":"&L6)),2)<7)*(COUNTIF('Jours fériés'!C$6:C$16,ROW(INDIRECT(Mai!K6&":"&L6)))=0)) -> 3 | O6: =SUMPRODUCT((WEEKDAY(ROW(INDIRECT(K6&":"&M6)),2)<7)*(COUNTIF('Jours fériés'!C$1:C$16,ROW(INDIRECT(Mai!K6&":"&M6)))=0)) -> 14 | R6: 25 | S6: Payé | T6: =IF(S6="Payé",R6,0) -> 25
A7: Dadado | B7: Davin | C7: 1 | D7: Jersey | E7: Rugby | F7: France | G7: Home | H7: XL | K7: 41761 | L7: 41764 | M7: 41787 | N7: =SUMPRODUCT((WEEKDAY(ROW(INDIRECT(K7&":"&L7)),2)<7)*(COUNTIF('Jours fériés'!C$6:C$16,ROW(INDIRECT(Mai!K7&":"&L7)))=0)) -> 3 | O7: =SUMPRODUCT((WEEKDAY(ROW(INDIRECT(K7&":"&M7)),2)<7)*(COUNTIF('Jours fériés'!C$1:C$16,ROW(INDIRECT(Mai!K7&":"&M7)))=0)) -> 22 | R7: 25 | T7: =IF(S7="Payé",R7,0) -> 0
A8: Dadado | B8: Nounours | C8: 1 | D8: Jersey | E8: Rugby | F8: France | G8: Home | H8: L | K8: 41761 | L8: 41764 | M8: 41787 | N8: =SUMPRODUCT((WEEKDAY(ROW(INDIRECT(K8&":"&L8)),2)<7)*(COUNTIF('Jours fériés'!C$6:C$16,ROW(INDIRECT(Mai!K8&":"&L8)))=0)) -> 3 | O8: =SUMPRODUCT((WEEKDAY(ROW(INDIRECT(K8&":"&M8)),2)<7)*(COUNTIF('Jours fériés'!C$1:C$16,ROW(INDIRECT(Mai!K8&":"&M8)))=0)) -> 22 | R8: 25 | S8: Payé | T8: =IF(S8="Payé",R8,0) -> 25
A9: Dadado | B9: Nounours | C9: 1 | D9: Jersey | E9: Rugby | F9: France | G9: Home | H9: L | K9: 41761 | L9: 41764 | M9: 41787 | N9: =SUMPRODUCT((WEEKDAY(ROW(INDIRECT(K9&":"&L9)),2)<7)*(COUNTIF('Jours fériés'!C$6:C$16,ROW(INDIRECT(Mai!K9&":"&L9)))=0)) -> 3 | O9: =SUMPRODUCT((WEEKDAY(ROW(INDIRECT(K9&":"&M9)),2)<7)*(COUNTIF('Jours fériés'!C$1:C$16,ROW(INDIRECT(Mai!K9&":"&M9)))=0)) -> 22 | R9: 25 | S9: Payé | T9: =IF(S9="Payé",R9,0) -> 25
A10: Dadado | B10: Arnaud Babin | C10: 1 | D10: Jersey | E10: Rugby | F10: France | G10: Home | H10: L | K10: 41761 | L10: 41764 | M10: 41787 | N10: =SUMPRODUCT((WEEKDAY(ROW(INDIRECT(K10&":"&L10)),2)<7)*(COUNTIF('Jours fériés'!C$6:C$16,ROW(INDIRECT(Mai!K10&":"&L10)))=0)) -> 3 | O10: =SUMPRODUCT((WEEKDAY(ROW(INDIRECT(K10&":"&M10)),2)<7)*(COUNTIF('Jours fériés'!C$1:C$16,ROW(INDIRECT(Mai!K10&":"&M10)))=0)) -> 22 | R10: 25 | S10: Payé | T10: =IF(S10="Payé",R10,0) -> 25
A11: Dadado | B11: Fred Martinat | C11: 1 | D11: Jersey | E11: Rugby | F11: New Zealand | G11: Home | H11: XL | K11: 41761 | L11: 41764 | M11: 41778 | N11: =SUMPRODUCT((WEEKDAY(ROW(INDIRECT(K11&":"&L11)),2)<7)*(COUNTIF('Jours fériés'!C$6:C$16,ROW(INDIRECT(Mai!K11&":"&L11)))=0)) -> 3 | O11: =SUMPRODUCT((WEEKDAY(ROW(INDIRECT(K11&":"&M11)),2)<7)*(COUNTIF('Jours fériés'!C$1:C$16,ROW(INDIRECT(Mai!K11&":"&M11)))=0)) -> 14 | R11: 25 | T11: =IF(S11="Payé",R11,0) -> 0
A12: Dadado | C12: 1 | D12: Jersey/short | E12: Basket | F12: Bulls | G12: Black | H12: Kids (XL) | I12: 1 | J12: Rose | K12: 41761 | L12: 41762 | M12: 41778 | N12: =SUMPRODUCT((WEEKDAY(ROW(INDIRECT(K12&":"&L12)),2)<7)*(COUNTIF('Jours fériés'!C$6:C$16,ROW(INDIRECT(Mai!K12&":"&L12)))=0)) -> 2 | O12: =SUMPRODUCT((WEEKDAY(ROW(INDIRECT(K12&":"&M12)),2)<7)*(COUNTIF('Jours fériés'!C$1:C$16,ROW(INDIRECT(Mai!K12&":"&M12)))=0)) -> 14 | P12: 13.87 | R12: 30 | T12: =IF(S12="Payé",R12,0) -> 0
A13: Dadado | C13: 1 | D13: Jersey | E13: Rugby | F13: France | G13: Home | H13: XL | K13: 41762 | L13: 41764 | M13: 41787 | N13: =SUMPRODUCT((WEEKDAY(ROW(INDIRECT(K13&":"&L13)),2)<7)*(COUNTIF('Jours fériés'!C$6:C$16,ROW(INDIRECT(Mai!K13&":"&L13)))=0)) -> 2 | O13: =SUMPRODUCT((WEEKDAY(ROW(INDIRECT(K13&":"&M13)),2)<7)*(COUNTIF('Jours fériés'!C$1:C$16,ROW(INDIRECT(Mai!K13&":"&M13)))=0)) -> 21 | P13: 16.11 | R13: 25 | S13: Payé | T13: =IF(S13="Payé",R13,0) -> 25
A14: Seb 3h | C14: 1 | D14: Jersey/short | E14: Soccer | F14: Bayern | G14: Home | H14: 24 | I14: 28 | J14: Begriche | K14: 41762 | M14: 41792 | N14: =SUMPRODUCT((WEEKDAY(ROW(INDIRECT(K14&":"&L14)),2)<7)*(COUNTIF('Jours fériés'!C$6:C$16,ROW(INDIRECT(Mai!K14&":"&L14)))=0)) -> #REF! | O14: =SUMPRODUCT((WEEKDAY(ROW(INDIRECT(K14&":"&M14)),2)<7)*(COUNTIF('Jours fériés'!C$1:C$16,ROW(INDIRECT(Mai!K14&":"&M14)))=0)) -> 24 | P14: 164.02 | R14: 0 | T14: =IF(S14="Payé",R14,0) -> 0
A15: Seb 3h | C15: 1 | D15: Jersey/short | E15: Soccer | F15: Cameroon | G15: Home | H15: S | I15: 12 | J15: Bedimo | K15: 41762 | M15: 41792 | N15: =SUMPRODUCT((WEEKDAY(ROW(INDIRECT(K15&":"&L15)),2)<7)*(COUNTIF('Jours fériés'!C$6:C$16,ROW(INDIRECT(Mai!K15&":"&L15)))=0)) -> #REF! | O15: =SUMPRODUCT((WEEKDAY(ROW(INDIRECT(K15&":"&M15)),2)<7)*(COUNTIF('Jours fériés'!C$1:C$16,ROW(INDIRECT(Mai!K15&":"&M15)))=0)) -> 24 | R15: 0 | T15: =IF(S15="Payé",R15,0) -> 0
A16: Seb 3h | B16: Driss | C16: 1 | D16: Jersey/short | E16: Soccer | F16: Inter | G16: Home | H16: M | I16: 88 | J16: Hernanes | K16: 41762 | M16: 41794 | N16: =SUMPRODUCT((WEEKDAY(ROW(INDIRECT(K16&":"&L16)),2)<7)*(COUNTIF('Jours fériés'!C$6:C$16,ROW(INDIRECT(Mai!K16&":"&L16)))=0)) -> #REF! | O16: =SUMPRODUCT((WEEKDAY(ROW(INDIRECT(K16&":"&M16)),2)<7)*(COUNTIF('Jours fériés'!C$1:C$16,ROW(INDIRECT(Mai!K16&":"&M16)))=0)) -> 26 | R16: 25 | T16: =IF(S16="Payé",R16,0) -> 0
A17: Seb 3h | B17: Driss | C17: 1 | D17: Jersey/short | E17: Soccer | F17: Argentina | G17: Home | H17: S | I17: 22 | J17: Lavezzi | K17: 41762 | M17: 41789 | N17: =SUMPRODUCT((WEEKDAY(ROW(INDIRECT(K17&":"&L17)),2)<7)*(COUNTIF('Jours fériés'!C$6:C$16,ROW(INDIRECT(Mai!K17&":"&L17)))=0)) -> #REF! | O17: =SUMPRODUCT((WEEKDAY(ROW(INDIRECT(K17&":"&M17)),2)<7)*(COUNTIF('Jours fériés'!C$1:C$16,ROW(INDIRECT(Mai!K17&":"&M17)))=0)) -> 22 | R17: 25 | T17: =IF(S17="Payé",R17,0) -> 0
A18: Seb 3h | B18: Micka | C18: 1 | D18: Short | E18: Soccer | F18: Portugal | G18: Home | H18: M | I18: 7 | J18: Ronaldo | K18: 41762 | M18: 41794 | N18: =SUMPRODUCT((WEEKDAY(ROW(INDIRECT(K18&":"&L18)),2)<7)*(COUNTIF('Jours fériés'!C$6:C$16,ROW(INDIRECT(Mai!K18&":"&L18)))=0)) -> #REF! | O18: =SUMPRODUCT((WEEKDAY(ROW(INDIRECT(K18&":"&M18)),2)<7)*(COUNTIF('Jours fériés'!C$1:C$16,ROW(INDIRECT(Mai!K18&":"&M18)))=0)) -> 26 | R18: 25 | T18: =IF(S18="Payé",R18,0) -> 0
A19: Dadado | B19: Denis Poitevin | C19: 1 | D19: Jersey/short | E19: Soccer | F19: France | G19: Away | H19: S | K19: 41762 | M19: 41794 | N19: =SUMPRODUCT((WEEKDAY(ROW(INDIRECT(K19&":"&L19)),2)<7)*(COUNTIF('Jours fériés'!C$6:C$16,ROW(INDIRECT(Mai!K19&":"&L19)))=0)) -> #REF! | O19: =SUMPRODUCT((WEEKDAY(ROW(INDIRECT(K19&":"&M19)),2)<7)*(COUNTIF('Jours fériés'!C$1:C$16,ROW(INDIRECT(Mai!K19&":"&M19)))=0)) -> 26 | R19: 25 | S19: Payé | T19: =IF(S19="Payé",R19,0) -> 25
A20: Dadado | B20: Denis Poitevin | C20: 1 | D20: Jersey/short | E20: Soccer | F20: France | G20: Away | H20: 26 | K20: 41762 | M20: 41794 | N20: =SUMPRODUCT((WEEKDAY(ROW(INDIRECT(K20&":"&L20)),2)<7)*(COUNTIF('Jours fériés'!C$6:C$16,ROW(INDIRECT(Mai!K20&":"&L20)))=0)) -> #REF! | O20: =SUMPRODUCT((WEEKDAY(ROW(INDIRECT(K20&":"&M20)),2)<7)*(COUNTIF('Jours fériés'!C$1:C$16,ROW(INDIRECT(Mai!K20&":"&M20)))=0)) -> 26 | R20: 25 | S20: Payé | T20: =IF(S20="Payé",R20,0) -> 25
A21: Dadado | B21: Davin | C21: 1 | D21: Jersey/short | E21: Soccer | F21: France | G21: Away | H21: 26 | K21: 41762 | M21: 41794 | N21: =SUMPRODUCT((WEEKDAY(ROW(INDIRECT(K21&":"&L21)),2)<7)*(COUNTIF('Jours fériés'!C$6:C$16,ROW(INDIRECT(Mai!K21&":"&L21)))=0)) -> #REF! | O21: =SUMPRODUCT((WEEKDAY(ROW(INDIRECT(K21&":"&M21)),2)<7)*(COUNTIF('Jours fériés'!C$1:C$16,ROW(INDIRECT(Mai!K21&":"&M21)))=0)) -> 26 | R21: 25 | T21: =IF(S21="Payé",R21,0) -> 0
A22: Dadado | B22: Denis Poitevin | C22: 1 | D22: Jersey/short | E22: Soccer | F22: France | G22: Away | H22: 28 | K22: 41762 | N22: =SUMPRODUCT((WEEKDAY(ROW(INDIRECT(K22&":"&L22)),2)<7)*(COUNTIF('Jours fériés'!C$6:C$16,ROW(INDIRECT(Mai!K22&":"&L22)))=0)) -> #REF! | O22: =SUMPRODUCT((WEEKDAY(ROW(INDIRECT(K22&":"&M22)),2)<7)*(COUNTIF('Jours fériés'!C$1:C$16,ROW(INDIRECT(Mai!K22&":"&M22)))=0)) -> #REF! | R22: 25 | S22: Payé | T22: =IF(S22="Payé",R22,0) -> 25
A23: Dadado | B23: Steph Joly | C23: 1 | D23: Jersey/short | E23: Soccer | F23: Barcelona | G23: Home | H23: 28 | I23: 10 | J23: Messi | K23: 41762 | M23: 41790 | N23: =SUMPRODUCT((WEEKDAY(ROW(INDIRECT(K23&":"&L23)),2)<7)*(COUNTIF('Jours fériés'!C$6:C$16,ROW(INDIRECT(Mai!K23&":"&L23)))=0)) -> #REF! | O23: =SUMPRODUCT((WEEKDAY(ROW(INDIRECT(K23&":"&M23)),2)<7)*(COUNTIF('Jours fériés'!C$1:C$16,ROW(INDIRECT(Mai!K23&":"&M23)))=0)) -> 23 | R23: 25 | T23: =IF(S23="Payé",R23,0) -> 0
A24: Dadado | B24: Berrichon | C24: 1 | D24: Jersey/short | E24: Soccer | F24: Brazil | G24: Away | H24: XL | K24: 41762 | M24: 41790 | N24: =SUMPRODUCT((WEEKDAY(ROW(INDIRECT(K24&":"&L24)),2)<7)*(COUNTIF('Jours fériés'!C$6:C$16,ROW(INDIRECT(Mai!K24&":"&L24)))=0)) -> #REF! | O24: =SUMPRODUCT((WEEKDAY(ROW(INDIRECT(K24&":"&M24)),2)<7)*(COUNTIF('Jours fériés'!C$1:C$16,ROW(INDIRECT(Mai!K24&":"&M24)))=0)) -> 23 | R24: 25 | S24: Payé | T24: =IF(S24="Payé",R24,0) -> 25
A25: Dadado | B25: Seb Lemaitre | C25: 1 | D25: Jersey/short | E25: Soccer | F25: PSG | G25: Away | H25: 26 | I25: 10 | J25: Ibrahimovic | K25: 41762 | M25: 41792 | N25: =SUMPRODUCT((WEEKDAY(ROW(INDIRECT(K25&":"&L25)),2)<7)*(COUNTIF('Jours fériés'!C$6:C$16,ROW(INDIRECT(Mai!K25&":"&L25)))=0)) -> #REF! | O25: =SUMPRODUCT((WEEKDAY(ROW(INDIRECT(K25&":"&M25)),2)<7)*(COUNTIF('Jours fériés'!C$1:C$16,ROW(INDIRECT(Mai!K25&":"&M25)))=0)) -> 24 | R25: 25 | S25: Payé | T25: =IF(S25="Payé",R25,0) -> 25
A26: Dadado | B26: Sylvain Muet | C26: 1 | D26: Jersey/short | E26: Soccer | F26: Arsenal | G26: Home | H26: XL | K26: 41762 | M26: 41790 | N26: =SUMPRODUCT((WEEKDAY(ROW(INDIRECT(K26&":"&L26)),2)<7)*(COUNTIF('Jours fériés'!C$6:C$16,ROW(INDIRECT(Mai!K26&":"&L26)))=0)) -> #REF! | O26: =SUMPRODUCT((WEEKDAY(ROW(INDIRECT(K26&":"&M26)),2)<7)*(COUNTIF('Jours fériés'!C$1:C$16,ROW(INDIRECT(Mai!K26&":"&M26)))=0)) -> 23 | R26: 25 | S26: Payé | T26: =IF(S26="Payé",R26,0) -> 25
A27: Dadado | B27: Sylvain Muet | C27: 1 | D27: Jersey/short | E27: Soccer | F27: France | G27: Away | H27: XL | K27: 41762 | M27: 41790 | N27: =SUMPRODUCT((WEEKDAY(ROW(INDIRECT(K27&":"&L27)),2)<7)*(COUNTIF('Jours fériés'!C$6:C$16,ROW(INDIRECT(Mai!K27&":"&L27)))=0)) -> #REF! | O27: =SUMPRODUCT((WEEKDAY(ROW(INDIRECT(K27&":"&M27)),2)<7)*(COUNTIF('Jours fériés'!C$1:C$16,ROW(INDIRECT(Mai!K27&":"&M27)))=0)) -> 23 | R27: 25 | S27: Payé | T27: =IF(S27="Payé",R27,0) -> 25
A28: Dadado | B28: Tony Dessurne | C28: 1 | D28: Jersey/short | E28: Basket | F28: Boston | G28: Green | H28: 16 Years | I28: 11 | K28: 41763 | L28: 41764 | M28: 41797 | N28: =SUMPRODUCT((WEEKDAY(ROW(INDIRECT(K28&":"&L28)),2)<7)*(COUNTIF('Jours fériés'!C$6:C$16,ROW(INDIRECT(Mai!K28&":"&L28)))=0)) -> 1 | O28: =SUMPRODUCT((WEEKDAY(ROW(INDIRECT(K28&":"&M28)),2)<7)*(COUNTIF('Jours fériés'!C$1:C$16,ROW(INDIRECT(Mai!K28&":"&M28)))=0)) -> 28 | R28: 30 | T28: =IF(S28="Payé",R28,0) -> 0
A29: Dadado | B29: Jean Luc | C29: 1 | D29: Jersey/short | E29: Basket | F29: Portland | G29: White | H29: XL | I29: 88 | J29: Batum | K29: 41763 | L29: 41764 | M29: 41797 | N29: =SUMPRODUCT((WEEKDAY(ROW(INDIRECT(K29&":"&L29)),2)<7)*(COUNTIF('Jours fériés'!C$6:C$16,ROW(INDIRECT(Mai!K29&":"&L29)))=0)) -> 1 | O29: =SUMPRODUCT((WEEKDAY(ROW(INDIRECT(K29&":"&M29)),2)<7)*(COUNTIF('Jours fériés'!C$1:C$16,ROW(INDIRECT(Mai!K29&":"&M29)))=0)) -> 28 | P29: 76.89 | R29: 30 | T29: =IF(S29="Payé",R29,0) -> 0
A30: Dadado | B30: Jean Luc | C30: 1 | D30: Jersey/short | E30: Basket | F30: LA Clippers | G30: Blue | H30: S | I30: 32 | J30: Griffin | K30: 41763 | L30: 41764 | M30: 41797 | N30: =SUMPRODUCT((WEEKDAY(ROW(INDIRECT(K30&":"&L30)),2)<7)*(COUNTIF('Jours fériés'!C$6:C$16,ROW(INDIRECT(Mai!K30&":"&L30)))=0)) -> 1 | O30: =SUMPRODUCT((WEEKDAY(ROW(INDIRECT(K30&":"&M30)),2)<7)*(COUNTIF('Jours fériés'!C$1:C$16,ROW(INDIRECT(Mai!K30&":"&M30)))=0)) -> 28 | R30: 30 | T30: =IF(S30="Payé",R30,0) -> 0
A31: Seb 3h | C31: 1 | D31: Jersey/short | E31: Soccer | F31: Real madrid | G31: Third | H31: XL | K31: 41764 | M31: 41790 | N31: =SUMPRODUCT((WEEKDAY(ROW(INDIRECT(K31&":"&L31)),2)<7)*(COUNTIF('Jours fériés'!C$6:C$16,ROW(INDIRECT(Mai!K31&":"&L31)))=0)) -> #REF! | O31: =SUMPRODUCT((WEEKDAY(ROW(INDIRECT(K31&":"&M31)),2)<7)*(COUNTIF('Jours fériés'!C$1:C$16,ROW(INDIRECT(Mai!K31&":"&M31)))=0)) -> 22 | P31: 13.18 | R31: 25 | T31: =IF(S31="Payé",R31,0) -> 0
A32: Seb 3h | C32: 1 | D32: Jersey/short | E32: Soccer | F32: Real madrid | G32: Goalkeeper | H32: 26 | I32: 1 | J32: Casillas | K32: 41766 | M32: 41789 | N32: =SUMPRODUCT((WEEKDAY(ROW(INDIRECT(K32&":"&L32)),2)<7)*(COUNTIF('Jours fériés'!C$6:C$16,ROW(INDIRECT(Mai!K32&":"&L32)))=0)) -> #REF! | O32: =SUMPRODUCT((WEEKDAY(ROW(INDIRECT(K32&":"&M32)),2)<7)*(COUNTIF('Jours fériés'!C$1:C$16,ROW(INDIRECT(Mai!K32&":"&M32)))=0)) -> 19 | P32: 11.66 | R32: 25 | S32: Payé | T32: =IF(S32="Payé",R32,0) -> 25
A33: Dadado | B33: Thierry Ucsa | C33: 1 | D33: Jersey | E33: Rugby | F33: France | G33: Home | H33: XL | K33: 41773 | L33: 41779 | M33: 41789 | N33: =SUMPRODUCT((WEEKDAY(ROW(INDIRECT(K33&":"&L33)),2)<7)*(COUNTIF('Jours fériés'!C$6:C$16,ROW(INDIRECT(Mai!K33&":"&L33)))=0)) -> 6 | O33: =SUMPRODUCT((WEEKDAY(ROW(INDIRECT(K33&":"&M33)),2)<7)*(COUNTIF('Jours fériés'!C$1:C$16,ROW(INDIRECT(Mai!K33&":"&M33)))=0)) -> 14 | R33: 25 | T33: =IF(S33="Payé",R33,0) -> 0
A34: Seb 3h | C34: 1 | D34: Jersey/short | E34: Soccer | F34: Italy | G34: Home/woman | H34: S | K34: 41775 | M34: 41797 | N34: =SUMPRODUCT((WEEKDAY(ROW(INDIRECT(K34&":"&L34)),2)<7)*(COUNTIF('Jours fériés'!C$6:C$16,ROW(INDIRECT(Mai!K34&":"&L34)))=0)) -> #REF! | O34: =SUMPRODUCT((WEEKDAY(ROW(INDIRECT(K34&":"&M34)),2)<7)*(COUNTIF('Jours fériés'!C$1:C$16,ROW(INDIRECT(Mai!K34&":"&M34)))=0)) -> 19 | R34: 0 | T34: =IF(S34="Payé",R34,0) -> 0
A35: Dadado | C35: 1 | D35: Jersey/short | E35: Soccer | F35: Bayern | G35: Third | H35: S | I35: 10 | J35: Robben | K35: 41775 | M35: 41797 | N35: =SUMPRODUCT((WEEKDAY(ROW(INDIRECT(K35&":"&L35)),2)<7)*(COUNTIF('Jours fériés'!C$6:C$16,ROW(INDIRECT(Mai!K35&":"&L35)))=0)) -> #REF! | O35: =SUMPRODUCT((WEEKDAY(ROW(INDIRECT(K35&":"&M35)),2)<7)*(COUNTIF('Jours fériés'!C$1:C$16,ROW(INDIRECT(Mai!K35&":"&M35)))=0)) -> 19 | P35: 133.15 | R35: 25 | S35: Payé | T35: =IF(S35="Payé",R35,0) -> 25
A36: Dadado | B36: Cédric Delon | C36: 1 | D36: Jersey/short | E36: Soccer | F36: PSG | G36: Home | H36: 28 | I36: 10 | J36: Ibrahimovic | K36: 41775 | M36: 41797 | N36: =SUMPRODUCT((WEEKDAY(ROW(INDIRECT(K36&":"&L36)),2)<7)*(COUNTIF('Jours fériés'!C$6:C$16,ROW(INDIRECT(Mai!K36&":"&L36)))=0)) -> #REF! | O36: =SUMPRODUCT((WEEKDAY(ROW(INDIRECT(K36&":"&M36)),2)<7)*(COUNTIF('Jours fériés'!C$1:C$16,ROW(INDIRECT(Mai!K36&":"&M36)))=0)) -> 19 | R36: 25 | T36: =IF(S36="Payé",R36,0) -> 0
A37: Dadado | B37: Cédric Delon | C37: 1 | D37: Jersey/short | E37: Soccer | F37: Spain | G37: Home | H37: 28 | I37: 10 | J37: Adrien | K37: 41775 | M37: 41797 | N37: =SUMPRODUCT((WEEKDAY(ROW(INDIRECT(K37&":"&L37)),2)<7)*(COUNTIF('Jours fériés'!C$6:C$16,ROW(INDIRECT(Mai!K37&":"&L37)))=0)) -> #REF! | O37: =SUMPRODUCT((WEEKDAY(ROW(INDIRECT(K37&":"&M37)),2)<7)*(COUNTIF('Jours fériés'!C$1:C$16,ROW(INDIRECT(Mai!K37&":"&M37)))=0)) -> 19 | R37: 25 | T37: =IF(S37="Payé",R37,0) -> 0
A38: Dadado | B38: Terrension | C38: 1 | D38: Jersey/short | E38: Soccer | F38: France | G38: Home | H38: XL | I38: 24 | J38: Guyot | K38: 41775 | M38: 41797 | N38: =SUMPRODUCT((WEEKDAY(ROW(INDIRECT(K38&":"&L38)),2)<7)*(COUNTIF('Jours fériés'!C$6:C$16,ROW(INDIRECT(Mai!K38&":"&L38)))=0)) -> #REF! | O38: =SUMPRODUCT((WEEKDAY(ROW(INDIRECT(K38&":"&M38)),2)<7)*(COUNTIF('Jours fériés'!C$1:C$16,ROW(INDIRECT(Mai!K38&":"&M38)))=0)) -> 19 | P38: 14.66 | R38: 25 | S38: Payé | T38: =IF(S38="Payé",R38,0) -> 25
A39: Dadado | B39: Nicole | C39: 1 | D39: Jersey/short | E39: Soccer | F39: PSG | G39: Home | H39: S | I39: 9 | J39: Océane | K39: 41775 | M39: 41794 | N39: =SUMPRODUCT((WEEKDAY(ROW(INDIRECT(K39&":"&L39)),2)<7)*(COUNTIF('Jours fériés'!C$6:C$16,ROW(INDIRECT(Mai!K39&":"&L39)))=0)) -> #REF! | O39: =SUMPRODUCT((WEEKDAY(ROW(INDIRECT(K39&":"&M39)),2)<7)*(COUNTIF('Jours fériés'!C$1:C$16,ROW(INDIRECT(Mai!K39&":"&M39)))=0)) -> 16 | R39: 25 | S39: Payé | T39: =IF(S39="Payé",R39,0) -> 25
A40: Dadado | C40: 1 | D40: Jersey/short | E40: Soccer | F40: PSG | G40: Home | H40: 24 | I40: 10 | J40: Ibrahimovic | K40: 41775 | M40: 41794 | N40: =SUMPRODUCT((WEEKDAY(ROW(INDIRECT(K40&":"&L40)),2)<7)*(COUNTIF('Jours fériés'!C$6:C$16,ROW(INDIRECT(Mai!K40&":"&L40)))=0)) -> #REF! | O40: =SUMPRODUCT((WEEKDAY(ROW(INDIRECT(K40&":"&M40)),2)<7)*(COUNTIF('Jours fériés'!C$1:C$16,ROW(INDIRECT(Mai!K40&":"&M40)))=0)) -> 16 | R40: 25 | S40: Payé | T40: =IF(S40="Payé",R40,0) -> 25
...

Sheet Juin
A1: Personne | B1: Pour qui | C1: Quantité | D1: type | E1: sport | F1: Club/Pays | G1: Ho / Aw | H1: Taille | I1: Numéro | J1: Joueur | K1: Date de commande | L1: Date d'envoi | M1: date de réception | N1: Temps d'exp | O1: Temps (O to R) | P1: achat | Q1: Frais | R1: vente | S1: Payé | T1: Date de paiement | AD1: Club/Pays | AE1: Ho / Aw | AF1: Taille | AG1: Numéro | AH1: Joueur | AJ1: Personne | AK1: Date de commande | AL1: date de réception | AM1: Payé | AN1: Date de paiement
A2: Dadado | C2: 1 | D2: Jersey | E2: Soccer | F2: France | G2: Home | H2: S | K2: 41797 | P2: 66.85 | R2: 25 | S2: Payé | T2: 41799 | AD2: France | AE2: Home | AJ2: =DGET(Juin,A1,AD1:AH2) -> #NUM! | AK2: =DGET(Juin,K1,AD1:AH2) -> #NUM! | AL2: =DGET(Juin,M1,AD1:AH2) -> #VALUE! | AM2: =DGET(Juin,S1,AD1:AH2) -> Payé | AN2: =DGET(Juin,T1,AD1:AH2) -> 41799
A3: Dadado | C3: 1 | D3: Jersey/short | E3: Soccer | F3: Argentina | G3: Home | H3: M | K3: 41797 | R3: 25 | S3: Payé | T3: 41799
A4: Dadado | C4: 1 | D4: Jersey/short | E4: Soccer | F4: Portugal | G4: Away | H4: S | I4: 7 | J4: Ronaldo | K4: 41797 | R4: 25 | S4: Payé | T4: 41799
A5: Dadado | C5: 1 | D5: Jersey/short | E5: Soccer | F5: Portugal | G5: Black/Woman | H5: S | I5: 7 | J5: Ronaldo | K5: 41797 | R5: 25 | S5: Payé | T5: 41799
A6: Dadado | C6: 1 | D6: Jersey/short | E6: Soccer | F6: Portugal | G6: Home | H6: 28 | I6: 7 | J6: Ronaldo | K6: 41797 | R6: 25 | S6: Payé | T6: 41799
A7: Seb 3h | C7: 1 | D7: Jersey/short | E7: Soccer | F7: Real madrid | G7: Third | H7: XL | I7: 7 | J7: Ronaldo | K7: 74677 | P7: 121.21 | R7: 25
A8: Dadado | C8: 1 | D8: Jersey/short | E8: Soccer | F8: France | G8: Home | H8: M | K8: 74677 | R8: 25
A9: Dadado | C9: 1 | D9: Jersey/short | E9: Soccer | F9: France | G9: Home | H9: L | K9: 74677 | R9: 25
A10: Dadado | C10: 1 | D10: Jersey/short | E10: Soccer | F10: France | G10: Away | H10: XL | K10: 74677 | R10: 25
A11: Dadado | C11: 1 | D11: Jersey/short | E11: Soccer | F11: Brazil | G11: Home | H11: L | I11: 11 | J11: Yanis | K11: 74677 | R11: 25
A12: Dadado | C12: 1 | D12: Jersey/short | E12: Soccer | F12: Argentina | G12: Away | H12: L | K12: 74677 | R12: 0
A13: Dadado | C13: 1 | D13: Jersey/short | E13: Soccer | F13: Irland | G13: Home | H13: M | K13: 74677 | R13: 25
A14: Dadado | C14: 1 | D14: Jersey/short | E14: Soccer | F14: Lyon | G14: Home | H14: S | K14: 74677 | R14: 25
A15: Dadado | B15: bunchu catherine | C15: 1 | D15: Jersey/short | E15: Soccer | F15: France | G15: Home | H15: XL | K15: 74677 | R15: 25
A16: Dadado | B16: Nounours | C16: 1 | D16: Jersey | E16: Rugby | F16: France | G16: Home | H16: XL | K16: 74676 | P16: 14.82 | R16: 25
A17: Dadado | C17: 1 | D17: Jersey/short | E17: Soccer | F17: Bracelona | G17: Home | H17: XL | P17: 27 | R17: 25
A18: Steevy | C18: 1 | D18: Jersey/short | E18: Soccer | F18: Italy | G18: Home | H18: L | R18: 25

Sheet Récap
A2: Mars | B2: Somme | G2: Avril | H2: Somme | M2: Mai | N2: Somme
A3: Boum | G3: Dadado | M3: Dadado
A4: Somme sur Quantité | B4: 1 | G4: Nbre de Maillots | H4: 9 | M4: Nbre de Maillots | N4: 39
A5: Somme sur vente | B5: 25 | G5: Somme sur vente | H5: 200 | M5: Somme sur vente | N5: 980
A6: Dadado | G6: Fabien | M6: Pascal
A7: Somme sur Quantité | B7: 19 | G7: Nbre de Maillots | H7: 3 | M7: Nbre de Maillots | N7: 2
A8: Somme sur vente | B8: 430 | G8: Somme sur vente | H8: 0 | M8: Somme sur vente | N8: 0
A9: Fabien | G9: Jawed | M9: Seb 3h
A10: Somme sur Quantité | B10: 4 | G10: Nbre de Maillots | H10: 17 | M10: Nbre de Maillots | N10: 34
A11: Somme sur vente | B11: 0 | G11: Somme sur vente | H11: 415 | M11: Somme sur vente | N11: 725
A12: Jawed | G12: Pascal | M12: Total Nbre de Maillots | N12: 75
A13: Somme sur Quantité | B13: 3 | G13: Nbre de Maillots | H13: 1 | M13: Total Somme sur vente | N13: 1705
A14: Somme sur vente | B14: 45 | G14: Somme sur vente | H14: 0
A15: Pascal | G15: Seb 3h
A16: Somme sur Quantité | B16: 5 | G16: Nbre de Maillots | H16: 14
A17: Somme sur vente | B17: 125 | G17: Somme sur vente | H17: 300
A18: Seb 3h | G18: Total Nbre de Maillots | H18: 44
A19: Somme sur Quantité | B19: 2 | G19: Total Somme sur vente | H19: 915
A20: Somme sur vente | B20: 25
A21: Seb A
A22: Somme sur Quantité | B22: 3
A23: Somme sur vente | B23: 55
A24: Total Somme sur Quantité | B24: 37
A25: Total Somme sur vente | B25: 705
G30: restant du
A31: Total | B31: Somme
A32: 1
A33: Boum
A34: NB sur Personne | B34: 1
A35: Somme sur vente | B35: 25
A36: Dadado
A37: NB sur Personne | B37: 82
A38: Somme sur vente | B38: 1960
A39: Fabien
A40: NB sur Personne | B40: 6
A41: Somme sur vente | B41: 0
A42: Jawed
A43: NB sur Personne | B43: 20
A44: Somme sur vente | B44: 460
A45: Pascal
...

Sheet Jours fériés
B5: Jours fériés
B6: Jour de l'an | C6: 41640
B7: Lundi de Pâques | C7: 41750
B8: Fête du travail | C8: 41760
B9: Fête de la victoire 1945 | C9: 41767
B10: Jeudi de l'Acsension | C10: 41788
B11: Lundi de Pentecôte (*) | C11: 41738
B12: Fête nationale | C12: 41834
B13: Assomption | C13: 41866
B14: Toussaint | C14: 41944
B15: Fête de l'Armistice | C15: 41954
B16: Noël | C16: 41998

Sheet Recherche
