Workbook
Name exercice: Menu!$H$9
Name Liste: Menu!$O$1:$O$5

Sheet Menu
N1: Congé | O1: CP
N2: Malade | O2: MAL
D3: Menu | N3: Présent | O3: P
N4: Repos | O4: R
D6: Janvier | F6: Juillet
D9: Février | F9: Août | H9: 2014
D12: Mars | F12: Septembre
H13: Consolidation
D15: Avril | F15: Octobre
D18: Mai | F18: Novembre
D21: Juin | F21: Décembre

Sheet Janvier
A2: Mois | B2: 1
A3: Jour | B3: 1
D5: =DATE(exercice,B2,B3) -> 41640 | F5: =D5+1 -> 41641 | H5: =F5+1 -> 41642 | J5: =H5+1 -> 41643 | L5: =J5+1 -> 41644 | N5: =L5+1 -> 41645 | P5: =N5+1 -> 41646 | R5: =P5+1 -> 41647 | T5: =R5+1 -> 41648 | V5: =T5+1 -> 41649 | X5: =V5+1 -> 41650 | Z5: =X5+1 -> 41651 | AB5: =Z5+1 -> 41652 | AD5: =AB5+1 -> 41653 | AF5: =AD5+1 -> 41654 | AH5: =AF5+1 -> 41655 | AJ5: =AH5+1 -> 41656 | AL5: =AJ5+1 -> 41657 | AN5: =AL5+1 -> 41658 | AP5: =AN5+1 -> 41659 | AR5: =AP5+1 -> 41660 | AT5: =AR5+1 -> 41661 | AV5: =AT5+1 -> 41662 | AX5: =AV5+1 -> 41663 | AZ5: =AX5+1 -> 41664 | BB5: =AZ5+1 -> 41665 | BD5: =BB5+1 -> 41666 | BF5: =BD5+1 -> 41667 | BH5: =BF5+1 -> 41668 | BJ5: =BH5+1 -> 41669 | BL5: =BJ5+1 -> 41670
D6: Mat | E6: A.M | F6: Mat | G6: A.M | H6: Mat | I6: A.M | J6: Mat | K6: A.M | L6: Mat | M6: A.M | N6: Mat | O6: A.M | P6: Mat | Q6: A.M | R6: Mat | S6: A.M | T6: Mat | U6: A.M | V6: Mat | W6: A.M | X6: Mat | Y6: A.M | Z6: Mat | AA6: A.M | AB6: Mat | AC6: A.M | AD6: Mat | AE6: A.M | AF6: Mat | AG6: A.M | AH6: Mat | AI6: A.M | AJ6: Mat | AK6: A.M | AL6: Mat | AM6: A.M | AN6: Mat | AO6: A.M | AP6: Mat | AQ6: A.M | AR6: Mat | AS6: A.M | AT6: Mat | AU6: A.M | AV6: Mat | AW6: A.M | AX6: Mat | AY6: A.M | AZ6: Mat | BA6: A.M | BB6: Mat | BC6: A.M | BD6: Mat | BE6: A.M | BF6: Mat | BG6: A.M | BH6: Mat | BI6: A.M | BJ6: Mat | BK6: Mat | BL6: A.M | BP6: CP | BQ6: Mal | BR6: P
BP7: =COUNTIF($D7:$BM7,BP$6)/2 -> 0 | BQ7: =COUNTIF($D7:$BM7,BQ$6)/2 -> 0 | BR7: =COUNTIF($D7:$BM7,BR$6)/2 -> 0
BP8: =COUNTIF($D8:$BM8,BP$6)/2 -> 0 | BQ8: =COUNTIF($D8:$BM8,BQ$6)/2 -> 0 | BR8: =COUNTIF($D8:$BM8,BR$6)/2 -> 0
BP9: =COUNTIF($D9:$BM9,BP$6)/2 -> 0 | BQ9: =COUNTIF($D9:$BM9,BQ$6)/2 -> 0 | BR9: =COUNTIF($D9:$BM9,BR$6)/2 -> 0
BP10: =COUNTIF($D10:$BM10,BP$6)/2 -> 0 | BQ10: =COUNTIF($D10:$BM10,BQ$6)/2 -> 0 | BR10: =COUNTIF($D10:$BM10,BR$6)/2 -> 0
BP11: =COUNTIF($D11:$BM11,BP$6)/2 -> 0 | BQ11: =COUNTIF($D11:$BM11,BQ$6)/2 -> 0 | BR11: =COUNTIF($D11:$BM11,BR$6)/2 -> 0

Sheet Février
A2: Mois | B2: 2
A3: Jour | B3: 1
D5: =DATE(exercice,B2,B3) -> 41671 | F5: =D5+1 -> 41672 | H5: =F5+1 -> 41673 | J5: =H5+1 -> 41674 | L5: =J5+1 -> 41675 | N5: =L5+1 -> 41676 | P5: =N5+1 -> 41677 | R5: =P5+1 -> 41678 | T5: =R5+1 -> 41679 | V5: =T5+1 -> 41680 | X5: =V5+1 -> 41681 | Z5: =X5+1 -> 41682 | AB5: =Z5+1 -> 41683 | AD5: =AB5+1 -> 41684 | AF5: =AD5+1 -> 41685 | AH5: =AF5+1 -> 41686 | AJ5: =AH5+1 -> 41687 | AL5: =AJ5+1 -> 41688 | AN5: =AL5+1 -> 41689 | AP5: =AN5+1 -> 41690 | AR5: =AP5+1 -> 41691 | AT5: =AR5+1 -> 41692 | AV5: =AT5+1 -> 41693 | AX5: =AV5+1 -> 41694 | AZ5: =AX5+1 -> 41695 | BB5: =AZ5+1 -> 41696 | BD5: =BB5+1 -> 41697 | BF5: =BD5+1 -> 41698 | BH5: =BF5+1 -> 41699 | BJ5: =BH5+1 -> 41700 | BL5: =BJ5+1 -> 41701
D6: Mat | E6: A.M | F6: Mat | G6: A.M | H6: Mat | I6: A.M | J6: Mat | K6: A.M | L6: Mat | M6: A.M | N6: Mat | O6: A.M | P6: Mat | Q6: A.M | R6: Mat | S6: A.M | T6: Mat | U6: A.M | V6: Mat | W6: A.M | X6: Mat | Y6: A.M | Z6: Mat | AA6: A.M | AB6: Mat | AC6: A.M | AD6: Mat | AE6: A.M | AF6: Mat | AG6: A.M | AH6: Mat | AI6: A.M | AJ6: Mat | AK6: A.M | AL6: Mat | AM6: A.M | AN6: Mat | AO6: A.M | AP6: Mat | AQ6: A.M | AR6: Mat | AS6: A.M | AT6: Mat | AU6: A.M | AV6: Mat | AW6: A.M | AX6: Mat | AY6: A.M | AZ6: Mat | BA6: A.M | BB6: Mat | BC6: A.M | BD6: Mat | BE6: A.M | BF6: Mat | BG6: A.M | BH6: Mat | BI6: A.M | BJ6: Mat | BK6: Mat | BL6: A.M | BP6: CP | BQ6: Mal | BR6: X
C7: Patrick | BP7: =COUNTIF($D7:$BM7,BP$6)/2 -> 0 | BQ7: =COUNTIF($D7:$BM7,BQ$6)/2 -> 0 | BR7: =COUNTIF($D7:$BM7,BR$6)/2 -> 0
C8: Michel | BP8: =COUNTIF($D8:$BM8,BP$6)/2 -> 0 | BQ8: =COUNTIF($D8:$BM8,BQ$6)/2 -> 0 | BR8: =COUNTIF($D8:$BM8,BR$6)/2 -> 0
C9: Bob | BP9: =COUNTIF($D9:$BM9,BP$6)/2 -> 0 | BQ9: =COUNTIF($D9:$BM9,BQ$6)/2 -> 0 | BR9: =COUNTIF($D9:$BM9,BR$6)/2 -> 0
C10: Guillaume | BP10: =COUNTIF($D10:$BM10,BP$6)/2 -> 0 | BQ10: =COUNTIF($D10:$BM10,BQ$6)/2 -> 0 | BR10: =COUNTIF($D10:$BM10,BR$6)/2 -> 0
BP11: =COUNTIF($D11:$BM11,BP$6)/2 -> 0 | BQ11: =COUNTIF($D11:$BM11,BQ$6)/2 -> 0 | BR11: =COUNTIF($D11:$BM11,BR$6)/2 -> 0

Sheet Mars
A2: Mois | B2: 3
A3: Jour | B3: 1
D5: =DATE(exercice,B2,B3) -> 41699 | F5: =D5+1 -> 41700 | H5: =F5+1 -> 41701 | J5: =H5+1 -> 41702 | L5: =J5+1 -> 41703 | N5: =L5+1 -> 41704 | P5: =N5+1 -> 41705 | R5: =P5+1 -> 41706 | T5: =R5+1 -> 41707 | V5: =T5+1 -> 41708 | X5: =V5+1 -> 41709 | Z5: =X5+1 -> 41710 | AB5: =Z5+1 -> 41711 | AD5: =AB5+1 -> 41712 | AF5: =AD5+1 -> 41713 | AH5: =AF5+1 -> 41714 | AJ5: =AH5+1 -> 41715 | AL5: =AJ5+1 -> 41716 | AN5: =AL5+1 -> 41717 | AP5: =AN5+1 -> 41718 | AR5: =AP5+1 -> 41719 | AT5: =AR5+1 -> 41720 | AV5: =AT5+1 -> 41721 | AX5: =AV5+1 -> 41722 | AZ5: =AX5+1 -> 41723 | BB5: =AZ5+1 -> 41724 | BD5: =BB5+1 -> 41725 | BF5: =BD5+1 -> 41726 | BH5: =BF5+1 -> 41727 | BJ5: =BH5+1 -> 41728 | BL5: =BJ5+1 -> 41729
D6: Mat | E6: A.M | F6: Mat | G6: A.M | H6: Mat | I6: A.M | J6: Mat | K6: A.M | L6: Mat | M6: A.M | N6: Mat | O6: A.M | P6: Mat | Q6: A.M | R6: Mat | S6: A.M | T6: Mat | U6: A.M | V6: Mat | W6: A.M | X6: Mat | Y6: A.M | Z6: Mat | AA6: A.M | AB6: Mat | AC6: A.M | AD6: Mat | AE6: A.M | AF6: Mat | AG6: A.M | AH6: Mat | AI6: A.M | AJ6: Mat | AK6: A.M | AL6: Mat | AM6: A.M | AN6: Mat | AO6: A.M | AP6: Mat | AQ6: A.M | AR6: Mat | AS6: A.M | AT6: Mat | AU6: A.M | AV6: Mat | AW6: A.M | AX6: Mat | AY6: A.M | AZ6: Mat | BA6: A.M | BB6: Mat | BC6: A.M | BD6: Mat | BE6: A.M | BF6: Mat | BG6: A.M | BH6: Mat | BI6: A.M | BJ6: Mat | BK6: Mat | BL6: A.M | BP6: CP | BQ6: Mal | BR6: X
C7: Patrick | BP7: =COUNTIF($D7:$BM7,BP$6)/2 -> 0 | BQ7: =COUNTIF($D7:$BM7,BQ$6)/2 -> 0 | BR7: =COUNTIF($D7:$BM7,BR$6)/2 -> 0
C8: Michel | BP8: =COUNTIF($D8:$BM8,BP$6)/2 -> 0 | BQ8: =COUNTIF($D8:$BM8,BQ$6)/2 -> 0 | BR8: =COUNTIF($D8:$BM8,BR$6)/2 -> 0
C9: Bob | BP9: =COUNTIF($D9:$BM9,BP$6)/2 -> 0 | BQ9: =COUNTIF($D9:$BM9,BQ$6)/2 -> 0 | BR9: =COUNTIF($D9:$BM9,BR$6)/2 -> 0
C10: Guillaume | BP10: =COUNTIF($D10:$BM10,BP$6)/2 -> 0 | BQ10: =COUNTIF($D10:$BM10,BQ$6)/2 -> 0 | BR10: =COUNTIF($D10:$BM10,BR$6)/2 -> 0
BP11: =COUNTIF($D11:$BM11,BP$6)/2 -> 0 | BQ11: =COUNTIF($D11:$BM11,BQ$6)/2 -> 0 | BR11: =COUNTIF($D11:$BM11,BR$6)/2 -> 0

Sheet Avril
A2: Mois | B2: 4
A3: Jour | B3: 1
D5: =DATE(exercice,B2,B3) -> 41730 | F5: =D5+1 -> 41731 | H5: =F5+1 -> 41732 | J5: =H5+1 -> 41733 | L5: =J5+1 -> 41734 | N5: =L5+1 -> 41735 | P5: =N5+1 -> 41736 | R5: =P5+1 -> 41737 | T5: =R5+1 -> 41738 | V5: =T5+1 -> 41739 | X5: =V5+1 -> 41740 | Z5: =X5+1 -> 41741 | AB5: =Z5+1 -> 41742 | AD5: =AB5+1 -> 41743 | AF5: =AD5+1 -> 41744 | AH5: =AF5+1 -> 41745 | AJ5: =AH5+1 -> 41746 | AL5: =AJ5+1 -> 41747 | AN5: =AL5+1 -> 41748 | AP5: =AN5+1 -> 41749 | AR5: =AP5+1 -> 41750 | AT5: =AR5+1 -> 41751 | AV5: =AT5+1 -> 41752 | AX5: =AV5+1 -> 41753 | AZ5: =AX5+1 -> 41754 | BB5: =AZ5+1 -> 41755 | BD5: =BB5+1 -> 41756 | BF5: =BD5+1 -> 41757 | BH5: =BF5+1 -> 41758 | BJ5: =BH5+1 -> 41759 | BL5: =BJ5+1 -> 41760
D6: Mat | E6: A.M | F6: Mat | G6: A.M | H6: Mat | I6: A.M | J6: Mat | K6: A.M | L6: Mat | M6: A.M | N6: Mat | O6: A.M | P6: Mat | Q6: A.M | R6: Mat | S6: A.M | T6: Mat | U6: A.M | V6: Mat | W6: A.M | X6: Mat | Y6: A.M | Z6: Mat | AA6: A.M | AB6: Mat | AC6: A.M | AD6: Mat | AE6: A.M | AF6: Mat | AG6: A.M | AH6: Mat | AI6: A.M | AJ6: Mat | AK6: A.M | AL6: Mat | AM6: A.M | AN6: Mat | AO6: A.M | AP6: Mat | AQ6: A.M | AR6: Mat | AS6: A.M | AT6: Mat | AU6: A.M | AV6: Mat | AW6: A.M | AX6: Mat | AY6: A.M | AZ6: Mat | BA6: A.M | BB6: Mat | BC6: A.M | BD6: Mat | BE6: A.M | BF6: Mat | BG6: A.M | BH6: Mat | BI6: A.M | BJ6: Mat | BK6: Mat | BL6: A.M | BP6: CP | BQ6: Mal | BR6: X
C7: Patrick | BP7: =COUNTIF($D7:$BM7,BP$6)/2 -> 0 | BQ7: =COUNTIF($D7:$BM7,BQ$6)/2 -> 0 | BR7: =COUNTIF($D7:$BM7,BR$6)/2 -> 0
C8: Michel | BP8: =COUNTIF($D8:$BM8,BP$6)/2 -> 0 | BQ8: =COUNTIF($D8:$BM8,BQ$6)/2 -> 0 | BR8: =COUNTIF($D8:$BM8,BR$6)/2 -> 0
C9: Bob | BP9: =COUNTIF($D9:$BM9,BP$6)/2 -> 0 | BQ9: =COUNTIF($D9:$BM9,BQ$6)/2 -> 0 | BR9: =COUNTIF($D9:$BM9,BR$6)/2 -> 0
C10: Guillaume | BP10: =COUNTIF($D10:$BM10,BP$6)/2 -> 0 | BQ10: =COUNTIF($D10:$BM10,BQ$6)/2 -> 0 | BR10: =COUNTIF($D10:$BM10,BR$6)/2 -> 0
BP11: =COUNTIF($D11:$BM11,BP$6)/2 -> 0 | BQ11: =COUNTIF($D11:$BM11,BQ$6)/2 -> 0 | BR11: =COUNTIF($D11:$BM11,BR$6)/2 -> 0

Sheet Mai
A2: Mois | B2: 5
A3: Jour | B3: 1
D5: =DATE(exercice,B2,B3) -> 41760 | F5: =D5+1 -> 41761 | H5: =F5+1 -> 41762 | J5: =H5+1 -> 41763 | L5: =J5+1 -> 41764 | N5: =L5+1 -> 41765 | P5: =N5+1 -> 41766 | R5: =P5+1 -> 41767 | T5: =R5+1 -> 41768 | V5: =T5+1 -> 41769 | X5: =V5+1 -> 41770 | Z5: =X5+1 -> 41771 | AB5: =Z5+1 -> 41772 | AD5: =AB5+1 -> 41773 | AF5: =AD5+1 -> 41774 | AH5: =AF5+1 -> 41775 | AJ5: =AH5+1 -> 41776 | AL5: =AJ5+1 -> 41777 | AN5: =AL5+1 -> 41778 | AP5: =AN5+1 -> 41779 | AR5: =AP5+1 -> 41780 | AT5: =AR5+1 -> 41781 | AV5: =AT5+1 -> 41782 | AX5: =AV5+1 -> 41783 | AZ5: =AX5+1 -> 41784 | BB5: =AZ5+1 -> 41785 | BD5: =BB5+1 -> 41786 | BF5: =BD5+1 -> 41787 | BH5: =BF5+1 -> 41788 | BJ5: =BH5+1 -> 41789 | BL5: =BJ5+1 -> 41790
D6: Mat | E6: A.M | F6: Mat | G6: A.M | H6: Mat | I6: A.M | J6: Mat | K6: A.M | L6: Mat | M6: A.M | N6: Mat | O6: A.M | P6: Mat | Q6: A.M | R6: Mat | S6: A.M | T6: Mat | U6: A.M | V6: Mat | W6: A.M | X6: Mat | Y6: A.M | Z6: Mat | AA6: A.M | AB6: Mat | AC6: A.M | AD6: Mat | AE6: A.M | AF6: Mat | AG6: A.M | AH6: Mat | AI6: A.M | AJ6: Mat | AK6: A.M | AL6: Mat | AM6: A.M | AN6: Mat | AO6: A.M | AP6: Mat | AQ6: A.M | AR6: Mat | AS6: A.M | AT6: Mat | AU6: A.M | AV6: Mat | AW6: A.M | AX6: Mat | AY6: A.M | AZ6: Mat | BA6: A.M | BB6: Mat | BC6: A.M | BD6: Mat | BE6: A.M | BF6: Mat | BG6: A.M | BH6: Mat | BI6: A.M | BJ6: Mat | BK6: Mat | BL6: A.M | BP6: CP | BQ6: Mal | BR6: X
C7: Patrick | BP7: =COUNTIF($D7:$BM7,BP$6)/2 -> 0 | BQ7: =COUNTIF($D7:$BM7,BQ$6)/2 -> 0 | BR7: =COUNTIF($D7:$BM7,BR$6)/2 -> 0
C8: Michel | BP8: =COUNTIF($D8:$BM8,BP$6)/2 -> 0 | BQ8: =COUNTIF($D8:$BM8,BQ$6)/2 -> 0 | BR8: =COUNTIF($D8:$BM8,BR$6)/2 -> 0
C9: Bob | BP9: =COUNTIF($D9:$BM9,BP$6)/2 -> 0 | BQ9: =COUNTIF($D9:$BM9,BQ$6)/2 -> 0 | BR9: =COUNTIF($D9:$BM9,BR$6)/2 -> 0
C10: Guillaume | BP10: =COUNTIF($D10:$BM10,BP$6)/2 -> 0 | BQ10: =COUNTIF($D10:$BM10,BQ$6)/2 -> 0 | BR10: =COUNTIF($D10:$BM10,BR$6)/2 -> 0
BP11: =COUNTIF($D11:$BM11,BP$6)/2 -> 0 | BQ11: =COUNTIF($D11:$BM11,BQ$6)/2 -> 0 | BR11: =COUNTIF($D11:$BM11,BR$6)/2 -> 0

Sheet Juin
A2: Mois | B2: 6
A3: Jour | B3: 1
D5: =DATE(exercice,B2,B3) -> 41791 | F5: =D5+1 -> 41792 | H5: =F5+1 -> 41793 | J5: =H5+1 -> 41794 | L5: =J5+1 -> 41795 | N5: =L5+1 -> 41796 | P5: =N5+1 -> 41797 | R5: =P5+1 -> 41798 | T5: =R5+1 -> 41799 | V5: =T5+1 -> 41800 | X5: =V5+1 -> 41801 | Z5: =X5+1 -> 41802 | AB5: =Z5+1 -> 41803 | AD5: =AB5+1 -> 41804 | AF5: =AD5+1 -> 41805 | AH5: =AF5+1 -> 41806 | AJ5: =AH5+1 -> 41807 | AL5: =AJ5+1 -> 41808 | AN5: =AL5+1 -> 41809 | AP5: =AN5+1 -> 41810 | AR5: =AP5+1 -> 41811 | AT5: =AR5+1 -> 41812 | AV5: =AT5+1 -> 41813 | AX5: =AV5+1 -> 41814 | AZ5: =AX5+1 -> 41815 | BB5: =AZ5+1 -> 41816 | BD5: =BB5+1 -> 41817 | BF5: =BD5+1 -> 41818 | BH5: =BF5+1 -> 41819 | BJ5: =BH5+1 -> 41820 | BL5: =BJ5+1 -> 41821
D6: Mat | E6: A.M | F6: Mat | G6: A.M | H6: Mat | I6: A.M | J6: Mat | K6: A.M | L6: Mat | M6: A.M | N6: Mat | O6: A.M | P6: Mat | Q6: A.M | R6: Mat | S6: A.M | T6: Mat | U6: A.M | V6: Mat | W6: A.M | X6: Mat | Y6: A.M | Z6: Mat | AA6: A.M | AB6: Mat | AC6: A.M | AD6: Mat | AE6: A.M | AF6: Mat | AG6: A.M | AH6: Mat | AI6: A.M | AJ6: Mat | AK6: A.M | AL6: Mat | AM6: A.M | AN6: Mat | AO6: A.M | AP6: Mat | AQ6: A.M | AR6: Mat | AS6: A.M | AT6: Mat | AU6: A.M | AV6: Mat | AW6: A.M | AX6: Mat | AY6: A.M | AZ6: Mat | BA6: A.M | BB6: Mat | BC6: A.M | BD6: Mat | BE6: A.M | BF6: Mat | BG6: A.M | BH6: Mat | BI6: A.M | BJ6: Mat | BK6: Mat | BL6: A.M | BP6: CP | BQ6: Mal | BR6: X
C7: Patrick | BP7: =COUNTIF($D7:$BM7,BP$6)/2 -> 0 | BQ7: =COUNTIF($D7:$BM7,BQ$6)/2 -> 0 | BR7: =COUNTIF($D7:$BM7,BR$6)/2 -> 0
C8: Michel | BP8: =COUNTIF($D8:$BM8,BP$6)/2 -> 0 | BQ8: =COUNTIF($D8:$BM8,BQ$6)/2 -> 0 | BR8: =COUNTIF($D8:$BM8,BR$6)/2 -> 0
C9: Bob | BP9: =COUNTIF($D9:$BM9,BP$6)/2 -> 0 | BQ9: =COUNTIF($D9:$BM9,BQ$6)/2 -> 0 | BR9: =COUNTIF($D9:$BM9,BR$6)/2 -> 0
C10: Guillaume | BP10: =COUNTIF($D10:$BM10,BP$6)/2 -> 0 | BQ10: =COUNTIF($D10:$BM10,BQ$6)/2 -> 0 | BR10: =COUNTIF($D10:$BM10,BR$6)/2 -> 0
BP11: =COUNTIF($D11:$BM11,BP$6)/2 -> 0 | BQ11: =COUNTIF($D11:$BM11,BQ$6)/2 -> 0 | BR11: =COUNTIF($D11:$BM11,BR$6)/2 -> 0

Sheet Juillet
A2: Mois | B2: 7
A3: Jour | B3: 1
D5: =DATE(exercice,B2,B3) -> 41821 | F5: =D5+1 -> 41822 | H5: =F5+1 -> 41823 | J5: =H5+1 -> 41824 | L5: =J5+1 -> 41825 | N5: =L5+1 -> 41826 | P5: =N5+1 -> 41827 | R5: =P5+1 -> 41828 | T5: =R5+1 -> 41829 | V5: =T5+1 -> 41830 | X5: =V5+1 -> 41831 | Z5: =X5+1 -> 41832 | AB5: =Z5+1 -> 41833 | AD5: =AB5+1 -> 41834 | AF5: =AD5+1 -> 41835 | AH5: =AF5+1 -> 41836 | AJ5: =AH5+1 -> 41837 | AL5: =AJ5+1 -> 41838 | AN5: =AL5+1 -> 41839 | AP5: =AN5+1 -> 41840 | AR5: =AP5+1 -> 41841 | AT5: =AR5+1 -> 41842 | AV5: =AT5+1 -> 41843 | AX5: =AV5+1 -> 41844 | AZ5: =AX5+1 -> 41845 | BB5: =AZ5+1 -> 41846 | BD5: =BB5+1 -> 41847 | BF5: =BD5+1 -> 41848 | BH5: =BF5+1 -> 41849 | BJ5: =BH5+1 -> 41850 | BL5: =BJ5+1 -> 41851
D6: Mat | E6: A.M | F6: Mat | G6: A.M | H6: Mat | I6: A.M | J6: Mat | K6: A.M | L6: Mat | M6: A.M | N6: Mat | O6: A.M | P6: Mat | Q6: A.M | R6: Mat | S6: A.M | T6: Mat | U6: A.M | V6: Mat | W6: A.M | X6: Mat | Y6: A.M | Z6: Mat | AA6: A.M | AB6: Mat | AC6: A.M | AD6: Mat | AE6: A.M | AF6: Mat | AG6: A.M | AH6: Mat | AI6: A.M | AJ6: Mat | AK6: A.M | AL6: Mat | AM6: A.M | AN6: Mat | AO6: A.M | AP6: Mat | AQ6: A.M | AR6: Mat | AS6: A.M | AT6: Mat | AU6: A.M | AV6: Mat | AW6: A.M | AX6: Mat | AY6: A.M | AZ6: Mat | BA6: A.M | BB6: Mat | BC6: A.M | BD6: Mat | BE6: A.M | BF6: Mat | BG6: A.M | BH6: Mat | BI6: A.M | BJ6: Mat | BK6: Mat | BL6: A.M | BP6: CP | BQ6: Mal | BR6: X
C7: Patrick | BP7: =COUNTIF($D7:$BM7,BP$6)/2 -> 0 | BQ7: =COUNTIF($D7:$BM7,BQ$6)/2 -> 0 | BR7: =COUNTIF($D7:$BM7,BR$6)/2 -> 0
C8: Michel | BP8: =COUNTIF($D8:$BM8,BP$6)/2 -> 0 | BQ8: =COUNTIF($D8:$BM8,BQ$6)/2 -> 0 | BR8: =COUNTIF($D8:$BM8,BR$6)/2 -> 0
C9: Bob | BP9: =COUNTIF($D9:$BM9,BP$6)/2 -> 0 | BQ9: =COUNTIF($D9:$BM9,BQ$6)/2 -> 0 | BR9: =COUNTIF($D9:$BM9,BR$6)/2 -> 0
C10: Guillaume | BP10: =COUNTIF($D10:$BM10,BP$6)/2 -> 0 | BQ10: =COUNTIF($D10:$BM10,BQ$6)/2 -> 0 | BR10: =COUNTIF($D10:$BM10,BR$6)/2 -> 0
BP11: =COUNTIF($D11:$BM11,BP$6)/2 -> 0 | BQ11: =COUNTIF($D11:$BM11,BQ$6)/2 -> 0 | BR11: =COUNTIF($D11:$BM11,BR$6)/2 -> 0

Sheet Août
A2: Mois | B2: 8
A3: Jour | B3: 1
D5: =DATE(exercice,B2,B3) -> 41852 | F5: =D5+1 -> 41853 | H5: =F5+1 -> 41854 | J5: =H5+1 -> 41855 | L5: =J5+1 -> 41856 | N5: =L5+1 -> 41857 | P5: =N5+1 -> 41858 | R5: =P5+1 -> 41859 | T5: =R5+1 -> 41860 | V5: =T5+1 -> 41861 | X5: =V5+1 -> 41862 | Z5: =X5+1 -> 41863 | AB5: =Z5+1 -> 41864 | AD5: =AB5+1 -> 41865 | AF5: =AD5+1 -> 41866 | AH5: =AF5+1 -> 41867 | AJ5: =AH5+1 -> 41868 | AL5: =AJ5+1 -> 41869 | AN5: =AL5+1 -> 41870 | AP5: =AN5+1 -> 41871 | AR5: =AP5+1 -> 41872 | AT5: =AR5+1 -> 41873 | AV5: =AT5+1 -> 41874 | AX5: =AV5+1 -> 41875 | AZ5: =AX5+1 -> 41876 | BB5: =AZ5+1 -> 41877 | BD5: =BB5+1 -> 41878 | BF5: =BD5+1 -> 41879 | BH5: =BF5+1 -> 41880 | BJ5: =BH5+1 -> 41881 | BL5: =BJ5+1 -> 41882
D6: Mat | E6: A.M | F6: Mat | G6: A.M | H6: Mat | I6: A.M | J6: Mat | K6: A.M | L6: Mat | M6: A.M | N6: Mat | O6: A.M | P6: Mat | Q6: A.M | R6: Mat | S6: A.M | T6: Mat | U6: A.M | V6: Mat | W6: A.M | X6: Mat | Y6: A.M | Z6: Mat | AA6: A.M | AB6: Mat | AC6: A.M | AD6: Mat | AE6: A.M | AF6: Mat | AG6: A.M | AH6: Mat | AI6: A.M | AJ6: Mat | AK6: A.M | AL6: Mat | AM6: A.M | AN6: Mat | AO6: A.M | AP6: Mat | AQ6: A.M | AR6: Mat | AS6: A.M | AT6: Mat | AU6: A.M | AV6: Mat | AW6: A.M | AX6: Mat | AY6: A.M | AZ6: Mat | BA6: A.M | BB6: Mat | BC6: A.M | BD6: Mat | BE6: A.M | BF6: Mat | BG6: A.M | BH6: Mat | BI6: A.M | BJ6: Mat | BK6: Mat | BL6: A.M | BP6: CP | BQ6: Mal | BR6: X
C7: Patrick | BP7: =COUNTIF($D7:$BM7,BP$6)/2 -> 0 | BQ7: =COUNTIF($D7:$BM7,BQ$6)/2 -> 0 | BR7: =COUNTIF($D7:$BM7,BR$6)/2 -> 0
C8: Michel | BP8: =COUNTIF($D8:$BM8,BP$6)/2 -> 0 | BQ8: =COUNTIF($D8:$BM8,BQ$6)/2 -> 0 | BR8: =COUNTIF($D8:$BM8,BR$6)/2 -> 0
C9: Bob | BP9: =COUNTIF($D9:$BM9,BP$6)/2 -> 0 | BQ9: =COUNTIF($D9:$BM9,BQ$6)/2 -> 0 | BR9: =COUNTIF($D9:$BM9,BR$6)/2 -> 0
C10: Guillaume | BP10: =COUNTIF($D10:$BM10,BP$6)/2 -> 0 | BQ10: =COUNTIF($D10:$BM10,BQ$6)/2 -> 0 | BR10: =COUNTIF($D10:$BM10,BR$6)/2 -> 0
BP11: =COUNTIF($D11:$BM11,BP$6)/2 -> 0 | BQ11: =COUNTIF($D11:$BM11,BQ$6)/2 -> 0 | BR11: =COUNTIF($D11:$BM11,BR$6)/2 -> 0

Sheet Septembre
A2: Mois | B2: 9
A3: Jour | B3: 1
D5: =DATE(exercice,B2,B3) -> 41883 | F5: =D5+1 -> 41884 | H5: =F5+1 -> 41885 | J5: =H5+1 -> 41886 | L5: =J5+1 -> 41887 | N5: =L5+1 -> 41888 | P5: =N5+1 -> 41889 | R5: =P5+1 -> 41890 | T5: =R5+1 -> 41891 | V5: =T5+1 -> 41892 | X5: =V5+1 -> 41893 | Z5: =X5+1 -> 41894 | AB5: =Z5+1 -> 41895 | AD5: =AB5+1 -> 41896 | AF5: =AD5+1 -> 41897 | AH5: =AF5+1 -> 41898 | AJ5: =AH5+1 -> 41899 | AL5: =AJ5+1 -> 41900 | AN5: =AL5+1 -> 41901 | AP5: =AN5+1 -> 41902 | AR5: =AP5+1 -> 41903 | AT5: =AR5+1 -> 41904 | AV5: =AT5+1 -> 41905 | AX5: =AV5+1 -> 41906 | AZ5: =AX5+1 -> 41907 | BB5: =AZ5+1 -> 41908 | BD5: =BB5+1 -> 41909 | BF5: =BD5+1 -> 41910 | BH5: =BF5+1 -> 41911 | BJ5: =BH5+1 -> 41912 | BL5: =BJ5+1 -> 41913
D6: Mat | E6: A.M | F6: Mat | G6: A.M | H6: Mat | I6: A.M | J6: Mat | K6: A.M | L6: Mat | M6: A.M | N6: Mat | O6: A.M | P6: Mat | Q6: A.M | R6: Mat | S6: A.M | T6: Mat | U6: A.M | V6: Mat | W6: A.M | X6: Mat | Y6: A.M | Z6: Mat | AA6: A.M | AB6: Mat | AC6: A.M | AD6: Mat | AE6: A.M | AF6: Mat | AG6: A.M | AH6: Mat | AI6: A.M | AJ6: Mat | AK6: A.M | AL6: Mat | AM6: A.M | AN6: Mat | AO6: A.M | AP6: Mat | AQ6: A.M | AR6: Mat | AS6: A.M | AT6: Mat | AU6: A.M | AV6: Mat | AW6: A.M | AX6: Mat | AY6: A.M | AZ6: Mat | BA6: A.M | BB6: Mat | BC6: A.M | BD6: Mat | BE6: A.M | BF6: Mat | BG6: A.M | BH6: Mat | BI6: A.M | BJ6: Mat | BK6: Mat | BL6: A.M | BP6: CP | BQ6: Mal | BR6: X
C7: Patrick | BP7: =COUNTIF($D7:$BM7,BP$6)/2 -> 0 | BQ7: =COUNTIF($D7:$BM7,BQ$6)/2 -> 0 | BR7: =COUNTIF($D7:$BM7,BR$6)/2 -> 0
C8: Michel | BP8: =COUNTIF($D8:$BM8,BP$6)/2 -> 0 | BQ8: =COUNTIF($D8:$BM8,BQ$6)/2 -> 0 | BR8: =COUNTIF($D8:$BM8,BR$6)/2 -> 0
C9: Bob | BP9: =COUNTIF($D9:$BM9,BP$6)/2 -> 0 | BQ9: =COUNTIF($D9:$BM9,BQ$6)/2 -> 0 | BR9: =COUNTIF($D9:$BM9,BR$6)/2 -> 0
C10: Guillaume | BP10: =COUNTIF($D10:$BM10,BP$6)/2 -> 0 | BQ10: =COUNTIF($D10:$BM10,BQ$6)/2 -> 0 | BR10: =COUNTIF($D10:$BM10,BR$6)/2 -> 0
BP11: =COUNTIF($D11:$BM11,BP$6)/2 -> 0 | BQ11: =COUNTIF($D11:$BM11,BQ$6)/2 -> 0 | BR11: =COUNTIF($D11:$BM11,BR$6)/2 -> 0

Sheet Octobre
A2: Mois | B2: 10
A3: Jour | B3: 1
D5: =DATE(exercice,B2,B3) -> 41913 | F5: =D5+1 -> 41914 | H5: =F5+1 -> 41915 | J5: =H5+1 -> 41916 | L5: =J5+1 -> 41917 | N5: =L5+1 -> 41918 | P5: =N5+1 -> 41919 | R5: =P5+1 -> 41920 | T5: =R5+1 -> 41921 | V5: =T5+1 -> 41922 | X5: =V5+1 -> 41923 | Z5: =X5+1 -> 41924 | AB5: =Z5+1 -> 41925 | AD5: =AB5+1 -> 41926 | AF5: =AD5+1 -> 41927 | AH5: =AF5+1 -> 41928 | AJ5: =AH5+1 -> 41929 | AL5: =AJ5+1 -> 41930 | AN5: =AL5+1 -> 41931 | AP5: =AN5+1 -> 41932 | AR5: =AP5+1 -> 41933 | AT5: =AR5+1 -> 41934 | AV5: =AT5+1 -> 41935 | AX5: =AV5+1 -> 41936 | AZ5: =AX5+1 -> 41937 | BB5: =AZ5+1 -> 41938 | BD5: =BB5+1 -> 41939 | BF5: =BD5+1 -> 41940 | BH5: =BF5+1 -> 41941 | BJ5: =BH5+1 -> 41942 | BL5: =BJ5+1 -> 41943
D6: Mat | E6: A.M | F6: Mat | G6: A.M | H6: Mat | I6: A.M | J6: Mat | K6: A.M | L6: Mat | M6: A.M | N6: Mat | O6: A.M | P6: Mat | Q6: A.M | R6: Mat | S6: A.M | T6: Mat | U6: A.M | V6: Mat | W6: A.M | X6: Mat | Y6: A.M | Z6: Mat | AA6: A.M | AB6: Mat | AC6: A.M | AD6: Mat | AE6: A.M | AF6: Mat | AG6: A.M | AH6: Mat | AI6: A.M | AJ6: Mat | AK6: A.M | AL6: Mat | AM6: A.M | AN6: Mat | AO6: A.M | AP6: Mat | AQ6: A.M | AR6: Mat | AS6: A.M | AT6: Mat | AU6: A.M | AV6: Mat | AW6: A.M | AX6: Mat | AY6: A.M | AZ6: Mat | BA6: A.M | BB6: Mat | BC6: A.M | BD6: Mat | BE6: A.M | BF6: Mat | BG6: A.M | BH6: Mat | BI6: A.M | BJ6: Mat | BK6: Mat | BL6: A.M | BP6: CP | BQ6: Mal | BR6: X
C7: Patrick | BP7: =COUNTIF($D7:$BM7,BP$6)/2 -> 0 | BQ7: =COUNTIF($D7:$BM7,BQ$6)/2 -> 0 | BR7: =COUNTIF($D7:$BM7,BR$6)/2 -> 0
C8: Michel | BP8: =COUNTIF($D8:$BM8,BP$6)/2 -> 0 | BQ8: =COUNTIF($D8:$BM8,BQ$6)/2 -> 0 | BR8: =COUNTIF($D8:$BM8,BR$6)/2 -> 0
C9: Bob | BP9: =COUNTIF($D9:$BM9,BP$6)/2 -> 0 | BQ9: =COUNTIF($D9:$BM9,BQ$6)/2 -> 0 | BR9: =COUNTIF($D9:$BM9,BR$6)/2 -> 0
C10: Guillaume | BP10: =COUNTIF($D10:$BM10,BP$6)/2 -> 0 | BQ10: =COUNTIF($D10:$BM10,BQ$6)/2 -> 0 | BR10: =COUNTIF($D10:$BM10,BR$6)/2 -> 0
BP11: =COUNTIF($D11:$BM11,BP$6)/2 -> 0 | BQ11: =COUNTIF($D11:$BM11,BQ$6)/2 -> 0 | BR11: =COUNTIF($D11:$BM11,BR$6)/2 -> 0

Sheet Novembre
A2: Mois | B2: 11
A3: Jour | B3: 1
D5: =DATE(exercice,B2,B3) -> 41944 | F5: =D5+1 -> 41945 | H5: =F5+1 -> 41946 | J5: =H5+1 -> 41947 | L5: =J5+1 -> 41948 | N5: =L5+1 -> 41949 | P5: =N5+1 -> 41950 | R5: =P5+1 -> 41951 | T5: =R5+1 -> 41952 | V5: =T5+1 -> 41953 | X5: =V5+1 -> 41954 | Z5: =X5+1 -> 41955 | AB5: =Z5+1 -> 41956 | AD5: =AB5+1 -> 41957 | AF5: =AD5+1 -> 41958 | AH5: =AF5+1 -> 41959 | AJ5: =AH5+1 -> 41960 | AL5: =AJ5+1 -> 41961 | AN5: =AL5+1 -> 41962 | AP5: =AN5+1 -> 41963 | AR5: =AP5+1 -> 41964 | AT5: =AR5+1 -> 41965 | AV5: =AT5+1 -> 41966 | AX5: =AV5+1 -> 41967 | AZ5: =AX5+1 -> 41968 | BB5: =AZ5+1 -> 41969 | BD5: =BB5+1 -> 41970 | BF5: =BD5+1 -> 41971 | BH5: =BF5+1 -> 41972 | BJ5: =BH5+1 -> 41973 | BL5: =BJ5+1 -> 41974
D6: Mat | E6: A.M | F6: Mat | G6: A.M | H6: Mat | I6: A.M | J6: Mat | K6: A.M | L6: Mat | M6: A.M | N6: Mat | O6: A.M | P6: Mat | Q6: A.M | R6: Mat | S6: A.M | T6: Mat | U6: A.M | V6: Mat | W6: A.M | X6: Mat | Y6: A.M | Z6: Mat | AA6: A.M | AB6: Mat | AC6: A.M | AD6: Mat | AE6: A.M | AF6: Mat | AG6: A.M | AH6: Mat | AI6: A.M | AJ6: Mat | AK6: A.M | AL6: Mat | AM6: A.M | AN6: Mat | AO6: A.M | AP6: Mat | AQ6: A.M | AR6: Mat | AS6: A.M | AT6: Mat | AU6: A.M | AV6: Mat | AW6: A.M | AX6: Mat | AY6: A.M | AZ6: Mat | BA6: A.M | BB6: Mat | BC6: A.M | BD6: Mat | BE6: A.M | BF6: Mat | BG6: A.M | BH6: Mat | BI6: A.M | BJ6: Mat | BK6: Mat | BL6: A.M | BP6: CP | BQ6: Mal | BR6: X
C7: Patrick | BP7: =COUNTIF($D7:$BM7,BP$6)/2 -> 0 | BQ7: =COUNTIF($D7:$BM7,BQ$6)/2 -> 0 | BR7: =COUNTIF($D7:$BM7,BR$6)/2 -> 0
C8: Michel | BP8: =COUNTIF($D8:$BM8,BP$6)/2 -> 0 | BQ8: =COUNTIF($D8:$BM8,BQ$6)/2 -> 0 | BR8: =COUNTIF($D8:$BM8,BR$6)/2 -> 0
C9: Bob | BP9: =COUNTIF($D9:$BM9,BP$6)/2 -> 0 | BQ9: =COUNTIF($D9:$BM9,BQ$6)/2 -> 0 | BR9: =COUNTIF($D9:$BM9,BR$6)/2 -> 0
C10: Guillaume | BP10: =COUNTIF($D10:$BM10,BP$6)/2 -> 0 | BQ10: =COUNTIF($D10:$BM10,BQ$6)/2 -> 0 | BR10: =COUNTIF($D10:$BM10,BR$6)/2 -> 0
BP11: =COUNTIF($D11:$BM11,BP$6)/2 -> 0 | BQ11: =COUNTIF($D11:$BM11,BQ$6)/2 -> 0 | BR11: =COUNTIF($D11:$BM11,BR$6)/2 -> 0

Sheet Décembre
A2: Mois | B2: 12
A3: Jour | B3: 1
D5: =DATE(exercice,B2,B3) -> 41974 | F5: =D5+1 -> 41975 | H5: =F5+1 -> 41976 | J5: =H5+1 -> 41977 | L5: =J5+1 -> 41978 | N5: =L5+1 -> 41979 | P5: =N5+1 -> 41980 | R5: =P5+1 -> 41981 | T5: =R5+1 -> 41982 | V5: =T5+1 -> 41983 | X5: =V5+1 -> 41984 | Z5: =X5+1 -> 41985 | AB5: =Z5+1 -> 41986 | AD5: =AB5+1 -> 41987 | AF5: =AD5+1 -> 41988 | AH5: =AF5+1 -> 41989 | AJ5: =AH5+1 -> 41990 | AL5: =AJ5+1 -> 41991 | AN5: =AL5+1 -> 41992 | AP5: =AN5+1 -> 41993 | AR5: =AP5+1 -> 41994 | AT5: =AR5+1 -> 41995 | AV5: =AT5+1 -> 41996 | AX5: =AV5+1 -> 41997 | AZ5: =AX5+1 -> 41998 | BB5: =AZ5+1 -> 41999 | BD5: =BB5+1 -> 42000 | BF5: =BD5+1 -> 42001 | BH5: =BF5+1 -> 42002 | BJ5: =BH5+1 -> 42003 | BL5: =BJ5+1 -> 42004
D6: Mat | E6: A.M | F6: Mat | G6: A.M | H6: Mat | I6: A.M | J6: Mat | K6: A.M | L6: Mat | M6: A.M | N6: Mat | O6: A.M | P6: Mat | Q6: A.M | R6: Mat | S6: A.M | T6: Mat | U6: A.M | V6: Mat | W6: A.M | X6: Mat | Y6: A.M | Z6: Mat | AA6: A.M | AB6: Mat | AC6: A.M | AD6: Mat | AE6: A.M | AF6: Mat | AG6: A.M | AH6: Mat | AI6: A.M | AJ6: Mat | AK6: A.M | AL6: Mat | AM6: A.M | AN6: Mat | AO6: A.M | AP6: Mat | AQ6: A.M | AR6: Mat | AS6: A.M | AT6: Mat | AU6: A.M | AV6: Mat | AW6: A.M | AX6: Mat | AY6: A.M | AZ6: Mat | BA6: A.M | BB6: Mat | BC6: A.M | BD6: Mat | BE6: A.M | BF6: Mat | BG6: A.M | BH6: Mat | BI6: A.M | BJ6: Mat | BK6: Mat | BL6: A.M | BP6: CP | BQ6: Mal | BR6: X
C7: Patrick | BP7: =COUNTIF($D7:$BM7,BP$6)/2 -> 0 | BQ7: =COUNTIF($D7:$BM7,BQ$6)/2 -> 0 | BR7: =COUNTIF($D7:$BM7,BR$6)/2 -> 0
C8: Michel | BP8: =COUNTIF($D8:$BM8,BP$6)/2 -> 0 | BQ8: =COUNTIF($D8:$BM8,BQ$6)/2 -> 0 | BR8: =COUNTIF($D8:$BM8,BR$6)/2 -> 0
C9: Bob | BP9: =COUNTIF($D9:$BM9,BP$6)/2 -> 0 | BQ9: =COUNTIF($D9:$BM9,BQ$6)/2 -> 0 | BR9: =COUNTIF($D9:$BM9,BR$6)/2 -> 0
C10: Guillaume | BP10: =COUNTIF($D10:$BM10,BP$6)/2 -> 0 | BQ10: =COUNTIF($D10:$BM10,BQ$6)/2 -> 0 | BR10: =COUNTIF($D10:$BM10,BR$6)/2 -> 0
BP11: =COUNTIF($D11:$BM11,BP$6)/2 -> 0 | BQ11: =COUNTIF($D11:$BM11,BQ$6)/2 -> 0 | BR11: =COUNTIF($D11:$BM11,BR$6)/2 -> 0

Sheet Consolidation
B2: Janvier | E2: Février | H2: Mars | K2: Avril | N2: Mai | Q2: Juin | T2: Juillet | W2: Août | Z2: Septembre | AC2: Octobre | AF2: Novembre | AI2: Décembre
B3: CP | C3: Mal | D3: X | E3: CP | F3: Mal | G3: X | H3: CP | I3: Mal | J3: X | K3: CP | L3: Mal | M3: X | N3: CP | O3: Mal | P3: X | Q3: CP | R3: Mal | S3: X | T3: CP | U3: Mal | V3: X | W3: CP | X3: Mal | Y3: X | Z3: CP | AA3: Mal | AB3: X | AC3: CP | AD3: Mal | AE3: X | AF3: CP | AG3: Mal | AH3: X | AI3: CP | AJ3: Mal | AK3: X
A4: Patrick | B4: =Janvier!BP7 -> 0 | C4: =Janvier!BQ7 -> 0 | D4: =Janvier!BR7 -> 0 | E4: =Février!BP7 -> 0 | F4: =Février!BQ7 -> 0 | G4: =Février!BR7 -> 0 | H4: =Mars!BP7 -> 0 | I4: =Mars!BQ7 -> 0 | J4: =Mars!BR7 -> 0 | K4: =Avril!BP7 -> 0 | L4: =Avril!BQ7 -> 0 | M4: =Avril!BR7 -> 0 | N4: =Mai!BP7 -> 0 | O4: =Mai!BQ7 -> 0 | P4: =Mai!BR7 -> 0 | Q4: =Juin!BP7 -> 0 | R4: =Juin!BQ7 -> 0 | S4: =Juin!BR7 -> 0 | T4: =Juillet!BP7 -> 0 | U4: =Juillet!BQ7 -> 0 | V4: =Juillet!BR7 -> 0 | W4: =Août!BP7 -> 0 | X4: =Août!BQ7 -> 0 | Y4: =Août!BR7 -> 0 | Z4: =Septembre!BP7 -> 0 | AA4: =Septembre!BQ7 -> 0 | AB4: =Septembre!BR7 -> 0 | AC4: =Octobre!BP7 -> 0 | AD4: =Octobre!BQ7 -> 0 | AE4: =Octobre!BR7 -> 0 | AF4: =Novembre!BP7 -> 0 | AG4: =Novembre!BQ7 -> 0 | AH4: =Novembre!BR7 -> 0 | AI4: =Décembre!BP7 -> 0 | AJ4: =Décembre!BQ7 -> 0 | AK4: =Décembre!BR7 -> 0
A5: Michel | B5: =Janvier!BP8 -> 0 | C5: =Janvier!BQ8 -> 0 | D5: =Janvier!BR8 -> 0 | E5: =Février!BP8 -> 0 | F5: =Février!BQ8 -> 0 | G5: =Février!BR8 -> 0 | H5: =Mars!BP8 -> 0 | I5: =Mars!BQ8 -> 0 | J5: =Mars!BR8 -> 0 | K5: =Avril!BP8 -> 0 | L5: =Avril!BQ8 -> 0 | M5: =Avril!BR8 -> 0 | N5: =Mai!BP8 -> 0 | O5: =Mai!BQ8 -> 0 | P5: =Mai!BR8 -> 0 | Q5: =Juin!BP8 -> 0 | R5: =Juin!BQ8 -> 0 | S5: =Juin!BR8 -> 0 | T5: =Juillet!BP8 -> 0 | U5: =Juillet!BQ8 -> 0 | V5: =Juillet!BR8 -> 0 | W5: =Août!BP8 -> 0 | X5: =Août!BQ8 -> 0 | Y5: =Août!BR8 -> 0 | Z5: =Septembre!BP8 -> 0 | AA5: =Septembre!BQ8 -> 0 | AB5: =Septembre!BR8 -> 0 | AC5: =Octobre!BP8 -> 0 | AD5: =Octobre!BQ8 -> 0 | AE5: =Octobre!BR8 -> 0 | AF5: =Novembre!BP8 -> 0 | AG5: =Novembre!BQ8 -> 0 | AH5: =Novembre!BR8 -> 0 | AI5: =Décembre!BP8 -> 0 | AJ5: =Décembre!BQ8 -> 0 | AK5: =Décembre!BR8 -> 0
A6: Bob | B6: =Janvier!BP9 -> 0 | C6: =Janvier!BQ9 -> 0 | D6: =Janvier!BR9 -> 0 | E6: =Février!BP9 -> 0 | F6: =Février!BQ9 -> 0 | G6: =Février!BR9 -> 0 | H6: =Mars!BP9 -> 0 | I6: =Mars!BQ9 -> 0 | J6: =Mars!BR9 -> 0 | K6: =Avril!BP9 -> 0 | L6: =Avril!BQ9 -> 0 | M6: =Avril!BR9 -> 0 | N6: =Mai!BP9 -> 0 | O6: =Mai!BQ9 -> 0 | P6: =Mai!BR9 -> 0 | Q6: =Juin!BP9 -> 0 | R6: =Juin!BQ9 -> 0 | S6: =Juin!BR9 -> 0 | T6: =Juillet!BP9 -> 0 | U6: =Juillet!BQ9 -> 0 | V6: =Juillet!BR9 -> 0 | W6: =Août!BP9 -> 0 | X6: =Août!BQ9 -> 0 | Y6: =Août!BR9 -> 0 | Z6: =Septembre!BP9 -> 0 | AA6: =Septembre!BQ9 -> 0 | AB6: =Septembre!BR9 -> 0 | AC6: =Octobre!BP9 -> 0 | AD6: =Octobre!BQ9 -> 0 | AE6: =Octobre!BR9 -> 0 | AF6: =Novembre!BP9 -> 0 | AG6: =Novembre!BQ9 -> 0 | AH6: =Novembre!BR9 -> 0 | AI6: =Décembre!BP9 -> 0 | AJ6: =Décembre!BQ9 -> 0 | AK6: =Décembre!BR9 -> 0
A7: Guillaume | B7: =Janvier!BP10 -> 0 | C7: =Janvier!BQ10 -> 0 | D7: =Janvier!BR10 -> 0 | E7: =Février!BP10 -> 0 | F7: =Février!BQ10 -> 0 | G7: =Février!BR10 -> 0 | H7: =Mars!BP10 -> 0 | I7: =Mars!BQ10 -> 0 | J7: =Mars!BR10 -> 0 | K7: =Avril!BP10 -> 0 | L7: =Avril!BQ10 -> 0 | M7: =Avril!BR10 -> 0 | N7: =Mai!BP10 -> 0 | O7: =Mai!BQ10 -> 0 | P7: =Mai!BR10 -> 0 | Q7: =Juin!BP10 -> 0 | R7: =Juin!BQ10 -> 0 | S7: =Juin!BR10 -> 0 | T7: =Juillet!BP10 -> 0 | U7: =Juillet!BQ10 -> 0 | V7: =Juillet!BR10 -> 0 | W7: =Août!BP10 -> 0 | X7: =Août!BQ10 -> 0 | Y7: =Août!BR10 -> 0 | Z7: =Septembre!BP10 -> 0 | AA7: =Septembre!BQ10 -> 0 | AB7: =Septembre!BR10 -> 0 | AC7: =Octobre!BP10 -> 0 | AD7: =Octobre!BQ10 -> 0 | AE7: =Octobre!BR10 -> 0 | AF7: =Novembre!BP10 -> 0 | AG7: =Novembre!BQ10 -> 0 | AH7: =Novembre!BR10 -> 0 | AI7: =Décembre!BP10 -> 0 | AJ7: =Décembre!BQ10 -> 0 | AK7: =Décembre!BR10 -> 0
