Workbook
Name annee: Amortissement!$G$5
Name coutassurance: Amortissement!$F$24
Name coutinterets: Amortissement!$F$22
Name couttotal: Amortissement!$F$26
Name dureepret: Amortissement!$F$9
Name mensualiteassurance: Amortissement!$F$18
Name mensualitehorsassurance: Amortissement!$F$16
Name mensualitetotale: Amortissement!$F$20
Name mois: Amortissement!$F$5
Name pret: Amortissement!$F$7
Name tauxassurance: Amortissement!$F$13
Name tauxinteret: Amortissement!$F$11
Name test: Amortissement!$K$7

Sheet surfaces
A1: =+Budget!F1 -> 41768
A5: LOTS | B5: Surface Hab | C5: Varangue | D5: total Varangue | E5: Surf Hab+V | F5: 2ieme place de parking | G5: Quantité | H5: logement n° | I5: Surf totale | J5: PV Y/C frais d'Agence | L5: PV TOTAL
A6: T2 type 1 | B6: =+'[1]Détail de surfaces'!F15+'[1]Détail de surfaces'!F16+'[1]Détail de surfaces'!F17+'[1]Détail de surfaces'!F22+'[1]Détail de surfaces'!F23+'[1]Détail de surfaces'!F24+'[1]Détail de surfaces'!F25+'[1]Détail de surfaces'!F27 -> 40.85 | C6: 6.6 | D6: =+C6*G6 -> 33 | E6: =+C6+B6 -> 47.45 | G6: 5 | H6: 2-4-6-14-16 | I6: =+E6*G6 -> 237.25 | J6: 4000 | K6: =+J6*E6 -> 189800 | L6: =+J6*I6 -> 949000
A7: T2 type 2 | B7: 45.55 | C7: 0 | D7: =+C7*G7 -> 0 | E7: =+C7+B7 -> 45.55 | G7: 1 | H7: 18- | I7: =+E7*G7 -> 45.55 | J7: 4000 | K7: =+J7*E7 -> 182200 | L7: =+J7*I7 -> 182200
A8: T4 type 1 | B8: =76.14+13.35 -> 89.49 | C8: 13.35 | D8: =+C8*G8 -> 53.4 | E8: =+C8+B8 -> 102.84 | G8: 4 | H8: 1-3-5-7 | I8: =+E8*G8 -> 411.36 | J8: =+K8/E8 -> 2917.1529 | K8: 300000 | L8: =+K8*G8 -> 1200000
A9: T3 type 2 | B9: 76.81 | C9: 13.35 | D9: =+C9*G9 -> 26.7 | E9: =+C9+B9 -> 90.16 | G9: 2 | H9: 9-8 | I9: =+E9*G9 -> 180.32 | J9: =+K9/E9 -> 3327.4179 | K9: 300000 | L9: =+K9*G9 -> 600000
A10: T3 type 3 | B10: 76.81 | C10: 13.35 | D10: =+C10*G10 -> 40.05 | E10: =+C10+B10 -> 90.16 | G10: 3 | H10: 10-11-20 | I10: =+E10*G10 -> 270.48 | J10: =+K10/E10 -> 3327.4179 | K10: 300000 | L10: =+K10*G10 -> 900000
A11: T3 type 4 | B11: 76.81 | C11: 13.35 | D11: =+C11*G11 -> 13.35 | E11: =+C11+B11 -> 90.16 | G11: 1 | H11: 12- | I11: =+E11*G11 -> 90.16 | J11: =+K11/E11 -> 3327.4179 | K11: 300000 | L11: =+K11*G11 -> 300000
A12: T3 type 5 | B12: 76.14 | C12: 13.35 | D12: =+C12*G12 -> 40.05 | E12: =+C12+B12 -> 89.49 | G12: 3 | H12: 13-15-17 | I12: =+E12*G12 -> 268.47 | J12: =+(Budget!$C$70+Budget!$C$71)*1.085 -> 0 | K12: =+J12*E12 -> 0 | L12: =+J12*I12 -> 0
A13: T3 type 6 | B13: 76.81 | C13: 13.35 | D13: =+C13*G13 -> 13.35 | E13: =+C13+B13 -> 90.16 | G13: 1 | H13: 19 | I13: =+E13*G13 -> 90.16 | J13: =+K13/E13 -> 3327.4179 | K13: 300000 | L13: =+J13*I13 -> 300000
A14: T3 type 7 | B14: 76.99 | C14: 0 | D14: =+C14*G14 -> 0 | E14: =+C14+B14 -> 76.99 | G14: 1 | H14: 21 | I14: =+E14*G14 -> 76.99 | J14: =+Budget!$C$70+450-17.1579 -> 432.8421 | K14: =+J14*E14 -> 33324.513 | L14: =+J14*I14 -> 33324.513
G15: 1 | I15: =+E15*G15 -> 0 | J15: 3100 | K15: =+J15*E15 -> 0 | L15: =+J15*I15 -> 0
A16: Total | D16: =SUM(D6:D15) -> 219.9 | G16: =SUM(G6:G15) -> 22 | I16: =SUM(I6:I15) -> 1670.74 | L16: =SUM(L6:L15) -> 4464524.5 | M16: =+Budget!F72 -> 0
M17: =+M16-L16 -> -4464524.5
I72: =+surfaces!J6255 -> 0

Sheet SYNTHESE
E1: Mise à jour le : | F1: 41746
B3: SYNTHESE BUDGET PREVISIONNEL
A5: Résidence "BD 227" Groupe des Sociétés AKBARALY
C8: =+Budget!C6 -> SURF TERRAIN | D8: =+Budget!D6 -> 3568 | E8: =+Budget!E6 -> SUV M² | F8: =+Budget!F6 -> 5084.4
C9: =+Budget!C7 -> SURF CONST, 50% M² ≤ | E9: =+Budget!E7 -> NB LOGTS | F9: =+Budget!F7 -> 62.004878
C10: =+Budget!C8 -> SURF. PERMEABLE 35% M² ≤ | E10: =+Budget!E8 -> Surface PK m² | F10: =+Budget!F8 -> 1694.8
C11: =+Budget!C9 -> PLANCHER TAXABLE M² | D11: =+Budget!D9 -> 5084.4 | E11: =+Budget!E9 -> PK | F11: =+Budget!F9 -> 16
A13: DESIGNATION | D13: MONTANT HT | E13: TVA | F13: TOTAL TTC | G13: RATIO / PV
A15: 1 - FONCIER | H15: RATIO
A16: =+Budget!A14 -> ACQUISITION XY 06 | B16: =+Budget!B14 -> 3280 | C16: =+Budget!C14 -> 304.87805 | D16: =+Budget!D14 -> 1000000 | E16: =+Budget!E14 -> 0 | F16: =+Budget!F14 -> 1000000 | G16: =+F16/#REF! -> #REF! | H16: =+F16/$F$68 -> 0.10607576 | J16: 420000
A17: SERVITUDE LIM COW | D17: 0 | F17: =E17+D17 -> 0 | H17: =+F17/$F$68 -> 0 | J17: 0
A18: =+Budget!A16 -> DROIT DE MUTATION | D18: =+Budget!D16 -> 63094.72 | E18: =+Budget!E16 -> 0 | F18: =+Budget!F16 -> 63094.72 | H18: =+F18/$F$68 -> 0.0066928203
A19: =+Budget!A17 -> FRAIS NOTAIRES | D19: =+Budget!D17 -> 9450 | E19: =+Budget!E17 -> 803.25 | F19: =+Budget!F17 -> 10253.25 | G19: =+F19/#REF! -> #REF! | H19: =+F19/$F$68 -> 0.0010876213 | J19: =+J16*3% -> 12600
A20: =+Budget!A19 -> SONDAGES GEOTECHNIQUES | D20: =+Budget!D19 -> 5500 | E20: =+Budget!E19 -> 467.5 | F20: =+Budget!F19 -> 5967.5 | G20: =+F20/#REF! -> #REF! | H20: =+F20/$F$68 -> 0.00063300709
A21: =+Budget!A20 -> GEOMETRE | D21: =+Budget!D20 -> 3000 | E21: =+Budget!E20 -> 255 | F21: =+Budget!F20 -> 3255 | G21: =+F21/#REF! -> #REF! | H21: =+F21/$F$68 -> 0.0003452766
A22: =+Budget!A21 -> HUISSIER (affichage PC-recours) | D22: =+Budget!D21 -> 600 | E22: =+Budget!E21 -> 51 | F22: =+Budget!F21 -> 651 | G22: =+F22/#REF! -> #REF! | H22: =+F22/$F$68 -> 6.9055319e-05
A23: =+Budget!A22 -> ALEAS | B23: =+Budget!B22 -> 0 | C23: =+Budget!C22 -> 0 | D23: =+Budget!D22 -> 0 | E23: =+Budget!E22 -> 0 | F23: =+Budget!F22 -> 0 | G23: =+F23/#REF! -> #REF! | H23: =+F23/$F$68 -> 0
A24: =+Budget!A23 -> TOTAL FONCIER | D24: =+Budget!D23 -> 1191859.7 | E24: =+Budget!E23 -> 1576.75 | F24: =+Budget!F23 -> 1193436.5 | G24: =SUM(G16:G22) -> #REF! | H24: =+F24/$F$68 -> 0.12659468 | I24: =+F24 -> 1193436.5
A25: =+Budget!A24 -> 2 - TAXES PC | H25: =+F25/$F$68 -> 0
A26: =+Budget!A25 -> Taxe Aménagement | D26: =+Budget!D25 -> 201505.1 | F26: =+Budget!F25 -> 201505.1 | G26: =+F26/#REF! -> #REF! | H26: =+F26/$F$68 -> 0.021374807
A27: =+Budget!A26 -> Redevance Archéologique Préventive | D27: =+Budget!D26 -> 9050.232 | F27: =+Budget!F26 -> 9050.232 | G27: =+F27/#REF! -> #REF! | H27: =+F27/$F$68 -> 0.00096001023
A28: =+Budget!A27 -> TAXE RACCORDEMENT EGOUT | D28: =+Budget!D27 -> 46776.48 | F28: =+Budget!F27 -> 46776.48 | G28: =+F28/#REF! -> #REF! | H28: =+F28/$F$68 -> 0.0049618506
A29: =+Budget!A28 -> TOTAL TAXES SUR PC | D29: =+Budget!D28 -> 257331.82 | E29: =+Budget!E28 -> 0 | F29: =+Budget!F28 -> 257331.82 | G29: =+F29/#REF! -> #REF! | H29: =+F29/$F$68 -> 0.027296668 | I29: =+F29+I24 -> 1450768.3
A30: =+Budget!A29 -> 3 - CONSTRUCTION | D30: =+Budget!D29 -> 0 | E30: =+Budget!E29 -> 0 | F30: =+Budget!F29 -> 0 | H30: =+F30/$F$68 -> 0
A31: =+Budget!A30 -> Terrassement - VRD - Esp. Verts - Clôtures | D31: =+Budget!D30 -> 0 | E31: =+Budget!E30 -> 0 | F31: =+Budget!F30 -> 0 | G31: =+F31/#REF! -> #REF! | H31: =+F31/$F$68 -> 0
A32: =+Budget!A31 -> RACCORDEMENT - EU | D32: =+Budget!D31 -> 0 | E32: =+Budget!E31 -> 0 | F32: =+Budget!F31 -> 0 | G32: =+F32/#REF! -> #REF! | H32: =+F32/$F$68 -> 0
A33: =+Budget!A32 -> BASSE TENSION - Dépose et repose de transfo | D33: =+Budget!D32 -> 50000 | E33: =+Budget!E32 -> 4250 | F33: =+Budget!F32 -> 54250 | G33: =+F33/#REF! -> #REF! | H33: =+F33/$F$68 -> 0.0057546099
A34: =+Budget!A33 -> RACCORDEMENT - FT- AEP | D34: =+Budget!D33 -> 0 | E34: =+Budget!E33 -> 0 | F34: =+Budget!F33 -> 0 | G34: =+F34/#REF! -> #REF! | H34: =+F34/$F$68 -> 0
A35: =+Budget!A34 -> CONSTRUCTION | D35: =+Budget!D34 -> 0 | E35: =+Budget!E34 -> 0 | F35: =+Budget!F34 -> 0 | G35: =+F35/#REF! -> #REF! | H35: =+F35/$F$68 -> 0
A36: =+Budget!A35 -> TOTAL CONSTRUCTION | D36: =+Budget!D35 -> 5607197.9 | E36: =+Budget!E35 -> 476611.82 | F36: =+Budget!F35 -> 6083809.7 | H36: =+F36/$F$68 -> 0.64534473
A37: =+Budget!A36 -> 0 | D37: =+Budget!D36 -> 0 | E37: =+Budget!E36 -> 0 | F37: =+Budget!F36 -> 0 | G37: =+F37/#REF! -> #REF! | H37: =+F37/$F$68 -> 0
A38: =+Budget!A37 -> 0 | D38: =+Budget!D37 -> 0 | E38: =+Budget!E37 -> 0 | F38: =+Budget!F37 -> 0 | H38: =+F38/$F$68 -> 0
A39: =+Budget!A38 -> TOTAL CONSTRUCTION | D39: =+Budget!D38 -> 5657197.9 | E39: =+Budget!E38 -> 480861.82 | F39: =+Budget!F38 -> 6138059.7 | G39: =SUM(G31:G37) -> #REF! | H39: =+F39/$F$68 -> 0.65109934 | I39: =+F39/F8 -> 1207.2338 | J39: RATIO/SUV/M² TTC | L39: =+F39+F46 -> 6517545.2
A40: =+Budget!A39 -> 4 - HON. TECHNIQUES | D40: =+Budget!D39 -> 0 | E40: =+Budget!E39 -> 0 | F40: =+Budget!F39 -> 0 | H40: =+F40/$F$68 -> 0 | I40: =+F39/D11 -> 1207.2338 | J40: RATIO/SPT/M² TTC
A41: =+Budget!A40 -> CONCEPTION PERMIS DE CONST-PIECES ECRITES | D41: =+Budget!D40 -> 138106.34 | E41: =+Budget!E40 -> 11739.039 | F41: =+Budget!F40 -> 149845.38 | G41: =+F41/#REF! -> #REF! | H41: =+F41/$F$68 -> 0.015894963
A42: =+Budget!A41 -> MOD OPC | D42: =+Budget!D41 -> 138106.34 | E42: =+Budget!E41 -> 11739.039 | F42: =+Budget!F41 -> 149845.38 | G42: =+F42/#REF! -> #REF! | H42: =+F42/$F$68 -> 0.015894963
A43: =+Budget!A42 -> CONTRÔLE - TECHNIQUE | D43: =+Budget!D42 -> 56571.979 | E43: =+Budget!E42 -> 4808.6182 | F43: =+Budget!F42 -> 61380.597 | G43: =+F43/#REF! -> #REF! | H43: =+F43/$F$68 -> 0.0065109934
A44: =+Budget!A43 -> MISSION SPS | D44: =+Budget!D43 -> 16971.594 | E44: =+Budget!E43 -> 1442.5855 | F44: =+Budget!F43 -> 18414.179 | G44: =+F44/#REF! -> #REF! | H44: =+F44/$F$68 -> 0.001953298
D45: =+Budget!D44 -> 0 | E45: =+Budget!E44 -> 0 | F45: =+Budget!F44 -> 0 | H45: =+F45/$F$68 -> 0
A46: =+Budget!A45 -> TOTAL HONO. TECHNIQUES | D46: =+Budget!D45 -> 349756.26 | E46: =+Budget!E45 -> 29729.282 | F46: =+Budget!F45 -> 379485.54 | G46: =+F46/#REF! -> #REF! | H46: =+F46/$F$68 -> 0.040254217 | I46: =+F46+F39 -> 6517545.2 | J46: 2959521
...

Sheet Budget
E1: Mise à jour le : | F1: 41768
B2: BUDGET PREVISIONNEL
A4: Résidence "XY 000"
C6: SURF TERRAIN | D6: =+B14+B15 -> 3568 | E6: SUV M² | F6: =+D7*3*95% -> 5084.4 | J6: =+D7*3 -> 5352
C7: SURF CONST, 50% M² ≤ | D7: =+D6/2 -> 1784 | E7: NB LOGTS | F7: =+F6/82 -> 62.004878
C8: SURF. PERMEABLE 35% M² ≤ | D8: =+D6*35% -> 1248.8 | E8: Surface PK m² | F8: =+F6/3 -> 1694.8
C9: PLANCHER TAXABLE M² | D9: =+F6 -> 5084.4 | E9: PK | F9: 16
A11: DESIGNATION | B11: ASSIETTE | C11: TAUX | D11: MONTANT HT | E11: TVA | F11: TOTAL TTC | G11: RATIO / PV
A13: 1 - FONCIER | H13: RATIO
A14: ACQUISITION XY 06 | B14: 3280 | C14: =+D14/B14 -> 304.87805 | D14: 1000000 | E14: 0 | F14: =E14+D14 -> 1000000 | G14: =+F14/#REF! -> #REF! | H14: =+F14/$F$59 -> 0.10607576 | J14: 420000
A15: ACQUISITION XY 07 | B15: 288 | C15: 305 | D15: =+C15*B15 -> 87840 | F15: =E15+D15 -> 87840 | H15: =+F15/$F$59 -> 0.0093176947 | J15: 0
A16: DROIT DE MUTATION | D16: =(+D14+D15)*5.8% -> 63094.72 | F16: =E16+D16 -> 63094.72 | H16: =+F16/$F$59 -> 0.0066928203
A17: FRAIS NOTAIRES | D17: =+D14*0.825%+1200 -> 9450 | E17: =+D17*8.5% -> 803.25 | F17: =E17+D17 -> 10253.25 | G17: =+F17/#REF! -> #REF! | H17: =+F17/$F$59 -> 0.0010876213 | J17: =+J14*3% -> 12600
A18: COÛT HYPOTHEQUE | B18: =+'Plan de trésorerie'!AG64 -> 1425000 | D18: =+B18*1.5%+1000 -> 22375 | F18: =E18+D18 -> 22375 | H18: =+F18/$F$59 -> 0.0023734451
A19: SONDAGES GEOTECHNIQUES | D19: 5500 | E19: =D19*8.5/100 -> 467.5 | F19: =E19+D19 -> 5967.5 | G19: =+F19/#REF! -> #REF! | H19: =+F19/$F$59 -> 0.00063300709
A20: GEOMETRE | D20: 3000 | E20: =D20*8.5/100 -> 255 | F20: =E20+D20 -> 3255 | G20: =+F20/#REF! -> #REF! | H20: =+F20/$F$59 -> 0.0003452766
A21: HUISSIER (affichage PC-recours) | D21: =300*2 -> 600 | E21: =D21*8.5/100 -> 51 | F21: =E21+D21 -> 651 | G21: =+F21/#REF! -> #REF! | H21: =+F21/$F$59 -> 6.9055319e-05
A22: ALEAS | B22: =+$F$72 -> 0 | C22: 0 | D22: =+B22*C22 -> 0 | E22: =D22*8.5% -> 0 | F22: =D22+E22 -> 0 | G22: =+F22/#REF! -> #REF! | H22: =+F22/$F$59 -> 0
A23: TOTAL FONCIER | B23: =+$F$6 -> 5084.4 | C23: =+D23/B23 -> 234.41502 | D23: =SUM(D14:D21) -> 1191859.7 | E23: =SUM(E14:E21) -> 1576.75 | F23: =SUM(F14:F22) -> 1193436.5 | G23: =SUM(G14:G21) -> #REF! | H23: =+F23/$F$59 -> 0.12659468 | I23: =+F23 -> 1193436.5
A24: 2 - TAXES PC | H24: =+F24/$F$59 -> 0
A25: Taxe Aménagement | D25: =+$D$9*712*5.5%+150*F9 -> 201505.1 | E25: 0 | F25: =E25+D25 -> 201505.1 | G25: =+F25/#REF! -> #REF! | H25: =+F25/$F$59 -> 0.021374807
A26: Redevance Archéologique Préventive | D26: =+$D$9*712/2*0.5% -> 9050.232 | E26: 0 | F26: =E26+D26 -> 9050.232 | G26: =+F26/#REF! -> #REF! | H26: =+F26/$F$59 -> 0.00096001023
A27: TAXE RACCORDEMENT EGOUT | D27: =+D9*9.2 -> 46776.48 | E27: 0 | F27: =E27+D27 -> 46776.48 | G27: =+F27/#REF! -> #REF! | H27: =+F27/$F$59 -> 0.0049618506
A28: TOTAL TAXES SUR PC | B28: =+$F$6 -> 5084.4 | C28: =+D28/B28 -> 50.612032 | D28: =SUM(D24:D27) -> 257331.82 | E28: =SUM(E24:E27) -> 0 | F28: =SUM(F24:F27) -> 257331.82 | G28: =+F28/#REF! -> #REF! | H28: =+F28/$F$59 -> 0.027296668 | I28: =+F28+I23 -> 1450768.3
A29: 3 - CONSTRUCTION | H29: =+F29/$F$59 -> 0
A30: Terrassement - VRD - Esp. Verts - Clôtures | G30: =+F30/#REF! -> #REF! | H30: =+F30/$F$59 -> 0
A31: RACCORDEMENT - EU | G31: =+F31/#REF! -> #REF! | H31: =+F31/$F$59 -> 0
A32: BASSE TENSION - Dépose et repose de transfo | D32: 50000 | E32: =+D32*8.5% -> 4250 | F32: =+E32+D32 -> 54250 | G32: =+F32/#REF! -> #REF! | H32: =+F32/$F$59 -> 0.0057546099
A33: RACCORDEMENT - FT- AEP | G33: =+F33/#REF! -> #REF! | H33: =+F33/$F$59 -> 0
A34: CONSTRUCTION | G34: =+F34/#REF! -> #REF! | H34: =+F34/$F$59 -> 0
A35: TOTAL CONSTRUCTION | D35: =+Estimation!E31 -> 5607197.9 | E35: =D35*8.5/100 -> 476611.82 | F35: =E35+D35 -> 6083809.7 | H35: =+F35/$F$59 -> 0.64534473
G36: =+F36/#REF! -> #REF! | H36: =+F36/$F$59 -> 0
H37: =+F37/$F$59 -> 0
A38: TOTAL CONSTRUCTION | B38: =+$F$6 -> 5084.4 | C38: =+D38/B38 -> 1112.6579 | D38: =SUM(D30:D36) -> 5657197.9 | E38: =SUM(E30:E36) -> 480861.82 | F38: =SUM(F30:F37) -> 6138059.7 | G38: =SUM(G30:G36) -> #REF! | H38: =+F38/$F$59 -> 0.65109934 | I38: =(+F38+F14)/$F$6 -> 1403.9139 | J38: RATIO SURF UTILE | L38: =+F38+F45 -> 6517545.2
A39: 4 - HON. TECHNIQUES | H39: =+F39/$F$59 -> 0
A40: CONCEPTION PERMIS DE CONST-PIECES ECRITES | B40: =+$F$38 -> 6138059.7 | C40: 0.0225 | D40: =+B40*C40 -> 138106.34 | E40: =D40*8.5/100 -> 11739.039 | F40: =E40+D40 -> 149845.38 | G40: =+F40/#REF! -> #REF! | H40: =+F40/$F$59 -> 0.015894963
A41: MOD OPC | B41: =+$F$38 -> 6138059.7 | C41: 0.0225 | D41: =+B41*C41 -> 138106.34 | E41: =D41*8.5/100 -> 11739.039 | F41: =E41+D41 -> 149845.38 | G41: =+F41/#REF! -> #REF! | H41: =+F41/$F$59 -> 0.015894963
A42: CONTRÔLE - TECHNIQUE | C42: 0.01 | D42: =+D38*1% -> 56571.979 | E42: =D42*8.5/100 -> 4808.6182 | F42: =E42+D42 -> 61380.597 | G42: =+F42/#REF! -> #REF! | H42: =+F42/$F$59 -> 0.0065109934
A43: MISSION SPS | C43: 0.003 | D43: =+D38*0.3% -> 16971.594 | E43: =D43*8.5/100 -> 1442.5855 | F43: =E43+D43 -> 18414.179 | G43: =+F43/#REF! -> #REF! | H43: =+F43/$F$59 -> 0.001953298
H44: =+F44/$F$59 -> 0
...

Sheet Estimation
B2: =+Budget!A4 -> Résidence "XY 000"
B4: Estimation
B6: Mise à jour | C6: =+Budget!F1 -> 41768
B7: Etabli par | C7: JPD
B8: Nombre de lots | C8: =+Budget!F7 -> 62.004878 | E8: SUV ou S Plancher Tax | F8: =+Budget!F6 -> 5084.4 | G8: ratio PVTTC/S Plancher | I8: =+F31/F8 -> 1196.5639
B9: Sous-Sols | C9: 1 | E9: Surf parking | F9: =+Budget!F8 -> 1694.8
B10: Surface terrain | C10: =+Budget!D6 -> 3568 | E10: SUV + Surf PK | F10: =+F9+F8 -> 6779.2 | G10: ratio PVTTC/SUV+PK | I10: =+F31/F10 -> 897.42296
B12: LOT | E12: MONTANT HT | F12: MONTANT TTC | G12: au logement | H12: m² plancher HT | I12: au m² SUV HT | J12: %
B13: Démolition - Terrassement ( 300 m3*15€/m3) | E13: 300000 | F13: =+E13*1.085 -> 325500 | G13: =+E13/$C$8 -> 4838.329 | H13: =+E13/$F$8 -> 59.004012 | I13: =+E13/$F$10 -> 44.253009 | J13: =+E13/$E$31 -> 0.05350266
B14: VRD -Esp Verts - Rac FT-AEP-EP | E14: 300000 | F14: =+E14*1.085 -> 325500 | G14: =+E14/$C$8 -> 4838.329 | H14: =+F14/$F$8 -> 64.019353 | I14: =+E14/$F$10 -> 44.253009 | J14: =+E14/$E$31 -> 0.05350266
B15: station de relevage EU+ DEC HYDROCABURE | E15: 0 | F15: =+E15*1.085 -> 0 | G15: =+E15/$C$8 -> 0 | H15: =+F15/$F$8 -> 0 | I15: =+E15/$F$10 -> 0 | J15: =+E15/$E$31 -> 0
B16: Basse tension - Colonnes montantes Rac EDF | E16: 60000 | F16: =+E16*1.085 -> 65100 | G16: =+E16/$C$8 -> 967.6658 | H16: =+F16/$F$8 -> 12.803871 | I16: =+E16/$F$10 -> 8.8506018 | J16: =+E16/$E$31 -> 0.010700532
B17: Gros œuvres | E17: =+F8*550 -> 2796420 | F17: =+E17*1.085 -> 3034115.7 | G17: =+E17/$C$8 -> 45100 | H17: =+F17/$F$8 -> 596.75 | I17: =+E17/$F$10 -> 412.5 | J17: =+E17/$E$31 -> 0.49871969
B18: Charpente Couverture-bardage - Metallerie | E18: =75000*2.5 -> 187500 | F18: =+E18*1.085 -> 203437.5 | G18: =+E18/$C$8 -> 3023.9556 | H18: =+F18/$F$8 -> 40.012096 | I18: =+E18/$F$10 -> 27.658131 | J18: =+E18/$E$31 -> 0.033439162
B19: Electricité -Téléphonne | E19: =60*F8 -> 305064 | F19: =+E19*1.085 -> 330994.44 | G19: =+E19/$C$8 -> 4920 | H19: =+F19/$F$8 -> 65.1 | I19: =+E19/$F$10 -> 45 | J19: =+E19/$E$31 -> 0.054405785
B20: Automatisme | E20: 50000 | F20: =+E20*1.085 -> 54250 | G20: =+E20/$C$8 -> 806.38817 | H20: =+F20/$F$8 -> 10.669892 | I20: =+E20/$F$10 -> 7.3755015 | J20: =+E20/$E$31 -> 0.0089171099
B21: Cloisons séches - faux plafonds - bloc/porte | E21: =50*F8 -> 254220 | F21: =+E21*1.085 -> 275828.7 | G21: =+E21/$C$8 -> 4100 | H21: =+F21/$F$8 -> 54.25 | I21: =+E21/$F$10 -> 37.5 | J21: =+E21/$E$31 -> 0.045338154
B22: Revêtements durs | E22: =+F8*45*1.1 -> 251677.8 | F22: =+E22*1.085 -> 273070.41 | G22: =+E22/$C$8 -> 4059 | H22: =+F22/$F$8 -> 53.7075 | I22: =+E22/$F$10 -> 37.125 | J22: =+E22/$E$31 -> 0.044884772
B23: Menuiseries Alu | E23: =65000/1260*F8 -> 262290.48 | F23: =+E23*1.085 -> 284585.17 | G23: =+E23/$C$8 -> 4230.1587 | H23: =+F23/$F$8 -> 55.972222 | I23: =+E23/$F$10 -> 38.690476 | J23: =+E23/$E$31 -> 0.04677746
B24: Menuiseries bois | E24: =17500*3 -> 52500 | F24: =+E24*1.085 -> 56962.5 | G24: =+E24/$C$8 -> 846.70758 | H24: =+F24/$F$8 -> 11.203387 | I24: =+E24/$F$10 -> 7.7442766 | J24: =+E24/$E$31 -> 0.0093629654
B25: Plomberie - VMC | E25: =2000*C8+4000*GRILLE!B29 -> 192009.76 | F25: =+E25*1.085 -> 208330.59 | G25: =+E25/$C$8 -> 3096.6879 | H25: =+F25/$F$8 -> 40.974468 | I25: =+E25/$F$10 -> 28.323365 | J25: =+E25/$E$31 -> 0.034243442
B26: Ascenseur | E26: =38000*3 -> 114000 | F26: =+E26*1.085 -> 123690 | G26: =+E26/$C$8 -> 1838.565 | H26: =+F26/$F$8 -> 24.327354 | I26: =+E26/$F$10 -> 16.816143 | J26: =+E26/$E$31 -> 0.020331011
B27: Eau chaude solaire | E27: =+C8*2750 -> 170513.41 | F27: =+E27*1.085 -> 185007.05 | G27: =+E27/$C$8 -> 2750 | H27: =+F27/$F$8 -> 36.387195 | I27: =+E27/$F$10 -> 25.152439 | J27: =+E27/$E$31 -> 0.030409737
B28: Peinture - Etanchéité | E28: =45000*4 -> 180000 | F28: =+E28*1.085 -> 195300 | G28: =+E28/$C$8 -> 2902.9974 | H28: =+E28/$F$8 -> 35.402407 | I28: =+E28/$F$10 -> 26.551806 | J28: =+E28/$E$31 -> 0.032101596
B29: BAT, sécurité incendie | E29: =500*C8 -> 31002.439 | F29: =+E29*1.085 -> 33637.646 | G29: =+E29/$C$8 -> 500 | H29: =+E29/$F$8 -> 6.097561 | I29: =+E29/$F$10 -> 4.5731707 | J29: =+E29/$E$31 -> 0.0055290431
B30: Aléas | E30: 100000 | F30: =+E30*1.085 -> 108500 | G30: =+E30/$C$8 -> 1612.7763 | H30: =+E30/$F$8 -> 19.668004 | I30: =+E30/$F$10 -> 14.751003 | J30: =+E30/$E$31 -> 0.01783422
E31: =SUM(E13:E30) -> 5607197.9 | F31: =SUM(F13:F30) -> 6083809.7 | G31: =SUM(G13:G30) -> 90431.561 | H31: =SUM(H13:H30) -> 1186.3493 | I31: =SUM(I13:I30) -> 827.11793 | J31: =SUM(J13:J30) -> 1

Sheet GRILLE
J1: =+Budget!E1 -> Mise à jour le : | K1: =+Budget!F1 -> 41768
E3: GRILLE DE LOCATION
A5: =+Budget!A4 -> Résidence "XY 000"
K7: TOTAL T2 | L7: 6
K8: TOTAL T3 | L8: 11
A10: LOT | C10: TYPE | D10: NIV | E10: SURFACE | F10: Varangue | G10: TERRASSES | H10: Surf | I10: JARDIN | J10: PRIX REVIENT NET | K10: MONTANT DU LOYER /MOIS | L10: MONTANT DU LOYER / AN
E11: UTILE m² | F11: en M2 | G11: en m² | H11: totale | I11: au m²
A12: RDC | B12: 1 | C12: T2 | E12: 62 | F12: 10 | H12: =+E12 -> 62 | J12: =+H12/$H$29*$J$34 -> 463879.3 | K12: 580 | L12: =700*12 -> 8400
A13: RDC | B13: =+B12+1 -> 2 | C13: T3 | E13: 82 | F13: 10 | H13: =+E13 -> 82 | J13: =+H13/$H$29*$J$34 -> 613517.79 | K13: 680 | L13: =600*12 -> 7200
A14: RDC | B14: =+B13+1 -> 3 | C14: T2 | E14: 62 | F14: 10 | H14: =+E14 -> 62 | J14: =+H14/$H$29*$J$34 -> 463879.3 | K14: 580 | L14: =700*12 -> 8400
A15: RDC | B15: =+B14+1 -> 4 | C15: T3 | E15: 82 | F15: 10 | H15: =+E15 -> 82 | J15: =+H15/$H$29*$J$34 -> 613517.79 | K15: 680 | L15: =600*12 -> 7200
A16: RDC | B16: =+B15+1 -> 5 | C16: T3 | E16: 82 | F16: 10 | H16: =+E16 -> 82 | J16: =+H16/$H$29*$J$34 -> 613517.79 | K16: 680 | L16: =700*12 -> 8400
A17: R+1 | B17: =+B16+1 -> 6 | C17: T3 | E17: 82 | F17: 10 | H17: =+E17 -> 82 | I17: 63.52 | J17: =+H17/$H$29*$J$34 -> 613517.79 | K17: 680 | L17: =700*12 -> 8400
A18: R+1 | B18: =+B17+1 -> 7 | C18: T3 | E18: 82 | F18: 10 | H18: =+E18 -> 82 | J18: =+H18/$H$29*$J$34 -> 613517.79 | K18: 680 | L18: =600*12 -> 7200
A19: R+1 | B19: =+B18+1 -> 8 | C19: T3 | E19: 82 | F19: 10 | H19: =+E19 -> 82 | J19: =+H19/$H$29*$J$34 -> 613517.79 | K19: 680 | L19: =700*12 -> 8400
A20: R+1 | B20: =+B19+1 -> 9 | C20: T2 | E20: 62 | F20: 10 | H20: =+E20 -> 62 | J20: =+H20/$H$29*$J$34 -> 463879.3 | K20: 580 | L20: =700*12 -> 8400
A21: R+1 | B21: =+B20+1 -> 10 | C21: T3 | E21: 82 | F21: 10 | H21: =+E21 -> 82 | J21: =+H21/$H$29*$J$34 -> 613517.79 | K21: 680 | L21: =700*12 -> 8400
A22: R+1 | B22: =+B21+1 -> 11 | C22: T2 | E22: 60 | F22: 10 | H22: =+E22 -> 60 | J22: =+H22/$H$29*$J$34 -> 448915.45 | K22: 580 | L22: =700*12 -> 8400
A23: R+2 | B23: =+B22+1 -> 12 | C23: T3 | E23: 80 | F23: 10 | H23: =+E23 -> 80 | J23: =+H23/$H$29*$J$34 -> 598553.94 | K23: 680 | L23: =700*12 -> 8400
A24: R+2 | B24: =+B23+1 -> 13 | C24: T2 | E24: 60 | F24: 10 | H24: =+E24 -> 60 | J24: =+H24/$H$29*$J$34 -> 448915.45 | K24: 580 | L24: =700*12 -> 8400
A25: R+2 | B25: =+B24+1 -> 14 | C25: T3 | E25: 80 | F25: 10 | H25: =+E25 -> 80 | J25: =+H25/$H$29*$J$34 -> 598553.94 | K25: 680 | L25: =700*12 -> 8400
A26: R+2 | B26: =+B25+1 -> 15 | C26: T2 | E26: 60 | F26: 10 | H26: =+E26 -> 60 | J26: =+H26/$H$29*$J$34 -> 448915.45 | K26: 580 | L26: =700*12 -> 8400
A27: R+2 | B27: =+B26+1 -> 16 | C27: T3 | E27: 80 | F27: 10 | H27: =+E27 -> 80 | J27: =+H27/$H$29*$J$34 -> 598553.94 | K27: 680 | L27: =600*12 -> 7200
A28: R+2 | B28: =+B27+1 -> 17 | C28: T3 | E28: 80 | F28: 10 | H28: =+E28 -> 80 | J28: =+H28/$H$29*$J$34 -> 598553.94 | K28: 680 | L28: =700*12 -> 8400
B29: =+B28 -> 17 | E29: =SUM(E12:E28) -> 1260 | F29: =SUM(F12:F28) -> 170 | G29: =SUM(G12:G28) -> 0 | H29: =SUM(H12:H28) -> 1260 | I29: =SUM(I12:I28) -> 63.52 | J29: =+Budget!F81 -> 9427224.5 | K29: =SUM(K12:K28) -> 10960 | L29: =SUM(L12:L28) -> 138000
K30: =+K29/E29 -> 8.6984127
A31: TOTAL | B31: T1 | C31: 0
A32: TOTAL | B32: T2 | C32: 6
A33: TOTAL | B33: T3 | C33: 11
J34: =+Budget!F59 -> 9427224.5

Sheet Plan de trésorerie
A4: =+Budget!A4 -> Résidence "XY 000"
A6: =+Budget!E1 -> Mise à jour le : | B6: =+Budget!F1 -> 41768
A8: PROGRAMMATION - PLANNING FINANCIER
A11: DESIGNATIONS | G11: PHASE CONSTRUCTION | Y11: PHASE GARANTIE DE PARFAIT ACHEVEMENT
A12: POSTES | B12: Montant TTC | C12: TRIMESTRE 1 | D12: TRIMESTRE 2 | E12: TRIMESTRE 3 | F12: TRIMESTRE 4 | G12: mois 1 | H12: mois 2 | I12: mois 3 | J12: mois 4 | K12: mois 5 | L12: mois 6 | M12: mois 7 | N12: mois 8 | O12: mois 9 | P12: mois 10 | Q12: mois 11 | R12: mois 12 | S12: mois 13 | T12: mois 14 | U12: mois 15 | V12: mois 16 | W12: mois 17 | X12: mois 18 | Y12: TRIMESTRE 1 | Z12: TRIMESTRE 2 | AA12: TRIMESTRE 3 | AB12: TRIMESTRE 4
A13: =+Budget!A14 -> ACQUISITION XY 06 | B13: =+Budget!F14 -> 1000000 | F13: =+B13 -> 1000000 | AD13: =SUM(C13:AB13) -> 1000000 | AF13: =SUM(C13:AB13) -> 1000000
A14: =+Budget!A15 -> ACQUISITION XY 07 | B14: =+Budget!F15 -> 87840 | F14: =+B14 -> 87840 | AD14: =SUM(C14:AB14) -> 87840 | AF14: =SUM(C14:AB14) -> 87840
A15: =+Budget!A16 -> DROIT DE MUTATION | B15: =+Budget!F16 -> 63094.72 | F15: =+B15 -> 63094.72 | AD15: =SUM(C15:AB15) -> 63094.72 | AF15: =SUM(C15:AB15) -> 63094.72
A16: =+Budget!A17 -> FRAIS NOTAIRES | B16: =+Budget!F17 -> 10253.25 | F16: =+B16 -> 10253.25 | AD16: =SUM(C16:AB16) -> 10253.25 | AF16: =SUM(C16:AB16) -> 10253.25
A17: =+Budget!A18 -> COÛT HYPOTHEQUE | B17: =+Budget!F18 -> 22375 | F17: =+B17 -> 22375 | AF17: =SUM(C17:AB17) -> 22375
A18: =+Budget!A19 -> SONDAGES GEOTECHNIQUES | B18: =+Budget!F19 -> 5967.5 | F18: =+B18 -> 5967.5 | AD18: =SUM(C18:AB18) -> 5967.5 | AF18: =SUM(C18:AB18) -> 5967.5
A19: =+Budget!A20 -> GEOMETRE | B19: =+Budget!F20 -> 3255 | F19: =+B19 -> 3255 | AD19: =SUM(C19:AB19) -> 3255 | AF19: =SUM(C19:AB19) -> 3255
A20: =+Budget!A21 -> HUISSIER (affichage PC-recours) | B20: =+Budget!F21 -> 651 | F20: =+B20 -> 651 | AD20: =SUM(C20:AB20) -> 651 | AF20: =SUM(C20:AB20) -> 651
A21: =+Budget!A25 -> Taxe Aménagement | B21: =+Budget!F25 -> 201505.1 | N21: =+B21/2 -> 100752.55 | Z21: =+B21/2 -> 100752.55 | AD21: =SUM(C21:AB21) -> 201505.1 | AF21: =SUM(C21:AB21) -> 201505.1
A22: =+Budget!A26 -> Redevance Archéologique Préventive | B22: =+Budget!F26 -> 9050.232 | N22: =+B22/2 -> 4525.116 | Z22: =+B22/2 -> 4525.116 | AD22: =SUM(C22:AB22) -> 9050.232 | AF22: =SUM(C22:AB22) -> 9050.232
A23: =+Budget!A27 -> TAXE RACCORDEMENT EGOUT | B23: =+Budget!F27 -> 46776.48 | N23: =+B23/2 -> 23388.24 | Z23: =+B23/2 -> 23388.24 | AD23: =SUM(C23:AB23) -> 46776.48 | AF23: =SUM(C23:AB23) -> 46776.48
A24: =+Budget!A30 -> Terrassement - VRD - Esp. Verts - Clôtures | B24: =+Budget!F30 -> 0 | G24: =+$B24*15% -> 0 | H24: =+$B24*15% -> 0 | M24: =+$B24*15% -> 0 | O24: =+$B24*15% -> 0 | P24: =+$B24*15% -> 0 | Q24: =+$B24*15% -> 0 | R24: =+$B24*5% -> 0 | AB24: =+$B24*5% -> 0 | AD24: =SUM(C24:AB24) -> 0 | AF24: =SUM(C24:AB24) -> 0
A25: =+Budget!A31 -> RACCORDEMENT - EU | B25: =+Budget!F31 -> 0 | O25: =+$B25*25% -> 0 | P25: =+$B25*25% -> 0 | Q25: =+$B25*25% -> 0 | R25: =+$B25*20% -> 0 | AB25: =+B25*5% -> 0 | AD25: =SUM(C25:AB25) -> 0 | AF25: =SUM(C25:AB25) -> 0
A26: =+Budget!A32 -> BASSE TENSION - Dépose et repose de transfo | B26: =+Budget!F32 -> 54250 | N26: =+$B26/3 -> 18083.333 | O26: =+$B26/3 -> 18083.333 | P26: =+$B26/3 -> 18083.333 | AD26: =SUM(C26:AB26) -> 54250 | AF26: =SUM(C26:AB26) -> 54250
A27: =+Budget!A33 -> RACCORDEMENT - FT- AEP | B27: =+Budget!F33 -> 0 | N27: =+$B27/3 -> 0 | O27: =+$B27/3 -> 0 | P27: =+$B27/3 -> 0 | AD27: =SUM(C27:AB27) -> 0 | AF27: =SUM(C27:AB27) -> 0
A28: =+Budget!A34 -> CONSTRUCTION | B28: =+Budget!F34 -> 0 | G28: =+$B28*10% -> 0 | H28: =+$B28*10% -> 0 | I28: =+$B28*7.5% -> 0 | J28: =+$B28*7.5% -> 0 | K28: =+$B28*7.5% -> 0 | L28: =+$B28*7.5% -> 0 | M28: =+$B28*7.5% -> 0 | N28: =+$B28*7.5% -> 0 | O28: =+$B28*7.5% -> 0 | P28: =+$B28*7.5% -> 0 | ... R28: =+$B28*7.5% -> 0 | AB28: =+$B28*5% -> 0 | AF28: =SUM(C28:AB28) -> 0
A29: =+Budget!A35 -> TOTAL CONSTRUCTION | B29: =+Budget!F35 -> 6083809.7 | G29: =+$B$29/19 -> 320200.51 | H29: =+$B$29/19 -> 320200.51 | I29: =+$B$29/19 -> 320200.51 | J29: =+$B$29/19 -> 320200.51 | K29: =+$B$29/19 -> 320200.51 | L29: =+$B$29/19 -> 320200.51 | M29: =+$B$29/19 -> 320200.51 | N29: =+$B$29/19 -> 320200.51 | ... X29: =+$B$29/19 -> 320200.51 | Y29: =+$B$29/19/2 -> 160100.26 | AB29: =+$B$29/19/2 -> 160100.26 | AF29: =SUM(C29:AB29) -> 6083809.7
A30: =+Budget!A36 -> 0 | B30: =+Budget!F36 -> 0 | O30: =+$B30*25% -> 0 | P30: =+$B30*25% -> 0 | Q30: =+$B30*25% -> 0 | R30: =+$B30*20% -> 0 | AB30: =+$B30*5% -> 0 | AF30: =SUM(C30:AB30) -> 0
A31: =+Budget!A40 -> CONCEPTION PERMIS DE CONST-PIECES ECRITES | B31: =+Budget!F40 -> 149845.38 | F31: =+B31/2 -> 74922.691 | G31: =+$F$31/3 -> 24974.23 | H31: =+$F$31/3 -> 24974.23 | I31: =+$F$31/3 -> 24974.23 | AD31: =SUM(C31:AB31) -> 149845.38 | AE31: =SUM(C31:AA31) -> 149845.38 | AF31: =SUM(C31:AB31) -> 149845.38
A32: =+Budget!A41 -> MOD OPC | B32: =+Budget!F41 -> 149845.38 | F32: =+B32*15% -> 22476.807 | G32: =+B32*15% -> 22476.807 | I32: =+$B$32*70%/17 -> 6170.104 | J32: =+$B$32*70%/17 -> 6170.104 | K32: =+$B$32*70%/17 -> 6170.104 | L32: =+$B$32*70%/17 -> 6170.104 | M32: =+$B$32*70%/17 -> 6170.104 | N32: =+$B$32*70%/17 -> 6170.104 | O32: =+$B$32*70%/17 -> 6170.104 | P32: =+$B$32*70%/17 -> 6170.104 | ... X32: =+$B$32*70%/17 -> 6170.104 | Y32: =+$B$32*70%/17/2 -> 3085.052 | AB32: =+$B$32*70%/17/2 -> 3085.052 | AD32: =SUM(C32:AB32) -> 149845.38 | AF32: =SUM(C32:AB32) -> 149845.38
A33: =+Budget!A42 -> CONTRÔLE - TECHNIQUE | B33: =+Budget!F42 -> 61380.597 | H33: =+$B33/16 -> 3836.2873 | I33: =+$B33/16 -> 3836.2873 | J33: =+$B33/16 -> 3836.2873 | K33: =+$B33/16 -> 3836.2873 | L33: =+$B33/16 -> 3836.2873 | M33: =+$B33/16 -> 3836.2873 | N33: =+$B33/16 -> 3836.2873 | O33: =+$B33/16 -> 3836.2873 | ... W33: =+$B33/16 -> 3836.2873 | AD33: =SUM(C33:AB33) -> 61380.597 | AF33: =SUM(C33:AB33) -> 61380.597
A34: =+Budget!A43 -> MISSION SPS | B34: =+Budget!F43 -> 18414.179 | H34: =+$B34/16 -> 1150.8862 | I34: =+$B34/16 -> 1150.8862 | J34: =+$B34/16 -> 1150.8862 | K34: =+$B34/16 -> 1150.8862 | L34: =+$B34/16 -> 1150.8862 | M34: =+$B34/16 -> 1150.8862 | N34: =+$B34/16 -> 1150.8862 | O34: =+$B34/16 -> 1150.8862 | ... W34: =+$B34/16 -> 1150.8862 | AD34: =SUM(C34:AB34) -> 18414.179 | AF34: =SUM(C34:AB34) -> 18414.179
A35: =+Budget!A47 -> HONORAIRE MODEX 5% | B35: =+Budget!F47 -> 511306.25 | F35: =+$B35*10% -> 51130.625 | H35: =+($B$35-$F$35)/18 -> 25565.312 | I35: =+($B$35-$F$35)/18 -> 25565.312 | J35: =+($B$35-$F$35)/18 -> 25565.312 | K35: =+($B$35-$F$35)/18 -> 25565.312 | L35: =+($B$35-$F$35)/18 -> 25565.312 | M35: =+($B$35-$F$35)/18 -> 25565.312 | N35: =+($B$35-$F$35)/18 -> 25565.312 | O35: =+($B$35-$F$35)/18 -> 25565.312 | ... X35: =+($B$35-$F$35)/18 -> 25565.312 | AB35: =+($B$35-$F$35)/18 -> 25565.312 | AD35: =SUM(C35:AB35) -> 511306.25 | AF35: =SUM(C35:AB35) -> 511306.25
A36: =+Budget!A48 -> COM SUR VENTE 5% | B36: =+Budget!F48 -> 511306.25 | F36: =+$B36*10% -> 51130.625 | P36: =+$B36*10% -> 51130.625 | Q36: =+$B36*10% -> 51130.625 | R36: =+$B36*10% -> 51130.625 | S36: =+$B36*10% -> 51130.625 | T36: =+$B36*10% -> 51130.625 | U36: =+$B36*10% -> 51130.625 | V36: =+$B36*10% -> 51130.625 | W36: =+$B36*10% -> 51130.625 | X36: =+$B36*10% -> 51130.625 | AF36: =SUM(C36:AB36) -> 511306.25
A37: =+Budget!A49 -> INTERETS BANCAIRES | B37: =+Budget!F49 -> 160000 | H37: =+$B37*G$64% -> 4800 | K37: =+$B37*J$64% -> 24000 | N37: =+$B37*M$64% -> 40000 | Q37: =+$B37*P$64% -> 44800 | Y37: =+$B37*Y$64% -> 46400 | AD37: =SUM(C37:AB37) -> 160000 | AF37: =SUM(C37:AB37) -> 160000
A38: =+Budget!A50 -> CHARGES BANCAIRES (frais de dossier & com engmt) | B38: =+Budget!F50 -> 130200 | F38: =+B38 -> 130200 | AD38: =SUM(C38:AB38) -> 130200 | AE38: =+B38 -> 130200 | AF38: =SUM(C38:AB38) -> 130200
A39: =+Budget!A51 -> ASSURANCE DO / CNR | B39: =+Budget!F51 -> 0 | F39: =+B39 -> 0 | AF39: =SUM(C39:AB39) -> 0
A40: =+Budget!A52 -> ASSURANCE TRC | B40: =+Budget!F52 -> 28285.989 | F40: =+B40 -> 28285.989 | AD40: =SUM(C40:AB40) -> 28285.989 | AF40: =SUM(C40:AB40) -> 28285.989
A41: =+Budget!A53 -> ASSURANCE - GFA | B41: =+Budget!F53 -> 117812.5 | F41: =+B41 -> 117812.5 | AD41: =SUM(C41:AB41) -> 117812.5 | AF41: =SUM(C41:AB41) -> 117812.5
A42: =+Budget!A54 -> PUBLICITE COMMERCIAL | B42: =+Budget!F54 -> 0 | AF42: =SUM(C42:AB42) -> 0
A43: =+Budget!A55 -> Création SCCV | B43: =+Budget!F55 -> 0 | AF43: =SUM(C43:AB43) -> 0
A44: =+Budget!A56 -> ALEAS | B44: =+Budget!F56 -> 0 | E44: =+B44 -> 0 | AF44: =SUM(C44:AB44) -> 0
A45: =+Budget!A61 -> COMMERCIALISATION (via réseaux CGP) | B45: =+Budget!F61 -> 0 | I45: =+$B45*5% -> 0 | J45: =+$B45*5% -> 0 | K45: =+$B45*5% -> 0 | L45: =+$B45*5% -> 0 | M45: =+$B45*5% -> 0 | N45: =+$B45*5% -> 0 | O45: =+$B45*5% -> 0 | P45: =+$B45*5% -> 0 | ... R45: =+$B45*5% -> 0 | Y45: =+$B45*12.5% -> 0 | Z45: =+$B45*12.5% -> 0 | AA45: =+$B45*12.5% -> 0 | AB45: =+$B45*12.5% -> 0 | AF45: =SUM(C45:AB45) -> 0
A46: =+Budget!A62 -> PLATEFORME RESEAUX | B46: =+Budget!F62 -> 0 | I46: =+$B46*5% -> 0 | J46: =+$B46*5% -> 0 | K46: =+$B46*5% -> 0 | L46: =+$B46*5% -> 0 | M46: =+$B46*5% -> 0 | N46: =+$B46*5% -> 0 | O46: =+$B46*5% -> 0 | P46: =+$B46*5% -> 0 | ... R46: =+$B46*5% -> 0 | Y46: =+$B46*12.5% -> 0 | Z46: =+$B46*12.5% -> 0 | AA46: =+$B46*12.5% -> 0 | AB46: =+$B46*12.5% -> 0 | AF46: =SUM(C46:AB46) -> 0
A47: =+Budget!A63 -> GARANTIE DU PREMIER LOCATAIRE (3 MOIS) | B47: =+Budget!F63 -> 0 | Y47: =+$B$47*25% -> 0 | Z47: =+$B$47*25% -> 0 | AA47: =+$B$47*25% -> 0 | AB47: =+$B$47*25% -> 0 | AF47: =SUM(C47:AB47) -> 0
...

Sheet Amortissement
A1: EDITER LE TABLEAU D'AMORTISSEMENT D'UN PRET
A3: Publié par www.calculateurimmo.fr
F4: mois | G4: année
E5: Début des remboursements : | F5: Janvier | G5: 2015 | K5: =COUNTIF(mois,"Janvier")*1+COUNTIF(mois,"Février")*2+COUNTIF(mois,"Mars")*3+COUNTIF(mois,"Avril")*4+COUNTIF(mois,"Mai")*5+COUNTIF(mois,"Juin")*6+COUNTIF(mois,"Juillet")*7+COUNTIF(mois,"Août")*8+COUNTIF(mois,"Septembre")*9+COUNTIF(mois,"Octobre")*10+COUNTIF(mois,"Novembre")*11+COUNTIF(mois,"Décembre")*12 -> 1
E7: Montant du prêt : | F7: =+Budget!F84 -> 7155348.5 | G7: € | K7: =IF(AND(pret<>"",pret>0,mois<>"",mois>0,annee<>"",annee>0,dureepret<>"",dureepret>0,tauxinteret<>"",tauxinteret>0),"OK","NOK") -> OK
E9: Durée : | F9: 240 | G9: mois
E11: Taux d'intérêt : | F11: 3.5 | G11: %
E13: Taux d'assurance : | F13: 0.3 | G13: % (facultatif)
E16: Mensualité hors asurance : | F16: =IF(test="OK",(pret*tauxinteret/100)/(12*(1-POWER(1+((tauxinteret/100)/12),-dureepret))),"") -> 41498.139 | G16: €/mois
E18: Assurance : | F18: =IF(test="OK",pret*tauxassurance/100/12,"") -> 1788.8371 | G18: €/mois
E20: Mensualité totale : | F20: =IF(test="OK",mensualitehorsassurance+mensualiteassurance,"") -> 43286.976 | G20: €/mois
E22: Coût des intérêts : | F22: =IF(test="OK",pret*(((tauxinteret*0.01*dureepret)/(12*(1-POWER(1+(tauxinteret/100)/12,-dureepret))))-1),"") -> 2804204.8 | G22: €
E24: Coût de l'assurance : | F24: =IF(test="OK",pret*tauxassurance*0.01*dureepret/12,"") -> 429320.91 | G24: €
E26: Coût total : | F26: =IF(test="OK",coutinterets+coutassurance,"") -> 3233525.7 | G26: €
B29: N° | C29: Date | D29: Mensualité | E29: Assurance | F29: Intérêts | G29: Cumul des intérêts | H29: Capital remboursé | I29: Capital restant dû
B30: =IF(test="OK",1,"") -> 1 | C30: =IF(B30<>"",DATE(G5,K5,1),"") -> 42005 | D30: =IF(B30<>"",mensualitehorsassurance,"") -> 41498.139 | E30: =IF(B30<>"",mensualiteassurance,"") -> 1788.8371 | F30: =IF(B30<>"",pret*tauxinteret/100/12,"") -> 20869.766 | G30: =IF(D30<>"",F30,"") -> 20869.766 | H30: =IF(E30<>"",D30-F30,"") -> 20628.372 | I30: =IF(F30<>"",pret-H30,"") -> 7134720.1
B31: =IF(test="OK",IF(B30<dureepret,B30+1,""),"") -> 2 | C31: =IF(B31<>"",DATE(YEAR(C30),MONTH(C30)+1,DAY(C30)),"") -> 42036 | D31: =IF(B31<>"",mensualitehorsassurance,"") -> 41498.139 | E31: =IF(B31<>"",mensualiteassurance,"") -> 1788.8371 | F31: =IF(B31<>"",I30*tauxinteret/100/12,"") -> 20809.6 | G31: =IF(D31<>"",G30+F31,"") -> 41679.367 | H31: =IF(E31<>"",D31-F31+H30,"") -> 41316.911 | I31: =IF(F31<>"",pret-H31,"") -> 7114031.6
B32: =IF(test="OK",IF(B31<dureepret,B31+1,""),"") -> 3 | C32: =IF(B32<>"",DATE(YEAR(C31),MONTH(C31)+1,DAY(C31)),"") -> 42064 | D32: =IF(B32<>"",mensualitehorsassurance,"") -> 41498.139 | E32: =IF(B32<>"",mensualiteassurance,"") -> 1788.8371 | F32: =IF(B32<>"",I31*tauxinteret/100/12,"") -> 20749.259 | G32: =IF(D32<>"",G31+F32,"") -> 62428.625 | H32: =IF(E32<>"",D32-F32+H31,"") -> 62065.791 | I32: =IF(F32<>"",pret-H32,"") -> 7093282.7
B33: =IF(test="OK",IF(B32<dureepret,B32+1,""),"") -> 4 | C33: =IF(B33<>"",DATE(YEAR(C32),MONTH(C32)+1,DAY(C32)),"") -> 42095 | D33: =IF(B33<>"",mensualitehorsassurance,"") -> 41498.139 | E33: =IF(B33<>"",mensualiteassurance,"") -> 1788.8371 | F33: =IF(B33<>"",I32*tauxinteret/100/12,"") -> 20688.741 | G33: =IF(D33<>"",G32+F33,"") -> 83117.366 | H33: =IF(E33<>"",D33-F33+H32,"") -> 82875.189 | I33: =IF(F33<>"",pret-H33,"") -> 7072473.3
B34: =IF(test="OK",IF(B33<dureepret,B33+1,""),"") -> 5 | C34: =IF(B34<>"",DATE(YEAR(C33),MONTH(C33)+1,DAY(C33)),"") -> 42125 | D34: =IF(B34<>"",mensualitehorsassurance,"") -> 41498.139 | E34: =IF(B34<>"",mensualiteassurance,"") -> 1788.8371 | F34: =IF(B34<>"",I33*tauxinteret/100/12,"") -> 20628.047 | G34: =IF(D34<>"",G33+F34,"") -> 103745.41 | H34: =IF(E34<>"",D34-F34+H33,"") -> 103745.28 | I34: =IF(F34<>"",pret-H34,"") -> 7051603.2
B35: =IF(test="OK",IF(B34<dureepret,B34+1,""),"") -> 6 | C35: =IF(B35<>"",DATE(YEAR(C34),MONTH(C34)+1,DAY(C34)),"") -> 42156 | D35: =IF(B35<>"",mensualitehorsassurance,"") -> 41498.139 | E35: =IF(B35<>"",mensualiteassurance,"") -> 1788.8371 | F35: =IF(B35<>"",I34*tauxinteret/100/12,"") -> 20567.176 | G35: =IF(D35<>"",G34+F35,"") -> 124312.59 | H35: =IF(E35<>"",D35-F35+H34,"") -> 124676.24 | I35: =IF(F35<>"",pret-H35,"") -> 7030672.2
B36: =IF(test="OK",IF(B35<dureepret,B35+1,""),"") -> 7 | C36: =IF(B36<>"",DATE(YEAR(C35),MONTH(C35)+1,DAY(C35)),"") -> 42186 | D36: =IF(B36<>"",mensualitehorsassurance,"") -> 41498.139 | E36: =IF(B36<>"",mensualiteassurance,"") -> 1788.8371 | F36: =IF(B36<>"",I35*tauxinteret/100/12,"") -> 20506.127 | G36: =IF(D36<>"",G35+F36,"") -> 144818.72 | H36: =IF(E36<>"",D36-F36+H35,"") -> 145668.25 | I36: =IF(F36<>"",pret-H36,"") -> 7009680.2
B37: =IF(test="OK",IF(B36<dureepret,B36+1,""),"") -> 8 | C37: =IF(B37<>"",DATE(YEAR(C36),MONTH(C36)+1,DAY(C36)),"") -> 42217 | D37: =IF(B37<>"",mensualitehorsassurance,"") -> 41498.139 | E37: =IF(B37<>"",mensualiteassurance,"") -> 1788.8371 | F37: =IF(B37<>"",I36*tauxinteret/100/12,"") -> 20444.901 | G37: =IF(D37<>"",G36+F37,"") -> 165263.62 | H37: =IF(E37<>"",D37-F37+H36,"") -> 166721.49 | I37: =IF(F37<>"",pret-H37,"") -> 6988627
B38: =IF(test="OK",IF(B37<dureepret,B37+1,""),"") -> 9 | C38: =IF(B38<>"",DATE(YEAR(C37),MONTH(C37)+1,DAY(C37)),"") -> 42248 | D38: =IF(B38<>"",mensualitehorsassurance,"") -> 41498.139 | E38: =IF(B38<>"",mensualiteassurance,"") -> 1788.8371 | F38: =IF(B38<>"",I37*tauxinteret/100/12,"") -> 20383.495 | G38: =IF(D38<>"",G37+F38,"") -> 185647.11 | H38: =IF(E38<>"",D38-F38+H37,"") -> 187836.14 | I38: =IF(F38<>"",pret-H38,"") -> 6967512.3
B39: =IF(test="OK",IF(B38<dureepret,B38+1,""),"") -> 10 | C39: =IF(B39<>"",DATE(YEAR(C38),MONTH(C38)+1,DAY(C38)),"") -> 42278 | D39: =IF(B39<>"",mensualitehorsassurance,"") -> 41498.139 | E39: =IF(B39<>"",mensualiteassurance,"") -> 1788.8371 | F39: =IF(B39<>"",I38*tauxinteret/100/12,"") -> 20321.911 | G39: =IF(D39<>"",G38+F39,"") -> 205969.02 | H39: =IF(E39<>"",D39-F39+H38,"") -> 209012.36 | I39: =IF(F39<>"",pret-H39,"") -> 6946336.1
B40: =IF(test="OK",IF(B39<dureepret,B39+1,""),"") -> 11 | C40: =IF(B40<>"",DATE(YEAR(C39),MONTH(C39)+1,DAY(C39)),"") -> 42309 | D40: =IF(B40<>"",mensualitehorsassurance,"") -> 41498.139 | E40: =IF(B40<>"",mensualiteassurance,"") -> 1788.8371 | F40: =IF(B40<>"",I39*tauxinteret/100/12,"") -> 20260.147 | G40: =IF(D40<>"",G39+F40,"") -> 226229.17 | H40: =IF(E40<>"",D40-F40+H39,"") -> 230250.36 | I40: =IF(F40<>"",pret-H40,"") -> 6925098.1
B41: =IF(test="OK",IF(B40<dureepret,B40+1,""),"") -> 12 | C41: =IF(B41<>"",DATE(YEAR(C40),MONTH(C40)+1,DAY(C40)),"") -> 42339 | D41: =IF(B41<>"",mensualitehorsassurance,"") -> 41498.139 | E41: =IF(B41<>"",mensualiteassurance,"") -> 1788.8371 | F41: =IF(B41<>"",I40*tauxinteret/100/12,"") -> 20198.203 | G41: =IF(D41<>"",G40+F41,"") -> 246427.37 | H41: =IF(E41<>"",D41-F41+H40,"") -> 251550.29 | I41: =IF(F41<>"",pret-H41,"") -> 6903798.2
B42: =IF(test="OK",IF(B41<dureepret,B41+1,""),"") -> 13 | C42: =IF(B42<>"",DATE(YEAR(C41),MONTH(C41)+1,DAY(C41)),"") -> 42370 | D42: =IF(B42<>"",mensualitehorsassurance,"") -> 41498.139 | E42: =IF(B42<>"",mensualiteassurance,"") -> 1788.8371 | F42: =IF(B42<>"",I41*tauxinteret/100/12,"") -> 20136.078 | G42: =IF(D42<>"",G41+F42,"") -> 266563.45 | H42: =IF(E42<>"",D42-F42+H41,"") -> 272912.35 | I42: =IF(F42<>"",pret-H42,"") -> 6882436.1
... B499: =IF(test="OK",IF(B498<dureepret,B498+1,""),"") | C499: =IF(B499<>"",DATE(YEAR(C498),MONTH(C498)+1,DAY(C498)),"") | D499: =IF(B499<>"",mensualitehorsassurance,"") | E499: =IF(B499<>"",mensualiteassurance,"") | F499: =IF(B499<>"",I498*tauxinteret/100/12,"") | G499: =IF(D499<>"",G498+F499,"") | H499: =IF(E499<>"",D499-F499+H498,"") | I499: =IF(F499<>"",pret-H499,"")

Sheet Tab. Définitif 9-12-11
G2: SURFACE SUV | I2: 7441 | J2: M²
G3: SURFACE PARK | I3: 3005 | J3: M²
G4: SURFACE PLANCHER | I4: =+I3+I2 -> 10446
G5: LOGEMENT | I5: 95
C7: SCCV ROSSAN | G7: 40886
C8: 23/03/2011 prévisionnel
A9: N° LOT | B9: BUDGET | C9: PREVISIONNEL | D9: ENTREPRISE | E9: BUDGET REEL HT | F9: TS1 | G9: TS2 | H9: TS3 | I9: TS4 | K9: BUDGET REEL TTC | M9: par logement HT | N9: par SUV | O9: par SUV 1 SSOL
A10: 13 | B10: VRD - ESPACES VERTS | C10: 749013 | D10: TPM2A | E10: 602848.8 | K10: =E10*1.085 -> 654090.95 | M10: =+E10/95 -> 6345.7768 | N10: =+E10/$I$2 -> 81.017175 | O10: =+E10/$I$4 -> 57.710971
A11: 1 | B11: GROS ŒUVRE | C11: 8209123 | D11: BTB | E11: 4020000 | K11: =E11*1.085 -> 4361700 | M11: =+E11/95 -> 42315.789 | N11: =+E11/$I$2 -> 540.24997 | O11: =+E11/$I$4 -> 384.8363
A12: 2 | B12: CLOISONS | D12: SOMEB | E12: 178358 | K12: =E12*1.085 -> 193518.43 | M12: =+E12/95 -> 1877.4526 | N12: =+E12/$I$2 -> 23.969628 | O12: =+E12/$I$4 -> 17.074287
A13: 3 | B13: ETANCHEITE | D13: EPGM | E13: 255000 | K13: =E13*1.085 -> 276675 | M13: =+E13/95 -> 2684.2105 | N13: =+E13/$I$2 -> 34.269587 | O13: =+E13/$I$4 -> 24.411258
A14: 4 | B14: MENUISERIE PVC / ALU. | D14: MENUIRUN | E14: 213831 | K14: =E14*1.085 -> 232006.63 | M14: =+E14/95 -> 2250.8526 | N14: =+E14/$I$2 -> 28.736863 | O14: =+E14/$I$4 -> 20.470132
A15: 5 | B15: MENUISERIE BOIS | D15: SOMEB | E15: 330286.13 | K15: =E15*1.085 -> 358360.45 | M15: =+E15/95 -> 3476.6961 | N15: =+E15/$I$2 -> 44.387331 | O15: =+E15/$I$4 -> 31.618431
A16: 6 | B16: PLOMBERIE SANITAIRES | D16: SPER | E16: 304024 | K16: =E16*1.085 -> 329866.04 | M16: =+E16/95 -> 3200.2526 | N16: =+E16/$I$2 -> 40.857949 | O16: =+E16/$I$4 -> 29.104346
A17: 7 | B17: ELECTRICITE | D17: ESR | E17: 416000 | K17: =E17*1.085 -> 451360 | M17: =+E17/95 -> 4378.9474 | N17: =+E17/$I$2 -> 55.906464 | O17: =+E17/$I$4 -> 39.823856
A18: 8 | B18: EAU CHAUDE SANITAIRE SOLAIRE | D18: MANIX FLUIDE | E18: 271477.68 | K18: =E18*1.085 -> 294553.28 | M18: =+E18/95 -> 2857.6598 | N18: =+E18/$I$2 -> 36.484032 | O18: =+E18/$I$4 -> 25.988673
A19: 9 | B19: ASCENSEUR | D19: CEGELEC | E19: 79000 | K19: =E19*1.085 -> 85715 | M19: =+E19/95 -> 831.57895 | N19: =+E19/$I$2 -> 10.616853 | O19: =+E19/$I$4 -> 7.5627034
A20: 10 | B20: VMC - DESENFUMAGE | D20: SPER | E20: 181980 | K20: =E20*1.085 -> 197448.3 | M20: =+E20/95 -> 1915.5789 | N20: =+E20/$I$2 -> 24.45639 | O20: =+E20/$I$4 -> 17.421022
A21: 11 | B21: PEINTURE | D21: EPGM | E21: 430000 | K21: =E21*1.085 -> 466550 | M21: =+E21/95 -> 4526.3158 | N21: =+E21/$I$2 -> 57.787932 | O21: =+E21/$I$4 -> 41.164082
A22: 12 | B22: REVETEMENTS DURS | D22: TPM2A | E22: 381073 | K22: =E22*1.085 -> 413464.2 | M22: =+E22/95 -> 4011.2947 | N22: =+E22/$I$2 -> 51.212606 | O22: =+E22/$I$4 -> 36.48028
A23: 13 bis | B23: PORTAIL ET AUTOMATISME | D23: SORAD | E23: 24025.2 | K23: =E23*1.085 -> 26067.342 | M23: =+E23/95 -> 252.89684 | N23: =+E23/$I$2 -> 3.2287596 | O23: =+E23/$I$4 -> 2.2999426
A24: 14 | B24: METALLERIE | D24: METALDER | E24: 311880 | K24: =E24*1.085 -> 338389.8 | M24: =+E24/95 -> 3282.9474 | N24: =+E24/$I$2 -> 41.913721 | O24: =+E24/$I$4 -> 29.856404
B25: BASSE TENSION | D25: BOURBON LUMIERE | E25: 42060 | K25: =E25*1.085 -> 45635.1 | M25: =+E25/95 -> 442.73684 | N25: =+E25/$I$2 -> 5.6524661 | O25: =+E25/$I$4 -> 4.0264216
B26: ALEAS | C26: 150000 | K26: =E26*1.085 -> 0 | M26: =+E26/95 -> 0 | N26: =+E26/$I$2 -> 0 | O26: =+E26/$I$4 -> 0
B27: TOTAL HT | C27: =SUM(C10:C26) -> 9108136 | E27: =SUM(E10:E26) -> 8041843.8 | F27: =SUM(F10:F26) -> 0 | G27: =SUM(G10:G26) -> 0 | H27: =SUM(H10:H26) -> 0 | I27: =SUM(I10:I26) -> 0 | K27: =E27*1.085 -> 8725400.5 | M27: =+E27/95 -> 84650.987 | N27: =+E27/$I$2 -> 1080.7477 | O27: =+E27/$I$4 -> 769.84911
B28: TVA 8,5 % | C28: =C27*0.085 -> 774191.56 | E28: =E27*0.085 -> 683556.72 | F28: =F27*0.085 -> 0 | G28: =G27*0.085 -> 0 | H28: =H27*0.085 -> 0 | I28: =I27*0.085 -> 0
B29: TOTAL TTC | C29: =C27+C28 -> 9882327.6 | E29: =E27+E28 -> 8725400.5 | F29: =F27+F28 -> 0 | G29: =G27+G28 -> 0 | H29: =H27+H28 -> 0 | I29: =I27+I28 -> 0 | K29: =+K27 -> 8725400.5
K31: 750000 | L31: MARGE DE SECURITE
B32: ARCHITECTE | C32: 400000 | D32: Cabinet GOETZ | E32: 538385 | F32: =(E32-C32) -> 138385 | K32: =+K31+K29 -> 9475400.5 | L32: PRIX REEL PR
B33: OPC | D33: Impulsion Ingénièrie | E33: 19500 | K33: =+K32/I2 -> 1273.4042 | L33: RATION PR/SUV | N33: =+K33/1.085 -> 1173.6444
B34: CSPS | C34: 10920 | D34: Bureau VERITAS | E34: 7100 | F34: =(E34-C34) -> -3820 | K34: =+K32/(I2+I3) -> 907.0841 | L34: RATION PR/SUV+PK | N34: =+K34/1.085 -> 836.02221
B35: CONTRÔLE TECHNIQUE | C35: 35000 | D35: Bureau VERITAS | E35: 38000 | F35: =(E35-C35) -> 3000
B36: GEOTECHNIQUE & CONTRÔLE | C36: 9449 | D36: SEGC | E36: 8193.75 | F36: =(E36-C36) -> -1255.25
B37: BRANCHEMENT EDF | C37: 65000 | D37: EDF | E37: =(31758.38+37232) -> 68990.38 | J37: + Tx de dépose de transfo
B38: BRANCHEMENT CGE | D38: CGE
B39: BRANCHEMENT PTT | D39: France TELECOM | E39: 3616.01
B40: ACQUISITION TERRAIN | C40: 2450000 | D40: SCCV ROSSAN | E40: 2450000 | F40: =(E40-C40) -> 0
B41: GEOMETRE | C41: 5600 | F41: =(E41-C41) -> -5600
B42: HUISSIER | C42: 2140.94 | D42: SCP MICHEL | E42: 2140.94 | F42: =(E42-C42) -> 0
B43: NOTAIRE | C43: 119860 | F43: =(E43-C43) -> -119860
...
