Workbook
Name NbPièces: Entête!$B$2:$B$17

Sheet Entête
B1: N° Pièce | C1: N° Client | D1: Intitulé | E1: Date | F1: Total HT | H1: Net à payer | I1: Reference
A2: E | B2: 20170001 | C2: 498 | D2: client1 | E2: 42737 | F2: 230.597 | G2: 245.308 | H2: 245.308
A3: E | B3: 20170002 | C3: 746 | D3: client2 | E3: 42737 | F3: 501.722 | G3: 583.1 | H3: 583.1
A4: E | B4: 20170003 | C4: 924 | D4: client3 | E4: 42738 | F4: 39.097 | G4: 41.943 | H4: 41.943
A5: E | B5: 20170004 | C5: 214 | D5: client4 | E5: 42738 | F5: 703.925 | G5: 746.661 | H5: 746.661
A6: E | B6: 20170005 | C6: 404 | D6: client5 | E6: 42738 | F6: 2175.239 | G6: 2306.628 | H6: 2306.628
A7: E | B7: 20170006 | C7: 498 | D7: client1 | E7: 42738 | F7: 50.687 | G7: 54.228 | H7: 54.228
A8: E | B8: 20170007 | C8: 498 | D8: client1 | E8: 42738 | F8: 641.885 | G8: 680.898 | H8: 680.898
A9: E | B9: 20170008 | C9: 149 | D9: client8 | E9: 42738 | F9: 482.518 | G9: 511.969 | H9: 511.969
A10: E | B10: 20170009 | C10: 708 | D10: client9 | E10: 42738 | F10: 49.526 | G10: 52.998 | H10: 52.998
A11: E | B11: 20170010 | C11: 446 | D11: client10 | E11: 42738 | F11: 121.591 | G11: 129.386 | H11: 129.386
A12: E | B12: 20170011 | C12: 54 | D12: client11 | E12: 42738 | F12: 1765.56 | G12: 1871.994 | H12: 1871.994
A13: E | B13: 20170012 | C13: 746 | D13: client2 | E13: 42739 | F13: 385 | G13: 454.8 | H13: 454.8
... A17: E | B17: 20170016 | C17: 31A | D17: client16 | E17: 42739 | F17: 99.724 | G17: 106.207 | H17: 106.207

Sheet Lignes
B1: Date | C1: N° pièce | D1: Tiers | E1: Article | F1: Désignation | G1: Qtés | H1: Remise | I1: P.U. Net | J1: Mont. HT
A2: LA | B2: 42737 | C2: 20170001 | D2: 498 | E2: 0004 | F2: TRANSPORT | G2: 1 | I2: 6.25 | J2: 6.25
A3: LA | B3: 42737 | C3: 20170001 | D3: 498 | E3: 3656100 | F3: GLUCOSE MONO RGT 6 X 100 ML | G3: 1 | I3: 32.3 | J3: 32.3
A4: LA | B4: 42737 | C4: 20170001 | D4: 498 | E4: E1850650 | F4: CALCIUM ARSENAZO LR 6 X 50 ML | G4: 1 | I4: 24.763 | J4: 24.763
A5: LA | B5: 42737 | C5: 20170001 | D5: 498 | E5: E2700650 | F5: CREATININE LR 6X50ML | G5: 1 | I5: 21.667 | J5: 21.667
A6: LA | B6: 42737 | C6: 20170001 | D6: 498 | E6: E3000550 | F6: ALKALINE PHOSPHATASE LR 5 X 50 ML | G6: 1 | I6: 39.298 | J6: 39.298
A7: LA | B7: 42737 | C7: 20170001 | D7: 498 | E7: E3300650 | F7: PHOSPHORUS LR 6 X 50 ML | G7: 1 | I7: 47.103 | J7: 47.103
A8: LA | B8: 42737 | C8: 20170001 | D8: 498 | E8: E3705100 | F8: ASAT GOT LR 5X100 ML | G8: 1 | I8: 59.216 | J8: 59.216
A9: LA | B9: 42737 | C9: 20170001 | D9: 498 | E9: TIMBRE | F9: TIMBRE | G9: 1 | I9: 0 | J9: 0
A10: LA | B10: 42737 | C10: 20170002 | D10: 746 | E10: 0004 | F10: TRANSPORT | G10: 1 | I10: 6.25 | J10: 6.25
A11: LA | B11: 42737 | C11: 20170002 | D11: 746 | E11: 115-017932-00 | F11: LAMPE BS 200/ BS 380 12V.20W +CABLE | G11: 1 | I11: 420 | J11: 420
A12: LA | B12: 42737 | C12: 20170002 | D12: 746 | E12: 20108. | F12: solution de lavage pour konee 500ml | G12: 1 | I12: 75.472 | J12: 75.472
A13: LA | B13: 42737 | C13: 20170002 | D13: 746 | E13: TIMBRE | F13: TIMBRE | G13: 1 | I13: 0 | J13: 0
... A62: LA | B62: 42739 | C62: 20170016 | D62: 31A | E62: TIMBRE | F62: TIMBRE | G62: 1 | I62: 0 | J62: 0

Sheet Exemple objectif
A1: E | B1: 20170001 | C1: =INDEX(Entête!B:B,MATCH($C1,Entête!$B:$B,0)) -> 924 | D1: =INDEX(Entête!C:C,MATCH($C1,Entête!$B:$B,0)) -> client3 | E1: =INDEX(Entête!D:D,MATCH($C1,Entête!$B:$B,0)) -> 42738 | F1: =INDEX(Entête!E:E,MATCH($C1,Entête!$B:$B,0)) -> 39.097 | G1: =INDEX(Entête!F:F,MATCH($C1,Entête!$B:$B,0)) -> 41.943 | H1: =INDEX(Entête!G:G,MATCH($C1,Entête!$B:$B,0)) -> 41.943 | I1: =INDEX(Entête!H:H,MATCH($C1,Entête!$B:$B,0)) -> 0
A2: LA | B2: {=IF(ROWS(B2:B$5)<=COUNTIF(Lignes!$C$2:$C$200,$C$2),INDEX(Lignes!B$2:B$200,SMALL(IF(Lignes!$C$2:$C$200=$C$2,ROW(Lignes!$C$2:$C$200)-ROW(Lignes!$C$2)+1),ROWS(B2:B$5))),"")} -> 20170001 | C2: {=IF(ROWS(C2:C$5)<=COUNTIF(Lignes!$C$2:$C$200,$C$2),INDEX(Lignes!C$2:C$200,SMALL(IF(Lignes!$C$2:$C$200=$C$2,ROW(Lignes!$C$2:$C$200)-ROW(Lignes!$C$2)+1),ROWS(C2:C$5))),"")} -> 498 | D2: {=IF(ROWS(D2:D$5)<=COUNTIF(Lignes!$C$2:$C$200,$C$2),INDEX(Lignes!D$2:D$200,SMALL(IF(Lignes!$C$2:$C$200=$C$2,ROW(Lignes!$C$2:$C$200)-ROW(Lignes!$C$2)+1),ROWS(D2:D$5))),"")} -> 0004 | E2: {=IF(ROWS(E2:E$5)<=COUNTIF(Lignes!$C$2:$C$200,$C$2),INDEX(Lignes!E$2:E$200,SMALL(IF(Lignes!$C$2:$C$200=$C$2,ROW(Lignes!$C$2:$C$200)-ROW(Lignes!$C$2)+1),ROWS(E2:E$5))),"")} -> TRANSPORT | F2: {=IF(ROWS(F2:F$5)<=COUNTIF(Lignes!$C$2:$C$200,$C$2),INDEX(Lignes!F$2:F$200,SMALL(IF(Lignes!$C$2:$C$200=$C$2,ROW(Lignes!$C$2:$C$200)-ROW(Lignes!$C$2)+1),ROWS(F2:F$5))),"")} -> 1 | G2: {=IF(ROWS(G2:G$5)<=COUNTIF(Lignes!$C$2:$C$200,$C$2),INDEX(Lignes!G$2:G$200,SMALL(IF(Lignes!$C$2:$C$200=$C$2,ROW(Lignes!$C$2:$C$200)-ROW(Lignes!$C$2)+1),ROWS(G2:G$5))),"")} -> 0 | H2: {=IF(ROWS(H2:H$5)<=COUNTIF(Lignes!$C$2:$C$200,$C$2),INDEX(Lignes!H$2:H$200,SMALL(IF(Lignes!$C$2:$C$200=$C$2,ROW(Lignes!$C$2:$C$200)-ROW(Lignes!$C$2)+1),ROWS(H2:H$5))),"")} -> 6.25 | I2: {=IF(ROWS(I2:I$5)<=COUNTIF(Lignes!$C$2:$C$200,$C$2),INDEX(Lignes!I$2:I$200,SMALL(IF(Lignes!$C$2:$C$200=$C$2,ROW(Lignes!$C$2:$C$200)-ROW(Lignes!$C$2)+1),ROWS(I2:I$5))),"")} -> 6.25
A3: LA | B3: {=IF(ROWS(B3:B$5)<=COUNTIF(Lignes!$C$2:$C$200,$C$2),INDEX(Lignes!B$2:B$200,SMALL(IF(Lignes!$C$2:$C$200=$C$2,ROW(Lignes!$C$2:$C$200)-ROW(Lignes!$C$2)+1),ROWS(B3:B$5))),"")} -> 20170001 | C3: {=IF(ROWS(C3:C$5)<=COUNTIF(Lignes!$C$2:$C$200,$C$2),INDEX(Lignes!C$2:C$200,SMALL(IF(Lignes!$C$2:$C$200=$C$2,ROW(Lignes!$C$2:$C$200)-ROW(Lignes!$C$2)+1),ROWS(C3:C$5))),"")} -> 498 | D3: {=IF(ROWS(D3:D$5)<=COUNTIF(Lignes!$C$2:$C$200,$C$2),INDEX(Lignes!D$2:D$200,SMALL(IF(Lignes!$C$2:$C$200=$C$2,ROW(Lignes!$C$2:$C$200)-ROW(Lignes!$C$2)+1),ROWS(D3:D$5))),"")} -> 3656100 | E3: {=IF(ROWS(E3:E$5)<=COUNTIF(Lignes!$C$2:$C$200,$C$2),INDEX(Lignes!E$2:E$200,SMALL(IF(Lignes!$C$2:$C$200=$C$2,ROW(Lignes!$C$2:$C$200)-ROW(Lignes!$C$2)+1),ROWS(E3:E$5))),"")} -> GLUCOSE MONO RGT 6 X 100 ML | F3: {=IF(ROWS(F3:F$5)<=COUNTIF(Lignes!$C$2:$C$200,$C$2),INDEX(Lignes!F$2:F$200,SMALL(IF(Lignes!$C$2:$C$200=$C$2,ROW(Lignes!$C$2:$C$200)-ROW(Lignes!$C$2)+1),ROWS(F3:F$5))),"")} -> 1 | G3: {=IF(ROWS(G3:G$5)<=COUNTIF(Lignes!$C$2:$C$200,$C$2),INDEX(Lignes!G$2:G$200,SMALL(IF(Lignes!$C$2:$C$200=$C$2,ROW(Lignes!$C$2:$C$200)-ROW(Lignes!$C$2)+1),ROWS(G3:G$5))),"")} -> 0 | H3: {=IF(ROWS(H3:H$5)<=COUNTIF(Lignes!$C$2:$C$200,$C$2),INDEX(Lignes!H$2:H$200,SMALL(IF(Lignes!$C$2:$C$200=$C$2,ROW(Lignes!$C$2:$C$200)-ROW(Lignes!$C$2)+1),ROWS(H3:H$5))),"")} -> 32.3 | I3: {=IF(ROWS(I3:I$5)<=COUNTIF(Lignes!$C$2:$C$200,$C$2),INDEX(Lignes!I$2:I$200,SMALL(IF(Lignes!$C$2:$C$200=$C$2,ROW(Lignes!$C$2:$C$200)-ROW(Lignes!$C$2)+1),ROWS(I3:I$5))),"")} -> 32.3
A4: LA | B4: {=IF(ROWS(B4:B$5)<=COUNTIF(Lignes!$C$2:$C$200,$C$2),INDEX(Lignes!B$2:B$200,SMALL(IF(Lignes!$C$2:$C$200=$C$2,ROW(Lignes!$C$2:$C$200)-ROW(Lignes!$C$2)+1),ROWS(B4:B$5))),"")} -> 20170001 | C4: {=IF(ROWS(C4:C$5)<=COUNTIF(Lignes!$C$2:$C$200,$C$2),INDEX(Lignes!C$2:C$200,SMALL(IF(Lignes!$C$2:$C$200=$C$2,ROW(Lignes!$C$2:$C$200)-ROW(Lignes!$C$2)+1),ROWS(C4:C$5))),"")} -> 498 | D4: {=IF(ROWS(D4:D$5)<=COUNTIF(Lignes!$C$2:$C$200,$C$2),INDEX(Lignes!D$2:D$200,SMALL(IF(Lignes!$C$2:$C$200=$C$2,ROW(Lignes!$C$2:$C$200)-ROW(Lignes!$C$2)+1),ROWS(D4:D$5))),"")} -> E1850650 | E4: {=IF(ROWS(E4:E$5)<=COUNTIF(Lignes!$C$2:$C$200,$C$2),INDEX(Lignes!E$2:E$200,SMALL(IF(Lignes!$C$2:$C$200=$C$2,ROW(Lignes!$C$2:$C$200)-ROW(Lignes!$C$2)+1),ROWS(E4:E$5))),"")} -> CALCIUM ARSENAZO LR 6 X 50 ML | F4: {=IF(ROWS(F4:F$5)<=COUNTIF(Lignes!$C$2:$C$200,$C$2),INDEX(Lignes!F$2:F$200,SMALL(IF(Lignes!$C$2:$C$200=$C$2,ROW(Lignes!$C$2:$C$200)-ROW(Lignes!$C$2)+1),ROWS(F4:F$5))),"")} -> 1 | G4: {=IF(ROWS(G4:G$5)<=COUNTIF(Lignes!$C$2:$C$200,$C$2),INDEX(Lignes!G$2:G$200,SMALL(IF(Lignes!$C$2:$C$200=$C$2,ROW(Lignes!$C$2:$C$200)-ROW(Lignes!$C$2)+1),ROWS(G4:G$5))),"")} -> 0 | H4: {=IF(ROWS(H4:H$5)<=COUNTIF(Lignes!$C$2:$C$200,$C$2),INDEX(Lignes!H$2:H$200,SMALL(IF(Lignes!$C$2:$C$200=$C$2,ROW(Lignes!$C$2:$C$200)-ROW(Lignes!$C$2)+1),ROWS(H4:H$5))),"")} -> 24.763 | I4: {=IF(ROWS(I4:I$5)<=COUNTIF(Lignes!$C$2:$C$200,$C$2),INDEX(Lignes!I$2:I$200,SMALL(IF(Lignes!$C$2:$C$200=$C$2,ROW(Lignes!$C$2:$C$200)-ROW(Lignes!$C$2)+1),ROWS(I4:I$5))),"")} -> 24.763
A5: LA | B5: {=IF(ROWS(B$5:B5)<=COUNTIF(Lignes!$C$2:$C$200,$C$2),INDEX(Lignes!B$2:B$200,SMALL(IF(Lignes!$C$2:$C$200=$C$2,ROW(Lignes!$C$2:$C$200)-ROW(Lignes!$C$2)+1),ROWS(B$5:B5))),"")} -> 20170001 | C5: {=IF(ROWS(C$5:C5)<=COUNTIF(Lignes!$C$2:$C$200,$C$2),INDEX(Lignes!C$2:C$200,SMALL(IF(Lignes!$C$2:$C$200=$C$2,ROW(Lignes!$C$2:$C$200)-ROW(Lignes!$C$2)+1),ROWS(C$5:C5))),"")} -> 498 | D5: {=IF(ROWS(D$5:D5)<=COUNTIF(Lignes!$C$2:$C$200,$C$2),INDEX(Lignes!D$2:D$200,SMALL(IF(Lignes!$C$2:$C$200=$C$2,ROW(Lignes!$C$2:$C$200)-ROW(Lignes!$C$2)+1),ROWS(D$5:D5))),"")} -> E2700650 | E5: {=IF(ROWS(E$5:E5)<=COUNTIF(Lignes!$C$2:$C$200,$C$2),INDEX(Lignes!E$2:E$200,SMALL(IF(Lignes!$C$2:$C$200=$C$2,ROW(Lignes!$C$2:$C$200)-ROW(Lignes!$C$2)+1),ROWS(E$5:E5))),"")} -> CREATININE LR 6X50ML | F5: {=IF(ROWS(F$5:F5)<=COUNTIF(Lignes!$C$2:$C$200,$C$2),INDEX(Lignes!F$2:F$200,SMALL(IF(Lignes!$C$2:$C$200=$C$2,ROW(Lignes!$C$2:$C$200)-ROW(Lignes!$C$2)+1),ROWS(F$5:F5))),"")} -> 1 | G5: {=IF(ROWS(G$5:G5)<=COUNTIF(Lignes!$C$2:$C$200,$C$2),INDEX(Lignes!G$2:G$200,SMALL(IF(Lignes!$C$2:$C$200=$C$2,ROW(Lignes!$C$2:$C$200)-ROW(Lignes!$C$2)+1),ROWS(G$5:G5))),"")} -> 0 | H5: {=IF(ROWS(H$5:H5)<=COUNTIF(Lignes!$C$2:$C$200,$C$2),INDEX(Lignes!H$2:H$200,SMALL(IF(Lignes!$C$2:$C$200=$C$2,ROW(Lignes!$C$2:$C$200)-ROW(Lignes!$C$2)+1),ROWS(H$5:H5))),"")} -> 21.667 | I5: {=IF(ROWS(I$5:I5)<=COUNTIF(Lignes!$C$2:$C$200,$C$2),INDEX(Lignes!I$2:I$200,SMALL(IF(Lignes!$C$2:$C$200=$C$2,ROW(Lignes!$C$2:$C$200)-ROW(Lignes!$C$2)+1),ROWS(I$5:I5))),"")} -> 21.667
A6: LA | B6: {=IF(ROWS(B$5:B6)<=COUNTIF(Lignes!$C$2:$C$200,$C$2),INDEX(Lignes!B$2:B$200,SMALL(IF(Lignes!$C$2:$C$200=$C$2,ROW(Lignes!$C$2:$C$200)-ROW(Lignes!$C$2)+1),ROWS(B$5:B6))),"")} -> 20170001 | C6: {=IF(ROWS(C$5:C6)<=COUNTIF(Lignes!$C$2:$C$200,$C$2),INDEX(Lignes!C$2:C$200,SMALL(IF(Lignes!$C$2:$C$200=$C$2,ROW(Lignes!$C$2:$C$200)-ROW(Lignes!$C$2)+1),ROWS(C$5:C6))),"")} -> 498 | D6: {=IF(ROWS(D$5:D6)<=COUNTIF(Lignes!$C$2:$C$200,$C$2),INDEX(Lignes!D$2:D$200,SMALL(IF(Lignes!$C$2:$C$200=$C$2,ROW(Lignes!$C$2:$C$200)-ROW(Lignes!$C$2)+1),ROWS(D$5:D6))),"")} -> E3000550 | E6: {=IF(ROWS(E$5:E6)<=COUNTIF(Lignes!$C$2:$C$200,$C$2),INDEX(Lignes!E$2:E$200,SMALL(IF(Lignes!$C$2:$C$200=$C$2,ROW(Lignes!$C$2:$C$200)-ROW(Lignes!$C$2)+1),ROWS(E$5:E6))),"")} -> ALKALINE PHOSPHATASE LR 5 X 50 ML | F6: {=IF(ROWS(F$5:F6)<=COUNTIF(Lignes!$C$2:$C$200,$C$2),INDEX(Lignes!F$2:F$200,SMALL(IF(Lignes!$C$2:$C$200=$C$2,ROW(Lignes!$C$2:$C$200)-ROW(Lignes!$C$2)+1),ROWS(F$5:F6))),"")} -> 1 | G6: {=IF(ROWS(G$5:G6)<=COUNTIF(Lignes!$C$2:$C$200,$C$2),INDEX(Lignes!G$2:G$200,SMALL(IF(Lignes!$C$2:$C$200=$C$2,ROW(Lignes!$C$2:$C$200)-ROW(Lignes!$C$2)+1),ROWS(G$5:G6))),"")} -> 0 | H6: {=IF(ROWS(H$5:H6)<=COUNTIF(Lignes!$C$2:$C$200,$C$2),INDEX(Lignes!H$2:H$200,SMALL(IF(Lignes!$C$2:$C$200=$C$2,ROW(Lignes!$C$2:$C$200)-ROW(Lignes!$C$2)+1),ROWS(H$5:H6))),"")} -> 39.298 | I6: {=IF(ROWS(I$5:I6)<=COUNTIF(Lignes!$C$2:$C$200,$C$2),INDEX(Lignes!I$2:I$200,SMALL(IF(Lignes!$C$2:$C$200=$C$2,ROW(Lignes!$C$2:$C$200)-ROW(Lignes!$C$2)+1),ROWS(I$5:I6))),"")} -> 39.298
A7: LA | B7: {=IF(ROWS(B$5:B7)<=COUNTIF(Lignes!$C$2:$C$200,$C$2),INDEX(Lignes!B$2:B$200,SMALL(IF(Lignes!$C$2:$C$200=$C$2,ROW(Lignes!$C$2:$C$200)-ROW(Lignes!$C$2)+1),ROWS(B$5:B7))),"")} -> 20170001 | C7: {=IF(ROWS(C$5:C7)<=COUNTIF(Lignes!$C$2:$C$200,$C$2),INDEX(Lignes!C$2:C$200,SMALL(IF(Lignes!$C$2:$C$200=$C$2,ROW(Lignes!$C$2:$C$200)-ROW(Lignes!$C$2)+1),ROWS(C$5:C7))),"")} -> 498 | D7: {=IF(ROWS(D$5:D7)<=COUNTIF(Lignes!$C$2:$C$200,$C$2),INDEX(Lignes!D$2:D$200,SMALL(IF(Lignes!$C$2:$C$200=$C$2,ROW(Lignes!$C$2:$C$200)-ROW(Lignes!$C$2)+1),ROWS(D$5:D7))),"")} -> E3300650 | E7: {=IF(ROWS(E$5:E7)<=COUNTIF(Lignes!$C$2:$C$200,$C$2),INDEX(Lignes!E$2:E$200,SMALL(IF(Lignes!$C$2:$C$200=$C$2,ROW(Lignes!$C$2:$C$200)-ROW(Lignes!$C$2)+1),ROWS(E$5:E7))),"")} -> PHOSPHORUS LR 6 X 50 ML | F7: {=IF(ROWS(F$5:F7)<=COUNTIF(Lignes!$C$2:$C$200,$C$2),INDEX(Lignes!F$2:F$200,SMALL(IF(Lignes!$C$2:$C$200=$C$2,ROW(Lignes!$C$2:$C$200)-ROW(Lignes!$C$2)+1),ROWS(F$5:F7))),"")} -> 1 | G7: {=IF(ROWS(G$5:G7)<=COUNTIF(Lignes!$C$2:$C$200,$C$2),INDEX(Lignes!G$2:G$200,SMALL(IF(Lignes!$C$2:$C$200=$C$2,ROW(Lignes!$C$2:$C$200)-ROW(Lignes!$C$2)+1),ROWS(G$5:G7))),"")} -> 0 | H7: {=IF(ROWS(H$5:H7)<=COUNTIF(Lignes!$C$2:$C$200,$C$2),INDEX(Lignes!H$2:H$200,SMALL(IF(Lignes!$C$2:$C$200=$C$2,ROW(Lignes!$C$2:$C$200)-ROW(Lignes!$C$2)+1),ROWS(H$5:H7))),"")} -> 47.103 | I7: {=IF(ROWS(I$5:I7)<=COUNTIF(Lignes!$C$2:$C$200,$C$2),INDEX(Lignes!I$2:I$200,SMALL(IF(Lignes!$C$2:$C$200=$C$2,ROW(Lignes!$C$2:$C$200)-ROW(Lignes!$C$2)+1),ROWS(I$5:I7))),"")} -> 47.103
A8: LA | B8: {=IF(ROWS(B$5:B8)<=COUNTIF(Lignes!$C$2:$C$200,$C$2),INDEX(Lignes!B$2:B$200,SMALL(IF(Lignes!$C$2:$C$200=$C$2,ROW(Lignes!$C$2:$C$200)-ROW(Lignes!$C$2)+1),ROWS(B$5:B8))),"")} -> 20170001 | C8: {=IF(ROWS(C$5:C8)<=COUNTIF(Lignes!$C$2:$C$200,$C$2),INDEX(Lignes!C$2:C$200,SMALL(IF(Lignes!$C$2:$C$200=$C$2,ROW(Lignes!$C$2:$C$200)-ROW(Lignes!$C$2)+1),ROWS(C$5:C8))),"")} -> 498 | D8: {=IF(ROWS(D$5:D8)<=COUNTIF(Lignes!$C$2:$C$200,$C$2),INDEX(Lignes!D$2:D$200,SMALL(IF(Lignes!$C$2:$C$200=$C$2,ROW(Lignes!$C$2:$C$200)-ROW(Lignes!$C$2)+1),ROWS(D$5:D8))),"")} -> E3705100 | E8: {=IF(ROWS(E$5:E8)<=COUNTIF(Lignes!$C$2:$C$200,$C$2),INDEX(Lignes!E$2:E$200,SMALL(IF(Lignes!$C$2:$C$200=$C$2,ROW(Lignes!$C$2:$C$200)-ROW(Lignes!$C$2)+1),ROWS(E$5:E8))),"")} -> ASAT GOT LR 5X100 ML | F8: {=IF(ROWS(F$5:F8)<=COUNTIF(Lignes!$C$2:$C$200,$C$2),INDEX(Lignes!F$2:F$200,SMALL(IF(Lignes!$C$2:$C$200=$C$2,ROW(Lignes!$C$2:$C$200)-ROW(Lignes!$C$2)+1),ROWS(F$5:F8))),"")} -> 1 | G8: {=IF(ROWS(G$5:G8)<=COUNTIF(Lignes!$C$2:$C$200,$C$2),INDEX(Lignes!G$2:G$200,SMALL(IF(Lignes!$C$2:$C$200=$C$2,ROW(Lignes!$C$2:$C$200)-ROW(Lignes!$C$2)+1),ROWS(G$5:G8))),"")} -> 0 | H8: {=IF(ROWS(H$5:H8)<=COUNTIF(Lignes!$C$2:$C$200,$C$2),INDEX(Lignes!H$2:H$200,SMALL(IF(Lignes!$C$2:$C$200=$C$2,ROW(Lignes!$C$2:$C$200)-ROW(Lignes!$C$2)+1),ROWS(H$5:H8))),"")} -> 59.216 | I8: {=IF(ROWS(I$5:I8)<=COUNTIF(Lignes!$C$2:$C$200,$C$2),INDEX(Lignes!I$2:I$200,SMALL(IF(Lignes!$C$2:$C$200=$C$2,ROW(Lignes!$C$2:$C$200)-ROW(Lignes!$C$2)+1),ROWS(I$5:I8))),"")} -> 59.216
A9: LA | B9: {=IF(ROWS(B$5:B9)<=COUNTIF(Lignes!$C$2:$C$200,$C$2),INDEX(Lignes!B$2:B$200,SMALL(IF(Lignes!$C$2:$C$200=$C$2,ROW(Lignes!$C$2:$C$200)-ROW(Lignes!$C$2)+1),ROWS(B$5:B9))),"")} -> 20170001 | C9: {=IF(ROWS(C$5:C9)<=COUNTIF(Lignes!$C$2:$C$200,$C$2),INDEX(Lignes!C$2:C$200,SMALL(IF(Lignes!$C$2:$C$200=$C$2,ROW(Lignes!$C$2:$C$200)-ROW(Lignes!$C$2)+1),ROWS(C$5:C9))),"")} -> 498 | D9: {=IF(ROWS(D$5:D9)<=COUNTIF(Lignes!$C$2:$C$200,$C$2),INDEX(Lignes!D$2:D$200,SMALL(IF(Lignes!$C$2:$C$200=$C$2,ROW(Lignes!$C$2:$C$200)-ROW(Lignes!$C$2)+1),ROWS(D$5:D9))),"")} -> TIMBRE | E9: {=IF(ROWS(E$5:E9)<=COUNTIF(Lignes!$C$2:$C$200,$C$2),INDEX(Lignes!E$2:E$200,SMALL(IF(Lignes!$C$2:$C$200=$C$2,ROW(Lignes!$C$2:$C$200)-ROW(Lignes!$C$2)+1),ROWS(E$5:E9))),"")} -> TIMBRE | F9: {=IF(ROWS(F$5:F9)<=COUNTIF(Lignes!$C$2:$C$200,$C$2),INDEX(Lignes!F$2:F$200,SMALL(IF(Lignes!$C$2:$C$200=$C$2,ROW(Lignes!$C$2:$C$200)-ROW(Lignes!$C$2)+1),ROWS(F$5:F9))),"")} -> 1 | G9: {=IF(ROWS(G$5:G9)<=COUNTIF(Lignes!$C$2:$C$200,$C$2),INDEX(Lignes!G$2:G$200,SMALL(IF(Lignes!$C$2:$C$200=$C$2,ROW(Lignes!$C$2:$C$200)-ROW(Lignes!$C$2)+1),ROWS(G$5:G9))),"")} -> 0 | H9: {=IF(ROWS(H$5:H9)<=COUNTIF(Lignes!$C$2:$C$200,$C$2),INDEX(Lignes!H$2:H$200,SMALL(IF(Lignes!$C$2:$C$200=$C$2,ROW(Lignes!$C$2:$C$200)-ROW(Lignes!$C$2)+1),ROWS(H$5:H9))),"")} -> 0 | I9: {=IF(ROWS(I$5:I9)<=COUNTIF(Lignes!$C$2:$C$200,$C$2),INDEX(Lignes!I$2:I$200,SMALL(IF(Lignes!$C$2:$C$200=$C$2,ROW(Lignes!$C$2:$C$200)-ROW(Lignes!$C$2)+1),ROWS(I$5:I9))),"")} -> 0
A10: E | B10: 20170002 | C10: =INDEX(Entête!C:C,MATCH($B10,Entête!$B:$B,0)) -> 746 | D10: =INDEX(Entête!D:D,MATCH($B10,Entête!$B:$B,0)) -> client2 | E10: =INDEX(Entête!E:E,MATCH($B10,Entête!$B:$B,0)) -> 42737 | F10: =INDEX(Entête!F:F,MATCH($B10,Entête!$B:$B,0)) -> 501.722 | G10: =INDEX(Entête!G:G,MATCH($B10,Entête!$B:$B,0)) -> 583.1 | H10: =INDEX(Entête!H:H,MATCH($B10,Entête!$B:$B,0)) -> 583.1 | I10: =INDEX(Entête!I:I,MATCH($B10,Entête!$B:$B,0)) -> 0
A11: LA | B11: {=IF(ROWS(B$5:B11)<=COUNTIF(Lignes!$C$2:$C$200,$B$2),INDEX(Lignes!C$2:C$200,SMALL(IF(Lignes!$C$2:$C$200=$B$2,ROW(Lignes!$C$2:$C$200)-ROW(Lignes!$C$2)+1),ROWS(B$5:B11))),"")} -> 20170002 | C11: {=IF(ROWS(C$5:C11)<=COUNTIF(Lignes!$C$2:$C$200,$B$2),INDEX(Lignes!D$2:D$200,SMALL(IF(Lignes!$C$2:$C$200=$B$2,ROW(Lignes!$C$2:$C$200)-ROW(Lignes!$C$2)+1),ROWS(C$5:C11))),"")} -> 746 | D11: {=IF(ROWS(D$5:D11)<=COUNTIF(Lignes!$C$2:$C$200,$B$2),INDEX(Lignes!E$2:E$200,SMALL(IF(Lignes!$C$2:$C$200=$B$2,ROW(Lignes!$C$2:$C$200)-ROW(Lignes!$C$2)+1),ROWS(D$5:D11))),"")} -> 0004 | E11: {=IF(ROWS(E$5:E11)<=COUNTIF(Lignes!$C$2:$C$200,$B$2),INDEX(Lignes!F$2:F$200,SMALL(IF(Lignes!$C$2:$C$200=$B$2,ROW(Lignes!$C$2:$C$200)-ROW(Lignes!$C$2)+1),ROWS(E$5:E11))),"")} -> TRANSPORT | F11: {=IF(ROWS(F$5:F11)<=COUNTIF(Lignes!$C$2:$C$200,$B$2),INDEX(Lignes!G$2:G$200,SMALL(IF(Lignes!$C$2:$C$200=$B$2,ROW(Lignes!$C$2:$C$200)-ROW(Lignes!$C$2)+1),ROWS(F$5:F11))),"")} -> 1 | G11: {=IF(ROWS(G$5:G11)<=COUNTIF(Lignes!$C$2:$C$200,$B$2),INDEX(Lignes!H$2:H$200,SMALL(IF(Lignes!$C$2:$C$200=$B$2,ROW(Lignes!$C$2:$C$200)-ROW(Lignes!$C$2)+1),ROWS(G$5:G11))),"")} -> 0 | H11: {=IF(ROWS(H$5:H11)<=COUNTIF(Lignes!$C$2:$C$200,$B$2),INDEX(Lignes!I$2:I$200,SMALL(IF(Lignes!$C$2:$C$200=$B$2,ROW(Lignes!$C$2:$C$200)-ROW(Lignes!$C$2)+1),ROWS(H$5:H11))),"")} -> 6.25 | I11: {=IF(ROWS(I$5:I11)<=COUNTIF(Lignes!$C$2:$C$200,$B$2),INDEX(Lignes!J$2:J$200,SMALL(IF(Lignes!$C$2:$C$200=$B$2,ROW(Lignes!$C$2:$C$200)-ROW(Lignes!$C$2)+1),ROWS(I$5:I11))),"")} -> 6.25
A12: LA | B12: {=IF(ROWS(B$5:B12)<=COUNTIF(Lignes!$C$2:$C$200,$B$2),INDEX(Lignes!C$2:C$200,SMALL(IF(Lignes!$C$2:$C$200=$B$2,ROW(Lignes!$C$2:$C$200)-ROW(Lignes!$C$2)+1),ROWS(B$5:B12))),"")} -> 20170002 | C12: {=IF(ROWS(C$5:C12)<=COUNTIF(Lignes!$C$2:$C$200,$B$2),INDEX(Lignes!D$2:D$200,SMALL(IF(Lignes!$C$2:$C$200=$B$2,ROW(Lignes!$C$2:$C$200)-ROW(Lignes!$C$2)+1),ROWS(C$5:C12))),"")} -> 746 | D12: {=IF(ROWS(D$5:D12)<=COUNTIF(Lignes!$C$2:$C$200,$B$2),INDEX(Lignes!E$2:E$200,SMALL(IF(Lignes!$C$2:$C$200=$B$2,ROW(Lignes!$C$2:$C$200)-ROW(Lignes!$C$2)+1),ROWS(D$5:D12))),"")} -> 115-017932-00 | E12: {=IF(ROWS(E$5:E12)<=COUNTIF(Lignes!$C$2:$C$200,$B$2),INDEX(Lignes!F$2:F$200,SMALL(IF(Lignes!$C$2:$C$200=$B$2,ROW(Lignes!$C$2:$C$200)-ROW(Lignes!$C$2)+1),ROWS(E$5:E12))),"")} -> LAMPE BS 200/ BS 380 12V.20W +CABLE | F12: {=IF(ROWS(F$5:F12)<=COUNTIF(Lignes!$C$2:$C$200,$B$2),INDEX(Lignes!G$2:G$200,SMALL(IF(Lignes!$C$2:$C$200=$B$2,ROW(Lignes!$C$2:$C$200)-ROW(Lignes!$C$2)+1),ROWS(F$5:F12))),"")} -> 1 | G12: {=IF(ROWS(G$5:G12)<=COUNTIF(Lignes!$C$2:$C$200,$B$2),INDEX(Lignes!H$2:H$200,SMALL(IF(Lignes!$C$2:$C$200=$B$2,ROW(Lignes!$C$2:$C$200)-ROW(Lignes!$C$2)+1),ROWS(G$5:G12))),"")} -> 0 | H12: {=IF(ROWS(H$5:H12)<=COUNTIF(Lignes!$C$2:$C$200,$B$2),INDEX(Lignes!I$2:I$200,SMALL(IF(Lignes!$C$2:$C$200=$B$2,ROW(Lignes!$C$2:$C$200)-ROW(Lignes!$C$2)+1),ROWS(H$5:H12))),"")} -> 420 | I12: {=IF(ROWS(I$5:I12)<=COUNTIF(Lignes!$C$2:$C$200,$B$2),INDEX(Lignes!J$2:J$200,SMALL(IF(Lignes!$C$2:$C$200=$B$2,ROW(Lignes!$C$2:$C$200)-ROW(Lignes!$C$2)+1),ROWS(I$5:I12))),"")} -> 420
A13: LA | B13: {=IF(ROWS(B$5:B13)<=COUNTIF(Lignes!$C$2:$C$200,$B$2),INDEX(Lignes!C$2:C$200,SMALL(IF(Lignes!$C$2:$C$200=$B$2,ROW(Lignes!$C$2:$C$200)-ROW(Lignes!$C$2)+1),ROWS(B$5:B13))),"")} -> 20170002 | C13: {=IF(ROWS(C$5:C13)<=COUNTIF(Lignes!$C$2:$C$200,$B$2),INDEX(Lignes!D$2:D$200,SMALL(IF(Lignes!$C$2:$C$200=$B$2,ROW(Lignes!$C$2:$C$200)-ROW(Lignes!$C$2)+1),ROWS(C$5:C13))),"")} -> 746 | D13: {=IF(ROWS(D$5:D13)<=COUNTIF(Lignes!$C$2:$C$200,$B$2),INDEX(Lignes!E$2:E$200,SMALL(IF(Lignes!$C$2:$C$200=$B$2,ROW(Lignes!$C$2:$C$200)-ROW(Lignes!$C$2)+1),ROWS(D$5:D13))),"")} -> 20108. | E13: {=IF(ROWS(E$5:E13)<=COUNTIF(Lignes!$C$2:$C$200,$B$2),INDEX(Lignes!F$2:F$200,SMALL(IF(Lignes!$C$2:$C$200=$B$2,ROW(Lignes!$C$2:$C$200)-ROW(Lignes!$C$2)+1),ROWS(E$5:E13))),"")} -> solution de lavage pour konee 500ml | F13: {=IF(ROWS(F$5:F13)<=COUNTIF(Lignes!$C$2:$C$200,$B$2),INDEX(Lignes!G$2:G$200,SMALL(IF(Lignes!$C$2:$C$200=$B$2,ROW(Lignes!$C$2:$C$200)-ROW(Lignes!$C$2)+1),ROWS(F$5:F13))),"")} -> 1 | G13: {=IF(ROWS(G$5:G13)<=COUNTIF(Lignes!$C$2:$C$200,$B$2),INDEX(Lignes!H$2:H$200,SMALL(IF(Lignes!$C$2:$C$200=$B$2,ROW(Lignes!$C$2:$C$200)-ROW(Lignes!$C$2)+1),ROWS(G$5:G13))),"")} -> 0 | H13: {=IF(ROWS(H$5:H13)<=COUNTIF(Lignes!$C$2:$C$200,$B$2),INDEX(Lignes!I$2:I$200,SMALL(IF(Lignes!$C$2:$C$200=$B$2,ROW(Lignes!$C$2:$C$200)-ROW(Lignes!$C$2)+1),ROWS(H$5:H13))),"")} -> 75.472 | I13: {=IF(ROWS(I$5:I13)<=COUNTIF(Lignes!$C$2:$C$200,$B$2),INDEX(Lignes!J$2:J$200,SMALL(IF(Lignes!$C$2:$C$200=$B$2,ROW(Lignes!$C$2:$C$200)-ROW(Lignes!$C$2)+1),ROWS(I$5:I13))),"")} -> 75.472
A14: LA | B14: {=IF(ROWS(B$5:B14)<=COUNTIF(Lignes!$C$2:$C$200,$B$2),INDEX(Lignes!C$2:C$200,SMALL(IF(Lignes!$C$2:$C$200=$B$2,ROW(Lignes!$C$2:$C$200)-ROW(Lignes!$C$2)+1),ROWS(B$5:B14))),"")} -> 20170002 | C14: {=IF(ROWS(C$5:C14)<=COUNTIF(Lignes!$C$2:$C$200,$B$2),INDEX(Lignes!D$2:D$200,SMALL(IF(Lignes!$C$2:$C$200=$B$2,ROW(Lignes!$C$2:$C$200)-ROW(Lignes!$C$2)+1),ROWS(C$5:C14))),"")} -> 746 | D14: {=IF(ROWS(D$5:D14)<=COUNTIF(Lignes!$C$2:$C$200,$B$2),INDEX(Lignes!E$2:E$200,SMALL(IF(Lignes!$C$2:$C$200=$B$2,ROW(Lignes!$C$2:$C$200)-ROW(Lignes!$C$2)+1),ROWS(D$5:D14))),"")} -> TIMBRE | E14: {=IF(ROWS(E$5:E14)<=COUNTIF(Lignes!$C$2:$C$200,$B$2),INDEX(Lignes!F$2:F$200,SMALL(IF(Lignes!$C$2:$C$200=$B$2,ROW(Lignes!$C$2:$C$200)-ROW(Lignes!$C$2)+1),ROWS(E$5:E14))),"")} -> TIMBRE | F14: {=IF(ROWS(F$5:F14)<=COUNTIF(Lignes!$C$2:$C$200,$B$2),INDEX(Lignes!G$2:G$200,SMALL(IF(Lignes!$C$2:$C$200=$B$2,ROW(Lignes!$C$2:$C$200)-ROW(Lignes!$C$2)+1),ROWS(F$5:F14))),"")} -> 1 | G14: {=IF(ROWS(G$5:G14)<=COUNTIF(Lignes!$C$2:$C$200,$B$2),INDEX(Lignes!H$2:H$200,SMALL(IF(Lignes!$C$2:$C$200=$B$2,ROW(Lignes!$C$2:$C$200)-ROW(Lignes!$C$2)+1),ROWS(G$5:G14))),"")} -> 0 | H14: {=IF(ROWS(H$5:H14)<=COUNTIF(Lignes!$C$2:$C$200,$B$2),INDEX(Lignes!I$2:I$200,SMALL(IF(Lignes!$C$2:$C$200=$B$2,ROW(Lignes!$C$2:$C$200)-ROW(Lignes!$C$2)+1),ROWS(H$5:H14))),"")} -> 0 | I14: {=IF(ROWS(I$5:I14)<=COUNTIF(Lignes!$C$2:$C$200,$B$2),INDEX(Lignes!J$2:J$200,SMALL(IF(Lignes!$C$2:$C$200=$B$2,ROW(Lignes!$C$2:$C$200)-ROW(Lignes!$C$2)+1),ROWS(I$5:I14))),"")} -> 0
