Workbook

Sheet essai
K1: FICHE DE GESTION D'ACTIVITE ET DU TEMPS DE TRAVAIL | X1: CP | Y1: C2 | Z1: RU | AA1: RT | AB1: JF | AC1: F2 | AD1: FP | AE1: AE | AF1: AH | AG1: AJ | AH1: AN | AI1: AP | AJ1: AQ | AK1: AR | AL1: AT | AM1: BB | AN1: CA | AO1: CN | AP1: CT | AQ1: DC | AR1: DE | AS1: DF | AT1: FG | AU1: GP | AV1: JA | AW1: JS | AX1: MA | AY1: ME | AZ1: MS | BA1: MT | BB1: NE | BC1: PA | BD1: R2 | BE1: RE | BF1: SD | BG1: SE
L2: Non cadre forfait heure / cadre forfait heure | U2: Congés Payés 1 journée | V2: CP
U3: j'ai rempli les semaines 01 02 03 | V3: C2
J4: N° Collaborateur : | M4: Visa Chef de Service : | S4: Semaine : | U4: si je note 2134153 en U10 | V4: RU | X4: 17.9
U5: j'obtiens le tableau suivant | V5: RT
B6: CB : | J6: AG : | K6: 020 | R6: 1 | S6: =KM!N5 -> 2014 | U6: car présent en 02 et en 03 | V6: JF
K7: - Le temps de repos quotidien à respecter est d’une durée minimale de 11 heures consécutives | V7: F2
K8: - Toute intervention comprise entre 21 h et 6 h doit être mentionnée distinctement | V8: FP
B9: Déclaration du temps de travail et de trajet (en H et centièmes d'H) | M9: Sum | N9: =SUM(N11:N34) -> 12 | O9: =SUM(O11:O34) -> 12 | P9: =SUM(P11:P34) -> 35.8 | R9: =SUM(R11:R34) -> 334 | U9: Absence Autorisée payée 1 journée | V9: AE
C10: Lun | D10: Mar | E10: Mer | F10: Jeu | G10: Ven | H10: Sam | I10: Date jj / mm | K10: CB - affaire - prestation | L10: Client | M10: Lieu d'intervention | N10: UO prév. | O10: UO pas. | P10: Montant frais | Q10: Nature frais | R10: Km | U10: 2134153 | V10: AH
A11: M A T I N | B11: TE | I11: 0 | J11: =IF(I11="","",TEXT(DATE($S$6,1,3)-WEEKDAY(DATE($S$6,1,3))-5+(7*$R$6)+I11," jj mmm")) -> 30 déc | K11: CB - 003100 2134153/2 | L11: ADM | M11: 80300 ALBERT | N11: 2 | O11: =IF(N11="","",N11) -> 2 | P11: =IF(Q11="RM",$X$4,"") -> 17.9 | Q11: =IF(I11="","","RM") -> RM | R11: 179 | S11: B Fourniture bureau DO Documenta., livres | U11: Accident de Trajet | V11: AJ
B12: TJ | C12: inclus dans le temps de contrôle | J12: =IF(I12="","",TEXT(DATE($S$6,1,3)-WEEKDAY(DATE($S$6,1,3))-5+(7*$R$6)+I12," jj mmm")) | K12: CB - 003100 2134153/1 | L12: ADM | M12: 80300 ALBERT | N12: 4 | O12: =IF(N12="","",N12) -> 4 | P12: =IF(Q12="RM",$X$4,"") | Q12: =IF(I12="","","RM") | R12: =IF(I12="","",IF(I12=0,$X$11,IF(I12=1,$X$12,IF(I12=2,$X$13,IF(I12=3,$X$14,IF(I12=4,$X$15)))))) | S12: IE Invitation Externe II Invitation Interne | V12: AN
B13: Absence | I13: 1 | J13: =IF(I13="","",TEXT(DATE($S$6,1,3)-WEEKDAY(DATE($S$6,1,3))-5+(7*$R$6)+I13," jj mmm")) -> 31 déc | K13: CB - 003100 2134153/2 | L13: ADM | M13: 80300 ALBERT | N13: 2 | O13: =IF(N13="","",N13) -> 2 | P13: =IF(Q13="RM",$X$4,"") -> 17.9 | Q13: =IF(I13="","","RM") -> RM | R13: 155 | S13: RM Déjeuner forfait RS Diner justifié | U13: Absence Autorisée payée 1/2 J. | V13: AP
J14: =IF(I14="","",TEXT(DATE($S$6,1,3)-WEEKDAY(DATE($S$6,1,3))-5+(7*$R$6)+I14," jj mmm")) | K14: CB - 003100 2134153/1 | L14: ADM | M14: 80300 ALBERT | N14: 4 | O14: =IF(N14="","",N14) -> 4 | P14: =IF(Q14="RM",$X$4,"") | Q14: =IF(I14="","","RM") | R14: =IF(I14="","",IF(I14=0,$X$11,IF(I14=1,$X$12,IF(I14=2,$X$13,IF(I14=3,$X$14,IF(I14=4,$X$15)))))) | S14: TR Ticket Restaurant | U14: Régul. Forfait annuel (JOUR)
A15: A. MI D I | B15: TE | I15: 2 | S15: HF Hôtel nuit + petit déjeuner province | U15: Régul. Forfait annuel (1/2 Journée) | V15: AR
B16: TJ | C16: inclus dans le temps de contrôle | S16: HP Hôtel nuit + petit déjeuner IdF | U16: Accident de Travail | V16: AT
B17: Absence | I17: 3 | S17: FM Frais médicaux | U17: Maternité | V17: BB
S18: G1 Entretien VS (2p) | U18: Congé Adoption | V18: CA
B19: Total J | C19: =(C11+C15) -> 0 | D19: =IF(D12+D16<1.5,D11+D15,D11+D12+D15+D16-1.5) -> 0 | E19: =IF(E12+E16<1.5,E11+E15,E11+E12+E15+E16-1.5) -> 0 | F19: =IF(F12+F16<1.5,F11+F15,F11+F12+F15+F16-1.5) -> 0 | G19: =IF(G12+G16<1.5,G11+G15,G11+G12+G15+G16-1.5) -> 0 | H19: =IF(H12+H16<1.5,H11+H15,H11+H12+H15+H16-1.5) -> 0 | S19: G2 Entretien VT (4p) ou VP (perso.) | U19: Congé Naissance | V19: CN
B20: = | D20: =SUM(C19:H19) -> 0 | S20: FA Consommables/aff. PO Frais de poste | U20: Cure Thermale | V20: CT
S21: MC Mat. Contrôle < 500€ MS Mat. Sécurité < 500€ | U21: Décès Conjoint | V21: DC
I22: 4 | S22: ES Carburant hors TOTAL | U22: Décès Enfant | V22: DE
S23: PP Péage/park hors TOTAL | U23: Décès Famille | V23: DF
S24: PT Péage/park carte TOTAL non remboursé | U24: Fongecif | V24: FG
S25: K Kilomètres | U25: Congé patho. avant maternité | V25: GP
S26: T Voyage(avion/train/ taxi/métro/bateau/…) | U26: Juré d'Assises | V26: JA
S27: PV Passeport/Visa TL Téléphonie internet | U27: Jour Supplémentaire | V27: JS
U28: Maladie | V28: MA
U29: Mariage Enfant | V29: ME
J30: =IF(I30="","",TEXT(DATE($S$6,1,3)-WEEKDAY(DATE($S$6,1,3))-5+(7*$R$6)+I30," jj mmm")) | O30: =IF(N30="","",N30) | P30: =IF(Q30="RM",$X$4,"") | Q30: =IF(I30="","","RM") | R30: =IF(I30="","",IF(I30=0,$X$11,IF(I30=1,$X$12,IF(I30=2,$X$13,IF(I30=3,$X$14,IF(I30=4,$X$15)))))) | S30: KC = | U30: Mariage Collaborateur | V30: MS
J31: =IF(I31="","",TEXT(DATE($S$6,1,3)-WEEKDAY(DATE($S$6,1,3))-5+(7*$R$6)+I31," jj mmm")) | O31: =IF(N31="","",N31) | P31: =IF(Q31="RM",$X$4,"") | Q31: =IF(I31="","","RM") | R31: =IF(I31="","",IF(I31=0,$X$11,IF(I31=1,$X$12,IF(I31=2,$X$13,IF(I31=3,$X$14,IF(I31=4,$X$15)))))) | U31: Mi temps thérapeutique | V31: MT
J32: =IF(I32="","",TEXT(DATE($S$6,1,3)-WEEKDAY(DATE($S$6,1,3))-5+(7*$R$6)+I32," jj mmm")) | O32: =IF(N32="","",N32) | P32: =IF(Q32="RM",$X$4,"") | Q32: =IF(I32="","","RM") | R32: =IF(I32="","",IF(I32=0,$X$11,IF(I32=1,$X$12,IF(I32=2,$X$13,IF(I32=3,$X$14,IF(I32=4,$X$15)))))) | S32: Indiquer chaque fin de mois la différence de Km compteur entre M et M-1 | U32: Jour Sans Solde (1 jour) | V32: NE
J33: =IF(I33="","",TEXT(DATE($S$6,1,3)-WEEKDAY(DATE($S$6,1,3))-5+(7*$R$6)+I33," jj mmm")) | O33: =IF(N33="","",N33) | P33: =IF(Q33="RM",$X$4,"") | Q33: =IF(I33="","","RM") | R33: =IF(I33="","",IF(I33=0,$X$11,IF(I33=1,$X$12,IF(I33=2,$X$13,IF(I33=3,$X$14,IF(I33=4,$X$15)))))) | U33: Paternité | V33: PA
J34: =IF(I34="","",TEXT(DATE($S$6,1,3)-WEEKDAY(DATE($S$6,1,3))-5+(7*$R$6)+I34," jj mmm")) | O34: =IF(N34="","",N34) | P34: =IF(Q34="RM",$X$4,"") | Q34: =IF(I34="","","RM") | R34: =IF(I34="","",IF(I34=0,$X$11,IF(I34=1,$X$12,IF(I34=2,$X$13,IF(I34=3,$X$14,IF(I34=4,$X$15)))))) | U34: Récupération 1/2 journée | V34: R2

Sheet 01
K1: FICHE DE GESTION D'ACTIVITE ET DU TEMPS DE TRAVAIL | X1: CP | Y1: C2 | Z1: RU | AA1: RT | AB1: JF | AC1: F2 | AD1: FP | AE1: AE | AF1: AH | AG1: AJ | AH1: AN | AI1: AP | AJ1: AQ | AK1: AR | AL1: AT | AM1: BB | AN1: CA | AO1: CN | AP1: CT | AQ1: DC | AR1: DE | AS1: DF | AT1: FG | AU1: GP | AV1: JA | AW1: JS | AX1: MA | AY1: ME | AZ1: MS | BA1: MT | BB1: NE | BC1: PA | BD1: R2 | BE1: RE | BF1: SD | BG1: SE
L2: Non cadre forfait heure / cadre forfait heure | U2: Congés Payés 1 journée | V2: CP
U3: 1/2 Journée Congés Payés | V3: C2
J4: N° Collaborateur : | M4: Visa Chef de Service : | S4: Semaine : | U4: Jour de RTT | V4: RU | X4: 17.9
U5: 1/2 Jour de RTT | V5: RT
B6: CB : | J6: AG : | K6: 020 | R6: 1 | S6: =KM!N5 -> 2014 | U6: Jour Férié | V6: JF
K7: - Le temps de repos quotidien à respecter est d’une durée minimale de 11 heures consécutives | U7: Formation Professionnelle 1/2 journée | V7: F2
K8: - Toute intervention comprise entre 21 h et 6 h doit être mentionnée distinctement | U8: Formation Professionnelle 1 Jour | V8: FP
B9: Déclaration du temps de travail et de trajet (en H et centièmes d'H) | M9: Sum | N9: =SUM(N11:N34) -> 37.8 | O9: =SUM(O11:O34) -> 37.8 | P9: =SUM(P11:P34) -> 89.5 | R9: =SUM(R11:R34) -> 423 | U9: Absence Autorisée payée 1 journée | V9: AE
C10: Lun | D10: Mar | E10: Mer | F10: Jeu | G10: Ven | H10: Sam | I10: Date jj / mm | K10: CB - affaire - prestation | L10: Client | M10: Lieu d'intervention | N10: UO prév. | O10: UO pas. | P10: Montant frais | Q10: Nature frais | R10: Km | U10: Absence Autorisée payée (saisie Heures) | V10: AH
A11: M A T I N | B11: TE | C11: 3.85 | D11: 3.85 | E11: 3.85 | F11: 3.85 | G11: 3.85 | I11: 0 | J11: =IF(I11="","",TEXT(DATE($S$6,1,3)-WEEKDAY(DATE($S$6,1,3))-5+(7*$R$6)+I11," jj mmm")) -> 30 déc | K11: CB - 003100 1976442/1 | L11: PULPOSEC DE CHEVRIERES | M11: 60710 CHEVRIERES | N11: 10 | O11: =IF(N11="","",N11) -> 10 | P11: =IF(Q11="RM",$X$4,"") -> 17.9 | Q11: =IF(I11="","","RM") -> RM | R11: =IF(I11="","",IF(I11=0,$X$11,IF(I11=1,$X$12,IF(I11=2,$X$13,IF(I11=3,$X$14,IF(I11=4,$X$15)))))) -> 0 | S11: B Fourniture bureau DO Documenta., livres | U11: Accident de Trajet | V11: AJ | X11: =SUM(KM!H7) -> 0
B12: TJ | C12: inclus dans le temps de contrôle | J12: =IF(I12="","",TEXT(DATE($S$6,1,3)-WEEKDAY(DATE($S$6,1,3))-5+(7*$R$6)+I12," jj mmm")) | O12: =IF(N12="","",N12) | P12: =IF(Q12="RM",$X$4,"") | Q12: =IF(I12="","","RM") | R12: =IF(I12="","",IF(I12=0,$X$11,IF(I12=1,$X$12,IF(I12=2,$X$13,IF(I12=3,$X$14,IF(I12=4,$X$15)))))) | S12: IE Invitation Externe II Invitation Interne | U12: Absence Autorisée non payée | V12: AN | X12: =SUM(KM!H8) -> 0
B13: Absence | I13: 1 | J13: =IF(I13="","",TEXT(DATE($S$6,1,3)-WEEKDAY(DATE($S$6,1,3))-5+(7*$R$6)+I13," jj mmm")) -> 31 déc | K13: CB - 003100 2619241/2 | L13: NUYTTENS | M13: 60800 AUGER ST VINCENT | N13: 0.3 | O13: =IF(N13="","",N13) -> 0.3 | P13: =IF(Q13="RM",$X$4,"") -> 17.9 | Q13: =IF(I13="","","RM") -> RM | R13: =IF(I13="","",IF(I13=0,$X$11,IF(I13=1,$X$12,IF(I13=2,$X$13,IF(I13=3,$X$14,IF(I13=4,$X$15)))))) -> 0 | S13: RM Déjeuner forfait RS Diner justifié | U13: Absence Autorisée payée 1/2 J. | V13: AP | X13: =SUM(KM!H9) -> 0
J14: =IF(I14="","",TEXT(DATE($S$6,1,3)-WEEKDAY(DATE($S$6,1,3))-5+(7*$R$6)+I14," jj mmm")) | K14: CB - 003100 2619241/1 | L14: NUYTTENS | M14: 60800 AUGER ST VINCENT | N14: 3 | O14: =IF(N14="","",N14) -> 3 | P14: =IF(Q14="RM",$X$4,"") | Q14: =IF(I14="","","RM") | R14: =IF(I14="","",IF(I14=0,$X$11,IF(I14=1,$X$12,IF(I14=2,$X$13,IF(I14=3,$X$14,IF(I14=4,$X$15)))))) | S14: TR Ticket Restaurant | U14: Régul. Forfait annuel (JOUR) | V14: AQ | X14: =SUM(KM!H10) -> 215
A15: A. MI D I | B15: TE | C15: 3.85 | D15: 3.85 | E15: 3.85 | F15: 3.85 | G15: 3.85 | J15: =IF(I15="","",TEXT(DATE($S$6,1,3)-WEEKDAY(DATE($S$6,1,3))-5+(7*$R$6)+I15," jj mmm")) | K15: CB - 003100 2619224/1 | L15: DESMET | M15: 60800 AUGER ST VINCENT | N15: 4 | O15: =IF(N15="","",N15) -> 4 | P15: =IF(Q15="RM",$X$4,"") | Q15: =IF(I15="","","RM") | R15: =IF(I15="","",IF(I15=0,$X$11,IF(I15=1,$X$12,IF(I15=2,$X$13,IF(I15=3,$X$14,IF(I15=4,$X$15)))))) | S15: HF Hôtel nuit + petit déjeuner province | U15: Régul. Forfait annuel (1/2 Journée) | V15: AR | X15: =SUM(KM!H11) -> 208
B16: TJ | C16: inclus dans le temps de contrôle | J16: =IF(I16="","",TEXT(DATE($S$6,1,3)-WEEKDAY(DATE($S$6,1,3))-5+(7*$R$6)+I16," jj mmm")) | O16: =IF(N16="","",N16) | P16: =IF(Q16="RM",$X$4,"") | Q16: =IF(I16="","","RM") | R16: =IF(I16="","",IF(I16=0,$X$11,IF(I16=1,$X$12,IF(I16=2,$X$13,IF(I16=3,$X$14,IF(I16=4,$X$15)))))) | S16: HP Hôtel nuit + petit déjeuner IdF | U16: Accident de Travail | V16: AT
B17: Absence | I17: 2 | J17: =IF(I17="","",TEXT(DATE($S$6,1,3)-WEEKDAY(DATE($S$6,1,3))-5+(7*$R$6)+I17," jj mmm")) -> 01 janv | K17: CB - 003789 1751789/529 | L17: AIR LIQUIDE SANTE FRANCE | M17: 60200 COMPIEGNE | N17: 1 | O17: =IF(N17="","",N17) -> 1 | P17: =IF(Q17="RM",$X$4,"") -> 17.9 | Q17: =IF(I17="","","RM") -> RM | R17: =IF(I17="","",IF(I17=0,$X$11,IF(I17=1,$X$12,IF(I17=2,$X$13,IF(I17=3,$X$14,IF(I17=4,$X$15)))))) -> 0 | S17: FM Frais médicaux | U17: Maternité | V17: BB
J18: =IF(I18="","",TEXT(DATE($S$6,1,3)-WEEKDAY(DATE($S$6,1,3))-5+(7*$R$6)+I18," jj mmm")) | K18: CB - 003100 1574911/1 | L18: INEO NORD PICARDIE | M18: 60200 COMPIEGNE | N18: 4 | O18: =IF(N18="","",N18) -> 4 | P18: =IF(Q18="RM",$X$4,"") | Q18: =IF(I18="","","RM") | R18: =IF(I18="","",IF(I18=0,$X$11,IF(I18=1,$X$12,IF(I18=2,$X$13,IF(I18=3,$X$14,IF(I18=4,$X$15)))))) | S18: G1 Entretien VS (2p) | U18: Congé Adoption | V18: CA
B19: Total J | C19: =(C11+C15) -> 7.7 | D19: =IF(D12+D16<1.5,D11+D15,D11+D12+D15+D16-1.5) -> 7.7 | E19: =IF(E12+E16<1.5,E11+E15,E11+E12+E15+E16-1.5) -> 7.7 | F19: =IF(F12+F16<1.5,F11+F15,F11+F12+F15+F16-1.5) -> 7.7 | G19: =IF(G12+G16<1.5,G11+G15,G11+G12+G15+G16-1.5) -> 7.7 | H19: =IF(H12+H16<1.5,H11+H15,H11+H12+H15+H16-1.5) -> 0 | J19: =IF(I19="","",TEXT(DATE($S$6,1,3)-WEEKDAY(DATE($S$6,1,3))-5+(7*$R$6)+I19," jj mmm")) | K19: CB - 003015 1629518/80 | L19: PRO DUO FRANCE | M19: 60280 VENETTE | N19: 2.5 | O19: =IF(N19="","",N19) -> 2.5 | P19: =IF(Q19="RM",$X$4,"") | Q19: =IF(I19="","","RM") | R19: =IF(I19="","",IF(I19=0,$X$11,IF(I19=1,$X$12,IF(I19=2,$X$13,IF(I19=3,$X$14,IF(I19=4,$X$15)))))) | S19: G2 Entretien VT (4p) ou VP (perso.) | U19: Congé Naissance | V19: CN
B20: = | D20: =SUM(C19:H19) -> 38.5 | J20: =IF(I20="","",TEXT(DATE($S$6,1,3)-WEEKDAY(DATE($S$6,1,3))-5+(7*$R$6)+I20," jj mmm")) | O20: =IF(N20="","",N20) | P20: =IF(Q20="RM",$X$4,"") | Q20: =IF(I20="","","RM") | R20: =IF(I20="","",IF(I20=0,$X$11,IF(I20=1,$X$12,IF(I20=2,$X$13,IF(I20=3,$X$14,IF(I20=4,$X$15)))))) | S20: FA Consommables/aff. PO Frais de poste | U20: Cure Thermale | V20: CT
I21: 3 | J21: =IF(I21="","",TEXT(DATE($S$6,1,3)-WEEKDAY(DATE($S$6,1,3))-5+(7*$R$6)+I21," jj mmm")) -> 02 janv | K21: CB - 003100 2202159/1 | L21: DE LA MORLIERE | M21: 60420 WELLES PERENNES | N21: 8 | O21: =IF(N21="","",N21) -> 8 | P21: =IF(Q21="RM",$X$4,"") -> 17.9 | Q21: =IF(I21="","","RM") -> RM | R21: =IF(I21="","",IF(I21=0,$X$11,IF(I21=1,$X$12,IF(I21=2,$X$13,IF(I21=3,$X$14,IF(I21=4,$X$15)))))) -> 215 | S21: MC Mat. Contrôle < 500€ MS Mat. Sécurité < 500€ | U21: Décès Conjoint | V21: DC
J22: =IF(I22="","",TEXT(DATE($S$6,1,3)-WEEKDAY(DATE($S$6,1,3))-5+(7*$R$6)+I22," jj mmm")) | O22: =IF(N22="","",N22) | P22: =IF(Q22="RM",$X$4,"") | Q22: =IF(I22="","","RM") | R22: =IF(I22="","",IF(I22=0,$X$11,IF(I22=1,$X$12,IF(I22=2,$X$13,IF(I22=3,$X$14,IF(I22=4,$X$15)))))) | S22: ES Carburant hors TOTAL | U22: Décès Enfant | V22: DE
I23: 4 | J23: =IF(I23="","",TEXT(DATE($S$6,1,3)-WEEKDAY(DATE($S$6,1,3))-5+(7*$R$6)+I23," jj mmm")) -> 03 janv | K23: CB - 003100 2202186/1 | L23: LE CAUREL | M23: 60420 MAIGNELAY MONTIGNY | N23: 3 | O23: =IF(N23="","",N23) -> 3 | P23: =IF(Q23="RM",$X$4,"") -> 17.9 | Q23: =IF(I23="","","RM") -> RM | R23: =IF(I23="","",IF(I23=0,$X$11,IF(I23=1,$X$12,IF(I23=2,$X$13,IF(I23=3,$X$14,IF(I23=4,$X$15)))))) -> 208 | S23: PP Péage/park hors TOTAL | U23: Décès Famille | V23: DF
J24: =IF(I24="","",TEXT(DATE($S$6,1,3)-WEEKDAY(DATE($S$6,1,3))-5+(7*$R$6)+I24," jj mmm")) | K24: CB - 003100 2202186/2 | L24: LE CAUREL | M24: 60420 MAIGNELAY MONTIGNY | N24: 1 | O24: =IF(N24="","",N24) -> 1 | P24: =IF(Q24="RM",$X$4,"") | Q24: =IF(I24="","","RM") | R24: =IF(I24="","",IF(I24=0,$X$11,IF(I24=1,$X$12,IF(I24=2,$X$13,IF(I24=3,$X$14,IF(I24=4,$X$15)))))) | S24: PT Péage/park carte TOTAL non remboursé | U24: Fongecif | V24: FG
J25: =IF(I25="","",TEXT(DATE($S$6,1,3)-WEEKDAY(DATE($S$6,1,3))-5+(7*$R$6)+I25," jj mmm")) | K25: CB - 003100 2202159/2 | L25: DE LA MORLIERE | M25: 60420 WELLES PERENNES | N25: 1 | O25: =IF(N25="","",N25) -> 1 | P25: =IF(Q25="RM",$X$4,"") | Q25: =IF(I25="","","RM") | R25: =IF(I25="","",IF(I25=0,$X$11,IF(I25=1,$X$12,IF(I25=2,$X$13,IF(I25=3,$X$14,IF(I25=4,$X$15)))))) | S25: K Kilomètres | U25: Congé patho. avant maternité | V25: GP
J26: =IF(I26="","",TEXT(DATE($S$6,1,3)-WEEKDAY(DATE($S$6,1,3))-5+(7*$R$6)+I26," jj mmm")) | O26: =IF(N26="","",N26) | P26: =IF(Q26="RM",$X$4,"") | Q26: =IF(I26="","","RM") | R26: =IF(I26="","",IF(I26=0,$X$11,IF(I26=1,$X$12,IF(I26=2,$X$13,IF(I26=3,$X$14,IF(I26=4,$X$15)))))) | S26: T Voyage(avion/train/ taxi/métro/bateau/…) | U26: Juré d'Assises | V26: JA
J27: =IF(I27="","",TEXT(DATE($S$6,1,3)-WEEKDAY(DATE($S$6,1,3))-5+(7*$R$6)+I27," jj mmm")) | O27: =IF(N27="","",N27) | P27: =IF(Q27="RM",$X$4,"") | Q27: =IF(I27="","","RM") | R27: =IF(I27="","",IF(I27=0,$X$11,IF(I27=1,$X$12,IF(I27=2,$X$13,IF(I27=3,$X$14,IF(I27=4,$X$15)))))) | S27: PV Passeport/Visa TL Téléphonie internet | U27: Jour Supplémentaire | V27: JS
J28: =IF(I28="","",TEXT(DATE($S$6,1,3)-WEEKDAY(DATE($S$6,1,3))-5+(7*$R$6)+I28," jj mmm")) | O28: =IF(N28="","",N28) | P28: =IF(Q28="RM",$X$4,"") | Q28: =IF(I28="","","RM") | R28: =IF(I28="","",IF(I28=0,$X$11,IF(I28=1,$X$12,IF(I28=2,$X$13,IF(I28=3,$X$14,IF(I28=4,$X$15)))))) | U28: Maladie | V28: MA
J29: =IF(I29="","",TEXT(DATE($S$6,1,3)-WEEKDAY(DATE($S$6,1,3))-5+(7*$R$6)+I29," jj mmm")) | O29: =IF(N29="","",N29) | P29: =IF(Q29="RM",$X$4,"") | Q29: =IF(I29="","","RM") | R29: =IF(I29="","",IF(I29=0,$X$11,IF(I29=1,$X$12,IF(I29=2,$X$13,IF(I29=3,$X$14,IF(I29=4,$X$15)))))) | U29: Mariage Enfant | V29: ME
J30: =IF(I30="","",TEXT(DATE($S$6,1,3)-WEEKDAY(DATE($S$6,1,3))-5+(7*$R$6)+I30," jj mmm")) | O30: =IF(N30="","",N30) | P30: =IF(Q30="RM",$X$4,"") | Q30: =IF(I30="","","RM") | R30: =IF(I30="","",IF(I30=0,$X$11,IF(I30=1,$X$12,IF(I30=2,$X$13,IF(I30=3,$X$14,IF(I30=4,$X$15)))))) | S30: KC = | U30: Mariage Collaborateur | V30: MS
J31: =IF(I31="","",TEXT(DATE($S$6,1,3)-WEEKDAY(DATE($S$6,1,3))-5+(7*$R$6)+I31," jj mmm")) | O31: =IF(N31="","",N31) | P31: =IF(Q31="RM",$X$4,"") | Q31: =IF(I31="","","RM") | R31: =IF(I31="","",IF(I31=0,$X$11,IF(I31=1,$X$12,IF(I31=2,$X$13,IF(I31=3,$X$14,IF(I31=4,$X$15)))))) | U31: Mi temps thérapeutique | V31: MT
J32: =IF(I32="","",TEXT(DATE($S$6,1,3)-WEEKDAY(DATE($S$6,1,3))-5+(7*$R$6)+I32," jj mmm")) | O32: =IF(N32="","",N32) | P32: =IF(Q32="RM",$X$4,"") | Q32: =IF(I32="","","RM") | R32: =IF(I32="","",IF(I32=0,$X$11,IF(I32=1,$X$12,IF(I32=2,$X$13,IF(I32=3,$X$14,IF(I32=4,$X$15)))))) | S32: Indiquer chaque fin de mois la différence de Km compteur entre M et M-1 | U32: Jour Sans Solde (1 jour) | V32: NE
J33: =IF(I33="","",TEXT(DATE($S$6,1,3)-WEEKDAY(DATE($S$6,1,3))-5+(7*$R$6)+I33," jj mmm")) | O33: =IF(N33="","",N33) | P33: =IF(Q33="RM",$X$4,"") | Q33: =IF(I33="","","RM") | R33: =IF(I33="","",IF(I33=0,$X$11,IF(I33=1,$X$12,IF(I33=2,$X$13,IF(I33=3,$X$14,IF(I33=4,$X$15)))))) | U33: Paternité | V33: PA
J34: =IF(I34="","",TEXT(DATE($S$6,1,3)-WEEKDAY(DATE($S$6,1,3))-5+(7*$R$6)+I34," jj mmm")) | O34: =IF(N34="","",N34) | P34: =IF(Q34="RM",$X$4,"") | Q34: =IF(I34="","","RM") | R34: =IF(I34="","",IF(I34=0,$X$11,IF(I34=1,$X$12,IF(I34=2,$X$13,IF(I34=3,$X$14,IF(I34=4,$X$15)))))) | U34: Récupération 1/2 journée | V34: R2

Sheet 02
K1: FICHE DE GESTION D'ACTIVITE ET DU TEMPS DE TRAVAIL | X1: CP | Y1: C2 | Z1: RU | AA1: RT | AB1: JF | AC1: F2 | AD1: FP | AE1: AE | AF1: AH | AG1: AJ | AH1: AN | AI1: AP | AJ1: AQ | AK1: AR | AL1: AT | AM1: BB | AN1: CA | AO1: CN | AP1: CT | AQ1: DC | AR1: DE | AS1: DF | AT1: FG | AU1: GP | AV1: JA | AW1: JS | AX1: MA | AY1: ME | AZ1: MS | BA1: MT | BB1: NE | BC1: PA | BD1: R2 | BE1: RE | BF1: SD | BG1: SE
L2: Non cadre forfait heure / cadre forfait heure | U2: Congés Payés 1 journée | V2: CP
U3: 1/2 Journée Congés Payés | V3: C2
J4: N° Collaborateur : | M4: Visa Chef de Service : | S4: Semaine : | U4: Jour de RTT | V4: RU | X4: 17.9
U5: 1/2 Jour de RTT | V5: RT
B6: CB : | J6: AG : | K6: 020 | R6: 2 | S6: =KM!N5 -> 2014 | U6: Jour Férié | V6: JF
K7: - Le temps de repos quotidien à respecter est d’une durée minimale de 11 heures consécutives | U7: Formation Professionnelle 1/2 journée | V7: F2
K8: - Toute intervention comprise entre 21 h et 6 h doit être mentionnée distinctement | U8: Formation Professionnelle 1 Jour | V8: FP
B9: Déclaration du temps de travail et de trajet (en H et centièmes d'H) | M9: Sum | N9: =SUM(N11:N34) -> 37.3 | O9: =SUM(O11:O34) -> 37.3 | P9: =SUM(P11:P34) -> 89.5 | R9: =SUM(R11:R34) -> 940 | U9: Absence Autorisée payée 1 journée | V9: AE
C10: Lun | D10: Mar | E10: Mer | F10: Jeu | G10: Ven | H10: Sam | I10: Date jj / mm | K10: CB - affaire - prestation | L10: Client | M10: Lieu d'intervention | N10: UO prév. | O10: UO pas. | P10: Montant frais | Q10: Nature frais | R10: Km | U10: Absence Autorisée payée (saisie Heures) | V10: AH
A11: M A T I N | B11: TE | C11: 3.85 | D11: 3.85 | E11: 3.85 | F11: 3.85 | G11: 3.85 | I11: 0 | J11: =IF(I11="","",TEXT(DATE($S$6,1,3)-WEEKDAY(DATE($S$6,1,3))-5+(7*$R$6)+I11," jj mmm")) -> 06 janv | K11: CB - 003158 2627194/1 | L11: ALBERDIS ALBER T DISTRIBUTION | M11: 80300 ALBERT | N11: 8 | O11: =IF(N11="","",N11) -> 8 | P11: =IF(Q11="RM",$X$4,"") -> 17.9 | Q11: =IF(I11="","","RM") -> RM | R11: =IF(I11="","",IF(I11=0,$X$11,IF(I11=1,$X$12,IF(I11=2,$X$13,IF(I11=3,$X$14,IF(I11=4,$X$15)))))) -> 207 | S11: B Fourniture bureau DO Documenta., livres | U11: Accident de Trajet | V11: AJ | X11: =SUM(KM!H19) -> 207
B12: TJ | C12: inclus dans le temps de contrôle | J12: =IF(I12="","",TEXT(DATE($S$6,1,3)-WEEKDAY(DATE($S$6,1,3))-5+(7*$R$6)+I12," jj mmm")) | O12: =IF(N12="","",N12) | P12: =IF(Q12="RM",$X$4,"") | Q12: =IF(I12="","","RM") | R12: =IF(I12="","",IF(I12=0,$X$11,IF(I12=1,$X$12,IF(I12=2,$X$13,IF(I12=3,$X$14,IF(I12=4,$X$15)))))) | S12: IE Invitation Externe II Invitation Interne | U12: Absence Autorisée non payée | V12: AN | X12: =SUM(KM!H20) -> 185
B13: Absence | I13: 1 | J13: =IF(I13="","",TEXT(DATE($S$6,1,3)-WEEKDAY(DATE($S$6,1,3))-5+(7*$R$6)+I13," jj mmm")) -> 07 janv | K13: CB - 003158 2627194/1 | L13: ALBERDIS ALBER T DISTRIBUTION | M13: 80300 ALBERT | N13: 4 | O13: =IF(N13="","",N13) -> 4 | P13: =IF(Q13="RM",$X$4,"") -> 17.9 | Q13: =IF(I13="","","RM") -> RM | R13: =IF(I13="","",IF(I13=0,$X$11,IF(I13=1,$X$12,IF(I13=2,$X$13,IF(I13=3,$X$14,IF(I13=4,$X$15)))))) -> 185 | S13: RM Déjeuner forfait RS Diner justifié | U13: Absence Autorisée payée 1/2 J. | V13: AP | X13: =SUM(KM!H21) -> 193
J14: =IF(I14="","",TEXT(DATE($S$6,1,3)-WEEKDAY(DATE($S$6,1,3))-5+(7*$R$6)+I14," jj mmm")) | K14: CB - 003100 2337225/4 | L14: HOLDING TEXTILES | M14: 80300 ALBERT | N14: 1 | O14: =IF(N14="","",N14) -> 1 | P14: =IF(Q14="RM",$X$4,"") | Q14: =IF(I14="","","RM") | R14: =IF(I14="","",IF(I14=0,$X$11,IF(I14=1,$X$12,IF(I14=2,$X$13,IF(I14=3,$X$14,IF(I14=4,$X$15)))))) | S14: TR Ticket Restaurant | U14: Régul. Forfait annuel (JOUR) | V14: AQ | X14: =SUM(KM!H22) -> 179
A15: A. MI D I | B15: TE | C15: 3.85 | D15: 3.85 | E15: 3.85 | F15: 3.85 | G15: 3.85 | J15: =IF(I15="","",TEXT(DATE($S$6,1,3)-WEEKDAY(DATE($S$6,1,3))-5+(7*$R$6)+I15," jj mmm")) | K15: CB - 003158 2627204/1 | L15: DISTRI CARB II | M15: 80300 ALBERT | N15: 1.3 | O15: =IF(N15="","",N15) -> 1.3 | P15: =IF(Q15="RM",$X$4,"") | Q15: =IF(I15="","","RM") | R15: =IF(I15="","",IF(I15=0,$X$11,IF(I15=1,$X$12,IF(I15=2,$X$13,IF(I15=3,$X$14,IF(I15=4,$X$15)))))) | S15: HF Hôtel nuit + petit déjeuner province | U15: Régul. Forfait annuel (1/2 Journée) | V15: AR | X15: =SUM(KM!H23) -> 176
B16: TJ | C16: inclus dans le temps de contrôle | J16: =IF(I16="","",TEXT(DATE($S$6,1,3)-WEEKDAY(DATE($S$6,1,3))-5+(7*$R$6)+I16," jj mmm")) | K16: CB - 003100 2337225/3 | L16: HOLDING TEXTILES | M16: 80300 ALBERT | N16: 1.5 | O16: =IF(N16="","",N16) -> 1.5 | P16: =IF(Q16="RM",$X$4,"") | Q16: =IF(I16="","","RM") | R16: =IF(I16="","",IF(I16=0,$X$11,IF(I16=1,$X$12,IF(I16=2,$X$13,IF(I16=3,$X$14,IF(I16=4,$X$15)))))) | S16: HP Hôtel nuit + petit déjeuner IdF | U16: Accident de Travail | V16: AT
B17: Absence | J17: =IF(I17="","",TEXT(DATE($S$6,1,3)-WEEKDAY(DATE($S$6,1,3))-5+(7*$R$6)+I17," jj mmm")) | O17: =IF(N17="","",N17) | P17: =IF(Q17="RM",$X$4,"") | Q17: =IF(I17="","","RM") | R17: =IF(I17="","",IF(I17=0,$X$11,IF(I17=1,$X$12,IF(I17=2,$X$13,IF(I17=3,$X$14,IF(I17=4,$X$15)))))) | S17: FM Frais médicaux | U17: Maternité | V17: BB
J18: =IF(I18="","",TEXT(DATE($S$6,1,3)-WEEKDAY(DATE($S$6,1,3))-5+(7*$R$6)+I18," jj mmm")) | O18: =IF(N18="","",N18) | P18: =IF(Q18="RM",$X$4,"") | Q18: =IF(I18="","","RM") | R18: =IF(I18="","",IF(I18=0,$X$11,IF(I18=1,$X$12,IF(I18=2,$X$13,IF(I18=3,$X$14,IF(I18=4,$X$15)))))) | S18: G1 Entretien VS (2p) | U18: Congé Adoption | V18: CA
B19: Total J | C19: =(C11+C15) -> 7.7 | D19: =IF(D12+D16<1.5,D11+D15,D11+D12+D15+D16-1.5) -> 7.7 | E19: =IF(E12+E16<1.5,E11+E15,E11+E12+E15+E16-1.5) -> 7.7 | F19: =IF(F12+F16<1.5,F11+F15,F11+F12+F15+F16-1.5) -> 7.7 | G19: =IF(G12+G16<1.5,G11+G15,G11+G12+G15+G16-1.5) -> 7.7 | H19: =IF(H12+H16<1.5,H11+H15,H11+H12+H15+H16-1.5) -> 0 | I19: 2 | J19: =IF(I19="","",TEXT(DATE($S$6,1,3)-WEEKDAY(DATE($S$6,1,3))-5+(7*$R$6)+I19," jj mmm")) -> 08 janv | K19: CB - 003100 2002688/2 | L19: AUDREN | M19: 80190 NESLE | N19: 1 | O19: =IF(N19="","",N19) -> 1 | P19: =IF(Q19="RM",$X$4,"") -> 17.9 | Q19: =IF(I19="","","RM") -> RM | R19: =IF(I19="","",IF(I19=0,$X$11,IF(I19=1,$X$12,IF(I19=2,$X$13,IF(I19=3,$X$14,IF(I19=4,$X$15)))))) -> 193 | S19: G2 Entretien VT (4p) ou VP (perso.) | U19: Congé Naissance | V19: CN
B20: = | D20: =SUM(C19:H19) -> 38.5 | J20: =IF(I20="","",TEXT(DATE($S$6,1,3)-WEEKDAY(DATE($S$6,1,3))-5+(7*$R$6)+I20," jj mmm")) | K20: CB - 003100 2002688/5 | L20: AUDREN | M20: 80190 NESLE | N20: 2 | O20: =IF(N20="","",N20) -> 2 | P20: =IF(Q20="RM",$X$4,"") | Q20: =IF(I20="","","RM") | R20: =IF(I20="","",IF(I20=0,$X$11,IF(I20=1,$X$12,IF(I20=2,$X$13,IF(I20=3,$X$14,IF(I20=4,$X$15)))))) | S20: FA Consommables/aff. PO Frais de poste | U20: Cure Thermale | V20: CT
J21: =IF(I21="","",TEXT(DATE($S$6,1,3)-WEEKDAY(DATE($S$6,1,3))-5+(7*$R$6)+I21," jj mmm")) | K21: CB - 003100 2455434/2 | L21: DE LA FERME DU BOSQUET | M21: 80320 OMIECOURT | N21: 0.5 | O21: =IF(N21="","",N21) -> 0.5 | P21: =IF(Q21="RM",$X$4,"") | Q21: =IF(I21="","","RM") | R21: =IF(I21="","",IF(I21=0,$X$11,IF(I21=1,$X$12,IF(I21=2,$X$13,IF(I21=3,$X$14,IF(I21=4,$X$15)))))) | S21: MC Mat. Contrôle < 500€ MS Mat. Sécurité < 500€ | U21: Décès Conjoint | V21: DC
J22: =IF(I22="","",TEXT(DATE($S$6,1,3)-WEEKDAY(DATE($S$6,1,3))-5+(7*$R$6)+I22," jj mmm")) | K22: CB - 003100 2455434/1 | L22: DE LA FERME DU BOSQUET | M22: 80320 OMIECOURT | N22: 4 | O22: =IF(N22="","",N22) -> 4 | P22: =IF(Q22="RM",$X$4,"") | Q22: =IF(I22="","","RM") | R22: =IF(I22="","",IF(I22=0,$X$11,IF(I22=1,$X$12,IF(I22=2,$X$13,IF(I22=3,$X$14,IF(I22=4,$X$15)))))) | S22: ES Carburant hors TOTAL | U22: Décès Enfant | V22: DE
J23: =IF(I23="","",TEXT(DATE($S$6,1,3)-WEEKDAY(DATE($S$6,1,3))-5+(7*$R$6)+I23," jj mmm")) | O23: =IF(N23="","",N23) | P23: =IF(Q23="RM",$X$4,"") | Q23: =IF(I23="","","RM") | R23: =IF(I23="","",IF(I23=0,$X$11,IF(I23=1,$X$12,IF(I23=2,$X$13,IF(I23=3,$X$14,IF(I23=4,$X$15)))))) | S23: PP Péage/park hors TOTAL | U23: Décès Famille | V23: DF
I24: 3 | J24: =IF(I24="","",TEXT(DATE($S$6,1,3)-WEEKDAY(DATE($S$6,1,3))-5+(7*$R$6)+I24," jj mmm")) -> 09 janv | K24: CB - 003100 2134153/2 | L24: ADM | M24: 80300 ALBERT | N24: 2 | O24: =IF(N24="","",N24) -> 2 | P24: =IF(Q24="RM",$X$4,"") -> 17.9 | Q24: =IF(I24="","","RM") -> RM | R24: =IF(I24="","",IF(I24=0,$X$11,IF(I24=1,$X$12,IF(I24=2,$X$13,IF(I24=3,$X$14,IF(I24=4,$X$15)))))) -> 179 | S24: PT Péage/park carte TOTAL non remboursé | U24: Fongecif | V24: FG
J25: =IF(I25="","",TEXT(DATE($S$6,1,3)-WEEKDAY(DATE($S$6,1,3))-5+(7*$R$6)+I25," jj mmm")) | K25: CB - 003100 2134153/1 | L25: ADM | M25: 80300 ALBERT | N25: 4 | O25: =IF(N25="","",N25) -> 4 | P25: =IF(Q25="RM",$X$4,"") | Q25: =IF(I25="","","RM") | R25: =IF(I25="","",IF(I25=0,$X$11,IF(I25=1,$X$12,IF(I25=2,$X$13,IF(I25=3,$X$14,IF(I25=4,$X$15)))))) | S25: K Kilomètres | U25: Congé patho. avant maternité | V25: GP
J26: =IF(I26="","",TEXT(DATE($S$6,1,3)-WEEKDAY(DATE($S$6,1,3))-5+(7*$R$6)+I26," jj mmm")) | K26: CB - 003100 2500515/2 | L26: ZAZU | M26: 80300 ALBERT | N26: 3 | O26: =IF(N26="","",N26) -> 3 | P26: =IF(Q26="RM",$X$4,"") | Q26: =IF(I26="","","RM") | R26: =IF(I26="","",IF(I26=0,$X$11,IF(I26=1,$X$12,IF(I26=2,$X$13,IF(I26=3,$X$14,IF(I26=4,$X$15)))))) | S26: T Voyage(avion/train/ taxi/métro/bateau/…) | U26: Juré d'Assises | V26: JA
J27: =IF(I27="","",TEXT(DATE($S$6,1,3)-WEEKDAY(DATE($S$6,1,3))-5+(7*$R$6)+I27," jj mmm")) | O27: =IF(N27="","",N27) | P27: =IF(Q27="RM",$X$4,"") | Q27: =IF(I27="","","RM") | R27: =IF(I27="","",IF(I27=0,$X$11,IF(I27=1,$X$12,IF(I27=2,$X$13,IF(I27=3,$X$14,IF(I27=4,$X$15)))))) | S27: PV Passeport/Visa TL Téléphonie internet | U27: Jour Supplémentaire | V27: JS
I28: 4 | J28: =IF(I28="","",TEXT(DATE($S$6,1,3)-WEEKDAY(DATE($S$6,1,3))-5+(7*$R$6)+I28," jj mmm")) -> 10 janv | K28: CB - 003095 2434746/99 | L28: REMALOC | M28: DANA GUISCARD | N28: 1 | O28: =IF(N28="","",N28) -> 1 | P28: =IF(Q28="RM",$X$4,"") -> 17.9 | Q28: =IF(I28="","","RM") -> RM | R28: =IF(I28="","",IF(I28=0,$X$11,IF(I28=1,$X$12,IF(I28=2,$X$13,IF(I28=3,$X$14,IF(I28=4,$X$15)))))) -> 176 | U28: Maladie | V28: MA
J29: =IF(I29="","",TEXT(DATE($S$6,1,3)-WEEKDAY(DATE($S$6,1,3))-5+(7*$R$6)+I29," jj mmm")) | K29: CB - 003100 2478282/4 | L29: SICADAP | M29: 80500 MONTDIDIER | N29: 4 | O29: =IF(N29="","",N29) -> 4 | P29: =IF(Q29="RM",$X$4,"") | Q29: =IF(I29="","","RM") | R29: =IF(I29="","",IF(I29=0,$X$11,IF(I29=1,$X$12,IF(I29=2,$X$13,IF(I29=3,$X$14,IF(I29=4,$X$15)))))) | U29: Mariage Enfant | V29: ME
J30: =IF(I30="","",TEXT(DATE($S$6,1,3)-WEEKDAY(DATE($S$6,1,3))-5+(7*$R$6)+I30," jj mmm")) | O30: =IF(N30="","",N30) | P30: =IF(Q30="RM",$X$4,"") | Q30: =IF(I30="","","RM") | R30: =IF(I30="","",IF(I30=0,$X$11,IF(I30=1,$X$12,IF(I30=2,$X$13,IF(I30=3,$X$14,IF(I30=4,$X$15)))))) | S30: KC = | U30: Mariage Collaborateur | V30: MS
J31: =IF(I31="","",TEXT(DATE($S$6,1,3)-WEEKDAY(DATE($S$6,1,3))-5+(7*$R$6)+I31," jj mmm")) | O31: =IF(N31="","",N31) | P31: =IF(Q31="RM",$X$4,"") | Q31: =IF(I31="","","RM") | R31: =IF(I31="","",IF(I31=0,$X$11,IF(I31=1,$X$12,IF(I31=2,$X$13,IF(I31=3,$X$14,IF(I31=4,$X$15)))))) | U31: Mi temps thérapeutique | V31: MT
J32: =IF(I32="","",TEXT(DATE($S$6,1,3)-WEEKDAY(DATE($S$6,1,3))-5+(7*$R$6)+I32," jj mmm")) | O32: =IF(N32="","",N32) | P32: =IF(Q32="RM",$X$4,"") | Q32: =IF(I32="","","RM") | R32: =IF(I32="","",IF(I32=0,$X$11,IF(I32=1,$X$12,IF(I32=2,$X$13,IF(I32=3,$X$14,IF(I32=4,$X$15)))))) | S32: Indiquer chaque fin de mois la différence de Km compteur entre M et M-1 | U32: Jour Sans Solde (1 jour) | V32: NE
J33: =IF(I33="","",TEXT(DATE($S$6,1,3)-WEEKDAY(DATE($S$6,1,3))-5+(7*$R$6)+I33," jj mmm")) | O33: =IF(N33="","",N33) | P33: =IF(Q33="RM",$X$4,"") | Q33: =IF(I33="","","RM") | R33: =IF(I33="","",IF(I33=0,$X$11,IF(I33=1,$X$12,IF(I33=2,$X$13,IF(I33=3,$X$14,IF(I33=4,$X$15)))))) | U33: Paternité | V33: PA
J34: =IF(I34="","",TEXT(DATE($S$6,1,3)-WEEKDAY(DATE($S$6,1,3))-5+(7*$R$6)+I34," jj mmm")) | O34: =IF(N34="","",N34) | P34: =IF(Q34="RM",$X$4,"") | Q34: =IF(I34="","","RM") | R34: =IF(I34="","",IF(I34=0,$X$11,IF(I34=1,$X$12,IF(I34=2,$X$13,IF(I34=3,$X$14,IF(I34=4,$X$15)))))) | U34: Récupération 1/2 journée | V34: R2

Sheet 03
K1: FICHE DE GESTION D'ACTIVITE ET DU TEMPS DE TRAVAIL | X1: CP | Y1: C2 | Z1: RU | AA1: RT | AB1: JF | AC1: F2 | AD1: FP | AE1: AE | AF1: AH | AG1: AJ | AH1: AN | AI1: AP | AJ1: AQ | AK1: AR | AL1: AT | AM1: BB | AN1: CA | AO1: CN | AP1: CT | AQ1: DC | AR1: DE | AS1: DF | AT1: FG | AU1: GP | AV1: JA | AW1: JS | AX1: MA | AY1: ME | AZ1: MS | BA1: MT | BB1: NE | BC1: PA | BD1: R2 | BE1: RE | BF1: SD | BG1: SE
L2: Non cadre forfait heure / cadre forfait heure | U2: Congés Payés 1 journée | V2: CP
U3: 1/2 Journée Congés Payés | V3: C2
J4: N° Collaborateur : | M4: Visa Chef de Service : | S4: Semaine : | U4: Jour de RTT | V4: RU | X4: 17.9
U5: 1/2 Jour de RTT | V5: RT
B6: CB : | J6: AG : | K6: 020 | R6: 3 | S6: =KM!N5 -> 2014 | U6: Jour Férié | V6: JF
K7: - Le temps de repos quotidien à respecter est d’une durée minimale de 11 heures consécutives | U7: Formation Professionnelle 1/2 journée | V7: F2
K8: - Toute intervention comprise entre 21 h et 6 h doit être mentionnée distinctement | U8: Formation Professionnelle 1 Jour | V8: FP
B9: Déclaration du temps de travail et de trajet (en H et centièmes d'H) | M9: Sum | N9: =SUM(N11:N34) -> 6 | O9: =SUM(O11:O34) -> 6 | P9: =SUM(P11:P34) -> 17.9 | R9: =SUM(R11:R34) -> 155 | U9: Absence Autorisée payée 1 journée | V9: AE
C10: Lun | D10: Mar | E10: Mer | F10: Jeu | G10: Ven | H10: Sam | I10: Date jj / mm | K10: CB - affaire - prestation | L10: Client | M10: Lieu d'intervention | N10: UO prév. | O10: UO pas. | P10: Montant frais | Q10: Nature frais | R10: Km | U10: Absence Autorisée payée (saisie Heures) | V10: AH
A11: M A T I N | B11: TE | C11: 3.85 | D11: 3.85 | E11: 3.85 | F11: 3.85 | G11: 3.85 | J11: =IF(I11="","",TEXT(DATE($S$6,1,3)-WEEKDAY(DATE($S$6,1,3))-5+(7*$R$6)+I11," jj mmm")) | O11: =IF(N11="","",N11) | P11: =IF(Q11="RM",$X$4,"") | Q11: =IF(I11="","","RM") | R11: =IF(I11="","",IF(I11=0,$X$11,IF(I11=1,$X$12,IF(I11=2,$X$13,IF(I11=3,$X$14,IF(I11=4,$X$15)))))) | S11: B Fourniture bureau DO Documenta., livres | U11: Accident de Trajet | V11: AJ | X11: =SUM(KM!H31) -> 155
B12: TJ | C12: inclus dans le temps de contrôle | I12: 0 | J12: =IF(I12="","",TEXT(DATE($S$6,1,3)-WEEKDAY(DATE($S$6,1,3))-5+(7*$R$6)+I12," jj mmm")) -> 13 janv | K12: CB - 003100 2134153/2 | L12: ADM | M12: 80300 ALBERT | N12: 2 | O12: =IF(N12="","",N12) -> 2 | P12: =IF(Q12="RM",$X$4,"") -> 17.9 | Q12: =IF(I12="","","RM") -> RM | R12: =IF(I12="","",IF(I12=0,$X$11,IF(I12=1,$X$12,IF(I12=2,$X$13,IF(I12=3,$X$14,IF(I12=4,$X$15)))))) -> 155 | S12: IE Invitation Externe II Invitation Interne | U12: Absence Autorisée non payée | V12: AN | X12: =SUM(KM!H32) -> 179
B13: Absence | J13: =IF(I13="","",TEXT(DATE($S$6,1,3)-WEEKDAY(DATE($S$6,1,3))-5+(7*$R$6)+I13," jj mmm")) | K13: CB - 003100 2134153/1 | L13: ADM | M13: 80300 ALBERT | N13: 4 | O13: =IF(N13="","",N13) -> 4 | P13: =IF(Q13="RM",$X$4,"") | Q13: =IF(I13="","","RM") | R13: =IF(I13="","",IF(I13=0,$X$11,IF(I13=1,$X$12,IF(I13=2,$X$13,IF(I13=3,$X$14,IF(I13=4,$X$15)))))) | S13: RM Déjeuner forfait RS Diner justifié | U13: Absence Autorisée payée 1/2 J. | V13: AP | X13: =SUM(KM!H33) -> 174
J14: =IF(I14="","",TEXT(DATE($S$6,1,3)-WEEKDAY(DATE($S$6,1,3))-5+(7*$R$6)+I14," jj mmm")) | O14: =IF(N14="","",N14) | P14: =IF(Q14="RM",$X$4,"") | Q14: =IF(I14="","","RM") | R14: =IF(I14="","",IF(I14=0,$X$11,IF(I14=1,$X$12,IF(I14=2,$X$13,IF(I14=3,$X$14,IF(I14=4,$X$15)))))) | S14: TR Ticket Restaurant | U14: Régul. Forfait annuel (JOUR) | V14: AQ | X14: =SUM(KM!H34) -> 108
A15: A. MI D I | B15: TE | C15: 3.85 | D15: 3.85 | E15: 3.85 | F15: 3.85 | G15: 3.85 | J15: =IF(I15="","",TEXT(DATE($S$6,1,3)-WEEKDAY(DATE($S$6,1,3))-5+(7*$R$6)+I15," jj mmm")) | O15: =IF(N15="","",N15) | P15: =IF(Q15="RM",$X$4,"") | Q15: =IF(I15="","","RM") | R15: =IF(I15="","",IF(I15=0,$X$11,IF(I15=1,$X$12,IF(I15=2,$X$13,IF(I15=3,$X$14,IF(I15=4,$X$15)))))) | S15: HF Hôtel nuit + petit déjeuner province | U15: Régul. Forfait annuel (1/2 Journée) | V15: AR | X15: =SUM(KM!H35) -> 136
B16: TJ | C16: inclus dans le temps de contrôle | J16: =IF(I16="","",TEXT(DATE($S$6,1,3)-WEEKDAY(DATE($S$6,1,3))-5+(7*$R$6)+I16," jj mmm")) | O16: =IF(N16="","",N16) | P16: =IF(Q16="RM",$X$4,"") | Q16: =IF(I16="","","RM") | R16: =IF(I16="","",IF(I16=0,$X$11,IF(I16=1,$X$12,IF(I16=2,$X$13,IF(I16=3,$X$14,IF(I16=4,$X$15)))))) | S16: HP Hôtel nuit + petit déjeuner IdF | U16: Accident de Travail | V16: AT
B17: Absence | J17: =IF(I17="","",TEXT(DATE($S$6,1,3)-WEEKDAY(DATE($S$6,1,3))-5+(7*$R$6)+I17," jj mmm")) | O17: =IF(N17="","",N17) | P17: =IF(Q17="RM",$X$4,"") | Q17: =IF(I17="","","RM") | R17: =IF(I17="","",IF(I17=0,$X$11,IF(I17=1,$X$12,IF(I17=2,$X$13,IF(I17=3,$X$14,IF(I17=4,$X$15)))))) | S17: FM Frais médicaux | U17: Maternité | V17: BB
J18: =IF(I18="","",TEXT(DATE($S$6,1,3)-WEEKDAY(DATE($S$6,1,3))-5+(7*$R$6)+I18," jj mmm")) | O18: =IF(N18="","",N18) | P18: =IF(Q18="RM",$X$4,"") | Q18: =IF(I18="","","RM") | R18: =IF(I18="","",IF(I18=0,$X$11,IF(I18=1,$X$12,IF(I18=2,$X$13,IF(I18=3,$X$14,IF(I18=4,$X$15)))))) | S18: G1 Entretien VS (2p) | U18: Congé Adoption | V18: CA
B19: Total J | C19: =(C11+C15) -> 7.7 | D19: =IF(D12+D16<1.5,D11+D15,D11+D12+D15+D16-1.5) -> 7.7 | E19: =IF(E12+E16<1.5,E11+E15,E11+E12+E15+E16-1.5) -> 7.7 | F19: =IF(F12+F16<1.5,F11+F15,F11+F12+F15+F16-1.5) -> 7.7 | G19: =IF(G12+G16<1.5,G11+G15,G11+G12+G15+G16-1.5) -> 7.7 | H19: =IF(H12+H16<1.5,H11+H15,H11+H12+H15+H16-1.5) -> 0 | J19: =IF(I19="","",TEXT(DATE($S$6,1,3)-WEEKDAY(DATE($S$6,1,3))-5+(7*$R$6)+I19," jj mmm")) | O19: =IF(N19="","",N19) | P19: =IF(Q19="RM",$X$4,"") | Q19: =IF(I19="","","RM") | R19: =IF(I19="","",IF(I19=0,$X$11,IF(I19=1,$X$12,IF(I19=2,$X$13,IF(I19=3,$X$14,IF(I19=4,$X$15)))))) | S19: G2 Entretien VT (4p) ou VP (perso.) | U19: Congé Naissance | V19: CN
B20: = | D20: =SUM(C19:H19) -> 38.5 | J20: =IF(I20="","",TEXT(DATE($S$6,1,3)-WEEKDAY(DATE($S$6,1,3))-5+(7*$R$6)+I20," jj mmm")) | O20: =IF(N20="","",N20) | P20: =IF(Q20="RM",$X$4,"") | Q20: =IF(I20="","","RM") | R20: =IF(I20="","",IF(I20=0,$X$11,IF(I20=1,$X$12,IF(I20=2,$X$13,IF(I20=3,$X$14,IF(I20=4,$X$15)))))) | S20: FA Consommables/aff. PO Frais de poste | U20: Cure Thermale | V20: CT
J21: =IF(I21="","",TEXT(DATE($S$6,1,3)-WEEKDAY(DATE($S$6,1,3))-5+(7*$R$6)+I21," jj mmm")) | O21: =IF(N21="","",N21) | P21: =IF(Q21="RM",$X$4,"") | Q21: =IF(I21="","","RM") | R21: =IF(I21="","",IF(I21=0,$X$11,IF(I21=1,$X$12,IF(I21=2,$X$13,IF(I21=3,$X$14,IF(I21=4,$X$15)))))) | S21: MC Mat. Contrôle < 500€ MS Mat. Sécurité < 500€ | U21: Décès Conjoint | V21: DC
J22: =IF(I22="","",TEXT(DATE($S$6,1,3)-WEEKDAY(DATE($S$6,1,3))-5+(7*$R$6)+I22," jj mmm")) | O22: =IF(N22="","",N22) | P22: =IF(Q22="RM",$X$4,"") | Q22: =IF(I22="","","RM") | R22: =IF(I22="","",IF(I22=0,$X$11,IF(I22=1,$X$12,IF(I22=2,$X$13,IF(I22=3,$X$14,IF(I22=4,$X$15)))))) | S22: ES Carburant hors TOTAL | U22: Décès Enfant | V22: DE
J23: =IF(I23="","",TEXT(DATE($S$6,1,3)-WEEKDAY(DATE($S$6,1,3))-5+(7*$R$6)+I23," jj mmm")) | O23: =IF(N23="","",N23) | P23: =IF(Q23="RM",$X$4,"") | Q23: =IF(I23="","","RM") | R23: =IF(I23="","",IF(I23=0,$X$11,IF(I23=1,$X$12,IF(I23=2,$X$13,IF(I23=3,$X$14,IF(I23=4,$X$15)))))) | S23: PP Péage/park hors TOTAL | U23: Décès Famille | V23: DF
J24: =IF(I24="","",TEXT(DATE($S$6,1,3)-WEEKDAY(DATE($S$6,1,3))-5+(7*$R$6)+I24," jj mmm")) | O24: =IF(N24="","",N24) | P24: =IF(Q24="RM",$X$4,"") | Q24: =IF(I24="","","RM") | R24: =IF(I24="","",IF(I24=0,$X$11,IF(I24=1,$X$12,IF(I24=2,$X$13,IF(I24=3,$X$14,IF(I24=4,$X$15)))))) | S24: PT Péage/park carte TOTAL non remboursé | U24: Fongecif | V24: FG
J25: =IF(I25="","",TEXT(DATE($S$6,1,3)-WEEKDAY(DATE($S$6,1,3))-5+(7*$R$6)+I25," jj mmm")) | O25: =IF(N25="","",N25) | P25: =IF(Q25="RM",$X$4,"") | Q25: =IF(I25="","","RM") | R25: =IF(I25="","",IF(I25=0,$X$11,IF(I25=1,$X$12,IF(I25=2,$X$13,IF(I25=3,$X$14,IF(I25=4,$X$15)))))) | S25: K Kilomètres | U25: Congé patho. avant maternité | V25: GP
J26: =IF(I26="","",TEXT(DATE($S$6,1,3)-WEEKDAY(DATE($S$6,1,3))-5+(7*$R$6)+I26," jj mmm")) | O26: =IF(N26="","",N26) | P26: =IF(Q26="RM",$X$4,"") | Q26: =IF(I26="","","RM") | R26: =IF(I26="","",IF(I26=0,$X$11,IF(I26=1,$X$12,IF(I26=2,$X$13,IF(I26=3,$X$14,IF(I26=4,$X$15)))))) | S26: T Voyage(avion/train/ taxi/métro/bateau/…) | U26: Juré d'Assises | V26: JA
J27: =IF(I27="","",TEXT(DATE($S$6,1,3)-WEEKDAY(DATE($S$6,1,3))-5+(7*$R$6)+I27," jj mmm")) | O27: =IF(N27="","",N27) | P27: =IF(Q27="RM",$X$4,"") | Q27: =IF(I27="","","RM") | R27: =IF(I27="","",IF(I27=0,$X$11,IF(I27=1,$X$12,IF(I27=2,$X$13,IF(I27=3,$X$14,IF(I27=4,$X$15)))))) | S27: PV Passeport/Visa TL Téléphonie internet | U27: Jour Supplémentaire | V27: JS
J28: =IF(I28="","",TEXT(DATE($S$6,1,3)-WEEKDAY(DATE($S$6,1,3))-5+(7*$R$6)+I28," jj mmm")) | O28: =IF(N28="","",N28) | P28: =IF(Q28="RM",$X$4,"") | Q28: =IF(I28="","","RM") | R28: =IF(I28="","",IF(I28=0,$X$11,IF(I28=1,$X$12,IF(I28=2,$X$13,IF(I28=3,$X$14,IF(I28=4,$X$15)))))) | U28: Maladie | V28: MA
J29: =IF(I29="","",TEXT(DATE($S$6,1,3)-WEEKDAY(DATE($S$6,1,3))-5+(7*$R$6)+I29," jj mmm")) | O29: =IF(N29="","",N29) | P29: =IF(Q29="RM",$X$4,"") | Q29: =IF(I29="","","RM") | R29: =IF(I29="","",IF(I29=0,$X$11,IF(I29=1,$X$12,IF(I29=2,$X$13,IF(I29=3,$X$14,IF(I29=4,$X$15)))))) | U29: Mariage Enfant | V29: ME
J30: =IF(I30="","",TEXT(DATE($S$6,1,3)-WEEKDAY(DATE($S$6,1,3))-5+(7*$R$6)+I30," jj mmm")) | O30: =IF(N30="","",N30) | P30: =IF(Q30="RM",$X$4,"") | Q30: =IF(I30="","","RM") | R30: =IF(I30="","",IF(I30=0,$X$11,IF(I30=1,$X$12,IF(I30=2,$X$13,IF(I30=3,$X$14,IF(I30=4,$X$15)))))) | S30: KC = | U30: Mariage Collaborateur | V30: MS
J31: =IF(I31="","",TEXT(DATE($S$6,1,3)-WEEKDAY(DATE($S$6,1,3))-5+(7*$R$6)+I31," jj mmm")) | O31: =IF(N31="","",N31) | P31: =IF(Q31="RM",$X$4,"") | Q31: =IF(I31="","","RM") | R31: =IF(I31="","",IF(I31=0,$X$11,IF(I31=1,$X$12,IF(I31=2,$X$13,IF(I31=3,$X$14,IF(I31=4,$X$15)))))) | U31: Mi temps thérapeutique | V31: MT
J32: =IF(I32="","",TEXT(DATE($S$6,1,3)-WEEKDAY(DATE($S$6,1,3))-5+(7*$R$6)+I32," jj mmm")) | O32: =IF(N32="","",N32) | P32: =IF(Q32="RM",$X$4,"") | Q32: =IF(I32="","","RM") | R32: =IF(I32="","",IF(I32=0,$X$11,IF(I32=1,$X$12,IF(I32=2,$X$13,IF(I32=3,$X$14,IF(I32=4,$X$15)))))) | S32: Indiquer chaque fin de mois la différence de Km compteur entre M et M-1 | U32: Jour Sans Solde (1 jour) | V32: NE
J33: =IF(I33="","",TEXT(DATE($S$6,1,3)-WEEKDAY(DATE($S$6,1,3))-5+(7*$R$6)+I33," jj mmm")) | O33: =IF(N33="","",N33) | P33: =IF(Q33="RM",$X$4,"") | Q33: =IF(I33="","","RM") | R33: =IF(I33="","",IF(I33=0,$X$11,IF(I33=1,$X$12,IF(I33=2,$X$13,IF(I33=3,$X$14,IF(I33=4,$X$15)))))) | U33: Paternité | V33: PA
J34: =IF(I34="","",TEXT(DATE($S$6,1,3)-WEEKDAY(DATE($S$6,1,3))-5+(7*$R$6)+I34," jj mmm")) | O34: =IF(N34="","",N34) | P34: =IF(Q34="RM",$X$4,"") | Q34: =IF(I34="","","RM") | R34: =IF(I34="","",IF(I34=0,$X$11,IF(I34=1,$X$12,IF(I34=2,$X$13,IF(I34=3,$X$14,IF(I34=4,$X$15)))))) | U34: Récupération 1/2 journée | V34: R2

Sheet KM
A1: =EOMONTH(B13,-1) -> 41639 | B1: =EOMONTH(A1,1) -> 41670 | C1: =EOMONTH(B1,1) -> 41698 | D1: =EOMONTH(C1,1) -> 41729 | E1: =EOMONTH(D1,1) -> 41759 | F1: =EOMONTH(E1,1) -> 41790 | G1: =EOMONTH(F1,1) -> 41820 | H1: =EOMONTH(G1,1) -> 41851 | I1: =EOMONTH(H1,1) -> 41882 | ... M1: =EOMONTH(L1,1) -> 42004
A2: =N7 -> 97362 | B2: =VLOOKUP(B1,B7:K639,10,FALSE)-A2 -> 3381 | C2: =VLOOKUP(C1,B7:K639,10,FALSE)-VLOOKUP(B1,B7:K639,10,FALSE) -> 3166 | D2: =VLOOKUP(D1,B7:K639,10,FALSE)-VLOOKUP(C1,B7:K639,10,FALSE) -> 2659 | E2: =VLOOKUP(E1,B7:K639,10,FALSE)-VLOOKUP(D1,B7:K639,10,FALSE) -> 4044 | F2: =VLOOKUP(F1,B7:K639,10,FALSE)-VLOOKUP(E1, B7:K639,10,FALSE) -> 2958 | G2: =VLOOKUP(G1,B7:K639,10,FALSE)-VLOOKUP(F1,B7:K639,10,FALSE) -> #VALUE! | H2: =VLOOKUP(H1,B7:K639,10,FALSE)-VLOOKUP(G1,B7:K639,10,FALSE) -> #VALUE! | I2: =VLOOKUP(I1,B7:K639,10,FALSE)-VLOOKUP(H1,B7:K639,10,FALSE) -> #VALUE! | J2: =VLOOKUP(J1,B7:K639,10,FALSE)-VLOOKUP(I1,B7:K639,10,FALSE) -> #VALUE! | K2: =VLOOKUP(K1,B7:K639,10,FALSE)-VLOOKUP(J1,B7:K639,10,FALSE) -> #VALUE! | L2: =VLOOKUP(L1,B7:K639,10,FALSE)-VLOOKUP(K1,B7:K639,10,FALSE) -> #VALUE! | M2: =VLOOKUP(M1,B7:K639,10,FALSE)-VLOOKUP(L1,B7:K639,10,FALSE) -> #VALUE!
O4: MODFI DEBUT ANNEE | X4: 17.9
A5: SEM | B5: 1 | J5: =N7 -> 97362 | K5: =N7 -> 97362 | N5: 2014 | O5: ANNEE
D6: MATIN | E6: SOIR | F6: KM JOUR | G6: KM PERSO JOUR | H6: KM A DECL | J6: REEL | K6: DECLARE | N6: 41274 | O6: date du 1er jour de la sem N° 1
B7: 41638 | C7: LUNDI | D7: 97362 | E7: 97362 | F7: =IF(SUM(E7,-D7)<0,0,(SUM(E7,-D7))) -> 0 | G7: 0 | H7: =SUM(F7,G7) -> 0 | I7: =IF(K7="","",K7-J7) -> 0 | J7: =IF(E7="","",E7) -> 97362 | K7: =IF(E7="","",K5+H7) -> 97362 | N7: 97362 | O7: KM au 31/12
B8: =B7+1 -> 41639 | C8: MARDI | D8: =SUM(E7) -> 97362 | E8: 97362 | F8: =IF(SUM(E8,-D8)<0,0,(SUM(E8,-D8))) -> 0 | G8: 0 | H8: =SUM(F8,G8) -> 0 | I8: =IF(K8="","",K8-J8) -> 0 | J8: =IF(E8="","",E8) -> 97362 | K8: =IF(E8="","",K7+H8) -> 97362
B9: =B8+1 -> 41640 | C9: MERCREDI | D9: =SUM(E8) -> 97362 | E9: 97362 | F9: =IF(SUM(E9,-D9)<0,0,(SUM(E9,-D9))) -> 0 | G9: 0 | H9: =SUM(F9,G9) -> 0 | I9: =IF(K9="","",K9-J9) -> 0 | J9: =IF(E9="","",E9) -> 97362 | K9: =IF(E9="","",K8+H9) -> 97362
B10: =B9+1 -> 41641 | C10: JEUDI | D10: =SUM(E9) -> 97362 | E10: 97677 | F10: =IF(SUM(E10,-D10)<0,0,(SUM(E10,-D10))) -> 315 | G10: -100 | H10: =SUM(F10,G10) -> 215 | I10: =IF(K10="","",K10-J10) -> -100 | J10: =IF(E10="","",E10) -> 97677 | K10: =IF(E10="","",K9+H10) -> 97577 | N10: Remettre en jaune les fins de mois
B11: =B10+1 -> 41642 | C11: VENDREDI | D11: =SUM(E10) -> 97677 | E11: 97785 | F11: =IF(SUM(E11,-D11)<0,0,(SUM(E11,-D11))) -> 108 | G11: 100 | H11: =SUM(F11,G11) -> 208 | I11: =IF(K11="","",K11-J11) -> 0 | J11: =IF(E11="","",E11) -> 97785 | K11: =IF(E11="","",K10+H11) -> 97785 | N11: km du 1er jour de la sem N° 1 en D7
B12: =B11+1 -> 41643 | C12: SAMEDI | D12: =IF(E12="","",SUM(E11)) | F12: =IF(E12="","",SUM(E12,-D12)) | G12: 0 | H12: =SUM(F12,G12) -> 0 | I12: =IF(K12="","",K12-J12) -> 0 | J12: =IF(E12="",E11,E12) -> 97785 | K12: =IF(K11="","",K11+H12) -> 97785
B13: =B12+1 -> 41644 | C13: DIMANCHE | G13: 0 | J13: =J12 -> 97785 | K13: =K12 -> 97785
C15: SOMME | E15: =IF(E12="",SUM(E11,-D7),SUM(E12,-D7)) -> 423 | F15: =SUM(F7:F12) -> 423 | G15: =SUM(G7:G13) -> 0 | H15: =SUM(H7:H12) -> 423 | I15: =I12 -> 0 | J15: =IF(E11="","",J3+F15) -> 423 | K15: =IF(E11="","",K3+H15) -> 423
A17: SEM | B17: =SUM(B5,1) -> 2
D18: MATIN | E18: SOIR | F18: KM JOUR | G18: KM PERSO JOUR | H18: KM A DECL | J18: REEL | K18: DECLARE
B19: =B13+1 -> 41645 | C19: LUNDI | D19: =IF(E12="",E11,E12) -> 97785 | E19: 98292 | F19: =IF(SUM(E19,-D19)<0,0,(SUM(E19,-D19))) -> 507 | G19: -300 | H19: =SUM(F19,G19) -> 207 | I19: =IF(K19="","",K19-J19) -> -300 | J19: =IF(E19="","",E19) -> 98292 | K19: =IF(E19="","",K13+H19) -> 97992
B20: =B19+1 -> 41646 | C20: MARDI | D20: =SUM(E19) -> 98292 | E20: 98407 | F20: =IF(SUM(E20,-D20)<0,0,(SUM(E20,-D20))) -> 115 | G20: 70 | H20: =SUM(F20,G20) -> 185 | I20: =IF(K20="","",K20-J20) -> -230 | J20: =IF(E20="","",E20) -> 98407 | K20: =IF(E20="","",K19+H20) -> 98177
B21: =B20+1 -> 41647 | C21: MERCREDI | D21: =SUM(E20) -> 98407 | E21: 98530 | F21: =IF(SUM(E21,-D21)<0,0,(SUM(E21,-D21))) -> 123 | G21: 70 | H21: =SUM(F21,G21) -> 193 | I21: =IF(K21="","",K21-J21) -> -160 | J21: =IF(E21="","",E21) -> 98530 | K21: =IF(E21="","",K20+H21) -> 98370
B22: =B21+1 -> 41648 | C22: JEUDI | D22: =SUM(E21) -> 98530 | E22: 98629 | F22: =IF(SUM(E22,-D22)<0,0,(SUM(E22,-D22))) -> 99 | G22: 80 | H22: =SUM(F22,G22) -> 179 | I22: =IF(K22="","",K22-J22) -> -80 | J22: =IF(E22="","",E22) -> 98629 | K22: =IF(E22="","",K21+H22) -> 98549
B23: =B22+1 -> 41649 | C23: VENDREDI | D23: =SUM(E22) -> 98629 | E23: 98770 | F23: =IF(SUM(E23,-D23)<0,0,(SUM(E23,-D23))) -> 141 | G23: 35 | H23: =SUM(F23,G23) -> 176 | I23: =IF(K23="","",K23-J23) -> -45 | J23: =IF(E23="","",E23) -> 98770 | K23: =IF(E23="","",K22+H23) -> 98725
B24: =B23+1 -> 41650 | C24: SAMEDI | D24: =IF(E24="","",SUM(E23)) | F24: =IF(E24="","",SUM(E24,-D24)) | G24: 0 | H24: =SUM(F24,G24) -> 0 | I24: =IF(K24="","",K24-J24) -> -45 | J24: =IF(E24="",E23,E24) -> 98770 | K24: =IF(K23="","",K23+H24) -> 98725
B25: =B24+1 -> 41651 | C25: DIMANCHE | G25: 0 | J25: =J24 -> 98770 | K25: =K24 -> 98725
C27: SOMME | E27: =IF(E24="",SUM(E23,-D19),SUM(E24,-D19)) -> 985 | F27: =SUM(F19:F24) -> 985 | G27: =SUM(G19:G25) -> -45 | H27: =SUM(H19:H24) -> 940 | I27: =I24 -> -45 | J27: =IF(E23="","",J15+F27) -> 1408 | K27: =IF(E23="","",K15+H27) -> 1363
A29: SEM | B29: =SUM(B17,1) -> 3
D30: MATIN | E30: SOIR | F30: KM JOUR | G30: KM PERSO JOUR | H30: KM A DECL | J30: REEL | K30: DECLARE
B31: =B25+1 -> 41652 | C31: LUNDI | D31: =IF(E24="",E23,E24) -> 98770 | E31: 98905 | F31: =IF(SUM(E31,-D31)<0,0,(SUM(E31,-D31))) -> 135 | G31: 20 | H31: =SUM(F31,G31) -> 155 | I31: =IF(K31="","",K31-J31) -> -25 | J31: =IF(E31="","",E31) -> 98905 | K31: =IF(E31="","",K25+H31) -> 98880
B32: =B31+1 -> 41653 | C32: MARDI | D32: =SUM(E31) -> 98905 | E32: 99114 | F32: =IF(SUM(E32,-D32)<0,0,(SUM(E32,-D32))) -> 209 | G32: -30 | H32: =SUM(F32,G32) -> 179 | I32: =IF(K32="","",K32-J32) -> -55 | J32: =IF(E32="","",E32) -> 99114 | K32: =IF(E32="","",K31+H32) -> 99059
B33: =B32+1 -> 41654 | C33: MERCREDI | D33: =SUM(E32) -> 99114 | E33: 99233 | F33: =IF(SUM(E33,-D33)<0,0,(SUM(E33,-D33))) -> 119 | G33: 55 | H33: =SUM(F33,G33) -> 174 | I33: =IF(K33="","",K33-J33) -> 0 | J33: =IF(E33="","",E33) -> 99233 | K33: =IF(E33="","",K32+H33) -> 99233
B34: =B33+1 -> 41655 | C34: JEUDI | D34: =SUM(E33) -> 99233 | E34: 99341 | F34: =IF(SUM(E34,-D34)<0,0,(SUM(E34,-D34))) -> 108 | G34: 0 | H34: =SUM(F34,G34) -> 108 | I34: =IF(K34="","",K34-J34) -> 0 | J34: =IF(E34="","",E34) -> 99341 | K34: =IF(E34="","",K33+H34) -> 99341
B35: =B34+1 -> 41656 | C35: VENDREDI | D35: =SUM(E34) -> 99341 | E35: 99477 | F35: =IF(SUM(E35,-D35)<0,0,(SUM(E35,-D35))) -> 136 | G35: 0 | H35: =SUM(F35,G35) -> 136 | I35: =IF(K35="","",K35-J35) -> 0 | J35: =IF(E35="","",E35) -> 99477 | K35: =IF(E35="","",K34+H35) -> 99477
B36: =B35+1 -> 41657 | C36: SAMEDI | D36: =IF(E36="","",SUM(E35)) | F36: =IF(E36="","",SUM(E36,-D36)) | G36: 0 | H36: =SUM(F36,G36) -> 0 | I36: =IF(K36="","",K36-J36) -> 0 | J36: =IF(E36="",E35,E36) -> 99477 | K36: =IF(K35="","",K35+H36) -> 99477
B37: =B36+1 -> 41658 | C37: DIMANCHE | G37: 0 | J37: =J36 -> 99477 | K37: =K36 -> 99477
C39: SOMME | E39: =IF(E36="",SUM(E35,-D31),SUM(E36,-D31)) -> 707 | F39: =SUM(F31:F36) -> 707 | G39: =SUM(G31:G37) -> 45 | H39: =SUM(H31:H36) -> 752 | I39: =I36 -> 0 | J39: =IF(E35="","",J27+F39) -> 2115 | K39: =IF(E35="","",K27+H39) -> 2115
A41: SEM | B41: =SUM(B29,1) -> 4
D42: MATIN | E42: SOIR | F42: KM JOUR | G42: KM PERSO JOUR | H42: KM A DECL | J42: REEL | K42: DECLARE
B43: =B37+1 -> 41659 | C43: LUNDI | D43: =IF(E36="",E35,E36) -> 99477 | E43: 99703 | F43: =IF(SUM(E43,-D43)<0,0,(SUM(E43,-D43))) -> 226 | G43: -50 | H43: =SUM(F43,G43) -> 176 | I43: =IF(K43="","",K43-J43) -> -50 | J43: =IF(E43="","",E43) -> 99703 | K43: =IF(E43="","",K37+H43) -> 99653
B44: =B43+1 -> 41660 | C44: MARDI | D44: =SUM(E43) -> 99703 | E44: 99808 | F44: =IF(SUM(E44,-D44)<0,0,(SUM(E44,-D44))) -> 105 | G44: 10 | H44: =SUM(F44,G44) -> 115 | I44: =IF(K44="","",K44-J44) -> -40 | J44: =IF(E44="","",E44) -> 99808 | K44: =IF(E44="","",K43+H44) -> 99768
B45: =B44+1 -> 41661 | C45: MERCREDI | D45: =SUM(E44) -> 99808 | E45: 99937 | F45: =IF(SUM(E45,-D45)<0,0,(SUM(E45,-D45))) -> 129 | G45: 0 | H45: =SUM(F45,G45) -> 129 | I45: =IF(K45="","",K45-J45) -> -40 | J45: =IF(E45="","",E45) -> 99937 | K45: =IF(E45="","",K44+H45) -> 99897
B46: =B45+1 -> 41662 | C46: JEUDI | D46: =SUM(E45) -> 99937 | E46: 100017 | F46: =IF(SUM(E46,-D46)<0,0,(SUM(E46,-D46))) -> 80 | G46: 40 | H46: =SUM(F46,G46) -> 120 | I46: =IF(K46="","",K46-J46) -> 0 | J46: =IF(E46="","",E46) -> 100017 | K46: =IF(E46="","",K45+H46) -> 100017
B47: =B46+1 -> 41663 | C47: VENDREDI | D47: =SUM(E46) -> 100017 | E47: 100175 | F47: =IF(SUM(E47,-D47)<0,0,(SUM(E47,-D47))) -> 158 | G47: 0 | H47: =SUM(F47,G47) -> 158 | I47: =IF(K47="","",K47-J47) -> 0 | J47: =IF(E47="","",E47) -> 100175 | K47: =IF(E47="","",K46+H47) -> 100175
B48: =B47+1 -> 41664 | C48: SAMEDI | D48: =IF(E48="","",SUM(E47)) | F48: =IF(E48="","",SUM(E48,-D48)) | G48: 0 | H48: =SUM(F48,G48) -> 0 | I48: =IF(K48="","",K48-J48) -> 0 | J48: =IF(E48="",E47,E48) -> 100175 | K48: =IF(K47="","",K47+H48) -> 100175
B49: =B48+1 -> 41665 | C49: DIMANCHE | G49: 0 | J49: =J48 -> 100175 | K49: =K48 -> 100175
C51: SOMME | E51: =IF(E48="",SUM(E47,-D43),SUM(E48,-D43)) -> 698 | F51: =SUM(F43:F48) -> 698 | G51: =SUM(G43:G48) -> 0 | H51: =SUM(H43:H48) -> 698 | I51: =I48 -> 0 | J51: =IF(E47="","",J39+F51) -> 2813 | K51: =IF(E47="","",K39+H51) -> 2813
A53: SEM | B53: =SUM(B41,1) -> 5
D54: MATIN | E54: SOIR | F54: KM JOUR | G54: KM PERSO JOUR | H54: KM A DECL | J54: REEL | K54: DECLARE
B55: =B49+1 -> 41666 | C55: LUNDI | D55: =IF(E48="",E47,E48) -> 100175 | E55: 100279 | F55: =IF(SUM(E55,-D55)<0,0,(SUM(E55,-D55))) -> 104 | G55: 0 | H55: =SUM(F55,G55) -> 104 | I55: =IF(K55="","",K55-J55) -> 0 | J55: =IF(E55="","",E55) -> 100279 | K55: =IF(E55="","",K49+H55) -> 100279
B56: =B55+1 -> 41667 | C56: MARDI | D56: =SUM(E55) -> 100279 | E56: 100400 | F56: =IF(SUM(E56,-D56)<0,0,(SUM(E56,-D56))) -> 121 | G56: 0 | H56: =SUM(F56,G56) -> 121 | I56: =IF(K56="","",K56-J56) -> 0 | J56: =IF(E56="","",E56) -> 100400 | K56: =IF(E56="","",K55+H56) -> 100400
B57: =B56+1 -> 41668 | C57: MERCREDI | D57: =SUM(E56) -> 100400 | E57: 100559 | F57: =IF(SUM(E57,-D57)<0,0,(SUM(E57,-D57))) -> 159 | G57: 0 | H57: =SUM(F57,G57) -> 159 | I57: =IF(K57="","",K57-J57) -> 0 | J57: =IF(E57="","",E57) -> 100559 | K57: =IF(E57="","",K56+H57) -> 100559
B58: =B57+1 -> 41669 | C58: JEUDI | D58: =SUM(E57) -> 100559 | E58: 100601 | F58: =IF(SUM(E58,-D58)<0,0,(SUM(E58,-D58))) -> 42 | G58: 0 | H58: =SUM(F58,G58) -> 42 | I58: =IF(K58="","",K58-J58) -> 0 | J58: =IF(E58="","",E58) -> 100601 | K58: =IF(E58="","",K57+H58) -> 100601
B59: =B58+1 -> 41670 | C59: VENDREDI | D59: =SUM(E58) -> 100601 | E59: 100743 | F59: =IF(SUM(E59,-D59)<0,0,(SUM(E59,-D59))) -> 142 | G59: 0 | H59: =SUM(F59,G59) -> 142 | I59: =IF(K59="","",K59-J59) -> 0 | J59: =IF(E59="","",E59) -> 100743 | K59: =IF(E59="","",K58+H59) -> 100743
B60: =B59+1 -> 41671 | C60: SAMEDI | D60: =IF(E60="","",SUM(E59)) | F60: =IF(E60="","",SUM(E60,-D60)) | G60: 0 | H60: =SUM(F60,G60) -> 0 | I60: =IF(K60="","",K60-J60) -> 0 | J60: =IF(E60="",E59,E60) -> 100743 | K60: =IF(K59="","",K59+H60) -> 100743
B61: =B60+1 -> 41672 | C61: DIMANCHE | G61: 0 | J61: =J60 -> 100743 | K61: =K60 -> 100743
C63: SOMME | E63: =IF(E60="",SUM(E59,-D55),SUM(E60,-D55)) -> 568 | F63: =SUM(F55:F60) -> 568 | G63: =SUM(G55:G60) -> 0 | H63: =SUM(H55:H60) -> 568 | I63: =I60 -> 0 | J63: =IF(E59="","",J51+F63) -> 3381 | K63: =IF(E59="","",K51+H63) -> 3381
A65: SEM | B65: =SUM(B53,1) -> 6
D66: MATIN | E66: SOIR | F66: KM JOUR | G66: KM PERSO JOUR | H66: KM A DECL | J66: REEL | K66: DECLARE
B67: =B61+1 -> 41673 | C67: LUNDI | D67: =IF(E60="",E59,E60) -> 100743 | E67: 100886 | F67: =IF(SUM(E67,-D67)<0,0,(SUM(E67,-D67))) -> 143 | G67: 0 | H67: =SUM(F67,G67) -> 143 | I67: =IF(K67="","",K67-J67) -> 0 | J67: =IF(E67="","",E67) -> 100886 | K67: =IF(E67="","",K61+H67) -> 100886
B68: =B67+1 -> 41674 | C68: MARDI | D68: =SUM(E67) -> 100886 | E68: 101018 | F68: =IF(SUM(E68,-D68)<0,0,(SUM(E68,-D68))) -> 132 | G68: 0 | H68: =SUM(F68,G68) -> 132 | I68: =IF(K68="","",K68-J68) -> 0 | J68: =IF(E68="","",E68) -> 101018 | K68: =IF(E68="","",K67+H68) -> 101018
B69: =B68+1 -> 41675 | C69: MERCREDI | D69: =SUM(E68) -> 101018 | E69: 101129 | F69: =IF(SUM(E69,-D69)<0,0,(SUM(E69,-D69))) -> 111 | G69: 0 | H69: =SUM(F69,G69) -> 111 | I69: =IF(K69="","",K69-J69) -> 0 | J69: =IF(E69="","",E69) -> 101129 | K69: =IF(E69="","",K68+H69) -> 101129
B70: =B69+1 -> 41676 | C70: JEUDI | D70: =SUM(E69) -> 101129 | E70: 102038 | F70: =IF(SUM(E70,-D70)<0,0,(SUM(E70,-D70))) -> 909 | G70: -715 | H70: =SUM(F70,G70) -> 194 | I70: =IF(K70="","",K70-J70) -> -715 | J70: =IF(E70="","",E70) -> 102038 | K70: =IF(E70="","",K69+H70) -> 101323
B71: =B70+1 -> 41677 | C71: VENDREDI | D71: =SUM(E70) -> 102038 | E71: 102158 | F71: =IF(SUM(E71,-D71)<0,0,(SUM(E71,-D71))) -> 120 | G71: 55 | H71: =SUM(F71,G71) -> 175 | I71: =IF(K71="","",K71-J71) -> -660 | J71: =IF(E71="","",E71) -> 102158 | K71: =IF(E71="","",K70+H71) -> 101498
B72: =B71+1 -> 41678 | C72: SAMEDI | D72: =IF(E72="","",SUM(E71)) | F72: =IF(E72="","",SUM(E72,-D72)) | G72: 0 | H72: =SUM(F72,G72) -> 0 | I72: =IF(J72="","",K72-J72) | J72: =IF(E72="","",E72) | K72: =IF(K71="","",K71+H72) -> 101498
B73: =B72+1 -> 41679 | C73: DIMANCHE | G73: 0 | J73: =J72 | K73: =K72 -> 101498
C75: SOMME | E75: =IF(E72="",SUM(E71,-D67),SUM(E72,-D67)) -> 1415 | F75: =SUM(F67:F72) -> 1415 | G75: =SUM(G67:G72) -> -660 | H75: =SUM(H67:H72) -> 755 | I75: =I72 | J75: =IF(E71="","",J63+F75) -> 4796 | K75: =IF(E71="","",K63+H75) -> 4136
A77: SEM | B77: =SUM(B65,1) -> 7
D78: MATIN | E78: SOIR | F78: KM JOUR | G78: KM PERSO JOUR | H78: KM A DECL | J78: REEL | K78: DECLARE
B79: =B73+1 -> 41680 | C79: LUNDI | D79: =IF(E72="",E71,E72) -> 102158 | E79: 102345 | F79: =IF(SUM(E79,-D79)<0,0,(SUM(E79,-D79))) -> 187 | G79: -30 | H79: =SUM(F79,G79) -> 157 | I79: =IF(K79="","",K79-J79) -> -690 | J79: =IF(E79="","",E79) -> 102345 | K79: =IF(E79="","",K73+H79) -> 101655
B80: =B79+1 -> 41681 | C80: MARDI | D80: =SUM(E79) -> 102345 | E80: 102463 | F80: =IF(SUM(E80,-D80)<0,0,(SUM(E80,-D80))) -> 118 | G80: 40 | H80: =SUM(F80,G80) -> 158 | I80: =IF(K80="","",K80-J80) -> -650 | J80: =IF(E80="","",E80) -> 102463 | K80: =IF(E80="","",K79+H80) -> 101813
B81: =B80+1 -> 41682 | C81: MERCREDI | D81: =SUM(E80) -> 102463 | E81: 102611 | F81: =IF(SUM(E81,-D81)<0,0,(SUM(E81,-D81))) -> 148 | G81: 10 | H81: =SUM(F81,G81) -> 158 | I81: =IF(K81="","",K81-J81) -> -640 | J81: =IF(E81="","",E81) -> 102611 | K81: =IF(E81="","",K80+H81) -> 101971
B82: =B81+1 -> 41683 | C82: JEUDI | D82: =SUM(E81) -> 102611 | E82: 102729 | F82: =IF(SUM(E82,-D82)<0,0,(SUM(E82,-D82))) -> 118 | G82: 40 | H82: =SUM(F82,G82) -> 158 | I82: =IF(K82="","",K82-J82) -> -600 | J82: =IF(E82="","",E82) -> 102729 | K82: =IF(E82="","",K81+H82) -> 102129
B83: =B82+1 -> 41684 | C83: VENDREDI | D83: =SUM(E82) -> 102729 | E83: 102851 | F83: =IF(SUM(E83,-D83)<0,0,(SUM(E83,-D83))) -> 122 | G83: 36 | H83: =SUM(F83,G83) -> 158 | I83: =IF(K83="","",K83-J83) -> -564 | J83: =IF(E83="","",E83) -> 102851 | K83: =IF(E83="","",K82+H83) -> 102287
B84: =B83+1 -> 41685 | C84: SAMEDI | D84: =IF(E84="","",SUM(E83)) | F84: =IF(E84="","",SUM(E84,-D84)) | G84: 0 | H84: =SUM(F84,G84) -> 0 | I84: =IF(K84="","",K84-J84) -> -564 | J84: =IF(E84="",E83,E84) -> 102851 | K84: =IF(K83="","",K83+H84) -> 102287
B85: =B84+1 -> 41686 | C85: DIMANCHE | G85: 0 | J85: =J84 -> 102851 | K85: =K84 -> 102287
C87: SOMME | E87: =IF(E84="",SUM(E83,-D79),SUM(E84,-D79)) -> 693 | F87: =SUM(F79:F84) -> 693 | G87: =SUM(G79:G84) -> 96 | H87: =SUM(H79:H84) -> 789 | I87: =I84 -> -564 | J87: =IF(E83="","",J75+F87) -> 5489 | K87: =IF(E83="","",K75+H87) -> 4925
A89: SEM | B89: =SUM(B77,1) -> 8
D90: MATIN | E90: SOIR | F90: KM JOUR | G90: KM PERSO JOUR | H90: KM A DECL | J90: REEL | K90: DECLARE
B91: =B85+1 -> 41687 | C91: LUNDI | D91: =IF(E84="",E83,E84) -> 102851 | E91: 103329 | F91: =IF(SUM(E91,-D91)<0,0,(SUM(E91,-D91))) -> 478 | G91: 100 | H91: =SUM(F91,G91) -> 578 | I91: =IF(K91="","",K91-J91) -> -464 | J91: =IF(E91="","",E91) -> 103329 | K91: =IF(E91="","",K85+H91) -> 102865
B92: =B91+1 -> 41688 | C92: MARDI | D92: =SUM(E91) -> 103329 | E92: 103475 | F92: =IF(SUM(E92,-D92)<0,0,(SUM(E92,-D92))) -> 146 | G92: 12 | H92: =SUM(F92,G92) -> 158 | I92: =IF(K92="","",K92-J92) -> -452 | J92: =IF(E92="","",E92) -> 103475 | K92: =IF(E92="","",K91+H92) -> 103023
B93: =B92+1 -> 41689 | C93: MERCREDI | D93: =SUM(E92) -> 103475 | E93: 103708 | F93: =IF(SUM(E93,-D93)<0,0,(SUM(E93,-D93))) -> 233 | G93: -75 | H93: =SUM(F93,G93) -> 158 | I93: =IF(K93="","",K93-J93) -> -527 | J93: =IF(E93="","",E93) -> 103708 | K93: =IF(E93="","",K92+H93) -> 103181
B94: =B93+1 -> 41690 | C94: JEUDI | D94: =SUM(E93) -> 103708 | E94: 103851 | F94: =IF(SUM(E94,-D94)<0,0,(SUM(E94,-D94))) -> 143 | G94: 15 | H94: =SUM(F94,G94) -> 158 | I94: =IF(K94="","",K94-J94) -> -512 | J94: =IF(E94="","",E94) -> 103851 | K94: =IF(E94="","",K93+H94) -> 103339
B95: =B94+1 -> 41691 | C95: VENDREDI | D95: =SUM(E94) -> 103851 | E95: 103996 | F95: =IF(SUM(E95,-D95)<0,0,(SUM(E95,-D95))) -> 145 | G95: 30 | H95: =SUM(F95,G95) -> 175 | I95: =IF(K95="","",K95-J95) -> -482 | J95: =IF(E95="","",E95) -> 103996 | K95: =IF(E95="","",K94+H95) -> 103514
B96: =B95+1 -> 41692 | C96: SAMEDI | D96: =IF(E96="","",SUM(E95)) | F96: =IF(E96="","",SUM(E96,-D96)) | G96: 0 | H96: =SUM(F96,G96) -> 0 | I96: =IF(K96="","",K96-J96) -> -482 | J96: =IF(E96="",E95,E96) -> 103996 | K96: =IF(K95="","",K95+H96) -> 103514
B97: =B96+1 -> 41693 | C97: DIMANCHE | G97: 0 | J97: =J96 -> 103996 | K97: =K96 -> 103514
C99: SOMME | E99: =IF(E96="",SUM(E95,-D91),SUM(E96,-D91)) -> 1145 | F99: =SUM(F91:F96) -> 1145 | G99: =SUM(G91:G96) -> 82 | H99: =SUM(H91:H96) -> 1227 | I99: =I96 -> -482 | J99: =IF(E95="","",J87+F99) -> 6634 | K99: =IF(E95="","",K87+H99) -> 6152
A101: SEM | B101: =SUM(B89,1) -> 9
D102: MATIN | E102: SOIR | F102: KM JOUR | G102: KM PERSO JOUR | H102: KM A DECL | J102: REEL | K102: DECLARE
B103: =B97+1 -> 41694 | C103: LUNDI | D103: =IF(E96="",E95,E96) -> 103996 | E103: 104070 | F103: =IF(SUM(E103,-D103)<0,0,(SUM(E103,-D103))) -> 74 | G103: 25 | H103: =SUM(F103,G103) -> 99 | I103: =IF(K103="","",K103-J103) -> -457 | J103: =IF(E103="","",E103) -> 104070 | K103: =IF(E103="","",K97+H103) -> 103613
B104: =B103+1 -> 41695 | C104: MARDI | D104: =SUM(E103) -> 104070 | E104: 104119 | F104: =IF(SUM(E104,-D104)<0,0,(SUM(E104,-D104))) -> 49 | G104: 25 | H104: =SUM(F104,G104) -> 74 | I104: =IF(K104="","",K104-J104) -> -432 | J104: =IF(E104="","",E104) -> 104119 | K104: =IF(E104="","",K103+H104) -> 103687
B105: =B104+1 -> 41696 | C105: MERCREDI | D105: =SUM(E104) -> 104119 | E105: 104171 | F105: =IF(SUM(E105,-D105)<0,0,(SUM(E105,-D105))) -> 52 | G105: 25 | H105: =SUM(F105,G105) -> 77 | I105: =IF(K105="","",K105-J105) -> -407 | J105: =IF(E105="","",E105) -> 104171 | K105: =IF(E105="","",K104+H105) -> 103764
B106: =B105+1 -> 41697 | C106: JEUDI | D106: =SUM(E105) -> 104171 | E106: 104296 | F106: =IF(SUM(E106,-D106)<0,0,(SUM(E106,-D106))) -> 125 | G106: 20 | H106: =SUM(F106,G106) -> 145 | I106: =IF(K106="","",K106-J106) -> -387 | J106: =IF(E106="","",E106) -> 104296 | K106: =IF(E106="","",K105+H106) -> 103909
B107: =B106+1 -> 41698 | C107: VENDREDI | D107: =SUM(E106) -> 104296 | E107: 104296 | F107: =IF(SUM(E107,-D107)<0,0,(SUM(E107,-D107))) -> 0 | G107: 0 | H107: =SUM(F107,G107) -> 0 | I107: =IF(K107="","",K107-J107) -> -387 | J107: =IF(E107="","",E107) -> 104296 | K107: =IF(E107="","",K106+H107) -> 103909
B108: =B107+1 -> 41699 | C108: SAMEDI | D108: =IF(E108="","",SUM(E107)) | F108: =IF(E108="","",SUM(E108,-D108)) | G108: 0 | H108: =SUM(F108,G108) -> 0 | I108: =IF(K108="","",K108-J108) -> -387 | J108: =IF(E108="",E107,E108) -> 104296 | K108: =IF(K107="","",K107+H108) -> 103909
B109: =B108+1 -> 41700 | C109: DIMANCHE | J109: =J108 -> 104296 | K109: =K108 -> 103909
C111: SOMME | E111: =IF(E108="",SUM(E107,-D103),SUM(E108,-D103)) -> 300 | F111: =SUM(F103:F108) -> 300 | G111: =SUM(G103:G108) -> 95 | H111: =SUM(H103:H108) -> 395 | I111: =I108 -> -387 | J111: =IF(E107="","",J99+F111) -> 6934 | K111: =IF(E107="","",K99+H111) -> 6547
A113: SEM | B113: =SUM(B101,1) -> 10
D114: MATIN | E114: SOIR | F114: KM JOUR | G114: KM PERSO JOUR | H114: KM A DECL | J114: REEL | K114: DECLARE
B115: =B109+1 -> 41701 | C115: LUNDI | D115: =IF(E108="",E107,E108) -> 104296 | E115: 104296 | F115: =IF(SUM(E115,-D115)<0,0,(SUM(E115,-D115))) -> 0 | G115: 0 | H115: =SUM(F115,G115) -> 0 | I115: =IF(K115="","",K115-J115) -> -387 | J115: =IF(E115="","",E115) -> 104296 | K115: =IF(E115="","",K109+H115) -> 103909
B116: =B115+1 -> 41702 | C116: MARDI | D116: =SUM(E115) -> 104296 | E116: 104296 | F116: =IF(SUM(E116,-D116)<0,0,(SUM(E116,-D116))) -> 0 | G116: 0 | H116: =SUM(F116,G116) -> 0 | I116: =IF(K116="","",K116-J116) -> -387 | J116: =IF(E116="","",E116) -> 104296 | K116: =IF(E116="","",K115+H116) -> 103909
B117: =B116+1 -> 41703 | C117: MERCREDI | D117: =SUM(E116) -> 104296 | E117: 104296 | F117: =IF(SUM(E117,-D117)<0,0,(SUM(E117,-D117))) -> 0 | G117: 0 | H117: =SUM(F117,G117) -> 0 | I117: =IF(K117="","",K117-J117) -> -387 | J117: =IF(E117="","",E117) -> 104296 | K117: =IF(E117="","",K116+H117) -> 103909
B118: =B117+1 -> 41704 | C118: JEUDI | D118: =SUM(E117) -> 104296 | E118: 104296 | F118: =IF(SUM(E118,-D118)<0,0,(SUM(E118,-D118))) -> 0 | G118: 0 | H118: =SUM(F118,G118) -> 0 | I118: =IF(K118="","",K118-J118) -> -387 | J118: =IF(E118="","",E118) -> 104296 | K118: =IF(E118="","",K117+H118) -> 103909
B119: =B118+1 -> 41705 | C119: VENDREDI | D119: =SUM(E118) -> 104296 | E119: 104296 | F119: =IF(SUM(E119,-D119)<0,0,(SUM(E119,-D119))) -> 0 | G119: 0 | H119: =SUM(F119,G119) -> 0 | I119: =IF(K119="","",K119-J119) -> -387 | J119: =IF(E119="","",E119) -> 104296 | K119: =IF(E119="","",K118+H119) -> 103909
...
