Workbook

Sheet Client
A1: Code client | B1: Société | C1: Contact | D1: Adresse postale | E1: Code postal - Ville | F1: Adresse mail | G1: Tél | H1: Mode de règlement | L1: Mode de règlement possible
A2: 1 | B2: OODJI | C2: ARNOLD | D2: 12 Place de la Défense | E2: 92400 - Courbevoie | F2: arnold.jeremy@oodji.com | G2: 272050625 | H2: 30 jours | L2: 30 jours
A3: 2 | B3: ERPARIS | C3: JUNIOR | D3: 1 avenue Porte de Champerret | E3: 75017 - Paris | F3: junior.eric@hec.fr | G3: 155640287 | H3: 60 jours | L3: 40 jours
L4: 60 jours

Sheet Produits
A1: Référence | B1: Désignation | C1: Département | D1: Sérigraphie | E1: Prix | H1: Tailles
A2: TMC_CT_1 | B2: T-shirts MC | C2: C&T | D2: oui | E2: 15 | H2: XS
A3: TMC_CT_2 | B3: T-shirts MC | C3: C&T | D3: non | E3: 12 | H3: S
A4: TMC_M_1 | B4: T-shirts MC | C4: M | D4: oui | E4: 15 | H4: M
A5: TMC_M_2 | B5: T-shirts MC | C5: M | D5: non | E5: 12 | H5: L
H6: XL
H7: XXL
H8: XXXL

Sheet Saisie des Commandes
A1: N° de commande | B1: Date de comande | C1: Code client | D1: Réf. | E1: Désignation produit | F1: Département | G1: Sérigraphie | H1: Quantité | I1: Taille | J1: Prix unitaire | K1: Date de livraison souhaitée | L1: Commentaires
A2: 10 | B2: 42144 | C2: 1 | D2: TMC_CT_1 | E2: =IFERROR(VLOOKUP($D2,Produits!$A$2:$E$5,2,0),"") -> T-shirts MC | F2: =IFERROR(VLOOKUP($D2,Produits!$A$2:$E$5,3,0),"") -> C&T | G2: =IFERROR(VLOOKUP($D2,Produits!$A$2:$E$5,4,0),"") -> oui | H2: 10000 | I2: M | J2: =IFERROR(VLOOKUP($D2,Produits!$A$2:$E$5,5,0),"") -> 15 | K2: 42152
A3: 11 | B3: 42145 | C3: 2 | D3: TMC_M_1 | E3: =IFERROR(VLOOKUP($D3,Produits!$A$2:$E$5,2,0),"") -> T-shirts MC | F3: =IFERROR(VLOOKUP($D3,Produits!$A$2:$E$5,3,0),"") -> M | G3: =IFERROR(VLOOKUP($D3,Produits!$A$2:$E$5,4,0),"") -> oui | H3: 9000 | I3: XL | J3: =IFERROR(VLOOKUP($D3,Produits!$A$2:$E$5,5,0),"") -> 15 | K3: 42152
A4: 11 | B4: 42145 | C4: 2 | D4: TMC_M_2 | E4: =IFERROR(VLOOKUP($D4,Produits!$A$2:$E$5,2,0),"") -> T-shirts MC | F4: =IFERROR(VLOOKUP($D4,Produits!$A$2:$E$5,3,0),"") -> M | G4: =IFERROR(VLOOKUP($D4,Produits!$A$2:$E$5,4,0),"") -> non | H4: 15000 | I4: L | J4: =IFERROR(VLOOKUP($D4,Produits!$A$2:$E$5,5,0),"") -> 12 | K4: 42152
A5: 11 | B5: 42145 | C5: 2 | D5: TMC_M_2 | E5: =IFERROR(VLOOKUP($D5,Produits!$A$2:$E$5,2,0),"") -> T-shirts MC | F5: =IFERROR(VLOOKUP($D5,Produits!$A$2:$E$5,3,0),"") -> M | G5: =IFERROR(VLOOKUP($D5,Produits!$A$2:$E$5,4,0),"") -> non | H5: 6000 | I5: M | J5: =IFERROR(VLOOKUP($D5,Produits!$A$2:$E$5,5,0),"") -> 12 | K5: 42152
E6: =IFERROR(VLOOKUP($D6,Produits!$A$2:$E$5,2,0),"") | F6: =IFERROR(VLOOKUP($D6,Produits!$A$2:$E$5,3,0),"") | G6: =IFERROR(VLOOKUP($D6,Produits!$A$2:$E$5,4,0),"") | J6: =IFERROR(VLOOKUP($D6,Produits!$A$2:$E$5,5,0),"")
E7: =IFERROR(VLOOKUP($D7,Produits!$A$2:$E$5,2,0),"") | F7: =IFERROR(VLOOKUP($D7,Produits!$A$2:$E$5,3,0),"") | G7: =IFERROR(VLOOKUP($D7,Produits!$A$2:$E$5,4,0),"") | J7: =IFERROR(VLOOKUP($D7,Produits!$A$2:$E$5,5,0),"")
E8: =IFERROR(VLOOKUP($D8,Produits!$A$2:$E$5,2,0),"") | F8: =IFERROR(VLOOKUP($D8,Produits!$A$2:$E$5,3,0),"") | G8: =IFERROR(VLOOKUP($D8,Produits!$A$2:$E$5,4,0),"") | J8: =IFERROR(VLOOKUP($D8,Produits!$A$2:$E$5,5,0),"")
E9: =IFERROR(VLOOKUP($D9,Produits!$A$2:$E$5,2,0),"") | F9: =IFERROR(VLOOKUP($D9,Produits!$A$2:$E$5,3,0),"") | G9: =IFERROR(VLOOKUP($D9,Produits!$A$2:$E$5,4,0),"") | J9: =IFERROR(VLOOKUP($D9,Produits!$A$2:$E$5,5,0),"")
E10: =IFERROR(VLOOKUP($D10,Produits!$A$2:$E$5,2,0),"") | F10: =IFERROR(VLOOKUP($D10,Produits!$A$2:$E$5,3,0),"") | G10: =IFERROR(VLOOKUP($D10,Produits!$A$2:$E$5,4,0),"") | J10: =IFERROR(VLOOKUP($D10,Produits!$A$2:$E$5,5,0),"")
E11: =IFERROR(VLOOKUP($D11,Produits!$A$2:$E$5,2,0),"") | F11: =IFERROR(VLOOKUP($D11,Produits!$A$2:$E$5,3,0),"") | G11: =IFERROR(VLOOKUP($D11,Produits!$A$2:$E$5,4,0),"") | J11: =IFERROR(VLOOKUP($D11,Produits!$A$2:$E$5,5,0),"")
E12: =IFERROR(VLOOKUP($D12,Produits!$A$2:$E$5,2,0),"") | F12: =IFERROR(VLOOKUP($D12,Produits!$A$2:$E$5,3,0),"") | G12: =IFERROR(VLOOKUP($D12,Produits!$A$2:$E$5,4,0),"") | J12: =IFERROR(VLOOKUP($D12,Produits!$A$2:$E$5,5,0),"")
E13: =IFERROR(VLOOKUP($D13,Produits!$A$2:$E$5,2,0),"") | F13: =IFERROR(VLOOKUP($D13,Produits!$A$2:$E$5,3,0),"") | G13: =IFERROR(VLOOKUP($D13,Produits!$A$2:$E$5,4,0),"") | J13: =IFERROR(VLOOKUP($D13,Produits!$A$2:$E$5,5,0),"")
E14: =IFERROR(VLOOKUP($D14,Produits!$A$2:$E$5,2,0),"") | F14: =IFERROR(VLOOKUP($D14,Produits!$A$2:$E$5,3,0),"") | G14: =IFERROR(VLOOKUP($D14,Produits!$A$2:$E$5,4,0),"") | J14: =IFERROR(VLOOKUP($D14,Produits!$A$2:$E$5,5,0),"")
E15: =IFERROR(VLOOKUP($D15,Produits!$A$2:$E$5,2,0),"") | F15: =IFERROR(VLOOKUP($D15,Produits!$A$2:$E$5,3,0),"") | G15: =IFERROR(VLOOKUP($D15,Produits!$A$2:$E$5,4,0),"") | J15: =IFERROR(VLOOKUP($D15,Produits!$A$2:$E$5,5,0),"")
E16: =IFERROR(VLOOKUP($D16,Produits!$A$2:$E$5,2,0),"") | F16: =IFERROR(VLOOKUP($D16,Produits!$A$2:$E$5,3,0),"") | G16: =IFERROR(VLOOKUP($D16,Produits!$A$2:$E$5,4,0),"") | J16: =IFERROR(VLOOKUP($D16,Produits!$A$2:$E$5,5,0),"")
E17: =IFERROR(VLOOKUP($D17,Produits!$A$2:$E$5,2,0),"") | F17: =IFERROR(VLOOKUP($D17,Produits!$A$2:$E$5,3,0),"") | G17: =IFERROR(VLOOKUP($D17,Produits!$A$2:$E$5,4,0),"") | J17: =IFERROR(VLOOKUP($D17,Produits!$A$2:$E$5,5,0),"")
... E31: =IFERROR(VLOOKUP($D31,Produits!$A$2:$E$5,2,0),"") | F31: =IFERROR(VLOOKUP($D31,Produits!$A$2:$E$5,3,0),"") | G31: =IFERROR(VLOOKUP($D31,Produits!$A$2:$E$5,4,0),"") | J31: =IFERROR(VLOOKUP($D31,Produits!$A$2:$E$5,5,0),"")

Sheet Bon de commande
H1: BON DE COMMANDE
H3: N° | I3: 11
H4: Date | I4: =IFERROR(VLOOKUP($I$3,'Saisie des Commandes'!$A:$L,2,0),) -> 42145
A7: ERP Paris | H7: N° Client : | I7: =IFERROR(VLOOKUP($I$3,'Saisie des Commandes'!$A:$L,3,0),) -> 2
A8: 6 avenue Porte de Champerret | H8: Nom / Societe : | I8: =IFERROR(VLOOKUP($I$7,Client!$A$2:$H$25,2,0),0) -> ERPARIS
A9: 75017 Paris | H9: Adresse : | I9: =IFERROR(VLOOKUP($I$7,Client!$A$2:$H$25,4,0),0) -> 1 avenue Porte de Champerret
A10: Tel : 06 66 66 66 66 | H10: Code postal – Ville : | I10: =IFERROR(VLOOKUP($I$7,Client!$A$2:$H$25,5,0),0) -> 75017 - Paris
H11: Contact : | I11: =IFERROR(VLOOKUP($I$7,Client!$A$2:$H$25,3,0),0) -> JUNIOR
A12: ERPPARIS@gmail.com | H12: Téléphone : | I12: =IFERROR(VLOOKUP($I$7,Client!$A$2:$H$25,7,0),0) -> 155640287
H13: E-mail : | I13: =IFERROR(VLOOKUP($I$7,Client!$A$2:$H$25,6,0),0) -> junior.eric@hec.fr
A15: Nom de la société (ou logo) | I15: BON DE COMMANDE
I17: N°
I18: Date
I19: N° tva intracommunautaire
A24: 4 Avenue Paul Valery | G24: Nom / Societe :
A25: 34720 Caux | G25: Adresse :
A26: Tel : 06 84 47 93 17
H27: Code postal – Ville :
G28: Téléphone :
H29: Fax :
G30: E-mail :
G31: N° siret :
A34: Ref | B34: Désignation | H34: Qté | I34: Prix unitaire HT | J34: Rem | K34: Prix unitaire HT R | L34: Total HT
A36: =VLOOKUP(I3,'Saisie des Commandes'!A:K,1,0) -> 11 | B36: =VLOOKUP($I$3,'Saisie des Commandes'!A:L,5,0) -> T-shirts MC | H36: =VLOOKUP($I$3,'Saisie des Commandes'!A:L,8,0) -> 9000 | I36: =VLOOKUP($I$3,'Saisie des Commandes'!A:L,10,0) -> 15 | K36: =I36 -> 15 | L36: =I36*H36 -> 135000
B48: FRAIS DE PORT | H48: 1
J50: Total HT | L50: =SUM(L36:L48) -> 135000
J51: TVA 20% | L51: =L50*0.2 -> 27000
J52: Total TTC | L52: =L50+L51 -> 162000
