Workbook
Name legumes: Prix!$B$2:$B$40
Name PU: Prix!$D$2:$D$40
Name unite: Unite!$A$1:$A$4

Sheet Prix
B1: Légume | C1: Unité | D1: Prix | E1: Mai | F1: Juin | G1: Juillet | H1: Août | I1: Septembre | J1: Octobre | K1: Novembre | L1: Décembre
A2: =B2&C2 -> carottesBotte | B2: carottes | C2: Botte | D2: 2.5 | E2: =IF(ISERROR(VLOOKUP($A2,INDIRECT(E$1&"!A5:Z100"),MATCH("Quantité nécessaire",INDIRECT(E$1&"!A2:z2"),0),FALSE)),"",VLOOKUP($A2,INDIRECT(E$1&"!A5:Z100"),MATCH("Quantité nécessaire",INDIRECT(E$1&"!A2:z2"),0),FALSE)) -> 30 | F2: =IF(ISERROR(VLOOKUP($A2,INDIRECT(F$1&"!A5:Z100"),MATCH("Quantité nécessaire",INDIRECT(F$1&"!A2:z2"),0),FALSE)),"",VLOOKUP($A2,INDIRECT(F$1&"!A5:Z100"),MATCH("Quantité nécessaire",INDIRECT(F$1&"!A2:z2"),0),FALSE)) -> 150 | G2: =IF(ISERROR(VLOOKUP($A2,INDIRECT(G$1&"!A5:Z100"),MATCH("Quantité nécessaire",INDIRECT(G$1&"!A2:z2"),0),FALSE)),"",VLOOKUP($A2,INDIRECT(G$1&"!A5:Z100"),MATCH("Quantité nécessaire",INDIRECT(G$1&"!A2:z2"),0),FALSE)) | H2: =IF(ISERROR(VLOOKUP($A2,INDIRECT(H$1&"!A5:Z100"),MATCH("Quantité nécessaire",INDIRECT(H$1&"!A2:z2"),0),FALSE)),"",VLOOKUP($A2,INDIRECT(H$1&"!A5:Z100"),MATCH("Quantité nécessaire",INDIRECT(H$1&"!A2:z2"),0),FALSE)) -> 30 | I2: =IF(ISERROR(VLOOKUP($A2,INDIRECT(I$1&"!A5:Z100"),MATCH("Quantité nécessaire",INDIRECT(I$1&"!A2:z2"),0),FALSE)),"",VLOOKUP($A2,INDIRECT(I$1&"!A5:Z100"),MATCH("Quantité nécessaire",INDIRECT(I$1&"!A2:z2"),0),FALSE)) | J2: =IF(ISERROR(VLOOKUP($A2,INDIRECT(J$1&"!A5:Z100"),MATCH("Quantité nécessaire",INDIRECT(J$1&"!A2:z2"),0),FALSE)),"",VLOOKUP($A2,INDIRECT(J$1&"!A5:Z100"),MATCH("Quantité nécessaire",INDIRECT(J$1&"!A2:z2"),0),FALSE)) | K2: =IF(ISERROR(VLOOKUP($A2,INDIRECT(K$1&"!A5:Z100"),MATCH("Quantité nécessaire",INDIRECT(K$1&"!A2:z2"),0),FALSE)),"",VLOOKUP($A2,INDIRECT(K$1&"!A5:Z100"),MATCH("Quantité nécessaire",INDIRECT(K$1&"!A2:z2"),0),FALSE)) | L2: =IF(ISERROR(VLOOKUP($A2,INDIRECT(L$1&"!A5:Z100"),MATCH("Quantité nécessaire",INDIRECT(L$1&"!A2:z2"),0),FALSE)),"",VLOOKUP($A2,INDIRECT(L$1&"!A5:Z100"),MATCH("Quantité nécessaire",INDIRECT(L$1&"!A2:z2"),0),FALSE))
A3: =B3&C3 -> carottesKg | B3: carottes | C3: Kg | D3: 3 | E3: =IF(ISERROR(VLOOKUP($A3,INDIRECT(E$1&"!A5:Z100"),MATCH("Quantité nécessaire",INDIRECT(E$1&"!A2:z2"),0),FALSE)),"",VLOOKUP($A3,INDIRECT(E$1&"!A5:Z100"),MATCH("Quantité nécessaire",INDIRECT(E$1&"!A2:z2"),0),FALSE)) -> 30 | F3: =IF(ISERROR(VLOOKUP($A3,INDIRECT(F$1&"!A5:Z100"),MATCH("Quantité nécessaire",INDIRECT(F$1&"!A2:z2"),0),FALSE)),"",VLOOKUP($A3,INDIRECT(F$1&"!A5:Z100"),MATCH("Quantité nécessaire",INDIRECT(F$1&"!A2:z2"),0),FALSE)) -> 0 | G3: =IF(ISERROR(VLOOKUP($A3,INDIRECT(G$1&"!A5:Z100"),MATCH("Quantité nécessaire",INDIRECT(G$1&"!A2:z2"),0),FALSE)),"",VLOOKUP($A3,INDIRECT(G$1&"!A5:Z100"),MATCH("Quantité nécessaire",INDIRECT(G$1&"!A2:z2"),0),FALSE)) -> 60 | H3: =IF(ISERROR(VLOOKUP($A3,INDIRECT(H$1&"!A5:Z100"),MATCH("Quantité nécessaire",INDIRECT(H$1&"!A2:z2"),0),FALSE)),"",VLOOKUP($A3,INDIRECT(H$1&"!A5:Z100"),MATCH("Quantité nécessaire",INDIRECT(H$1&"!A2:z2"),0),FALSE)) | I3: =IF(ISERROR(VLOOKUP($A3,INDIRECT(I$1&"!A5:Z100"),MATCH("Quantité nécessaire",INDIRECT(I$1&"!A2:z2"),0),FALSE)),"",VLOOKUP($A3,INDIRECT(I$1&"!A5:Z100"),MATCH("Quantité nécessaire",INDIRECT(I$1&"!A2:z2"),0),FALSE)) -> 0 | J3: =IF(ISERROR(VLOOKUP($A3,INDIRECT(J$1&"!A5:Z100"),MATCH("Quantité nécessaire",INDIRECT(J$1&"!A2:z2"),0),FALSE)),"",VLOOKUP($A3,INDIRECT(J$1&"!A5:Z100"),MATCH("Quantité nécessaire",INDIRECT(J$1&"!A2:z2"),0),FALSE)) -> 0 | K3: =IF(ISERROR(VLOOKUP($A3,INDIRECT(K$1&"!A5:Z100"),MATCH("Quantité nécessaire",INDIRECT(K$1&"!A2:z2"),0),FALSE)),"",VLOOKUP($A3,INDIRECT(K$1&"!A5:Z100"),MATCH("Quantité nécessaire",INDIRECT(K$1&"!A2:z2"),0),FALSE)) | L3: =IF(ISERROR(VLOOKUP($A3,INDIRECT(L$1&"!A5:Z100"),MATCH("Quantité nécessaire",INDIRECT(L$1&"!A2:z2"),0),FALSE)),"",VLOOKUP($A3,INDIRECT(L$1&"!A5:Z100"),MATCH("Quantité nécessaire",INDIRECT(L$1&"!A2:z2"),0),FALSE))
A4: =B4&C4 -> oignonsBotte | B4: oignons | C4: Botte | D4: 3 | E4: =IF(ISERROR(VLOOKUP($A4,INDIRECT(E$1&"!A5:Z100"),MATCH("Quantité nécessaire",INDIRECT(E$1&"!A2:z2"),0),FALSE)),"",VLOOKUP($A4,INDIRECT(E$1&"!A5:Z100"),MATCH("Quantité nécessaire",INDIRECT(E$1&"!A2:z2"),0),FALSE)) -> 30 | F4: =IF(ISERROR(VLOOKUP($A4,INDIRECT(F$1&"!A5:Z100"),MATCH("Quantité nécessaire",INDIRECT(F$1&"!A2:z2"),0),FALSE)),"",VLOOKUP($A4,INDIRECT(F$1&"!A5:Z100"),MATCH("Quantité nécessaire",INDIRECT(F$1&"!A2:z2"),0),FALSE)) -> 60 | G4: =IF(ISERROR(VLOOKUP($A4,INDIRECT(G$1&"!A5:Z100"),MATCH("Quantité nécessaire",INDIRECT(G$1&"!A2:z2"),0),FALSE)),"",VLOOKUP($A4,INDIRECT(G$1&"!A5:Z100"),MATCH("Quantité nécessaire",INDIRECT(G$1&"!A2:z2"),0),FALSE)) | H4: =IF(ISERROR(VLOOKUP($A4,INDIRECT(H$1&"!A5:Z100"),MATCH("Quantité nécessaire",INDIRECT(H$1&"!A2:z2"),0),FALSE)),"",VLOOKUP($A4,INDIRECT(H$1&"!A5:Z100"),MATCH("Quantité nécessaire",INDIRECT(H$1&"!A2:z2"),0),FALSE)) | I4: =IF(ISERROR(VLOOKUP($A4,INDIRECT(I$1&"!A5:Z100"),MATCH("Quantité nécessaire",INDIRECT(I$1&"!A2:z2"),0),FALSE)),"",VLOOKUP($A4,INDIRECT(I$1&"!A5:Z100"),MATCH("Quantité nécessaire",INDIRECT(I$1&"!A2:z2"),0),FALSE)) | J4: =IF(ISERROR(VLOOKUP($A4,INDIRECT(J$1&"!A5:Z100"),MATCH("Quantité nécessaire",INDIRECT(J$1&"!A2:z2"),0),FALSE)),"",VLOOKUP($A4,INDIRECT(J$1&"!A5:Z100"),MATCH("Quantité nécessaire",INDIRECT(J$1&"!A2:z2"),0),FALSE)) | K4: =IF(ISERROR(VLOOKUP($A4,INDIRECT(K$1&"!A5:Z100"),MATCH("Quantité nécessaire",INDIRECT(K$1&"!A2:z2"),0),FALSE)),"",VLOOKUP($A4,INDIRECT(K$1&"!A5:Z100"),MATCH("Quantité nécessaire",INDIRECT(K$1&"!A2:z2"),0),FALSE)) | L4: =IF(ISERROR(VLOOKUP($A4,INDIRECT(L$1&"!A5:Z100"),MATCH("Quantité nécessaire",INDIRECT(L$1&"!A2:z2"),0),FALSE)),"",VLOOKUP($A4,INDIRECT(L$1&"!A5:Z100"),MATCH("Quantité nécessaire",INDIRECT(L$1&"!A2:z2"),0),FALSE))
A5: =B5&C5 -> oignonsKg | B5: oignons | C5: Kg | D5: 4.5 | E5: =IF(ISERROR(VLOOKUP($A5,INDIRECT(E$1&"!A5:Z100"),MATCH("Quantité nécessaire",INDIRECT(E$1&"!A2:z2"),0),FALSE)),"",VLOOKUP($A5,INDIRECT(E$1&"!A5:Z100"),MATCH("Quantité nécessaire",INDIRECT(E$1&"!A2:z2"),0),FALSE)) | F5: =IF(ISERROR(VLOOKUP($A5,INDIRECT(F$1&"!A5:Z100"),MATCH("Quantité nécessaire",INDIRECT(F$1&"!A2:z2"),0),FALSE)),"",VLOOKUP($A5,INDIRECT(F$1&"!A5:Z100"),MATCH("Quantité nécessaire",INDIRECT(F$1&"!A2:z2"),0),FALSE)) -> 300 | G5: =IF(ISERROR(VLOOKUP($A5,INDIRECT(G$1&"!A5:Z100"),MATCH("Quantité nécessaire",INDIRECT(G$1&"!A2:z2"),0),FALSE)),"",VLOOKUP($A5,INDIRECT(G$1&"!A5:Z100"),MATCH("Quantité nécessaire",INDIRECT(G$1&"!A2:z2"),0),FALSE)) | H5: =IF(ISERROR(VLOOKUP($A5,INDIRECT(H$1&"!A5:Z100"),MATCH("Quantité nécessaire",INDIRECT(H$1&"!A2:z2"),0),FALSE)),"",VLOOKUP($A5,INDIRECT(H$1&"!A5:Z100"),MATCH("Quantité nécessaire",INDIRECT(H$1&"!A2:z2"),0),FALSE)) | I5: =IF(ISERROR(VLOOKUP($A5,INDIRECT(I$1&"!A5:Z100"),MATCH("Quantité nécessaire",INDIRECT(I$1&"!A2:z2"),0),FALSE)),"",VLOOKUP($A5,INDIRECT(I$1&"!A5:Z100"),MATCH("Quantité nécessaire",INDIRECT(I$1&"!A2:z2"),0),FALSE)) | J5: =IF(ISERROR(VLOOKUP($A5,INDIRECT(J$1&"!A5:Z100"),MATCH("Quantité nécessaire",INDIRECT(J$1&"!A2:z2"),0),FALSE)),"",VLOOKUP($A5,INDIRECT(J$1&"!A5:Z100"),MATCH("Quantité nécessaire",INDIRECT(J$1&"!A2:z2"),0),FALSE)) | K5: =IF(ISERROR(VLOOKUP($A5,INDIRECT(K$1&"!A5:Z100"),MATCH("Quantité nécessaire",INDIRECT(K$1&"!A2:z2"),0),FALSE)),"",VLOOKUP($A5,INDIRECT(K$1&"!A5:Z100"),MATCH("Quantité nécessaire",INDIRECT(K$1&"!A2:z2"),0),FALSE)) | L5: =IF(ISERROR(VLOOKUP($A5,INDIRECT(L$1&"!A5:Z100"),MATCH("Quantité nécessaire",INDIRECT(L$1&"!A2:z2"),0),FALSE)),"",VLOOKUP($A5,INDIRECT(L$1&"!A5:Z100"),MATCH("Quantité nécessaire",INDIRECT(L$1&"!A2:z2"),0),FALSE))
A6: =B6&C6 -> persilBqt | B6: persil | C6: Bqt | D6: 1 | E6: =IF(ISERROR(VLOOKUP($A6,INDIRECT(E$1&"!A5:Z100"),MATCH("Quantité nécessaire",INDIRECT(E$1&"!A2:z2"),0),FALSE)),"",VLOOKUP($A6,INDIRECT(E$1&"!A5:Z100"),MATCH("Quantité nécessaire",INDIRECT(E$1&"!A2:z2"),0),FALSE)) | F6: =IF(ISERROR(VLOOKUP($A6,INDIRECT(F$1&"!A5:Z100"),MATCH("Quantité nécessaire",INDIRECT(F$1&"!A2:z2"),0),FALSE)),"",VLOOKUP($A6,INDIRECT(F$1&"!A5:Z100"),MATCH("Quantité nécessaire",INDIRECT(F$1&"!A2:z2"),0),FALSE)) | G6: =IF(ISERROR(VLOOKUP($A6,INDIRECT(G$1&"!A5:Z100"),MATCH("Quantité nécessaire",INDIRECT(G$1&"!A2:z2"),0),FALSE)),"",VLOOKUP($A6,INDIRECT(G$1&"!A5:Z100"),MATCH("Quantité nécessaire",INDIRECT(G$1&"!A2:z2"),0),FALSE)) | H6: =IF(ISERROR(VLOOKUP($A6,INDIRECT(H$1&"!A5:Z100"),MATCH("Quantité nécessaire",INDIRECT(H$1&"!A2:z2"),0),FALSE)),"",VLOOKUP($A6,INDIRECT(H$1&"!A5:Z100"),MATCH("Quantité nécessaire",INDIRECT(H$1&"!A2:z2"),0),FALSE)) | I6: =IF(ISERROR(VLOOKUP($A6,INDIRECT(I$1&"!A5:Z100"),MATCH("Quantité nécessaire",INDIRECT(I$1&"!A2:z2"),0),FALSE)),"",VLOOKUP($A6,INDIRECT(I$1&"!A5:Z100"),MATCH("Quantité nécessaire",INDIRECT(I$1&"!A2:z2"),0),FALSE)) -> 30 | J6: =IF(ISERROR(VLOOKUP($A6,INDIRECT(J$1&"!A5:Z100"),MATCH("Quantité nécessaire",INDIRECT(J$1&"!A2:z2"),0),FALSE)),"",VLOOKUP($A6,INDIRECT(J$1&"!A5:Z100"),MATCH("Quantité nécessaire",INDIRECT(J$1&"!A2:z2"),0),FALSE)) | K6: =IF(ISERROR(VLOOKUP($A6,INDIRECT(K$1&"!A5:Z100"),MATCH("Quantité nécessaire",INDIRECT(K$1&"!A2:z2"),0),FALSE)),"",VLOOKUP($A6,INDIRECT(K$1&"!A5:Z100"),MATCH("Quantité nécessaire",INDIRECT(K$1&"!A2:z2"),0),FALSE)) | L6: =IF(ISERROR(VLOOKUP($A6,INDIRECT(L$1&"!A5:Z100"),MATCH("Quantité nécessaire",INDIRECT(L$1&"!A2:z2"),0),FALSE)),"",VLOOKUP($A6,INDIRECT(L$1&"!A5:Z100"),MATCH("Quantité nécessaire",INDIRECT(L$1&"!A2:z2"),0),FALSE))
A7: =B7&C7 -> radisBotte | B7: radis | C7: Botte | D7: 1 | E7: =IF(ISERROR(VLOOKUP($A7,INDIRECT(E$1&"!A5:Z100"),MATCH("Quantité nécessaire",INDIRECT(E$1&"!A2:z2"),0),FALSE)),"",VLOOKUP($A7,INDIRECT(E$1&"!A5:Z100"),MATCH("Quantité nécessaire",INDIRECT(E$1&"!A2:z2"),0),FALSE)) | F7: =IF(ISERROR(VLOOKUP($A7,INDIRECT(F$1&"!A5:Z100"),MATCH("Quantité nécessaire",INDIRECT(F$1&"!A2:z2"),0),FALSE)),"",VLOOKUP($A7,INDIRECT(F$1&"!A5:Z100"),MATCH("Quantité nécessaire",INDIRECT(F$1&"!A2:z2"),0),FALSE)) | G7: =IF(ISERROR(VLOOKUP($A7,INDIRECT(G$1&"!A5:Z100"),MATCH("Quantité nécessaire",INDIRECT(G$1&"!A2:z2"),0),FALSE)),"",VLOOKUP($A7,INDIRECT(G$1&"!A5:Z100"),MATCH("Quantité nécessaire",INDIRECT(G$1&"!A2:z2"),0),FALSE)) -> 0 | H7: =IF(ISERROR(VLOOKUP($A7,INDIRECT(H$1&"!A5:Z100"),MATCH("Quantité nécessaire",INDIRECT(H$1&"!A2:z2"),0),FALSE)),"",VLOOKUP($A7,INDIRECT(H$1&"!A5:Z100"),MATCH("Quantité nécessaire",INDIRECT(H$1&"!A2:z2"),0),FALSE)) | I7: =IF(ISERROR(VLOOKUP($A7,INDIRECT(I$1&"!A5:Z100"),MATCH("Quantité nécessaire",INDIRECT(I$1&"!A2:z2"),0),FALSE)),"",VLOOKUP($A7,INDIRECT(I$1&"!A5:Z100"),MATCH("Quantité nécessaire",INDIRECT(I$1&"!A2:z2"),0),FALSE)) | J7: =IF(ISERROR(VLOOKUP($A7,INDIRECT(J$1&"!A5:Z100"),MATCH("Quantité nécessaire",INDIRECT(J$1&"!A2:z2"),0),FALSE)),"",VLOOKUP($A7,INDIRECT(J$1&"!A5:Z100"),MATCH("Quantité nécessaire",INDIRECT(J$1&"!A2:z2"),0),FALSE)) | K7: =IF(ISERROR(VLOOKUP($A7,INDIRECT(K$1&"!A5:Z100"),MATCH("Quantité nécessaire",INDIRECT(K$1&"!A2:z2"),0),FALSE)),"",VLOOKUP($A7,INDIRECT(K$1&"!A5:Z100"),MATCH("Quantité nécessaire",INDIRECT(K$1&"!A2:z2"),0),FALSE)) | L7: =IF(ISERROR(VLOOKUP($A7,INDIRECT(L$1&"!A5:Z100"),MATCH("Quantité nécessaire",INDIRECT(L$1&"!A2:z2"),0),FALSE)),"",VLOOKUP($A7,INDIRECT(L$1&"!A5:Z100"),MATCH("Quantité nécessaire",INDIRECT(L$1&"!A2:z2"),0),FALSE))
A8: =B8&C8 -> saladePiece | B8: salade | C8: Piece | D8: 2 | E8: =IF(ISERROR(VLOOKUP($A8,INDIRECT(E$1&"!A5:Z100"),MATCH("Quantité nécessaire",INDIRECT(E$1&"!A2:z2"),0),FALSE)),"",VLOOKUP($A8,INDIRECT(E$1&"!A5:Z100"),MATCH("Quantité nécessaire",INDIRECT(E$1&"!A2:z2"),0),FALSE)) | F8: =IF(ISERROR(VLOOKUP($A8,INDIRECT(F$1&"!A5:Z100"),MATCH("Quantité nécessaire",INDIRECT(F$1&"!A2:z2"),0),FALSE)),"",VLOOKUP($A8,INDIRECT(F$1&"!A5:Z100"),MATCH("Quantité nécessaire",INDIRECT(F$1&"!A2:z2"),0),FALSE)) | G8: =IF(ISERROR(VLOOKUP($A8,INDIRECT(G$1&"!A5:Z100"),MATCH("Quantité nécessaire",INDIRECT(G$1&"!A2:z2"),0),FALSE)),"",VLOOKUP($A8,INDIRECT(G$1&"!A5:Z100"),MATCH("Quantité nécessaire",INDIRECT(G$1&"!A2:z2"),0),FALSE)) | H8: =IF(ISERROR(VLOOKUP($A8,INDIRECT(H$1&"!A5:Z100"),MATCH("Quantité nécessaire",INDIRECT(H$1&"!A2:z2"),0),FALSE)),"",VLOOKUP($A8,INDIRECT(H$1&"!A5:Z100"),MATCH("Quantité nécessaire",INDIRECT(H$1&"!A2:z2"),0),FALSE)) -> 60 | I8: =IF(ISERROR(VLOOKUP($A8,INDIRECT(I$1&"!A5:Z100"),MATCH("Quantité nécessaire",INDIRECT(I$1&"!A2:z2"),0),FALSE)),"",VLOOKUP($A8,INDIRECT(I$1&"!A5:Z100"),MATCH("Quantité nécessaire",INDIRECT(I$1&"!A2:z2"),0),FALSE)) | J8: =IF(ISERROR(VLOOKUP($A8,INDIRECT(J$1&"!A5:Z100"),MATCH("Quantité nécessaire",INDIRECT(J$1&"!A2:z2"),0),FALSE)),"",VLOOKUP($A8,INDIRECT(J$1&"!A5:Z100"),MATCH("Quantité nécessaire",INDIRECT(J$1&"!A2:z2"),0),FALSE)) | K8: =IF(ISERROR(VLOOKUP($A8,INDIRECT(K$1&"!A5:Z100"),MATCH("Quantité nécessaire",INDIRECT(K$1&"!A2:z2"),0),FALSE)),"",VLOOKUP($A8,INDIRECT(K$1&"!A5:Z100"),MATCH("Quantité nécessaire",INDIRECT(K$1&"!A2:z2"),0),FALSE)) | L8: =IF(ISERROR(VLOOKUP($A8,INDIRECT(L$1&"!A5:Z100"),MATCH("Quantité nécessaire",INDIRECT(L$1&"!A2:z2"),0),FALSE)),"",VLOOKUP($A8,INDIRECT(L$1&"!A5:Z100"),MATCH("Quantité nécessaire",INDIRECT(L$1&"!A2:z2"),0),FALSE))
A9: =B9&C9 -> blettekg | B9: blette | C9: kg | E9: =IF(ISERROR(VLOOKUP($A9,INDIRECT(E$1&"!A5:Z100"),MATCH("Quantité nécessaire",INDIRECT(E$1&"!A2:z2"),0),FALSE)),"",VLOOKUP($A9,INDIRECT(E$1&"!A5:Z100"),MATCH("Quantité nécessaire",INDIRECT(E$1&"!A2:z2"),0),FALSE)) | F9: =IF(ISERROR(VLOOKUP($A9,INDIRECT(F$1&"!A5:Z100"),MATCH("Quantité nécessaire",INDIRECT(F$1&"!A2:z2"),0),FALSE)),"",VLOOKUP($A9,INDIRECT(F$1&"!A5:Z100"),MATCH("Quantité nécessaire",INDIRECT(F$1&"!A2:z2"),0),FALSE)) | G9: =IF(ISERROR(VLOOKUP($A9,INDIRECT(G$1&"!A5:Z100"),MATCH("Quantité nécessaire",INDIRECT(G$1&"!A2:z2"),0),FALSE)),"",VLOOKUP($A9,INDIRECT(G$1&"!A5:Z100"),MATCH("Quantité nécessaire",INDIRECT(G$1&"!A2:z2"),0),FALSE)) | H9: =IF(ISERROR(VLOOKUP($A9,INDIRECT(H$1&"!A5:Z100"),MATCH("Quantité nécessaire",INDIRECT(H$1&"!A2:z2"),0),FALSE)),"",VLOOKUP($A9,INDIRECT(H$1&"!A5:Z100"),MATCH("Quantité nécessaire",INDIRECT(H$1&"!A2:z2"),0),FALSE)) | I9: =IF(ISERROR(VLOOKUP($A9,INDIRECT(I$1&"!A5:Z100"),MATCH("Quantité nécessaire",INDIRECT(I$1&"!A2:z2"),0),FALSE)),"",VLOOKUP($A9,INDIRECT(I$1&"!A5:Z100"),MATCH("Quantité nécessaire",INDIRECT(I$1&"!A2:z2"),0),FALSE)) | J9: =IF(ISERROR(VLOOKUP($A9,INDIRECT(J$1&"!A5:Z100"),MATCH("Quantité nécessaire",INDIRECT(J$1&"!A2:z2"),0),FALSE)),"",VLOOKUP($A9,INDIRECT(J$1&"!A5:Z100"),MATCH("Quantité nécessaire",INDIRECT(J$1&"!A2:z2"),0),FALSE)) | K9: =IF(ISERROR(VLOOKUP($A9,INDIRECT(K$1&"!A5:Z100"),MATCH("Quantité nécessaire",INDIRECT(K$1&"!A2:z2"),0),FALSE)),"",VLOOKUP($A9,INDIRECT(K$1&"!A5:Z100"),MATCH("Quantité nécessaire",INDIRECT(K$1&"!A2:z2"),0),FALSE)) | L9: =IF(ISERROR(VLOOKUP($A9,INDIRECT(L$1&"!A5:Z100"),MATCH("Quantité nécessaire",INDIRECT(L$1&"!A2:z2"),0),FALSE)),"",VLOOKUP($A9,INDIRECT(L$1&"!A5:Z100"),MATCH("Quantité nécessaire",INDIRECT(L$1&"!A2:z2"),0),FALSE))
A10: =B10&C10 -> chou ravepièce | B10: chou rave | C10: pièce | E10: =IF(ISERROR(VLOOKUP($A10,INDIRECT(E$1&"!A5:Z100"),MATCH("Quantité nécessaire",INDIRECT(E$1&"!A2:z2"),0),FALSE)),"",VLOOKUP($A10,INDIRECT(E$1&"!A5:Z100"),MATCH("Quantité nécessaire",INDIRECT(E$1&"!A2:z2"),0),FALSE)) | F10: =IF(ISERROR(VLOOKUP($A10,INDIRECT(F$1&"!A5:Z100"),MATCH("Quantité nécessaire",INDIRECT(F$1&"!A2:z2"),0),FALSE)),"",VLOOKUP($A10,INDIRECT(F$1&"!A5:Z100"),MATCH("Quantité nécessaire",INDIRECT(F$1&"!A2:z2"),0),FALSE)) | G10: =IF(ISERROR(VLOOKUP($A10,INDIRECT(G$1&"!A5:Z100"),MATCH("Quantité nécessaire",INDIRECT(G$1&"!A2:z2"),0),FALSE)),"",VLOOKUP($A10,INDIRECT(G$1&"!A5:Z100"),MATCH("Quantité nécessaire",INDIRECT(G$1&"!A2:z2"),0),FALSE)) | H10: =IF(ISERROR(VLOOKUP($A10,INDIRECT(H$1&"!A5:Z100"),MATCH("Quantité nécessaire",INDIRECT(H$1&"!A2:z2"),0),FALSE)),"",VLOOKUP($A10,INDIRECT(H$1&"!A5:Z100"),MATCH("Quantité nécessaire",INDIRECT(H$1&"!A2:z2"),0),FALSE)) | I10: =IF(ISERROR(VLOOKUP($A10,INDIRECT(I$1&"!A5:Z100"),MATCH("Quantité nécessaire",INDIRECT(I$1&"!A2:z2"),0),FALSE)),"",VLOOKUP($A10,INDIRECT(I$1&"!A5:Z100"),MATCH("Quantité nécessaire",INDIRECT(I$1&"!A2:z2"),0),FALSE)) | J10: =IF(ISERROR(VLOOKUP($A10,INDIRECT(J$1&"!A5:Z100"),MATCH("Quantité nécessaire",INDIRECT(J$1&"!A2:z2"),0),FALSE)),"",VLOOKUP($A10,INDIRECT(J$1&"!A5:Z100"),MATCH("Quantité nécessaire",INDIRECT(J$1&"!A2:z2"),0),FALSE)) | K10: =IF(ISERROR(VLOOKUP($A10,INDIRECT(K$1&"!A5:Z100"),MATCH("Quantité nécessaire",INDIRECT(K$1&"!A2:z2"),0),FALSE)),"",VLOOKUP($A10,INDIRECT(K$1&"!A5:Z100"),MATCH("Quantité nécessaire",INDIRECT(K$1&"!A2:z2"),0),FALSE)) | L10: =IF(ISERROR(VLOOKUP($A10,INDIRECT(L$1&"!A5:Z100"),MATCH("Quantité nécessaire",INDIRECT(L$1&"!A2:z2"),0),FALSE)),"",VLOOKUP($A10,INDIRECT(L$1&"!A5:Z100"),MATCH("Quantité nécessaire",INDIRECT(L$1&"!A2:z2"),0),FALSE))
A11: =B11&C11 -> courgettekg | B11: courgette | C11: kg | E11: =IF(ISERROR(VLOOKUP($A11,INDIRECT(E$1&"!A5:Z100"),MATCH("Quantité nécessaire",INDIRECT(E$1&"!A2:z2"),0),FALSE)),"",VLOOKUP($A11,INDIRECT(E$1&"!A5:Z100"),MATCH("Quantité nécessaire",INDIRECT(E$1&"!A2:z2"),0),FALSE)) | F11: =IF(ISERROR(VLOOKUP($A11,INDIRECT(F$1&"!A5:Z100"),MATCH("Quantité nécessaire",INDIRECT(F$1&"!A2:z2"),0),FALSE)),"",VLOOKUP($A11,INDIRECT(F$1&"!A5:Z100"),MATCH("Quantité nécessaire",INDIRECT(F$1&"!A2:z2"),0),FALSE)) | G11: =IF(ISERROR(VLOOKUP($A11,INDIRECT(G$1&"!A5:Z100"),MATCH("Quantité nécessaire",INDIRECT(G$1&"!A2:z2"),0),FALSE)),"",VLOOKUP($A11,INDIRECT(G$1&"!A5:Z100"),MATCH("Quantité nécessaire",INDIRECT(G$1&"!A2:z2"),0),FALSE)) | H11: =IF(ISERROR(VLOOKUP($A11,INDIRECT(H$1&"!A5:Z100"),MATCH("Quantité nécessaire",INDIRECT(H$1&"!A2:z2"),0),FALSE)),"",VLOOKUP($A11,INDIRECT(H$1&"!A5:Z100"),MATCH("Quantité nécessaire",INDIRECT(H$1&"!A2:z2"),0),FALSE)) | I11: =IF(ISERROR(VLOOKUP($A11,INDIRECT(I$1&"!A5:Z100"),MATCH("Quantité nécessaire",INDIRECT(I$1&"!A2:z2"),0),FALSE)),"",VLOOKUP($A11,INDIRECT(I$1&"!A5:Z100"),MATCH("Quantité nécessaire",INDIRECT(I$1&"!A2:z2"),0),FALSE)) | J11: =IF(ISERROR(VLOOKUP($A11,INDIRECT(J$1&"!A5:Z100"),MATCH("Quantité nécessaire",INDIRECT(J$1&"!A2:z2"),0),FALSE)),"",VLOOKUP($A11,INDIRECT(J$1&"!A5:Z100"),MATCH("Quantité nécessaire",INDIRECT(J$1&"!A2:z2"),0),FALSE)) | K11: =IF(ISERROR(VLOOKUP($A11,INDIRECT(K$1&"!A5:Z100"),MATCH("Quantité nécessaire",INDIRECT(K$1&"!A2:z2"),0),FALSE)),"",VLOOKUP($A11,INDIRECT(K$1&"!A5:Z100"),MATCH("Quantité nécessaire",INDIRECT(K$1&"!A2:z2"),0),FALSE)) | L11: =IF(ISERROR(VLOOKUP($A11,INDIRECT(L$1&"!A5:Z100"),MATCH("Quantité nécessaire",INDIRECT(L$1&"!A2:z2"),0),FALSE)),"",VLOOKUP($A11,INDIRECT(L$1&"!A5:Z100"),MATCH("Quantité nécessaire",INDIRECT(L$1&"!A2:z2"),0),FALSE))
A12: =B12&C12 -> navetkg | B12: navet | C12: kg | E12: =IF(ISERROR(VLOOKUP($A12,INDIRECT(E$1&"!A5:Z100"),MATCH("Quantité nécessaire",INDIRECT(E$1&"!A2:z2"),0),FALSE)),"",VLOOKUP($A12,INDIRECT(E$1&"!A5:Z100"),MATCH("Quantité nécessaire",INDIRECT(E$1&"!A2:z2"),0),FALSE)) | F12: =IF(ISERROR(VLOOKUP($A12,INDIRECT(F$1&"!A5:Z100"),MATCH("Quantité nécessaire",INDIRECT(F$1&"!A2:z2"),0),FALSE)),"",VLOOKUP($A12,INDIRECT(F$1&"!A5:Z100"),MATCH("Quantité nécessaire",INDIRECT(F$1&"!A2:z2"),0),FALSE)) | G12: =IF(ISERROR(VLOOKUP($A12,INDIRECT(G$1&"!A5:Z100"),MATCH("Quantité nécessaire",INDIRECT(G$1&"!A2:z2"),0),FALSE)),"",VLOOKUP($A12,INDIRECT(G$1&"!A5:Z100"),MATCH("Quantité nécessaire",INDIRECT(G$1&"!A2:z2"),0),FALSE)) | H12: =IF(ISERROR(VLOOKUP($A12,INDIRECT(H$1&"!A5:Z100"),MATCH("Quantité nécessaire",INDIRECT(H$1&"!A2:z2"),0),FALSE)),"",VLOOKUP($A12,INDIRECT(H$1&"!A5:Z100"),MATCH("Quantité nécessaire",INDIRECT(H$1&"!A2:z2"),0),FALSE)) | I12: =IF(ISERROR(VLOOKUP($A12,INDIRECT(I$1&"!A5:Z100"),MATCH("Quantité nécessaire",INDIRECT(I$1&"!A2:z2"),0),FALSE)),"",VLOOKUP($A12,INDIRECT(I$1&"!A5:Z100"),MATCH("Quantité nécessaire",INDIRECT(I$1&"!A2:z2"),0),FALSE)) | J12: =IF(ISERROR(VLOOKUP($A12,INDIRECT(J$1&"!A5:Z100"),MATCH("Quantité nécessaire",INDIRECT(J$1&"!A2:z2"),0),FALSE)),"",VLOOKUP($A12,INDIRECT(J$1&"!A5:Z100"),MATCH("Quantité nécessaire",INDIRECT(J$1&"!A2:z2"),0),FALSE)) | K12: =IF(ISERROR(VLOOKUP($A12,INDIRECT(K$1&"!A5:Z100"),MATCH("Quantité nécessaire",INDIRECT(K$1&"!A2:z2"),0),FALSE)),"",VLOOKUP($A12,INDIRECT(K$1&"!A5:Z100"),MATCH("Quantité nécessaire",INDIRECT(K$1&"!A2:z2"),0),FALSE)) | L12: =IF(ISERROR(VLOOKUP($A12,INDIRECT(L$1&"!A5:Z100"),MATCH("Quantité nécessaire",INDIRECT(L$1&"!A2:z2"),0),FALSE)),"",VLOOKUP($A12,INDIRECT(L$1&"!A5:Z100"),MATCH("Quantité nécessaire",INDIRECT(L$1&"!A2:z2"),0),FALSE))
A13: =B13&C13 -> auberginekg | B13: aubergine | C13: kg | E13: =IF(ISERROR(VLOOKUP($A13,INDIRECT(E$1&"!A5:Z100"),MATCH("Quantité nécessaire",INDIRECT(E$1&"!A2:z2"),0),FALSE)),"",VLOOKUP($A13,INDIRECT(E$1&"!A5:Z100"),MATCH("Quantité nécessaire",INDIRECT(E$1&"!A2:z2"),0),FALSE)) | F13: =IF(ISERROR(VLOOKUP($A13,INDIRECT(F$1&"!A5:Z100"),MATCH("Quantité nécessaire",INDIRECT(F$1&"!A2:z2"),0),FALSE)),"",VLOOKUP($A13,INDIRECT(F$1&"!A5:Z100"),MATCH("Quantité nécessaire",INDIRECT(F$1&"!A2:z2"),0),FALSE)) | G13: =IF(ISERROR(VLOOKUP($A13,INDIRECT(G$1&"!A5:Z100"),MATCH("Quantité nécessaire",INDIRECT(G$1&"!A2:z2"),0),FALSE)),"",VLOOKUP($A13,INDIRECT(G$1&"!A5:Z100"),MATCH("Quantité nécessaire",INDIRECT(G$1&"!A2:z2"),0),FALSE)) | H13: =IF(ISERROR(VLOOKUP($A13,INDIRECT(H$1&"!A5:Z100"),MATCH("Quantité nécessaire",INDIRECT(H$1&"!A2:z2"),0),FALSE)),"",VLOOKUP($A13,INDIRECT(H$1&"!A5:Z100"),MATCH("Quantité nécessaire",INDIRECT(H$1&"!A2:z2"),0),FALSE)) | I13: =IF(ISERROR(VLOOKUP($A13,INDIRECT(I$1&"!A5:Z100"),MATCH("Quantité nécessaire",INDIRECT(I$1&"!A2:z2"),0),FALSE)),"",VLOOKUP($A13,INDIRECT(I$1&"!A5:Z100"),MATCH("Quantité nécessaire",INDIRECT(I$1&"!A2:z2"),0),FALSE)) | J13: =IF(ISERROR(VLOOKUP($A13,INDIRECT(J$1&"!A5:Z100"),MATCH("Quantité nécessaire",INDIRECT(J$1&"!A2:z2"),0),FALSE)),"",VLOOKUP($A13,INDIRECT(J$1&"!A5:Z100"),MATCH("Quantité nécessaire",INDIRECT(J$1&"!A2:z2"),0),FALSE)) -> 0 | K13: =IF(ISERROR(VLOOKUP($A13,INDIRECT(K$1&"!A5:Z100"),MATCH("Quantité nécessaire",INDIRECT(K$1&"!A2:z2"),0),FALSE)),"",VLOOKUP($A13,INDIRECT(K$1&"!A5:Z100"),MATCH("Quantité nécessaire",INDIRECT(K$1&"!A2:z2"),0),FALSE)) | L13: =IF(ISERROR(VLOOKUP($A13,INDIRECT(L$1&"!A5:Z100"),MATCH("Quantité nécessaire",INDIRECT(L$1&"!A2:z2"),0),FALSE)),"",VLOOKUP($A13,INDIRECT(L$1&"!A5:Z100"),MATCH("Quantité nécessaire",INDIRECT(L$1&"!A2:z2"),0),FALSE))
A14: =B14&C14 -> betteraveskg | B14: betteraves | C14: kg | D14: 2.2 | E14: =IF(ISERROR(VLOOKUP($A14,INDIRECT(E$1&"!A5:Z100"),MATCH("Quantité nécessaire",INDIRECT(E$1&"!A2:z2"),0),FALSE)),"",VLOOKUP($A14,INDIRECT(E$1&"!A5:Z100"),MATCH("Quantité nécessaire",INDIRECT(E$1&"!A2:z2"),0),FALSE)) | F14: =IF(ISERROR(VLOOKUP($A14,INDIRECT(F$1&"!A5:Z100"),MATCH("Quantité nécessaire",INDIRECT(F$1&"!A2:z2"),0),FALSE)),"",VLOOKUP($A14,INDIRECT(F$1&"!A5:Z100"),MATCH("Quantité nécessaire",INDIRECT(F$1&"!A2:z2"),0),FALSE)) | G14: =IF(ISERROR(VLOOKUP($A14,INDIRECT(G$1&"!A5:Z100"),MATCH("Quantité nécessaire",INDIRECT(G$1&"!A2:z2"),0),FALSE)),"",VLOOKUP($A14,INDIRECT(G$1&"!A5:Z100"),MATCH("Quantité nécessaire",INDIRECT(G$1&"!A2:z2"),0),FALSE)) | H14: =IF(ISERROR(VLOOKUP($A14,INDIRECT(H$1&"!A5:Z100"),MATCH("Quantité nécessaire",INDIRECT(H$1&"!A2:z2"),0),FALSE)),"",VLOOKUP($A14,INDIRECT(H$1&"!A5:Z100"),MATCH("Quantité nécessaire",INDIRECT(H$1&"!A2:z2"),0),FALSE)) | I14: =IF(ISERROR(VLOOKUP($A14,INDIRECT(I$1&"!A5:Z100"),MATCH("Quantité nécessaire",INDIRECT(I$1&"!A2:z2"),0),FALSE)),"",VLOOKUP($A14,INDIRECT(I$1&"!A5:Z100"),MATCH("Quantité nécessaire",INDIRECT(I$1&"!A2:z2"),0),FALSE)) | J14: =IF(ISERROR(VLOOKUP($A14,INDIRECT(J$1&"!A5:Z100"),MATCH("Quantité nécessaire",INDIRECT(J$1&"!A2:z2"),0),FALSE)),"",VLOOKUP($A14,INDIRECT(J$1&"!A5:Z100"),MATCH("Quantité nécessaire",INDIRECT(J$1&"!A2:z2"),0),FALSE)) -> 60 | K14: =IF(ISERROR(VLOOKUP($A14,INDIRECT(K$1&"!A5:Z100"),MATCH("Quantité nécessaire",INDIRECT(K$1&"!A2:z2"),0),FALSE)),"",VLOOKUP($A14,INDIRECT(K$1&"!A5:Z100"),MATCH("Quantité nécessaire",INDIRECT(K$1&"!A2:z2"),0),FALSE)) | L14: =IF(ISERROR(VLOOKUP($A14,INDIRECT(L$1&"!A5:Z100"),MATCH("Quantité nécessaire",INDIRECT(L$1&"!A2:z2"),0),FALSE)),"",VLOOKUP($A14,INDIRECT(L$1&"!A5:Z100"),MATCH("Quantité nécessaire",INDIRECT(L$1&"!A2:z2"),0),FALSE))
A15: =B15&C15 -> chou brocolikg | B15: chou brocoli | C15: kg | E15: =IF(ISERROR(VLOOKUP($A15,INDIRECT(E$1&"!A5:Z100"),MATCH("Quantité nécessaire",INDIRECT(E$1&"!A2:z2"),0),FALSE)),"",VLOOKUP($A15,INDIRECT(E$1&"!A5:Z100"),MATCH("Quantité nécessaire",INDIRECT(E$1&"!A2:z2"),0),FALSE)) | F15: =IF(ISERROR(VLOOKUP($A15,INDIRECT(F$1&"!A5:Z100"),MATCH("Quantité nécessaire",INDIRECT(F$1&"!A2:z2"),0),FALSE)),"",VLOOKUP($A15,INDIRECT(F$1&"!A5:Z100"),MATCH("Quantité nécessaire",INDIRECT(F$1&"!A2:z2"),0),FALSE)) | G15: =IF(ISERROR(VLOOKUP($A15,INDIRECT(G$1&"!A5:Z100"),MATCH("Quantité nécessaire",INDIRECT(G$1&"!A2:z2"),0),FALSE)),"",VLOOKUP($A15,INDIRECT(G$1&"!A5:Z100"),MATCH("Quantité nécessaire",INDIRECT(G$1&"!A2:z2"),0),FALSE)) | H15: =IF(ISERROR(VLOOKUP($A15,INDIRECT(H$1&"!A5:Z100"),MATCH("Quantité nécessaire",INDIRECT(H$1&"!A2:z2"),0),FALSE)),"",VLOOKUP($A15,INDIRECT(H$1&"!A5:Z100"),MATCH("Quantité nécessaire",INDIRECT(H$1&"!A2:z2"),0),FALSE)) | I15: =IF(ISERROR(VLOOKUP($A15,INDIRECT(I$1&"!A5:Z100"),MATCH("Quantité nécessaire",INDIRECT(I$1&"!A2:z2"),0),FALSE)),"",VLOOKUP($A15,INDIRECT(I$1&"!A5:Z100"),MATCH("Quantité nécessaire",INDIRECT(I$1&"!A2:z2"),0),FALSE)) | J15: =IF(ISERROR(VLOOKUP($A15,INDIRECT(J$1&"!A5:Z100"),MATCH("Quantité nécessaire",INDIRECT(J$1&"!A2:z2"),0),FALSE)),"",VLOOKUP($A15,INDIRECT(J$1&"!A5:Z100"),MATCH("Quantité nécessaire",INDIRECT(J$1&"!A2:z2"),0),FALSE)) | K15: =IF(ISERROR(VLOOKUP($A15,INDIRECT(K$1&"!A5:Z100"),MATCH("Quantité nécessaire",INDIRECT(K$1&"!A2:z2"),0),FALSE)),"",VLOOKUP($A15,INDIRECT(K$1&"!A5:Z100"),MATCH("Quantité nécessaire",INDIRECT(K$1&"!A2:z2"),0),FALSE)) | L15: =IF(ISERROR(VLOOKUP($A15,INDIRECT(L$1&"!A5:Z100"),MATCH("Quantité nécessaire",INDIRECT(L$1&"!A2:z2"),0),FALSE)),"",VLOOKUP($A15,INDIRECT(L$1&"!A5:Z100"),MATCH("Quantité nécessaire",INDIRECT(L$1&"!A2:z2"),0),FALSE))
A16: =B16&C16 -> choux ravepièce | B16: choux rave | C16: pièce | E16: =IF(ISERROR(VLOOKUP($A16,INDIRECT(E$1&"!A5:Z100"),MATCH("Quantité nécessaire",INDIRECT(E$1&"!A2:z2"),0),FALSE)),"",VLOOKUP($A16,INDIRECT(E$1&"!A5:Z100"),MATCH("Quantité nécessaire",INDIRECT(E$1&"!A2:z2"),0),FALSE)) | F16: =IF(ISERROR(VLOOKUP($A16,INDIRECT(F$1&"!A5:Z100"),MATCH("Quantité nécessaire",INDIRECT(F$1&"!A2:z2"),0),FALSE)),"",VLOOKUP($A16,INDIRECT(F$1&"!A5:Z100"),MATCH("Quantité nécessaire",INDIRECT(F$1&"!A2:z2"),0),FALSE)) | G16: =IF(ISERROR(VLOOKUP($A16,INDIRECT(G$1&"!A5:Z100"),MATCH("Quantité nécessaire",INDIRECT(G$1&"!A2:z2"),0),FALSE)),"",VLOOKUP($A16,INDIRECT(G$1&"!A5:Z100"),MATCH("Quantité nécessaire",INDIRECT(G$1&"!A2:z2"),0),FALSE)) | H16: =IF(ISERROR(VLOOKUP($A16,INDIRECT(H$1&"!A5:Z100"),MATCH("Quantité nécessaire",INDIRECT(H$1&"!A2:z2"),0),FALSE)),"",VLOOKUP($A16,INDIRECT(H$1&"!A5:Z100"),MATCH("Quantité nécessaire",INDIRECT(H$1&"!A2:z2"),0),FALSE)) | I16: =IF(ISERROR(VLOOKUP($A16,INDIRECT(I$1&"!A5:Z100"),MATCH("Quantité nécessaire",INDIRECT(I$1&"!A2:z2"),0),FALSE)),"",VLOOKUP($A16,INDIRECT(I$1&"!A5:Z100"),MATCH("Quantité nécessaire",INDIRECT(I$1&"!A2:z2"),0),FALSE)) | J16: =IF(ISERROR(VLOOKUP($A16,INDIRECT(J$1&"!A5:Z100"),MATCH("Quantité nécessaire",INDIRECT(J$1&"!A2:z2"),0),FALSE)),"",VLOOKUP($A16,INDIRECT(J$1&"!A5:Z100"),MATCH("Quantité nécessaire",INDIRECT(J$1&"!A2:z2"),0),FALSE)) | K16: =IF(ISERROR(VLOOKUP($A16,INDIRECT(K$1&"!A5:Z100"),MATCH("Quantité nécessaire",INDIRECT(K$1&"!A2:z2"),0),FALSE)),"",VLOOKUP($A16,INDIRECT(K$1&"!A5:Z100"),MATCH("Quantité nécessaire",INDIRECT(K$1&"!A2:z2"),0),FALSE)) | L16: =IF(ISERROR(VLOOKUP($A16,INDIRECT(L$1&"!A5:Z100"),MATCH("Quantité nécessaire",INDIRECT(L$1&"!A2:z2"),0),FALSE)),"",VLOOKUP($A16,INDIRECT(L$1&"!A5:Z100"),MATCH("Quantité nécessaire",INDIRECT(L$1&"!A2:z2"),0),FALSE))
A17: =B17&C17 -> concombrespièce | B17: concombres | C17: pièce | E17: =IF(ISERROR(VLOOKUP($A17,INDIRECT(E$1&"!A5:Z100"),MATCH("Quantité nécessaire",INDIRECT(E$1&"!A2:z2"),0),FALSE)),"",VLOOKUP($A17,INDIRECT(E$1&"!A5:Z100"),MATCH("Quantité nécessaire",INDIRECT(E$1&"!A2:z2"),0),FALSE)) | F17: =IF(ISERROR(VLOOKUP($A17,INDIRECT(F$1&"!A5:Z100"),MATCH("Quantité nécessaire",INDIRECT(F$1&"!A2:z2"),0),FALSE)),"",VLOOKUP($A17,INDIRECT(F$1&"!A5:Z100"),MATCH("Quantité nécessaire",INDIRECT(F$1&"!A2:z2"),0),FALSE)) | G17: =IF(ISERROR(VLOOKUP($A17,INDIRECT(G$1&"!A5:Z100"),MATCH("Quantité nécessaire",INDIRECT(G$1&"!A2:z2"),0),FALSE)),"",VLOOKUP($A17,INDIRECT(G$1&"!A5:Z100"),MATCH("Quantité nécessaire",INDIRECT(G$1&"!A2:z2"),0),FALSE)) | H17: =IF(ISERROR(VLOOKUP($A17,INDIRECT(H$1&"!A5:Z100"),MATCH("Quantité nécessaire",INDIRECT(H$1&"!A2:z2"),0),FALSE)),"",VLOOKUP($A17,INDIRECT(H$1&"!A5:Z100"),MATCH("Quantité nécessaire",INDIRECT(H$1&"!A2:z2"),0),FALSE)) | I17: =IF(ISERROR(VLOOKUP($A17,INDIRECT(I$1&"!A5:Z100"),MATCH("Quantité nécessaire",INDIRECT(I$1&"!A2:z2"),0),FALSE)),"",VLOOKUP($A17,INDIRECT(I$1&"!A5:Z100"),MATCH("Quantité nécessaire",INDIRECT(I$1&"!A2:z2"),0),FALSE)) | J17: =IF(ISERROR(VLOOKUP($A17,INDIRECT(J$1&"!A5:Z100"),MATCH("Quantité nécessaire",INDIRECT(J$1&"!A2:z2"),0),FALSE)),"",VLOOKUP($A17,INDIRECT(J$1&"!A5:Z100"),MATCH("Quantité nécessaire",INDIRECT(J$1&"!A2:z2"),0),FALSE)) | K17: =IF(ISERROR(VLOOKUP($A17,INDIRECT(K$1&"!A5:Z100"),MATCH("Quantité nécessaire",INDIRECT(K$1&"!A2:z2"),0),FALSE)),"",VLOOKUP($A17,INDIRECT(K$1&"!A5:Z100"),MATCH("Quantité nécessaire",INDIRECT(K$1&"!A2:z2"),0),FALSE)) | L17: =IF(ISERROR(VLOOKUP($A17,INDIRECT(L$1&"!A5:Z100"),MATCH("Quantité nécessaire",INDIRECT(L$1&"!A2:z2"),0),FALSE)),"",VLOOKUP($A17,INDIRECT(L$1&"!A5:Z100"),MATCH("Quantité nécessaire",INDIRECT(L$1&"!A2:z2"),0),FALSE))
A18: =B18&C18 -> épinardkg | B18: épinard | C18: kg | E18: =IF(ISERROR(VLOOKUP($A18,INDIRECT(E$1&"!A5:Z100"),MATCH("Quantité nécessaire",INDIRECT(E$1&"!A2:z2"),0),FALSE)),"",VLOOKUP($A18,INDIRECT(E$1&"!A5:Z100"),MATCH("Quantité nécessaire",INDIRECT(E$1&"!A2:z2"),0),FALSE)) | F18: =IF(ISERROR(VLOOKUP($A18,INDIRECT(F$1&"!A5:Z100"),MATCH("Quantité nécessaire",INDIRECT(F$1&"!A2:z2"),0),FALSE)),"",VLOOKUP($A18,INDIRECT(F$1&"!A5:Z100"),MATCH("Quantité nécessaire",INDIRECT(F$1&"!A2:z2"),0),FALSE)) | G18: =IF(ISERROR(VLOOKUP($A18,INDIRECT(G$1&"!A5:Z100"),MATCH("Quantité nécessaire",INDIRECT(G$1&"!A2:z2"),0),FALSE)),"",VLOOKUP($A18,INDIRECT(G$1&"!A5:Z100"),MATCH("Quantité nécessaire",INDIRECT(G$1&"!A2:z2"),0),FALSE)) | H18: =IF(ISERROR(VLOOKUP($A18,INDIRECT(H$1&"!A5:Z100"),MATCH("Quantité nécessaire",INDIRECT(H$1&"!A2:z2"),0),FALSE)),"",VLOOKUP($A18,INDIRECT(H$1&"!A5:Z100"),MATCH("Quantité nécessaire",INDIRECT(H$1&"!A2:z2"),0),FALSE)) | I18: =IF(ISERROR(VLOOKUP($A18,INDIRECT(I$1&"!A5:Z100"),MATCH("Quantité nécessaire",INDIRECT(I$1&"!A2:z2"),0),FALSE)),"",VLOOKUP($A18,INDIRECT(I$1&"!A5:Z100"),MATCH("Quantité nécessaire",INDIRECT(I$1&"!A2:z2"),0),FALSE)) | J18: =IF(ISERROR(VLOOKUP($A18,INDIRECT(J$1&"!A5:Z100"),MATCH("Quantité nécessaire",INDIRECT(J$1&"!A2:z2"),0),FALSE)),"",VLOOKUP($A18,INDIRECT(J$1&"!A5:Z100"),MATCH("Quantité nécessaire",INDIRECT(J$1&"!A2:z2"),0),FALSE)) | K18: =IF(ISERROR(VLOOKUP($A18,INDIRECT(K$1&"!A5:Z100"),MATCH("Quantité nécessaire",INDIRECT(K$1&"!A2:z2"),0),FALSE)),"",VLOOKUP($A18,INDIRECT(K$1&"!A5:Z100"),MATCH("Quantité nécessaire",INDIRECT(K$1&"!A2:z2"),0),FALSE)) | L18: =IF(ISERROR(VLOOKUP($A18,INDIRECT(L$1&"!A5:Z100"),MATCH("Quantité nécessaire",INDIRECT(L$1&"!A2:z2"),0),FALSE)),"",VLOOKUP($A18,INDIRECT(L$1&"!A5:Z100"),MATCH("Quantité nécessaire",INDIRECT(L$1&"!A2:z2"),0),FALSE))
A19: =B19&C19 -> tomateskg | B19: tomates | C19: kg | E19: =IF(ISERROR(VLOOKUP($A19,INDIRECT(E$1&"!A5:Z100"),MATCH("Quantité nécessaire",INDIRECT(E$1&"!A2:z2"),0),FALSE)),"",VLOOKUP($A19,INDIRECT(E$1&"!A5:Z100"),MATCH("Quantité nécessaire",INDIRECT(E$1&"!A2:z2"),0),FALSE)) | F19: =IF(ISERROR(VLOOKUP($A19,INDIRECT(F$1&"!A5:Z100"),MATCH("Quantité nécessaire",INDIRECT(F$1&"!A2:z2"),0),FALSE)),"",VLOOKUP($A19,INDIRECT(F$1&"!A5:Z100"),MATCH("Quantité nécessaire",INDIRECT(F$1&"!A2:z2"),0),FALSE)) | G19: =IF(ISERROR(VLOOKUP($A19,INDIRECT(G$1&"!A5:Z100"),MATCH("Quantité nécessaire",INDIRECT(G$1&"!A2:z2"),0),FALSE)),"",VLOOKUP($A19,INDIRECT(G$1&"!A5:Z100"),MATCH("Quantité nécessaire",INDIRECT(G$1&"!A2:z2"),0),FALSE)) | H19: =IF(ISERROR(VLOOKUP($A19,INDIRECT(H$1&"!A5:Z100"),MATCH("Quantité nécessaire",INDIRECT(H$1&"!A2:z2"),0),FALSE)),"",VLOOKUP($A19,INDIRECT(H$1&"!A5:Z100"),MATCH("Quantité nécessaire",INDIRECT(H$1&"!A2:z2"),0),FALSE)) | I19: =IF(ISERROR(VLOOKUP($A19,INDIRECT(I$1&"!A5:Z100"),MATCH("Quantité nécessaire",INDIRECT(I$1&"!A2:z2"),0),FALSE)),"",VLOOKUP($A19,INDIRECT(I$1&"!A5:Z100"),MATCH("Quantité nécessaire",INDIRECT(I$1&"!A2:z2"),0),FALSE)) | J19: =IF(ISERROR(VLOOKUP($A19,INDIRECT(J$1&"!A5:Z100"),MATCH("Quantité nécessaire",INDIRECT(J$1&"!A2:z2"),0),FALSE)),"",VLOOKUP($A19,INDIRECT(J$1&"!A5:Z100"),MATCH("Quantité nécessaire",INDIRECT(J$1&"!A2:z2"),0),FALSE)) | K19: =IF(ISERROR(VLOOKUP($A19,INDIRECT(K$1&"!A5:Z100"),MATCH("Quantité nécessaire",INDIRECT(K$1&"!A2:z2"),0),FALSE)),"",VLOOKUP($A19,INDIRECT(K$1&"!A5:Z100"),MATCH("Quantité nécessaire",INDIRECT(K$1&"!A2:z2"),0),FALSE)) | L19: =IF(ISERROR(VLOOKUP($A19,INDIRECT(L$1&"!A5:Z100"),MATCH("Quantité nécessaire",INDIRECT(L$1&"!A2:z2"),0),FALSE)),"",VLOOKUP($A19,INDIRECT(L$1&"!A5:Z100"),MATCH("Quantité nécessaire",INDIRECT(L$1&"!A2:z2"),0),FALSE))
A20: =B20&C20 -> machekg | B20: mache | C20: kg | E20: =IF(ISERROR(VLOOKUP($A20,INDIRECT(E$1&"!A5:Z100"),MATCH("Quantité nécessaire",INDIRECT(E$1&"!A2:z2"),0),FALSE)),"",VLOOKUP($A20,INDIRECT(E$1&"!A5:Z100"),MATCH("Quantité nécessaire",INDIRECT(E$1&"!A2:z2"),0),FALSE)) | F20: =IF(ISERROR(VLOOKUP($A20,INDIRECT(F$1&"!A5:Z100"),MATCH("Quantité nécessaire",INDIRECT(F$1&"!A2:z2"),0),FALSE)),"",VLOOKUP($A20,INDIRECT(F$1&"!A5:Z100"),MATCH("Quantité nécessaire",INDIRECT(F$1&"!A2:z2"),0),FALSE)) | G20: =IF(ISERROR(VLOOKUP($A20,INDIRECT(G$1&"!A5:Z100"),MATCH("Quantité nécessaire",INDIRECT(G$1&"!A2:z2"),0),FALSE)),"",VLOOKUP($A20,INDIRECT(G$1&"!A5:Z100"),MATCH("Quantité nécessaire",INDIRECT(G$1&"!A2:z2"),0),FALSE)) | H20: =IF(ISERROR(VLOOKUP($A20,INDIRECT(H$1&"!A5:Z100"),MATCH("Quantité nécessaire",INDIRECT(H$1&"!A2:z2"),0),FALSE)),"",VLOOKUP($A20,INDIRECT(H$1&"!A5:Z100"),MATCH("Quantité nécessaire",INDIRECT(H$1&"!A2:z2"),0),FALSE)) | I20: =IF(ISERROR(VLOOKUP($A20,INDIRECT(I$1&"!A5:Z100"),MATCH("Quantité nécessaire",INDIRECT(I$1&"!A2:z2"),0),FALSE)),"",VLOOKUP($A20,INDIRECT(I$1&"!A5:Z100"),MATCH("Quantité nécessaire",INDIRECT(I$1&"!A2:z2"),0),FALSE)) | J20: =IF(ISERROR(VLOOKUP($A20,INDIRECT(J$1&"!A5:Z100"),MATCH("Quantité nécessaire",INDIRECT(J$1&"!A2:z2"),0),FALSE)),"",VLOOKUP($A20,INDIRECT(J$1&"!A5:Z100"),MATCH("Quantité nécessaire",INDIRECT(J$1&"!A2:z2"),0),FALSE)) | K20: =IF(ISERROR(VLOOKUP($A20,INDIRECT(K$1&"!A5:Z100"),MATCH("Quantité nécessaire",INDIRECT(K$1&"!A2:z2"),0),FALSE)),"",VLOOKUP($A20,INDIRECT(K$1&"!A5:Z100"),MATCH("Quantité nécessaire",INDIRECT(K$1&"!A2:z2"),0),FALSE)) | L20: =IF(ISERROR(VLOOKUP($A20,INDIRECT(L$1&"!A5:Z100"),MATCH("Quantité nécessaire",INDIRECT(L$1&"!A2:z2"),0),FALSE)),"",VLOOKUP($A20,INDIRECT(L$1&"!A5:Z100"),MATCH("Quantité nécessaire",INDIRECT(L$1&"!A2:z2"),0),FALSE))
A21: =B21&C21 -> Anis vertBqt | B21: Anis vert | C21: Bqt | E21: =IF(ISERROR(VLOOKUP($A21,INDIRECT(E$1&"!A5:Z100"),MATCH("Quantité nécessaire",INDIRECT(E$1&"!A2:z2"),0),FALSE)),"",VLOOKUP($A21,INDIRECT(E$1&"!A5:Z100"),MATCH("Quantité nécessaire",INDIRECT(E$1&"!A2:z2"),0),FALSE)) | F21: =IF(ISERROR(VLOOKUP($A21,INDIRECT(F$1&"!A5:Z100"),MATCH("Quantité nécessaire",INDIRECT(F$1&"!A2:z2"),0),FALSE)),"",VLOOKUP($A21,INDIRECT(F$1&"!A5:Z100"),MATCH("Quantité nécessaire",INDIRECT(F$1&"!A2:z2"),0),FALSE)) | G21: =IF(ISERROR(VLOOKUP($A21,INDIRECT(G$1&"!A5:Z100"),MATCH("Quantité nécessaire",INDIRECT(G$1&"!A2:z2"),0),FALSE)),"",VLOOKUP($A21,INDIRECT(G$1&"!A5:Z100"),MATCH("Quantité nécessaire",INDIRECT(G$1&"!A2:z2"),0),FALSE)) | H21: =IF(ISERROR(VLOOKUP($A21,INDIRECT(H$1&"!A5:Z100"),MATCH("Quantité nécessaire",INDIRECT(H$1&"!A2:z2"),0),FALSE)),"",VLOOKUP($A21,INDIRECT(H$1&"!A5:Z100"),MATCH("Quantité nécessaire",INDIRECT(H$1&"!A2:z2"),0),FALSE)) | I21: =IF(ISERROR(VLOOKUP($A21,INDIRECT(I$1&"!A5:Z100"),MATCH("Quantité nécessaire",INDIRECT(I$1&"!A2:z2"),0),FALSE)),"",VLOOKUP($A21,INDIRECT(I$1&"!A5:Z100"),MATCH("Quantité nécessaire",INDIRECT(I$1&"!A2:z2"),0),FALSE)) | J21: =IF(ISERROR(VLOOKUP($A21,INDIRECT(J$1&"!A5:Z100"),MATCH("Quantité nécessaire",INDIRECT(J$1&"!A2:z2"),0),FALSE)),"",VLOOKUP($A21,INDIRECT(J$1&"!A5:Z100"),MATCH("Quantité nécessaire",INDIRECT(J$1&"!A2:z2"),0),FALSE)) | K21: =IF(ISERROR(VLOOKUP($A21,INDIRECT(K$1&"!A5:Z100"),MATCH("Quantité nécessaire",INDIRECT(K$1&"!A2:z2"),0),FALSE)),"",VLOOKUP($A21,INDIRECT(K$1&"!A5:Z100"),MATCH("Quantité nécessaire",INDIRECT(K$1&"!A2:z2"),0),FALSE)) | L21: =IF(ISERROR(VLOOKUP($A21,INDIRECT(L$1&"!A5:Z100"),MATCH("Quantité nécessaire",INDIRECT(L$1&"!A2:z2"),0),FALSE)),"",VLOOKUP($A21,INDIRECT(L$1&"!A5:Z100"),MATCH("Quantité nécessaire",INDIRECT(L$1&"!A2:z2"),0),FALSE))
A22: =B22&C22 -> AnethBqt | B22: Aneth | C22: Bqt | E22: =IF(ISERROR(VLOOKUP($A22,INDIRECT(E$1&"!A5:Z100"),MATCH("Quantité nécessaire",INDIRECT(E$1&"!A2:z2"),0),FALSE)),"",VLOOKUP($A22,INDIRECT(E$1&"!A5:Z100"),MATCH("Quantité nécessaire",INDIRECT(E$1&"!A2:z2"),0),FALSE)) | F22: =IF(ISERROR(VLOOKUP($A22,INDIRECT(F$1&"!A5:Z100"),MATCH("Quantité nécessaire",INDIRECT(F$1&"!A2:z2"),0),FALSE)),"",VLOOKUP($A22,INDIRECT(F$1&"!A5:Z100"),MATCH("Quantité nécessaire",INDIRECT(F$1&"!A2:z2"),0),FALSE)) | G22: =IF(ISERROR(VLOOKUP($A22,INDIRECT(G$1&"!A5:Z100"),MATCH("Quantité nécessaire",INDIRECT(G$1&"!A2:z2"),0),FALSE)),"",VLOOKUP($A22,INDIRECT(G$1&"!A5:Z100"),MATCH("Quantité nécessaire",INDIRECT(G$1&"!A2:z2"),0),FALSE)) | H22: =IF(ISERROR(VLOOKUP($A22,INDIRECT(H$1&"!A5:Z100"),MATCH("Quantité nécessaire",INDIRECT(H$1&"!A2:z2"),0),FALSE)),"",VLOOKUP($A22,INDIRECT(H$1&"!A5:Z100"),MATCH("Quantité nécessaire",INDIRECT(H$1&"!A2:z2"),0),FALSE)) | I22: =IF(ISERROR(VLOOKUP($A22,INDIRECT(I$1&"!A5:Z100"),MATCH("Quantité nécessaire",INDIRECT(I$1&"!A2:z2"),0),FALSE)),"",VLOOKUP($A22,INDIRECT(I$1&"!A5:Z100"),MATCH("Quantité nécessaire",INDIRECT(I$1&"!A2:z2"),0),FALSE)) | J22: =IF(ISERROR(VLOOKUP($A22,INDIRECT(J$1&"!A5:Z100"),MATCH("Quantité nécessaire",INDIRECT(J$1&"!A2:z2"),0),FALSE)),"",VLOOKUP($A22,INDIRECT(J$1&"!A5:Z100"),MATCH("Quantité nécessaire",INDIRECT(J$1&"!A2:z2"),0),FALSE)) | K22: =IF(ISERROR(VLOOKUP($A22,INDIRECT(K$1&"!A5:Z100"),MATCH("Quantité nécessaire",INDIRECT(K$1&"!A2:z2"),0),FALSE)),"",VLOOKUP($A22,INDIRECT(K$1&"!A5:Z100"),MATCH("Quantité nécessaire",INDIRECT(K$1&"!A2:z2"),0),FALSE)) | L22: =IF(ISERROR(VLOOKUP($A22,INDIRECT(L$1&"!A5:Z100"),MATCH("Quantité nécessaire",INDIRECT(L$1&"!A2:z2"),0),FALSE)),"",VLOOKUP($A22,INDIRECT(L$1&"!A5:Z100"),MATCH("Quantité nécessaire",INDIRECT(L$1&"!A2:z2"),0),FALSE))
A23: =B23&C23 -> FraisesKg | B23: Fraises | C23: Kg | E23: =IF(ISERROR(VLOOKUP($A23,INDIRECT(E$1&"!A5:Z100"),MATCH("Quantité nécessaire",INDIRECT(E$1&"!A2:z2"),0),FALSE)),"",VLOOKUP($A23,INDIRECT(E$1&"!A5:Z100"),MATCH("Quantité nécessaire",INDIRECT(E$1&"!A2:z2"),0),FALSE)) | F23: =IF(ISERROR(VLOOKUP($A23,INDIRECT(F$1&"!A5:Z100"),MATCH("Quantité nécessaire",INDIRECT(F$1&"!A2:z2"),0),FALSE)),"",VLOOKUP($A23,INDIRECT(F$1&"!A5:Z100"),MATCH("Quantité nécessaire",INDIRECT(F$1&"!A2:z2"),0),FALSE)) | G23: =IF(ISERROR(VLOOKUP($A23,INDIRECT(G$1&"!A5:Z100"),MATCH("Quantité nécessaire",INDIRECT(G$1&"!A2:z2"),0),FALSE)),"",VLOOKUP($A23,INDIRECT(G$1&"!A5:Z100"),MATCH("Quantité nécessaire",INDIRECT(G$1&"!A2:z2"),0),FALSE)) | H23: =IF(ISERROR(VLOOKUP($A23,INDIRECT(H$1&"!A5:Z100"),MATCH("Quantité nécessaire",INDIRECT(H$1&"!A2:z2"),0),FALSE)),"",VLOOKUP($A23,INDIRECT(H$1&"!A5:Z100"),MATCH("Quantité nécessaire",INDIRECT(H$1&"!A2:z2"),0),FALSE)) | I23: =IF(ISERROR(VLOOKUP($A23,INDIRECT(I$1&"!A5:Z100"),MATCH("Quantité nécessaire",INDIRECT(I$1&"!A2:z2"),0),FALSE)),"",VLOOKUP($A23,INDIRECT(I$1&"!A5:Z100"),MATCH("Quantité nécessaire",INDIRECT(I$1&"!A2:z2"),0),FALSE)) | J23: =IF(ISERROR(VLOOKUP($A23,INDIRECT(J$1&"!A5:Z100"),MATCH("Quantité nécessaire",INDIRECT(J$1&"!A2:z2"),0),FALSE)),"",VLOOKUP($A23,INDIRECT(J$1&"!A5:Z100"),MATCH("Quantité nécessaire",INDIRECT(J$1&"!A2:z2"),0),FALSE)) | K23: =IF(ISERROR(VLOOKUP($A23,INDIRECT(K$1&"!A5:Z100"),MATCH("Quantité nécessaire",INDIRECT(K$1&"!A2:z2"),0),FALSE)),"",VLOOKUP($A23,INDIRECT(K$1&"!A5:Z100"),MATCH("Quantité nécessaire",INDIRECT(K$1&"!A2:z2"),0),FALSE)) | L23: =IF(ISERROR(VLOOKUP($A23,INDIRECT(L$1&"!A5:Z100"),MATCH("Quantité nécessaire",INDIRECT(L$1&"!A2:z2"),0),FALSE)),"",VLOOKUP($A23,INDIRECT(L$1&"!A5:Z100"),MATCH("Quantité nécessaire",INDIRECT(L$1&"!A2:z2"),0),FALSE))
A24: =B24&C24 -> MesclunKg | B24: Mesclun | C24: Kg | E24: =IF(ISERROR(VLOOKUP($A24,INDIRECT(E$1&"!A5:Z100"),MATCH("Quantité nécessaire",INDIRECT(E$1&"!A2:z2"),0),FALSE)),"",VLOOKUP($A24,INDIRECT(E$1&"!A5:Z100"),MATCH("Quantité nécessaire",INDIRECT(E$1&"!A2:z2"),0),FALSE)) | F24: =IF(ISERROR(VLOOKUP($A24,INDIRECT(F$1&"!A5:Z100"),MATCH("Quantité nécessaire",INDIRECT(F$1&"!A2:z2"),0),FALSE)),"",VLOOKUP($A24,INDIRECT(F$1&"!A5:Z100"),MATCH("Quantité nécessaire",INDIRECT(F$1&"!A2:z2"),0),FALSE)) | G24: =IF(ISERROR(VLOOKUP($A24,INDIRECT(G$1&"!A5:Z100"),MATCH("Quantité nécessaire",INDIRECT(G$1&"!A2:z2"),0),FALSE)),"",VLOOKUP($A24,INDIRECT(G$1&"!A5:Z100"),MATCH("Quantité nécessaire",INDIRECT(G$1&"!A2:z2"),0),FALSE)) | H24: =IF(ISERROR(VLOOKUP($A24,INDIRECT(H$1&"!A5:Z100"),MATCH("Quantité nécessaire",INDIRECT(H$1&"!A2:z2"),0),FALSE)),"",VLOOKUP($A24,INDIRECT(H$1&"!A5:Z100"),MATCH("Quantité nécessaire",INDIRECT(H$1&"!A2:z2"),0),FALSE)) | I24: =IF(ISERROR(VLOOKUP($A24,INDIRECT(I$1&"!A5:Z100"),MATCH("Quantité nécessaire",INDIRECT(I$1&"!A2:z2"),0),FALSE)),"",VLOOKUP($A24,INDIRECT(I$1&"!A5:Z100"),MATCH("Quantité nécessaire",INDIRECT(I$1&"!A2:z2"),0),FALSE)) | J24: =IF(ISERROR(VLOOKUP($A24,INDIRECT(J$1&"!A5:Z100"),MATCH("Quantité nécessaire",INDIRECT(J$1&"!A2:z2"),0),FALSE)),"",VLOOKUP($A24,INDIRECT(J$1&"!A5:Z100"),MATCH("Quantité nécessaire",INDIRECT(J$1&"!A2:z2"),0),FALSE)) | K24: =IF(ISERROR(VLOOKUP($A24,INDIRECT(K$1&"!A5:Z100"),MATCH("Quantité nécessaire",INDIRECT(K$1&"!A2:z2"),0),FALSE)),"",VLOOKUP($A24,INDIRECT(K$1&"!A5:Z100"),MATCH("Quantité nécessaire",INDIRECT(K$1&"!A2:z2"),0),FALSE)) | L24: =IF(ISERROR(VLOOKUP($A24,INDIRECT(L$1&"!A5:Z100"),MATCH("Quantité nécessaire",INDIRECT(L$1&"!A2:z2"),0),FALSE)),"",VLOOKUP($A24,INDIRECT(L$1&"!A5:Z100"),MATCH("Quantité nécessaire",INDIRECT(L$1&"!A2:z2"),0),FALSE))
A25: =B25&C25 -> Haricot Nain MTKg | B25: Haricot Nain MT | C25: Kg | E25: =IF(ISERROR(VLOOKUP($A25,INDIRECT(E$1&"!A5:Z100"),MATCH("Quantité nécessaire",INDIRECT(E$1&"!A2:z2"),0),FALSE)),"",VLOOKUP($A25,INDIRECT(E$1&"!A5:Z100"),MATCH("Quantité nécessaire",INDIRECT(E$1&"!A2:z2"),0),FALSE)) | F25: =IF(ISERROR(VLOOKUP($A25,INDIRECT(F$1&"!A5:Z100"),MATCH("Quantité nécessaire",INDIRECT(F$1&"!A2:z2"),0),FALSE)),"",VLOOKUP($A25,INDIRECT(F$1&"!A5:Z100"),MATCH("Quantité nécessaire",INDIRECT(F$1&"!A2:z2"),0),FALSE)) | G25: =IF(ISERROR(VLOOKUP($A25,INDIRECT(G$1&"!A5:Z100"),MATCH("Quantité nécessaire",INDIRECT(G$1&"!A2:z2"),0),FALSE)),"",VLOOKUP($A25,INDIRECT(G$1&"!A5:Z100"),MATCH("Quantité nécessaire",INDIRECT(G$1&"!A2:z2"),0),FALSE)) | H25: =IF(ISERROR(VLOOKUP($A25,INDIRECT(H$1&"!A5:Z100"),MATCH("Quantité nécessaire",INDIRECT(H$1&"!A2:z2"),0),FALSE)),"",VLOOKUP($A25,INDIRECT(H$1&"!A5:Z100"),MATCH("Quantité nécessaire",INDIRECT(H$1&"!A2:z2"),0),FALSE)) | I25: =IF(ISERROR(VLOOKUP($A25,INDIRECT(I$1&"!A5:Z100"),MATCH("Quantité nécessaire",INDIRECT(I$1&"!A2:z2"),0),FALSE)),"",VLOOKUP($A25,INDIRECT(I$1&"!A5:Z100"),MATCH("Quantité nécessaire",INDIRECT(I$1&"!A2:z2"),0),FALSE)) | J25: =IF(ISERROR(VLOOKUP($A25,INDIRECT(J$1&"!A5:Z100"),MATCH("Quantité nécessaire",INDIRECT(J$1&"!A2:z2"),0),FALSE)),"",VLOOKUP($A25,INDIRECT(J$1&"!A5:Z100"),MATCH("Quantité nécessaire",INDIRECT(J$1&"!A2:z2"),0),FALSE)) | K25: =IF(ISERROR(VLOOKUP($A25,INDIRECT(K$1&"!A5:Z100"),MATCH("Quantité nécessaire",INDIRECT(K$1&"!A2:z2"),0),FALSE)),"",VLOOKUP($A25,INDIRECT(K$1&"!A5:Z100"),MATCH("Quantité nécessaire",INDIRECT(K$1&"!A2:z2"),0),FALSE)) | L25: =IF(ISERROR(VLOOKUP($A25,INDIRECT(L$1&"!A5:Z100"),MATCH("Quantité nécessaire",INDIRECT(L$1&"!A2:z2"),0),FALSE)),"",VLOOKUP($A25,INDIRECT(L$1&"!A5:Z100"),MATCH("Quantité nécessaire",INDIRECT(L$1&"!A2:z2"),0),FALSE))
A26: =B26&C26 -> MelonPiece | B26: Melon | C26: Piece | E26: =IF(ISERROR(VLOOKUP($A26,INDIRECT(E$1&"!A5:Z100"),MATCH("Quantité nécessaire",INDIRECT(E$1&"!A2:z2"),0),FALSE)),"",VLOOKUP($A26,INDIRECT(E$1&"!A5:Z100"),MATCH("Quantité nécessaire",INDIRECT(E$1&"!A2:z2"),0),FALSE)) | F26: =IF(ISERROR(VLOOKUP($A26,INDIRECT(F$1&"!A5:Z100"),MATCH("Quantité nécessaire",INDIRECT(F$1&"!A2:z2"),0),FALSE)),"",VLOOKUP($A26,INDIRECT(F$1&"!A5:Z100"),MATCH("Quantité nécessaire",INDIRECT(F$1&"!A2:z2"),0),FALSE)) | G26: =IF(ISERROR(VLOOKUP($A26,INDIRECT(G$1&"!A5:Z100"),MATCH("Quantité nécessaire",INDIRECT(G$1&"!A2:z2"),0),FALSE)),"",VLOOKUP($A26,INDIRECT(G$1&"!A5:Z100"),MATCH("Quantité nécessaire",INDIRECT(G$1&"!A2:z2"),0),FALSE)) | H26: =IF(ISERROR(VLOOKUP($A26,INDIRECT(H$1&"!A5:Z100"),MATCH("Quantité nécessaire",INDIRECT(H$1&"!A2:z2"),0),FALSE)),"",VLOOKUP($A26,INDIRECT(H$1&"!A5:Z100"),MATCH("Quantité nécessaire",INDIRECT(H$1&"!A2:z2"),0),FALSE)) | I26: =IF(ISERROR(VLOOKUP($A26,INDIRECT(I$1&"!A5:Z100"),MATCH("Quantité nécessaire",INDIRECT(I$1&"!A2:z2"),0),FALSE)),"",VLOOKUP($A26,INDIRECT(I$1&"!A5:Z100"),MATCH("Quantité nécessaire",INDIRECT(I$1&"!A2:z2"),0),FALSE)) | J26: =IF(ISERROR(VLOOKUP($A26,INDIRECT(J$1&"!A5:Z100"),MATCH("Quantité nécessaire",INDIRECT(J$1&"!A2:z2"),0),FALSE)),"",VLOOKUP($A26,INDIRECT(J$1&"!A5:Z100"),MATCH("Quantité nécessaire",INDIRECT(J$1&"!A2:z2"),0),FALSE)) | K26: =IF(ISERROR(VLOOKUP($A26,INDIRECT(K$1&"!A5:Z100"),MATCH("Quantité nécessaire",INDIRECT(K$1&"!A2:z2"),0),FALSE)),"",VLOOKUP($A26,INDIRECT(K$1&"!A5:Z100"),MATCH("Quantité nécessaire",INDIRECT(K$1&"!A2:z2"),0),FALSE)) | L26: =IF(ISERROR(VLOOKUP($A26,INDIRECT(L$1&"!A5:Z100"),MATCH("Quantité nécessaire",INDIRECT(L$1&"!A2:z2"),0),FALSE)),"",VLOOKUP($A26,INDIRECT(L$1&"!A5:Z100"),MATCH("Quantité nécessaire",INDIRECT(L$1&"!A2:z2"),0),FALSE))
... A40: =B40&C40 -> FramboisesKg | B40: Framboises | C40: Kg | E40: =IF(ISERROR(VLOOKUP($A40,INDIRECT(E$1&"!A5:Z100"),MATCH("Quantité nécessaire",INDIRECT(E$1&"!A2:z2"),0),FALSE)),"",VLOOKUP($A40,INDIRECT(E$1&"!A5:Z100"),MATCH("Quantité nécessaire",INDIRECT(E$1&"!A2:z2"),0),FALSE)) | F40: =IF(ISERROR(VLOOKUP($A40,INDIRECT(F$1&"!A5:Z100"),MATCH("Quantité nécessaire",INDIRECT(F$1&"!A2:z2"),0),FALSE)),"",VLOOKUP($A40,INDIRECT(F$1&"!A5:Z100"),MATCH("Quantité nécessaire",INDIRECT(F$1&"!A2:z2"),0),FALSE)) | G40: =IF(ISERROR(VLOOKUP($A40,INDIRECT(G$1&"!A5:Z100"),MATCH("Quantité nécessaire",INDIRECT(G$1&"!A2:z2"),0),FALSE)),"",VLOOKUP($A40,INDIRECT(G$1&"!A5:Z100"),MATCH("Quantité nécessaire",INDIRECT(G$1&"!A2:z2"),0),FALSE)) | H40: =IF(ISERROR(VLOOKUP($A40,INDIRECT(H$1&"!A5:Z100"),MATCH("Quantité nécessaire",INDIRECT(H$1&"!A2:z2"),0),FALSE)),"",VLOOKUP($A40,INDIRECT(H$1&"!A5:Z100"),MATCH("Quantité nécessaire",INDIRECT(H$1&"!A2:z2"),0),FALSE)) | I40: =IF(ISERROR(VLOOKUP($A40,INDIRECT(I$1&"!A5:Z100"),MATCH("Quantité nécessaire",INDIRECT(I$1&"!A2:z2"),0),FALSE)),"",VLOOKUP($A40,INDIRECT(I$1&"!A5:Z100"),MATCH("Quantité nécessaire",INDIRECT(I$1&"!A2:z2"),0),FALSE)) | J40: =IF(ISERROR(VLOOKUP($A40,INDIRECT(J$1&"!A5:Z100"),MATCH("Quantité nécessaire",INDIRECT(J$1&"!A2:z2"),0),FALSE)),"",VLOOKUP($A40,INDIRECT(J$1&"!A5:Z100"),MATCH("Quantité nécessaire",INDIRECT(J$1&"!A2:z2"),0),FALSE)) | K40: =IF(ISERROR(VLOOKUP($A40,INDIRECT(K$1&"!A5:Z100"),MATCH("Quantité nécessaire",INDIRECT(K$1&"!A2:z2"),0),FALSE)),"",VLOOKUP($A40,INDIRECT(K$1&"!A5:Z100"),MATCH("Quantité nécessaire",INDIRECT(K$1&"!A2:z2"),0),FALSE)) | L40: =IF(ISERROR(VLOOKUP($A40,INDIRECT(L$1&"!A5:Z100"),MATCH("Quantité nécessaire",INDIRECT(L$1&"!A2:z2"),0),FALSE)),"",VLOOKUP($A40,INDIRECT(L$1&"!A5:Z100"),MATCH("Quantité nécessaire",INDIRECT(L$1&"!A2:z2"),0),FALSE))

Sheet Mai
B1: Prévision de contenu de panier pour AMAP mai 2014
B2: Nbre paniers | C2: 30 | E2: Semaine 19 | G2: Semaine 20 | I2: Semaine 21 | K2: Semaine 22 | M2: Quantité nécessaire
B3: mai
B4: Légumes | C4: Unité | D4: P. U. | E4: Qté | F4: Montant | G4: Qté | H4: Montant | I4: Qté | J4: Montant | K4: Qté | L4: Montant
A5: =B5&C5 -> carottesBotte | B5: carottes | C5: Botte | D5: =SUMPRODUCT((legumes=Mai!$B5)*(Prix!$C$2:$C$40=Mai!$C5)*Prix!$D$2:$D$40) -> 2.5 | E5: 1 | F5: =SUM(D5*E5) -> 2.5 | H5: =SUM(D5*G5) -> 0 | J5: =SUM(D5*I5) -> 0 | L5: =SUM(D5*K5) -> 0 | M5: =SUM(E5+G5+I5+K5)*C2 -> 30
A6: =B6&C6 -> carottesKg | B6: carottes | C6: Kg | D6: =SUMPRODUCT((legumes=Mai!$B6)*(Prix!$C$2:$C$40=Mai!$C6)*Prix!$D$2:$D$40) -> 3 | E6: 1 | F6: =SUM(D6*E6) -> 3 | H6: =SUM(D6*G6) -> 0 | J6: =SUM(D6*I6) -> 0 | L6: =SUM(D6*K6) -> 0 | M6: =SUM(E6+G6+I6+K6)*C2 -> 30
A7: =B7&C7 -> carottesBotte | B7: carottes | C7: Botte | D7: =SUMPRODUCT((legumes=Mai!$B7)*(Prix!$C$2:$C$40=Mai!$C7)*Prix!$D$2:$D$40) -> 2.5 | E7: 1 | F7: =SUM(D7*E7) -> 2.5 | H7: =SUM(D7*G7) -> 0 | J7: =SUM(D7*I7) -> 0 | L7: =SUM(D7*K7) -> 0 | M7: =SUM(E7+G7+I7+K7)*C2 -> 30
A8: =B8&C8 -> oignonsBotte | B8: oignons | C8: Botte | D8: =SUMPRODUCT((legumes=Mai!$B8)*(Prix!$C$2:$C$40=Mai!$C8)*Prix!$D$2:$D$40) -> 3 | E8: 1 | F8: =SUM(D8*E8) -> 3 | H8: =SUM(D8*G8) -> 0 | J8: =SUM(D8*I8) -> 0 | L8: =SUM(D8*K8) -> 0 | M8: =SUM(E8+G8+I8+K8)*C2 -> 30
A9: =B9&C9 -> carottesBotte | B9: carottes | C9: Botte | D9: =SUMPRODUCT((legumes=Mai!$B9)*(Prix!$C$2:$C$40=Mai!$C9)*Prix!$D$2:$D$40) -> 2.5 | E9: 1 | F9: =SUM(D9*E9) -> 2.5 | H9: =SUM(D9*G9) -> 0 | J9: =SUM(D9*I9) -> 0 | L9: =SUM(D9*K9) -> 0 | M9: =SUM(E9+G9+I9+K9)*C2 -> 30
A10: =B10&C10 -> carottesBotte | B10: carottes | C10: Botte | D10: =SUMPRODUCT((legumes=Mai!$B10)*(Prix!$C$2:$C$40=Mai!$C10)*Prix!$D$2:$D$40) -> 2.5 | F10: =SUM(D10*E10) -> 0 | H10: =SUM(D10*G10) -> 0 | J10: =SUM(D10*I10) -> 0 | L10: =SUM(D10*K10) -> 0
B11: Prix du panier | F11: =SUM(F5:F9) -> 13.5 | H11: =SUM(H5:H9) -> 0 | J11: =SUM(J5:J9) -> 0 | L11: =SUM(L5:L9) -> 0
B13: total en € | D13: =SUM(F11,H11,J11,L11) -> 13.5 | F13: total année | H13: =D13 -> 13.5

Sheet Juin
B1: MODELE contenu de panier pour l'AMAP juin 2009
B2: nbre paniers | C2: 30 | E2: semaine 23 | G2: Semaine 24 | I2: Semaine 25 | K2: Semaine 26 | M2: Quantité nécessaire
B3: juin | N3: juin
B4: Légumes | C4: Unité | D4: P. U. | E4: Qté | F4: Montant | G4: Qté | H4: Montant | I4: Qté | J4: Montant | K4: Qté | L4: Montant | N4: Légumes | O4: Unité
A5: =B5&C5 -> carottesBotte | B5: carottes | C5: Botte | D5: =SUMPRODUCT((legumes=$B5)*(Prix!$C$2:$C$40=$C5)*Prix!$D$2:$D$40) -> 2.5 | E5: 5 | F5: =D5*E5 -> 12.5 | H5: =D5*G5 -> 0 | J5: =D5*I5 -> 0 | L5: =D5*K5 -> 0 | M5: =SUM(E5,G5,I5,K5)*$C2 -> 150 | N5: blette | O5: kg
A6: =B6&C6 -> oignonsBotte | B6: oignons | C6: Botte | D6: =SUMPRODUCT((legumes=$B6)*(Prix!$C$2:$C$40=$C6)*Prix!$D$2:$D$40) -> 3 | E6: 2 | F6: =D6*E6 -> 6 | H6: =D6*G6 -> 0 | J6: =D6*I6 -> 0 | L6: =D6*K6 -> 0 | M6: =SUM(E6,G6,I6,K6)*$C2 -> 60 | N6: carotte | O6: botte
A7: =B7&C7 -> carotteskg | B7: carottes | C7: kg | D7: =SUMPRODUCT((legumes=$B7)*(Prix!$C$2:$C$40=$C7)*Prix!$D$2:$D$40) -> 3 | F7: =D7*E7 -> 0 | H7: =D7*G7 -> 0 | J7: =D7*I7 -> 0 | L7: =D7*K7 -> 0 | M7: =SUM(E7,G7,I7,K7)*$C2 -> 0 | N7: chou rave | O7: pièce
A8: =B8&C8 -> carotteskg | B8: carottes | C8: kg | D8: =SUMPRODUCT((legumes=$B8)*(Prix!$C$2:$C$40=$C8)*Prix!$D$2:$D$40) -> 3 | F8: =D8*E8 -> 0 | H8: =D8*G8 -> 0 | J8: =D8*I8 -> 0 | L8: =D8*K8 -> 0 | M8: =SUM(E8,G8,I8,K8)*$C2 -> 0 | N8: courgette | O8: kg
A9: =B9&C9 -> carotteskg | B9: carottes | C9: kg | D9: =SUMPRODUCT((legumes=$B9)*(Prix!$C$2:$C$40=$C9)*Prix!$D$2:$D$40) -> 3 | F9: =D9*E9 -> 0 | H9: =D9*G9 -> 0 | J9: =D9*I9 -> 0 | L9: =D9*K9 -> 0 | M9: =SUM(E9,G9,I9,K9)*$C2 -> 0 | N9: navet | O9: kg
A10: =B10&C10 -> carotteskg | B10: carottes | C10: kg | D10: =SUMPRODUCT((legumes=$B10)*(Prix!$C$2:$C$40=$C10)*Prix!$D$2:$D$40) -> 3 | F10: =D10*E10 -> 0 | H10: =D10*G10 -> 0 | J10: =D10*I10 -> 0 | L10: =D10*K10 -> 0 | M10: =SUM(E10,G10,I10,K10)*$C2 -> 0 | N10: oignon | O10: botte
A11: =B11&C11 -> carotteskg | B11: carottes | C11: kg | D11: =SUMPRODUCT((legumes=$B11)*(Prix!$C$2:$C$40=$C11)*Prix!$D$2:$D$40) -> 3 | F11: =D11*E11 -> 0 | H11: =D11*G11 -> 0 | J11: =D11*I11 -> 0 | L11: =D11*K11 -> 0 | M11: =SUM(E11,G11,I11,K11)*$C2 -> 0 | N11: persil | O11: bqt
A12: =B12&C12 -> carotteskg | B12: carottes | C12: kg | D12: =SUMPRODUCT((legumes=$B12)*(Prix!$C$2:$C$40=$C12)*Prix!$D$2:$D$40) -> 3 | F12: =D12*E12 -> 0 | H12: =D12*G12 -> 0 | J12: =D12*I12 -> 0 | L12: =D12*K12 -> 0 | M12: =SUM(E12,G12,I12,K12)*$C2 -> 0 | N12: radis | O12: botte
A13: =B13&C13 -> oignonskg | B13: oignons | C13: kg | D13: =SUMPRODUCT((legumes=$B13)*(Prix!$C$2:$C$40=$C13)*Prix!$D$2:$D$40) -> 4.5 | E13: 10 | F13: =D13*E13 -> 45 | H13: =D13*G13 -> 0 | J13: =D13*I13 -> 0 | L13: =D13*K13 -> 0 | M13: =SUM(E13,G13,I13,K13)*$C2 -> 300 | N13: laitue | O13: pièce
A14: =B14&C14 -> oignonskg | B14: oignons | C14: kg | D14: =SUMPRODUCT((legumes=$B14)*(Prix!$C$2:$C$40=$C14)*Prix!$D$2:$D$40) -> 4.5 | M14: =SUM(E14,G14,I14,K14)*$C2 -> 0
B15: Prix du panier | F15: =SUM(F5:F13) -> 63.5 | H15: =SUM(H5:H13) -> 0 | J15: =SUM(J5:J13) -> 0 | L15: =SUM(L5:L13) -> 0
B17: total en € | C17: =SUM(F15,H15,J15,L15) -> 63.5 | F17: total annuel | H17: =Mai!D13+Juin!C17 -> 77

Sheet Juillet
B1: Prévision de contenu de panier pour AMAP juillet 2009
B2: nombre paniers | C2: 30 | E2: semaine 27 | G2: semaine 28 | I2: semaine 29 | K2: semaine 30 | M2: semaine 31 | O2: Quantité nécessaire
B3: JUILLET | P3: JUILLET
B4: Légumes | C4: Unité | D4: P. U. | E4: Qté | F4: Montant | G4: Qté | H4: Montant | I4: Qté | J4: Montant | K4: Qté | L4: Montant | M4: Qté | N4: Montant | P4: Légumes | Q4: Unité
A5: =B5&C5 -> carottesKg | B5: carottes | C5: Kg | D5: =SUMPRODUCT((legumes=$B5)*(Prix!$C$2:$C$40=$C5)*Prix!$D$2:$D$40) -> 3 | E5: 2 | F5: =D5*E5 -> 6 | H5: =D5*G5 -> 0 | J5: =D5*I5 -> 0 | L5: =D5*K5 -> 0 | N5: =M5*D5 -> 0 | O5: =SUM(E5,G5,I5,K5,M5)*$C2 -> 60 | P5: aubergine | Q5: kg
A6: =B6&C6 -> carottesKg | B6: carottes | C6: Kg | D6: =SUMPRODUCT((legumes=$B6)*(Prix!$C$2:$C$40=$C6)*Prix!$D$2:$D$40) -> 3 | E6: 2 | F6: =D6*E6 -> 6 | H6: =D6*G6 -> 0 | J6: =D6*I6 -> 0 | L6: =D6*K6 -> 0 | N6: =M6*D6 -> 0 | O6: =SUM(E6,G6,I6,K6,M6)*$C2 -> 60 | P6: betteraves | Q6: kg
A7: =B7&C7 -> carottesKg | B7: carottes | C7: Kg | D7: =SUMPRODUCT((legumes=$B7)*(Prix!$C$2:$C$40=$C7)*Prix!$D$2:$D$40) -> 3 | F7: =D7*E7 -> 0 | H7: =D7*G7 -> 0 | J7: =D7*I7 -> 0 | L7: =D7*K7 -> 0 | N7: =M7*D7 -> 0 | O7: =SUM(E7,G7,I7,K7,M7)*$C2 -> 0 | P7: blettes | Q7: kg
A8: =B8&C8 -> carottesKg | B8: carottes | C8: Kg | D8: =SUMPRODUCT((legumes=$B8)*(Prix!$C$2:$C$40=$C8)*Prix!$D$2:$D$40) -> 3 | F8: =D8*E8 -> 0 | H8: =D8*G8 -> 0 | J8: =D8*I8 -> 0 | L8: =D8*K8 -> 0 | N8: =M8*D8 -> 0 | O8: =SUM(E8,G8,I8,K8,M8)*$C2 -> 0 | P8: carotte | Q8: botte
A9: =B9&C9 -> carottesKg | B9: carottes | C9: Kg | D9: =SUMPRODUCT((legumes=$B9)*(Prix!$C$2:$C$40=$C9)*Prix!$D$2:$D$40) -> 3 | F9: =D9*E9 -> 0 | H9: =D9*G9 -> 0 | J9: =D9*I9 -> 0 | L9: =D9*K9 -> 0 | N9: =M9*D9 -> 0 | O9: =SUM(E9,G9,I9,K9,M9)*$C2 -> 0 | P9: chou brocoli | Q9: kg
A10: =B10&C10 -> carottesKg | B10: carottes | C10: Kg | D10: =SUMPRODUCT((legumes=$B10)*(Prix!$C$2:$C$40=$C10)*Prix!$D$2:$D$40) -> 3 | F10: =D10*E10 -> 0 | H10: =D10*G10 -> 0 | J10: =D10*I10 -> 0 | L10: =D10*K10 -> 0 | N10: =M10*D10 -> 0 | O10: =SUM(E10,G10,I10,K10,M10)*$C2 -> 0 | P10: choux rave | Q10: pièce
A11: =B11&C11 -> carottesKg | B11: carottes | C11: Kg | D11: =SUMPRODUCT((legumes=$B11)*(Prix!$C$2:$C$40=$C11)*Prix!$D$2:$D$40) -> 3 | F11: =D11*E11 -> 0 | H11: =D11*G11 -> 0 | J11: =D11*I11 -> 0 | L11: =D11*K11 -> 0 | N11: =M11*D11 -> 0 | O11: =SUM(E11,G11,I11,K11,M11)*$C2 -> 0 | P11: concombres | Q11: pièce
A12: =B12&C12 -> carottesKg | B12: carottes | C12: Kg | D12: =SUMPRODUCT((legumes=$B12)*(Prix!$C$2:$C$40=$C12)*Prix!$D$2:$D$40) -> 3 | F12: =D12*E12 -> 0 | H12: =D12*G12 -> 0 | J12: =D12*I12 -> 0 | L12: =D12*K12 -> 0 | N12: =M12*D12 -> 0 | O12: =SUM(E12,G12,I12,K12,M12)*$C2 -> 0 | P12: courgette | Q12: kg
A13: =B13&C13 -> carottesKg | B13: carottes | C13: Kg | D13: =SUMPRODUCT((legumes=$B13)*(Prix!$C$2:$C$40=$C13)*Prix!$D$2:$D$40) -> 3 | F13: =D13*E13 -> 0 | H13: =D13*G13 -> 0 | J13: =D13*I13 -> 0 | L13: =D13*K13 -> 0 | N13: =M13*D13 -> 0 | O13: =SUM(E13,G13,I13,K13,M13)*$C2 -> 0 | P13: épinard | Q13: kg
A14: =B14&C14 -> carottesKg | B14: carottes | C14: Kg | D14: =SUMPRODUCT((legumes=$B14)*(Prix!$C$2:$C$40=$C14)*Prix!$D$2:$D$40) -> 3 | F14: =D14*E14 -> 0 | H14: =D14*G14 -> 0 | J14: =D14*I14 -> 0 | L14: =D14*K14 -> 0 | N14: =M14*D14 -> 0 | O14: =SUM(E14,G14,I14,K14,M14)*$C2 -> 0 | P14: navets | Q14: kg
A15: =B15&C15 -> carottesKg | B15: carottes | C15: Kg | D15: =SUMPRODUCT((legumes=$B15)*(Prix!$C$2:$C$40=$C15)*Prix!$D$2:$D$40) -> 3 | F15: =D15*E15 -> 0 | H15: =D15*G15 -> 0 | J15: =D15*I15 -> 0 | L15: =D15*K15 -> 0 | N15: =M15*D15 -> 0 | O15: =SUM(E15,G15,I15,K15,M15)*$C2 -> 0 | P15: oignon | Q15: botte
A16: =B16&C16 -> carottesKg | B16: carottes | C16: Kg | D16: =SUMPRODUCT((legumes=$B16)*(Prix!$C$2:$C$40=$C16)*Prix!$D$2:$D$40) -> 3 | F16: =D16*E16 -> 0 | H16: =D16*G16 -> 0 | J16: =D16*I16 -> 0 | L16: =D16*K16 -> 0 | N16: =M16*D16 -> 0 | O16: =SUM(E16,G16,I16,K16,M16)*$C2 -> 0 | P16: persil | Q16: bq
A17: =B17&C17 -> radisBotte | B17: radis | C17: Botte | D17: =SUMPRODUCT((legumes=$B17)*(Prix!$C$2:$C$40=$C17)*Prix!$D$2:$D$40) -> 1 | F17: =D17*E17 -> 0 | H17: =D17*G17 -> 0 | J17: =D17*I17 -> 0 | L17: =D17*K17 -> 0 | N17: =M17*D17 -> 0 | O17: =SUM(E17,G17,I17,K17,M17)*$C2 -> 0 | P17: radis | Q17: botte
A18: =B18&C18 -> carottesKg | B18: carottes | C18: Kg | D18: =SUMPRODUCT((legumes=$B18)*(Prix!$C$2:$C$40=$C18)*Prix!$D$2:$D$40) -> 3 | F18: =D18*E18 -> 0 | H18: =D18*G18 -> 0 | J18: =D18*I18 -> 0 | L18: =D18*K18 -> 0 | N18: =M18*D18 -> 0 | O18: =SUM(E18,G18,I18,K18,M18)*$C2 -> 0 | P18: salade | Q18: pièce
A19: =B19&C19 -> carottesKg | B19: carottes | C19: Kg | D19: =SUMPRODUCT((legumes=$B19)*(Prix!$C$2:$C$40=$C19)*Prix!$D$2:$D$40) -> 3 | F19: =D19*E19 -> 0 | H19: =D19*G19 -> 0 | J19: =D19*I19 -> 0 | L19: =D19*K19 -> 0 | N19: =M19*D19 -> 0 | O19: =SUM(E19,G19,I19,K19,M19)*$C2 -> 0 | P19: tomates | Q19: kg
A20: =B20&C20 -> carottesKg | B20: carottes | C20: Kg | D20: =SUMPRODUCT((legumes=$B20)*(Prix!$C$2:$C$40=$C20)*Prix!$D$2:$D$40) -> 3 | O20: =SUM(E20,G20,I20,K20,M20)*$C2 -> 0
B21: Prix du panier | F21: =SUM(F5:F19) -> 12 | H21: =SUM(H5:H19) -> 0 | J21: =SUM(J5:J19) -> 0 | L21: =SUM(L5:L19) -> 0 | N21: =SUM(N5:N19) -> 0
B23: Total en € | C23: =SUM(F21,H21,J21,L21,N21) -> 12 | D23: total année | F23: =Mai!D13+Juin!C17+Juillet!C23 -> 89

Sheet Août
B1: Prévision de contenu de panier pour AMAP juillet 2009
B2: nombre paniers | C2: 30 | E2: semaine 27 | G2: semaine 28 | I2: semaine 29 | K2: semaine 30 | M2: semaine 31 | O2: Quantité nécessaire
B3: AOUT | P3: AOUT
B4: Légumes | C4: Unité | D4: P. U. | E4: Qté | F4: Montant | G4: Qté | H4: Montant | I4: Qté | J4: Montant | K4: Qté | L4: Montant | M4: Qté | N4: Montant | P4: Légumes | Q4: Unité
A5: =B5&C5 -> carottesBotte | B5: carottes | C5: Botte | D5: =SUMPRODUCT((legumes=$B5)*(Prix!$C$2:$C$40=$C5)*Prix!$D$2:$D$40) -> 2.5 | E5: 1 | F5: =D5*E5 -> 2.5 | H5: =D5*G5 -> 0 | J5: =D5*I5 -> 0 | L5: =D5*K5 -> 0 | N5: =M5*D5 -> 0 | O5: =SUM(E5,G5,I5,K5,M5)*$C2 -> 30 | P5: aubergine | Q5: kg
A6: =B6&C6 -> carottesBotte | B6: carottes | C6: Botte | D6: =SUMPRODUCT((legumes=$B6)*(Prix!$C$2:$C$40=$C6)*Prix!$D$2:$D$40) -> 2.5 | E6: 1 | F6: =D6*E6 -> 2.5 | H6: =D6*G6 -> 0 | J6: =D6*I6 -> 0 | L6: =D6*K6 -> 0 | N6: =M6*D6 -> 0 | O6: =SUM(E6,G6,I6,K6,M6)*$C2 -> 30 | P6: betteraves | Q6: kg
A7: =B7&C7 -> carottesBotte | B7: carottes | C7: Botte | D7: =SUMPRODUCT((legumes=$B7)*(Prix!$C$2:$C$40=$C7)*Prix!$D$2:$D$40) -> 2.5 | F7: =D7*E7 -> 0 | H7: =D7*G7 -> 0 | J7: =D7*I7 -> 0 | L7: =D7*K7 -> 0 | N7: =M7*D7 -> 0 | O7: =SUM(E7,G7,I7,K7,M7)*$C2 -> 0 | P7: blettes | Q7: kg
A8: =B8&C8 -> carottesBotte | B8: carottes | C8: Botte | D8: =SUMPRODUCT((legumes=$B8)*(Prix!$C$2:$C$40=$C8)*Prix!$D$2:$D$40) -> 2.5 | F8: =D8*E8 -> 0 | H8: =D8*G8 -> 0 | J8: =D8*I8 -> 0 | L8: =D8*K8 -> 0 | N8: =M8*D8 -> 0 | O8: =SUM(E8,G8,I8,K8,M8)*$C2 -> 0 | P8: carotte | Q8: botte
A9: =B9&C9 -> carottesBotte | B9: carottes | C9: Botte | D9: =SUMPRODUCT((legumes=$B9)*(Prix!$C$2:$C$40=$C9)*Prix!$D$2:$D$40) -> 2.5 | F9: =D9*E9 -> 0 | H9: =D9*G9 -> 0 | J9: =D9*I9 -> 0 | L9: =D9*K9 -> 0 | N9: =M9*D9 -> 0 | O9: =SUM(E9,G9,I9,K9,M9)*$C2 -> 0 | P9: chou brocoli | Q9: kg
A10: =B10&C10 -> carottesBotte | B10: carottes | C10: Botte | D10: =SUMPRODUCT((legumes=$B10)*(Prix!$C$2:$C$40=$C10)*Prix!$D$2:$D$40) -> 2.5 | F10: =D10*E10 -> 0 | H10: =D10*G10 -> 0 | J10: =D10*I10 -> 0 | L10: =D10*K10 -> 0 | N10: =M10*D10 -> 0 | O10: =SUM(E10,G10,I10,K10,M10)*$C2 -> 0 | P10: choux rave | Q10: pièce
A11: =B11&C11 -> carottesBotte | B11: carottes | C11: Botte | D11: =SUMPRODUCT((legumes=$B11)*(Prix!$C$2:$C$40=$C11)*Prix!$D$2:$D$40) -> 2.5 | F11: =D11*E11 -> 0 | H11: =D11*G11 -> 0 | J11: =D11*I11 -> 0 | L11: =D11*K11 -> 0 | N11: =M11*D11 -> 0 | O11: =SUM(E11,G11,I11,K11,M11)*$C2 -> 0 | P11: concombres | Q11: pièce
A12: =B12&C12 -> carottesBotte | B12: carottes | C12: Botte | D12: =SUMPRODUCT((legumes=$B12)*(Prix!$C$2:$C$40=$C12)*Prix!$D$2:$D$40) -> 2.5 | F12: =D12*E12 -> 0 | H12: =D12*G12 -> 0 | J12: =D12*I12 -> 0 | L12: =D12*K12 -> 0 | N12: =M12*D12 -> 0 | O12: =SUM(E12,G12,I12,K12,M12)*$C2 -> 0 | P12: courgette | Q12: kg
A13: =B13&C13 -> carottesBotte | B13: carottes | C13: Botte | D13: =SUMPRODUCT((legumes=$B13)*(Prix!$C$2:$C$40=$C13)*Prix!$D$2:$D$40) -> 2.5 | F13: =D13*E13 -> 0 | H13: =D13*G13 -> 0 | J13: =D13*I13 -> 0 | L13: =D13*K13 -> 0 | N13: =M13*D13 -> 0 | O13: =SUM(E13,G13,I13,K13,M13)*$C2 -> 0 | P13: épinard | Q13: kg
A14: =B14&C14 -> carottesBotte | B14: carottes | C14: Botte | D14: =SUMPRODUCT((legumes=$B14)*(Prix!$C$2:$C$40=$C14)*Prix!$D$2:$D$40) -> 2.5 | F14: =D14*E14 -> 0 | H14: =D14*G14 -> 0 | J14: =D14*I14 -> 0 | L14: =D14*K14 -> 0 | N14: =M14*D14 -> 0 | O14: =SUM(E14,G14,I14,K14,M14)*$C2 -> 0 | P14: navets | Q14: kg
A15: =B15&C15 -> saladePiece | B15: salade | C15: Piece | D15: =SUMPRODUCT((legumes=$B15)*(Prix!$C$2:$C$40=$C15)*Prix!$D$2:$D$40) -> 2 | E15: 2 | F15: =D15*E15 -> 4 | H15: =D15*G15 -> 0 | J15: =D15*I15 -> 0 | L15: =D15*K15 -> 0 | N15: =M15*D15 -> 0 | O15: =SUM(E15,G15,I15,K15,M15)*$C2 -> 60 | P15: oignon | Q15: botte
A16: =B16&C16 -> carottesBotte | B16: carottes | C16: Botte | D16: =SUMPRODUCT((legumes=$B16)*(Prix!$C$2:$C$40=$C16)*Prix!$D$2:$D$40) -> 2.5 | F16: =D16*E16 -> 0 | H16: =D16*G16 -> 0 | J16: =D16*I16 -> 0 | L16: =D16*K16 -> 0 | N16: =M16*D16 -> 0 | O16: =SUM(E16,G16,I16,K16,M16)*$C2 -> 0 | P16: persil | Q16: bq
A17: =B17&C17 -> carottesBotte | B17: carottes | C17: Botte | D17: =SUMPRODUCT((legumes=$B17)*(Prix!$C$2:$C$40=$C17)*Prix!$D$2:$D$40) -> 2.5 | F17: =D17*E17 -> 0 | H17: =D17*G17 -> 0 | J17: =D17*I17 -> 0 | L17: =D17*K17 -> 0 | N17: =M17*D17 -> 0 | O17: =SUM(E17,G17,I17,K17,M17)*$C2 -> 0 | P17: radis | Q17: botte
A18: =B18&C18 -> carottesBotte | B18: carottes | C18: Botte | D18: =SUMPRODUCT((legumes=$B18)*(Prix!$C$2:$C$40=$C18)*Prix!$D$2:$D$40) -> 2.5 | F18: =D18*E18 -> 0 | H18: =D18*G18 -> 0 | J18: =D18*I18 -> 0 | L18: =D18*K18 -> 0 | N18: =M18*D18 -> 0 | O18: =SUM(E18,G18,I18,K18,M18)*$C2 -> 0 | P18: salade | Q18: pièce
A19: =B19&C19 -> carottesBotte | B19: carottes | C19: Botte | D19: =SUMPRODUCT((legumes=$B19)*(Prix!$C$2:$C$40=$C19)*Prix!$D$2:$D$40) -> 2.5 | F19: =D19*E19 -> 0 | H19: =D19*G19 -> 0 | J19: =D19*I19 -> 0 | L19: =D19*K19 -> 0 | N19: =M19*D19 -> 0 | O19: =SUM(E19,G19,I19,K19,M19)*$C2 -> 0 | P19: tomates | Q19: kg
A20: =B20&C20 -> carottesBotte | B20: carottes | C20: Botte | D20: =SUMPRODUCT((legumes=$B20)*(Prix!$C$2:$C$40=$C20)*Prix!$D$2:$D$40) -> 2.5 | F20: =D20*E20 -> 0 | H20: =D20*G20 -> 0 | J20: =D20*I20 -> 0 | L20: =D20*K20 -> 0 | N20: =M20*D20 -> 0
B21: Prix du panier | F21: =SUM(F5:F19) -> 9 | H21: =SUM(H5:H19) -> 0 | J21: =SUM(J5:J19) -> 0 | L21: =SUM(L5:L19) -> 0 | N21: =SUM(N5:N19) -> 0
B23: Total en € | C23: =SUM(F21,H21,J21,L21,N21) -> 9 | D23: total année | F23: =Mai!D13+Juin!C17+Juillet!C23+Août!C23 -> 98

Sheet septembre
B1: Prévision de contenu de panier pour AMAP juillet 2009
B2: nombre paniers | C2: 30 | E2: semaine 27 | G2: semaine 28 | I2: semaine 29 | K2: semaine 30 | M2: semaine 31 | O2: Quantité nécessaire
B3: SEPTEMBRE | P3: SEPTEMBRE
B4: Légumes | C4: Unité | D4: P. U. | E4: Qté | F4: Montant | G4: Qté | H4: Montant | I4: Qté | J4: Montant | K4: Qté | L4: Montant | M4: Qté | N4: Montant | P4: Légumes | Q4: Unité
A5: =B5&C5 -> carottesKg | B5: carottes | C5: Kg | D5: =SUMPRODUCT((legumes=$B5)*(Prix!$C$2:$C$40=$C5)*Prix!$D$2:$D$40) -> 3 | F5: =D5*E5 -> 0 | H5: =D5*G5 -> 0 | J5: =D5*I5 -> 0 | L5: =D5*K5 -> 0 | N5: =M5*D5 -> 0 | O5: =SUM(E5,G5,I5,K5,M5)*$C2 -> 0 | P5: aubergine | Q5: kg
A6: =B6&C6 -> carottesKg | B6: carottes | C6: Kg | D6: =SUMPRODUCT((legumes=$B6)*(Prix!$C$2:$C$40=$C6)*Prix!$D$2:$D$40) -> 3 | F6: =D6*E6 -> 0 | H6: =D6*G6 -> 0 | J6: =D6*I6 -> 0 | L6: =D6*K6 -> 0 | N6: =M6*D6 -> 0 | O6: =SUM(E6,G6,I6,K6,M6)*$C2 -> 0 | P6: betteraves | Q6: kg
A7: =B7&C7 -> carottesKg | B7: carottes | C7: Kg | D7: =SUMPRODUCT((legumes=$B7)*(Prix!$C$2:$C$40=$C7)*Prix!$D$2:$D$40) -> 3 | F7: =D7*E7 -> 0 | H7: =D7*G7 -> 0 | J7: =D7*I7 -> 0 | L7: =D7*K7 -> 0 | N7: =M7*D7 -> 0 | O7: =SUM(E7,G7,I7,K7,M7)*$C2 -> 0 | P7: blettes | Q7: kg
A8: =B8&C8 -> carottesKg | B8: carottes | C8: Kg | D8: =SUMPRODUCT((legumes=$B8)*(Prix!$C$2:$C$40=$C8)*Prix!$D$2:$D$40) -> 3 | F8: =D8*E8 -> 0 | H8: =D8*G8 -> 0 | J8: =D8*I8 -> 0 | L8: =D8*K8 -> 0 | N8: =M8*D8 -> 0 | O8: =SUM(E8,G8,I8,K8,M8)*$C2 -> 0 | P8: carotte | Q8: botte
A9: =B9&C9 -> carottesKg | B9: carottes | C9: Kg | D9: =SUMPRODUCT((legumes=$B9)*(Prix!$C$2:$C$40=$C9)*Prix!$D$2:$D$40) -> 3 | F9: =D9*E9 -> 0 | H9: =D9*G9 -> 0 | J9: =D9*I9 -> 0 | L9: =D9*K9 -> 0 | N9: =M9*D9 -> 0 | O9: =SUM(E9,G9,I9,K9,M9)*$C2 -> 0 | P9: chou brocoli | Q9: kg
A10: =B10&C10 -> carottesKg | B10: carottes | C10: Kg | D10: =SUMPRODUCT((legumes=$B10)*(Prix!$C$2:$C$40=$C10)*Prix!$D$2:$D$40) -> 3 | F10: =D10*E10 -> 0 | H10: =D10*G10 -> 0 | J10: =D10*I10 -> 0 | L10: =D10*K10 -> 0 | N10: =M10*D10 -> 0 | O10: =SUM(E10,G10,I10,K10,M10)*$C2 -> 0 | P10: choux rave | Q10: pièce
A11: =B11&C11 -> carottesKg | B11: carottes | C11: Kg | D11: =SUMPRODUCT((legumes=$B11)*(Prix!$C$2:$C$40=$C11)*Prix!$D$2:$D$40) -> 3 | F11: =D11*E11 -> 0 | H11: =D11*G11 -> 0 | J11: =D11*I11 -> 0 | L11: =D11*K11 -> 0 | N11: =M11*D11 -> 0 | O11: =SUM(E11,G11,I11,K11,M11)*$C2 -> 0 | P11: concombres | Q11: pièce
A12: =B12&C12 -> carottesKg | B12: carottes | C12: Kg | D12: =SUMPRODUCT((legumes=$B12)*(Prix!$C$2:$C$40=$C12)*Prix!$D$2:$D$40) -> 3 | F12: =D12*E12 -> 0 | H12: =D12*G12 -> 0 | J12: =D12*I12 -> 0 | L12: =D12*K12 -> 0 | N12: =M12*D12 -> 0 | O12: =SUM(E12,G12,I12,K12,M12)*$C2 -> 0 | P12: courgette | Q12: kg
A13: =B13&C13 -> carottesKg | B13: carottes | C13: Kg | D13: =SUMPRODUCT((legumes=$B13)*(Prix!$C$2:$C$40=$C13)*Prix!$D$2:$D$40) -> 3 | F13: =D13*E13 -> 0 | H13: =D13*G13 -> 0 | J13: =D13*I13 -> 0 | L13: =D13*K13 -> 0 | N13: =M13*D13 -> 0 | O13: =SUM(E13,G13,I13,K13,M13)*$C2 -> 0 | P13: épinard | Q13: kg
A14: =B14&C14 -> carottesKg | B14: carottes | C14: Kg | D14: =SUMPRODUCT((legumes=$B14)*(Prix!$C$2:$C$40=$C14)*Prix!$D$2:$D$40) -> 3 | F14: =D14*E14 -> 0 | H14: =D14*G14 -> 0 | J14: =D14*I14 -> 0 | L14: =D14*K14 -> 0 | N14: =M14*D14 -> 0 | O14: =SUM(E14,G14,I14,K14,M14)*$C2 -> 0 | P14: navets | Q14: kg
A15: =B15&C15 -> carottesKg | B15: carottes | C15: Kg | D15: =SUMPRODUCT((legumes=$B15)*(Prix!$C$2:$C$40=$C15)*Prix!$D$2:$D$40) -> 3 | F15: =D15*E15 -> 0 | H15: =D15*G15 -> 0 | J15: =D15*I15 -> 0 | L15: =D15*K15 -> 0 | N15: =M15*D15 -> 0 | O15: =SUM(E15,G15,I15,K15,M15)*$C2 -> 0 | P15: oignon | Q15: botte
A16: =B16&C16 -> carottesKg | B16: carottes | C16: Kg | D16: =SUMPRODUCT((legumes=$B16)*(Prix!$C$2:$C$40=$C16)*Prix!$D$2:$D$40) -> 3 | F16: =D16*E16 -> 0 | H16: =D16*G16 -> 0 | J16: =D16*I16 -> 0 | L16: =D16*K16 -> 0 | N16: =M16*D16 -> 0 | O16: =SUM(E16,G16,I16,K16,M16)*$C2 -> 0 | P16: persil | Q16: bq
A17: =B17&C17 -> carottesKg | B17: carottes | C17: Kg | D17: =SUMPRODUCT((legumes=$B17)*(Prix!$C$2:$C$40=$C17)*Prix!$D$2:$D$40) -> 3 | F17: =D17*E17 -> 0 | H17: =D17*G17 -> 0 | J17: =D17*I17 -> 0 | L17: =D17*K17 -> 0 | N17: =M17*D17 -> 0 | O17: =SUM(E17,G17,I17,K17,M17)*$C2 -> 0 | P17: poireau | Q17: kg
A18: =B18&C18 -> carottesKg | B18: carottes | C18: Kg | D18: =SUMPRODUCT((legumes=$B18)*(Prix!$C$2:$C$40=$C18)*Prix!$D$2:$D$40) -> 3 | F18: =D18*E18 -> 0 | H18: =D18*G18 -> 0 | J18: =D18*I18 -> 0 | L18: =D18*K18 -> 0 | N18: =M18*D18 -> 0 | O18: =SUM(E18,G18,I18,K18,M18)*$C2 -> 0 | P18: radis | Q18: botte
A19: =B19&C19 -> carottesKg | B19: carottes | C19: Kg | D19: =SUMPRODUCT((legumes=$B19)*(Prix!$C$2:$C$40=$C19)*Prix!$D$2:$D$40) -> 3 | F19: =D19*E19 -> 0 | H19: =D19*G19 -> 0 | J19: =D19*I19 -> 0 | L19: =D19*K19 -> 0 | N19: =M19*D19 -> 0 | O19: =SUM(E19,G19,I19,K19,M19)*$C2 -> 0 | P19: radis noir | Q19: kg
A20: =B20&C20 -> persilBqt | B20: persil | C20: Bqt | D20: =SUMPRODUCT((legumes=$B20)*(Prix!$C$2:$C$40=$C20)*Prix!$D$2:$D$40) -> 1 | E20: 1 | F20: =D20*E20 -> 1 | H20: =D20*G20 -> 0 | J20: =D20*I20 -> 0 | L20: =D20*K20 -> 0 | N20: =M20*D20 -> 0 | O20: =SUM(E20,G20,I20,K20,M20)*$C2 -> 30 | P20: salade | Q20: pièce
A21: =B21&C21 -> carottesKg | B21: carottes | C21: Kg | D21: =SUMPRODUCT((legumes=$B21)*(Prix!$C$2:$C$40=$C21)*Prix!$D$2:$D$40) -> 3 | F21: =D21*E21 -> 0 | H21: =D21*G21 -> 0 | J21: =D21*I21 -> 0 | L21: =D21*K21 -> 0 | N21: =M21*D21 -> 0 | O21: =SUM(E21,G21,I21,K21,M21)*$C2 -> 0 | P21: tomates | Q21: kg
A22: =B22&C22 -> carottesKg | B22: carottes | C22: Kg | D22: =SUMPRODUCT((legumes=$B22)*(Prix!$C$2:$C$40=$C22)*Prix!$D$2:$D$40) -> 3 | F22: =D22*E22 -> 0 | H22: =D22*G22 -> 0 | J22: =D22*I22 -> 0 | L22: =D22*K22 -> 0 | N22: =M22*D22 -> 0 | O22: =SUM(E22,G22,I22,K22,M22)*$C3 -> 0
B23: Prix du panier | F23: =SUM(F5:F21) -> 1 | H23: =SUM(H5:H21) -> 0 | J23: =SUM(J5:J21) -> 0 | L23: =SUM(L5:L21) -> 0 | N23: =SUM(N5:N21) -> 0
B25: Total en € | C25: =SUM(F23,H23,J23,L23,N23) -> 1 | D25: total année | F25: =septembre!C25+Mai!D13+Juin!C17+Juillet!C23+Août!C23 -> 99

Sheet Octobre
B1: Prévision de contenu de panier pour AMAP juillet 2009
B2: nombre paniers | C2: 30 | E2: semaine 27 | G2: semaine 28 | I2: semaine 29 | K2: semaine 30 | M2: semaine 31 | O2: Quantité nécessaire
B3: OCTOBRE | P3: OCTOBRE
B4: Légumes | C4: Unité | D4: P. U. | E4: Qté | F4: Montant | G4: Qté | H4: Montant | I4: Qté | J4: Montant | K4: Qté | L4: Montant | M4: Qté | N4: Montant | P4: Légumes | Q4: Unité
A5: =B5&C5 -> carottesKg | B5: carottes | C5: Kg | D5: =SUMPRODUCT((legumes=$B5)*(Prix!$C$2:$C$40=$C5)*Prix!$D$2:$D$40) -> 3 | F5: =D5*E5 -> 0 | H5: =D5*G5 -> 0 | J5: =D5*I5 -> 0 | L5: =D5*K5 -> 0 | N5: =M5*D5 -> 0 | O5: =SUM(E5,G5,I5,K5,M5)*$C2 -> 0 | P5: aubergine | Q5: kg
A6: =B6&C6 -> aubergineKg | B6: aubergine | C6: Kg | D6: =SUMPRODUCT((legumes=$B6)*(Prix!$C$2:$C$40=$C6)*Prix!$D$2:$D$40) -> 0 | F6: =D6*E6 -> 0 | H6: =D6*G6 -> 0 | J6: =D6*I6 -> 0 | L6: =D6*K6 -> 0 | N6: =M6*D6 -> 0 | O6: =SUM(E6,G6,I6,K6,M6)*$C2 -> 0 | P6: betteraves | Q6: kg
A7: =B7&C7 -> aubergineKg | B7: aubergine | C7: Kg | D7: =SUMPRODUCT((legumes=$B7)*(Prix!$C$2:$C$40=$C7)*Prix!$D$2:$D$40) -> 0 | F7: =D7*E7 -> 0 | H7: =D7*G7 -> 0 | J7: =D7*I7 -> 0 | L7: =D7*K7 -> 0 | N7: =M7*D7 -> 0 | O7: =SUM(E7,G7,I7,K7,M7)*$C2 -> 0 | P7: blettes | Q7: kg
A8: =B8&C8 -> aubergineKg | B8: aubergine | C8: Kg | D8: =SUMPRODUCT((legumes=$B8)*(Prix!$C$2:$C$40=$C8)*Prix!$D$2:$D$40) -> 0 | F8: =D8*E8 -> 0 | H8: =D8*G8 -> 0 | J8: =D8*I8 -> 0 | L8: =D8*K8 -> 0 | N8: =M8*D8 -> 0 | O8: =SUM(E8,G8,I8,K8,M8)*$C2 -> 0 | P8: carotte | Q8: botte
A9: =B9&C9 -> aubergineKg | B9: aubergine | C9: Kg | D9: =SUMPRODUCT((legumes=$B9)*(Prix!$C$2:$C$40=$C9)*Prix!$D$2:$D$40) -> 0 | F9: =D9*E9 -> 0 | H9: =D9*G9 -> 0 | J9: =D9*I9 -> 0 | L9: =D9*K9 -> 0 | N9: =M9*D9 -> 0 | O9: =SUM(E9,G9,I9,K9,M9)*$C2 -> 0 | P9: chou | Q9: kg
A10: =B10&C10 -> aubergineKg | B10: aubergine | C10: Kg | D10: =SUMPRODUCT((legumes=$B10)*(Prix!$C$2:$C$40=$C10)*Prix!$D$2:$D$40) -> 0 | F10: =D10*E10 -> 0 | H10: =D10*G10 -> 0 | J10: =D10*I10 -> 0 | L10: =D10*K10 -> 0 | N10: =M10*D10 -> 0 | O10: =SUM(E10,G10,I10,K10,M10)*$C2 -> 0 | P10: chou brocoli | Q10: kg
A11: =B11&C11 -> aubergineKg | B11: aubergine | C11: Kg | D11: =SUMPRODUCT((legumes=$B11)*(Prix!$C$2:$C$40=$C11)*Prix!$D$2:$D$40) -> 0 | F11: =D11*E11 -> 0 | H11: =D11*G11 -> 0 | J11: =D11*I11 -> 0 | L11: =D11*K11 -> 0 | N11: =M11*D11 -> 0 | O11: =SUM(E11,G11,I11,K11,M11)*$C2 -> 0 | P11: choux rave | Q11: pièce
A12: =B12&C12 -> aubergineKg | B12: aubergine | C12: Kg | D12: =SUMPRODUCT((legumes=$B12)*(Prix!$C$2:$C$40=$C12)*Prix!$D$2:$D$40) -> 0 | F12: =D12*E12 -> 0 | H12: =D12*G12 -> 0 | J12: =D12*I12 -> 0 | L12: =D12*K12 -> 0 | N12: =M12*D12 -> 0 | O12: =SUM(E12,G12,I12,K12,M12)*$C2 -> 0 | P12: concombres | Q12: pièce
A13: =B13&C13 -> aubergineKg | B13: aubergine | C13: Kg | D13: =SUMPRODUCT((legumes=$B13)*(Prix!$C$2:$C$40=$C13)*Prix!$D$2:$D$40) -> 0 | F13: =D13*E13 -> 0 | H13: =D13*G13 -> 0 | J13: =D13*I13 -> 0 | L13: =D13*K13 -> 0 | N13: =M13*D13 -> 0 | O13: =SUM(E13,G13,I13,K13,M13)*$C2 -> 0 | P13: courge | Q13: kg
A14: =B14&C14 -> aubergineKg | B14: aubergine | C14: Kg | D14: =SUMPRODUCT((legumes=$B14)*(Prix!$C$2:$C$40=$C14)*Prix!$D$2:$D$40) -> 0 | F14: =D14*E14 -> 0 | H14: =D14*G14 -> 0 | J14: =D14*I14 -> 0 | L14: =D14*K14 -> 0 | N14: =M14*D14 -> 0 | O14: =SUM(E14,G14,I14,K14,M14)*$C2 -> 0 | P14: courgette | Q14: kg
A15: =B15&C15 -> betteravesKg | B15: betteraves | C15: Kg | D15: =SUMPRODUCT((legumes=$B15)*(Prix!$C$2:$C$40=$C15)*Prix!$D$2:$D$40) -> 2.2 | E15: 2 | F15: =D15*E15 -> 4.4 | H15: =D15*G15 -> 0 | J15: =D15*I15 -> 0 | L15: =D15*K15 -> 0 | N15: =M15*D15 -> 0 | O15: =SUM(E15,G15,I15,K15,M15)*$C2 -> 60 | P15: épinard | Q15: kg
A16: =B16&C16 -> aubergineKg | B16: aubergine | C16: Kg | D16: =SUMPRODUCT((legumes=$B16)*(Prix!$C$2:$C$40=$C16)*Prix!$D$2:$D$40) -> 0 | F16: =D16*E16 -> 0 | H16: =D16*G16 -> 0 | J16: =D16*I16 -> 0 | L16: =D16*K16 -> 0 | N16: =M16*D16 -> 0 | O16: =SUM(E16,G16,I16,K16,M16)*$C2 -> 0 | P16: navets | Q16: kg
A17: =B17&C17 -> aubergineKg | B17: aubergine | C17: Kg | D17: =SUMPRODUCT((legumes=$B17)*(Prix!$C$2:$C$40=$C17)*Prix!$D$2:$D$40) -> 0 | F17: =D17*E17 -> 0 | H17: =D17*G17 -> 0 | J17: =D17*I17 -> 0 | L17: =D17*K17 -> 0 | N17: =M17*D17 -> 0 | O17: =SUM(E17,G17,I17,K17,M17)*$C2 -> 0 | P17: oignon | Q17: botte
A18: =B18&C18 -> aubergineKg | B18: aubergine | C18: Kg | D18: =SUMPRODUCT((legumes=$B18)*(Prix!$C$2:$C$40=$C18)*Prix!$D$2:$D$40) -> 0 | F18: =D18*E18 -> 0 | H18: =D18*G18 -> 0 | J18: =D18*I18 -> 0 | L18: =D18*K18 -> 0 | N18: =M18*D18 -> 0 | O18: =SUM(E18,G18,I18,K18,M18)*$C2 -> 0 | P18: persil | Q18: bq
A19: =B19&C19 -> aubergineKg | B19: aubergine | C19: Kg | D19: =SUMPRODUCT((legumes=$B19)*(Prix!$C$2:$C$40=$C19)*Prix!$D$2:$D$40) -> 0 | F19: =D19*E19 -> 0 | H19: =D19*G19 -> 0 | J19: =D19*I19 -> 0 | L19: =D19*K19 -> 0 | N19: =M19*D19 -> 0 | O19: =SUM(E19,G19,I19,K19,M19)*$C2 -> 0 | P19: poireaux | Q19: kg
A20: =B20&C20 -> aubergineKg | B20: aubergine | C20: Kg | D20: =SUMPRODUCT((legumes=$B20)*(Prix!$C$2:$C$40=$C20)*Prix!$D$2:$D$40) -> 0 | F20: =D20*E20 -> 0 | H20: =D20*G20 -> 0 | J20: =D20*I20 -> 0 | L20: =D20*K20 -> 0 | N20: =M20*D20 -> 0 | O20: =SUM(E20,G20,I20,K20,M20)*$C2 -> 0 | P20: radis | Q20: botte
A21: =B21&C21 -> aubergineKg | B21: aubergine | C21: Kg | D21: =SUMPRODUCT((legumes=$B21)*(Prix!$C$2:$C$40=$C21)*Prix!$D$2:$D$40) -> 0 | F21: =D21*E21 -> 0 | H21: =D21*G21 -> 0 | J21: =D21*I21 -> 0 | L21: =D21*K21 -> 0 | N21: =M21*D21 -> 0 | O21: =SUM(E21,G21,I21,K21,M21)*$C2 -> 0 | P21: radis noir | Q21: kg
A22: =B22&C22 -> aubergineKg | B22: aubergine | C22: Kg | D22: =SUMPRODUCT((legumes=$B22)*(Prix!$C$2:$C$40=$C22)*Prix!$D$2:$D$40) -> 0 | F22: =D22*E22 -> 0 | H22: =D22*G22 -> 0 | J22: =D22*I22 -> 0 | L22: =D22*K22 -> 0 | N22: =M22*D22 -> 0 | O22: =SUM(E22,G22,I22,K22,M22)*$C2 -> 0 | P22: salade | Q22: pièce
A23: =B23&C23 -> aubergineKg | B23: aubergine | C23: Kg | D23: =SUMPRODUCT((legumes=$B23)*(Prix!$C$2:$C$40=$C23)*Prix!$D$2:$D$40) -> 0 | F23: =D23*E23 -> 0 | H23: =D23*G23 -> 0 | J23: =D23*I23 -> 0 | L23: =D23*K23 -> 0 | N23: =M23*D23 -> 0 | O23: =SUM(E23,G23,I23,K23,M23)*$C2 -> 0 | P23: tomates | Q23: kg
A24: =B24&C24 -> aubergineKg | B24: aubergine | C24: Kg | D24: =SUMPRODUCT((legumes=$B24)*(Prix!$C$2:$C$40=$C24)*Prix!$D$2:$D$40) -> 0 | F24: =D24*E24 -> 0 | H24: =D24*G24 -> 0 | J24: =D24*I24 -> 0 | L24: =D24*K24 -> 0 | N24: =M24*D24 -> 0 | O24: =SUM(E24,G24,I24,K24,M24)*$C3 -> 0
B25: Prix du panier | F25: =SUM(F5:F23) -> 4.4 | H25: =SUM(H5:H23) -> 0 | J25: =SUM(J5:J23) -> 0 | L25: =SUM(L5:L23) -> 0 | N25: =SUM(N5:N23) -> 0
B27: Total en € | C27: =SUM(F25,H25,J25,L25,N25) -> 4.4 | D27: total année | F27: =Octobre!C27+Mai!D13+Juin!C17+Juillet!C23+Août!C23+septembre!C25 -> 103.4

Sheet Recap
A1: 2014 | D1: mai | E1: juin | F1: juil | G1: aout | H1: sept | I1: oct | J1: Quantité total
A2: Légumes | B2: Unité | C2: P. U. | D2: Qté | E2: Qté | F2: Qté | G2: Qté | H2: Qté | I2: Qté | J2: nécessaire | K2: Légumes
A3: aubergines | B3: kg | F3: =Juillet!O5 -> 60 | G3: =Août!O5 -> 30 | H3: =septembre!O5 -> 0 | I3: =Octobre!O5 -> 0 | J3: =SUM(D3:I3) -> 90 | K3: aubergines
A4: betterave | B4: kg | F4: =Juillet!O6 -> 60 | G4: =Août!O6 -> 30 | H4: =septembre!O6 -> 0 | I4: =Octobre!O6 -> 0 | J4: =SUM(D4:I4) -> 90 | K4: betterave
A5: blette | B5: kg | E5: =Juin!M5 -> 150 | F5: =Juillet!O7 -> 0 | G5: =Août!O7 -> 0 | H5: =septembre!O7 -> 0 | I5: =Octobre!O7 -> 0 | J5: =SUM(D5:I5) -> 150 | K5: blette
A6: brocoli | B6: kg | F6: =Juillet!O9 -> 0 | G6: =Août!O9 -> 0 | H6: =septembre!O9 -> 0 | I6: =Octobre!O10 -> 0 | J6: =SUM(D6:I6) -> 0 | K6: choux brocolis
A7: carottes | B7: kg | D7: =Mai!M5 -> 30 | E7: =Juin!M6 -> 60 | F7: =Juillet!O8 -> 0 | G7: =Août!O8 -> 0 | H7: =septembre!O8 -> 0 | I7: =Octobre!O8 -> 0 | J7: =SUM(D7:I7) -> 90 | K7: carottes
A8: choux | B8: kg | I8: =Octobre!O9 -> 0 | J8: =SUM(D8:I8) -> 0 | K8: choux
A9: choux raves | B9: pièce | E9: =Juin!M7 -> 0 | F9: =Juillet!O10 -> 0 | G9: =Août!O10 -> 0 | H9: =septembre!O10 -> 0 | I9: =Octobre!O11 -> 0 | J9: =SUM(D9:I9) -> 0 | K9: choux raves
A10: concombre | B10: pièce | F10: =Juillet!O11 -> 0 | G10: =Août!O11 -> 0 | H10: =septembre!O11 -> 0 | I10: =Octobre!O12 -> 0 | J10: =SUM(D10:I10) -> 0 | K10: concombre
A11: courge | B11: kg | I11: =Octobre!O13 -> 0 | J11: =SUM(D11:I11) -> 0 | K11: courge
A12: courgettes | B12: kg | E12: =Juin!M8 -> 0 | F12: =Juillet!O12 -> 0 | G12: =Août!O12 -> 0 | H12: =septembre!O12 -> 0 | I12: =Octobre!O14 -> 0 | J12: =SUM(D12:I12) -> 0 | K12: courgettes
A13: épinard | B13: kg | F13: =Juillet!O13 -> 0 | G13: =Août!O13 -> 0 | H13: =septembre!O13 -> 0 | I13: =Octobre!O15 -> 60 | J13: =SUM(D13:I13) -> 60 | K13: épinard
A14: navet | B14: kg | E14: =Juin!M9 -> 0 | F14: =Juillet!O14 -> 0 | G14: =Août!O14 -> 0 | H14: =septembre!O14 -> 0 | I14: =Octobre!O16 -> 0 | J14: =SUM(D14:I14) -> 0 | K14: navet
A15: oignons | B15: botte | D15: =Mai!M6 -> 30 | E15: =Juin!M10 -> 0 | F15: =Juillet!O15 -> 0 | G15: =Août!O15 -> 60 | H15: =septembre!O15 -> 0 | I15: =Octobre!O17 -> 0 | J15: =SUM(D15:I15) -> 90 | K15: oignons
A16: persil | B16: bqt | D16: =Mai!M7 -> 30 | E16: =Juin!M11 -> 0 | F16: =Juillet!O16 -> 0 | G16: =Août!O16 -> 0 | H16: =septembre!O16 -> 0 | I16: =Octobre!O18 -> 0 | J16: =SUM(D16:I16) -> 30 | K16: persil
A17: poireaux | B17: kg | H17: =septembre!O17 -> 0 | I17: =Octobre!O19 -> 0 | J17: =SUM(D17:I17) -> 0 | K17: poireaux
A18: radis | B18: botte | D18: =Mai!M8 -> 30 | E18: =Juin!M12 -> 0 | F18: =Juillet!O17 -> 0 | G18: =Août!O17 -> 0 | H18: =septembre!O18 -> 0 | I18: =Octobre!O20 -> 0 | J18: =SUM(D18:I18) -> 30 | K18: radis
A19: radis noir | B19: kg | H19: =septembre!O19 -> 0 | I19: =Octobre!O21 -> 0 | J19: =SUM(D19:I19) -> 0 | K19: radis noir
A20: salades | B20: pièce | D20: =Mai!M9 -> 30 | F20: =Juillet!O18 -> 0 | G20: =Août!O18 -> 0 | H20: =septembre!O20 -> 30 | I20: =Octobre!O22 -> 0 | J20: =SUM(D20:I20) -> 60 | K20: laitues
A21: tomates | B21: kg | F21: =Juillet!O19 -> 0 | G21: =Août!O19 -> 0 | H21: =septembre!O21 -> 0 | I21: =Octobre!O23 -> 0 | J21: =SUM(D21:I21) -> 0 | K21: tomates
D22: mai | E22: juin | F22: juil | G22: aout | H22: sept | I22: oct
A23: Tableurs d'application de la méthode de planification des cultures d'une AMAP, pour des paniers de légumes équilibrés toute l'année, présentée dans la revue Passerelle Eco n°32

Sheet Unite
A1: Kg
A2: Botte
A3: Bqt
A4: Piece
