Workbook

Sheet N
A1: 2014
C2: Nom :
A3: MENSUEL | C3: 41640 | D3: 41671 | E3: 41699 | F3: 41730 | G3: 41760 | H3: 41791 | I3: 41821 | J3: 41852 | K3: 41883 | L3: 41913 | M3: 41944 | N3: 41974 | P3: TOTAL
A4: Hôtel
A5: Réservations | P5: =+SUM(C5:N5) -> 0
A6: Nombre de chambres louées | P6: =+SUM(C4:N4) -> 0
A7: Taux occupation | P7: =+SUM(C5:N5) -> 0
A8: Prix moyen hébergement | P8: =+SUM(C6:N6) -> 0
B10: Effectif Héberg Fixes | P10: =+SUM(C10:N10) -> 0
B11: Effectif Héberg Saisonniers | P11: =+SUM(C11:N11) -> 0
B12: Effectif Héberg Intérim | P12: =+SUM(C12:N12) -> 0
A13: Effectif Hébergement | C13: =+C10+C11+C12 -> 0 | D13: =+D10+D11+D12 -> 0 | E13: =+E10+E11+E12 -> 0 | F13: =+F10+F11+F12 -> 0 | G13: =+G10+G11+G12 -> 0 | H13: =+H10+H11+H12 -> 0 | I13: =+I10+I11+I12 -> 0 | J13: =+J10+J11+J12 -> 0 | ... N13: =+N10+N11+N12 -> 0 | P13: =+SUM(C13:N13) -> 0
A14: Couverts Restaurant & Banquet | P14: =+SUM(C14:N14) -> 0
A15: Couverts PDJ | P15: =+SUM(C15:N15) -> 0
A16: Prix moyen Restaurant & Banquet | P16: =+SUM(C16:N16) -> 0
A17: Prix moyen PDJ | P17: =+SUM(C17:N17) -> 0
B18: Effectif Rest Fixes | P18: =+SUM(C18:N18) -> 0
B19: Effectif Rest Saisonniers | P19: =+SUM(C19:N19) -> 0
B20: Effectif Rest Intérim | P20: =+SUM(C20:N20) -> 0
A21: Effectif Restauration | C21: =+C20+C19+C18 -> 0 | D21: =+D20+D19+D18 -> 0 | E21: =+E20+E19+E18 -> 0 | F21: =+F20+F19+F18 -> 0 | G21: =+G20+G19+G18 -> 0 | H21: =+H20+H19+H18 -> 0 | I21: =+I20+I19+I18 -> 0 | J21: =+J20+J19+J18 -> 0 | ... N21: =+N20+N19+N18 -> 0 | P21: =+SUM(C21:N21) -> 0
A22: Effectif Divers | P22: =+SUM(C22:N22) -> 0
A24: Chiffre d'affaires Hébergement HT | P24: =+SUM(C24:N24) -> 0
A25: Chiffre d'affaires Restauration HT | P25: =+SUM(C25:N25) -> 0
A26: Chiffre d'affaires Divers HT | P26: =+SUM(C26:N26) -> 0
A27: Total Chiffre d'affaires HT | C27: =+C24+C25+C26 -> 0 | D27: =+D24+D25+D26 -> 0 | E27: =+E24+E25+E26 -> 0 | F27: =+F24+F25+F26 -> 0 | G27: =+G24+G25+G26 -> 0 | H27: =+H24+H25+H26 -> 0 | I27: =+I24+I25+I26 -> 0 | J27: =+J24+J25+J26 -> 0 | ... N27: =+N24+N25+N26 -> 0 | P27: =+SUM(C27:N27) -> 0
A29: Couts Marchandises Restauration | P29: =+SUM(C29:N29) -> 0
A30: Couts Marchandises divers (boutique HDL) | P30: =+SUM(C30:N30) -> 0
A31: Total M/ses Consommées | C31: =+C30+C29 -> 0 | D31: =+D30+D29 -> 0 | E31: =+E30+E29 -> 0 | F31: =+F30+F29 -> 0 | G31: =+G30+G29 -> 0 | H31: =+H30+H29 -> 0 | I31: =+I30+I29 -> 0 | J31: =+J30+J29 -> 0 | ... N31: =+N30+N29 -> 0 | P31: =+SUM(C31:N31) -> 0
A32: Ratio M/ses consommées restau | C32: =+C29/C25 -> #DIV/0! | D32: =+D29/D25 -> #DIV/0! | E32: =+E29/E25 -> #DIV/0! | F32: =+F29/F25 -> #DIV/0! | G32: =+G29/G25 -> #DIV/0! | H32: =+H29/H25 -> #DIV/0! | I32: =+I29/I25 -> #DIV/0! | J32: =+J29/J25 -> #DIV/0! | ... N32: =+N29/N25 -> #DIV/0! | P32: =+P29/P25 -> #DIV/0!
A33: Marge Brute | C33: =+C27-C31 -> 0 | D33: =+D27-D31 -> 0 | E33: =+E27-E31 -> 0 | F33: =+F27-F31 -> 0 | G33: =+G27-G31 -> 0 | H33: =+H27-H31 -> 0 | I33: =+I27-I31 -> 0 | J33: =+J27-J31 -> 0 | ... N33: =+N27-N31 -> 0 | P33: =+SUM(C33:N33) -> 0
A35: Intérim | C35: =+C36+C37+C38+C39 -> 0 | D35: =+D36+D37+D38+D39 -> 0 | E35: =+E36+E37+E38+E39 -> 0 | F35: =+F36+F37+F38+F39 -> 0 | G35: =+G36+G37+G38+G39 -> 0 | H35: =+H36+H37+H38+H39 -> 0 | I35: =+I36+I37+I38+I39 -> 0 | J35: =+J36+J37+J38+J39 -> 0 | ... N35: =+N36+N37+N38+N39 -> 0 | P35: =+P36+P37+P38+P39 -> 0
B36: Intérim Réception | P36: =+SUM(C36:N36) -> 0
B37: Intérim Hébergement | P37: =+SUM(C37:N37) -> 0
B38: Intérim Restauration | P38: =+SUM(C38:N38) -> 0
B39: Intérim Admin Comm | P39: =+SUM(C39:N39) -> 0
A40: Salaires bruts | C40: =+SUM(C41:C44) -> 0 | D40: =+SUM(D41:D44) -> 0 | E40: =+SUM(E41:E44) -> 0 | F40: =+SUM(F41:F44) -> 0 | G40: =+SUM(G41:G44) -> 0 | H40: =+SUM(H41:H44) -> 0 | I40: =+SUM(I41:I44) -> 0 | J40: =+SUM(J41:J44) -> 0 | ... N40: =+SUM(N41:N44) -> 0 | P40: =+SUM(P41:P44) -> 0
B41: SB Réception | P41: =+SUM(C41:N41) -> 0
B42: SB Hébergement | P42: =+SUM(C42:N42) -> 0
B43: SB Restauration | P43: =+SUM(C43:N43) -> 0
B44: SB Admin Comm | P44: =+SUM(C44:N44) -> 0
...

Sheet N-1
A1: 2013
C2: Nom :
A3: MENSUEL | C3: JANVIER | D3: FÉVRIER | E3: MARS | F3: AVRIL | G3: MAI | H3: JUIN | I3: JUILLET | J3: AOÛT | K3: SEPT | L3: OCTOBRE | M3: NOVEM | N3: DECEMB | P3: TOTAL
A4: Hôtel
A5: Réservations | P5: =+SUM(C5:N5) -> 0
A6: Nombre de chambres louées | P6: =+SUM(C4:N4) -> 0
A7: Taux occupation | P7: =+SUM(C5:N5) -> 0
A8: Prix moyen hébergement | P8: =+SUM(C6:N6) -> 0
B10: Effectif Héberg Fixes | P10: =+SUM(C10:N10) -> 0
B11: Effectif Héberg Saisonniers | P11: =+SUM(C11:N11) -> 0
B12: Effectif Héberg Intérim | P12: =+SUM(C12:N12) -> 0
A13: Effectif Hébergement | C13: =+C10+C11+C12 -> 0 | D13: =+D10+D11+D12 -> 0 | E13: =+E10+E11+E12 -> 0 | F13: =+F10+F11+F12 -> 0 | G13: =+G10+G11+G12 -> 0 | H13: =+H10+H11+H12 -> 0 | I13: =+I10+I11+I12 -> 0 | J13: =+J10+J11+J12 -> 0 | ... N13: =+N10+N11+N12 -> 0 | P13: =+SUM(C13:N13) -> 0
A14: Couverts Restaurant & Banquet | P14: =+SUM(C14:N14) -> 0
A15: Couverts PDJ | P15: =+SUM(C15:N15) -> 0
A16: Prix moyen Restaurant & Banquet | P16: =+SUM(C16:N16) -> 0
A17: Prix moyen PDJ | P17: =+SUM(C17:N17) -> 0
B18: Effectif Rest Fixes | P18: =+SUM(C18:N18) -> 0
B19: Effectif Rest Saisonniers | P19: =+SUM(C19:N19) -> 0
B20: Effectif Rest Intérim | P20: =+SUM(C20:N20) -> 0
A21: Effectif Restauration | C21: =+C20+C19+C18 -> 0 | D21: =+D20+D19+D18 -> 0 | E21: =+E20+E19+E18 -> 0 | F21: =+F20+F19+F18 -> 0 | G21: =+G20+G19+G18 -> 0 | H21: =+H20+H19+H18 -> 0 | I21: =+I20+I19+I18 -> 0 | J21: =+J20+J19+J18 -> 0 | ... N21: =+N20+N19+N18 -> 0 | P21: =+SUM(C21:N21) -> 0
A22: Effectif Divers | P22: =+SUM(C22:N22) -> 0
A24: Chiffre d'affaires Hébergement HT | P24: =+SUM(C24:N24) -> 0
A25: Chiffre d'affaires Restauration HT | P25: =+SUM(C25:N25) -> 0
A26: Chiffre d'affaires Divers HT | P26: =+SUM(C26:N26) -> 0
A27: Total Chiffre d'affaires HT | C27: =+C24+C25+C26 -> 0 | D27: =+D24+D25+D26 -> 0 | E27: =+E24+E25+E26 -> 0 | F27: =+F24+F25+F26 -> 0 | G27: =+G24+G25+G26 -> 0 | H27: =+H24+H25+H26 -> 0 | I27: =+I24+I25+I26 -> 0 | J27: =+J24+J25+J26 -> 0 | ... N27: =+N24+N25+N26 -> 0 | P27: =+SUM(C27:N27) -> 0
A29: Couts Marchandises Restauration | P29: =+SUM(C29:N29) -> 0
A30: Couts Marchandises divers (boutique HDL) | P30: =+SUM(C30:N30) -> 0
A31: Total M/ses Consommées | C31: =+C30+C29 -> 0 | D31: =+D30+D29 -> 0 | E31: =+E30+E29 -> 0 | F31: =+F30+F29 -> 0 | G31: =+G30+G29 -> 0 | H31: =+H30+H29 -> 0 | I31: =+I30+I29 -> 0 | J31: =+J30+J29 -> 0 | ... N31: =+N30+N29 -> 0 | P31: =+SUM(C31:N31) -> 0
A32: Ratio M/ses consommées restau | C32: =+C29/C25 -> #DIV/0! | D32: =+D29/D25 -> #DIV/0! | E32: =+E29/E25 -> #DIV/0! | F32: =+F29/F25 -> #DIV/0! | G32: =+G29/G25 -> #DIV/0! | H32: =+H29/H25 -> #DIV/0! | I32: =+I29/I25 -> #DIV/0! | J32: =+J29/J25 -> #DIV/0! | ... N32: =+N29/N25 -> #DIV/0! | P32: =+P29/P25 -> #DIV/0!
A33: Marge Brute | C33: =+C27-C31 -> 0 | D33: =+D27-D31 -> 0 | E33: =+E27-E31 -> 0 | F33: =+F27-F31 -> 0 | G33: =+G27-G31 -> 0 | H33: =+H27-H31 -> 0 | I33: =+I27-I31 -> 0 | J33: =+J27-J31 -> 0 | ... N33: =+N27-N31 -> 0 | P33: =+SUM(C33:N33) -> 0
A35: Intérim | C35: =+C36+C37+C38+C39 -> 0 | D35: =+D36+D37+D38+D39 -> 0 | E35: =+E36+E37+E38+E39 -> 0 | F35: =+F36+F37+F38+F39 -> 0 | G35: =+G36+G37+G38+G39 -> 0 | H35: =+H36+H37+H38+H39 -> 0 | I35: =+I36+I37+I38+I39 -> 0 | J35: =+J36+J37+J38+J39 -> 0 | ... N35: =+N36+N37+N38+N39 -> 0 | P35: =+P36+P37+P38+P39 -> 0
B36: Intérim Réception | P36: =+SUM(C36:N36) -> 0
B37: Intérim Hébergement | P37: =+SUM(C37:N37) -> 0
B38: Intérim Restauration | P38: =+SUM(C38:N38) -> 0
B39: Intérim Admin Comm | P39: =+SUM(C39:N39) -> 0
A40: Salaires bruts | C40: =+SUM(C41:C44) -> 0 | D40: =+SUM(D41:D44) -> 0 | E40: =+SUM(E41:E44) -> 0 | F40: =+SUM(F41:F44) -> 0 | G40: =+SUM(G41:G44) -> 0 | H40: =+SUM(H41:H44) -> 0 | I40: =+SUM(I41:I44) -> 0 | J40: =+SUM(J41:J44) -> 0 | ... N40: =+SUM(N41:N44) -> 0 | P40: =+SUM(P41:P44) -> 0
B41: SB Réception | P41: =+SUM(C41:N41) -> 0
B42: SB Hébergement | P42: =+SUM(C42:N42) -> 0
B43: SB Restauration | P43: =+SUM(C43:N43) -> 0
B44: SB Admin Comm | P44: =+SUM(C44:N44) -> 0
...

Sheet BUDGET
A1: 2015
C2: Nom :
A3: MENSUEL | C3: 42005 | D3: 42036 | E3: 42064 | F3: 42095 | G3: 42125 | H3: 42156 | I3: 42186 | J3: 42217 | K3: 42248 | L3: 42278 | M3: 42309 | N3: 42339 | P3: TOTAL
A4: Hôtel
A5: Réservations | P5: =+SUM(C5:N5) -> 0
A6: Nombre de chambres louées | P6: =+SUM(C4:N4) -> 0
A7: Taux occupation | P7: =+SUM(C5:N5) -> 0
A8: Prix moyen hébergement | P8: =+SUM(C6:N6) -> 0
B10: Effectif Héberg Fixes | P10: =+SUM(C10:N10) -> 0
B11: Effectif Héberg Saisonniers | P11: =+SUM(C11:N11) -> 0
B12: Effectif Héberg Intérim | P12: =+SUM(C12:N12) -> 0
A13: Effectif Hébergement | C13: =+C10+C11+C12 -> 0 | D13: =+D10+D11+D12 -> 0 | E13: =+E10+E11+E12 -> 0 | F13: =+F10+F11+F12 -> 0 | G13: =+G10+G11+G12 -> 0 | H13: =+H10+H11+H12 -> 0 | I13: =+I10+I11+I12 -> 0 | J13: =+J10+J11+J12 -> 0 | ... N13: =+N10+N11+N12 -> 0 | P13: =+SUM(C13:N13) -> 0
A14: Couverts Restaurant & Banquet | P14: =+SUM(C14:N14) -> 0
A15: Couverts PDJ | P15: =+SUM(C15:N15) -> 0
A16: Prix moyen Restaurant & Banquet | P16: =+SUM(C16:N16) -> 0
A17: Prix moyen PDJ | P17: =+SUM(C17:N17) -> 0
B18: Effectif Rest Fixes | P18: =+SUM(C18:N18) -> 0
B19: Effectif Rest Saisonniers | P19: =+SUM(C19:N19) -> 0
B20: Effectif Rest Intérim | P20: =+SUM(C20:N20) -> 0
A21: Effectif Restauration | C21: =+C20+C19+C18 -> 0 | D21: =+D20+D19+D18 -> 0 | E21: =+E20+E19+E18 -> 0 | F21: =+F20+F19+F18 -> 0 | G21: =+G20+G19+G18 -> 0 | H21: =+H20+H19+H18 -> 0 | I21: =+I20+I19+I18 -> 0 | J21: =+J20+J19+J18 -> 0 | ... N21: =+N20+N19+N18 -> 0 | P21: =+SUM(C21:N21) -> 0
A22: Effectif Divers | P22: =+SUM(C22:N22) -> 0
A24: Chiffre d'affaires Hébergement HT | P24: =+SUM(C24:N24) -> 0
A25: Chiffre d'affaires Restauration HT | P25: =+SUM(C25:N25) -> 0
A26: Chiffre d'affaires Divers HT | P26: =+SUM(C26:N26) -> 0
A27: Total Chiffre d'affaires HT | C27: =+C24+C25+C26 -> 0 | D27: =+D24+D25+D26 -> 0 | E27: =+E24+E25+E26 -> 0 | F27: =+F24+F25+F26 -> 0 | G27: =+G24+G25+G26 -> 0 | H27: =+H24+H25+H26 -> 0 | I27: =+I24+I25+I26 -> 0 | J27: =+J24+J25+J26 -> 0 | ... N27: =+N24+N25+N26 -> 0 | P27: =+SUM(C27:N27) -> 0
A29: Couts Marchandises Restauration | P29: =+SUM(C29:N29) -> 0
A30: Couts Marchandises divers (boutique HDL) | P30: =+SUM(C30:N30) -> 0
A31: Total M/ses Consommées | C31: =+C30+C29 -> 0 | D31: =+D30+D29 -> 0 | E31: =+E30+E29 -> 0 | F31: =+F30+F29 -> 0 | G31: =+G30+G29 -> 0 | H31: =+H30+H29 -> 0 | I31: =+I30+I29 -> 0 | J31: =+J30+J29 -> 0 | ... N31: =+N30+N29 -> 0 | P31: =+SUM(C31:N31) -> 0
A32: Ratio M/ses consommées restau | C32: =+C29/C25 -> #DIV/0! | D32: =+D29/D25 -> #DIV/0! | E32: =+E29/E25 -> #DIV/0! | F32: =+F29/F25 -> #DIV/0! | G32: =+G29/G25 -> #DIV/0! | H32: =+H29/H25 -> #DIV/0! | I32: =+I29/I25 -> #DIV/0! | J32: =+J29/J25 -> #DIV/0! | ... N32: =+N29/N25 -> #DIV/0! | P32: =+P29/P25 -> #DIV/0!
A33: Marge Brute | C33: =+C27-C31 -> 0 | D33: =+D27-D31 -> 0 | E33: =+E27-E31 -> 0 | F33: =+F27-F31 -> 0 | G33: =+G27-G31 -> 0 | H33: =+H27-H31 -> 0 | I33: =+I27-I31 -> 0 | J33: =+J27-J31 -> 0 | ... N33: =+N27-N31 -> 0 | P33: =+SUM(C33:N33) -> 0
A35: Intérim | C35: =+C36+C37+C38+C39 -> 0 | D35: =+D36+D37+D38+D39 -> 0 | E35: =+E36+E37+E38+E39 -> 0 | F35: =+F36+F37+F38+F39 -> 0 | G35: =+G36+G37+G38+G39 -> 0 | H35: =+H36+H37+H38+H39 -> 0 | I35: =+I36+I37+I38+I39 -> 0 | J35: =+J36+J37+J38+J39 -> 0 | ... N35: =+N36+N37+N38+N39 -> 0 | P35: =+P36+P37+P38+P39 -> 0
B36: Intérim Réception | P36: =+SUM(C36:N36) -> 0
B37: Intérim Hébergement | P37: =+SUM(C37:N37) -> 0
B38: Intérim Restauration | P38: =+SUM(C38:N38) -> 0
B39: Intérim Admin Comm | P39: =+SUM(C39:N39) -> 0
A40: Salaires bruts | C40: =+SUM(C41:C44) -> 0 | D40: =+SUM(D41:D44) -> 0 | E40: =+SUM(E41:E44) -> 0 | F40: =+SUM(F41:F44) -> 0 | G40: =+SUM(G41:G44) -> 0 | H40: =+SUM(H41:H44) -> 0 | I40: =+SUM(I41:I44) -> 0 | J40: =+SUM(J41:J44) -> 0 | ... N40: =+SUM(N41:N44) -> 0 | P40: =+SUM(P41:P44) -> 0
B41: SB Réception | P41: =+SUM(C41:N41) -> 0
B42: SB Hébergement | P42: =+SUM(C42:N42) -> 0
B43: SB Restauration | P43: =+SUM(C43:N43) -> 0
B44: SB Admin Comm | P44: =+SUM(C44:N44) -> 0
...

Sheet Ecarts N-1
A1: 2014
A2: DATE | C2: Nom :
A3: MENSUEL | C3: 41640 | D3: N-1 | E3: Ecarts | F3: 41671 | G3: N-1 | H3: Ecarts | I3: 41699 | J3: N-1 | K3: Ecarts | L3: 41730 | M3: N-1 | N3: Ecarts | O3: 41760 | P3: N-1 | Q3: Ecarts | R3: 41791 | S3: N-1 | T3: Ecarts | U3: 41821 | V3: N-1 | W3: Ecarts | X3: 41852 | Y3: N-1 | Z3: Ecarts | AA3: 41883 | AB3: N-1 | AC3: Ecarts | AD3: 41913 | AE3: N-1 | AF3: Ecarts | AG3: 41944 | AH3: N-1 | AI3: Ecarts | AJ3: 41974 | AK3: N-1 | AL3: Ecarts
A4: Hôtel
A5: Réservations | C5: =+N!C5 -> 0 | D5: =+'N-1'!C5 -> 0 | E5: =+D5-C5 -> 0 | F5: =+N!D5 -> 0 | G5: =+'N-1'!D5 -> 0 | H5: =+G5-F5 -> 0 | I5: =+N!E5 -> 0 | J5: =+'N-1'!E5 -> 0 | K5: =+J5-I5 -> 0 | L5: =+N!F5 -> 0 | M5: =+'N-1'!F5 -> 0 | N5: =+M5-L5 -> 0 | O5: =+N!G5 -> 0 | P5: =+'N-1'!G5 -> 0 | Q5: =+P5-O5 -> 0 | R5: =+N!H5 -> 0 | S5: =+'N-1'!H5 -> 0 | T5: =+S5-R5 -> 0 | U5: =+N!I5 -> 0 | V5: =+'N-1'!I5 -> 0 | W5: =+V5-U5 -> 0 | X5: =+N!J5 -> 0 | Y5: =+'N-1'!J5 -> 0 | Z5: =+Y5-X5 -> 0 | AA5: =+N!K5 -> 0 | AB5: =+'N-1'!K5 -> 0 | AC5: =+AB5-AA5 -> 0 | AD5: =+N!L5 -> 0 | AE5: =+'N-1'!L5 -> 0 | AF5: =+AE5-AD5 -> 0 | AG5: =+N!M5 -> 0 | AH5: =+'N-1'!M5 -> 0 | AI5: =+AH5-AG5 -> 0 | AJ5: =+N!N5 -> 0 | AK5: =+'N-1'!N5 -> 0 | AL5: =+AK5-AJ5 -> 0
A6: Nombre de chambres louées | C6: =+N!C6 -> 0 | D6: =+'N-1'!C6 -> 0 | E6: =+D6-C6 -> 0 | F6: =+N!D6 -> 0 | G6: =+'N-1'!D6 -> 0 | H6: =+G6-F6 -> 0 | I6: =+N!E6 -> 0 | J6: =+'N-1'!E6 -> 0 | K6: =+J6-I6 -> 0 | L6: =+N!F6 -> 0 | M6: =+'N-1'!F6 -> 0 | N6: =+M6-L6 -> 0 | O6: =+N!G6 -> 0 | P6: =+'N-1'!G6 -> 0 | Q6: =+P6-O6 -> 0 | R6: =+N!H6 -> 0 | S6: =+'N-1'!H6 -> 0 | T6: =+S6-R6 -> 0 | U6: =+N!I6 -> 0 | V6: =+'N-1'!I6 -> 0 | W6: =+V6-U6 -> 0 | X6: =+N!J6 -> 0 | Y6: =+'N-1'!J6 -> 0 | Z6: =+Y6-X6 -> 0 | AA6: =+N!K6 -> 0 | AB6: =+'N-1'!K6 -> 0 | AC6: =+AB6-AA6 -> 0 | AD6: =+N!L6 -> 0 | AE6: =+'N-1'!L6 -> 0 | AF6: =+AE6-AD6 -> 0 | AG6: =+N!M6 -> 0 | AH6: =+'N-1'!M6 -> 0 | AI6: =+AH6-AG6 -> 0 | AJ6: =+N!N6 -> 0 | AK6: =+'N-1'!N6 -> 0 | AL6: =+AK6-AJ6 -> 0
A7: Taux occupation | C7: =+N!C7 -> 0 | D7: =+'N-1'!C7 -> 0 | E7: =+D7-C7 -> 0 | F7: =+N!D7 -> 0 | G7: =+'N-1'!D7 -> 0 | H7: =+G7-F7 -> 0 | I7: =+N!E7 -> 0 | J7: =+'N-1'!E7 -> 0 | K7: =+J7-I7 -> 0 | L7: =+N!F7 -> 0 | M7: =+'N-1'!F7 -> 0 | N7: =+M7-L7 -> 0 | O7: =+N!G7 -> 0 | P7: =+'N-1'!G7 -> 0 | Q7: =+P7-O7 -> 0 | R7: =+N!H7 -> 0 | S7: =+'N-1'!H7 -> 0 | T7: =+S7-R7 -> 0 | U7: =+N!I7 -> 0 | V7: =+'N-1'!I7 -> 0 | W7: =+V7-U7 -> 0 | X7: =+N!J7 -> 0 | Y7: =+'N-1'!J7 -> 0 | Z7: =+Y7-X7 -> 0 | AA7: =+N!K7 -> 0 | AB7: =+'N-1'!K7 -> 0 | AC7: =+AB7-AA7 -> 0 | AD7: =+N!L7 -> 0 | AE7: =+'N-1'!L7 -> 0 | AF7: =+AE7-AD7 -> 0 | AG7: =+N!M7 -> 0 | AH7: =+'N-1'!M7 -> 0 | AI7: =+AH7-AG7 -> 0 | AJ7: =+N!N7 -> 0 | AK7: =+'N-1'!N7 -> 0 | AL7: =+AK7-AJ7 -> 0
A8: Prix moyen hébergement | C8: =+N!C8 -> 0 | D8: =+'N-1'!C8 -> 0 | E8: =+D8-C8 -> 0 | F8: =+N!D8 -> 0 | G8: =+'N-1'!D8 -> 0 | H8: =+G8-F8 -> 0 | I8: =+N!E8 -> 0 | J8: =+'N-1'!E8 -> 0 | K8: =+J8-I8 -> 0 | L8: =+N!F8 -> 0 | M8: =+'N-1'!F8 -> 0 | N8: =+M8-L8 -> 0 | O8: =+N!G8 -> 0 | P8: =+'N-1'!G8 -> 0 | Q8: =+P8-O8 -> 0 | R8: =+N!H8 -> 0 | S8: =+'N-1'!H8 -> 0 | T8: =+S8-R8 -> 0 | U8: =+N!I8 -> 0 | V8: =+'N-1'!I8 -> 0 | W8: =+V8-U8 -> 0 | X8: =+N!J8 -> 0 | Y8: =+'N-1'!J8 -> 0 | Z8: =+Y8-X8 -> 0 | AA8: =+N!K8 -> 0 | AB8: =+'N-1'!K8 -> 0 | AC8: =+AB8-AA8 -> 0 | AD8: =+N!L8 -> 0 | AE8: =+'N-1'!L8 -> 0 | AF8: =+AE8-AD8 -> 0 | AG8: =+N!M8 -> 0 | AH8: =+'N-1'!M8 -> 0 | AI8: =+AH8-AG8 -> 0 | AJ8: =+N!N8 -> 0 | AK8: =+'N-1'!N8 -> 0 | AL8: =+AK8-AJ8 -> 0
B10: Effectif Héberg Fixes | C10: =+N!C10 -> 0 | D10: =+'N-1'!C10 -> 0 | E10: =+D10-C10 -> 0 | F10: =+N!D10 -> 0 | G10: =+'N-1'!D10 -> 0 | H10: =+G10-F10 -> 0 | I10: =+N!E10 -> 0 | J10: =+'N-1'!E10 -> 0 | K10: =+J10-I10 -> 0 | L10: =+N!F10 -> 0 | M10: =+'N-1'!F10 -> 0 | N10: =+M10-L10 -> 0 | O10: =+N!G10 -> 0 | P10: =+'N-1'!G10 -> 0 | Q10: =+P10-O10 -> 0 | R10: =+N!H10 -> 0 | S10: =+'N-1'!H10 -> 0 | T10: =+S10-R10 -> 0 | U10: =+N!I10 -> 0 | V10: =+'N-1'!I10 -> 0 | W10: =+V10-U10 -> 0 | X10: =+N!J10 -> 0 | Y10: =+'N-1'!J10 -> 0 | Z10: =+Y10-X10 -> 0 | AA10: =+N!K10 -> 0 | AB10: =+'N-1'!K10 -> 0 | AC10: =+AB10-AA10 -> 0 | AD10: =+N!L10 -> 0 | AE10: =+'N-1'!L10 -> 0 | AF10: =+AE10-AD10 -> 0 | AG10: =+N!M10 -> 0 | AH10: =+'N-1'!M10 -> 0 | AI10: =+AH10-AG10 -> 0 | AJ10: =+N!N10 -> 0 | AK10: =+'N-1'!N10 -> 0 | AL10: =+AK10-AJ10 -> 0
B11: Effectif Héberg Saisonniers | C11: =+N!C11 -> 0 | D11: =+'N-1'!C11 -> 0 | E11: =+D11-C11 -> 0 | F11: =+N!D11 -> 0 | G11: =+'N-1'!D11 -> 0 | H11: =+G11-F11 -> 0 | I11: =+N!E11 -> 0 | J11: =+'N-1'!E11 -> 0 | K11: =+J11-I11 -> 0 | L11: =+N!F11 -> 0 | M11: =+'N-1'!F11 -> 0 | N11: =+M11-L11 -> 0 | O11: =+N!G11 -> 0 | P11: =+'N-1'!G11 -> 0 | Q11: =+P11-O11 -> 0 | R11: =+N!H11 -> 0 | S11: =+'N-1'!H11 -> 0 | T11: =+S11-R11 -> 0 | U11: =+N!I11 -> 0 | V11: =+'N-1'!I11 -> 0 | W11: =+V11-U11 -> 0 | X11: =+N!J11 -> 0 | Y11: =+'N-1'!J11 -> 0 | Z11: =+Y11-X11 -> 0 | AA11: =+N!K11 -> 0 | AB11: =+'N-1'!K11 -> 0 | AC11: =+AB11-AA11 -> 0 | AD11: =+N!L11 -> 0 | AE11: =+'N-1'!L11 -> 0 | AF11: =+AE11-AD11 -> 0 | AG11: =+N!M11 -> 0 | AH11: =+'N-1'!M11 -> 0 | AI11: =+AH11-AG11 -> 0 | AJ11: =+N!N11 -> 0 | AK11: =+'N-1'!N11 -> 0 | AL11: =+AK11-AJ11 -> 0
B12: Effectif Héberg Intérim | C12: =+N!C12 -> 0 | D12: =+'N-1'!C12 -> 0 | E12: =+D12-C12 -> 0 | F12: =+N!D12 -> 0 | G12: =+'N-1'!D12 -> 0 | H12: =+G12-F12 -> 0 | I12: =+N!E12 -> 0 | J12: =+'N-1'!E12 -> 0 | K12: =+J12-I12 -> 0 | L12: =+N!F12 -> 0 | M12: =+'N-1'!F12 -> 0 | N12: =+M12-L12 -> 0 | O12: =+N!G12 -> 0 | P12: =+'N-1'!G12 -> 0 | Q12: =+P12-O12 -> 0 | R12: =+N!H12 -> 0 | S12: =+'N-1'!H12 -> 0 | T12: =+S12-R12 -> 0 | U12: =+N!I12 -> 0 | V12: =+'N-1'!I12 -> 0 | W12: =+V12-U12 -> 0 | X12: =+N!J12 -> 0 | Y12: =+'N-1'!J12 -> 0 | Z12: =+Y12-X12 -> 0 | AA12: =+N!K12 -> 0 | AB12: =+'N-1'!K12 -> 0 | AC12: =+AB12-AA12 -> 0 | AD12: =+N!L12 -> 0 | AE12: =+'N-1'!L12 -> 0 | AF12: =+AE12-AD12 -> 0 | AG12: =+N!M12 -> 0 | AH12: =+'N-1'!M12 -> 0 | AI12: =+AH12-AG12 -> 0 | AJ12: =+N!N12 -> 0 | AK12: =+'N-1'!N12 -> 0 | AL12: =+AK12-AJ12 -> 0
A13: Effectif Hébergement | C13: =+C10+C11+C12 -> 0 | E13: =+D13-C13 -> 0 | F13: =+F10+F11+F12 -> 0 | H13: =+G13-F13 -> 0 | I13: =+I10+I11+I12 -> 0 | L13: =+L10+L11+L12 -> 0 | O13: =+O10+O11+O12 -> 0 | R13: =+R10+R11+R12 -> 0 | U13: =+U10+U11+U12 -> 0 | X13: =+N!J13 -> 0 | Y13: =+'N-1'!J13 -> 0 | Z13: =+Y13-X13 -> 0 | AA13: =+N!K13 -> 0 | AB13: =+'N-1'!K13 -> 0 | AC13: =+AB13-AA13 -> 0 | AD13: =+N!L13 -> 0 | AE13: =+'N-1'!L13 -> 0 | AF13: =+AE13-AD13 -> 0 | AG13: =+N!M13 -> 0 | AH13: =+'N-1'!M13 -> 0 | AI13: =+AH13-AG13 -> 0 | AJ13: =+N!N13 -> 0 | AK13: =+'N-1'!N13 -> 0 | AL13: =+AK13-AJ13 -> 0
A14: Couverts Restaurant & Banquet | C14: =N!C14 -> 0 | D14: ='N-1'!C14 -> 0 | E14: =+D14-C14 -> 0 | F14: =N!D14 -> 0 | G14: ='N-1'!D14 -> 0 | H14: =+G14-F14 -> 0 | I14: =N!E14 -> 0 | J14: ='N-1'!E14 -> 0 | K14: =+J14-I14 -> 0 | L14: =N!F14 -> 0 | M14: ='N-1'!F14 -> 0 | N14: =+M14-L14 -> 0 | O14: =N!G14 -> 0 | P14: =N!G14 -> 0 | Q14: =P14-O14 -> 0 | R14: =N!H14 -> 0 | S14: =N!H14 -> 0 | T14: =S14-R14 -> 0 | U14: =N!I14 -> 0 | V14: =N!I14 -> 0 | W14: =V14-U14 -> 0 | X14: =N!J14 -> 0 | Y14: =N!J14 -> 0 | Z14: =N!R14 -> 0 | AA14: =N!K14 -> 0 | AB14: =N!K14 -> 0 | AC14: =N!U14 -> 0 | AD14: =N!L14 -> 0 | AE14: =N!L14 -> 0 | AF14: =N!X14 -> 0 | AG14: =N!M14 -> 0 | AH14: =N!M14 -> 0 | AI14: =N!AA14 -> 0 | AJ14: =N!N14 -> 0 | AK14: =N!N14 -> 0 | AL14: =N!AD14 -> 0
A15: Couverts PDJ | C15: =N!C15 -> 0 | D15: ='N-1'!C15 -> 0 | E15: =+D15-C15 -> 0 | F15: =N!D15 -> 0 | G15: ='N-1'!D15 -> 0 | H15: =+G15-F15 -> 0 | I15: =N!E15 -> 0 | J15: ='N-1'!E15 -> 0 | K15: =+J15-I15 -> 0 | L15: =N!F15 -> 0 | M15: ='N-1'!F15 -> 0 | N15: =+M15-L15 -> 0 | O15: =N!G15 -> 0 | P15: =N!G15 -> 0 | Q15: =P15-O15 -> 0 | R15: =N!H15 -> 0 | S15: =N!H15 -> 0 | T15: =S15-R15 -> 0 | U15: =N!I15 -> 0 | V15: =N!I15 -> 0 | W15: =V15-U15 -> 0 | X15: =N!J15 -> 0 | Y15: =N!J15 -> 0 | Z15: =N!R15 -> 0 | AA15: =N!K15 -> 0 | AB15: =N!K15 -> 0 | AC15: =N!U15 -> 0 | AD15: =N!L15 -> 0 | AE15: =N!L15 -> 0 | AF15: =N!X15 -> 0 | AG15: =N!M15 -> 0 | AH15: =N!M15 -> 0 | AI15: =N!AA15 -> 0 | AJ15: =N!N15 -> 0 | AK15: =N!N15 -> 0 | AL15: =N!AD15 -> 0
A16: Prix moyen Restaurant & Banquet | C16: =N!C16 -> 0 | D16: ='N-1'!C16 -> 0 | E16: =+D16-C16 -> 0 | F16: =N!D16 -> 0 | G16: ='N-1'!D16 -> 0 | H16: =+G16-F16 -> 0 | I16: =N!E16 -> 0 | J16: ='N-1'!E16 -> 0 | K16: =+J16-I16 -> 0 | L16: =N!F16 -> 0 | M16: ='N-1'!F16 -> 0 | N16: =+M16-L16 -> 0 | O16: =N!G16 -> 0 | P16: =N!G16 -> 0 | Q16: =P16-O16 -> 0 | R16: =N!H16 -> 0 | S16: =N!H16 -> 0 | T16: =S16-R16 -> 0 | U16: =N!I16 -> 0 | V16: =N!I16 -> 0 | W16: =V16-U16 -> 0 | X16: =N!J16 -> 0 | Y16: =N!J16 -> 0 | Z16: =N!R16 -> 0 | AA16: =N!K16 -> 0 | AB16: =N!K16 -> 0 | AC16: =N!U16 -> 0 | AD16: =N!L16 -> 0 | AE16: =N!L16 -> 0 | AF16: =N!X16 -> 0 | AG16: =N!M16 -> 0 | AH16: =N!M16 -> 0 | AI16: =N!AA16 -> 0 | AJ16: =N!N16 -> 0 | AK16: =N!N16 -> 0 | AL16: =N!AD16 -> 0
A17: Prix moyen PDJ | C17: =N!C17 -> 0 | D17: ='N-1'!C17 -> 0 | E17: =+D17-C17 -> 0 | F17: =N!D17 -> 0 | G17: ='N-1'!D17 -> 0 | H17: =+G17-F17 -> 0 | I17: =N!E17 -> 0 | J17: ='N-1'!E17 -> 0 | K17: =+J17-I17 -> 0 | L17: =N!F17 -> 0 | M17: ='N-1'!F17 -> 0 | N17: =+M17-L17 -> 0 | O17: =N!G17 -> 0 | P17: =N!G17 -> 0 | Q17: =P17-O17 -> 0 | R17: =N!H17 -> 0 | S17: =N!H17 -> 0 | T17: =S17-R17 -> 0 | U17: =N!I17 -> 0 | V17: =N!I17 -> 0 | W17: =V17-U17 -> 0 | X17: =N!J17 -> 0 | Y17: =N!J17 -> 0 | Z17: =N!R17 -> 0 | AA17: =N!K17 -> 0 | AB17: =N!K17 -> 0 | AC17: =N!U17 -> 0 | AD17: =N!L17 -> 0 | AE17: =N!L17 -> 0 | AF17: =N!X17 -> 0 | AG17: =N!M17 -> 0 | AH17: =N!M17 -> 0 | AI17: =N!AA17 -> 0 | AJ17: =N!N17 -> 0 | AK17: =N!N17 -> 0 | AL17: =N!AD17 -> 0
B18: Effectif Rest Fixes | C18: =N!C18 -> 0 | D18: ='N-1'!C18 -> 0 | E18: =+D18-C18 -> 0 | F18: =N!D18 -> 0 | G18: ='N-1'!D18 -> 0 | H18: =+G18-F18 -> 0 | I18: =N!E18 -> 0 | J18: ='N-1'!E18 -> 0 | K18: =+J18-I18 -> 0 | L18: =N!F18 -> 0 | M18: ='N-1'!F18 -> 0 | N18: =+M18-L18 -> 0 | O18: =N!G18 -> 0 | P18: =N!G18 -> 0 | Q18: =P18-O18 -> 0 | R18: =N!H18 -> 0 | S18: =N!H18 -> 0 | T18: =S18-R18 -> 0 | U18: =N!I18 -> 0 | V18: =N!I18 -> 0 | W18: =V18-U18 -> 0 | X18: =N!J18 -> 0 | Y18: =N!J18 -> 0 | Z18: =N!R18 -> 0 | AA18: =N!K18 -> 0 | AB18: =N!K18 -> 0 | AC18: =N!U18 -> 0 | AD18: =N!L18 -> 0 | AE18: =N!L18 -> 0 | AF18: =N!X18 -> 0 | AG18: =N!M18 -> 0 | AH18: =N!M18 -> 0 | AI18: =N!AA18 -> 0 | AJ18: =N!N18 -> 0 | AK18: =N!N18 -> 0 | AL18: =N!AD18 -> 0
B19: Effectif Rest Saisonniers | C19: =N!C19 -> 0 | D19: ='N-1'!C19 -> 0 | E19: =+D19-C19 -> 0 | F19: =N!D19 -> 0 | G19: ='N-1'!D19 -> 0 | H19: =+G19-F19 -> 0 | I19: =N!E19 -> 0 | J19: ='N-1'!E19 -> 0 | K19: =+J19-I19 -> 0 | L19: =N!F19 -> 0 | M19: ='N-1'!F19 -> 0 | N19: =+M19-L19 -> 0 | O19: =N!G19 -> 0 | P19: =N!G19 -> 0 | Q19: =P19-O19 -> 0 | R19: =N!H19 -> 0 | S19: =N!H19 -> 0 | T19: =S19-R19 -> 0 | U19: =N!I19 -> 0 | V19: =N!I19 -> 0 | W19: =V19-U19 -> 0 | X19: =N!J19 -> 0 | Y19: =N!J19 -> 0 | Z19: =N!R19 -> 0 | AA19: =N!K19 -> 0 | AB19: =N!K19 -> 0 | AC19: =N!U19 -> 0 | AD19: =N!L19 -> 0 | AE19: =N!L19 -> 0 | AF19: =N!X19 -> 0 | AG19: =N!M19 -> 0 | AH19: =N!M19 -> 0 | AI19: =N!AA19 -> 0 | AJ19: =N!N19 -> 0 | AK19: =N!N19 -> 0 | AL19: =N!AD19 -> 0
B20: Effectif Rest Intérim | C20: =N!C20 -> 0 | D20: ='N-1'!C20 -> 0 | E20: =+D20-C20 -> 0 | F20: =N!D20 -> 0 | G20: ='N-1'!D20 -> 0 | H20: =+G20-F20 -> 0 | I20: =N!E20 -> 0 | J20: ='N-1'!E20 -> 0 | K20: =+J20-I20 -> 0 | L20: =N!F20 -> 0 | M20: ='N-1'!F20 -> 0 | N20: =+M20-L20 -> 0 | O20: =N!G20 -> 0 | P20: =N!G20 -> 0 | Q20: =P20-O20 -> 0 | R20: =N!H20 -> 0 | S20: =N!H20 -> 0 | T20: =S20-R20 -> 0 | U20: =N!I20 -> 0 | V20: =N!I20 -> 0 | W20: =V20-U20 -> 0 | X20: =N!J20 -> 0 | Y20: =N!J20 -> 0 | Z20: =N!R20 -> 0 | AA20: =N!K20 -> 0 | AB20: =N!K20 -> 0 | AC20: =N!U20 -> 0 | AD20: =N!L20 -> 0 | AE20: =N!L20 -> 0 | AF20: =N!X20 -> 0 | AG20: =N!M20 -> 0 | AH20: =N!M20 -> 0 | AI20: =N!AA20 -> 0 | AJ20: =N!N20 -> 0 | AK20: =N!N20 -> 0 | AL20: =N!AD20 -> 0
A21: Effectif Restauration | C21: =+C20+C19+C18 -> 0 | D21: =+D20+D19+D18 -> 0 | E21: =+D21-C21 -> 0 | F21: =+F20+F19+F18 -> 0 | G21: =+G20+G19+G18 -> 0 | H21: =+G21-F21 -> 0 | I21: =+I20+I19+I18 -> 0 | J21: =+J20+J19+J18 -> 0 | K21: =+J21-I21 -> 0 | L21: =+L20+L19+L18 -> 0 | M21: =+M20+M19+M18 -> 0 | N21: =+M21-L21 -> 0 | O21: =+O20+O19+O18 -> 0 | P21: =+P20+P19+P18 -> 0 | Q21: =P21-O21 -> 0 | R21: =+R20+R19+R18 -> 0 | S21: =+S20+S19+S18 -> 0 | T21: =S21-R21 -> 0 | U21: =+U20+U19+U18 -> 0 | V21: =+V20+V19+V18 -> 0 | W21: =V21-U21 -> 0 | X21: =+X20+X19+X18 -> 0 | Y21: =+Y20+Y19+Y18 -> 0 | Z21: =N!R21 -> 0 | AA21: =+AA20+AA19+AA18 -> 0 | AB21: =+AB20+AB19+AB18 -> 0 | AC21: =N!U21 -> 0 | AD21: =+AD20+AD19+AD18 -> 0 | AE21: =+AE20+AE19+AE18 -> 0 | AF21: =N!X21 -> 0 | AG21: =+AG20+AG19+AG18 -> 0 | AH21: =+AH20+AH19+AH18 -> 0 | AI21: =N!AA21 -> 0 | AJ21: =+AJ20+AJ19+AJ18 -> 0 | AK21: =+AK20+AK19+AK18 -> 0 | AL21: =N!AD21 -> 0
A22: Effectif Divers | C22: =N!C22 -> 0 | D22: ='N-1'!C22 -> 0 | E22: =+D22-C22 -> 0 | F22: =N!D22 -> 0 | G22: ='N-1'!D22 -> 0 | H22: =+G22-F22 -> 0 | I22: =N!E22 -> 0 | J22: ='N-1'!E22 -> 0 | K22: =+J22-I22 -> 0 | L22: =N!F22 -> 0 | M22: ='N-1'!F22 -> 0 | N22: =+M22-L22 -> 0 | O22: =N!G22 -> 0 | P22: ='N-1'!G22 -> 0 | Q22: =P22-O22 -> 0 | R22: =N!H22 -> 0 | S22: ='N-1'!H22 -> 0 | T22: =S22-R22 -> 0 | U22: =N!I22 -> 0 | V22: ='N-1'!I22 -> 0 | W22: =V22-U22 -> 0 | X22: =N!J22 -> 0 | Y22: ='N-1'!J22 -> 0 | Z22: =N!R22 -> 0 | AA22: =N!K22 -> 0 | AB22: ='N-1'!K22 -> 0 | AC22: =N!U22 -> 0 | AD22: =N!L22 -> 0 | AE22: ='N-1'!L22 -> 0 | AF22: =N!X22 -> 0 | AG22: =N!M22 -> 0 | AH22: ='N-1'!M22 -> 0 | AI22: =N!AA22 -> 0 | AJ22: =N!N22 -> 0 | AK22: ='N-1'!N22 -> 0 | AL22: =N!AD22 -> 0
A24: Chiffre d'affaires Hébergement HT | C24: =N!C24 -> 0 | D24: ='N-1'!C24 -> 0 | E24: =+D24-C24 -> 0 | F24: =N!D24 -> 0 | G24: ='N-1'!D24 -> 0 | H24: =+G24-F24 -> 0 | I24: =N!E24 -> 0 | J24: ='N-1'!E24 -> 0 | K24: =+J24-I24 -> 0 | L24: =N!F24 -> 0 | M24: ='N-1'!F24 -> 0 | N24: =+M24-L24 -> 0 | O24: =N!G24 -> 0 | P24: ='N-1'!G24 -> 0 | Q24: =P24-O24 -> 0 | R24: =N!H24 -> 0 | S24: ='N-1'!H24 -> 0 | T24: =S24-R24 -> 0 | U24: =N!I24 -> 0 | V24: ='N-1'!I24 -> 0 | W24: =V24-U24 -> 0 | X24: =N!J24 -> 0 | Y24: ='N-1'!J24 -> 0 | Z24: =N!R24 -> 0 | AA24: =N!K24 -> 0 | AB24: ='N-1'!K24 -> 0 | AC24: =N!U24 -> 0 | AD24: =N!L24 -> 0 | AE24: ='N-1'!L24 -> 0 | AF24: =N!X24 -> 0 | AG24: =N!M24 -> 0 | AH24: ='N-1'!M24 -> 0 | AI24: =N!AA24 -> 0 | AJ24: =N!N24 -> 0 | AK24: ='N-1'!N24 -> 0 | AL24: =N!AD24 -> 0
A25: Chiffre d'affaires Restauration HT | C25: =N!C25 -> 0 | D25: ='N-1'!C25 -> 0 | E25: =+D25-C25 -> 0 | F25: =N!D25 -> 0 | G25: ='N-1'!D25 -> 0 | H25: =+G25-F25 -> 0 | I25: =N!E25 -> 0 | J25: ='N-1'!E25 -> 0 | K25: =+J25-I25 -> 0 | L25: =N!F25 -> 0 | M25: ='N-1'!F25 -> 0 | N25: =+M25-L25 -> 0 | O25: =N!G25 -> 0 | P25: ='N-1'!G25 -> 0 | Q25: =P25-O25 -> 0 | R25: =N!H25 -> 0 | S25: ='N-1'!H25 -> 0 | T25: =S25-R25 -> 0 | U25: =N!I25 -> 0 | V25: ='N-1'!I25 -> 0 | W25: =V25-U25 -> 0 | X25: =N!J25 -> 0 | Y25: ='N-1'!J25 -> 0 | Z25: =N!R25 -> 0 | AA25: =N!K25 -> 0 | AB25: ='N-1'!K25 -> 0 | AC25: =N!U25 -> 0 | AD25: =N!L25 -> 0 | AE25: ='N-1'!L25 -> 0 | AF25: =N!X25 -> 0 | AG25: =N!M25 -> 0 | AH25: ='N-1'!M25 -> 0 | AI25: =N!AA25 -> 0 | AJ25: =N!N25 -> 0 | AK25: ='N-1'!N25 -> 0 | AL25: =N!AD25 -> 0
A26: Chiffre d'affaires Divers HT | C26: =N!C26 -> 0 | D26: ='N-1'!C26 -> 0 | E26: =+D26-C26 -> 0 | F26: =N!D26 -> 0 | G26: ='N-1'!D26 -> 0 | H26: =+G26-F26 -> 0 | I26: =N!E26 -> 0 | J26: ='N-1'!E26 -> 0 | K26: =+J26-I26 -> 0 | L26: =N!F26 -> 0 | M26: ='N-1'!F26 -> 0 | N26: =+M26-L26 -> 0 | O26: =N!G26 -> 0 | P26: ='N-1'!G26 -> 0 | Q26: =P26-O26 -> 0 | R26: =N!H26 -> 0 | S26: ='N-1'!H26 -> 0 | T26: =S26-R26 -> 0 | U26: =N!I26 -> 0 | V26: ='N-1'!I26 -> 0 | W26: =V26-U26 -> 0 | X26: =N!J26 -> 0 | Y26: ='N-1'!J26 -> 0 | Z26: =N!R26 -> 0 | AA26: =N!K26 -> 0 | AB26: ='N-1'!K26 -> 0 | AC26: =N!U26 -> 0 | AD26: =N!L26 -> 0 | AE26: ='N-1'!L26 -> 0 | AF26: =N!X26 -> 0 | AG26: =N!M26 -> 0 | AH26: ='N-1'!M26 -> 0 | AI26: =N!AA26 -> 0 | AJ26: =N!N26 -> 0 | AK26: ='N-1'!N26 -> 0 | AL26: =N!AD26 -> 0
A27: Total Chiffre d'affaires HT | C27: =+C24+C25+C26 -> 0 | D27: =+D24+D25+D26 -> 0 | E27: =+D27-C27 -> 0 | F27: =+F24+F25+F26 -> 0 | G27: =+G24+G25+G26 -> 0 | H27: =+G27-F27 -> 0 | I27: =+I24+I25+I26 -> 0 | J27: =+J24+J25+J26 -> 0 | K27: =+J27-I27 -> 0 | L27: =+L24+L25+L26 -> 0 | M27: =+M24+M25+M26 -> 0 | N27: =+M27-L27 -> 0 | O27: =+O24+O25+O26 -> 0 | P27: =+P24+P25+P26 -> 0 | Q27: =P27-O27 -> 0 | R27: =+R24+R25+R26 -> 0 | S27: =+S24+S25+S26 -> 0 | T27: =S27-R27 -> 0 | U27: =+U24+U25+U26 -> 0 | V27: =+V24+V25+V26 -> 0 | W27: =V27-U27 -> 0 | X27: =+X24+X25+X26 -> 0 | Y27: =+Y24+Y25+Y26 -> 0 | Z27: =N!R27 -> 0 | AA27: =+AA24+AA25+AA26 -> 0 | AB27: =+AB24+AB25+AB26 -> 0 | AC27: =N!U27 -> 0 | AD27: =+AD24+AD25+AD26 -> 0 | AE27: =+AE24+AE25+AE26 -> 0 | AF27: =N!X27 -> 0 | AG27: =+AG24+AG25+AG26 -> 0 | AH27: =+AH24+AH25+AH26 -> 0 | AI27: =N!AA27 -> 0 | AJ27: =+AJ24+AJ25+AJ26 -> 0 | AK27: =+AK24+AK25+AK26 -> 0 | AL27: =N!AD27 -> 0
A29: Couts Marchandises Restauration | C29: =N!C29 -> 0 | D29: ='N-1'!C29 -> 0 | E29: =+D29-C29 -> 0 | F29: =N!D29 -> 0 | G29: ='N-1'!D29 -> 0 | H29: =+G29-F29 -> 0 | I29: =N!E29 -> 0 | J29: ='N-1'!E29 -> 0 | K29: =+J29-I29 -> 0 | L29: =N!F29 -> 0 | M29: ='N-1'!F29 -> 0 | N29: =+M29-L29 -> 0 | O29: =N!G29 -> 0 | P29: ='N-1'!G29 -> 0 | Q29: =+P29-O29 -> 0 | R29: =N!H29 -> 0 | S29: ='N-1'!H29 -> 0 | T29: =+S29-R29 -> 0 | U29: =N!I29 -> 0 | V29: ='N-1'!I29 -> 0 | W29: =+V29-U29 -> 0 | X29: =N!J29 -> 0 | Y29: ='N-1'!J29 -> 0 | Z29: =+Y29-X29 -> 0 | AA29: =N!K29 -> 0 | AB29: ='N-1'!K29 -> 0 | AC29: =+AB29-AA29 -> 0 | AD29: =N!L29 -> 0 | AE29: ='N-1'!L29 -> 0 | AF29: =+AE29-AD29 -> 0 | AG29: =N!M29 -> 0 | AH29: ='N-1'!M29 -> 0 | AI29: =+AH29-AG29 -> 0 | AJ29: =N!N29 -> 0 | AK29: ='N-1'!N29 -> 0 | AL29: =+AK29-AJ29 -> 0
A30: Couts Marchandises divers (boutique HDL) | C30: =N!C30 -> 0 | D30: ='N-1'!C30 -> 0 | E30: =+D30-C30 -> 0 | F30: =N!D30 -> 0 | G30: ='N-1'!D30 -> 0 | H30: =+G30-F30 -> 0 | I30: =N!E30 -> 0 | J30: ='N-1'!E30 -> 0 | K30: =+J30-I30 -> 0 | L30: =N!F30 -> 0 | M30: ='N-1'!F30 -> 0 | N30: =+M30-L30 -> 0 | O30: =N!G30 -> 0 | P30: ='N-1'!G30 -> 0 | Q30: =+P30-O30 -> 0 | R30: =N!H30 -> 0 | S30: ='N-1'!H30 -> 0 | T30: =+S30-R30 -> 0 | U30: =N!I30 -> 0 | V30: ='N-1'!I30 -> 0 | W30: =+V30-U30 -> 0 | X30: =N!J30 -> 0 | Y30: ='N-1'!J30 -> 0 | Z30: =+Y30-X30 -> 0 | AA30: =N!K30 -> 0 | AB30: ='N-1'!K30 -> 0 | AC30: =+AB30-AA30 -> 0 | AD30: =N!L30 -> 0 | AE30: ='N-1'!L30 -> 0 | AF30: =+AE30-AD30 -> 0 | AG30: =N!M30 -> 0 | AH30: ='N-1'!M30 -> 0 | AI30: =+AH30-AG30 -> 0 | AJ30: =N!N30 -> 0 | AK30: ='N-1'!N30 -> 0 | AL30: =+AK30-AJ30 -> 0
A31: Total M/ses Consommées | C31: =+C30+C29 -> 0 | D31: =+D30+D29 -> 0 | E31: =+D31-C31 -> 0 | F31: =+F30+F29 -> 0 | G31: =+G30+G29 -> 0 | H31: =+G31-F31 -> 0 | I31: =+I30+I29 -> 0 | J31: =+J30+J29 -> 0 | K31: =+J31-I31 -> 0 | L31: =+L30+L29 -> 0 | M31: =+M30+M29 -> 0 | N31: =+M31-L31 -> 0 | O31: =+O30+O29 -> 0 | P31: =+P30+P29 -> 0 | Q31: =+P31-O31 -> 0 | R31: =+R30+R29 -> 0 | S31: =+S30+S29 -> 0 | T31: =+S31-R31 -> 0 | U31: =+U30+U29 -> 0 | V31: =+V30+V29 -> 0 | W31: =+V31-U31 -> 0 | X31: =+X30+X29 -> 0 | Y31: =+Y30+Y29 -> 0 | Z31: =+Y31-X31 -> 0 | AA31: =+AA30+AA29 -> 0 | AB31: =+AB30+AB29 -> 0 | AC31: =+AB31-AA31 -> 0 | AD31: =+AD30+AD29 -> 0 | AE31: =+AE30+AE29 -> 0 | AF31: =+AE31-AD31 -> 0 | AG31: =+AG30+AG29 -> 0 | AH31: =+AH30+AH29 -> 0 | AI31: =+AH31-AG31 -> 0 | AJ31: =+AJ30+AJ29 -> 0 | AK31: =+AK30+AK29 -> 0 | AL31: =+AK31-AJ31 -> 0
A32: Ratio M/ses consommées restau | C32: =+C29/C25 -> #DIV/0! | F32: =+F29/F25 -> #DIV/0! | I32: =+I29/I25 -> #DIV/0! | L32: =+L29/L25 -> #DIV/0! | O32: =+O29/O25 -> #DIV/0! | R32: =+R29/R25 -> #DIV/0! | U32: =+U29/U25 -> #DIV/0! | X32: =+X29/X25 -> #DIV/0! | AA32: =+AA29/AA25 -> #DIV/0! | AD32: =+AD29/AD25 -> #DIV/0! | AG32: =+AG29/AG25 -> #DIV/0! | AJ32: =+AJ29/AJ25 -> #DIV/0!
A33: Marge Brute | C33: =+C27-C31 -> 0 | D33: =+D27-D31 -> 0 | E33: =+D33-C33 -> 0 | F33: =+F27-F31 -> 0 | G33: =+G27-G31 -> 0 | H33: =+G33-F33 -> 0 | I33: =+I27-I31 -> 0 | J33: =+J27-J31 -> 0 | K33: =+J33-I33 -> 0 | L33: =+L27-L31 -> 0 | M33: =+M27-M31 -> 0 | N33: =+M33-L33 -> 0 | O33: =+O27-O31 -> 0 | P33: =+P27-P31 -> 0 | Q33: =+P33-O33 -> 0 | R33: =+R27-R31 -> 0 | S33: =+S27-S31 -> 0 | T33: =+S33-R33 -> 0 | U33: =+U27-U31 -> 0 | V33: =+V27-V31 -> 0 | W33: =+V33-U33 -> 0 | X33: =+X27-X31 -> 0 | Y33: =+Y27-Y31 -> 0 | Z33: =+Y33-X33 -> 0 | AA33: =+AA27-AA31 -> 0 | AB33: =+AB27-AB31 -> 0 | AC33: =+AB33-AA33 -> 0 | AD33: =+AD27-AD31 -> 0 | AE33: =+AE27-AE31 -> 0 | AF33: =+AE33-AD33 -> 0 | AG33: =+AG27-AG31 -> 0 | AH33: =+AH27-AH31 -> 0 | AI33: =+AH33-AG33 -> 0 | AJ33: =+AJ27-AJ31 -> 0 | AK33: =+AK27-AK31 -> 0 | AL33: =+AK33-AJ33 -> 0
A35: Intérim | C35: =+C36+C37+C38+C39 -> 0 | D35: =+D36+D37+D38+D39 -> 0 | E35: =+D35-C35 -> 0 | F35: =+F36+F37+F38+F39 -> 0 | G35: =+G36+G37+G38+G39 -> 0 | H35: =+G35-F35 -> 0 | I35: =+I36+I37+I38+I39 -> 0 | J35: =+J36+J37+J38+J39 -> 0 | K35: =+J35-I35 -> 0 | L35: =+L36+L37+L38+L39 -> 0 | M35: =+M36+M37+M38+M39 -> 0 | N35: =+M35-L35 -> 0 | O35: =+O36+O37+O38+O39 -> 0 | P35: =+P36+P37+P38+P39 -> 0 | Q35: =+P35-O35 -> 0 | R35: =+R36+R37+R38+R39 -> 0 | S35: =+S36+S37+S38+S39 -> 0 | T35: =+S35-R35 -> 0 | U35: =+U36+U37+U38+U39 -> 0 | V35: =+V36+V37+V38+V39 -> 0 | W35: =+V35-U35 -> 0 | X35: =+X36+X37+X38+X39 -> 0 | Y35: =+Y36+Y37+Y38+Y39 -> 0 | Z35: =+Y35-X35 -> 0 | AA35: =+AA36+AA37+AA38+AA39 -> 0 | AB35: =+AB36+AB37+AB38+AB39 -> 0 | AC35: =+AB35-AA35 -> 0 | AD35: =+AD36+AD37+AD38+AD39 -> 0 | AE35: =+AE36+AE37+AE38+AE39 -> 0 | AF35: =+AE35-AD35 -> 0 | AG35: =+AG36+AG37+AG38+AG39 -> 0 | AH35: =+AH36+AH37+AH38+AH39 -> 0 | AI35: =+AH35-AG35 -> 0 | AJ35: =+AJ36+AJ37+AJ38+AJ39 -> 0 | AK35: =+AK36+AK37+AK38+AK39 -> 0 | AL35: =+AK35-AJ35 -> 0
B36: Intérim Réception | C36: =N!C36 -> 0 | D36: ='N-1'!C36 -> 0 | E36: =+D36-C36 -> 0 | F36: =N!D36 -> 0 | G36: ='N-1'!D36 -> 0 | H36: =+G36-F36 -> 0 | I36: =N!E36 -> 0 | J36: ='N-1'!E36 -> 0 | K36: =+J36-I36 -> 0 | L36: =N!F36 -> 0 | M36: ='N-1'!F36 -> 0 | N36: =+M36-L36 -> 0 | O36: =N!G36 -> 0 | P36: ='N-1'!G36 -> 0 | Q36: =+P36-O36 -> 0 | R36: =N!H36 -> 0 | S36: ='N-1'!H36 -> 0 | T36: =+S36-R36 -> 0 | U36: =N!I36 -> 0 | V36: ='N-1'!I36 -> 0 | W36: =+V36-U36 -> 0 | X36: =N!J36 -> 0 | Y36: ='N-1'!J36 -> 0 | Z36: =+Y36-X36 -> 0 | AA36: =N!K36 -> 0 | AB36: ='N-1'!K36 -> 0 | AC36: =+AB36-AA36 -> 0 | AD36: =N!L36 -> 0 | AE36: ='N-1'!L36 -> 0 | AF36: =+AE36-AD36 -> 0 | AG36: =N!M36 -> 0 | AH36: ='N-1'!M36 -> 0 | AI36: =+AH36-AG36 -> 0 | AJ36: =N!N36 -> 0 | AK36: ='N-1'!N36 -> 0 | AL36: =+AK36-AJ36 -> 0
B37: Intérim Hébergement | C37: =N!C37 -> 0 | D37: ='N-1'!C37 -> 0 | E37: =+D37-C37 -> 0 | F37: =N!D37 -> 0 | G37: ='N-1'!D37 -> 0 | H37: =+G37-F37 -> 0 | I37: =N!E37 -> 0 | J37: ='N-1'!E37 -> 0 | K37: =+J37-I37 -> 0 | L37: =N!F37 -> 0 | M37: ='N-1'!F37 -> 0 | N37: =+M37-L37 -> 0 | O37: =N!G37 -> 0 | P37: ='N-1'!G37 -> 0 | Q37: =+P37-O37 -> 0 | R37: =N!H37 -> 0 | S37: ='N-1'!H37 -> 0 | T37: =+S37-R37 -> 0 | U37: =N!I37 -> 0 | V37: ='N-1'!I37 -> 0 | W37: =+V37-U37 -> 0 | X37: =N!J37 -> 0 | Y37: ='N-1'!J37 -> 0 | Z37: =+Y37-X37 -> 0 | AA37: =N!K37 -> 0 | AB37: ='N-1'!K37 -> 0 | AC37: =+AB37-AA37 -> 0 | AD37: =N!L37 -> 0 | AE37: ='N-1'!L37 -> 0 | AF37: =+AE37-AD37 -> 0 | AG37: =N!M37 -> 0 | AH37: ='N-1'!M37 -> 0 | AI37: =+AH37-AG37 -> 0 | AJ37: =N!N37 -> 0 | AK37: ='N-1'!N37 -> 0 | AL37: =+AK37-AJ37 -> 0
B38: Intérim Restauration | C38: =N!C38 -> 0 | D38: ='N-1'!C38 -> 0 | E38: =+D38-C38 -> 0 | F38: =N!D38 -> 0 | G38: ='N-1'!D38 -> 0 | H38: =+G38-F38 -> 0 | I38: =N!E38 -> 0 | J38: ='N-1'!E38 -> 0 | K38: =+J38-I38 -> 0 | L38: =N!F38 -> 0 | M38: ='N-1'!F38 -> 0 | N38: =+M38-L38 -> 0 | O38: =N!G38 -> 0 | P38: ='N-1'!G38 -> 0 | Q38: =+P38-O38 -> 0 | R38: =N!H38 -> 0 | S38: ='N-1'!H38 -> 0 | T38: =+S38-R38 -> 0 | U38: =N!I38 -> 0 | V38: ='N-1'!I38 -> 0 | W38: =+V38-U38 -> 0 | X38: =N!J38 -> 0 | Y38: ='N-1'!J38 -> 0 | Z38: =+Y38-X38 -> 0 | AA38: =N!K38 -> 0 | AB38: ='N-1'!K38 -> 0 | AC38: =+AB38-AA38 -> 0 | AD38: =N!L38 -> 0 | AE38: ='N-1'!L38 -> 0 | AF38: =+AE38-AD38 -> 0 | AG38: =N!M38 -> 0 | AH38: ='N-1'!M38 -> 0 | AI38: =+AH38-AG38 -> 0 | AJ38: =N!N38 -> 0 | AK38: ='N-1'!N38 -> 0 | AL38: =+AK38-AJ38 -> 0
B39: Intérim Admin Comm | C39: =N!C39 -> 0 | D39: ='N-1'!C39 -> 0 | E39: =+D39-C39 -> 0 | F39: =N!D39 -> 0 | G39: ='N-1'!D39 -> 0 | H39: =+G39-F39 -> 0 | I39: =N!E39 -> 0 | J39: ='N-1'!E39 -> 0 | K39: =+J39-I39 -> 0 | L39: =N!F39 -> 0 | M39: ='N-1'!F39 -> 0 | N39: =+M39-L39 -> 0 | O39: =N!G39 -> 0 | P39: ='N-1'!G39 -> 0 | Q39: =+P39-O39 -> 0 | R39: =N!H39 -> 0 | S39: ='N-1'!H39 -> 0 | T39: =+S39-R39 -> 0 | U39: =N!I39 -> 0 | V39: ='N-1'!I39 -> 0 | W39: =+V39-U39 -> 0 | X39: =N!J39 -> 0 | Y39: ='N-1'!J39 -> 0 | Z39: =+Y39-X39 -> 0 | AA39: =N!K39 -> 0 | AB39: ='N-1'!K39 -> 0 | AC39: =+AB39-AA39 -> 0 | AD39: =N!L39 -> 0 | AE39: ='N-1'!L39 -> 0 | AF39: =+AE39-AD39 -> 0 | AG39: =N!M39 -> 0 | AH39: ='N-1'!M39 -> 0 | AI39: =+AH39-AG39 -> 0 | AJ39: =N!N39 -> 0 | AK39: ='N-1'!N39 -> 0 | AL39: =+AK39-AJ39 -> 0
A40: Salaires bruts | C40: =+SUM(C41:C44) -> 0 | D40: =+SUM(D41:D44) -> 0 | E40: =+SUM(E41:E44) -> 0 | F40: =+SUM(F41:F44) -> 0 | G40: =+SUM(G41:G44) -> 0 | H40: =+SUM(H41:H44) -> 0 | I40: =+SUM(I41:I44) -> 0 | J40: =+SUM(J41:J44) -> 0 | ... AL40: =+SUM(AL41:AL44) -> 0
B41: SB Réception | C41: =N!C41 -> 0 | D41: ='N-1'!C41 -> 0 | E41: =D41-C41 -> 0 | F41: =N!D41 -> 0 | G41: ='N-1'!D41 -> 0 | H41: =+G41-F41 -> 0 | I41: =N!E41 -> 0 | J41: ='N-1'!E41 -> 0 | K41: =+J41-I41 -> 0 | L41: =N!F41 -> 0 | M41: ='N-1'!F41 -> 0 | N41: =+M41-L41 -> 0 | O41: =N!G41 -> 0 | P41: ='N-1'!G41 -> 0 | Q41: =+P41-O41 -> 0 | R41: =N!H41 -> 0 | S41: ='N-1'!H41 -> 0 | T41: =+S41-R41 -> 0 | U41: =N!I41 -> 0 | V41: ='N-1'!I41 -> 0 | W41: =+V41-U41 -> 0 | X41: =N!J41 -> 0 | Y41: ='N-1'!J41 -> 0 | Z41: =+Y41-X41 -> 0 | AA41: =N!K41 -> 0 | AB41: ='N-1'!K41 -> 0 | AC41: =+AB41-AA41 -> 0 | AD41: =N!L41 -> 0 | AE41: ='N-1'!L41 -> 0 | AF41: =+AE41-AD41 -> 0 | AG41: =N!M41 -> 0 | AH41: ='N-1'!M41 -> 0 | AI41: =+AH41-AG41 -> 0 | AJ41: =N!N41 -> 0 | AK41: ='N-1'!N41 -> 0 | AL41: =+AK41-AJ41 -> 0
B42: SB Hébergement | C42: =N!C42 -> 0 | D42: ='N-1'!C42 -> 0 | E42: =D42-C42 -> 0 | F42: =N!D42 -> 0 | G42: ='N-1'!D42 -> 0 | H42: =+G42-F42 -> 0 | I42: =N!E42 -> 0 | J42: ='N-1'!E42 -> 0 | K42: =+J42-I42 -> 0 | L42: =N!F42 -> 0 | M42: ='N-1'!F42 -> 0 | N42: =+M42-L42 -> 0 | O42: =N!G42 -> 0 | P42: ='N-1'!G42 -> 0 | Q42: =+P42-O42 -> 0 | R42: =N!H42 -> 0 | S42: ='N-1'!H42 -> 0 | T42: =+S42-R42 -> 0 | U42: =N!I42 -> 0 | V42: ='N-1'!I42 -> 0 | W42: =+V42-U42 -> 0 | X42: =N!J42 -> 0 | Y42: ='N-1'!J42 -> 0 | Z42: =+Y42-X42 -> 0 | AA42: =N!K42 -> 0 | AB42: ='N-1'!K42 -> 0 | AC42: =+AB42-AA42 -> 0 | AD42: =N!L42 -> 0 | AE42: ='N-1'!L42 -> 0 | AF42: =+AE42-AD42 -> 0 | AG42: =N!M42 -> 0 | AH42: ='N-1'!M42 -> 0 | AI42: =+AH42-AG42 -> 0 | AJ42: =N!N42 -> 0 | AK42: ='N-1'!N42 -> 0 | AL42: =+AK42-AJ42 -> 0
B43: SB Restauration | C43: =N!C43 -> 0 | D43: ='N-1'!C43 -> 0 | E43: =D43-C43 -> 0 | F43: =N!D43 -> 0 | G43: ='N-1'!D43 -> 0 | H43: =+G43-F43 -> 0 | I43: =N!E43 -> 0 | J43: ='N-1'!E43 -> 0 | K43: =+J43-I43 -> 0 | L43: =N!F43 -> 0 | M43: ='N-1'!F43 -> 0 | N43: =+M43-L43 -> 0 | O43: =N!G43 -> 0 | P43: ='N-1'!G43 -> 0 | Q43: =+P43-O43 -> 0 | R43: =N!H43 -> 0 | S43: ='N-1'!H43 -> 0 | T43: =+S43-R43 -> 0 | U43: =N!I43 -> 0 | V43: ='N-1'!I43 -> 0 | W43: =+V43-U43 -> 0 | X43: =N!J43 -> 0 | Y43: ='N-1'!J43 -> 0 | Z43: =+Y43-X43 -> 0 | AA43: =N!K43 -> 0 | AB43: ='N-1'!K43 -> 0 | AC43: =+AB43-AA43 -> 0 | AD43: =N!L43 -> 0 | AE43: ='N-1'!L43 -> 0 | AF43: =+AE43-AD43 -> 0 | AG43: =N!M43 -> 0 | AH43: ='N-1'!M43 -> 0 | AI43: =+AH43-AG43 -> 0 | AJ43: =N!N43 -> 0 | AK43: ='N-1'!N43 -> 0 | AL43: =+AK43-AJ43 -> 0
B44: SB Admin Comm | C44: =N!C44 -> 0 | D44: ='N-1'!C44 -> 0 | E44: =D44-C44 -> 0 | F44: =N!D44 -> 0 | G44: ='N-1'!D44 -> 0 | H44: =+G44-F44 -> 0 | I44: =N!E44 -> 0 | J44: ='N-1'!E44 -> 0 | K44: =+J44-I44 -> 0 | L44: =N!F44 -> 0 | M44: ='N-1'!F44 -> 0 | N44: =+M44-L44 -> 0 | O44: =N!G44 -> 0 | P44: ='N-1'!G44 -> 0 | Q44: =+P44-O44 -> 0 | R44: =N!H44 -> 0 | S44: ='N-1'!H44 -> 0 | T44: =+S44-R44 -> 0 | U44: =N!I44 -> 0 | V44: ='N-1'!I44 -> 0 | W44: =+V44-U44 -> 0 | X44: =N!J44 -> 0 | Y44: ='N-1'!J44 -> 0 | Z44: =+Y44-X44 -> 0 | AA44: =N!K44 -> 0 | AB44: ='N-1'!K44 -> 0 | AC44: =+AB44-AA44 -> 0 | AD44: =N!L44 -> 0 | AE44: ='N-1'!L44 -> 0 | AF44: =+AE44-AD44 -> 0 | AG44: =N!M44 -> 0 | AH44: ='N-1'!M44 -> 0 | AI44: =+AH44-AG44 -> 0 | AJ44: =N!N44 -> 0 | AK44: ='N-1'!N44 -> 0 | AL44: =+AK44-AJ44 -> 0
...

Sheet Ecarts Budget
A1: 2014
A2: DATE | C2: Nom :
A3: MENSUEL | C3: 41640 | D3: Budget | E3: Ecarts | F3: 41671 | G3: Budget | H3: Ecarts | I3: 41699 | J3: Budget | K3: Ecarts | L3: 41730 | M3: Budget | N3: Ecarts | O3: 41760 | P3: Budget | Q3: Ecarts | R3: 41791 | S3: Budget | T3: Ecarts | U3: 41821 | V3: Budget | W3: Ecarts | X3: 41852 | Y3: Budget | Z3: Ecarts | AA3: 41883 | AB3: Budget | AC3: Ecarts | AD3: 41913 | AE3: Budget | AF3: Ecarts | AG3: 41944 | AH3: Budget | AI3: Ecarts | AJ3: 41974 | AK3: Budget | AL3: Ecarts
A4: Hôtel
A5: Réservations | C5: =+N!C5 -> 0 | D5: =BUDGET!C5 -> 0 | E5: =+D5-C5 -> 0 | F5: =+N!D5 -> 0 | G5: =BUDGET!D5 -> 0 | H5: =+G5-F5 -> 0 | I5: =+N!E5 -> 0 | J5: =BUDGET!E5 -> 0 | K5: =+J5-I5 -> 0 | L5: =+N!F5 -> 0 | M5: =BUDGET!F5 -> 0 | N5: =+M5-L5 -> 0 | O5: =+N!G5 -> 0 | P5: =BUDGET!G5 -> 0 | Q5: =+P5-O5 -> 0 | R5: =+N!H5 -> 0 | S5: =BUDGET!H5 -> 0 | T5: =+S5-R5 -> 0 | U5: =+N!I5 -> 0 | V5: =BUDGET!I5 -> 0 | W5: =+V5-U5 -> 0 | X5: =+N!J5 -> 0 | Y5: =BUDGET!J5 -> 0 | Z5: =+Y5-X5 -> 0 | AA5: =+N!K5 -> 0 | AB5: =BUDGET!K5 -> 0 | AC5: =+AB5-AA5 -> 0 | AD5: =+N!L5 -> 0 | AE5: =BUDGET!L5 -> 0 | AF5: =+AE5-AD5 -> 0 | AG5: =+N!M5 -> 0 | AH5: =BUDGET!M5 -> 0 | AI5: =+AH5-AG5 -> 0 | AJ5: =+N!N5 -> 0 | AK5: =BUDGET!N5 -> 0 | AL5: =+AK5-AJ5 -> 0
A6: Nombre de chambres louées | C6: =+N!C6 -> 0 | D6: =BUDGET!C6 -> 0 | E6: =+D6-C6 -> 0 | F6: =+N!D6 -> 0 | G6: =BUDGET!D6 -> 0 | H6: =+G6-F6 -> 0 | I6: =+N!E6 -> 0 | J6: =BUDGET!E6 -> 0 | K6: =+J6-I6 -> 0 | L6: =+N!F6 -> 0 | M6: =BUDGET!F6 -> 0 | N6: =+M6-L6 -> 0 | O6: =+N!G6 -> 0 | P6: =BUDGET!G6 -> 0 | Q6: =+P6-O6 -> 0 | R6: =+N!H6 -> 0 | S6: =BUDGET!H6 -> 0 | T6: =+S6-R6 -> 0 | U6: =+N!I6 -> 0 | V6: =BUDGET!I6 -> 0 | W6: =+V6-U6 -> 0 | X6: =+N!J6 -> 0 | Y6: =BUDGET!J6 -> 0 | Z6: =+Y6-X6 -> 0 | AA6: =+N!K6 -> 0 | AB6: =BUDGET!K6 -> 0 | AC6: =+AB6-AA6 -> 0 | AD6: =+N!L6 -> 0 | AE6: =BUDGET!L6 -> 0 | AF6: =+AE6-AD6 -> 0 | AG6: =+N!M6 -> 0 | AH6: =BUDGET!M6 -> 0 | AI6: =+AH6-AG6 -> 0 | AJ6: =+N!N6 -> 0 | AK6: =BUDGET!N6 -> 0 | AL6: =+AK6-AJ6 -> 0
A7: Taux occupation | C7: =+N!C7 -> 0 | D7: =BUDGET!C7 -> 0 | E7: =+D7-C7 -> 0 | F7: =+N!D7 -> 0 | G7: =BUDGET!D7 -> 0 | H7: =+G7-F7 -> 0 | I7: =+N!E7 -> 0 | J7: =BUDGET!E7 -> 0 | K7: =+J7-I7 -> 0 | L7: =+N!F7 -> 0 | M7: =BUDGET!F7 -> 0 | N7: =+M7-L7 -> 0 | O7: =+N!G7 -> 0 | P7: =BUDGET!G7 -> 0 | Q7: =+P7-O7 -> 0 | R7: =+N!H7 -> 0 | S7: =BUDGET!H7 -> 0 | T7: =+S7-R7 -> 0 | U7: =+N!I7 -> 0 | V7: =BUDGET!I7 -> 0 | W7: =+V7-U7 -> 0 | X7: =+N!J7 -> 0 | Y7: =BUDGET!J7 -> 0 | Z7: =+Y7-X7 -> 0 | AA7: =+N!K7 -> 0 | AB7: =BUDGET!K7 -> 0 | AC7: =+AB7-AA7 -> 0 | AD7: =+N!L7 -> 0 | AE7: =BUDGET!L7 -> 0 | AF7: =+AE7-AD7 -> 0 | AG7: =+N!M7 -> 0 | AH7: =BUDGET!M7 -> 0 | AI7: =+AH7-AG7 -> 0 | AJ7: =+N!N7 -> 0 | AK7: =BUDGET!N7 -> 0 | AL7: =+AK7-AJ7 -> 0
A8: Prix moyen hébergement | C8: =+N!C8 -> 0 | D8: =BUDGET!C8 -> 0 | E8: =+D8-C8 -> 0 | F8: =+N!D8 -> 0 | G8: =BUDGET!D8 -> 0 | H8: =+G8-F8 -> 0 | I8: =+N!E8 -> 0 | J8: =BUDGET!E8 -> 0 | K8: =+J8-I8 -> 0 | L8: =+N!F8 -> 0 | M8: =BUDGET!F8 -> 0 | N8: =+M8-L8 -> 0 | O8: =+N!G8 -> 0 | P8: =BUDGET!G8 -> 0 | Q8: =+P8-O8 -> 0 | R8: =+N!H8 -> 0 | S8: =BUDGET!H8 -> 0 | T8: =+S8-R8 -> 0 | U8: =+N!I8 -> 0 | V8: =BUDGET!I8 -> 0 | W8: =+V8-U8 -> 0 | X8: =+N!J8 -> 0 | Y8: =BUDGET!J8 -> 0 | Z8: =+Y8-X8 -> 0 | AA8: =+N!K8 -> 0 | AB8: =BUDGET!K8 -> 0 | AC8: =+AB8-AA8 -> 0 | AD8: =+N!L8 -> 0 | AE8: =BUDGET!L8 -> 0 | AF8: =+AE8-AD8 -> 0 | AG8: =+N!M8 -> 0 | AH8: =BUDGET!M8 -> 0 | AI8: =+AH8-AG8 -> 0 | AJ8: =+N!N8 -> 0 | AK8: =BUDGET!N8 -> 0 | AL8: =+AK8-AJ8 -> 0
B10: Effectif Héberg Fixes | C10: =+N!C10 -> 0 | D10: =BUDGET!C10 -> 0 | E10: =+D10-C10 -> 0 | F10: =+N!D10 -> 0 | G10: =BUDGET!D10 -> 0 | H10: =+G10-F10 -> 0 | I10: =+N!E10 -> 0 | J10: =BUDGET!E10 -> 0 | K10: =+J10-I10 -> 0 | L10: =+N!F10 -> 0 | M10: =BUDGET!F10 -> 0 | N10: =+M10-L10 -> 0 | O10: =+N!G10 -> 0 | P10: =BUDGET!G10 -> 0 | Q10: =+P10-O10 -> 0 | R10: =+N!H10 -> 0 | S10: =BUDGET!H10 -> 0 | T10: =+S10-R10 -> 0 | U10: =+N!I10 -> 0 | V10: =BUDGET!I10 -> 0 | W10: =+V10-U10 -> 0 | X10: =+N!J10 -> 0 | Y10: =BUDGET!J10 -> 0 | Z10: =+Y10-X10 -> 0 | AA10: =+N!K10 -> 0 | AB10: =BUDGET!K10 -> 0 | AC10: =+AB10-AA10 -> 0 | AD10: =+N!L10 -> 0 | AE10: =BUDGET!L10 -> 0 | AF10: =+AE10-AD10 -> 0 | AG10: =+N!M10 -> 0 | AH10: =BUDGET!M10 -> 0 | AI10: =+AH10-AG10 -> 0 | AJ10: =+N!N10 -> 0 | AK10: =BUDGET!N10 -> 0 | AL10: =+AK10-AJ10 -> 0
B11: Effectif Héberg Saisonniers | C11: =+N!C11 -> 0 | D11: =BUDGET!C11 -> 0 | E11: =+D11-C11 -> 0 | F11: =+N!D11 -> 0 | G11: =BUDGET!D11 -> 0 | H11: =+G11-F11 -> 0 | I11: =+N!E11 -> 0 | J11: =BUDGET!E11 -> 0 | K11: =+J11-I11 -> 0 | L11: =+N!F11 -> 0 | M11: =BUDGET!F11 -> 0 | N11: =+M11-L11 -> 0 | O11: =+N!G11 -> 0 | P11: =BUDGET!G11 -> 0 | Q11: =+P11-O11 -> 0 | R11: =+N!H11 -> 0 | S11: =BUDGET!H11 -> 0 | T11: =+S11-R11 -> 0 | U11: =+N!I11 -> 0 | V11: =BUDGET!I11 -> 0 | W11: =+V11-U11 -> 0 | X11: =+N!J11 -> 0 | Y11: =BUDGET!J11 -> 0 | Z11: =+Y11-X11 -> 0 | AA11: =+N!K11 -> 0 | AB11: =BUDGET!K11 -> 0 | AC11: =+AB11-AA11 -> 0 | AD11: =+N!L11 -> 0 | AE11: =BUDGET!L11 -> 0 | AF11: =+AE11-AD11 -> 0 | AG11: =+N!M11 -> 0 | AH11: =BUDGET!M11 -> 0 | AI11: =+AH11-AG11 -> 0 | AJ11: =+N!N11 -> 0 | AK11: =BUDGET!N11 -> 0 | AL11: =+AK11-AJ11 -> 0
B12: Effectif Héberg Intérim | C12: =+N!C12 -> 0 | D12: =BUDGET!C12 -> 0 | E12: =+D12-C12 -> 0 | F12: =+N!D12 -> 0 | G12: =BUDGET!D12 -> 0 | H12: =+G12-F12 -> 0 | I12: =+N!E12 -> 0 | J12: =BUDGET!E12 -> 0 | K12: =+J12-I12 -> 0 | L12: =+N!F12 -> 0 | M12: =BUDGET!F12 -> 0 | N12: =+M12-L12 -> 0 | O12: =+N!G12 -> 0 | P12: =BUDGET!G12 -> 0 | Q12: =+P12-O12 -> 0 | R12: =+N!H12 -> 0 | S12: =BUDGET!H12 -> 0 | T12: =+S12-R12 -> 0 | U12: =+N!I12 -> 0 | V12: =BUDGET!I12 -> 0 | W12: =+V12-U12 -> 0 | X12: =+N!J12 -> 0 | Y12: =BUDGET!J12 -> 0 | Z12: =+Y12-X12 -> 0 | AA12: =+N!K12 -> 0 | AB12: =BUDGET!K12 -> 0 | AC12: =+AB12-AA12 -> 0 | AD12: =+N!L12 -> 0 | AE12: =BUDGET!L12 -> 0 | AF12: =+AE12-AD12 -> 0 | AG12: =+N!M12 -> 0 | AH12: =BUDGET!M12 -> 0 | AI12: =+AH12-AG12 -> 0 | AJ12: =+N!N12 -> 0 | AK12: =BUDGET!N12 -> 0 | AL12: =+AK12-AJ12 -> 0
A13: Effectif Hébergement | C13: =+C10+C11+C12 -> 0 | D13: =+D10+D11+D12 -> 0 | E13: =+E10+E11+E12 -> 0 | F13: =+F10+F11+F12 -> 0 | G13: =+G10+G11+G12 -> 0 | H13: =+H10+H11+H12 -> 0 | I13: =+I10+I11+I12 -> 0 | J13: =+J10+J11+J12 -> 0 | ... W13: =+W10+W11+W12 -> 0 | X13: =+N!J13 -> 0 | Y13: =BUDGET!J13 -> 0 | Z13: =+Y13-X13 -> 0 | AA13: =+N!K13 -> 0 | AB13: =BUDGET!K13 -> 0 | AC13: =+AB13-AA13 -> 0 | AD13: =+N!L13 -> 0 | AE13: =BUDGET!L13 -> 0 | AF13: =+AE13-AD13 -> 0 | AG13: =+N!M13 -> 0 | AH13: =BUDGET!M13 -> 0 | AI13: =+AH13-AG13 -> 0 | AJ13: =+N!N13 -> 0 | AK13: =BUDGET!N13 -> 0 | AL13: =+AK13-AJ13 -> 0
A14: Couverts Restaurant & Banquet | C14: =N!C14 -> 0 | D14: =BUDGET!C14 -> 0 | E14: =+D14-C14 -> 0 | F14: =N!D14 -> 0 | G14: =BUDGET!D14 -> 0 | H14: =+G14-F14 -> 0 | I14: =N!E14 -> 0 | J14: =BUDGET!E14 -> 0 | K14: =+J14-I14 -> 0 | L14: =N!F14 -> 0 | M14: =BUDGET!F14 -> 0 | N14: =+M14-L14 -> 0 | O14: =N!G14 -> 0 | P14: =BUDGET!G14 -> 0 | Q14: =P14-O14 -> 0 | R14: =N!H14 -> 0 | S14: =BUDGET!H14 -> 0 | T14: =S14-R14 -> 0 | U14: =N!I14 -> 0 | V14: =BUDGET!I14 -> 0 | W14: =V14-U14 -> 0 | X14: =N!J14 -> 0 | Y14: =BUDGET!J14 -> 0 | Z14: =N!R14 -> 0 | AA14: =N!K14 -> 0 | AB14: =BUDGET!K14 -> 0 | AC14: =N!U14 -> 0 | AD14: =N!L14 -> 0 | AE14: =BUDGET!L14 -> 0 | AF14: =N!X14 -> 0 | AG14: =N!M14 -> 0 | AH14: =BUDGET!M14 -> 0 | AI14: =N!AA14 -> 0 | AJ14: =N!N14 -> 0 | AK14: =BUDGET!N14 -> 0 | AL14: =N!AD14 -> 0
A15: Couverts PDJ | C15: =N!C15 -> 0 | D15: =BUDGET!C15 -> 0 | E15: =+D15-C15 -> 0 | F15: =N!D15 -> 0 | G15: =BUDGET!D15 -> 0 | H15: =+G15-F15 -> 0 | I15: =N!E15 -> 0 | J15: =BUDGET!E15 -> 0 | K15: =+J15-I15 -> 0 | L15: =N!F15 -> 0 | M15: =BUDGET!F15 -> 0 | N15: =+M15-L15 -> 0 | O15: =N!G15 -> 0 | P15: =BUDGET!G15 -> 0 | Q15: =P15-O15 -> 0 | R15: =N!H15 -> 0 | S15: =BUDGET!H15 -> 0 | T15: =S15-R15 -> 0 | U15: =N!I15 -> 0 | V15: =BUDGET!I15 -> 0 | W15: =V15-U15 -> 0 | X15: =N!J15 -> 0 | Y15: =BUDGET!J15 -> 0 | Z15: =N!R15 -> 0 | AA15: =N!K15 -> 0 | AB15: =BUDGET!K15 -> 0 | AC15: =N!U15 -> 0 | AD15: =N!L15 -> 0 | AE15: =BUDGET!L15 -> 0 | AF15: =N!X15 -> 0 | AG15: =N!M15 -> 0 | AH15: =BUDGET!M15 -> 0 | AI15: =N!AA15 -> 0 | AJ15: =N!N15 -> 0 | AK15: =BUDGET!N15 -> 0 | AL15: =N!AD15 -> 0
A16: Prix moyen Restaurant & Banquet | C16: =N!C16 -> 0 | D16: =BUDGET!C16 -> 0 | E16: =+D16-C16 -> 0 | F16: =N!D16 -> 0 | G16: =BUDGET!D16 -> 0 | H16: =+G16-F16 -> 0 | I16: =N!E16 -> 0 | J16: =BUDGET!E16 -> 0 | K16: =+J16-I16 -> 0 | L16: =N!F16 -> 0 | M16: =BUDGET!F16 -> 0 | N16: =+M16-L16 -> 0 | O16: =N!G16 -> 0 | P16: =BUDGET!G16 -> 0 | Q16: =P16-O16 -> 0 | R16: =N!H16 -> 0 | S16: =BUDGET!H16 -> 0 | T16: =S16-R16 -> 0 | U16: =N!I16 -> 0 | V16: =BUDGET!I16 -> 0 | W16: =V16-U16 -> 0 | X16: =N!J16 -> 0 | Y16: =BUDGET!J16 -> 0 | Z16: =N!R16 -> 0 | AA16: =N!K16 -> 0 | AB16: =BUDGET!K16 -> 0 | AC16: =N!U16 -> 0 | AD16: =N!L16 -> 0 | AE16: =BUDGET!L16 -> 0 | AF16: =N!X16 -> 0 | AG16: =N!M16 -> 0 | AH16: =BUDGET!M16 -> 0 | AI16: =N!AA16 -> 0 | AJ16: =N!N16 -> 0 | AK16: =BUDGET!N16 -> 0 | AL16: =N!AD16 -> 0
A17: Prix moyen PDJ | C17: =N!C17 -> 0 | D17: =BUDGET!C17 -> 0 | E17: =+D17-C17 -> 0 | F17: =N!D17 -> 0 | G17: =BUDGET!D17 -> 0 | H17: =+G17-F17 -> 0 | I17: =N!E17 -> 0 | J17: =BUDGET!E17 -> 0 | K17: =+J17-I17 -> 0 | L17: =N!F17 -> 0 | M17: =BUDGET!F17 -> 0 | N17: =+M17-L17 -> 0 | O17: =N!G17 -> 0 | P17: =BUDGET!G17 -> 0 | Q17: =P17-O17 -> 0 | R17: =N!H17 -> 0 | S17: =BUDGET!H17 -> 0 | T17: =S17-R17 -> 0 | U17: =N!I17 -> 0 | V17: =BUDGET!I17 -> 0 | W17: =V17-U17 -> 0 | X17: =N!J17 -> 0 | Y17: =BUDGET!J17 -> 0 | Z17: =N!R17 -> 0 | AA17: =N!K17 -> 0 | AB17: =BUDGET!K17 -> 0 | AC17: =N!U17 -> 0 | AD17: =N!L17 -> 0 | AE17: =BUDGET!L17 -> 0 | AF17: =N!X17 -> 0 | AG17: =N!M17 -> 0 | AH17: =BUDGET!M17 -> 0 | AI17: =N!AA17 -> 0 | AJ17: =N!N17 -> 0 | AK17: =BUDGET!N17 -> 0 | AL17: =N!AD17 -> 0
B18: Effectif Rest Fixes | C18: =N!C18 -> 0 | D18: =BUDGET!C18 -> 0 | E18: =+D18-C18 -> 0 | F18: =N!D18 -> 0 | G18: =BUDGET!D18 -> 0 | H18: =+G18-F18 -> 0 | I18: =N!E18 -> 0 | J18: =BUDGET!E18 -> 0 | K18: =+J18-I18 -> 0 | L18: =N!F18 -> 0 | M18: =BUDGET!F18 -> 0 | N18: =+M18-L18 -> 0 | O18: =N!G18 -> 0 | P18: =BUDGET!G18 -> 0 | Q18: =P18-O18 -> 0 | R18: =N!H18 -> 0 | S18: =BUDGET!H18 -> 0 | T18: =S18-R18 -> 0 | U18: =N!I18 -> 0 | V18: =BUDGET!I18 -> 0 | W18: =V18-U18 -> 0 | X18: =N!J18 -> 0 | Y18: =BUDGET!J18 -> 0 | Z18: =N!R18 -> 0 | AA18: =N!K18 -> 0 | AB18: =BUDGET!K18 -> 0 | AC18: =N!U18 -> 0 | AD18: =N!L18 -> 0 | AE18: =BUDGET!L18 -> 0 | AF18: =N!X18 -> 0 | AG18: =N!M18 -> 0 | AH18: =BUDGET!M18 -> 0 | AI18: =N!AA18 -> 0 | AJ18: =N!N18 -> 0 | AK18: =BUDGET!N18 -> 0 | AL18: =N!AD18 -> 0
B19: Effectif Rest Saisonniers | C19: =N!C19 -> 0 | D19: =BUDGET!C19 -> 0 | E19: =+D19-C19 -> 0 | F19: =N!D19 -> 0 | G19: =BUDGET!D19 -> 0 | H19: =+G19-F19 -> 0 | I19: =N!E19 -> 0 | J19: =BUDGET!E19 -> 0 | K19: =+J19-I19 -> 0 | L19: =N!F19 -> 0 | M19: =BUDGET!F19 -> 0 | N19: =+M19-L19 -> 0 | O19: =N!G19 -> 0 | P19: =BUDGET!G19 -> 0 | Q19: =P19-O19 -> 0 | R19: =N!H19 -> 0 | S19: =BUDGET!H19 -> 0 | T19: =S19-R19 -> 0 | U19: =N!I19 -> 0 | V19: =BUDGET!I19 -> 0 | W19: =V19-U19 -> 0 | X19: =N!J19 -> 0 | Y19: =BUDGET!J19 -> 0 | Z19: =N!R19 -> 0 | AA19: =N!K19 -> 0 | AB19: =BUDGET!K19 -> 0 | AC19: =N!U19 -> 0 | AD19: =N!L19 -> 0 | AE19: =BUDGET!L19 -> 0 | AF19: =N!X19 -> 0 | AG19: =N!M19 -> 0 | AH19: =BUDGET!M19 -> 0 | AI19: =N!AA19 -> 0 | AJ19: =N!N19 -> 0 | AK19: =BUDGET!N19 -> 0 | AL19: =N!AD19 -> 0
B20: Effectif Rest Intérim | C20: =N!C20 -> 0 | D20: =BUDGET!C20 -> 0 | E20: =+D20-C20 -> 0 | F20: =N!D20 -> 0 | G20: =BUDGET!D20 -> 0 | H20: =+G20-F20 -> 0 | I20: =N!E20 -> 0 | J20: =BUDGET!E20 -> 0 | K20: =+J20-I20 -> 0 | L20: =N!F20 -> 0 | M20: =BUDGET!F20 -> 0 | N20: =+M20-L20 -> 0 | O20: =N!G20 -> 0 | P20: =BUDGET!G20 -> 0 | Q20: =P20-O20 -> 0 | R20: =N!H20 -> 0 | S20: =BUDGET!H20 -> 0 | T20: =S20-R20 -> 0 | U20: =N!I20 -> 0 | V20: =BUDGET!I20 -> 0 | W20: =V20-U20 -> 0 | X20: =N!J20 -> 0 | Y20: =BUDGET!J20 -> 0 | Z20: =N!R20 -> 0 | AA20: =N!K20 -> 0 | AB20: =BUDGET!K20 -> 0 | AC20: =N!U20 -> 0 | AD20: =N!L20 -> 0 | AE20: =BUDGET!L20 -> 0 | AF20: =N!X20 -> 0 | AG20: =N!M20 -> 0 | AH20: =BUDGET!M20 -> 0 | AI20: =N!AA20 -> 0 | AJ20: =N!N20 -> 0 | AK20: =BUDGET!N20 -> 0 | AL20: =N!AD20 -> 0
A21: Effectif Restauration | C21: =+C20+C19+C18 -> 0 | D21: =+D20+D19+D18 -> 0 | E21: =+E20+E19+E18 -> 0 | F21: =+F20+F19+F18 -> 0 | G21: =+G20+G19+G18 -> 0 | H21: =+H20+H19+H18 -> 0 | I21: =+I20+I19+I18 -> 0 | J21: =+J20+J19+J18 -> 0 | ... AL21: =+AL20+AL19+AL18 -> 0
A22: Effectif Divers | C22: =N!C22 -> 0 | D22: =BUDGET!C22 -> 0 | E22: =+D22-C22 -> 0 | F22: =N!D22 -> 0 | G22: =BUDGET!D22 -> 0 | H22: =+G22-F22 -> 0 | I22: =N!E22 -> 0 | J22: =BUDGET!E22 -> 0 | K22: =+J22-I22 -> 0 | L22: =N!F22 -> 0 | M22: =BUDGET!F22 -> 0 | N22: =+M22-L22 -> 0 | O22: =N!G22 -> 0 | P22: =BUDGET!G22 -> 0 | Q22: =P22-O22 -> 0 | R22: =N!H22 -> 0 | S22: =BUDGET!H22 -> 0 | T22: =S22-R22 -> 0 | U22: =N!I22 -> 0 | V22: =BUDGET!I22 -> 0 | W22: =V22-U22 -> 0 | X22: =N!J22 -> 0 | Y22: =BUDGET!J22 -> 0 | Z22: =N!R22 -> 0 | AA22: =N!K22 -> 0 | AB22: =BUDGET!K22 -> 0 | AC22: =N!U22 -> 0 | AD22: =N!L22 -> 0 | AE22: =BUDGET!L22 -> 0 | AF22: =N!X22 -> 0 | AG22: =N!M22 -> 0 | AH22: =BUDGET!M22 -> 0 | AI22: =N!AA22 -> 0 | AJ22: =N!N22 -> 0 | AK22: =BUDGET!N22 -> 0 | AL22: =N!AD22 -> 0
A24: Chiffre d'affaires Hébergement HT | C24: =N!C24 -> 0 | D24: =BUDGET!C24 -> 0 | E24: =+D24-C24 -> 0 | F24: =N!D24 -> 0 | G24: =BUDGET!D24 -> 0 | H24: =+G24-F24 -> 0 | I24: =N!E24 -> 0 | J24: =BUDGET!E24 -> 0 | K24: =+J24-I24 -> 0 | L24: =N!F24 -> 0 | M24: =BUDGET!F24 -> 0 | N24: =+M24-L24 -> 0 | O24: =N!G24 -> 0 | P24: =BUDGET!G24 -> 0 | Q24: =P24-O24 -> 0 | R24: =N!H24 -> 0 | S24: =BUDGET!H24 -> 0 | T24: =S24-R24 -> 0 | U24: =N!I24 -> 0 | V24: =BUDGET!I24 -> 0 | W24: =V24-U24 -> 0 | X24: =N!J24 -> 0 | Y24: =BUDGET!J24 -> 0 | Z24: =N!R24 -> 0 | AA24: =N!K24 -> 0 | AB24: =BUDGET!K24 -> 0 | AC24: =N!U24 -> 0 | AD24: =N!L24 -> 0 | AE24: =BUDGET!L24 -> 0 | AF24: =N!X24 -> 0 | AG24: =N!M24 -> 0 | AH24: =BUDGET!M24 -> 0 | AI24: =N!AA24 -> 0 | AJ24: =N!N24 -> 0 | AK24: =BUDGET!N24 -> 0 | AL24: =N!AD24 -> 0
A25: Chiffre d'affaires Restauration HT | C25: =N!C25 -> 0 | D25: =BUDGET!C25 -> 0 | E25: =+D25-C25 -> 0 | F25: =N!D25 -> 0 | G25: =BUDGET!D25 -> 0 | H25: =+G25-F25 -> 0 | I25: =N!E25 -> 0 | J25: =BUDGET!E25 -> 0 | K25: =+J25-I25 -> 0 | L25: =N!F25 -> 0 | M25: =BUDGET!F25 -> 0 | N25: =+M25-L25 -> 0 | O25: =N!G25 -> 0 | P25: =BUDGET!G25 -> 0 | Q25: =P25-O25 -> 0 | R25: =N!H25 -> 0 | S25: =BUDGET!H25 -> 0 | T25: =S25-R25 -> 0 | U25: =N!I25 -> 0 | V25: =BUDGET!I25 -> 0 | W25: =V25-U25 -> 0 | X25: =N!J25 -> 0 | Y25: =BUDGET!J25 -> 0 | Z25: =N!R25 -> 0 | AA25: =N!K25 -> 0 | AB25: =BUDGET!K25 -> 0 | AC25: =N!U25 -> 0 | AD25: =N!L25 -> 0 | AE25: =BUDGET!L25 -> 0 | AF25: =N!X25 -> 0 | AG25: =N!M25 -> 0 | AH25: =BUDGET!M25 -> 0 | AI25: =N!AA25 -> 0 | AJ25: =N!N25 -> 0 | AK25: =BUDGET!N25 -> 0 | AL25: =N!AD25 -> 0
A26: Chiffre d'affaires Divers HT | C26: =N!C26 -> 0 | D26: =BUDGET!C26 -> 0 | E26: =+D26-C26 -> 0 | F26: =N!D26 -> 0 | G26: =BUDGET!D26 -> 0 | H26: =+G26-F26 -> 0 | I26: =N!E26 -> 0 | J26: =BUDGET!E26 -> 0 | K26: =+J26-I26 -> 0 | L26: =N!F26 -> 0 | M26: =BUDGET!F26 -> 0 | N26: =+M26-L26 -> 0 | O26: =N!G26 -> 0 | P26: =BUDGET!G26 -> 0 | Q26: =P26-O26 -> 0 | R26: =N!H26 -> 0 | S26: =BUDGET!H26 -> 0 | T26: =S26-R26 -> 0 | U26: =N!I26 -> 0 | V26: =BUDGET!I26 -> 0 | W26: =V26-U26 -> 0 | X26: =N!J26 -> 0 | Y26: =BUDGET!J26 -> 0 | Z26: =N!R26 -> 0 | AA26: =N!K26 -> 0 | AB26: =BUDGET!K26 -> 0 | AC26: =N!U26 -> 0 | AD26: =N!L26 -> 0 | AE26: =BUDGET!L26 -> 0 | AF26: =N!X26 -> 0 | AG26: =N!M26 -> 0 | AH26: =BUDGET!M26 -> 0 | AI26: =N!AA26 -> 0 | AJ26: =N!N26 -> 0 | AK26: =BUDGET!N26 -> 0 | AL26: =N!AD26 -> 0
A27: Total Chiffre d'affaires HT | C27: =+C24+C25+C26 -> 0 | D27: =+D24+D25+D26 -> 0 | E27: =+E24+E25+E26 -> 0 | F27: =+F24+F25+F26 -> 0 | G27: =+G24+G25+G26 -> 0 | H27: =+H24+H25+H26 -> 0 | I27: =+I24+I25+I26 -> 0 | J27: =+J24+J25+J26 -> 0 | ... AL27: =+AL24+AL25+AL26 -> 0
A29: Couts Marchandises Restauration | C29: =N!C29 -> 0 | D29: =BUDGET!C29 -> 0 | E29: =+D29-C29 -> 0 | F29: =N!D29 -> 0 | G29: =BUDGET!D29 -> 0 | H29: =+G29-F29 -> 0 | I29: =N!E29 -> 0 | J29: =BUDGET!E29 -> 0 | K29: =+J29-I29 -> 0 | L29: =N!F29 -> 0 | M29: =BUDGET!F29 -> 0 | N29: =+M29-L29 -> 0 | O29: =N!G29 -> 0 | P29: =BUDGET!G29 -> 0 | Q29: =+P29-O29 -> 0 | R29: =N!H29 -> 0 | S29: =BUDGET!H29 -> 0 | T29: =+S29-R29 -> 0 | U29: =N!I29 -> 0 | V29: =BUDGET!I29 -> 0 | W29: =+V29-U29 -> 0 | X29: =N!J29 -> 0 | Y29: =BUDGET!J29 -> 0 | Z29: =+Y29-X29 -> 0 | AA29: =N!K29 -> 0 | AB29: =BUDGET!K29 -> 0 | AC29: =+AB29-AA29 -> 0 | AD29: =N!L29 -> 0 | AE29: =BUDGET!L29 -> 0 | AF29: =+AE29-AD29 -> 0 | AG29: =N!M29 -> 0 | AH29: =BUDGET!M29 -> 0 | AI29: =+AH29-AG29 -> 0 | AJ29: =N!N29 -> 0 | AK29: =BUDGET!N29 -> 0 | AL29: =+AK29-AJ29 -> 0
A30: Couts Marchandises divers (boutique HDL) | C30: =N!C30 -> 0 | D30: =BUDGET!C30 -> 0 | E30: =+D30-C30 -> 0 | F30: =N!D30 -> 0 | G30: =BUDGET!D30 -> 0 | H30: =+G30-F30 -> 0 | I30: =N!E30 -> 0 | J30: =BUDGET!E30 -> 0 | K30: =+J30-I30 -> 0 | L30: =N!F30 -> 0 | M30: =BUDGET!F30 -> 0 | N30: =+M30-L30 -> 0 | O30: =N!G30 -> 0 | P30: =BUDGET!G30 -> 0 | Q30: =+P30-O30 -> 0 | R30: =N!H30 -> 0 | S30: =BUDGET!H30 -> 0 | T30: =+S30-R30 -> 0 | U30: =N!I30 -> 0 | V30: =BUDGET!I30 -> 0 | W30: =+V30-U30 -> 0 | X30: =N!J30 -> 0 | Y30: =BUDGET!J30 -> 0 | Z30: =+Y30-X30 -> 0 | AA30: =N!K30 -> 0 | AB30: =BUDGET!K30 -> 0 | AC30: =+AB30-AA30 -> 0 | AD30: =N!L30 -> 0 | AE30: =BUDGET!L30 -> 0 | AF30: =+AE30-AD30 -> 0 | AG30: =N!M30 -> 0 | AH30: =BUDGET!M30 -> 0 | AI30: =+AH30-AG30 -> 0 | AJ30: =N!N30 -> 0 | AK30: =BUDGET!N30 -> 0 | AL30: =+AK30-AJ30 -> 0
A31: Total M/ses Consommées | C31: =+C30+C29 -> 0 | D31: =+D30+D29 -> 0 | E31: =+E30+E29 -> 0 | F31: =+F30+F29 -> 0 | G31: =+G30+G29 -> 0 | H31: =+H30+H29 -> 0 | I31: =+I30+I29 -> 0 | J31: =+J30+J29 -> 0 | ... AL31: =+AL30+AL29 -> 0
A32: Ratio M/ses consommées restau | C32: =+C29/C25 -> #DIV/0! | D32: =+D29/D25 -> #DIV/0! | F32: =+F29/F25 -> #DIV/0! | G32: =+G29/G25 -> #DIV/0! | I32: =+I29/I25 -> #DIV/0! | J32: =+J29/J25 -> #DIV/0! | L32: =+L29/L25 -> #DIV/0! | M32: =BUDGET!F32 -> #DIV/0! | O32: =+O29/O25 -> #DIV/0! | P32: =BUDGET!G32 -> #DIV/0! | R32: =+R29/R25 -> #DIV/0! | S32: =+S29/S25 -> #DIV/0! | U32: =+U29/U25 -> #DIV/0! | V32: =BUDGET!I32 -> #DIV/0! | X32: =+X29/X25 -> #DIV/0! | Y32: =BUDGET!J32 -> #DIV/0! | AA32: =+AA29/AA25 -> #DIV/0! | AB32: =BUDGET!K32 -> #DIV/0! | AD32: =+AD29/AD25 -> #DIV/0! | AE32: =BUDGET!L32 -> #DIV/0! | AG32: =+AG29/AG25 -> #DIV/0! | AH32: =BUDGET!M32 -> #DIV/0! | AJ32: =+AJ29/AJ25 -> #DIV/0! | AK32: =BUDGET!N32 -> #DIV/0!
A33: Marge Brute | C33: =+C27-C31 -> 0 | D33: =+D27-D31 -> 0 | E33: =+E27-E31 -> 0 | F33: =+F27-F31 -> 0 | G33: =+G27-G31 -> 0 | H33: =+H27-H31 -> 0 | I33: =+I27-I31 -> 0 | J33: =+J27-J31 -> 0 | ... R33: =+R27-R31 -> 0 | S33: =BUDGET!H33 -> 0 | T33: =+S33-R33 -> 0 | U33: =+U27-U31 -> 0 | V33: =+V27-V31 -> 0 | W33: =+W27-W31 -> 0 | X33: =+X27-X31 -> 0 | Y33: =+Y27-Y31 -> 0 | Z33: =+Z27-Z31 -> 0 | AA33: =+AA27-AA31 -> 0 | AB33: =+AB27-AB31 -> 0 | ... AL33: =+AL27-AL31 -> 0
