Workbook

Sheet N
A1: 2014
C2: Nom :
A3: MENSUEL | C3: 41640 | D3: 41671 | E3: 41699 | F3: 41730 | G3: 41760 | H3: 41791 | I3: 41821 | J3: 41852 | K3: 41883 | L3: 41913 | M3: 41944 | N3: 41974 | P3: TOTAL
A4: Hôtel
A5: Réservations | C5: 1 | D5: 2 | E5: 3 | F5: 4 | G5: 5 | H5: 6 | I5: 7 | J5: 8 | K5: 9 | L5: 10 | M5: 11 | N5: 12 | P5: =+SUM(C5:N5) -> 78
A6: Nombre de chambres louées | C6: 1 | D6: 2 | E6: 3 | F6: 4 | G6: 5 | H6: 6 | I6: 7 | J6: 8 | K6: 9 | L6: 10 | M6: 11 | N6: 12 | P6: =+SUM(C6:N6) -> 78
A7: Taux occupation | C7: 0.03 | D7: 1.03
A8: Prix moyen hébergement | C8: 1 | D8: 2 | E8: 3 | F8: 4 | G8: 5 | H8: 6 | I8: 7 | J8: 8 | K8: 9 | L8: 10 | M8: 11 | N8: 12
B10: Effectif Héberg Fixes | C10: 1 | D10: 2 | E10: 3 | F10: 4 | G10: 5 | H10: 6 | I10: 7 | J10: 8 | K10: 9 | L10: 10 | M10: 11 | N10: 12 | P10: =+SUM(C10:N10) -> 78
B11: Effectif Héberg Saisonniers | C11: 1 | D11: 2 | E11: 3 | F11: 4 | G11: 5 | H11: 6 | I11: 7 | J11: 8 | K11: 9 | L11: 10 | M11: 11 | N11: 12 | P11: =+SUM(C11:N11) -> 78
B12: Effectif Héberg Intérim | C12: 1 | D12: 2 | E12: 3 | F12: 4 | G12: 5 | H12: 6 | I12: 7 | J12: 8 | K12: 9 | L12: 10 | M12: 11 | N12: 12 | P12: =+SUM(C12:N12) -> 78
A13: Effectif Hébergement | C13: =+C10+C11+C12 -> 3 | D13: =+D10+D11+D12 -> 6 | E13: =+E10+E11+E12 -> 9 | F13: =+F10+F11+F12 -> 12 | G13: =+G10+G11+G12 -> 15 | H13: =+H10+H11+H12 -> 18 | I13: =+I10+I11+I12 -> 21 | J13: =+J10+J11+J12 -> 24 | ... N13: =+N10+N11+N12 -> 36 | P13: =+SUM(C13:N13) -> 234
A14: Couverts Restaurant & Banquet | P14: =+SUM(C14:N14) -> 0
A15: Couverts PDJ | P15: =+SUM(C15:N15) -> 0
A16: Prix moyen Restaurant & Banquet
A17: Prix moyen PDJ
B18: Effectif Rest Fixes | P18: =+SUM(C18:N18) -> 0
B19: Effectif Rest Saisonniers | P19: =+SUM(C19:N19) -> 0
B20: Effectif Héberg Intérim | P20: =+SUM(C20:N20) -> 0
A21: Effectif Restauration | C21: =+C20+C19+C18 -> 0 | D21: =+D20+D19+D18 -> 0 | E21: =+E20+E19+E18 -> 0 | F21: =+F20+F19+F18 -> 0 | G21: =+G20+G19+G18 -> 0 | H21: =+H20+H19+H18 -> 0 | I21: =+I20+I19+I18 -> 0 | J21: =+J20+J19+J18 -> 0 | ... N21: =+N20+N19+N18 -> 0 | P21: =+SUM(C21:N21) -> 0
A22: Effectif Divers | P22: =+SUM(C22:N22) -> 0
A24: Chiffre d'affaires Hébergement HT | P24: =+SUM(C24:N24) -> 0
A25: Chiffre d'affaires Restauration HT | P25: =+SUM(C25:N25) -> 0
A26: Chiffre d'affaires Divers HT | P26: =+SUM(C26:N26) -> 0
A27: Total Chiffre d'affaires HT | C27: =+C24+C25+C26 -> 0 | D27: =+D24+D25+D26 -> 0 | E27: =+E24+E25+E26 -> 0 | F27: =+F24+F25+F26 -> 0 | G27: =+G24+G25+G26 -> 0 | H27: =+H24+H25+H26 -> 0 | I27: =+I24+I25+I26 -> 0 | J27: =+J24+J25+J26 -> 0 | ... N27: =+N24+N25+N26 -> 0 | P27: =+SUM(C27:N27) -> 0
A29: Couts Marchandises Restauration | P29: 0
A30: Couts Marchandises divers (boutique HDL)
A31: Total M/ses Consommées | C31: =+C30+C29 -> 0 | D31: =+D30+D29 -> 0 | E31: =+E30+E29 -> 0 | F31: =+F30+F29 -> 0 | G31: =+G30+G29 -> 0 | H31: =+H30+H29 -> 0 | I31: =+I30+I29 -> 0 | J31: =+J30+J29 -> 0 | ... N31: =+N30+N29 -> 0 | P31: =+SUM(C31:N31) -> 0
A32: Ratio M/ses consommées restau | C32: =+C29/C25 -> #DIV/0! | D32: =+D29/D25 -> #DIV/0! | E32: =+E29/E25 -> #DIV/0! | F32: =+F29/F25 -> #DIV/0! | G32: =+G29/G25 -> #DIV/0! | H32: =+H29/H25 -> #DIV/0! | I32: =+I29/I25 -> #DIV/0! | J32: =+J29/J25 -> #DIV/0! | ... N32: =+N29/N25 -> #DIV/0! | P32: =+P29/P25 -> #DIV/0!
A33: Marge Brute | C33: =+C27-C31 -> 0 | D33: =+D27-D31 -> 0 | E33: =+E27-E31 -> 0 | F33: =+F27-F31 -> 0 | G33: =+G27-G31 -> 0 | H33: =+H27-H31 -> 0 | I33: =+I27-I31 -> 0 | J33: =+J27-J31 -> 0 | ... N33: =+N27-N31 -> 0 | P33: =+SUM(C33:N33) -> 0
A35: Intérim | C35: =+C36+C37+C38+C39 -> 0 | D35: =+D36+D37+D38+D39 -> 0 | E35: =+E36+E37+E38+E39 -> 0 | F35: =+F36+F37+F38+F39 -> 0 | G35: =+G36+G37+G38+G39 -> 0 | H35: =+H36+H37+H38+H39 -> 0 | I35: =+I36+I37+I38+I39 -> 0 | J35: =+J36+J37+J38+J39 -> 0 | ... N35: =+N36+N37+N38+N39 -> 0 | P35: =+P36+P37+P38+P39 -> 0
B36: Intérim Réception | P36: =+SUM(C36:N36) -> 0
B37: Intérim Hébergement | P37: =+SUM(C37:N37) -> 0
B38: Intérim Restauration | P38: =+SUM(C38:N38) -> 0
B39: Intérim Admin Comm | P39: =+SUM(C39:N39) -> 0
A40: Salaires bruts | C40: =+SUM(C41:C44) -> 0 | D40: =+SUM(D41:D44) -> 0 | E40: =+SUM(E41:E44) -> 0 | F40: =+SUM(F41:F44) -> 0 | G40: =+SUM(G41:G44) -> 0 | H40: =+SUM(H41:H44) -> 0 | I40: =+SUM(I41:I44) -> 0 | J40: =+SUM(J41:J44) -> 0 | ... N40: =+SUM(N41:N44) -> 0 | P40: =+SUM(P41:P44) -> 0
B41: SB Réception | P41: =+SUM(C41:N41) -> 0
B42: SB Hébergement | P42: =+SUM(C42:N42) -> 0
B43: SB Restauration | P43: =+SUM(C43:N43) -> 0
B44: SB Admin Comm | P44: =+SUM(C44:N44) -> 0
...

Sheet N-1
A1: 2013
C2: Nom :
A3: MENSUEL | C3: N-1 | D3: N-1 | E3: N-1 | F3: N-1 | G3: N-1 | H3: N-1 | I3: N-1 | J3: N-1 | K3: N-1 | L3: N-1 | M3: N-1 | N3: N-1 | P3: TOTAL
A4: Hôtel
A5: Réservations | C5: 1 | D5: 2 | E5: 3 | F5: 4 | G5: 5 | H5: 6 | I5: 7 | J5: 8 | K5: 9 | L5: 10 | M5: 11 | N5: 12 | P5: =+SUM(C5:N5) -> 78
A6: Nombre de chambres louées | C6: 2 | D6: 2 | P6: =+SUM(C6:N6) -> 4
A7: Taux occupation | C7: 0.03 | D7: 1.03
A8: Prix moyen hébergement | C8: 4 | D8: 4
B10: Effectif Héberg Fixes | C10: 5 | D10: 5 | P10: =+SUM(C10:N10) -> 10
B11: Effectif Héberg Saisonniers | C11: 6 | D11: 6 | P11: =+SUM(C11:N11) -> 12
B12: Effectif Héberg Intérim | C12: 7 | D12: 7 | P12: =+SUM(C12:N12) -> 14
A13: Effectif Hébergement | C13: =+C10+C11+C12 -> 18 | D13: =+D10+D11+D12 -> 18 | E13: =+E10+E11+E12 -> 0 | F13: =+F10+F11+F12 -> 0 | G13: =+G10+G11+G12 -> 0 | H13: =+H10+H11+H12 -> 0 | I13: =+I10+I11+I12 -> 0 | J13: =+J10+J11+J12 -> 0 | ... N13: =+N10+N11+N12 -> 0 | P13: =+SUM(C13:N13) -> 36
A14: Couverts Restaurant & Banquet | P14: =+SUM(C14:N14) -> 0
A15: Couverts PDJ | P15: =+SUM(C15:N15) -> 0
A16: Prix moyen Restaurant & Banquet
A17: Prix moyen PDJ
B18: Effectif Rest Fixes | P18: =+SUM(C18:N18) -> 0
B19: Effectif Rest Saisonniers | P19: =+SUM(C19:N19) -> 0
B20: Effectif Héberg Intérim | P20: =+SUM(C20:N20) -> 0
A21: Effectif Restauration | C21: =+C20+C19+C18 -> 0 | D21: =+D20+D19+D18 -> 0 | E21: =+E20+E19+E18 -> 0 | F21: =+F20+F19+F18 -> 0 | G21: =+G20+G19+G18 -> 0 | H21: =+H20+H19+H18 -> 0 | I21: =+I20+I19+I18 -> 0 | J21: =+J20+J19+J18 -> 0 | ... N21: =+N20+N19+N18 -> 0 | P21: =+SUM(C21:N21) -> 0
A22: Effectif Divers | P22: =+SUM(C22:N22) -> 0
A24: Chiffre d'affaires Hébergement HT | P24: =+SUM(C24:N24) -> 0
A25: Chiffre d'affaires Restauration HT | P25: =+SUM(C25:N25) -> 0
A26: Chiffre d'affaires Divers HT | P26: =+SUM(C26:N26) -> 0
A27: Total Chiffre d'affaires HT | C27: =+C24+C25+C26 -> 0 | D27: =+D24+D25+D26 -> 0 | E27: =+E24+E25+E26 -> 0 | F27: =+F24+F25+F26 -> 0 | G27: =+G24+G25+G26 -> 0 | H27: =+H24+H25+H26 -> 0 | I27: =+I24+I25+I26 -> 0 | J27: =+J24+J25+J26 -> 0 | ... N27: =+N24+N25+N26 -> 0 | P27: =+SUM(C27:N27) -> 0
A29: Couts Marchandises Restauration | P29: 0
A30: Couts Marchandises divers (boutique HDL)
A31: Total M/ses Consommées | C31: =+C30+C29 -> 0 | D31: =+D30+D29 -> 0 | E31: =+E30+E29 -> 0 | F31: =+F30+F29 -> 0 | G31: =+G30+G29 -> 0 | H31: =+H30+H29 -> 0 | I31: =+I30+I29 -> 0 | J31: =+J30+J29 -> 0 | ... N31: =+N30+N29 -> 0 | P31: =+SUM(C31:N31) -> 0
A32: Ratio M/ses consommées restau | C32: =+C29/C25 -> #DIV/0! | D32: =+D29/D25 -> #DIV/0! | E32: =+E29/E25 -> #DIV/0! | F32: =+F29/F25 -> #DIV/0! | G32: =+G29/G25 -> #DIV/0! | H32: =+H29/H25 -> #DIV/0! | I32: =+I29/I25 -> #DIV/0! | J32: =+J29/J25 -> #DIV/0! | ... N32: =+N29/N25 -> #DIV/0! | P32: =+P29/P25 -> #DIV/0!
A33: Marge Brute | C33: =+C27-C31 -> 0 | D33: =+D27-D31 -> 0 | E33: =+E27-E31 -> 0 | F33: =+F27-F31 -> 0 | G33: =+G27-G31 -> 0 | H33: =+H27-H31 -> 0 | I33: =+I27-I31 -> 0 | J33: =+J27-J31 -> 0 | ... N33: =+N27-N31 -> 0 | P33: =+SUM(C33:N33) -> 0
A35: Intérim | C35: =+C36+C37+C38+C39 -> 0 | D35: =+D36+D37+D38+D39 -> 0 | E35: =+E36+E37+E38+E39 -> 0 | F35: =+F36+F37+F38+F39 -> 0 | G35: =+G36+G37+G38+G39 -> 0 | H35: =+H36+H37+H38+H39 -> 0 | I35: =+I36+I37+I38+I39 -> 0 | J35: =+J36+J37+J38+J39 -> 0 | ... N35: =+N36+N37+N38+N39 -> 0 | P35: =+P36+P37+P38+P39 -> 0
B36: Intérim Réception | P36: =+SUM(C36:N36) -> 0
B37: Intérim Hébergement | P37: =+SUM(C37:N37) -> 0
B38: Intérim Restauration | P38: =+SUM(C38:N38) -> 0
B39: Intérim Admin Comm | P39: =+SUM(C39:N39) -> 0
A40: Salaires bruts | C40: =+SUM(C41:C44) -> 0 | D40: =+SUM(D41:D44) -> 0 | E40: =+SUM(E41:E44) -> 0 | F40: =+SUM(F41:F44) -> 0 | G40: =+SUM(G41:G44) -> 0 | H40: =+SUM(H41:H44) -> 0 | I40: =+SUM(I41:I44) -> 0 | J40: =+SUM(J41:J44) -> 0 | ... N40: =+SUM(N41:N44) -> 0 | P40: =+SUM(P41:P44) -> 0
B41: SB Réception | P41: =+SUM(C41:N41) -> 0
B42: SB Hébergement | P42: =+SUM(C42:N42) -> 0
B43: SB Restauration | P43: =+SUM(C43:N43) -> 0
B44: SB Admin Comm | P44: =+SUM(C44:N44) -> 0
...

Sheet BUDGET
A1: 2015
C2: Nom :
A3: MENSUEL | C3: 42005 | D3: 42036 | E3: 42064 | F3: 42095 | G3: 42125 | H3: 42156 | I3: 42186 | J3: 42217 | K3: 42248 | L3: 42278 | M3: 42309 | N3: 42339 | P3: TOTAL
A4: Hôtel
A5: Réservations
A6: Nombre de chambres louées | P6: =+SUM(C6:N6) -> 0
A7: Taux occupation
A8: Prix moyen hébergement
B10: Effectif Héberg Fixes | P10: =+SUM(C10:N10) -> 0
B11: Effectif Héberg Saisonniers | P11: =+SUM(C11:N11) -> 0
B12: Effectif Héberg Intérim | P12: =+SUM(C12:N12) -> 0
A13: Effectif Hébergement | C13: =+C10+C11+C12 -> 0 | D13: =+D10+D11+D12 -> 0 | E13: =+E10+E11+E12 -> 0 | F13: =+F10+F11+F12 -> 0 | G13: =+G10+G11+G12 -> 0 | H13: =+H10+H11+H12 -> 0 | I13: =+I10+I11+I12 -> 0 | J13: =+J10+J11+J12 -> 0 | ... N13: =+N10+N11+N12 -> 0 | P13: =+SUM(C13:N13) -> 0
A14: Couverts Restaurant & Banquet | P14: =+SUM(C14:N14) -> 0
A15: Couverts PDJ | P15: =+SUM(C15:N15) -> 0
A16: Prix moyen Restaurant & Banquet
A17: Prix moyen PDJ
B18: Effectif Rest Fixes | P18: =+SUM(C18:N18) -> 0
B19: Effectif Rest Saisonniers | P19: =+SUM(C19:N19) -> 0
B20: Effectif Héberg Intérim | P20: =+SUM(C20:N20) -> 0
A21: Effectif Restauration | C21: =+C20+C19+C18 -> 0 | D21: =+D20+D19+D18 -> 0 | E21: =+E20+E19+E18 -> 0 | F21: =+F20+F19+F18 -> 0 | G21: =+G20+G19+G18 -> 0 | H21: =+H20+H19+H18 -> 0 | I21: =+I20+I19+I18 -> 0 | J21: =+J20+J19+J18 -> 0 | ... N21: =+N20+N19+N18 -> 0 | P21: =+SUM(C21:N21) -> 0
A22: Effectif Divers | P22: =+SUM(C22:N22) -> 0
A24: Chiffre d'affaires Hébergement HT | P24: =+SUM(C24:N24) -> 0
A25: Chiffre d'affaires Restauration HT | P25: =+SUM(C25:N25) -> 0
A26: Chiffre d'affaires Divers HT | P26: =+SUM(C26:N26) -> 0
A27: Total Chiffre d'affaires HT | C27: =+C24+C25+C26 -> 0 | D27: =+D24+D25+D26 -> 0 | E27: =+E24+E25+E26 -> 0 | F27: =+F24+F25+F26 -> 0 | G27: =+G24+G25+G26 -> 0 | H27: =+H24+H25+H26 -> 0 | I27: =+I24+I25+I26 -> 0 | J27: =+J24+J25+J26 -> 0 | ... N27: =+N24+N25+N26 -> 0 | P27: =+SUM(C27:N27) -> 0
A29: Couts Marchandises Restauration | P29: 0
A30: Couts Marchandises divers (boutique HDL)
A31: Total M/ses Consommées | C31: =+C30+C29 -> 0 | D31: =+D30+D29 -> 0 | E31: =+E30+E29 -> 0 | F31: =+F30+F29 -> 0 | G31: =+G30+G29 -> 0 | H31: =+H30+H29 -> 0 | I31: =+I30+I29 -> 0 | J31: =+J30+J29 -> 0 | ... N31: =+N30+N29 -> 0 | P31: =+SUM(C31:N31) -> 0
A32: Ratio M/ses consommées restau | C32: =+C29/C25 -> #DIV/0! | D32: =+D29/D25 -> #DIV/0! | E32: =+E29/E25 -> #DIV/0! | F32: =+F29/F25 -> #DIV/0! | G32: =+G29/G25 -> #DIV/0! | H32: =+H29/H25 -> #DIV/0! | I32: =+I29/I25 -> #DIV/0! | J32: =+J29/J25 -> #DIV/0! | ... N32: =+N29/N25 -> #DIV/0! | P32: =+P29/P25 -> #DIV/0!
A33: Marge Brute | C33: =+C27-C31 -> 0 | D33: =+D27-D31 -> 0 | E33: =+E27-E31 -> 0 | F33: =+F27-F31 -> 0 | G33: =+G27-G31 -> 0 | H33: =+H27-H31 -> 0 | I33: =+I27-I31 -> 0 | J33: =+J27-J31 -> 0 | ... N33: =+N27-N31 -> 0 | P33: =+SUM(C33:N33) -> 0
A35: Intérim | C35: =+C36+C37+C38+C39 -> 0 | D35: =+D36+D37+D38+D39 -> 0 | E35: =+E36+E37+E38+E39 -> 0 | F35: =+F36+F37+F38+F39 -> 0 | G35: =+G36+G37+G38+G39 -> 0 | H35: =+H36+H37+H38+H39 -> 0 | I35: =+I36+I37+I38+I39 -> 0 | J35: =+J36+J37+J38+J39 -> 0 | ... N35: =+N36+N37+N38+N39 -> 0 | P35: =+P36+P37+P38+P39 -> 0
B36: Intérim Réception | P36: =+SUM(C36:N36) -> 0
B37: Intérim Hébergement | P37: =+SUM(C37:N37) -> 0
B38: Intérim Restauration | P38: =+SUM(C38:N38) -> 0
B39: Intérim Admin Comm | P39: =+SUM(C39:N39) -> 0
A40: Salaires bruts | C40: =+SUM(C41:C44) -> 0 | D40: =+SUM(D41:D44) -> 0 | E40: =+SUM(E41:E44) -> 0 | F40: =+SUM(F41:F44) -> 0 | G40: =+SUM(G41:G44) -> 0 | H40: =+SUM(H41:H44) -> 0 | I40: =+SUM(I41:I44) -> 0 | J40: =+SUM(J41:J44) -> 0 | ... N40: =+SUM(N41:N44) -> 0 | P40: =+SUM(P41:P44) -> 0
B41: SB Réception | P41: =+SUM(C41:N41) -> 0
B42: SB Hébergement | P42: =+SUM(C42:N42) -> 0
B43: SB Restauration | P43: =+SUM(C43:N43) -> 0
B44: SB Admin Comm | P44: =+SUM(C44:N44) -> 0
...

Sheet Ecarts N-1
A1: 2014
A2: DATE | C2: Nom :
A3: MENSUEL | C3: 41640 | D3: N-1 | E3: Ecarts | F3: 41671 | G3: N-1 | H3: Ecarts | I3: 41699 | J3: N-1 | K3: Ecarts | L3: 41730 | M3: N-1 | N3: Ecarts | O3: 41760 | P3: N-1 | Q3: Ecarts | R3: 41791 | S3: N-1 | T3: Ecarts | U3: 41821 | V3: N-1 | W3: Ecarts | X3: 41852 | Y3: N-1 | Z3: Ecarts | AA3: 41883 | AB3: N-1 | AC3: Ecarts | AD3: 41913 | AE3: N-1 | AF3: Ecarts | AG3: 41944 | AH3: N-1 | AI3: Ecarts | AJ3: 41974 | AK3: N-1 | AL3: Ecarts | AN3: TOTAL | AO3: CUMUL N-1 | AP3: Ecarts
A4: Hôtel
A5: Réservations | C5: =+N!C5 -> 1 | D5: =+'N-1'!C5 -> 1 | E5: =+D5-C5 -> 0 | F5: =+N!D5 -> 2 | G5: =+'N-1'!D5 -> 2 | H5: =+G5-F5 -> 0 | I5: =+N!E5 -> 3 | J5: =+'N-1'!E5 -> 3 | K5: =+J5-I5 -> 0 | L5: =+N!F5 -> 4 | M5: =+'N-1'!F5 -> 4 | N5: =+M5-L5 -> 0
A6: Nombre de chambres louées | C6: =+N!C6 -> 1 | D6: =+'N-1'!C6 -> 2 | E6: =+D6-C6 -> 1 | F6: =+N!D6 -> 2 | G6: =+'N-1'!D6 -> 2 | H6: =+G6-F6 -> 0 | I6: =+N!E6 -> 3 | J6: =+'N-1'!E6 -> 0 | K6: =+J6-I6 -> -3 | L6: =+N!F6 -> 4 | M6: =+'N-1'!F6 -> 0 | N6: =+M6-L6 -> -4 | AN6: =+SUM(C6:AJ6) -> 8 | AP6: =+AO6-AN6 -> -8
A7: Taux occupation | C7: =+N!C7 -> 0.03 | D7: =+'N-1'!C7 -> 0.03 | E7: =+D7-C7 -> 0 | F7: =+N!D7 -> 1.03 | G7: =+'N-1'!D7 -> 1.03 | H7: =+G7-F7 -> 0 | I7: =+N!E7 -> 0 | J7: =+'N-1'!E7 -> 0 | K7: =+J7-I7 -> 0 | L7: =+N!F7 -> 0 | M7: =+'N-1'!F7 -> 0 | N7: =+M7-L7 -> 0 | AP7: =+AO7-AN7 -> 0
A8: Prix moyen hébergement | C8: =+N!C8 -> 1 | D8: =+'N-1'!C8 -> 4 | E8: =+D8-C8 -> 3 | F8: =+N!D8 -> 2 | G8: =+'N-1'!D8 -> 4 | H8: =+G8-F8 -> 2 | I8: =+N!E8 -> 3 | J8: =+'N-1'!E8 -> 0 | K8: =+J8-I8 -> -3 | L8: =+N!F8 -> 4 | M8: =+'N-1'!F8 -> 0 | N8: =+M8-L8 -> -4 | AP8: =+AO8-AN8 -> 0
B10: Effectif Héberg Fixes | C10: =+N!C10 -> 1 | D10: =+'N-1'!C10 -> 5 | E10: =+D10-C10 -> 4 | F10: =+N!D10 -> 2 | G10: =+'N-1'!D10 -> 5 | H10: =+G10-F10 -> 3 | I10: =+N!E10 -> 3 | J10: =+'N-1'!E10 -> 0 | K10: =+J10-I10 -> -3 | L10: =+N!F10 -> 4 | M10: =+'N-1'!F10 -> 0 | N10: =+M10-L10 -> -4 | AN10: =+SUM(C10:AJ10) -> 20 | AO10: =+#REF! -> #REF! | AP10: =+AO10-AN10 -> #REF!
B11: Effectif Héberg Saisonniers | C11: =+N!C11 -> 1 | D11: =+'N-1'!C11 -> 6 | E11: =+D11-C11 -> 5 | F11: =+N!D11 -> 2 | G11: =+'N-1'!D11 -> 6 | H11: =+G11-F11 -> 4 | I11: =+N!E11 -> 3 | J11: =+'N-1'!E11 -> 0 | K11: =+J11-I11 -> -3 | L11: =+N!F11 -> 4 | M11: =+'N-1'!F11 -> 0 | N11: =+M11-L11 -> -4 | AN11: =+SUM(C11:AJ11) -> 24 | AO11: =+#REF! -> #REF! | AP11: =+AO11-AN11 -> #REF!
B12: Effectif Héberg Intérim | C12: =+N!C12 -> 1 | D12: =+'N-1'!C12 -> 7 | E12: =+D12-C12 -> 6 | F12: =+N!D12 -> 2 | G12: =+'N-1'!D12 -> 7 | H12: =+G12-F12 -> 5 | I12: =+N!E12 -> 3 | J12: =+'N-1'!E12 -> 0 | K12: =+J12-I12 -> -3 | L12: =+N!F12 -> 4 | M12: =+'N-1'!F12 -> 0 | N12: =+M12-L12 -> -4 | AN12: =+SUM(C12:AJ12) -> 28 | AO12: =+#REF! -> #REF! | AP12: =+AO12-AN12 -> #REF!
A13: Effectif Hébergement | C13: =+C10+C11+C12 -> 3 | E13: =+D13-C13 -> -3 | F13: =+F10+F11+F12 -> 6 | H13: =+G13-F13 -> -6 | I13: =+I10+I11+I12 -> 9 | L13: =+L10+L11+L12 -> 12 | O13: =+O10+O11+O12 -> 0 | R13: =+R10+R11+R12 -> 0 | U13: =+U10+U11+U12 -> 0 | X13: =+X10+X11+X12 -> 0 | AA13: =+AA10+AA11+AA12 -> 0 | AD13: =+AD10+AD11+AD12 -> 0 | AG13: =+AG10+AG11+AG12 -> 0 | AJ13: =+AJ10+AJ11+AJ12 -> 0 | AN13: =+SUM(C13:AJ13) -> 21 | AO13: =+#REF! -> #REF! | AP13: =+AO13-AN13 -> #REF!
A14: Couverts Restaurant & Banquet | AN14: =+SUM(C14:AJ14) -> 0
A15: Couverts PDJ | AN15: =+SUM(C15:AJ15) -> 0
A16: Prix moyen Restaurant & Banquet
A17: Prix moyen PDJ
B18: Effectif Rest Fixes | AN18: =+SUM(C18:AJ18) -> 0
B19: Effectif Rest Saisonniers | AN19: =+SUM(C19:AJ19) -> 0
B20: Effectif Héberg Intérim | AN20: =+SUM(C20:AJ20) -> 0
A21: Effectif Restauration | C21: =+C20+C19+C18 -> 0 | F21: =+F20+F19+F18 -> 0 | I21: =+I20+I19+I18 -> 0 | L21: =+L20+L19+L18 -> 0 | O21: =+O20+O19+O18 -> 0 | R21: =+R20+R19+R18 -> 0 | U21: =+U20+U19+U18 -> 0 | X21: =+X20+X19+X18 -> 0 | AA21: =+AA20+AA19+AA18 -> 0 | AD21: =+AD20+AD19+AD18 -> 0 | AG21: =+AG20+AG19+AG18 -> 0 | AJ21: =+AJ20+AJ19+AJ18 -> 0 | AN21: =+SUM(C21:AJ21) -> 0
A22: Effectif Divers | AN22: =+SUM(C22:AJ22) -> 0
A24: Chiffre d'affaires Hébergement HT | AN24: =+SUM(C24:AJ24) -> 0
A25: Chiffre d'affaires Restauration HT | AN25: =+SUM(C25:AJ25) -> 0
A26: Chiffre d'affaires Divers HT | AN26: =+SUM(C26:AJ26) -> 0
A27: Total Chiffre d'affaires HT | C27: =+C24+C25+C26 -> 0 | F27: =+F24+F25+F26 -> 0 | I27: =+I24+I25+I26 -> 0 | L27: =+L24+L25+L26 -> 0 | O27: =+O24+O25+O26 -> 0 | R27: =+R24+R25+R26 -> 0 | U27: =+U24+U25+U26 -> 0 | X27: =+X24+X25+X26 -> 0 | AA27: =+AA24+AA25+AA26 -> 0 | AD27: =+AD24+AD25+AD26 -> 0 | AG27: =+AG24+AG25+AG26 -> 0 | AJ27: =+AJ24+AJ25+AJ26 -> 0 | AN27: =+SUM(C27:AJ27) -> 0
A29: Couts Marchandises Restauration | AN29: 0
A30: Couts Marchandises divers (boutique HDL)
A31: Total M/ses Consommées | C31: =+C30+C29 -> 0 | F31: =+F30+F29 -> 0 | I31: =+I30+I29 -> 0 | L31: =+L30+L29 -> 0 | O31: =+O30+O29 -> 0 | R31: =+R30+R29 -> 0 | U31: =+U30+U29 -> 0 | X31: =+X30+X29 -> 0 | AA31: =+AA30+AA29 -> 0 | AD31: =+AD30+AD29 -> 0 | AG31: =+AG30+AG29 -> 0 | AJ31: =+AJ30+AJ29 -> 0 | AN31: =+SUM(C31:AJ31) -> 0
A32: Ratio M/ses consommées restau | C32: =+C29/C25 -> #DIV/0! | F32: =+F29/F25 -> #DIV/0! | I32: =+I29/I25 -> #DIV/0! | L32: =+L29/L25 -> #DIV/0! | O32: =+O29/O25 -> #DIV/0! | R32: =+R29/R25 -> #DIV/0! | U32: =+U29/U25 -> #DIV/0! | X32: =+X29/X25 -> #DIV/0! | AA32: =+AA29/AA25 -> #DIV/0! | AD32: =+AD29/AD25 -> #DIV/0! | AG32: =+AG29/AG25 -> #DIV/0! | AJ32: =+AJ29/AJ25 -> #DIV/0! | AN32: =+AN29/AN25 -> #DIV/0!
A33: Marge Brute | C33: =+C27-C31 -> 0 | F33: =+F27-F31 -> 0 | I33: =+I27-I31 -> 0 | L33: =+L27-L31 -> 0 | O33: =+O27-O31 -> 0 | R33: =+R27-R31 -> 0 | U33: =+U27-U31 -> 0 | X33: =+X27-X31 -> 0 | AA33: =+AA27-AA31 -> 0 | AD33: =+AD27-AD31 -> 0 | AG33: =+AG27-AG31 -> 0 | AJ33: =+AJ27-AJ31 -> 0 | AN33: =+SUM(C33:AJ33) -> 0
A35: Intérim | C35: =+C36+C37+C38+C39 -> 0 | F35: =+F36+F37+F38+F39 -> 0 | I35: =+I36+I37+I38+I39 -> 0 | L35: =+L36+L37+L38+L39 -> 0 | O35: =+O36+O37+O38+O39 -> 0 | R35: =+R36+R37+R38+R39 -> 0 | U35: =+U36+U37+U38+U39 -> 0 | X35: =+X36+X37+X38+X39 -> 0 | AA35: =+AA36+AA37+AA38+AA39 -> 0 | AD35: =+AD36+AD37+AD38+AD39 -> 0 | AG35: =+AG36+AG37+AG38+AG39 -> 0 | AJ35: =+AJ36+AJ37+AJ38+AJ39 -> 0 | AN35: =+AN36+AN37+AN38+AN39 -> 0
B36: Intérim Réception | AN36: =+SUM(C36:AJ36) -> 0
B37: Intérim Hébergement | AN37: =+SUM(C37:AJ37) -> 0
B38: Intérim Restauration | AN38: =+SUM(C38:AJ38) -> 0
B39: Intérim Admin Comm | AN39: =+SUM(C39:AJ39) -> 0
A40: Salaires bruts | C40: =+SUM(C41:C44) -> 0 | F40: =+SUM(F41:F44) -> 0 | I40: =+SUM(I41:I44) -> 0 | L40: =+SUM(L41:L44) -> 0 | O40: =+SUM(O41:O44) -> 0 | R40: =+SUM(R41:R44) -> 0 | U40: =+SUM(U41:U44) -> 0 | X40: =+SUM(X41:X44) -> 0 | AA40: =+SUM(AA41:AA44) -> 0 | AD40: =+SUM(AD41:AD44) -> 0 | AG40: =+SUM(AG41:AG44) -> 0 | AJ40: =+SUM(AJ41:AJ44) -> 0 | AN40: =+SUM(AN41:AN44) -> 0
B41: SB Réception | AN41: =+SUM(C41:AJ41) -> 0
B42: SB Hébergement | AN42: =+SUM(C42:AJ42) -> 0
B43: SB Restauration | AN43: =+SUM(C43:AJ43) -> 0
B44: SB Admin Comm | AN44: =+SUM(C44:AJ44) -> 0
...

Sheet Ecarts Budget
A1: 2014
A2: DATE | C2: Nom :
A3: MENSUEL | C3: 41640 | D3: BUDGET | E3: Ecarts | F3: 41671 | G3: N-1 | H3: Ecarts | I3: 41699 | J3: N-1 | K3: Ecarts | L3: 41730 | M3: N-1 | N3: Ecarts | O3: 41760 | P3: N-1 | Q3: Ecarts | R3: 41791 | S3: N-1 | T3: Ecarts | U3: 41821 | V3: N-1 | W3: Ecarts | X3: 41852 | Y3: N-1 | Z3: Ecarts | AA3: 41883 | AB3: N-1 | AC3: Ecarts | AD3: 41913 | AE3: N-1 | AF3: Ecarts | AG3: 41944 | AH3: N-1 | AI3: Ecarts | AJ3: 41974 | AK3: N-1 | AL3: Ecarts | AN3: TOTAL | AO3: CUMUL N-1 | AP3: Ecarts
A4: Hôtel
A5: Réservations | C5: =+N!C5 -> 1 | E5: =+D5-C5 -> -1 | P5: =SI -> #NAME?
A6: Nombre de chambres louées | C6: =+N!C6 -> 1 | E6: =+D6-C6 -> -1 | AN6: =+SUM(C6:AJ6) -> 0 | AP6: =+AO6-AN6 -> 0
A7: Taux occupation | C7: =+N!C7 -> 0.03 | E7: =+D7-C7 -> -0.03 | AP7: =+AO7-AN7 -> 0
A8: Prix moyen hébergement | C8: =+N!C8 -> 1 | E8: =+D8-C8 -> -1 | AP8: =+AO8-AN8 -> 0
B10: Effectif Héberg Fixes | C10: =+N!C10 -> 1 | E10: =+D10-C10 -> -1 | AN10: =+SUM(C10:AJ10) -> 0 | AO10: =+#REF! -> #REF! | AP10: =+AO10-AN10 -> #REF!
B11: Effectif Héberg Saisonniers | C11: =+N!C11 -> 1 | E11: =+D11-C11 -> -1 | AN11: =+SUM(C11:AJ11) -> 0 | AO11: =+#REF! -> #REF! | AP11: =+AO11-AN11 -> #REF!
B12: Effectif Héberg Intérim | C12: =+N!C12 -> 1 | E12: =+D12-C12 -> -1 | AN12: =+SUM(C12:AJ12) -> 0 | AO12: =+#REF! -> #REF! | AP12: =+AO12-AN12 -> #REF!
A13: Effectif Hébergement | C13: =+C10+C11+C12 -> 3 | E13: =+D13-C13 -> -3 | F13: =+F10+F11+F12 -> 0 | I13: =+I10+I11+I12 -> 0 | L13: =+L10+L11+L12 -> 0 | O13: =+O10+O11+O12 -> 0 | R13: =+R10+R11+R12 -> 0 | U13: =+U10+U11+U12 -> 0 | X13: =+X10+X11+X12 -> 0 | AA13: =+AA10+AA11+AA12 -> 0 | AD13: =+AD10+AD11+AD12 -> 0 | AG13: =+AG10+AG11+AG12 -> 0 | AJ13: =+AJ10+AJ11+AJ12 -> 0 | AN13: =+SUM(C13:AJ13) -> 0 | AO13: =+#REF! -> #REF! | AP13: =+AO13-AN13 -> #REF!
A14: Couverts Restaurant & Banquet | AN14: =+SUM(C14:AJ14) -> 0
A15: Couverts PDJ | AN15: =+SUM(C15:AJ15) -> 0
A16: Prix moyen Restaurant & Banquet
A17: Prix moyen PDJ
B18: Effectif Rest Fixes | AN18: =+SUM(C18:AJ18) -> 0
B19: Effectif Rest Saisonniers | AN19: =+SUM(C19:AJ19) -> 0
B20: Effectif Héberg Intérim | AN20: =+SUM(C20:AJ20) -> 0
A21: Effectif Restauration | C21: =+C20+C19+C18 -> 0 | F21: =+F20+F19+F18 -> 0 | I21: =+I20+I19+I18 -> 0 | L21: =+L20+L19+L18 -> 0 | O21: =+O20+O19+O18 -> 0 | R21: =+R20+R19+R18 -> 0 | U21: =+U20+U19+U18 -> 0 | X21: =+X20+X19+X18 -> 0 | AA21: =+AA20+AA19+AA18 -> 0 | AD21: =+AD20+AD19+AD18 -> 0 | AG21: =+AG20+AG19+AG18 -> 0 | AJ21: =+AJ20+AJ19+AJ18 -> 0 | AN21: =+SUM(C21:AJ21) -> 0
A22: Effectif Divers | AN22: =+SUM(C22:AJ22) -> 0
A24: Chiffre d'affaires Hébergement HT | AN24: =+SUM(C24:AJ24) -> 0
A25: Chiffre d'affaires Restauration HT | AN25: =+SUM(C25:AJ25) -> 0
A26: Chiffre d'affaires Divers HT | AN26: =+SUM(C26:AJ26) -> 0
A27: Total Chiffre d'affaires HT | C27: =+C24+C25+C26 -> 0 | F27: =+F24+F25+F26 -> 0 | I27: =+I24+I25+I26 -> 0 | L27: =+L24+L25+L26 -> 0 | O27: =+O24+O25+O26 -> 0 | R27: =+R24+R25+R26 -> 0 | U27: =+U24+U25+U26 -> 0 | X27: =+X24+X25+X26 -> 0 | AA27: =+AA24+AA25+AA26 -> 0 | AD27: =+AD24+AD25+AD26 -> 0 | AG27: =+AG24+AG25+AG26 -> 0 | AJ27: =+AJ24+AJ25+AJ26 -> 0 | AN27: =+SUM(C27:AJ27) -> 0
A29: Couts Marchandises Restauration | AN29: 0
A30: Couts Marchandises divers (boutique HDL)
A31: Total M/ses Consommées | C31: =+C30+C29 -> 0 | F31: =+F30+F29 -> 0 | I31: =+I30+I29 -> 0 | L31: =+L30+L29 -> 0 | O31: =+O30+O29 -> 0 | R31: =+R30+R29 -> 0 | U31: =+U30+U29 -> 0 | X31: =+X30+X29 -> 0 | AA31: =+AA30+AA29 -> 0 | AD31: =+AD30+AD29 -> 0 | AG31: =+AG30+AG29 -> 0 | AJ31: =+AJ30+AJ29 -> 0 | AN31: =+SUM(C31:AJ31) -> 0
A32: Ratio M/ses consommées restau | C32: =+C29/C25 -> #DIV/0! | F32: =+F29/F25 -> #DIV/0! | I32: =+I29/I25 -> #DIV/0! | L32: =+L29/L25 -> #DIV/0! | O32: =+O29/O25 -> #DIV/0! | R32: =+R29/R25 -> #DIV/0! | U32: =+U29/U25 -> #DIV/0! | X32: =+X29/X25 -> #DIV/0! | AA32: =+AA29/AA25 -> #DIV/0! | AD32: =+AD29/AD25 -> #DIV/0! | AG32: =+AG29/AG25 -> #DIV/0! | AJ32: =+AJ29/AJ25 -> #DIV/0! | AN32: =+AN29/AN25 -> #DIV/0!
A33: Marge Brute | C33: =+C27-C31 -> 0 | F33: =+F27-F31 -> 0 | I33: =+I27-I31 -> 0 | L33: =+L27-L31 -> 0 | O33: =+O27-O31 -> 0 | R33: =+R27-R31 -> 0 | U33: =+U27-U31 -> 0 | X33: =+X27-X31 -> 0 | AA33: =+AA27-AA31 -> 0 | AD33: =+AD27-AD31 -> 0 | AG33: =+AG27-AG31 -> 0 | AJ33: =+AJ27-AJ31 -> 0 | AN33: =+SUM(C33:AJ33) -> 0
A35: Intérim | C35: =+C36+C37+C38+C39 -> 0 | F35: =+F36+F37+F38+F39 -> 0 | I35: =+I36+I37+I38+I39 -> 0 | L35: =+L36+L37+L38+L39 -> 0 | O35: =+O36+O37+O38+O39 -> 0 | R35: =+R36+R37+R38+R39 -> 0 | U35: =+U36+U37+U38+U39 -> 0 | X35: =+X36+X37+X38+X39 -> 0 | AA35: =+AA36+AA37+AA38+AA39 -> 0 | AD35: =+AD36+AD37+AD38+AD39 -> 0 | AG35: =+AG36+AG37+AG38+AG39 -> 0 | AJ35: =+AJ36+AJ37+AJ38+AJ39 -> 0 | AN35: =+AN36+AN37+AN38+AN39 -> 0
B36: Intérim Réception | AN36: =+SUM(C36:AJ36) -> 0
B37: Intérim Hébergement | AN37: =+SUM(C37:AJ37) -> 0
B38: Intérim Restauration | AN38: =+SUM(C38:AJ38) -> 0
B39: Intérim Admin Comm | AN39: =+SUM(C39:AJ39) -> 0
A40: Salaires bruts | C40: =+SUM(C41:C44) -> 0 | F40: =+SUM(F41:F44) -> 0 | I40: =+SUM(I41:I44) -> 0 | L40: =+SUM(L41:L44) -> 0 | O40: =+SUM(O41:O44) -> 0 | R40: =+SUM(R41:R44) -> 0 | U40: =+SUM(U41:U44) -> 0 | X40: =+SUM(X41:X44) -> 0 | AA40: =+SUM(AA41:AA44) -> 0 | AD40: =+SUM(AD41:AD44) -> 0 | AG40: =+SUM(AG41:AG44) -> 0 | AJ40: =+SUM(AJ41:AJ44) -> 0 | AN40: =+SUM(AN41:AN44) -> 0
B41: SB Réception | AN41: =+SUM(C41:AJ41) -> 0
B42: SB Hébergement | AN42: =+SUM(C42:AJ42) -> 0
B43: SB Restauration | AN43: =+SUM(C43:AJ43) -> 0
B44: SB Admin Comm | AN44: =+SUM(C44:AJ44) -> 0
...

Sheet CUMUL
A1: 2014
A3: CUMUL | C3: JANVIER | H3: CUMUL FEVRIER | M3: CUMUL MARS
A4: Hôtel | C4: N | D4: N-1 | E4: ECART | F4: Budget | G4: ECART | H4: N | I4: N-1 | J4: ECART | K4: Budget | L4: ECART | M4: N | N4: N-1 | O4: ECART | P4: Budget | Q4: ECART
A5: Réservations | C5: =+N!C5 -> 1 | D5: =+'N-1'!C5 -> 1 | E5: =IF(C5>0,(C5/D5)-1,"") -> 0 | F5: =+BUDGET!C5 -> 0 | G5: =IF(C5>0,(C5/F5)-1,"") -> #DIV/0! | H5: =+N!D5+C5 -> 3 | I5: =+'N-1'!D5+D5 -> 3 | J5: =IF(H5>0,(H5/I5)-1,"") -> 0 | K5: =+BUDGET!D5+F5 -> 0 | L5: =IF(H5>0,(H5/K5)-1,"") -> #DIV/0! | M5: =+N!I5+H5 -> 10 | N5: =+'N-1'!I5+I5 -> 10 | O5: =IF(M5>0,(M5/N5)-1,"") -> 0 | P5: =+BUDGET!I5+K5 -> 0 | Q5: =IF(M5>0,(M5/P5)-1,"") -> #DIV/0!
A6: Nombre de chambres louées | C6: =+N!C6 -> 1 | D6: =+'N-1'!C6 -> 2 | E6: =IF(C6>0,(C6/D6)-1,"") -> -0.5 | F6: =+BUDGET!C6 -> 0 | G6: =IF(C6>0,(C6/F6)-1,"") -> #DIV/0! | H6: =+N!D6+C6 -> 3 | I6: =+'N-1'!D6+D6 -> 4 | J6: =IF(H6>0,(H6/I6)-1,"") -> -0.25 | K6: =+BUDGET!D6+F6 -> 0 | L6: =IF(H6>0,(H6/K6)-1,"") -> #DIV/0! | M6: =+N!I6+H6 -> 10 | N6: =+'N-1'!I6+I6 -> 4 | O6: =IF(M6>0,(M6/N6)-1,"") -> 1.5 | P6: =+BUDGET!I6+K6 -> 0 | Q6: =IF(M6>0,(M6/P6)-1,"") -> #DIV/0!
A7: Taux occupation | C7: =+N!C7 -> 0.03 | D7: =+'N-1'!C7 -> 0.03 | E7: =IF(C7>0,(C7/D7)-1,"") -> 0 | F7: =+BUDGET!C7 -> 0 | G7: =IF(C7>0,(C7/F7)-1,"") -> #DIV/0! | H7: =+N!D7+C7 -> 1.06 | I7: =+'N-1'!D7+D7 -> 1.06 | J7: =IF(H7>0,(H7/I7)-1,"") -> 0 | K7: =+BUDGET!D7+F7 -> 0 | L7: =IF(H7>0,(H7/K7)-1,"") -> #DIV/0! | M7: =+N!I7+H7 -> 1.06 | N7: =+'N-1'!I7+I7 -> 1.06 | O7: =IF(M7>0,(M7/N7)-1,"") -> 0 | P7: =+BUDGET!I7+K7 -> 0 | Q7: =IF(M7>0,(M7/P7)-1,"") -> #DIV/0!
A8: Prix moyen hébergement | C8: =+N!C8 -> 1 | D8: =+'N-1'!C8 -> 4 | E8: =IF(C8>0,(C8/D8)-1,"") -> -0.75 | F8: =+BUDGET!C8 -> 0 | G8: =IF(C8>0,(C8/F8)-1,"") -> #DIV/0! | H8: =+N!D8+C8 -> 3 | I8: =+'N-1'!D8+D8 -> 8 | J8: =IF(H8>0,(H8/I8)-1,"") -> -0.625 | K8: =+BUDGET!D8+F8 -> 0 | L8: =IF(H8>0,(H8/K8)-1,"") -> #DIV/0! | M8: =+N!I8+H8 -> 10 | N8: =+'N-1'!I8+I8 -> 8 | O8: =IF(M8>0,(M8/N8)-1,"") -> 0.25 | P8: =+BUDGET!I8+K8 -> 0 | Q8: =IF(M8>0,(M8/P8)-1,"") -> #DIV/0!
B10: Effectif Héberg Fixes | C10: =+N!C10 -> 1 | D10: =+'N-1'!C10 -> 5 | E10: =IF(C10>0,(C10/D10)-1,"") -> -0.8 | F10: =+BUDGET!C10 -> 0 | G10: =IF(C10>0,(C10/F10)-1,"") -> #DIV/0! | H10: =+N!D10+C10 -> 3 | I10: =+'N-1'!D10+D10 -> 10 | J10: =IF(H10>0,(H10/I10)-1,"") -> -0.7 | K10: =+BUDGET!D10+F10 -> 0 | L10: =IF(H10>0,(H10/K10)-1,"") -> #DIV/0! | M10: =+N!I10+H10 -> 10 | N10: =+'N-1'!I10+I10 -> 10 | O10: =IF(M10>0,(M10/N10)-1,"") -> 0 | P10: =+BUDGET!I10+K10 -> 0 | Q10: =IF(M10>0,(M10/P10)-1,"") -> #DIV/0!
B11: Effectif Héberg Saisonniers | C11: =+N!C11 -> 1 | D11: =+'N-1'!C11 -> 6 | E11: =IF(C11>0,(C11/D11)-1,"") -> -0.83333333 | F11: =+BUDGET!C11 -> 0 | G11: =IF(C11>0,(C11/F11)-1,"") -> #DIV/0! | H11: =+N!D11+C11 -> 3 | I11: =+'N-1'!D11+D11 -> 12 | J11: =IF(H11>0,(H11/I11)-1,"") -> -0.75 | K11: =+BUDGET!D11+F11 -> 0 | L11: =IF(H11>0,(H11/K11)-1,"") -> #DIV/0! | M11: =+N!I11+H11 -> 10 | N11: =+'N-1'!I11+I11 -> 12 | O11: =IF(M11>0,(M11/N11)-1,"") -> -0.16666667 | P11: =+BUDGET!I11+K11 -> 0 | Q11: =IF(M11>0,(M11/P11)-1,"") -> #DIV/0!
B12: Effectif Héberg Intérim | C12: =+N!C12 -> 1 | D12: =+'N-1'!C12 -> 7 | E12: =IF(C12>0,(C12/D12)-1,"") -> -0.85714286 | F12: =+BUDGET!C12 -> 0 | G12: =IF(C12>0,(C12/F12)-1,"") -> #DIV/0! | H12: =+N!D12+C12 -> 3 | I12: =+'N-1'!D12+D12 -> 14 | J12: =IF(H12>0,(H12/I12)-1,"") -> -0.78571429 | K12: =+BUDGET!D12+F12 -> 0 | L12: =IF(H12>0,(H12/K12)-1,"") -> #DIV/0! | M12: =+N!I12+H12 -> 10 | N12: =+'N-1'!I12+I12 -> 14 | O12: =IF(M12>0,(M12/N12)-1,"") -> -0.28571429 | P12: =+BUDGET!I12+K12 -> 0 | Q12: =IF(M12>0,(M12/P12)-1,"") -> #DIV/0!
A13: Effectif Hébergement | C13: =+C10+C11+C12 -> 3 | D13: =+D10+D11+D12 -> 18 | E13: =IF(C13>0,(C13/D13)-1,"") -> -0.83333333 | F13: =+F10+F11+F12 -> 0 | G13: =IF(C13>0,(C13/F13)-1,"") -> #DIV/0! | H13: =+H10+H11+H12 -> 9 | I13: =+I10+I11+I12 -> 36 | J13: =IF(H13>0,(H13/I13)-1,"") -> -0.75 | K13: =+K10+K11+K12 -> 0 | L13: =IF(H13>0,(H13/K13)-1,"") -> #DIV/0! | M13: =+M10+M11+M12 -> 30 | N13: =+N10+N11+N12 -> 36 | O13: =IF(M13>0,(M13/N13)-1,"") -> -0.16666667 | P13: =+P10+P11+P12 -> 0 | Q13: =IF(M13>0,(M13/P13)-1,"") -> #DIV/0!
A14: Couverts Restaurant & Banquet | C14: =+N!C14 -> 0 | D14: =+'N-1'!C14 -> 0 | E14: =IF(C14>0,(C14/D14)-1,"") | G14: =IF(C14>0,(C14/F14)-1,"") | H14: =+N!D14+C14 -> 0 | I14: =+'N-1'!D14+D14 -> 0 | J14: =IF(H14>0,(H14/I14)-1,"") | L14: =IF(H14>0,(H14/K14)-1,"") | O14: =IF(M14>0,(M14/N14)-1,"") | Q14: =IF(M14>0,(M14/P14)-1,"")
A15: Couverts PDJ | C15: =+N!C15 -> 0 | D15: =+'N-1'!C15 -> 0 | E15: =IF(C15>0,(C15/D15)-1,"") | G15: =IF(C15>0,(C15/F15)-1,"") | H15: =+N!D15+C15 -> 0 | I15: =+'N-1'!D15+D15 -> 0 | J15: =IF(H15>0,(H15/I15)-1,"") | L15: =IF(H15>0,(H15/K15)-1,"") | O15: =IF(M15>0,(M15/N15)-1,"") | Q15: =IF(M15>0,(M15/P15)-1,"")
A16: Prix moyen Restaurant & Banquet | C16: =+N!C16 -> 0 | D16: =+'N-1'!C16 -> 0 | E16: =IF(C16>0,(C16/D16)-1,"") | G16: =IF(C16>0,(C16/F16)-1,"") | H16: =+N!D16+C16 -> 0 | I16: =+'N-1'!D16+D16 -> 0 | J16: =IF(H16>0,(H16/I16)-1,"") | L16: =IF(H16>0,(H16/K16)-1,"") | O16: =IF(M16>0,(M16/N16)-1,"") | Q16: =IF(M16>0,(M16/P16)-1,"")
A17: Prix moyen PDJ | C17: =+N!C17 -> 0 | D17: =+'N-1'!C17 -> 0 | E17: =IF(C17>0,(C17/D17)-1,"") | G17: =IF(C17>0,(C17/F17)-1,"") | H17: =+N!D17+C17 -> 0 | I17: =+'N-1'!D17+D17 -> 0 | J17: =IF(H17>0,(H17/I17)-1,"") | L17: =IF(H17>0,(H17/K17)-1,"") | O17: =IF(M17>0,(M17/N17)-1,"") | Q17: =IF(M17>0,(M17/P17)-1,"")
B18: Effectif Rest Fixes | C18: =+N!C18 -> 0 | D18: =+'N-1'!C18 -> 0 | E18: =IF(C18>0,(C18/D18)-1,"") | G18: =IF(C18>0,(C18/F18)-1,"") | H18: =+N!D18+C18 -> 0 | I18: =+'N-1'!D18+D18 -> 0 | J18: =IF(H18>0,(H18/I18)-1,"") | L18: =IF(H18>0,(H18/K18)-1,"") | O18: =IF(M18>0,(M18/N18)-1,"") | Q18: =IF(M18>0,(M18/P18)-1,"")
B19: Effectif Rest Saisonniers | C19: =+N!C19 -> 0 | D19: =+'N-1'!C19 -> 0 | E19: =IF(C19>0,(C19/D19)-1,"") | G19: =IF(C19>0,(C19/F19)-1,"") | H19: =+N!D19+C19 -> 0 | I19: =+'N-1'!D19+D19 -> 0 | J19: =IF(H19>0,(H19/I19)-1,"") | L19: =IF(H19>0,(H19/K19)-1,"") | O19: =IF(M19>0,(M19/N19)-1,"") | Q19: =IF(M19>0,(M19/P19)-1,"")
B20: Effectif Héberg Intérim | C20: =+N!C20 -> 0 | D20: =+'N-1'!C20 -> 0 | E20: =IF(C20>0,(C20/D20)-1,"") | G20: =IF(C20>0,(C20/F20)-1,"") | H20: =+N!D20+C20 -> 0 | I20: =+'N-1'!D20+D20 -> 0 | J20: =IF(H20>0,(H20/I20)-1,"") | L20: =IF(H20>0,(H20/K20)-1,"") | O20: =IF(M20>0,(M20/N20)-1,"") | Q20: =IF(M20>0,(M20/P20)-1,"")
A21: Effectif Restauration | C21: =+C20+C19+C18 -> 0 | D21: =+D20+D19+D18 -> 0 | E21: =IF(C21>0,(C21/D21)-1,"") | F21: =+F20+F19+F18 -> 0 | G21: =IF(C21>0,(C21/F21)-1,"") | H21: =+H20+H19+H18 -> 0 | I21: =+I20+I19+I18 -> 0 | J21: =IF(H21>0,(H21/I21)-1,"") | K21: =+K20+K19+K18 -> 0 | L21: =IF(H21>0,(H21/K21)-1,"") | M21: =+M20+M19+M18 -> 0 | N21: =+N20+N19+N18 -> 0 | O21: =IF(M21>0,(M21/N21)-1,"") | P21: =+P20+P19+P18 -> 0 | Q21: =IF(M21>0,(M21/P21)-1,"")
A22: Effectif Divers | E22: =IF(C22>0,(C22/D22)-1,"") | G22: =IF(C22>0,(C22/F22)-1,"") | J22: =IF(H22>0,(H22/I22)-1,"") | L22: =IF(H22>0,(H22/K22)-1,"") | O22: =IF(M22>0,(M22/N22)-1,"") | Q22: =IF(M22>0,(M22/P22)-1,"")
A24: Chiffre d'affaires Hébergement HT | E24: =IF(C24>0,(C24/D24)-1,"") | G24: =IF(C24>0,(C24/F24)-1,"") | J24: =IF(H24>0,(H24/I24)-1,"") | L24: =IF(H24>0,(H24/K24)-1,"") | O24: =IF(M24>0,(M24/N24)-1,"") | Q24: =IF(M24>0,(M24/P24)-1,"")
A25: Chiffre d'affaires Restauration HT | E25: =IF(C25>0,(C25/D25)-1,"") | G25: =IF(C25>0,(C25/F25)-1,"") | J25: =IF(H25>0,(H25/I25)-1,"") | L25: =IF(H25>0,(H25/K25)-1,"") | O25: =IF(M25>0,(M25/N25)-1,"") | Q25: =IF(M25>0,(M25/P25)-1,"")
A26: Chiffre d'affaires Divers HT | E26: =IF(C26>0,(C26/D26)-1,"") | G26: =IF(C26>0,(C26/F26)-1,"") | J26: =IF(H26>0,(H26/I26)-1,"") | L26: =IF(H26>0,(H26/K26)-1,"") | O26: =IF(M26>0,(M26/N26)-1,"") | Q26: =IF(M26>0,(M26/P26)-1,"")
A27: Total Chiffre d'affaires HT | C27: =+C24+C25+C26 -> 0 | D27: =+D24+D25+D26 -> 0 | E27: =IF(C27>0,(C27/D27)-1,"") | F27: =+F24+F25+F26 -> 0 | G27: =IF(C27>0,(C27/F27)-1,"") | H27: =+H24+H25+H26 -> 0 | I27: =+I24+I25+I26 -> 0 | J27: =IF(H27>0,(H27/I27)-1,"") | K27: =+K24+K25+K26 -> 0 | L27: =IF(H27>0,(H27/K27)-1,"") | M27: =+M24+M25+M26 -> 0 | N27: =+N24+N25+N26 -> 0 | O27: =IF(M27>0,(M27/N27)-1,"") | P27: =+P24+P25+P26 -> 0 | Q27: =IF(M27>0,(M27/P27)-1,"")
A29: Couts Marchandises Restauration | E29: =IF(C29>0,(C29/D29)-1,"") | G29: =IF(C29>0,(C29/F29)-1,"") | J29: =IF(H29>0,(H29/I29)-1,"") | L29: =IF(H29>0,(H29/K29)-1,"") | O29: =IF(M29>0,(M29/N29)-1,"") | Q29: =IF(M29>0,(M29/P29)-1,"")
A30: Couts Marchandises divers (boutique HDL) | E30: =IF(C30>0,(C30/D30)-1,"") | G30: =IF(C30>0,(C30/F30)-1,"") | J30: =IF(H30>0,(H30/I30)-1,"") | L30: =IF(H30>0,(H30/K30)-1,"") | O30: =IF(M30>0,(M30/N30)-1,"") | Q30: =IF(M30>0,(M30/P30)-1,"")
A31: Total M/ses Consommées | C31: =+C30+C29 -> 0 | E31: =IF(C31>0,(C31/D31)-1,"") | G31: =IF(C31>0,(C31/F31)-1,"") | H31: =+H30+H29 -> 0 | J31: =IF(H31>0,(H31/I31)-1,"") | L31: =IF(H31>0,(H31/K31)-1,"") | M31: =+M30+M29 -> 0 | O31: =IF(M31>0,(M31/N31)-1,"") | Q31: =IF(M31>0,(M31/P31)-1,"")
A32: Ratio M/ses consommées restau | C32: =+C29/C25 -> #DIV/0! | E32: =IF(C32>0,(C32/D32)-1,"") -> #DIV/0! | G32: =IF(C32>0,(C32/F32)-1,"") -> #DIV/0! | H32: =+H29/H25 -> #DIV/0! | J32: =IF(H32>0,(H32/I32)-1,"") -> #DIV/0! | L32: =IF(H32>0,(H32/K32)-1,"") -> #DIV/0! | M32: =+M29/M25 -> #DIV/0! | O32: =IF(M32>0,(M32/N32)-1,"") -> #DIV/0! | Q32: =IF(M32>0,(M32/P32)-1,"") -> #DIV/0!
A33: Marge Brute | C33: =+C27-C31 -> 0 | E33: =IF(C33>0,(C33/D33)-1,"") | G33: =IF(C33>0,(C33/F33)-1,"") | H33: =+H27-H31 -> 0 | J33: =IF(H33>0,(H33/I33)-1,"") | L33: =IF(H33>0,(H33/K33)-1,"") | M33: =+M27-M31 -> 0 | O33: =IF(M33>0,(M33/N33)-1,"") | Q33: =IF(M33>0,(M33/P33)-1,"")
A35: Intérim | C35: =+C36+C37+C38+C39 -> 0 | D35: =+D36+D37+D38+D39 -> 0 | E35: =IF(C35>0,(C35/D35)-1,"") | F35: =+F36+F37+F38+F39 -> 0 | G35: =IF(C35>0,(C35/F35)-1,"") | H35: =+H36+H37+H38+H39 -> 0 | I35: =+I36+I37+I38+I39 -> 0 | J35: =IF(H35>0,(H35/I35)-1,"") | K35: =+K36+K37+K38+K39 -> 0 | L35: =IF(H35>0,(H35/K35)-1,"") | M35: =+M36+M37+M38+M39 -> 0 | N35: =+N36+N37+N38+N39 -> 0 | O35: =IF(M35>0,(M35/N35)-1,"") | P35: =+P36+P37+P38+P39 -> 0 | Q35: =IF(M35>0,(M35/P35)-1,"")
B36: Intérim Réception | E36: =IF(C36>0,(C36/D36)-1,"") | G36: =IF(C36>0,(C36/F36)-1,"") | J36: =IF(H36>0,(H36/I36)-1,"") | L36: =IF(H36>0,(H36/K36)-1,"") | O36: =IF(M36>0,(M36/N36)-1,"") | Q36: =IF(M36>0,(M36/P36)-1,"")
B37: Intérim Hébergement | E37: =IF(C37>0,(C37/D37)-1,"") | G37: =IF(C37>0,(C37/F37)-1,"") | J37: =IF(H37>0,(H37/I37)-1,"") | L37: =IF(H37>0,(H37/K37)-1,"") | O37: =IF(M37>0,(M37/N37)-1,"") | Q37: =IF(M37>0,(M37/P37)-1,"")
B38: Intérim Restauration | E38: =IF(C38>0,(C38/D38)-1,"") | G38: =IF(C38>0,(C38/F38)-1,"") | J38: =IF(H38>0,(H38/I38)-1,"") | L38: =IF(H38>0,(H38/K38)-1,"") | O38: =IF(M38>0,(M38/N38)-1,"") | Q38: =IF(M38>0,(M38/P38)-1,"")
B39: Intérim Admin Comm | E39: =IF(C39>0,(C39/D39)-1,"") | G39: =IF(C39>0,(C39/F39)-1,"") | J39: =IF(H39>0,(H39/I39)-1,"") | L39: =IF(H39>0,(H39/K39)-1,"") | O39: =IF(M39>0,(M39/N39)-1,"") | Q39: =IF(M39>0,(M39/P39)-1,"")
A40: Salaires bruts | C40: =+SUM(C41:C44) -> 0 | D40: =+SUM(D41:D44) -> 0 | E40: =IF(C40>0,(C40/D40)-1,"") | F40: =+SUM(F41:F44) -> 0 | G40: =IF(C40>0,(C40/F40)-1,"") | H40: =+SUM(H41:H44) -> 0 | I40: =+SUM(I41:I44) -> 0 | J40: =IF(H40>0,(H40/I40)-1,"") | K40: =+SUM(K41:K44) -> 0 | L40: =IF(H40>0,(H40/K40)-1,"") | M40: =+SUM(M41:M44) -> 0 | N40: =+SUM(N41:N44) -> 0 | O40: =IF(M40>0,(M40/N40)-1,"") | P40: =+SUM(P41:P44) -> 0 | Q40: =IF(M40>0,(M40/P40)-1,"")
B41: SB Réception | E41: =IF(C41>0,(C41/D41)-1,"") | G41: =IF(C41>0,(C41/F41)-1,"") | J41: =IF(H41>0,(H41/I41)-1,"") | L41: =IF(H41>0,(H41/K41)-1,"") | O41: =IF(M41>0,(M41/N41)-1,"") | Q41: =IF(M41>0,(M41/P41)-1,"")
B42: SB Hébergement | E42: =IF(C42>0,(C42/D42)-1,"") | G42: =IF(C42>0,(C42/F42)-1,"") | J42: =IF(H42>0,(H42/I42)-1,"") | L42: =IF(H42>0,(H42/K42)-1,"") | O42: =IF(M42>0,(M42/N42)-1,"") | Q42: =IF(M42>0,(M42/P42)-1,"")
B43: SB Restauration | E43: =IF(C43>0,(C43/D43)-1,"") | G43: =IF(C43>0,(C43/F43)-1,"") | J43: =IF(H43>0,(H43/I43)-1,"") | L43: =IF(H43>0,(H43/K43)-1,"") | O43: =IF(M43>0,(M43/N43)-1,"") | Q43: =IF(M43>0,(M43/P43)-1,"")
B44: SB Admin Comm | E44: =IF(C44>0,(C44/D44)-1,"") | G44: =IF(C44>0,(C44/F44)-1,"") | J44: =IF(H44>0,(H44/I44)-1,"") | L44: =IF(H44>0,(H44/K44)-1,"") | O44: =IF(M44>0,(M44/N44)-1,"") | Q44: =IF(M44>0,(M44/P44)-1,"")
A45: Charges Sociales | C45: =+C46+C47+C48+C49 -> 0 | D45: =+D46+D47+D48+D49 -> 0 | E45: =IF(C45>0,(C45/D45)-1,"") | F45: =+F46+F47+F48+F49 -> 0 | G45: =IF(C45>0,(C45/F45)-1,"") | H45: =+H46+H47+H48+H49 -> 0 | I45: =+I46+I47+I48+I49 -> 0 | J45: =IF(H45>0,(H45/I45)-1,"") | K45: =+K46+K47+K48+K49 -> 0 | L45: =IF(H45>0,(H45/K45)-1,"") | M45: =+M46+M47+M48+M49 -> 0 | N45: =+N46+N47+N48+N49 -> 0 | O45: =IF(M45>0,(M45/N45)-1,"") | P45: =+P46+P47+P48+P49 -> 0 | Q45: =IF(M45>0,(M45/P45)-1,"")
...
