Workbook

Sheet 0048
A1: 48 | B1: 41699 | E1: =+A1 -> 48 | F1: =+B1 -> 41699
A2: SODEXO | B2: Nombre | C2: TOTAL | E2: AWARDS | F2: Nombre | G2: TOTAL | K2: CHEQUES SHOPPING | L2: Nombre | M2: TOTAL
A3: =+'TOTAL GENERAL'!A3 -> 1 | E3: =+'TOTAL GENERAL'!E3 -> 0.6 | G3: =+E3*F3 -> 0
A4: =+'TOTAL GENERAL'!A4 -> 1.28 | C4: =+A4*B4 -> 0 | E4: =+'TOTAL GENERAL'!E4 -> 1 | G4: =+E4*F4 -> 0 | K4: 5 | L4: 0 | M4: =+K4*L4 -> 0
A5: =+'TOTAL GENERAL'!A5 -> 2 | C5: =+A5*B5 -> 0 | E5: =+'TOTAL GENERAL'!E5 -> 2 | G5: =+E5*F5 -> 0 | K5: 10 | L5: 0 | M5: =+K5*L5 -> 0
A6: =+'TOTAL GENERAL'!A6 -> 3.5 | E6: =+'TOTAL GENERAL'!E6 -> 2.5 | G6: =+E6*F6 -> 0
A7: =+'TOTAL GENERAL'!A7 -> 4 | C7: =+A7*B7 -> 0 | E7: =+'TOTAL GENERAL'!E7 -> 3 | G7: =+E7*F7 -> 0 | K7: 12.5 | L7: 0 | M7: =+K7*L7 -> 0
A8: =+'TOTAL GENERAL'!A8 -> 4.2 | C8: =+A8*B8 -> 0 | E8: =+'TOTAL GENERAL'!E8 -> 4 | G8: =+E8*F8 -> 0 | K8: 15 | L8: 0 | M8: =+K8*L8 -> 0
A9: =+'TOTAL GENERAL'!A9 -> 5 | C9: =+A9*B9 -> 0 | E9: =+'TOTAL GENERAL'!E9 -> 5 | G9: =+E9*F9 -> 0 | K9: 20 | L9: 0 | M9: =+K9*L9 -> 0
A10: =+'TOTAL GENERAL'!A10 -> 6.25 | C10: =+A10*B10 -> 0 | E10: =+'TOTAL GENERAL'!E10 -> 6 | G10: =+E10*F10 -> 0 | K10: 25 | L10: 0 | M10: =+K10*L10 -> 0
A11: =+'TOTAL GENERAL'!A11 -> 7 | C11: =+A11*B11 -> 0 | E11: =+'TOTAL GENERAL'!E11 -> 7 | G11: =+E11*F11 -> 0 | K11: 30 | L11: 0 | M11: =+K11*L11 -> 0
A12: =+'TOTAL GENERAL'!A12 -> 7.5 | C12: =+A12*B12 -> 0 | E12: =+'TOTAL GENERAL'!E12 -> 10 | G12: =+E12*F12 -> 0 | K12: 35 | L12: 0 | M12: =+K12*L12 -> 0
A13: =+'TOTAL GENERAL'!A13 -> 8.75 | C13: =+A13*B13 -> 0 | E13: =+'TOTAL GENERAL'!E13 -> 12.5 | G13: =+E13*F13 -> 0 | K13: 50 | L13: 0 | M13: =+K13*L13 -> 0
A14: =+'TOTAL GENERAL'!A14 -> 10 | C14: =+A14*B14 -> 0 | E14: =+'TOTAL GENERAL'!E14 -> 15 | G14: =+E14*F14 -> 0 | M14: =+K14*L14 -> 0
A15: =+'TOTAL GENERAL'!A15 -> 12 | C15: =+A15*B15 -> 0 | E15: =+'TOTAL GENERAL'!E15 -> 17.5 | G15: =+E15*F15 -> 0 | M15: =+K15*L15 -> 0
A16: =+'TOTAL GENERAL'!A16 -> 12.39 | C16: =+A16*B16 -> 0 | E16: =+'TOTAL GENERAL'!E16 -> 20 | G16: =+E16*F16 -> 0 | M16: =+K16*L16 -> 0
A17: =+'TOTAL GENERAL'!A17 -> 12.4 | C17: =+A17*B17 -> 0 | E17: =+'TOTAL GENERAL'!E17 -> 24.79 | G17: =+E17*F17 -> 0 | M17: =+K17*L17 -> 0
A18: =+'TOTAL GENERAL'!A18 -> 12.5 | C18: =+A18*B18 -> 0 | E18: =+'TOTAL GENERAL'!E18 -> 25 | G18: =+E18*F18 -> 0 | M18: =+K18*L18 -> 0
A19: =+'TOTAL GENERAL'!A19 -> 12.88 | C19: =+A19*B19 -> 0 | E19: =+'TOTAL GENERAL'!E19 -> 30 | G19: =+E19*F19 -> 0 | M19: =+K19*L19 -> 0
A20: =+'TOTAL GENERAL'!A20 -> 15 | C20: =+A20*B20 -> 0 | E20: =+'TOTAL GENERAL'!E20 -> 35 | G20: =+E20*F20 -> 0 | M20: =+K20*L20 -> 0
A21: =+'TOTAL GENERAL'!A21 -> 16 | C21: =+A21*B21 -> 0 | E21: =+'TOTAL GENERAL'!E21 -> 50 | G21: =+E21*F21 -> 0 | M21: =+K21*L21 -> 0
A22: =+'TOTAL GENERAL'!A22 -> 17.35 | C22: =+A22*B22 -> 0 | E22: =+'TOTAL GENERAL'!E24 -> 0 | G22: =+E22*F22 -> 0 | M22: =+K22*L22 -> 0
A23: =+'TOTAL GENERAL'!A23 -> 17.5 | C23: =+A23*B23 -> 0 | E23: =+'TOTAL GENERAL'!E25 -> 0 | G23: =+E23*F23 -> 0 | M23: =+K23*L23 -> 0
A24: =+'TOTAL GENERAL'!A24 -> 18 | C24: =+A24*B24 -> 0 | M24: =+K24*L24 -> 0
A25: =+'TOTAL GENERAL'!A25 -> 20 | C25: =+A25*B25 -> 0 | M25: =+K25*L25 -> 0
A26: =+'TOTAL GENERAL'!A26 -> 24.79 | C26: =+A26*B26 -> 0 | E26: =+'TOTAL GENERAL'!E26 -> 0 | G26: =+E26*F26 -> 0 | M26: =+K26*L26 -> 0
A27: =+'TOTAL GENERAL'!A27 -> 25 | C27: =+A27*B27 -> 0 | E27: =+'TOTAL GENERAL'!E27 -> 0 | G27: =+E27*F27 -> 0 | M27: =+K27*L27 -> 0
A28: =+'TOTAL GENERAL'!A28 -> 30 | C28: =+A28*B28 -> 0 | E28: =+'TOTAL GENERAL'!E28 -> 0 | G28: =+E28*F28 -> 0 | M28: =+K28*L28 -> 0
A29: =+'TOTAL GENERAL'!A29 -> 35 | C29: =+A29*B29 -> 0 | E29: =+'TOTAL GENERAL'!E29 -> 0 | G29: =+E29*F29 -> 0 | M29: =+K29*L29 -> 0
A30: =+'TOTAL GENERAL'!A30 -> 40 | C30: =+A30*B30 -> 0 | E30: =+'TOTAL GENERAL'!E30 -> 0
A31: =+'TOTAL GENERAL'!A31 -> 50 | C31: =+A31*B31 -> 0
A32: =+'TOTAL GENERAL'!A32 -> 59
A33: =+'TOTAL GENERAL'!A33 -> 60
A34: =+'TOTAL GENERAL'!A34 -> 100
A38: =+'TOTAL GENERAL'!A36 -> TOTAL | B38: =SUM(B4:B33) -> 0 | C38: =SUM(C4:C33) -> 0 | E38: =+'TOTAL GENERAL'!E36 -> TOTAL | F38: =SUM(F3:F32) -> 0 | G38: =SUM(G3:G32) -> 0 | K38: =+'TOTAL GENERAL'!K36 -> TOTAL | L38: =SUM(L4:L32) -> 0 | M38: =SUM(M4:M32) -> 0 | N38: =+C38+G38+M38 -> 0

Sheet 0065
A1: 65 | B1: ='0048'!B1 -> 41699 | E1: =+A1 -> 65 | F1: =+B1 -> 41699
A2: SODEXO | B2: Nombre | C2: TOTAL | E2: AWARDS | F2: Nombre | G2: TOTAL | K2: CHEQUES SHOPPING | L2: Nombre | M2: TOTAL
A3: =+'TOTAL GENERAL'!A3 -> 1 | E3: =+'TOTAL GENERAL'!E3 -> 0.6 | G3: =+E3*F3 -> 0
A4: =+'TOTAL GENERAL'!A4 -> 1.28 | C4: =+A4*B4 -> 0 | E4: =+'TOTAL GENERAL'!E4 -> 1 | G4: =+E4*F4 -> 0 | K4: 5 | L4: 0 | M4: =+K4*L4 -> 0
A5: =+'TOTAL GENERAL'!A5 -> 2 | E5: =+'TOTAL GENERAL'!E5 -> 2 | G5: =+E5*F5 -> 0 | K5: 10 | L5: 0 | M5: =+K5*L5 -> 0
A6: =+'TOTAL GENERAL'!A6 -> 3.5 | E6: =+'TOTAL GENERAL'!E6 -> 2.5 | G6: =+E6*F6 -> 0
A7: =+'TOTAL GENERAL'!A7 -> 4 | C7: =+A7*B7 -> 0 | E7: =+'TOTAL GENERAL'!E7 -> 3 | G7: =+E7*F7 -> 0 | K7: 12.5 | L7: 0 | M7: =+K7*L7 -> 0
A8: =+'TOTAL GENERAL'!A8 -> 4.2 | C8: =+A8*B8 -> 0 | E8: =+'TOTAL GENERAL'!E8 -> 4 | G8: =+E8*F8 -> 0 | K8: 15 | L8: 0 | M8: =+K8*L8 -> 0
A9: =+'TOTAL GENERAL'!A9 -> 5 | C9: =+A9*B9 -> 0 | E9: =+'TOTAL GENERAL'!E9 -> 5 | G9: =+E9*F9 -> 0 | K9: 20 | L9: 0 | M9: =+K9*L9 -> 0
A10: =+'TOTAL GENERAL'!A10 -> 6.25 | C10: =+A10*B10 -> 0 | E10: =+'TOTAL GENERAL'!E10 -> 6 | G10: =+E10*F10 -> 0 | K10: 25 | L10: 0 | M10: =+K10*L10 -> 0
A11: =+'TOTAL GENERAL'!A11 -> 7 | C11: =+A11*B11 -> 0 | E11: =+'TOTAL GENERAL'!E11 -> 7 | G11: =+E11*F11 -> 0 | K11: 30 | L11: 0 | M11: =+K11*L11 -> 0
A12: =+'TOTAL GENERAL'!A12 -> 7.5 | C12: =+A12*B12 -> 0 | E12: =+'TOTAL GENERAL'!E12 -> 10 | G12: =+E12*F12 -> 0 | K12: 35 | L12: 0 | M12: =+K12*L12 -> 0
A13: =+'TOTAL GENERAL'!A13 -> 8.75 | C13: =+A13*B13 -> 0 | E13: =+'TOTAL GENERAL'!E13 -> 12.5 | G13: =+E13*F13 -> 0 | K13: 50 | L13: 0 | M13: =+K13*L13 -> 0
A14: =+'TOTAL GENERAL'!A14 -> 10 | C14: =+A14*B14 -> 0 | E14: =+'TOTAL GENERAL'!E14 -> 15 | G14: =+E14*F14 -> 0 | M14: =+K14*L14 -> 0
A15: =+'TOTAL GENERAL'!A15 -> 12 | C15: =+A15*B15 -> 0 | E15: =+'TOTAL GENERAL'!E15 -> 17.5 | G15: =+E15*F15 -> 0 | M15: =+K15*L15 -> 0
A16: =+'TOTAL GENERAL'!A16 -> 12.39 | C16: =+A16*B16 -> 0 | E16: =+'TOTAL GENERAL'!E16 -> 20 | G16: =+E16*F16 -> 0 | M16: =+K16*L16 -> 0
A17: =+'TOTAL GENERAL'!A17 -> 12.4 | C17: =+A17*B17 -> 0 | E17: =+'TOTAL GENERAL'!E17 -> 24.79 | G17: =+E17*F17 -> 0 | M17: =+K17*L17 -> 0
A18: =+'TOTAL GENERAL'!A18 -> 12.5 | C18: =+A18*B18 -> 0 | E18: =+'TOTAL GENERAL'!E18 -> 25 | G18: =+E18*F18 -> 0 | M18: =+K18*L18 -> 0
A19: =+'TOTAL GENERAL'!A19 -> 12.88 | C19: =+A19*B19 -> 0 | E19: =+'TOTAL GENERAL'!E19 -> 30 | G19: =+E19*F19 -> 0 | M19: =+K19*L19 -> 0
A20: =+'TOTAL GENERAL'!A20 -> 15 | C20: =+A20*B20 -> 0 | E20: =+'TOTAL GENERAL'!E20 -> 35 | G20: =+E20*F20 -> 0 | M20: =+K20*L20 -> 0
A21: =+'TOTAL GENERAL'!A21 -> 16 | C21: =+A21*B21 -> 0 | E21: =+'TOTAL GENERAL'!E21 -> 50 | G21: =+E21*F21 -> 0 | M21: =+K21*L21 -> 0
A22: =+'TOTAL GENERAL'!A22 -> 17.35 | C22: =+A22*B22 -> 0 | E22: =+'TOTAL GENERAL'!E22 -> 0 | G22: =+E22*F22 -> 0 | M22: =+K22*L22 -> 0
A23: =+'TOTAL GENERAL'!A23 -> 17.5 | C23: =+A23*B23 -> 0 | G23: =+E23*F23 -> 0 | M23: =+K23*L23 -> 0
A24: =+'TOTAL GENERAL'!A24 -> 18 | C24: =+A24*B24 -> 0 | G24: =+E24*F24 -> 0 | M24: =+K24*L24 -> 0
A25: =+'TOTAL GENERAL'!A25 -> 20 | C25: =+A25*B25 -> 0 | G25: =+E25*F25 -> 0 | M25: =+K25*L25 -> 0
A26: =+'TOTAL GENERAL'!A26 -> 24.79 | C26: =+A26*B26 -> 0 | G26: =+E26*F26 -> 0 | M26: =+K26*L26 -> 0
A27: =+'TOTAL GENERAL'!A27 -> 25 | C27: =+A27*B27 -> 0 | G27: =+E27*F27 -> 0 | M27: =+K27*L27 -> 0
A28: =+'TOTAL GENERAL'!A28 -> 30 | C28: =+A28*B28 -> 0 | M28: =+K28*L28 -> 0
A29: =+'TOTAL GENERAL'!A29 -> 35 | C29: =+A29*B29 -> 0 | M29: =+K29*L29 -> 0
A30: =+'TOTAL GENERAL'!A30 -> 40 | C30: =+A30*B30 -> 0
A31: =+'TOTAL GENERAL'!A31 -> 50 | C31: =+A31*B31 -> 0
A32: =+'TOTAL GENERAL'!A32 -> 59 | C32: =+A32*B32 -> 0
A33: =+'TOTAL GENERAL'!A33 -> 60
A34: =+'TOTAL GENERAL'!A34 -> 100
A38: TOTAL | B38: =SUM(B4:B32) -> 0 | C38: =SUM(C4:C32) -> 0 | E38: TOTAL | F38: =SUM(F3:F27) -> 0 | G38: =SUM(G3:G27) -> 0 | I38: =C38+G38 -> 0 | K38: TOTAL | L38: =SUM(L4:L29) -> 0 | M38: =SUM(M4:M29) -> 0 | N38: =I38+M38 -> 0

Sheet 0728
A1: 728 | B1: ='0048'!B1 -> 41699 | E1: =+A1 -> 728 | F1: =+B1 -> 41699
A2: SODEXO | B2: Nombre | C2: TOTAL | E2: AWARDS | F2: Nombre | G2: TOTAL | K2: CHEQUES SHOPPING | L2: Nombre | M2: TOTAL
A3: =+'TOTAL GENERAL'!A3 -> 1 | E3: =+'TOTAL GENERAL'!E3 -> 0.6 | G3: =+E3*F3 -> 0
A4: =+'TOTAL GENERAL'!A4 -> 1.28 | C4: =+A4*B4 -> 0 | E4: =+'TOTAL GENERAL'!E4 -> 1 | G4: =+E4*F4 -> 0 | K4: 5 | L4: 0 | M4: =+K4*L4 -> 0
A5: =+'TOTAL GENERAL'!A5 -> 2 | C5: =+A5*B5 -> 0 | E5: =+'TOTAL GENERAL'!E5 -> 2 | G5: =+E5*F5 -> 0 | K5: 10 | L5: 0 | M5: =+K5*L5 -> 0
A6: =+'TOTAL GENERAL'!A6 -> 3.5 | E6: =+'TOTAL GENERAL'!E6 -> 2.5 | G6: =+E6*F6 -> 0
A7: =+'TOTAL GENERAL'!A7 -> 4 | C7: =+A7*B7 -> 0 | E7: =+'TOTAL GENERAL'!E7 -> 3 | G7: =+E7*F7 -> 0 | K7: 12.5 | L7: 0 | M7: =+K7*L7 -> 0
A8: =+'TOTAL GENERAL'!A8 -> 4.2 | C8: =+A8*B8 -> 0 | E8: =+'TOTAL GENERAL'!E8 -> 4 | G8: =+E8*F8 -> 0 | K8: 15 | L8: 0 | M8: =+K8*L8 -> 0
A9: =+'TOTAL GENERAL'!A9 -> 5 | C9: =+A9*B9 -> 0 | E9: =+'TOTAL GENERAL'!E9 -> 5 | G9: =+E9*F9 -> 0 | K9: 20 | L9: 0 | M9: =+K9*L9 -> 0
A10: =+'TOTAL GENERAL'!A10 -> 6.25 | C10: =+A10*B10 -> 0 | E10: =+'TOTAL GENERAL'!E10 -> 6 | G10: =+E10*F10 -> 0 | K10: 25 | L10: 0 | M10: =+K10*L10 -> 0
A11: =+'TOTAL GENERAL'!A11 -> 7 | C11: =+A11*B11 -> 0 | E11: =+'TOTAL GENERAL'!E11 -> 7 | G11: =+E11*F11 -> 0 | K11: 30 | L11: 0 | M11: =+K11*L11 -> 0
A12: =+'TOTAL GENERAL'!A12 -> 7.5 | C12: =+A12*B12 -> 0 | E12: =+'TOTAL GENERAL'!E12 -> 10 | G12: =+E12*F12 -> 0 | K12: 35 | L12: 0 | M12: =+K12*L12 -> 0
A13: =+'TOTAL GENERAL'!A13 -> 8.75 | C13: =+A13*B13 -> 0 | E13: =+'TOTAL GENERAL'!E13 -> 12.5 | G13: =+E13*F13 -> 0 | K13: 50 | L13: 0 | M13: =+K13*L13 -> 0
A14: =+'TOTAL GENERAL'!A14 -> 10 | B14: 5 | C14: =+A14*B14 -> 50 | E14: =+'TOTAL GENERAL'!E14 -> 15 | G14: =+E14*F14 -> 0 | M14: =+K14*L14 -> 0
A15: =+'TOTAL GENERAL'!A15 -> 12 | C15: =+A15*B15 -> 0 | E15: =+'TOTAL GENERAL'!E15 -> 17.5 | G15: =+E15*F15 -> 0 | M15: =+K15*L15 -> 0
A16: =+'TOTAL GENERAL'!A16 -> 12.39 | C16: =+A16*B16 -> 0 | E16: =+'TOTAL GENERAL'!E16 -> 20 | G16: =+E16*F16 -> 0 | M16: =+K16*L16 -> 0
A17: =+'TOTAL GENERAL'!A17 -> 12.4 | C17: =+A17*B17 -> 0 | E17: =+'TOTAL GENERAL'!E17 -> 24.79 | G17: =+E17*F17 -> 0 | M17: =+K17*L17 -> 0
A18: =+'TOTAL GENERAL'!A18 -> 12.5 | C18: =+A18*B18 -> 0 | E18: =+'TOTAL GENERAL'!E18 -> 25 | G18: =+E18*F18 -> 0 | M18: =+K18*L18 -> 0
A19: =+'TOTAL GENERAL'!A19 -> 12.88 | C19: =+A19*B19 -> 0 | E19: =+'TOTAL GENERAL'!E19 -> 30 | G19: =+E19*F19 -> 0 | M19: =+K19*L19 -> 0
A20: =+'TOTAL GENERAL'!A20 -> 15 | C20: =+A20*B20 -> 0 | E20: =+'TOTAL GENERAL'!E20 -> 35 | F20: 1 | G20: =+E20*F20 -> 35 | M20: =+K20*L20 -> 0
A21: =+'TOTAL GENERAL'!A21 -> 16 | C21: =+A21*B21 -> 0 | E21: =+'TOTAL GENERAL'!E21 -> 50 | G21: =+E21*F21 -> 0 | M21: =+K21*L21 -> 0
A22: =+'TOTAL GENERAL'!A22 -> 17.35 | C22: =+A22*B22 -> 0 | E22: =+'TOTAL GENERAL'!E24 -> 0 | G22: =+E22*F22 -> 0 | M22: =+K22*L22 -> 0
A23: =+'TOTAL GENERAL'!A23 -> 17.5 | C23: =+A23*B23 -> 0 | G23: =+E23*F23 -> 0 | M23: =+K23*L23 -> 0
A24: =+'TOTAL GENERAL'!A24 -> 18 | C24: =+A24*B24 -> 0 | G24: =+E24*F24 -> 0 | M24: =+K24*L24 -> 0
A25: =+'TOTAL GENERAL'!A25 -> 20 | C25: =+A25*B25 -> 0 | G25: =+E25*F25 -> 0 | M25: =+K25*L25 -> 0
A26: =+'TOTAL GENERAL'!A26 -> 24.79 | C26: =+A26*B26 -> 0 | G26: =+E26*F26 -> 0 | M26: =+K26*L26 -> 0
A27: =+'TOTAL GENERAL'!A27 -> 25 | C27: =+A27*B27 -> 0 | G27: =+E27*F27 -> 0 | M27: =+K27*L27 -> 0
A28: =+'TOTAL GENERAL'!A28 -> 30 | C28: =+A28*B28 -> 0 | M28: =+K28*L28 -> 0
A29: =+'TOTAL GENERAL'!A29 -> 35 | C29: =+A29*B29 -> 0 | M29: =+K29*L29 -> 0
A30: =+'TOTAL GENERAL'!A30 -> 40 | C30: =+A30*B30 -> 0
A31: =+'TOTAL GENERAL'!A31 -> 50 | C31: =+A31*B31 -> 0
A32: =+'TOTAL GENERAL'!A32 -> 59 | C32: =+A32*B32 -> 0
A33: =+'TOTAL GENERAL'!A33 -> 60 | C33: =+A33*B33 -> 0
A34: =+'TOTAL GENERAL'!A35 -> 0
A38: TOTAL | B38: =SUM(B4:B29) -> 5 | C38: =SUM(C4:C29) -> 50 | E38: TOTAL | F38: =SUM(F3:F27) -> 1 | G38: =SUM(G3:G27) -> 35 | I38: =C38+G38 -> 85 | K38: TOTAL | L38: =SUM(L4:L29) -> 0 | M38: =SUM(M4:M29) -> 0 | N38: =I38+M38 -> 85

Sheet 0737
A1: 737 | B1: ='0048'!B1 -> 41699 | E1: =+A1 -> 737 | F1: =+B1 -> 41699
A2: SODEXO | B2: Nombre | C2: TOTAL | E2: AWARDS | F2: Nombre | G2: TOTAL | K2: CHEQUES SHOPPING | L2: Nombre | M2: TOTAL
A3: =+'TOTAL GENERAL'!A3 -> 1 | E3: =+'TOTAL GENERAL'!E3 -> 0.6 | G3: =+E3*F3 -> 0
A4: =+'TOTAL GENERAL'!A4 -> 1.28 | C4: =+A4*B4 -> 0 | E4: =+'TOTAL GENERAL'!E4 -> 1 | G4: =+E4*F4 -> 0 | K4: 5 | L4: 0 | M4: =+K4*L4 -> 0
A5: =+'TOTAL GENERAL'!A5 -> 2 | C5: =+A5*B5 -> 0 | E5: =+'TOTAL GENERAL'!E5 -> 2 | G5: =+E5*F5 -> 0 | K5: 10 | L5: 0 | M5: =+K5*L5 -> 0
A6: =+'TOTAL GENERAL'!A6 -> 3.5 | C6: =+A6*B6 -> 0 | E6: =+'TOTAL GENERAL'!E6 -> 2.5 | G6: =+E6*F6 -> 0 | K6: 12.5 | L6: 0 | M6: =+K6*L6 -> 0
A7: =+'TOTAL GENERAL'!A7 -> 4 | C7: =+A7*B7 -> 0 | E7: =+'TOTAL GENERAL'!E7 -> 3 | G7: =+E7*F7 -> 0 | K7: 15 | L7: 0 | M7: =+K7*L7 -> 0
A8: =+'TOTAL GENERAL'!A8 -> 4.2 | C8: =+A8*B8 -> 0 | E8: =+'TOTAL GENERAL'!E8 -> 4 | G8: =+E8*F8 -> 0 | K8: 20 | L8: 0 | M8: =+K8*L8 -> 0
A9: =+'TOTAL GENERAL'!A9 -> 5 | B9: 5 | C9: =+A9*B9 -> 25 | E9: =+'TOTAL GENERAL'!E9 -> 5 | F9: 3 | G9: =+E9*F9 -> 15 | K9: 25 | L9: 0 | M9: =+K9*L9 -> 0
A10: =+'TOTAL GENERAL'!A10 -> 6.25 | C10: =+A10*B10 -> 0 | E10: =+'TOTAL GENERAL'!E10 -> 6 | G10: =+E10*F10 -> 0 | K10: 30 | L10: 0 | M10: =+K10*L10 -> 0
A11: =+'TOTAL GENERAL'!A11 -> 7 | C11: =+A11*B11 -> 0 | E11: =+'TOTAL GENERAL'!E11 -> 7 | G11: =+E11*F11 -> 0 | K11: 35 | L11: 0 | M11: =+K11*L11 -> 0
A12: =+'TOTAL GENERAL'!A12 -> 7.5 | C12: =+A12*B12 -> 0 | E12: =+'TOTAL GENERAL'!E12 -> 10 | F12: 3 | G12: =+E12*F12 -> 30 | K12: 50 | L12: 0 | M12: =+K12*L12 -> 0
A13: =+'TOTAL GENERAL'!A13 -> 8.75 | C13: =+A13*B13 -> 0 | E13: =+'TOTAL GENERAL'!E13 -> 12.5 | G13: =+E13*F13 -> 0 | M13: =+K13*L13 -> 0
A14: =+'TOTAL GENERAL'!A14 -> 10 | B14: 3 | C14: =+A14*B14 -> 30 | E14: =+'TOTAL GENERAL'!E14 -> 15 | G14: =+E14*F14 -> 0 | M14: =+K14*L14 -> 0
A15: =+'TOTAL GENERAL'!A15 -> 12 | C15: =+A15*B15 -> 0 | E15: =+'TOTAL GENERAL'!E15 -> 17.5 | F15: 2 | G15: =+E15*F15 -> 35 | M15: =+K15*L15 -> 0
A16: =+'TOTAL GENERAL'!A16 -> 12.39 | C16: =+A16*B16 -> 0 | E16: =+'TOTAL GENERAL'!E16 -> 20 | G16: =+E16*F16 -> 0 | M16: =+K16*L16 -> 0
A17: =+'TOTAL GENERAL'!A17 -> 12.4 | C17: =+A17*B17 -> 0 | E17: =+'TOTAL GENERAL'!E17 -> 24.79 | G17: =+E17*F17 -> 0 | M17: =+K17*L17 -> 0
A18: =+'TOTAL GENERAL'!A18 -> 12.5 | C18: =+A18*B18 -> 0 | E18: =+'TOTAL GENERAL'!E18 -> 25 | F18: 2 | G18: =+E18*F18 -> 50 | M18: =+K18*L18 -> 0
A19: =+'TOTAL GENERAL'!A19 -> 12.88 | C19: =+A19*B19 -> 0 | E19: =+'TOTAL GENERAL'!E19 -> 30 | G19: =+E19*F19 -> 0 | M19: =+K19*L19 -> 0
A20: =+'TOTAL GENERAL'!A20 -> 15 | B20: 1 | C20: =+A20*B20 -> 15 | E20: =+'TOTAL GENERAL'!E20 -> 35 | G20: =+E20*F20 -> 0 | M20: =+K20*L20 -> 0
A21: =+'TOTAL GENERAL'!A21 -> 16 | C21: =+A21*B21 -> 0 | E21: =+'TOTAL GENERAL'!E21 -> 50 | G21: =+E21*F21 -> 0 | M21: =+K21*L21 -> 0
A22: =+'TOTAL GENERAL'!A22 -> 17.35 | C22: =+A22*B22 -> 0 | E22: =+'TOTAL GENERAL'!E22 -> 0 | G22: =+E22*F22 -> 0 | M22: =+K22*L22 -> 0
A23: =+'TOTAL GENERAL'!A23 -> 17.5 | C23: =+A23*B23 -> 0 | G23: =+E23*F23 -> 0 | M23: =+K23*L23 -> 0
A24: =+'TOTAL GENERAL'!A24 -> 18 | C24: =+A24*B24 -> 0 | G24: =+E24*F24 -> 0 | M24: =+K24*L24 -> 0
A25: =+'TOTAL GENERAL'!A25 -> 20 | C25: =+A25*B25 -> 0 | G25: =+E25*F25 -> 0 | M25: =+K25*L25 -> 0
A26: =+'TOTAL GENERAL'!A26 -> 24.79 | C26: =+A26*B26 -> 0 | G26: =+E26*F26 -> 0 | M26: =+K26*L26 -> 0
A27: =+'TOTAL GENERAL'!A27 -> 25 | B27: 1 | C27: =+A27*B27 -> 25 | G27: =+E27*F27 -> 0 | M27: =+K27*L27 -> 0
A28: =+'TOTAL GENERAL'!A28 -> 30 | C28: =+A28*B28 -> 0 | M28: =+K28*L28 -> 0
A29: =+'TOTAL GENERAL'!A29 -> 35 | B29: 2 | C29: =+A29*B29 -> 70
A30: =+'TOTAL GENERAL'!A30 -> 40 | C30: =+A30*B30 -> 0
A31: =+'TOTAL GENERAL'!A31 -> 50
A32: =+'TOTAL GENERAL'!A32 -> 59
A33: =+'TOTAL GENERAL'!A33 -> 60
A34: =+'TOTAL GENERAL'!A35 -> 0
A37: TOTAL | B37: =SUM(B4:B30) -> 12 | C37: =SUM(C4:C30) -> 165 | E37: TOTAL | F37: =SUM(F3:F27) -> 10 | G37: =SUM(G3:G27) -> 130 | I37: =C37+G37 -> 295 | K37: TOTAL | L37: =SUM(L4:L28) -> 0 | M37: =SUM(M4:M28) -> 0 | N37: =I37+M37 -> 295

Sheet 0752
A1: 752 | B1: ='0048'!B1 -> 41699 | E1: =+A1 -> 752 | F1: =+B1 -> 41699
A2: SODEXO | B2: Nombre | C2: TOTAL | E2: AWARDS | F2: Nombre | G2: TOTAL | K2: CHEQUES SHOPPING | L2: Nombre | M2: TOTAL
A3: =+'TOTAL GENERAL'!A3 -> 1 | E3: =+'TOTAL GENERAL'!E3 -> 0.6 | G3: =+E3*F3 -> 0
A4: =+'TOTAL GENERAL'!A4 -> 1.28 | C4: =+A4*B4 -> 0 | E4: =+'TOTAL GENERAL'!E4 -> 1 | G4: =+E4*F4 -> 0 | K4: 5 | L4: 0 | M4: =+K4*L4 -> 0
A5: =+'TOTAL GENERAL'!A5 -> 2 | C5: =+A5*B5 -> 0 | E5: =+'TOTAL GENERAL'!E5 -> 2 | G5: =+E5*F5 -> 0 | K5: 10 | L5: 0 | M5: =+K5*L5 -> 0
A6: =+'TOTAL GENERAL'!A6 -> 3.5 | C6: =+A6*B6 -> 0 | E6: =+'TOTAL GENERAL'!E6 -> 2.5 | G6: =+E6*F6 -> 0 | K6: 12.5 | L6: 0 | M6: =+K6*L6 -> 0
A7: =+'TOTAL GENERAL'!A7 -> 4 | C7: =+A7*B7 -> 0 | E7: =+'TOTAL GENERAL'!E7 -> 3 | G7: =+E7*F7 -> 0 | K7: 15 | L7: 0 | M7: =+K7*L7 -> 0
A8: =+'TOTAL GENERAL'!A8 -> 4.2 | C8: =+A8*B8 -> 0 | E8: =+'TOTAL GENERAL'!E8 -> 4 | G8: =+E8*F8 -> 0 | K8: 20 | L8: 0 | M8: =+K8*L8 -> 0
A9: =+'TOTAL GENERAL'!A9 -> 5 | B9: 6 | C9: =+A9*B9 -> 30 | E9: =+'TOTAL GENERAL'!E9 -> 5 | F9: 5 | G9: =+E9*F9 -> 25 | K9: 25 | L9: 0 | M9: =+K9*L9 -> 0
A10: =+'TOTAL GENERAL'!A10 -> 6.25 | C10: =+A10*B10 -> 0 | E10: =+'TOTAL GENERAL'!E10 -> 6 | G10: =+E10*F10 -> 0 | K10: 30 | L10: 0 | M10: =+K10*L10 -> 0
A11: =+'TOTAL GENERAL'!A11 -> 7 | C11: =+A11*B11 -> 0 | E11: =+'TOTAL GENERAL'!E11 -> 7 | G11: =+E11*F11 -> 0 | K11: 35 | L11: 0 | M11: =+K11*L11 -> 0
A12: =+'TOTAL GENERAL'!A12 -> 7.5 | C12: =+A12*B12 -> 0 | E12: =+'TOTAL GENERAL'!E12 -> 10 | F12: 15 | G12: =+E12*F12 -> 150 | K12: 50 | L12: 0 | M12: =+K12*L12 -> 0
A13: =+'TOTAL GENERAL'!A13 -> 8.75 | C13: =+A13*B13 -> 0 | E13: =+'TOTAL GENERAL'!E13 -> 12.5 | G13: =+E13*F13 -> 0 | M13: =+K13*L13 -> 0
A14: =+'TOTAL GENERAL'!A14 -> 10 | B14: 6 | C14: =+A14*B14 -> 60 | E14: =+'TOTAL GENERAL'!E14 -> 15 | G14: =+E14*F14 -> 0 | M14: =+K14*L14 -> 0
A15: =+'TOTAL GENERAL'!A15 -> 12 | C15: =+A15*B15 -> 0 | E15: =+'TOTAL GENERAL'!E15 -> 17.5 | G15: =+E15*F15 -> 0 | M15: =+K15*L15 -> 0
A16: =+'TOTAL GENERAL'!A16 -> 12.39 | C16: =+A16*B16 -> 0 | E16: =+'TOTAL GENERAL'!E16 -> 20 | F16: 3 | G16: =+E16*F16 -> 60 | M16: =+K16*L16 -> 0
A17: =+'TOTAL GENERAL'!A17 -> 12.4 | C17: =+A17*B17 -> 0 | E17: =+'TOTAL GENERAL'!E17 -> 24.79 | G17: =+E17*F17 -> 0 | M17: =+K17*L17 -> 0
A18: =+'TOTAL GENERAL'!A18 -> 12.5 | C18: =+A18*B18 -> 0 | E18: =+'TOTAL GENERAL'!E18 -> 25 | G18: =+E18*F18 -> 0 | M18: =+K18*L18 -> 0
A19: =+'TOTAL GENERAL'!A19 -> 12.88 | C19: =+A19*B19 -> 0 | E19: =+'TOTAL GENERAL'!E19 -> 30 | F19: 1 | G19: =+E19*F19 -> 30 | M19: =+K19*L19 -> 0
A20: =+'TOTAL GENERAL'!A20 -> 15 | C20: =+A20*B20 -> 0 | E20: =+'TOTAL GENERAL'!E20 -> 35 | G20: =+E20*F20 -> 0 | M20: =+K20*L20 -> 0
A21: =+'TOTAL GENERAL'!A21 -> 16 | C21: =+A21*B21 -> 0 | E21: =+'TOTAL GENERAL'!E21 -> 50 | G21: =+E21*F21 -> 0 | M21: =+K21*L21 -> 0
A22: =+'TOTAL GENERAL'!A22 -> 17.35 | C22: =+A22*B22 -> 0 | E22: =+'TOTAL GENERAL'!E24 -> 0 | G22: =+E22*F22 -> 0 | M22: =+K22*L22 -> 0
A23: =+'TOTAL GENERAL'!A23 -> 17.5 | C23: =+A23*B23 -> 0 | G23: =+E23*F23 -> 0 | M23: =+K23*L23 -> 0
A24: =+'TOTAL GENERAL'!A24 -> 18 | C24: =+A24*B24 -> 0 | G24: =+E24*F24 -> 0 | M24: =+K24*L24 -> 0
A25: =+'TOTAL GENERAL'!A25 -> 20 | C25: =+A25*B25 -> 0 | G25: =+E25*F25 -> 0 | M25: =+K25*L25 -> 0
A26: =+'TOTAL GENERAL'!A26 -> 24.79 | C26: =+A26*B26 -> 0 | G26: =+E26*F26 -> 0 | M26: =+K26*L26 -> 0
A27: =+'TOTAL GENERAL'!A27 -> 25 | C27: =+A27*B27 -> 0 | G27: =+E27*F27 -> 0 | M27: =+K27*L27 -> 0
A28: =+'TOTAL GENERAL'!A28 -> 30 | C28: =+A28*B28 -> 0 | M28: =+K28*L28 -> 0
A29: =+'TOTAL GENERAL'!A29 -> 35 | B29: 2 | C29: =+A29*B29 -> 70
A30: =+'TOTAL GENERAL'!A30 -> 40
A31: =+'TOTAL GENERAL'!A31 -> 50
A32: =+'TOTAL GENERAL'!A32 -> 59
A33: =+'TOTAL GENERAL'!A33 -> 60
A34: =+'TOTAL GENERAL'!A34 -> 100
A37: TOTAL | B37: =SUM(B4:B34) -> 14 | C37: =SUM(C4:C34) -> 160 | E37: TOTAL | F37: =SUM(F3:F27) -> 24 | G37: =SUM(G3:G27) -> 265 | I37: =C37+G37 -> 425 | K37: TOTAL | L37: =SUM(L4:L28) -> 0 | M37: =SUM(M4:M28) -> 0 | N37: =I37+M37 -> 425

Sheet 0775
A1: 775 | B1: ='0048'!B1 -> 41699 | E1: =+A1 -> 775 | F1: =+B1 -> 41699
A2: SODEXO | B2: Nombre | C2: TOTAL | E2: AWARDS | F2: Nombre | G2: TOTAL | K2: CHEQUES SHOPPING | L2: Nombre | M2: TOTAL
A3: =+'TOTAL GENERAL'!A3 -> 1 | E3: =+'TOTAL GENERAL'!E3 -> 0.6 | G3: =+E3*F3 -> 0
A4: =+'TOTAL GENERAL'!A4 -> 1.28 | C4: =+A4*B4 -> 0 | E4: =+'TOTAL GENERAL'!E4 -> 1 | G4: =+E4*F4 -> 0 | K4: 5 | L4: 0 | M4: =+K4*L4 -> 0
A5: =+'TOTAL GENERAL'!A5 -> 2 | C5: =+A5*B5 -> 0 | E5: =+'TOTAL GENERAL'!E5 -> 2 | F5: 1 | G5: =+E5*F5 -> 2 | K5: 10 | L5: 0 | M5: =+K5*L5 -> 0
A6: 3.5 | C6: =+A6*B6 -> 0 | E6: =+'TOTAL GENERAL'!E6 -> 2.5 | G6: =+E6*F6 -> 0
A7: =+'TOTAL GENERAL'!A7 -> 4 | C7: =+A7*B7 -> 0 | E7: =+'TOTAL GENERAL'!E7 -> 3 | G7: =+E7*F7 -> 0 | K7: 12.5 | L7: 0 | M7: =+K7*L7 -> 0
A8: =+'TOTAL GENERAL'!A8 -> 4.2 | C8: =+A8*B8 -> 0 | E8: =+'TOTAL GENERAL'!E8 -> 4 | G8: =+E8*F8 -> 0 | K8: 15 | L8: 0 | M8: =+K8*L8 -> 0
A9: =+'TOTAL GENERAL'!A9 -> 5 | B9: =2+18 -> 20 | C9: =+A9*B9 -> 100 | E9: =+'TOTAL GENERAL'!E9 -> 5 | F9: 6 | G9: =+E9*F9 -> 30 | K9: 20 | L9: 0 | M9: =+K9*L9 -> 0
A10: =+'TOTAL GENERAL'!A10 -> 6.25 | C10: =+A10*B10 -> 0 | E10: =+'TOTAL GENERAL'!E10 -> 6 | G10: =+E10*F10 -> 0 | K10: 25 | L10: 0 | M10: =+K10*L10 -> 0
A11: =+'TOTAL GENERAL'!A11 -> 7 | C11: =+A11*B11 -> 0 | E11: =+'TOTAL GENERAL'!E11 -> 7 | G11: =+E11*F11 -> 0 | K11: 30 | L11: 0 | M11: =+K11*L11 -> 0
A12: =+'TOTAL GENERAL'!A12 -> 7.5 | C12: =+A12*B12 -> 0 | E12: =+'TOTAL GENERAL'!E12 -> 10 | F12: 4 | G12: =+E12*F12 -> 40 | K12: 35 | L12: 0 | M12: =+K12*L12 -> 0
A13: =+'TOTAL GENERAL'!A13 -> 8.75 | C13: =+A13*B13 -> 0 | E13: =+'TOTAL GENERAL'!E13 -> 12.5 | F13: 1 | G13: =+E13*F13 -> 12.5 | K13: 50 | L13: 0 | M13: =+K13*L13 -> 0
A14: =+'TOTAL GENERAL'!A14 -> 10 | C14: =+A14*B14 -> 0 | E14: =+'TOTAL GENERAL'!E14 -> 15 | G14: =+E14*F14 -> 0 | M14: =+K14*L14 -> 0
A15: =+'TOTAL GENERAL'!A15 -> 12 | C15: =+A15*B15 -> 0 | E15: =+'TOTAL GENERAL'!E15 -> 17.5 | G15: =+E15*F15 -> 0 | M15: =+K15*L15 -> 0
A16: =+'TOTAL GENERAL'!A16 -> 12.39 | C16: =+A16*B16 -> 0 | E16: =+'TOTAL GENERAL'!E16 -> 20 | G16: =+E16*F16 -> 0 | M16: =+K16*L16 -> 0
A17: =+'TOTAL GENERAL'!A17 -> 12.4 | C17: =+A17*B17 -> 0 | E17: =+'TOTAL GENERAL'!E17 -> 24.79 | G17: =+E17*F17 -> 0 | M17: =+K17*L17 -> 0
A18: =+'TOTAL GENERAL'!A18 -> 12.5 | C18: =+A18*B18 -> 0 | E18: =+'TOTAL GENERAL'!E18 -> 25 | G18: =+E18*F18 -> 0 | M18: =+K18*L18 -> 0
A19: =+'TOTAL GENERAL'!A19 -> 12.88 | C19: =+A19*B19 -> 0 | E19: =+'TOTAL GENERAL'!E19 -> 30 | G19: =+E19*F19 -> 0 | M19: =+K19*L19 -> 0
A20: =+'TOTAL GENERAL'!A20 -> 15 | B20: 2 | C20: =+A20*B20 -> 30 | E20: =+'TOTAL GENERAL'!E20 -> 35 | F20: 1 | G20: =+E20*F20 -> 35 | M20: =+K20*L20 -> 0
A21: =+'TOTAL GENERAL'!A21 -> 16 | C21: =+A21*B21 -> 0 | E21: =+'TOTAL GENERAL'!E21 -> 50 | G21: =+E21*F21 -> 0 | M21: =+K21*L21 -> 0
A22: =+'TOTAL GENERAL'!A22 -> 17.35 | C22: =+A22*B22 -> 0 | E22: =+'TOTAL GENERAL'!E24 -> 0 | G22: =+E22*F22 -> 0 | M22: =+K22*L22 -> 0
A23: =+'TOTAL GENERAL'!A23 -> 17.5 | C23: =+A23*B23 -> 0 | M23: =+K23*L23 -> 0
A24: =+'TOTAL GENERAL'!A24 -> 18 | C24: =+A24*B24 -> 0 | G24: =+E24*F24 -> 0 | M24: =+K24*L24 -> 0
A25: =+'TOTAL GENERAL'!A25 -> 20 | B25: =5+1 -> 6 | C25: =+A25*B25 -> 120 | G25: =+E25*F25 -> 0 | M25: =+K25*L25 -> 0
A26: =+'TOTAL GENERAL'!A26 -> 24.79 | C26: =+A26*B26 -> 0 | G26: =+E26*F26 -> 0 | M26: =+K26*L26 -> 0
A27: =+'TOTAL GENERAL'!A27 -> 25 | B27: 1 | C27: =+A27*B27 -> 25 | G27: =+E27*F27 -> 0 | M27: =+K27*L27 -> 0
A28: =+'TOTAL GENERAL'!A28 -> 30 | C28: =+A28*B28 -> 0 | G28: =+E28*F28 -> 0 | M28: =+K28*L28 -> 0
A29: =+'TOTAL GENERAL'!A29 -> 35 | C29: =+A29*B29 -> 0 | M29: =+K29*L29 -> 0
A30: =+'TOTAL GENERAL'!A30 -> 40 | C30: =+A30*B30 -> 0
A31: =+'TOTAL GENERAL'!A31 -> 50 | C31: =+A31*B31 -> 0
A32: =+'TOTAL GENERAL'!A32 -> 59
A33: =+'TOTAL GENERAL'!A33 -> 60
A34: =+'TOTAL GENERAL'!A34 -> 100
A38: TOTAL | B38: =SUM(B4:B31) -> 29 | C38: =SUM(C4:C31) -> 275 | E38: TOTAL | F38: =SUM(F3:F28) -> 13 | G38: =SUM(G3:G28) -> 119.5 | I38: =C38+G38 -> 394.5 | K38: TOTAL | L38: =SUM(L4:L29) -> 0 | M38: =SUM(M4:M29) -> 0 | N38: =I38+M38 -> 394.5

Sheet 0776
A1: 776 | B1: ='0048'!B1 -> 41699 | E1: =+A1 -> 776 | F1: =+B1 -> 41699
A2: SODEXO | B2: Nombre | C2: TOTAL | E2: AWARDS | F2: Nombre | G2: TOTAL | K2: CHEQUES SHOPPING | L2: Nombre | M2: TOTAL
A3: =+'TOTAL GENERAL'!A3 -> 1 | E3: =+'TOTAL GENERAL'!E3 -> 0.6 | G3: =+E3*F3 -> 0
A4: =+'TOTAL GENERAL'!A4 -> 1.28 | C4: =+A4*B4 -> 0 | E4: =+'TOTAL GENERAL'!E4 -> 1 | G4: =+E4*F4 -> 0 | K4: 5 | L4: 0 | M4: =+K4*L4 -> 0
A5: =+'TOTAL GENERAL'!A5 -> 2 | C5: =+A5*B5 -> 0 | E5: =+'TOTAL GENERAL'!E5 -> 2 | G5: =+E5*F5 -> 0 | K5: 10 | L5: 0 | M5: =+K5*L5 -> 0
A6: =+'TOTAL GENERAL'!A6 -> 3.5 | E6: =+'TOTAL GENERAL'!E6 -> 2.5 | G6: =+E6*F6 -> 0
A7: =+'TOTAL GENERAL'!A7 -> 4 | C7: =+A7*B7 -> 0 | E7: =+'TOTAL GENERAL'!E7 -> 3 | G7: =+E7*F7 -> 0 | K7: 12.5 | L7: 0 | M7: =+K7*L7 -> 0
A8: =+'TOTAL GENERAL'!A8 -> 4.2 | C8: =+A8*B8 -> 0 | E8: =+'TOTAL GENERAL'!E8 -> 4 | G8: =+E8*F8 -> 0 | K8: 15 | L8: 0 | M8: =+K8*L8 -> 0
A9: =+'TOTAL GENERAL'!A9 -> 5 | B9: 4 | C9: =+A9*B9 -> 20 | E9: =+'TOTAL GENERAL'!E9 -> 5 | G9: =+E9*F9 -> 0 | K9: 20 | L9: 0 | M9: =+K9*L9 -> 0
A10: =+'TOTAL GENERAL'!A10 -> 6.25 | C10: =+A10*B10 -> 0 | E10: =+'TOTAL GENERAL'!E10 -> 6 | G10: =+E10*F10 -> 0 | K10: 25 | L10: 0 | M10: =+K10*L10 -> 0
A11: =+'TOTAL GENERAL'!A11 -> 7 | C11: =+A11*B11 -> 0 | E11: =+'TOTAL GENERAL'!E11 -> 7 | G11: =+E11*F11 -> 0 | K11: 30 | L11: 0 | M11: =+K11*L11 -> 0
A12: =+'TOTAL GENERAL'!A12 -> 7.5 | C12: =+A12*B12 -> 0 | E12: =+'TOTAL GENERAL'!E12 -> 10 | G12: =+E12*F12 -> 0 | K12: 35 | L12: 0 | M12: =+K12*L12 -> 0
A13: =+'TOTAL GENERAL'!A13 -> 8.75 | C13: =+A13*B13 -> 0 | E13: =+'TOTAL GENERAL'!E13 -> 12.5 | F13: 11 | G13: =+E13*F13 -> 137.5 | K13: 50 | L13: 0 | M13: =+K13*L13 -> 0
A14: =+'TOTAL GENERAL'!A14 -> 10 | B14: 1 | C14: =+A14*B14 -> 10 | E14: =+'TOTAL GENERAL'!E14 -> 15 | G14: =+E14*F14 -> 0 | M14: =+K14*L14 -> 0
A15: =+'TOTAL GENERAL'!A15 -> 12 | C15: =+A15*B15 -> 0 | E15: =+'TOTAL GENERAL'!E15 -> 17.5 | G15: =+E15*F15 -> 0 | M15: =+K15*L15 -> 0
A16: =+'TOTAL GENERAL'!A16 -> 12.39 | C16: =+A16*B16 -> 0 | E16: =+'TOTAL GENERAL'!E16 -> 20 | G16: =+E16*F16 -> 0 | M16: =+K16*L16 -> 0
A17: =+'TOTAL GENERAL'!A17 -> 12.4 | C17: =+A17*B17 -> 0 | E17: =+'TOTAL GENERAL'!E17 -> 24.79 | G17: =+E17*F17 -> 0 | M17: =+K17*L17 -> 0
A18: =+'TOTAL GENERAL'!A18 -> 12.5 | C18: =+A18*B18 -> 0 | E18: =+'TOTAL GENERAL'!E18 -> 25 | G18: =+E18*F18 -> 0 | M18: =+K18*L18 -> 0
A19: =+'TOTAL GENERAL'!A19 -> 12.88 | C19: =+A19*B19 -> 0 | E19: =+'TOTAL GENERAL'!E19 -> 30 | G19: =+E19*F19 -> 0 | M19: =+K19*L19 -> 0
A20: =+'TOTAL GENERAL'!A20 -> 15 | C20: =+A20*B20 -> 0 | E20: =+'TOTAL GENERAL'!E20 -> 35 | G20: =+E20*F20 -> 0 | M20: =+K20*L20 -> 0
A21: =+'TOTAL GENERAL'!A21 -> 16 | C21: =+A21*B21 -> 0 | E21: =+'TOTAL GENERAL'!E21 -> 50 | F21: 1 | G21: =+E21*F21 -> 50 | M21: =+K21*L21 -> 0
A22: =+'TOTAL GENERAL'!A22 -> 17.35 | C22: =+A22*B22 -> 0 | E22: =+'TOTAL GENERAL'!E24 -> 0 | G22: =+E22*F22 -> 0 | M22: =+K22*L22 -> 0
A23: =+'TOTAL GENERAL'!A23 -> 17.5 | C23: =+A23*B23 -> 0 | G23: =+E23*F23 -> 0 | M23: =+K23*L23 -> 0
A24: =+'TOTAL GENERAL'!A24 -> 18 | C24: =+A24*B24 -> 0 | G24: =+E24*F24 -> 0 | M24: =+K24*L24 -> 0
A25: =+'TOTAL GENERAL'!A25 -> 20 | C25: =+A25*B25 -> 0 | G25: =+E25*F25 -> 0 | M25: =+K25*L25 -> 0
A26: =+'TOTAL GENERAL'!A26 -> 24.79 | C26: =+A26*B26 -> 0 | G26: =+E26*F26 -> 0 | M26: =+K26*L26 -> 0
A27: =+'TOTAL GENERAL'!A27 -> 25 | C27: =+A27*B27 -> 0 | G27: =+E27*F27 -> 0 | M27: =+K27*L27 -> 0
A28: =+'TOTAL GENERAL'!A28 -> 30 | C28: =+A28*B28 -> 0 | M28: =+K28*L28 -> 0
A29: =+'TOTAL GENERAL'!A29 -> 35 | B29: 1 | C29: =+A29*B29 -> 35 | M29: =+K29*L29 -> 0
A30: =+'TOTAL GENERAL'!A30 -> 40 | C30: =+A30*B30 -> 0
A31: =+'TOTAL GENERAL'!A31 -> 50 | C31: =+A31*B31 -> 0
A32: =+'TOTAL GENERAL'!A32 -> 59 | C32: =+A32*B32 -> 0
A33: =+'TOTAL GENERAL'!A33 -> 60 | C33: =+A33*B33 -> 0
A38: TOTAL | B38: =SUM(B4:B30) -> 6 | C38: =SUM(C4:C36) -> 65 | E38: TOTAL | F38: =SUM(F3:F27) -> 12 | G38: =SUM(G3:G27) -> 187.5 | I38: =C38+G38 -> 252.5 | K38: TOTAL | L38: =SUM(L4:L29) -> 0 | M38: =SUM(M4:M29) -> 0 | N38: =I38+M38 -> 252.5

Sheet 0786
A1: 786 | B1: ='0048'!B1 -> 41699 | E1: =+A1 -> 786 | F1: =+B1 -> 41699
A2: SODEXO | B2: Nombre | C2: TOTAL | E2: AWARDS | F2: Nombre | G2: TOTAL | K2: CHEQUES SHOPPING | L2: Nombre | M2: TOTAL
A3: =+'TOTAL GENERAL'!A3 -> 1 | E3: =+'TOTAL GENERAL'!E3 -> 0.6 | G3: =+E3*F3 -> 0
A4: =+'TOTAL GENERAL'!A4 -> 1.28 | C4: =+A4*B4 -> 0 | E4: =+'TOTAL GENERAL'!E4 -> 1 | G4: =+E4*F4 -> 0 | K4: 5 | L4: 0 | M4: =+K4*L4 -> 0
A5: =+'TOTAL GENERAL'!A5 -> 2 | E5: =+'TOTAL GENERAL'!E5 -> 2 | G5: =+E5*F5 -> 0 | K5: 10 | L5: 0 | M5: =+K5*L5 -> 0
A6: =+'TOTAL GENERAL'!A6 -> 3.5 | E6: =+'TOTAL GENERAL'!E6 -> 2.5 | G6: =+E6*F6 -> 0
A7: =+'TOTAL GENERAL'!A7 -> 4 | C7: =+A7*B7 -> 0 | E7: =+'TOTAL GENERAL'!E7 -> 3 | G7: =+E7*F7 -> 0 | K7: 12.5 | L7: 0 | M7: =+K7*L7 -> 0
A8: =+'TOTAL GENERAL'!A8 -> 4.2 | C8: =+A8*B8 -> 0 | E8: =+'TOTAL GENERAL'!E8 -> 4 | G8: =+E8*F8 -> 0 | K8: 15 | L8: 0 | M8: =+K8*L8 -> 0
A9: =+'TOTAL GENERAL'!A9 -> 5 | B9: 7 | C9: =+A9*B9 -> 35 | E9: =+'TOTAL GENERAL'!E9 -> 5 | G9: =+E9*F9 -> 0 | K9: 20 | L9: 0 | M9: =+K9*L9 -> 0
A10: =+'TOTAL GENERAL'!A10 -> 6.25 | C10: =+A10*B10 -> 0 | E10: =+'TOTAL GENERAL'!E10 -> 6 | G10: =+E10*F10 -> 0 | K10: 25 | L10: 0 | M10: =+K10*L10 -> 0
A11: =+'TOTAL GENERAL'!A11 -> 7 | C11: =+A11*B11 -> 0 | E11: =+'TOTAL GENERAL'!E11 -> 7 | G11: =+E11*F11 -> 0 | K11: 30 | L11: 0 | M11: =+K11*L11 -> 0
A12: =+'TOTAL GENERAL'!A12 -> 7.5 | C12: =+A12*B12 -> 0 | E12: =+'TOTAL GENERAL'!E12 -> 10 | F12: 2 | G12: =+E12*F12 -> 20 | K12: 35 | L12: 0 | M12: =+K12*L12 -> 0
A13: =+'TOTAL GENERAL'!A13 -> 8.75 | C13: =+A13*B13 -> 0 | E13: =+'TOTAL GENERAL'!E13 -> 12.5 | G13: =+E13*F13 -> 0 | K13: 50 | L13: 0 | M13: =+K13*L13 -> 0
A14: =+'TOTAL GENERAL'!A14 -> 10 | B14: 11 | C14: =+A14*B14 -> 110 | E14: =+'TOTAL GENERAL'!E14 -> 15 | G14: =+E14*F14 -> 0 | M14: =+K14*L14 -> 0
A15: =+'TOTAL GENERAL'!A15 -> 12 | C15: =+A15*B15 -> 0 | E15: =+'TOTAL GENERAL'!E15 -> 17.5 | G15: =+E15*F15 -> 0 | M15: =+K15*L15 -> 0
A16: =+'TOTAL GENERAL'!A16 -> 12.39 | C16: =+A16*B16 -> 0 | E16: =+'TOTAL GENERAL'!E16 -> 20 | G16: =+E16*F16 -> 0 | M16: =+K16*L16 -> 0
A17: =+'TOTAL GENERAL'!A17 -> 12.4 | C17: =+A17*B17 -> 0 | E17: =+'TOTAL GENERAL'!E17 -> 24.79 | G17: =+E17*F17 -> 0 | M17: =+K17*L17 -> 0
A18: =+'TOTAL GENERAL'!A18 -> 12.5 | C18: =+A18*B18 -> 0 | E18: =+'TOTAL GENERAL'!E18 -> 25 | F18: 1 | G18: =+E18*F18 -> 25 | M18: =+K18*L18 -> 0
A19: =+'TOTAL GENERAL'!A19 -> 12.88 | C19: =+A19*B19 -> 0 | E19: =+'TOTAL GENERAL'!E19 -> 30 | G19: =+E19*F19 -> 0 | M19: =+K19*L19 -> 0
A20: =+'TOTAL GENERAL'!A20 -> 15 | C20: =+A20*B20 -> 0 | E20: =+'TOTAL GENERAL'!E20 -> 35 | F20: 1 | G20: =+E20*F20 -> 35 | M20: =+K20*L20 -> 0
A21: =+'TOTAL GENERAL'!A21 -> 16 | C21: =+A21*B21 -> 0 | E21: =+'TOTAL GENERAL'!E21 -> 50 | G21: =+E21*F21 -> 0 | M21: =+K21*L21 -> 0
A22: =+'TOTAL GENERAL'!A22 -> 17.35 | C22: =+A22*B22 -> 0 | E22: =+'TOTAL GENERAL'!E22 -> 0 | G22: =+E22*F22 -> 0 | M22: =+K22*L22 -> 0
A23: =+'TOTAL GENERAL'!A23 -> 17.5 | C23: =+A23*B23 -> 0 | M23: =+K23*L23 -> 0
A24: =+'TOTAL GENERAL'!A24 -> 18 | C24: =+A24*B24 -> 0 | M24: =+K24*L24 -> 0
A25: =+'TOTAL GENERAL'!A25 -> 20 | C25: =+A25*B25 -> 0 | G25: =+E25*F25 -> 0 | M25: =+K25*L25 -> 0
A26: =+'TOTAL GENERAL'!A26 -> 24.79 | C26: =+A26*B26 -> 0 | G26: =+E26*F26 -> 0 | M26: =+K26*L26 -> 0
A27: =+'TOTAL GENERAL'!A27 -> 25 | C27: =+A27*B27 -> 0 | G27: =+E27*F27 -> 0 | M27: =+K27*L27 -> 0
A28: =+'TOTAL GENERAL'!A28 -> 30 | C28: =+A28*B28 -> 0 | G28: =+E28*F28 -> 0 | M28: =+K28*L28 -> 0
A29: =+'TOTAL GENERAL'!A29 -> 35 | C29: =+A29*B29 -> 0 | G29: =+E29*F29 -> 0 | M29: =+K29*L29 -> 0
A30: =+'TOTAL GENERAL'!A30 -> 40 | C30: =+A30*B30 -> 0
A31: =+'TOTAL GENERAL'!A31 -> 50 | C31: =+A31*B31 -> 0
A32: =+'TOTAL GENERAL'!A32 -> 59 | C32: =+A32*B32 -> 0
A33: =+'TOTAL GENERAL'!A33 -> 60
A34: =+'TOTAL GENERAL'!A34 -> 100
A38: TOTAL | B38: =SUM(B4:B32) -> 18 | C38: =SUM(C4:C32) -> 145 | E38: TOTAL | F38: =SUM(F3:F29) -> 4 | G38: =SUM(G3:G29) -> 80 | I38: =C38+G38 -> 225 | K38: TOTAL | L38: =SUM(L4:L29) -> 0 | M38: =SUM(M4:M29) -> 0 | N38: =I38+M38 -> 225

Sheet 369
A1: 369 | B1: ='0048'!B1 -> 41699 | E1: =+A1 -> 369 | F1: =+B1 -> 41699
A2: SODEXO | B2: Nombre | C2: TOTAL | E2: AWARDS | F2: Nombre | G2: TOTAL | K2: CHEQUES SHOPPING | L2: Nombre | M2: TOTAL
A3: =+'TOTAL GENERAL'!A3 -> 1 | E3: =+'TOTAL GENERAL'!E3 -> 0.6 | G3: =+E3*F3 -> 0
A4: =+'TOTAL GENERAL'!A4 -> 1.28 | C4: =+A4*B4 -> 0 | E4: =+'TOTAL GENERAL'!E4 -> 1 | G4: =+E4*F4 -> 0 | K4: 5 | L4: 0 | M4: =+K4*L4 -> 0
A5: =+'TOTAL GENERAL'!A5 -> 2 | C5: =+A5*B5 -> 0 | E5: =+'TOTAL GENERAL'!E5 -> 2 | G5: =+E5*F5 -> 0 | K5: 10 | L5: 0 | M5: =+K5*L5 -> 0
A6: =+'TOTAL GENERAL'!A6 -> 3.5 | E6: =+'TOTAL GENERAL'!E6 -> 2.5 | G6: =+E6*F6 -> 0
A7: =+'TOTAL GENERAL'!A7 -> 4 | C7: =+A7*B7 -> 0 | E7: =+'TOTAL GENERAL'!E7 -> 3 | G7: =+E7*F7 -> 0 | K7: 12.5 | L7: 0 | M7: =+K7*L7 -> 0
A8: =+'TOTAL GENERAL'!A8 -> 4.2 | C8: =+A8*B8 -> 0 | E8: =+'TOTAL GENERAL'!E8 -> 4 | G8: =+E8*F8 -> 0 | K8: 15 | L8: 0 | M8: =+K8*L8 -> 0
A9: =+'TOTAL GENERAL'!A9 -> 5 | C9: =+A9*B9 -> 0 | E9: =+'TOTAL GENERAL'!E9 -> 5 | F9: 9 | G9: =+E9*F9 -> 45 | K9: 20 | L9: 0 | M9: =+K9*L9 -> 0
A10: =+'TOTAL GENERAL'!A10 -> 6.25 | C10: =+A10*B10 -> 0 | E10: =+'TOTAL GENERAL'!E10 -> 6 | G10: =+E10*F10 -> 0 | K10: 25 | L10: 0 | M10: =+K10*L10 -> 0
A11: =+'TOTAL GENERAL'!A11 -> 7 | C11: =+A11*B11 -> 0 | E11: =+'TOTAL GENERAL'!E11 -> 7 | G11: =+E11*F11 -> 0 | K11: 30 | L11: 0 | M11: =+K11*L11 -> 0
A12: =+'TOTAL GENERAL'!A12 -> 7.5 | C12: =+A12*B12 -> 0 | E12: =+'TOTAL GENERAL'!E12 -> 10 | F12: 1 | G12: =+E12*F12 -> 10 | K12: 35 | L12: 0 | M12: =+K12*L12 -> 0
A13: =+'TOTAL GENERAL'!A13 -> 8.75 | C13: =+A13*B13 -> 0 | E13: =+'TOTAL GENERAL'!E13 -> 12.5 | G13: =+E13*F13 -> 0 | K13: 50 | L13: 0 | M13: =+K13*L13 -> 0
A14: =+'TOTAL GENERAL'!A14 -> 10 | C14: =+A14*B14 -> 0 | E14: =+'TOTAL GENERAL'!E14 -> 15 | G14: =+E14*F14 -> 0 | M14: =+K14*L14 -> 0
A15: =+'TOTAL GENERAL'!A15 -> 12 | C15: =+A15*B15 -> 0 | E15: =+'TOTAL GENERAL'!E15 -> 17.5 | G15: =+E15*F15 -> 0 | M15: =+K15*L15 -> 0
A16: =+'TOTAL GENERAL'!A16 -> 12.39 | C16: =+A16*B16 -> 0 | E16: =+'TOTAL GENERAL'!E16 -> 20 | G16: =+E16*F16 -> 0 | M16: =+K16*L16 -> 0
A17: =+'TOTAL GENERAL'!A17 -> 12.4 | C17: =+A17*B17 -> 0 | E17: =+'TOTAL GENERAL'!E17 -> 24.79 | G17: =+E17*F17 -> 0 | M17: =+K17*L17 -> 0
A18: =+'TOTAL GENERAL'!A18 -> 12.5 | C18: =+A18*B18 -> 0 | E18: =+'TOTAL GENERAL'!E18 -> 25 | F18: 1 | G18: =+E18*F18 -> 25 | M18: =+K18*L18 -> 0
A19: =+'TOTAL GENERAL'!A19 -> 12.88 | E19: =+'TOTAL GENERAL'!E19 -> 30 | G19: =+E19*F19 -> 0 | M19: =+K19*L19 -> 0
A20: =+'TOTAL GENERAL'!A20 -> 15 | C20: =+A20*B20 -> 0 | E20: =+'TOTAL GENERAL'!E20 -> 35 | G20: =+E20*F20 -> 0 | M20: =+K20*L20 -> 0
A21: =+'TOTAL GENERAL'!A21 -> 16 | C21: =+A21*B21 -> 0 | E21: =+'TOTAL GENERAL'!E21 -> 50 | G21: =+E21*F21 -> 0 | M21: =+K21*L21 -> 0
A22: =+'TOTAL GENERAL'!A22 -> 17.35 | C22: =+A22*B22 -> 0 | E22: =+'TOTAL GENERAL'!E24 -> 0 | G22: =+E22*F22 -> 0 | M22: =+K22*L22 -> 0
A23: =+'TOTAL GENERAL'!A23 -> 17.5 | C23: =+A23*B23 -> 0 | E23: =+'TOTAL GENERAL'!E25 -> 0 | G23: =+E23*F23 -> 0 | M23: =+K23*L23 -> 0
A24: =+'TOTAL GENERAL'!A24 -> 18 | C24: =+A24*B24 -> 0 | G24: =+E24*F24 -> 0 | M24: =+K24*L24 -> 0
A25: =+'TOTAL GENERAL'!A25 -> 20 | C25: =+A25*B25 -> 0 | G25: =+E25*F25 -> 0 | M25: =+K25*L25 -> 0
A26: =+'TOTAL GENERAL'!A26 -> 24.79 | C26: =+A26*B26 -> 0 | G26: =+E26*F26 -> 0 | M26: =+K26*L26 -> 0
A27: =+'TOTAL GENERAL'!A27 -> 25 | C27: =+A27*B27 -> 0 | G27: =+E27*F27 -> 0 | M27: =+K27*L27 -> 0
A28: =+'TOTAL GENERAL'!A28 -> 30 | C28: =+A28*B28 -> 0 | M28: =+K28*L28 -> 0
A29: =+'TOTAL GENERAL'!A29 -> 35 | C29: =+A29*B29 -> 0 | M29: =+K29*L29 -> 0
A30: =+'TOTAL GENERAL'!A30 -> 40 | C30: =+A30*B30 -> 0
A31: =+'TOTAL GENERAL'!A31 -> 50
A32: =+'TOTAL GENERAL'!A32 -> 59
A33: =+'TOTAL GENERAL'!A33 -> 60
A38: TOTAL | B38: =SUM(B4:B30) -> 0 | C38: =SUM(C4:C30) -> 0 | E38: TOTAL | F38: =SUM(F3:F27) -> 11 | G38: =SUM(G3:G27) -> 80 | I38: =C38+G38 -> 80 | K38: TOTAL | L38: =SUM(L4:L29) -> 0 | M38: =SUM(M4:M29) -> 0 | N38: =I38+M38 -> 80

Sheet 950
A1: 950 | B1: =+'0048'!B1 -> 41699 | E1: =+A1 -> 950 | F1: =+B1 -> 41699
A2: SODEXO | B2: Nombre | C2: TOTAL | E2: AWARDS | G2: TOTAL | K2: CHEQUES SHOPPING | L2: Nombre | M2: TOTAL
A3: =+'TOTAL GENERAL'!A3 -> 1 | E3: =+'TOTAL GENERAL'!E3 -> 0.6 | G3: =+E3*F3 -> 0
A4: =+'TOTAL GENERAL'!A4 -> 1.28 | C4: =+A4*B4 -> 0 | E4: =+'TOTAL GENERAL'!E4 -> 1 | G4: =+E4*F4 -> 0 | K4: 5 | L4: 0 | M4: =+K4*L4 -> 0
A5: =+'TOTAL GENERAL'!A5 -> 2 | C5: =+A5*B5 -> 0 | E5: =+'TOTAL GENERAL'!E5 -> 2 | G5: =+E5*F5 -> 0 | K5: 10 | L5: 0 | M5: =+K5*L5 -> 0
A6: =+'TOTAL GENERAL'!A6 -> 3.5 | E6: =+'TOTAL GENERAL'!E6 -> 2.5 | G6: =+E6*F6 -> 0
A7: =+'TOTAL GENERAL'!A7 -> 4 | C7: =+A7*B7 -> 0 | E7: =+'TOTAL GENERAL'!E7 -> 3 | G7: =+E7*F7 -> 0 | K7: 12.5 | L7: 0 | M7: =+K7*L7 -> 0
A8: =+'TOTAL GENERAL'!A8 -> 4.2 | C8: =+A8*B8 -> 0 | E8: =+'TOTAL GENERAL'!E8 -> 4 | G8: =+E8*F8 -> 0 | K8: 15 | L8: 0 | M8: =+K8*L8 -> 0
A9: =+'TOTAL GENERAL'!A9 -> 5 | C9: =+A9*B9 -> 0 | E9: =+'TOTAL GENERAL'!E9 -> 5 | G9: =+E9*F9 -> 0 | K9: 20 | L9: 0 | M9: =+K9*L9 -> 0
A10: =+'TOTAL GENERAL'!A10 -> 6.25 | C10: =+A10*B10 -> 0 | E10: =+'TOTAL GENERAL'!E10 -> 6 | G10: =+E10*F10 -> 0 | K10: 25 | L10: 0 | M10: =+K10*L10 -> 0
A11: =+'TOTAL GENERAL'!A11 -> 7 | C11: =+A11*B11 -> 0 | E11: =+'TOTAL GENERAL'!E11 -> 7 | G11: =+E11*F11 -> 0 | K11: 30 | L11: 0 | M11: =+K11*L11 -> 0
A12: =+'TOTAL GENERAL'!A12 -> 7.5 | C12: =+A12*B12 -> 0 | E12: =+'TOTAL GENERAL'!E12 -> 10 | G12: =+E12*F12 -> 0 | K12: 35 | L12: 0 | M12: =+K12*L12 -> 0
A13: =+'TOTAL GENERAL'!A13 -> 8.75 | C13: =+A13*B13 -> 0 | E13: =+'TOTAL GENERAL'!E13 -> 12.5 | G13: =+E13*F13 -> 0 | K13: 50 | L13: 0 | M13: =+K13*L13 -> 0
A14: =+'TOTAL GENERAL'!A14 -> 10 | C14: =+A14*B14 -> 0 | E14: =+'TOTAL GENERAL'!E14 -> 15 | G14: =+E14*F14 -> 0 | M14: =+K14*L14 -> 0
A15: =+'TOTAL GENERAL'!A15 -> 12 | C15: =+A15*B15 -> 0 | E15: =+'TOTAL GENERAL'!E15 -> 17.5 | G15: =+E15*F15 -> 0 | M15: =+K15*L15 -> 0
A16: =+'TOTAL GENERAL'!A16 -> 12.39 | C16: =+A16*B16 -> 0 | E16: =+'TOTAL GENERAL'!E16 -> 20 | G16: =+E16*F16 -> 0 | M16: =+K16*L16 -> 0
A17: =+'TOTAL GENERAL'!A17 -> 12.4 | C17: =+A17*B17 -> 0 | E17: =+'TOTAL GENERAL'!E17 -> 24.79 | G17: =+E17*F17 -> 0 | M17: =+K17*L17 -> 0
A18: =+'TOTAL GENERAL'!A18 -> 12.5 | C18: =+A18*B18 -> 0 | E18: =+'TOTAL GENERAL'!E18 -> 25 | G18: =+E18*F18 -> 0 | M18: =+K18*L18 -> 0
A19: =+'TOTAL GENERAL'!A19 -> 12.88 | C19: =+A19*B19 -> 0 | E19: =+'TOTAL GENERAL'!E19 -> 30 | G19: =+E19*F19 -> 0 | M19: =+K19*L19 -> 0
A20: =+'TOTAL GENERAL'!A20 -> 15 | C20: =+A20*B20 -> 0 | E20: =+'TOTAL GENERAL'!E20 -> 35 | G20: =+E20*F20 -> 0 | M20: =+K20*L20 -> 0
A21: =+'TOTAL GENERAL'!A21 -> 16 | C21: =+A21*B21 -> 0 | E21: =+'TOTAL GENERAL'!E21 -> 50 | G21: =+E21*F21 -> 0 | M21: =+K21*L21 -> 0
A22: =+'TOTAL GENERAL'!A22 -> 17.35 | C22: =+A22*B22 -> 0 | M22: =+K22*L22 -> 0
A23: =+'TOTAL GENERAL'!A23 -> 17.5 | C23: =+A23*B23 -> 0 | M23: =+K23*L23 -> 0
A24: =+'TOTAL GENERAL'!A24 -> 18 | C24: =+A24*B24 -> 0 | G24: =+E24*F24 -> 0 | M24: =+K24*L24 -> 0
A25: =+'TOTAL GENERAL'!A25 -> 20 | C25: =+A25*B25 -> 0 | G25: =+E25*F25 -> 0 | M25: =+K25*L25 -> 0
A26: =+'TOTAL GENERAL'!A26 -> 24.79 | C26: =+A26*B26 -> 0 | G26: =+E26*F26 -> 0 | M26: =+K26*L26 -> 0
A27: =+'TOTAL GENERAL'!A27 -> 25 | C27: =+A27*B27 -> 0 | G27: =+E27*F27 -> 0 | M27: =+K27*L27 -> 0
A28: =+'TOTAL GENERAL'!A28 -> 30 | C28: =+A28*B28 -> 0 | G28: =+E28*F28 -> 0 | M28: =+K28*L28 -> 0
A29: =+'TOTAL GENERAL'!A29 -> 35 | C29: =+A29*B29 -> 0 | G29: =+E29*F29 -> 0 | M29: =+K29*L29 -> 0
A30: =+'TOTAL GENERAL'!A30 -> 40 | C30: =+A30*B30 -> 0
A31: =+'TOTAL GENERAL'!A31 -> 50 | C31: =+A31*B31 -> 0
A32: =+'TOTAL GENERAL'!A32 -> 59 | C32: =+A32*B32 -> 0
A33: =+'TOTAL GENERAL'!A33 -> 60 | C33: =+A33*B33 -> 0
A34: =+'TOTAL GENERAL'!A35 -> 0
A38: TOTAL | B38: =SUM(B4:B29) -> 0 | C38: =SUM(C4:C29) -> 0 | E38: TOTAL | F38: =SUM(F3:F29) -> 0 | G38: =SUM(G3:G29) -> 0 | I38: =C38+G38 -> 0 | K38: TOTAL | L38: =SUM(L4:L29) -> 0 | M38: =SUM(M4:M29) -> 0 | N38: =I38+M38 -> 0

Sheet 951
A1: 951 | B1: ='0048'!B1 -> 41699 | E1: =+A1 -> 951 | F1: =+B1 -> 41699
A2: SODEXO | B2: Nombre | C2: TOTAL | E2: AWARDS | F2: Nombre | G2: TOTAL | K2: CHEQUES SHOPPING | L2: Nombre | M2: TOTAL
A3: =+'TOTAL GENERAL'!A3 -> 1 | E3: =+'TOTAL GENERAL'!E3 -> 0.6
A4: =+'TOTAL GENERAL'!A4 -> 1.28 | B4: 0 | C4: =+A4*B4 -> 0 | E4: =+'TOTAL GENERAL'!E4 -> 1 | G4: =+E3*F4 -> 0 | K4: 5 | L4: 0 | M4: =+K4*L4 -> 0
A5: =+'TOTAL GENERAL'!A5 -> 2 | B5: 0 | C5: =+A5*B5 -> 0 | E5: =+'TOTAL GENERAL'!E5 -> 2 | G5: =+E4*F5 -> 0 | K5: 10 | L5: 0 | M5: =+K5*L5 -> 0
A6: =+'TOTAL GENERAL'!A6 -> 3.5 | B6: 0 | C6: =+A6*B6 -> 0 | E6: =+'TOTAL GENERAL'!E6 -> 2.5 | G6: =+E5*F6 -> 0 | K6: 12.5 | L6: 0 | M6: =+K6*L6 -> 0
A7: =+'TOTAL GENERAL'!A7 -> 4 | B7: 0 | C7: =+A7*B7 -> 0 | E7: =+'TOTAL GENERAL'!E7 -> 3 | G7: =+E6*F7 -> 0 | K7: 15 | L7: 0 | M7: =+K7*L7 -> 0
A8: =+'TOTAL GENERAL'!A8 -> 4.2 | B8: 0 | C8: =+A8*B8 -> 0 | E8: =+'TOTAL GENERAL'!E8 -> 4 | G8: =+E7*F8 -> 0 | K8: 20 | L8: 0 | M8: =+K8*L8 -> 0
A9: =+'TOTAL GENERAL'!A9 -> 5 | B9: 0 | C9: =+A9*B9 -> 0 | E9: =+'TOTAL GENERAL'!E9 -> 5 | F9: 11 | G9: =+E8*F9 -> 44 | K9: 25 | L9: 0 | M9: =+K9*L9 -> 0
A10: =+'TOTAL GENERAL'!A10 -> 6.25 | B10: 0 | C10: =+A10*B10 -> 0 | E10: =+'TOTAL GENERAL'!E10 -> 6 | G10: =+E9*F10 -> 0 | K10: 30 | L10: 0 | M10: =+K10*L10 -> 0
A11: =+'TOTAL GENERAL'!A11 -> 7 | B11: 0 | C11: =+A11*B11 -> 0 | E11: =+'TOTAL GENERAL'!E11 -> 7 | G11: =+E10*F11 -> 0 | K11: 35 | L11: 0 | M11: =+K11*L11 -> 0
A12: =+'TOTAL GENERAL'!A12 -> 7.5 | B12: 0 | C12: =+A12*B12 -> 0 | E12: =+'TOTAL GENERAL'!E12 -> 10 | F12: 3 | G12: =+E11*F12 -> 21 | K12: 50 | L12: 0 | M12: =+K12*L12 -> 0
A13: =+'TOTAL GENERAL'!A13 -> 8.75 | B13: 0 | C13: =+A13*B13 -> 0 | E13: =+'TOTAL GENERAL'!E13 -> 12.5 | G13: =+E12*F13 -> 0 | M13: =+K13*L13 -> 0
A14: =+'TOTAL GENERAL'!A14 -> 10 | B14: 0 | C14: =+A14*B14 -> 0 | E14: =+'TOTAL GENERAL'!E14 -> 15 | G14: =+E13*F14 -> 0 | M14: =+K14*L14 -> 0
A15: =+'TOTAL GENERAL'!A15 -> 12 | B15: 0 | C15: =+A15*B15 -> 0 | E15: =+'TOTAL GENERAL'!E15 -> 17.5 | G15: =+E14*F15 -> 0 | M15: =+K15*L15 -> 0
A16: =+'TOTAL GENERAL'!A16 -> 12.39 | C16: =+A16*B16 -> 0 | E16: =+'TOTAL GENERAL'!E16 -> 20 | F16: 1 | G16: =+E15*F16 -> 17.5 | M16: =+K16*L16 -> 0
A17: =+'TOTAL GENERAL'!A17 -> 12.4 | B17: 0 | C17: =+A17*B17 -> 0 | E17: =+'TOTAL GENERAL'!E17 -> 24.79 | G17: =+E16*F17 -> 0 | M17: =+K17*L17 -> 0
A18: =+'TOTAL GENERAL'!A18 -> 12.5 | E18: =+'TOTAL GENERAL'!E18 -> 25 | G18: =+E17*F18 -> 0 | M18: =+K18*L18 -> 0
A19: =+'TOTAL GENERAL'!A19 -> 12.88 | B19: 0 | C19: =+A19*B19 -> 0 | E19: =+'TOTAL GENERAL'!E19 -> 30 | G19: =+E18*F19 -> 0 | M19: =+K19*L19 -> 0
A20: =+'TOTAL GENERAL'!A20 -> 15 | B20: 0 | C20: =+A20*B20 -> 0 | E20: =+'TOTAL GENERAL'!E20 -> 35 | F20: 1 | G20: =+E19*F20 -> 30 | M20: =+K20*L20 -> 0
A21: =+'TOTAL GENERAL'!A21 -> 16 | B21: 0 | C21: =+A21*B21 -> 0 | E21: =+'TOTAL GENERAL'!E21 -> 50 | G21: =+E20*F21 -> 0 | M21: =+K21*L21 -> 0
A22: =+'TOTAL GENERAL'!A22 -> 17.35 | B22: 0 | C22: =+A22*B22 -> 0 | E22: =+'TOTAL GENERAL'!E22 -> 0 | G22: =+E21*F22 -> 0 | M22: =+K22*L22 -> 0
A23: =+'TOTAL GENERAL'!A23 -> 17.5 | B23: 0 | C23: =+A23*B23 -> 0 | G23: =+E22*F23 -> 0 | M23: =+K23*L23 -> 0
A24: =+'TOTAL GENERAL'!A24 -> 18 | B24: 0 | C24: =+A24*B24 -> 0 | G24: =+E23*F24 -> 0 | M24: =+K24*L24 -> 0
A25: =+'TOTAL GENERAL'!A25 -> 20 | B25: 0 | C25: =+A25*B25 -> 0 | G25: =+E24*F25 -> 0 | M25: =+K25*L25 -> 0
A26: =+'TOTAL GENERAL'!A26 -> 24.79 | B26: 0 | C26: =+A26*B26 -> 0 | G26: =+E25*F26 -> 0 | M26: =+K26*L26 -> 0
A27: =+'TOTAL GENERAL'!A27 -> 25 | B27: 0 | C27: =+A27*B27 -> 0 | G27: =+E26*F27 -> 0 | M27: =+K27*L27 -> 0
A28: =+'TOTAL GENERAL'!A28 -> 30 | B28: 0 | C28: =+A28*B28 -> 0 | G28: =+E27*F28 -> 0 | M28: =+K28*L28 -> 0
A29: =+'TOTAL GENERAL'!A29 -> 35 | B29: 0 | C29: =+A29*B29 -> 0
A30: =+'TOTAL GENERAL'!A30 -> 40 | B30: 0 | C30: =+A30*B30 -> 0
A31: =+'TOTAL GENERAL'!A31 -> 50
A32: =+'TOTAL GENERAL'!A32 -> 59
A33: =+'TOTAL GENERAL'!A33 -> 60
A34: =+'TOTAL GENERAL'!A34 -> 100
A37: TOTAL | B37: =SUM(B4:B30) -> 0 | C37: =SUM(C4:C30) -> 0 | E37: TOTAL | F37: =SUM(F4:F28) -> 16 | G37: =SUM(G4:G28) -> 112.5 | I37: =C37+G37 -> 112.5 | K37: TOTAL | L37: =SUM(L4:L28) -> 0 | M37: =SUM(M4:M28) -> 0 | N37: =I37+M37 -> 112.5

Sheet 952
A1: 952 | B1: ='0048'!B1 -> 41699 | E1: =+A1 -> 952 | F1: =+B1 -> 41699
A2: SODEXO | B2: Nombre | C2: TOTAL | E2: AWARDS | F2: Nombre | G2: TOTAL | K2: CHEQUES SHOPPING | L2: Nombre | M2: TOTAL
A3: =+'TOTAL GENERAL'!A3 -> 1 | E3: =+'TOTAL GENERAL'!E3 -> 0.6 | G3: =+E3*F3 -> 0
A4: =+'TOTAL GENERAL'!A4 -> 1.28 | C4: =+A4*B4 -> 0 | E4: =+'TOTAL GENERAL'!E4 -> 1 | F4: 1 | G4: =+E4*F4 -> 1 | K4: 5 | L4: 0 | M4: =+K4*L4 -> 0
A5: =+'TOTAL GENERAL'!A5 -> 2 | C5: =+A5*B5 -> 0 | E5: =+'TOTAL GENERAL'!E5 -> 2 | G5: =+E5*F5 -> 0 | K5: 10 | L5: 0 | M5: =+K5*L5 -> 0
A6: =+'TOTAL GENERAL'!A6 -> 3.5 | E6: =+'TOTAL GENERAL'!E6 -> 2.5 | G6: =+E6*F6 -> 0
A7: =+'TOTAL GENERAL'!A7 -> 4 | C7: =+A7*B7 -> 0 | E7: =+'TOTAL GENERAL'!E7 -> 3 | G7: =+E7*F7 -> 0 | K7: 12.5 | L7: 0 | M7: =+K7*L7 -> 0
A8: =+'TOTAL GENERAL'!A8 -> 4.2 | C8: =+A8*B8 -> 0 | E8: =+'TOTAL GENERAL'!E8 -> 4 | G8: =+E8*F8 -> 0 | K8: 15 | L8: 0 | M8: =+K8*L8 -> 0
A9: =+'TOTAL GENERAL'!A9 -> 5 | B9: 1 | C9: =+A9*B9 -> 5 | E9: =+'TOTAL GENERAL'!E9 -> 5 | F9: 1 | G9: =+E9*F9 -> 5 | K9: 20 | L9: 0 | M9: =+K9*L9 -> 0
A10: =+'TOTAL GENERAL'!A10 -> 6.25 | C10: =+A10*B10 -> 0 | E10: =+'TOTAL GENERAL'!E10 -> 6 | G10: =+E10*F10 -> 0 | K10: 25 | L10: 0 | M10: =+K10*L10 -> 0
A11: =+'TOTAL GENERAL'!A11 -> 7 | C11: =+A11*B11 -> 0 | E11: =+'TOTAL GENERAL'!E11 -> 7 | G11: =+E11*F11 -> 0 | K11: 30 | L11: 0 | M11: =+K11*L11 -> 0
A12: =+'TOTAL GENERAL'!A12 -> 7.5 | C12: =+A12*B12 -> 0 | E12: =+'TOTAL GENERAL'!E12 -> 10 | G12: =+E12*F12 -> 0 | K12: 35 | L12: 0 | M12: =+K12*L12 -> 0
A13: =+'TOTAL GENERAL'!A13 -> 8.75 | C13: =+A13*B13 -> 0 | E13: =+'TOTAL GENERAL'!E13 -> 12.5 | G13: =+E13*F13 -> 0 | K13: 50 | L13: 0 | M13: =+K13*L13 -> 0
A14: =+'TOTAL GENERAL'!A14 -> 10 | C14: =+A14*B14 -> 0 | E14: =+'TOTAL GENERAL'!E14 -> 15 | G14: =+E14*F14 -> 0 | M14: =+K14*L14 -> 0
A15: =+'TOTAL GENERAL'!A15 -> 12 | C15: =+A15*B15 -> 0 | E15: =+'TOTAL GENERAL'!E15 -> 17.5 | F15: 6 | G15: =+E15*F15 -> 105 | M15: =+K15*L15 -> 0
A16: =+'TOTAL GENERAL'!A16 -> 12.39 | C16: =+A16*B16 -> 0 | E16: =+'TOTAL GENERAL'!E16 -> 20 | F16: 1 | G16: =+E16*F16 -> 20 | M16: =+K16*L16 -> 0
A17: =+'TOTAL GENERAL'!A17 -> 12.4 | C17: =+A17*B17 -> 0 | E17: =+'TOTAL GENERAL'!E17 -> 24.79 | G17: =+E17*F17 -> 0 | M17: =+K17*L17 -> 0
A18: =+'TOTAL GENERAL'!A18 -> 12.5 | C18: =+A18*B18 -> 0 | E18: =+'TOTAL GENERAL'!E18 -> 25 | F18: 1 | G18: =+E18*F18 -> 25 | M18: =+K18*L18 -> 0
A19: =+'TOTAL GENERAL'!A19 -> 12.88 | C19: =+A19*B19 -> 0 | E19: =+'TOTAL GENERAL'!E19 -> 30 | G19: =+E19*F19 -> 0 | M19: =+K19*L19 -> 0
A20: =+'TOTAL GENERAL'!A20 -> 15 | C20: =+A20*B20 -> 0 | E20: =+'TOTAL GENERAL'!E20 -> 35 | G20: =+E20*F20 -> 0 | M20: =+K20*L20 -> 0
A21: =+'TOTAL GENERAL'!A21 -> 16 | C21: =+A21*B21 -> 0 | E21: =+'TOTAL GENERAL'!E21 -> 50 | G21: =+E21*F21 -> 0 | M21: =+K21*L21 -> 0
A22: =+'TOTAL GENERAL'!A22 -> 17.35 | C22: =+A22*B22 -> 0 | M22: =+K22*L22 -> 0
A23: =+'TOTAL GENERAL'!A23 -> 17.5 | C23: =+A23*B23 -> 0 | G23: =+E23*F23 -> 0 | M23: =+K23*L23 -> 0
A24: =+'TOTAL GENERAL'!A24 -> 18 | C24: =+A24*B24 -> 0 | G24: =+E24*F24 -> 0 | M24: =+K24*L24 -> 0
A25: =+'TOTAL GENERAL'!A25 -> 20 | B25: 1 | C25: =+A25*B25 -> 20 | G25: =+E25*F25 -> 0 | M25: =+K25*L25 -> 0
A26: =+'TOTAL GENERAL'!A26 -> 24.79 | C26: =+A26*B26 -> 0 | G26: =+E26*F26 -> 0 | M26: =+K26*L26 -> 0
A27: =+'TOTAL GENERAL'!A27 -> 25 | C27: =+A27*B27 -> 0 | G27: =+E27*F27 -> 0 | M27: =+K27*L27 -> 0
A28: =+'TOTAL GENERAL'!A28 -> 30 | C28: =+A28*B28 -> 0 | G28: =+E28*F28 -> 0 | M28: =+K28*L28 -> 0
A29: =+'TOTAL GENERAL'!A29 -> 35 | C29: =+A29*B29 -> 0 | M29: =+K29*L29 -> 0
A30: =+'TOTAL GENERAL'!A30 -> 40
A31: =+'TOTAL GENERAL'!A31 -> 50
A32: =+'TOTAL GENERAL'!A32 -> 59
A33: =+'TOTAL GENERAL'!A33 -> 60
A34: =+'TOTAL GENERAL'!A35 -> 0
A38: TOTAL | B38: =SUM(B4:B29) -> 2 | C38: =SUM(C4:C29) -> 25 | E38: TOTAL | F38: =SUM(F3:F28) -> 10 | G38: =SUM(G3:G28) -> 156 | I38: =C38+G38 -> 181 | K38: TOTAL | L38: =SUM(L4:L29) -> 0 | M38: =SUM(M4:M29) -> 0 | N38: =I38+M38 -> 181

Sheet 953
A1: 953 | B1: 41334 | E1: =+A1 -> 953 | F1: =+B1 -> 41334
A2: SODEXO | B2: Nombre | C2: TOTAL | E2: AWARDS | F2: Nombre | G2: TOTAL | K2: CHEQUES SHOPPING | L2: Nombre | M2: TOTAL
A3: 1 | B3: 0 | C3: =+A3*B3 -> 0 | E3: 0.5 | F3: 0 | G3: =+E3*F3 -> 0 | K3: 5 | L3: 0 | M3: =+K3*L3 -> 0
A4: 3 | B4: 0 | C4: =+A4*B4 -> 0 | E4: 1 | F4: 0 | G4: =+E4*F4 -> 0 | K4: 10 | L4: 0 | M4: =+K4*L4 -> 0
A5: 5 | B5: 0 | C5: =+A5*B5 -> 0 | E5: 2 | F5: 0 | G5: =+E5*F5 -> 0 | K5: 12.5 | L5: 0 | M5: =+K5*L5 -> 0
A6: 7 | B6: 0 | C6: =+A6*B6 -> 0 | E6: 2.5 | F6: 0 | G6: =+E6*F6 -> 0 | K6: 15 | L6: 0 | M6: =+K6*L6 -> 0
A7: 7.5 | B7: 0 | C7: =+A7*B7 -> 0 | E7: 3 | F7: 0 | G7: =+E7*F7 -> 0 | K7: 20 | L7: 0 | M7: =+K7*L7 -> 0
A8: 8.75 | B8: 0 | C8: =+A8*B8 -> 0 | E8: 4 | F8: 0 | G8: =+E8*F8 -> 0 | K8: 25 | L8: 0 | M8: =+K8*L8 -> 0
A9: 10 | B9: 0 | C9: =+A9*B9 -> 0 | E9: 5 | F9: 0 | G9: =+E9*F9 -> 0 | K9: 30 | L9: 0 | M9: =+K9*L9 -> 0
A10: 12 | B10: 0 | C10: =+A10*B10 -> 0 | E10: 6 | F10: 0 | G10: =+E10*F10 -> 0 | K10: 35 | L10: 0 | M10: =+K10*L10 -> 0
A11: 12.39 | B11: 0 | C11: =+A11*B11 -> 0 | E11: 7 | F11: 0 | G11: =+E11*F11 -> 0 | K11: 50 | L11: 0 | M11: =+K11*L11 -> 0
A12: 12.5 | B12: 0 | C12: =+A12*B12 -> 0 | E12: 10 | F12: 0 | G12: =+E12*F12 -> 0 | M12: =+K12*L12 -> 0
A13: 15 | B13: 0 | C13: =+A13*B13 -> 0 | E13: 12.5 | F13: 0 | G13: =+E13*F13 -> 0 | M13: =+K13*L13 -> 0
A14: 17.5 | B14: 0 | C14: =+A14*B14 -> 0 | E14: 15 | F14: 0 | G14: =+E14*F14 -> 0 | M14: =+K14*L14 -> 0
A15: 18 | B15: 0 | C15: =+A15*B15 -> 0 | E15: 17.5 | F15: 0 | G15: =+E15*F15 -> 0 | M15: =+K15*L15 -> 0
A16: 20 | B16: 0 | C16: =+A16*B16 -> 0 | E16: 20 | F16: 0 | G16: =+E16*F16 -> 0 | M16: =+K16*L16 -> 0
A17: 24.79 | B17: 0 | C17: =+A17*B17 -> 0 | E17: 24.79 | F17: 0 | G17: =+E17*F17 -> 0 | M17: =+K17*L17 -> 0
A18: 25 | B18: 0 | C18: =+A18*B18 -> 0 | E18: 25 | F18: 0 | G18: =+E18*F18 -> 0 | M18: =+K18*L18 -> 0
A19: 30 | B19: 0 | C19: =+A19*B19 -> 0 | E19: 30 | F19: 0 | G19: =+E19*F19 -> 0 | M19: =+K19*L19 -> 0
A20: 35 | B20: 0 | C20: =+A20*B20 -> 0 | E20: 35 | F20: 0 | G20: =+E20*F20 -> 0 | M20: =+K20*L20 -> 0
A21: 40 | B21: 0 | C21: =+A21*B21 -> 0 | E21: 50 | F21: 0 | G21: =+E21*F21 -> 0 | M21: =+K21*L21 -> 0
A22: 50 | B22: 0 | C22: =+A22*B22 -> 0 | F22: 0 | G22: =+E22*F22 -> 0 | M22: =+K22*L22 -> 0
A23: 59 | B23: 0 | C23: =+A23*B23 -> 0 | F23: 0 | G23: =+E23*F23 -> 0 | M23: =+K23*L23 -> 0
A24: 60 | B24: 0 | C24: =+A24*B24 -> 0 | F24: 0 | G24: =+E24*F24 -> 0 | M24: =+K24*L24 -> 0
A25: 16 | B25: 0 | C25: =+A25*B25 -> 0 | F25: 0 | G25: =+E25*F25 -> 0 | M25: =+K25*L25 -> 0
A26: 4.2 | B26: 0 | C26: =+A26*B26 -> 0 | F26: 0 | G26: =+E26*F26 -> 0 | M26: =+K26*L26 -> 0
A27: 6.25 | B27: 0 | C27: =+A27*B27 -> 0 | F27: 0 | G27: =+E27*F27 -> 0 | M27: =+K27*L27 -> 0
A28: TOTAL | B28: =SUM(B3:B27) -> 0 | C28: =SUM(C3:C27) -> 0 | E28: TOTAL | F28: =SUM(F3:F27) -> 0 | G28: =SUM(G3:G27) -> 0 | I28: =C28+G28 -> 0 | K28: TOTAL | L28: =SUM(L3:L27) -> 0 | M28: =SUM(M3:M27) -> 0 | N28: =I28+M28 -> 0

Sheet 981
A1: 981 | B1: ='0048'!B1 -> 41699 | E1: =+A1 -> 981 | F1: =+B1 -> 41699
A2: SODEXO | B2: Nombre | C2: TOTAL | E2: AWARDS | F2: Nombre | G2: TOTAL | K2: CHEQUES SHOPPING | L2: Nombre | M2: TOTAL
A3: =+'TOTAL GENERAL'!A3 -> 1 | E3: =+'TOTAL GENERAL'!E3 -> 0.6 | G3: =+E3*F3 -> 0
A4: =+'TOTAL GENERAL'!A4 -> 1.28 | C4: =+A4*B4 -> 0 | E4: =+'TOTAL GENERAL'!E4 -> 1 | G4: =+E4*F4 -> 0 | K4: 5 | L4: 0 | M4: =+K4*L4 -> 0
A5: =+'TOTAL GENERAL'!A5 -> 2 | C5: =+A5*B5 -> 0 | E5: =+'TOTAL GENERAL'!E5 -> 2 | G5: =+E5*F5 -> 0 | K5: 10 | L5: 0 | M5: =+K5*L5 -> 0
A6: =+'TOTAL GENERAL'!A6 -> 3.5 | C6: =+A6*B6 -> 0 | E6: =+'TOTAL GENERAL'!E6 -> 2.5 | G6: =+E6*F6 -> 0
A7: =+'TOTAL GENERAL'!A7 -> 4 | C7: =+A7*B7 -> 0 | E7: =+'TOTAL GENERAL'!E7 -> 3 | G7: =+E7*F7 -> 0 | K7: 12.5 | L7: 0 | M7: =+K7*L7 -> 0
A8: =+'TOTAL GENERAL'!A8 -> 4.2 | C8: =+A8*B8 -> 0 | E8: =+'TOTAL GENERAL'!E8 -> 4 | G8: =+E8*F8 -> 0 | K8: 15 | L8: 0 | M8: =+K8*L8 -> 0
A9: =+'TOTAL GENERAL'!A9 -> 5 | C9: =+A9*B9 -> 0 | E9: =+'TOTAL GENERAL'!E9 -> 5 | G9: =+E9*F9 -> 0 | K9: 20 | L9: 0 | M9: =+K9*L9 -> 0
A10: =+'TOTAL GENERAL'!A10 -> 6.25 | C10: =+A10*B10 -> 0 | E10: =+'TOTAL GENERAL'!E10 -> 6 | G10: =+E10*F10 -> 0 | K10: 25 | L10: 0 | M10: =+K10*L10 -> 0
A11: =+'TOTAL GENERAL'!A11 -> 7 | C11: =+A11*B11 -> 0 | E11: =+'TOTAL GENERAL'!E11 -> 7 | G11: =+E11*F11 -> 0 | K11: 30 | L11: 0 | M11: =+K11*L11 -> 0
A12: =+'TOTAL GENERAL'!A12 -> 7.5 | C12: =+A12*B12 -> 0 | E12: =+'TOTAL GENERAL'!E12 -> 10 | G12: =+E12*F12 -> 0 | K12: 35 | L12: 0 | M12: =+K12*L12 -> 0
A13: =+'TOTAL GENERAL'!A13 -> 8.75 | C13: =+A13*B13 -> 0 | E13: =+'TOTAL GENERAL'!E13 -> 12.5 | G13: =+E13*F13 -> 0 | K13: 50 | L13: 0 | M13: =+K13*L13 -> 0
A14: =+'TOTAL GENERAL'!A14 -> 10 | C14: =+A14*B14 -> 0 | E14: =+'TOTAL GENERAL'!E14 -> 15 | G14: =+E14*F14 -> 0 | M14: =+K14*L14 -> 0
A15: =+'TOTAL GENERAL'!A15 -> 12 | C15: =+A15*B15 -> 0 | E15: =+'TOTAL GENERAL'!E15 -> 17.5 | G15: =+E15*F15 -> 0 | M15: =+K15*L15 -> 0
A16: =+'TOTAL GENERAL'!A16 -> 12.39 | C16: =+A16*B16 -> 0 | E16: =+'TOTAL GENERAL'!E16 -> 20 | G16: =+E16*F16 -> 0 | M16: =+K16*L16 -> 0
A17: =+'TOTAL GENERAL'!A17 -> 12.4 | C17: =+A17*B17 -> 0 | E17: =+'TOTAL GENERAL'!E17 -> 24.79 | G17: =+E17*F17 -> 0 | M17: =+K17*L17 -> 0
A18: =+'TOTAL GENERAL'!A18 -> 12.5 | C18: =+A18*B18 -> 0 | E18: =+'TOTAL GENERAL'!E18 -> 25 | G18: =+E18*F18 -> 0 | M18: =+K18*L18 -> 0
A19: =+'TOTAL GENERAL'!A19 -> 12.88 | E19: =+'TOTAL GENERAL'!E19 -> 30 | G19: =+E19*F19 -> 0 | M19: =+K19*L19 -> 0
A20: =+'TOTAL GENERAL'!A20 -> 15 | C20: =+A20*B20 -> 0 | E20: =+'TOTAL GENERAL'!E20 -> 35 | G20: =+E20*F20 -> 0 | M20: =+K20*L20 -> 0
A21: =+'TOTAL GENERAL'!A21 -> 16 | C21: =+A21*B21 -> 0 | E21: =+'TOTAL GENERAL'!E21 -> 50 | G21: =+E21*F21 -> 0 | M21: =+K21*L21 -> 0
A22: =+'TOTAL GENERAL'!A22 -> 17.35 | C22: =+A22*B22 -> 0 | E22: =+'TOTAL GENERAL'!E24 -> 0 | G22: =+E22*F22 -> 0 | M22: =+K22*L22 -> 0
A23: =+'TOTAL GENERAL'!A23 -> 17.5 | C23: =+A23*B23 -> 0 | M23: =+K23*L23 -> 0
A24: =+'TOTAL GENERAL'!A24 -> 18 | C24: =+A24*B24 -> 0 | G24: =+E24*F24 -> 0 | M24: =+K24*L24 -> 0
A25: =+'TOTAL GENERAL'!A25 -> 20 | C25: =+A25*B25 -> 0 | G25: =+E25*F25 -> 0 | M25: =+K25*L25 -> 0
A26: =+'TOTAL GENERAL'!A26 -> 24.79 | C26: =+A26*B26 -> 0 | G26: =+E26*F26 -> 0 | M26: =+K26*L26 -> 0
A27: =+'TOTAL GENERAL'!A27 -> 25 | C27: =+A27*B27 -> 0 | G27: =+E27*F27 -> 0 | M27: =+K27*L27 -> 0
A28: =+'TOTAL GENERAL'!A28 -> 30 | C28: =+A28*B28 -> 0 | G28: =+E28*F28 -> 0 | M28: =+K28*L28 -> 0
A29: =+'TOTAL GENERAL'!A29 -> 35 | C29: =+A29*B29 -> 0 | M29: =+K29*L29 -> 0
A30: =+'TOTAL GENERAL'!A30 -> 40 | C30: =+A30*B30 -> 0
A31: =+'TOTAL GENERAL'!A31 -> 50 | C31: =+A31*B31 -> 0
A32: =+'TOTAL GENERAL'!A32 -> 59 | C32: =+A32*B32 -> 0
A33: =+'TOTAL GENERAL'!A33 -> 60
A38: TOTAL | B38: =SUM(B4:B32) -> 0 | C38: =SUM(C4:C32) -> 0 | E38: TOTAL | F38: =SUM(F3:F28) -> 0 | G38: =SUM(G3:G28) -> 0 | I38: =C38+G38 -> 0 | K38: TOTAL | L38: =SUM(L4:L29) -> 0 | M38: =SUM(M4:M29) -> 0 | N38: =I38+M38 -> 0

Sheet 993
A1: 993 | B1: ='0048'!B1 -> 41699 | E1: =+A1 -> 993 | F1: =+B1 -> 41699
A2: SODEXO | B2: Nombre | C2: TOTAL | E2: AWARDS | F2: Nombre | G2: TOTAL | K2: CHEQUES SHOPPING | L2: Nombre | M2: TOTAL
A3: =+'TOTAL GENERAL'!A3 -> 1 | E3: =+'TOTAL GENERAL'!E3 -> 0.6 | G3: =+E3*F3 -> 0
A4: =+'TOTAL GENERAL'!A4 -> 1.28 | C4: =+A4*B4 -> 0 | E4: =+'TOTAL GENERAL'!E4 -> 1 | G4: =+E4*F4 -> 0 | K4: 5 | L4: 0 | M4: =+K4*L4 -> 0
A5: =+'TOTAL GENERAL'!A5 -> 2 | C5: =+A5*B5 -> 0 | E5: =+'TOTAL GENERAL'!E5 -> 2 | G5: =+E5*F5 -> 0 | K5: 10 | L5: 0 | M5: =+K5*L5 -> 0
A6: =+'TOTAL GENERAL'!A6 -> 3.5 | E6: =+'TOTAL GENERAL'!E6 -> 2.5 | G6: =+E6*F6 -> 0
A7: =+'TOTAL GENERAL'!A7 -> 4 | C7: =+A7*B7 -> 0 | E7: =+'TOTAL GENERAL'!E7 -> 3 | G7: =+E7*F7 -> 0 | K7: 12.5 | L7: 0 | M7: =+K7*L7 -> 0
A8: =+'TOTAL GENERAL'!A8 -> 4.2 | C8: =+A8*B8 -> 0 | E8: =+'TOTAL GENERAL'!E8 -> 4 | F8: 1 | G8: =+E8*F8 -> 4 | K8: 15 | L8: 0 | M8: =+K8*L8 -> 0
A9: =+'TOTAL GENERAL'!A9 -> 5 | C9: =+A9*B9 -> 0 | E9: =+'TOTAL GENERAL'!E9 -> 5 | G9: =+E9*F9 -> 0 | K9: 20 | L9: 0 | M9: =+K9*L9 -> 0
A10: =+'TOTAL GENERAL'!A10 -> 6.25 | C10: =+A10*B10 -> 0 | E10: =+'TOTAL GENERAL'!E10 -> 6 | G10: =+E10*F10 -> 0 | K10: 25 | L10: 0 | M10: =+K10*L10 -> 0
A11: =+'TOTAL GENERAL'!A11 -> 7 | C11: =+A11*B11 -> 0 | E11: =+'TOTAL GENERAL'!E11 -> 7 | G11: =+E11*F11 -> 0 | K11: 30 | L11: 0 | M11: =+K11*L11 -> 0
A12: =+'TOTAL GENERAL'!A12 -> 7.5 | C12: =+A12*B12 -> 0 | E12: =+'TOTAL GENERAL'!E12 -> 10 | F12: 5 | G12: =+E12*F12 -> 50 | K12: 35 | L12: 0 | M12: =+K12*L12 -> 0
A13: =+'TOTAL GENERAL'!A13 -> 8.75 | C13: =+A13*B13 -> 0 | E13: =+'TOTAL GENERAL'!E13 -> 12.5 | G13: =+E13*F13 -> 0 | K13: 50 | L13: 0 | M13: =+K13*L13 -> 0
A14: =+'TOTAL GENERAL'!A14 -> 10 | C14: =+A14*B14 -> 0 | E14: =+'TOTAL GENERAL'!E14 -> 15 | G14: =+E14*F14 -> 0 | M14: =+K14*L14 -> 0
A15: =+'TOTAL GENERAL'!A15 -> 12 | C15: =+A15*B15 -> 0 | E15: =+'TOTAL GENERAL'!E15 -> 17.5 | G15: =+E15*F15 -> 0 | M15: =+K15*L15 -> 0
A16: =+'TOTAL GENERAL'!A16 -> 12.39 | C16: =+A16*B16 -> 0 | E16: =+'TOTAL GENERAL'!E16 -> 20 | G16: =+E16*F16 -> 0 | M16: =+K16*L16 -> 0
A17: =+'TOTAL GENERAL'!A17 -> 12.4 | C17: =+A17*B17 -> 0 | E17: =+'TOTAL GENERAL'!E17 -> 24.79 | G17: =+E17*F17 -> 0 | M17: =+K17*L17 -> 0
A18: =+'TOTAL GENERAL'!A18 -> 12.5 | C18: =+A18*B18 -> 0 | E18: =+'TOTAL GENERAL'!E18 -> 25 | F18: 1 | G18: =+E18*F18 -> 25 | M18: =+K18*L18 -> 0
A19: =+'TOTAL GENERAL'!A19 -> 12.88 | E19: =+'TOTAL GENERAL'!E19 -> 30 | G19: =+E19*F19 -> 0 | M19: =+K19*L19 -> 0
A20: =+'TOTAL GENERAL'!A20 -> 15 | C20: =+A20*B20 -> 0 | E20: =+'TOTAL GENERAL'!E20 -> 35 | G20: =+E20*F20 -> 0 | M20: =+K20*L20 -> 0
A21: =+'TOTAL GENERAL'!A21 -> 16 | C21: =+A21*B21 -> 0 | E21: =+'TOTAL GENERAL'!E21 -> 50 | G21: =+E21*F21 -> 0 | M21: =+K21*L21 -> 0
A22: =+'TOTAL GENERAL'!A22 -> 17.35 | C22: =+A22*B22 -> 0 | G22: =+E22*F22 -> 0 | M22: =+K22*L22 -> 0
A23: =+'TOTAL GENERAL'!A23 -> 17.5 | C23: =+A23*B23 -> 0 | G23: =+E23*F23 -> 0 | M23: =+K23*L23 -> 0
A24: =+'TOTAL GENERAL'!A24 -> 18 | C24: =+A24*B24 -> 0 | G24: =+E24*F24 -> 0 | M24: =+K24*L24 -> 0
A25: =+'TOTAL GENERAL'!A25 -> 20 | C25: =+A25*B25 -> 0 | G25: =+E25*F25 -> 0 | M25: =+K25*L25 -> 0
A26: =+'TOTAL GENERAL'!A26 -> 24.79 | C26: =+A26*B26 -> 0 | G26: =+E26*F26 -> 0 | M26: =+K26*L26 -> 0
A27: =+'TOTAL GENERAL'!A27 -> 25 | C27: =+A27*B27 -> 0 | G27: =+E27*F27 -> 0 | M27: =+K27*L27 -> 0
A28: =+'TOTAL GENERAL'!A28 -> 30 | C28: =+A28*B28 -> 0 | M28: =+K28*L28 -> 0
A29: =+'TOTAL GENERAL'!A29 -> 35 | C29: =+A29*B29 -> 0 | M29: =+K29*L29 -> 0
A30: =+'TOTAL GENERAL'!A30 -> 40 | C30: =+A30*B30 -> 0
A31: =+'TOTAL GENERAL'!A31 -> 50
A32: =+'TOTAL GENERAL'!A32 -> 59
A33: =+'TOTAL GENERAL'!A33 -> 60
A34: =+'TOTAL GENERAL'!A34 -> 100
A38: TOTAL | B38: =SUM(B4:B30) -> 0 | C38: =SUM(C4:C30) -> 0 | E38: TOTAL | F38: =SUM(F3:F27) -> 7 | G38: =SUM(G3:G27) -> 79 | I38: =C38+G38 -> 79 | K38: TOTAL | L38: =SUM(L4:L29) -> 0 | M38: =SUM(M4:M29) -> 0 | N38: =I38+M38 -> 79

Sheet AUTRES
A1: AUTRES | B1: ='0048'!B1 -> 41699 | E1: =+A1 -> AUTRES | F1: =+B1 -> 41699
A2: SODEXO | B2: Nombre | C2: TOTAL | E2: AWARDS | F2: Nombre | G2: TOTAL | K2: CHEQUES SHOPPING | L2: Nombre | M2: TOTAL
