Workbook

Sheet 0048
A1: 48 | B1: 41699 | E1: =+A1 -> 48 | F1: =+B1 -> 41699
A2: SODEXO | B2: Nombre | C2: TOTAL | E2: AWARDS | F2: Nombre | G2: TOTAL | K2: CHEQUES SHOPPING | L2: Nombre | M2: TOTAL
A3: =+'TOTAL GENERAL'!A3 -> 1 | E3: =+'TOTAL GENERAL'!E3 -> 0.6 | G3: =+E3*F3 -> 0
A4: =+'TOTAL GENERAL'!A4 -> 1.28 | C4: =+A4*B4 -> 0 | E4: =+'TOTAL GENERAL'!E4 -> 1 | G4: =+E4*F4 -> 0 | K4: 5 | L4: 0 | M4: =+K4*L4 -> 0
A5: =+'TOTAL GENERAL'!A5 -> 2 | C5: =+A5*B5 -> 0 | E5: =+'TOTAL GENERAL'!E5 -> 2 | G5: =+E5*F5 -> 0 | K5: 10 | L5: 0 | M5: =+K5*L5 -> 0
A6: =+'TOTAL GENERAL'!A6 -> 3.5 | E6: =+'TOTAL GENERAL'!E6 -> 2.5 | G6: =+E6*F6 -> 0
A7: =+'TOTAL GENERAL'!A7 -> 4 | C7: =+A7*B7 -> 0 | E7: =+'TOTAL GENERAL'!E7 -> 3 | G7: =+E7*F7 -> 0 | K7: 12.5 | L7: 0 | M7: =+K7*L7 -> 0
A8: =+'TOTAL GENERAL'!A8 -> 4.2 | C8: =+A8*B8 -> 0 | E8: =+'TOTAL GENERAL'!E8 -> 4 | G8: =+E8*F8 -> 0 | K8: 15 | L8: 0 | M8: =+K8*L8 -> 0
A9: =+'TOTAL GENERAL'!A9 -> 5 | C9: =+A9*B9 -> 0 | E9: =+'TOTAL GENERAL'!E9 -> 5 | G9: =+E9*F9 -> 0 | K9: 20 | L9: 0 | M9: =+K9*L9 -> 0
A10: =+'TOTAL GENERAL'!A10 -> 6.25 | C10: =+A10*B10 -> 0 | E10: =+'TOTAL GENERAL'!E10 -> 6 | G10: =+E10*F10 -> 0 | K10: 25 | L10: 0 | M10: =+K10*L10 -> 0
A11: =+'TOTAL GENERAL'!A11 -> 7 | C11: =+A11*B11 -> 0 | E11: =+'TOTAL GENERAL'!E11 -> 7 | G11: =+E11*F11 -> 0 | K11: 30 | L11: 0 | M11: =+K11*L11 -> 0
A12: =+'TOTAL GENERAL'!A12 -> 7.5 | C12: =+A12*B12 -> 0 | E12: =+'TOTAL GENERAL'!E12 -> 10 | G12: =+E12*F12 -> 0 | K12: 35 | L12: 0 | M12: =+K12*L12 -> 0
A13: =+'TOTAL GENERAL'!A13 -> 8.75 | C13: =+A13*B13 -> 0 | E13: =+'TOTAL GENERAL'!E13 -> 12.5 | G13: =+E13*F13 -> 0 | K13: 50 | L13: 0 | M13: =+K13*L13 -> 0
A14: =+'TOTAL GENERAL'!A14 -> 10 | C14: =+A14*B14 -> 0 | E14: =+'TOTAL GENERAL'!E14 -> 15 | G14: =+E14*F14 -> 0 | M14: =+K14*L14 -> 0
A15: =+'TOTAL GENERAL'!A15 -> 12 | C15: =+A15*B15 -> 0 | E15: =+'TOTAL GENERAL'!E15 -> 17.5 | G15: =+E15*F15 -> 0 | M15: =+K15*L15 -> 0
A16: =+'TOTAL GENERAL'!A16 -> 12.39 | C16: =+A16*B16 -> 0 | E16: =+'TOTAL GENERAL'!E16 -> 20 | G16: =+E16*F16 -> 0 | M16: =+K16*L16 -> 0
A17: =+'TOTAL GENERAL'!A17 -> 12.4 | C17: =+A17*B17 -> 0 | E17: =+'TOTAL GENERAL'!E17 -> 24.79 | G17: =+E17*F17 -> 0 | M17: =+K17*L17 -> 0
A18: =+'TOTAL GENERAL'!A18 -> 12.5 | C18: =+A18*B18 -> 0 | E18: =+'TOTAL GENERAL'!E18 -> 25 | G18: =+E18*F18 -> 0 | M18: =+K18*L18 -> 0
A19: =+'TOTAL GENERAL'!A19 -> 12.88 | C19: =+A19*B19 -> 0 | E19: =+'TOTAL GENERAL'!E19 -> 30 | G19: =+E19*F19 -> 0 | M19: =+K19*L19 -> 0
A20: =+'TOTAL GENERAL'!A20 -> 15 | C20: =+A20*B20 -> 0 | E20: =+'TOTAL GENERAL'!E20 -> 35 | G20: =+E20*F20 -> 0 | M20: =+K20*L20 -> 0
A21: =+'TOTAL GENERAL'!A21 -> 16 | C21: =+A21*B21 -> 0 | E21: =+'TOTAL GENERAL'!E21 -> 50 | G21: =+E21*F21 -> 0 | M21: =+K21*L21 -> 0
A22: =+'TOTAL GENERAL'!A22 -> 17.35 | C22: =+A22*B22 -> 0 | E22: =+'TOTAL GENERAL'!E24 -> 0 | G22: =+E22*F22 -> 0 | M22: =+K22*L22 -> 0
A23: =+'TOTAL GENERAL'!A23 -> 17.5 | C23: =+A23*B23 -> 0 | E23: =+'TOTAL GENERAL'!E25 -> 0 | G23: =+E23*F23 -> 0 | M23: =+K23*L23 -> 0
A24: =+'TOTAL GENERAL'!A24 -> 18 | C24: =+A24*B24 -> 0 | M24: =+K24*L24 -> 0
A25: =+'TOTAL GENERAL'!A25 -> 20 | C25: =+A25*B25 -> 0 | M25: =+K25*L25 -> 0
A26: =+'TOTAL GENERAL'!A26 -> 24.79 | C26: =+A26*B26 -> 0 | E26: =+'TOTAL GENERAL'!E26 -> 0 | G26: =+E26*F26 -> 0 | M26: =+K26*L26 -> 0
A27: =+'TOTAL GENERAL'!A27 -> 25 | C27: =+A27*B27 -> 0 | E27: =+'TOTAL GENERAL'!E27 -> 0 | G27: =+E27*F27 -> 0 | M27: =+K27*L27 -> 0
A28: =+'TOTAL GENERAL'!A28 -> 30 | C28: =+A28*B28 -> 0 | E28: =+'TOTAL GENERAL'!E28 -> 0 | G28: =+E28*F28 -> 0 | M28: =+K28*L28 -> 0
A29: =+'TOTAL GENERAL'!A29 -> 35 | C29: =+A29*B29 -> 0 | E29: =+'TOTAL GENERAL'!E29 -> 0 | G29: =+E29*F29 -> 0 | M29: =+K29*L29 -> 0
A30: =+'TOTAL GENERAL'!A30 -> 40 | C30: =+A30*B30 -> 0 | E30: =+'TOTAL GENERAL'!E30 -> 0
A31: =+'TOTAL GENERAL'!A31 -> 50 | C31: =+A31*B31 -> 0
A32: =+'TOTAL GENERAL'!A32 -> 59
A33: =+'TOTAL GENERAL'!A33 -> 60
A34: =+'TOTAL GENERAL'!A34 -> 100
A38: =+'TOTAL GENERAL'!A36 -> TOTAL | B38: =SUM(B4:B33) -> 0 | C38: =SUM(C4:C33) -> 0 | E38: =+'TOTAL GENERAL'!E36 -> TOTAL | F38: =SUM(F3:F32) -> 0 | G38: =SUM(G3:G32) -> 0 | K38: =+'TOTAL GENERAL'!K36 -> TOTAL | L38: =SUM(L4:L32) -> 0 | M38: =SUM(M4:M32) -> 0 | N38: =+C38+G38+M38 -> 0

Sheet 0065
A1: 65 | B1: ='0048'!B1 -> 41699 | E1: =+A1 -> 65 | F1: =+B1 -> 41699
A2: SODEXO | B2: Nombre | C2: TOTAL | E2: AWARDS | F2: Nombre | G2: TOTAL | K2: CHEQUES SHOPPING | L2: Nombre | M2: TOTAL
A3: =+'TOTAL GENERAL'!A3 -> 1 | E3: =+'TOTAL GENERAL'!E3 -> 0.6 | G3: =+E3*F3 -> 0
A4: =+'TOTAL GENERAL'!A4 -> 1.28 | C4: =+A4*B4 -> 0 | E4: =+'TOTAL GENERAL'!E4 -> 1 | G4: =+E4*F4 -> 0 | K4: 5 | L4: 0 | M4: =+K4*L4 -> 0
A5: =+'TOTAL GENERAL'!A5 -> 2 | E5: =+'TOTAL GENERAL'!E5 -> 2 | G5: =+E5*F5 -> 0 | K5: 10 | L5: 0 | M5: =+K5*L5 -> 0
A6: =+'TOTAL GENERAL'!A6 -> 3.5 | E6: =+'TOTAL GENERAL'!E6 -> 2.5 | G6: =+E6*F6 -> 0
A7: =+'TOTAL GENERAL'!A7 -> 4 | C7: =+A7*B7 -> 0 | E7: =+'TOTAL GENERAL'!E7 -> 3 | G7: =+E7*F7 -> 0 | K7: 12.5 | L7: 0 | M7: =+K7*L7 -> 0
A8: =+'TOTAL GENERAL'!A8 -> 4.2 | C8: =+A8*B8 -> 0 | E8: =+'TOTAL GENERAL'!E8 -> 4 | G8: =+E8*F8 -> 0 | K8: 15 | L8: 0 | M8: =+K8*L8 -> 0
A9: =+'TOTAL GENERAL'!A9 -> 5 | C9: =+A9*B9 -> 0 | E9: =+'TOTAL GENERAL'!E9 -> 5 | G9: =+E9*F9 -> 0 | K9: 20 | L9: 0 | M9: =+K9*L9 -> 0
A10: =+'TOTAL GENERAL'!A10 -> 6.25 | C10: =+A10*B10 -> 0 | E10: =+'TOTAL GENERAL'!E10 -> 6 | G10: =+E10*F10 -> 0 | K10: 25 | L10: 0 | M10: =+K10*L10 -> 0
A11: =+'TOTAL GENERAL'!A11 -> 7 | C11: =+A11*B11 -> 0 | E11: =+'TOTAL GENERAL'!E11 -> 7 | G11: =+E11*F11 -> 0 | K11: 30 | L11: 0 | M11: =+K11*L11 -> 0
A12: =+'TOTAL GENERAL'!A12 -> 7.5 | C12: =+A12*B12 -> 0 | E12: =+'TOTAL GENERAL'!E12 -> 10 | G12: =+E12*F12 -> 0 | K12: 35 | L12: 0 | M12: =+K12*L12 -> 0
A13: =+'TOTAL GENERAL'!A13 -> 8.75 | C13: =+A13*B13 -> 0 | E13: =+'TOTAL GENERAL'!E13 -> 12.5 | G13: =+E13*F13 -> 0 | K13: 50 | L13: 0 | M13: =+K13*L13 -> 0
A14: =+'TOTAL GENERAL'!A14 -> 10 | C14: =+A14*B14 -> 0 | E14: =+'TOTAL GENERAL'!E14 -> 15 | G14: =+E14*F14 -> 0 | M14: =+K14*L14 -> 0
A15: =+'TOTAL GENERAL'!A15 -> 12 | C15: =+A15*B15 -> 0 | E15: =+'TOTAL GENERAL'!E15 -> 17.5 | G15: =+E15*F15 -> 0 | M15: =+K15*L15 -> 0
A16: =+'TOTAL GENERAL'!A16 -> 12.39 | C16: =+A16*B16 -> 0 | E16: =+'TOTAL GENERAL'!E16 -> 20 | G16: =+E16*F16 -> 0 | M16: =+K16*L16 -> 0
A17: =+'TOTAL GENERAL'!A17 -> 12.4 | C17: =+A17*B17 -> 0 | E17: =+'TOTAL GENERAL'!E17 -> 24.79 | G17: =+E17*F17 -> 0 | M17: =+K17*L17 -> 0
A18: =+'TOTAL GENERAL'!A18 -> 12.5 | C18: =+A18*B18 -> 0 | E18: =+'TOTAL GENERAL'!E18 -> 25 | G18: =+E18*F18 -> 0 | M18: =+K18*L18 -> 0
A19: =+'TOTAL GENERAL'!A19 -> 12.88 | C19: =+A19*B19 -> 0 | E19: =+'TOTAL GENERAL'!E19 -> 30 | G19: =+E19*F19 -> 0 | M19: =+K19*L19 -> 0
A20: =+'TOTAL GENERAL'!A20 -> 15 | C20: =+A20*B20 -> 0 | E20: =+'TOTAL GENERAL'!E20 -> 35 | G20: =+E20*F20 -> 0 | M20: =+K20*L20 -> 0
A21: =+'TOTAL GENERAL'!A21 -> 16 | C21: =+A21*B21 -> 0 | E21: =+'TOTAL GENERAL'!E21 -> 50 | G21: =+E21*F21 -> 0 | M21: =+K21*L21 -> 0
A22: =+'TOTAL GENERAL'!A22 -> 17.35 | C22: =+A22*B22 -> 0 | E22: =+'TOTAL GENERAL'!E22 -> 0 | G22: =+E22*F22 -> 0 | M22: =+K22*L22 -> 0
A23: =+'TOTAL GENERAL'!A23 -> 17.5 | C23: =+A23*B23 -> 0 | G23: =+E23*F23 -> 0 | M23: =+K23*L23 -> 0
A24: =+'TOTAL GENERAL'!A24 -> 18 | C24: =+A24*B24 -> 0 | G24: =+E24*F24 -> 0 | M24: =+K24*L24 -> 0
A25: =+'TOTAL GENERAL'!A25 -> 20 | C25: =+A25*B25 -> 0 | G25: =+E25*F25 -> 0 | M25: =+K25*L25 -> 0
A26: =+'TOTAL GENERAL'!A26 -> 24.79 | C26: =+A26*B26 -> 0 | G26: =+E26*F26 -> 0 | M26: =+K26*L26 -> 0
A27: =+'TOTAL GENERAL'!A27 -> 25 | C27: =+A27*B27 -> 0 | G27: =+E27*F27 -> 0 | M27: =+K27*L27 -> 0
A28: =+'TOTAL GENERAL'!A28 -> 30 | C28: =+A28*B28 -> 0 | M28: =+K28*L28 -> 0
A29: =+'TOTAL GENERAL'!A29 -> 35 | C29: =+A29*B29 -> 0 | M29: =+K29*L29 -> 0
A30: =+'TOTAL GENERAL'!A30 -> 40 | C30: =+A30*B30 -> 0
A31: =+'TOTAL GENERAL'!A31 -> 50 | C31: =+A31*B31 -> 0
A32: =+'TOTAL GENERAL'!A32 -> 59 | C32: =+A32*B32 -> 0
A33: =+'TOTAL GENERAL'!A33 -> 60
A34: =+'TOTAL GENERAL'!A34 -> 100
A38: TOTAL | B38: =SUM(B4:B32) -> 0 | C38: =SUM(C4:C32) -> 0 | E38: TOTAL | F38: =SUM(F3:F27) -> 0 | G38: =SUM(G3:G27) -> 0 | I38: =C38+G38 -> 0 | K38: TOTAL | L38: =SUM(L4:L29) -> 0 | M38: =SUM(M4:M29) -> 0 | N38: =I38+M38 -> 0

Sheet 0728
A1: 728 | B1: ='0048'!B1 -> 41699 | E1: =+A1 -> 728 | F1: =+B1 -> 41699
A2: SODEXO | B2: Nombre | C2: TOTAL | E2: AWARDS | F2: Nombre | G2: TOTAL | K2: CHEQUES SHOPPING | L2: Nombre | M2: TOTAL
A3: =+'TOTAL GENERAL'!A3 -> 1 | E3: =+'TOTAL GENERAL'!E3 -> 0.6 | G3: =+E3*F3 -> 0
A4: =+'TOTAL GENERAL'!A4 -> 1.28 | C4: =+A4*B4 -> 0 | E4: =+'TOTAL GENERAL'!E4 -> 1 | G4: =+E4*F4 -> 0 | K4: 5 | L4: 0 | M4: =+K4*L4 -> 0
A5: =+'TOTAL GENERAL'!A5 -> 2 | C5: =+A5*B5 -> 0 | E5: =+'TOTAL GENERAL'!E5 -> 2 | G5: =+E5*F5 -> 0 | K5: 10 | L5: 0 | M5: =+K5*L5 -> 0
A6: =+'TOTAL GENERAL'!A6 -> 3.5 | E6: =+'TOTAL GENERAL'!E6 -> 2.5 | G6: =+E6*F6 -> 0
A7: =+'TOTAL GENERAL'!A7 -> 4 | C7: =+A7*B7 -> 0 | E7: =+'TOTAL GENERAL'!E7 -> 3 | G7: =+E7*F7 -> 0 | K7: 12.5 | L7: 0 | M7: =+K7*L7 -> 0
A8: =+'TOTAL GENERAL'!A8 -> 4.2 | C8: =+A8*B8 -> 0 | E8: =+'TOTAL GENERAL'!E8 -> 4 | G8: =+E8*F8 -> 0 | K8: 15 | L8: 0 | M8: =+K8*L8 -> 0
A9: =+'TOTAL GENERAL'!A9 -> 5 | C9: =+A9*B9 -> 0 | E9: =+'TOTAL GENERAL'!E9 -> 5 | G9: =+E9*F9 -> 0 | K9: 20 | L9: 0 | M9: =+K9*L9 -> 0
A10: =+'TOTAL GENERAL'!A10 -> 6.25 | C10: =+A10*B10 -> 0 | E10: =+'TOTAL GENERAL'!E10 -> 6 | G10: =+E10*F10 -> 0 | K10: 25 | L10: 0 | M10: =+K10*L10 -> 0
A11: =+'TOTAL GENERAL'!A11 -> 7 | C11: =+A11*B11 -> 0 | E11: =+'TOTAL GENERAL'!E11 -> 7 | G11: =+E11*F11 -> 0 | K11: 30 | L11: 0 | M11: =+K11*L11 -> 0
A12: =+'TOTAL GENERAL'!A12 -> 7.5 | C12: =+A12*B12 -> 0 | E12: =+'TOTAL GENERAL'!E12 -> 10 | G12: =+E12*F12 -> 0 | K12: 35 | L12: 0 | M12: =+K12*L12 -> 0
A13: =+'TOTAL GENERAL'!A13 -> 8.75 | C13: =+A13*B13 -> 0 | E13: =+'TOTAL GENERAL'!E13 -> 12.5 | G13: =+E13*F13 -> 0 | K13: 50 | L13: 0 | M13: =+K13*L13 -> 0
A14: =+'TOTAL GENERAL'!A14 -> 10 | B14: 5 | C14: =+A14*B14 -> 50 | E14: =+'TOTAL GENERAL'!E14 -> 15 | G14: =+E14*F14 -> 0 | M14: =+K14*L14 -> 0
A15: =+'TOTAL GENERAL'!A15 -> 12 | C15: =+A15*B15 -> 0 | E15: =+'TOTAL GENERAL'!E15 -> 17.5 | G15: =+E15*F15 -> 0 | M15: =+K15*L15 -> 0
A16: =+'TOTAL GENERAL'!A16 -> 12.39 | C16: =+A16*B16 -> 0 | E16: =+'TOTAL GENERAL'!E16 -> 20 | G16: =+E16*F16 -> 0 | M16: =+K16*L16 -> 0
A17: =+'TOTAL GENERAL'!A17 -> 12.4 | C17: =+A17*B17 -> 0 | E17: =+'TOTAL GENERAL'!E17 -> 24.79 | G17: =+E17*F17 -> 0 | M17: =+K17*L17 -> 0
A18: =+'TOTAL GENERAL'!A18 -> 12.5 | C18: =+A18*B18 -> 0 | E18: =+'TOTAL GENERAL'!E18 -> 25 | G18: =+E18*F18 -> 0 | M18: =+K18*L18 -> 0
A19: =+'TOTAL GENERAL'!A19 -> 12.88 | C19: =+A19*B19 -> 0 | E19: =+'TOTAL GENERAL'!E19 -> 30 | G19: =+E19*F19 -> 0 | M19: =+K19*L19 -> 0
A20: =+'TOTAL GENERAL'!A20 -> 15 | C20: =+A20*B20 -> 0 | E20: =+'TOTAL GENERAL'!E20 -> 35 | F20: 1 | G20: =+E20*F20 -> 35 | M20: =+K20*L20 -> 0
A21: =+'TOTAL GENERAL'!A21 -> 16 | C21: =+A21*B21 -> 0 | E21: =+'TOTAL GENERAL'!E21 -> 50 | G21: =+E21*F21 -> 0 | M21: =+K21*L21 -> 0
A22: =+'TOTAL GENERAL'!A22 -> 17.35 | C22: =+A22*B22 -> 0 | E22: =+'TOTAL GENERAL'!E24 -> 0 | G22: =+E22*F22 -> 0 | M22: =+K22*L22 -> 0
A23: =+'TOTAL GENERAL'!A23 -> 17.5 | C23: =+A23*B23 -> 0 | G23: =+E23*F23 -> 0 | M23: =+K23*L23 -> 0
A24: =+'TOTAL GENERAL'!A24 -> 18 | C24: =+A24*B24 -> 0 | G24: =+E24*F24 -> 0 | M24: =+K24*L24 -> 0
A25: =+'TOTAL GENERAL'!A25 -> 20 | C25: =+A25*B25 -> 0 | G25: =+E25*F25 -> 0 | M25: =+K25*L25 -> 0
A26: =+'TOTAL GENERAL'!A26 -> 24.79 | C26: =+A26*B26 -> 0 | G26: =+E26*F26 -> 0 | M26: =+K26*L26 -> 0
A27: =+'TOTAL GENERAL'!A27 -> 25 | C27: =+A27*B27 -> 0 | G27: =+E27*F27 -> 0 | M27: =+K27*L27 -> 0
A28: =+'TOTAL GENERAL'!A28 -> 30 | C28: =+A28*B28 -> 0 | M28: =+K28*L28 -> 0
A29: =+'TOTAL GENERAL'!A29 -> 35 | C29: =+A29*B29 -> 0 | M29: =+K29*L29 -> 0
A30: =+'TOTAL GENERAL'!A30 -> 40 | C30: =+A30*B30 -> 0
A31: =+'TOTAL GENERAL'!A31 -> 50 | C31: =+A31*B31 -> 0
A32: =+'TOTAL GENERAL'!A32 -> 59 | C32: =+A32*B32 -> 0
A33: =+'TOTAL GENERAL'!A33 -> 60 | C33: =+A33*B33 -> 0
A34: =+'TOTAL GENERAL'!A35 -> 0
A38: TOTAL | B38: =SUM(B4:B29) -> 5 | C38: =SUM(C4:C29) -> 50 | E38: TOTAL | F38: =SUM(F3:F27) -> 1 | G38: =SUM(G3:G27) -> 35 | I38: =C38+G38 -> 85 | K38: TOTAL | L38: =SUM(L4:L29) -> 0 | M38: =SUM(M4:M29) -> 0 | N38: =I38+M38 -> 85

Sheet 0737
A1: 737 | B1: ='0048'!B1 -> 41699 | E1: =+A1 -> 737 | F1: =+B1 -> 41699
A2: SODEXO | B2: Nombre | C2: TOTAL | E2: AWARDS | F2: Nombre | G2: TOTAL | K2: CHEQUES SHOPPING | L2: Nombre | M2: TOTAL
A3: =+'TOTAL GENERAL'!A3 -> 1 | E3: =+'TOTAL GENERAL'!E3 -> 0.6 | G3: =+E3*F3 -> 0
A4: =+'TOTAL GENERAL'!A4 -> 1.28 | C4: =+A4*B4 -> 0 | E4: =+'TOTAL GENERAL'!E4 -> 1 | G4: =+E4*F4 -> 0 | K4: 5 | L4: 0 | M4: =+K4*L4 -> 0
A5: =+'TOTAL GENERAL'!A5 -> 2 | C5: =+A5*B5 -> 0 | E5: =+'TOTAL GENERAL'!E5 -> 2 | G5: =+E5*F5 -> 0 | K5: 10 | L5: 0 | M5: =+K5*L5 -> 0
A6: =+'TOTAL GENERAL'!A6 -> 3.5 | C6: =+A6*B6 -> 0 | E6: =+'TOTAL GENERAL'!E6 -> 2.5 | G6: =+E6*F6 -> 0 | K6: 12.5 | L6: 0 | M6: =+K6*L6 -> 0
A7: =+'TOTAL GENERAL'!A7 -> 4 | C7: =+A7*B7 -> 0 | E7: =+'TOTAL GENERAL'!E7 -> 3 | G7: =+E7*F7 -> 0 | K7: 15 | L7: 0 | M7: =+K7*L7 -> 0
A8: =+'TOTAL GENERAL'!A8 -> 4.2 | C8: =+A8*B8 -> 0 | E8: =+'TOTAL GENERAL'!E8 -> 4 | G8: =+E8*F8 -> 0 | K8: 20 | L8: 0 | M8: =+K8*L8 -> 0
A9: =+'TOTAL GENERAL'!A9 -> 5 | B9: 5 | C9: =+A9*B9 -> 25 | E9: =+'TOTAL GENERAL'!E9 -> 5 | F9: 3 | G9: =+E9*F9 -> 15 | K9: 25 | L9: 0 | M9: =+K9*L9 -> 0
A10: =+'TOTAL GENERAL'!A10 -> 6.25 | C10: =+A10*B10 -> 0 | E10: =+'TOTAL GENERAL'!E10 -> 6 | G10: =+E10*F10 -> 0 | K10: 30 | L10: 0 | M10: =+K10*L10 -> 0
A11: =+'TOTAL GENERAL'!A11 -> 7 | C11: =+A11*B11 -> 0 | E11: =+'TOTAL GENERAL'!E11 -> 7 | G11: =+E11*F11 -> 0 | K11: 35 | L11: 0 | M11: =+K11*L11 -> 0
A12: =+'TOTAL GENERAL'!A12 -> 7.5 | C12: =+A12*B12 -> 0 | E12: =+'TOTAL GENERAL'!E12 -> 10 | F12: 3 | G12: =+E12*F12 -> 30 | K12: 50 | L12: 0 | M12: =+K12*L12 -> 0
A13: =+'TOTAL GENERAL'!A13 -> 8.75 | C13: =+A13*B13 -> 0 | E13: =+'TOTAL GENERAL'!E13 -> 12.5 | G13: =+E13*F13 -> 0 | M13: =+K13*L13 -> 0
A14: =+'TOTAL GENERAL'!A14 -> 10 | B14: 3 | C14: =+A14*B14 -> 30 | E14: =+'TOTAL GENERAL'!E14 -> 15 | G14: =+E14*F14 -> 0 | M14: =+K14*L14 -> 0
A15: =+'TOTAL GENERAL'!A15 -> 12 | C15: =+A15*B15 -> 0 | E15: =+'TOTAL GENERAL'!E15 -> 17.5 | F15: 2 | G15: =+E15*F15 -> 35 | M15: =+K15*L15 -> 0
A16: =+'TOTAL GENERAL'!A16 -> 12.39 | C16: =+A16*B16 -> 0 | E16: =+'TOTAL GENERAL'!E16 -> 20 | G16: =+E16*F16 -> 0 | M16: =+K16*L16 -> 0
A17: =+'TOTAL GENERAL'!A17 -> 12.4 | C17: =+A17*B17 -> 0 | E17: =+'TOTAL GENERAL'!E17 -> 24.79 | G17: =+E17*F17 -> 0 | M17: =+K17*L17 -> 0
A18: =+'TOTAL GENERAL'!A18 -> 12.5 | C18: =+A18*B18 -> 0 | E18: =+'TOTAL GENERAL'!E18 -> 25 | F18: 2 | G18: =+E18*F18 -> 50 | M18: =+K18*L18 -> 0
A19: =+'TOTAL GENERAL'!A19 -> 12.88 | C19: =+A19*B19 -> 0 | E19: =+'TOTAL GENERAL'!E19 -> 30 | G19: =+E19*F19 -> 0 | M19: =+K19*L19 -> 0
A20: =+'TOTAL GENERAL'!A20 -> 15 | B20: 1 | C20: =+A20*B20 -> 15 | E20: =+'TOTAL GENERAL'!E20 -> 35 | G20: =+E20*F20 -> 0 | M20: =+K20*L20 -> 0
A21: =+'TOTAL GENERAL'!A21 -> 16 | C21: =+A21*B21 -> 0 | E21: =+'TOTAL GENERAL'!E21 -> 50 | G21: =+E21*F21 -> 0 | M21: =+K21*L21 -> 0
A22: =+'TOTAL GENERAL'!A22 -> 17.35 | C22: =+A22*B22 -> 0 | E22: =+'TOTAL GENERAL'!E22 -> 0 | G22: =+E22*F22 -> 0 | M22: =+K22*L22 -> 0
A23: =+'TOTAL GENERAL'!A23 -> 17.5 | C23: =+A23*B23 -> 0 | G23: =+E23*F23 -> 0 | M23: =+K23*L23 -> 0
A24: =+'TOTAL GENERAL'!A24 -> 18 | C24: =+A24*B24 -> 0 | G24: =+E24*F24 -> 0 | M24: =+K24*L24 -> 0
A25: =+'TOTAL GENERAL'!A25 -> 20 | C25: =+A25*B25 -> 0 | G25: =+E25*F25 -> 0 | M25: =+K25*L25 -> 0
A26: =+'TOTAL GENERAL'!A26 -> 24.79 | C26: =+A26*B26 -> 0 | G26: =+E26*F26 -> 0 | M26: =+K26*L26 -> 0
A27: =+'TOTAL GENERAL'!A27 -> 25 | B27: 1 | C27: =+A27*B27 -> 25 | G27: =+E27*F27 -> 0 | M27: =+K27*L27 -> 0
A28: =+'TOTAL GENERAL'!A28 -> 30 | C28: =+A28*B28 -> 0 | M28: =+K28*L28 -> 0
A29: =+'TOTAL GENERAL'!A29 -> 35 | B29: 2 | C29: =+A29*B29 -> 70
A30: =+'TOTAL GENERAL'!A30 -> 40 | C30: =+A30*B30 -> 0
A31: =+'TOTAL GENERAL'!A31 -> 50
A32: =+'TOTAL GENERAL'!A32 -> 59
A33: =+'TOTAL GENERAL'!A33 -> 60
A34: =+'TOTAL GENERAL'!A35 -> 0
A37: TOTAL | B37: =SUM(B4:B30) -> 12 | C37: =SUM(C4:C30) -> 165 | E37: TOTAL | F37: =SUM(F3:F27) -> 10 | G37: =SUM(G3:G27) -> 130 | I37: =C37+G37 -> 295 | K37: TOTAL | L37: =SUM(L4:L28) -> 0 | M37: =SUM(M4:M28) -> 0 | N37: =I37+M37 -> 295

Sheet 0752
A1: 752 | B1: ='0048'!B1 -> 41699 | E1: =+A1 -> 752 | F1: =+B1 -> 41699
A2: SODEXO | B2: Nombre | C2: TOTAL | E2: AWARDS | F2: Nombre | G2: TOTAL | K2: CHEQUES SHOPPING | L2: Nombre | M2: TOTAL
A3: =+'TOTAL GENERAL'!A3 -> 1 | E3: =+'TOTAL GENERAL'!E3 -> 0.6 | G3: =+E3*F3 -> 0
A4: =+'TOTAL GENERAL'!A4 -> 1.28 | C4: =+A4*B4 -> 0 | E4: =+'TOTAL GENERAL'!E4 -> 1 | G4: =+E4*F4 -> 0 | K4: 5 | L4: 0 | M4: =+K4*L4 -> 0
A5: =+'TOTAL GENERAL'!A5 -> 2 | C5: =+A5*B5 -> 0 | E5: =+'TOTAL GENERAL'!E5 -> 2 | G5: =+E5*F5 -> 0 | K5: 10 | L5: 0 | M5: =+K5*L5 -> 0
A6: =+'TOTAL GENERAL'!A6 -> 3.5 | C6: =+A6*B6 -> 0 | E6: =+'TOTAL GENERAL'!E6 -> 2.5 | G6: =+E6*F6 -> 0 | K6: 12.5 | L6: 0 | M6: =+K6*L6 -> 0
A7: =+'TOTAL GENERAL'!A7 -> 4 | C7: =+A7*B7 -> 0 | E7: =+'TOTAL GENERAL'!E7 -> 3 | G7: =+E7*F7 -> 0 | K7: 15 | L7: 0 | M7: =+K7*L7 -> 0
A8: =+'TOTAL GENERAL'!A8 -> 4.2 | C8: =+A8*B8 -> 0 | E8: =+'TOTAL GENERAL'!E8 -> 4 | G8: =+E8*F8 -> 0 | K8: 20 | L8: 0 | M8: =+K8*L8 -> 0
A9: =+'TOTAL GENERAL'!A9 -> 5 | B9: 6 | C9: =+A9*B9 -> 30 | E9: =+'TOTAL GENERAL'!E9 -> 5 | F9: 5 | G9: =+E9*F9 -> 25 | K9: 25 | L9: 0 | M9: =+K9*L9 -> 0
A10: =+'TOTAL GENERAL'!A10 -> 6.25 | C10: =+A10*B10 -> 0 | E10: =+'TOTAL GENERAL'!E10 -> 6 | G10: =+E10*F10 -> 0 | K10: 30 | L10: 0 | M10: =+K10*L10 -> 0
A11: =+'TOTAL GENERAL'!A11 -> 7 | C11: =+A11*B11 -> 0 | E11: =+'TOTAL GENERAL'!E11 -> 7 | G11: =+E11*F11 -> 0 | K11: 35 | L11: 0 | M11: =+K11*L11 -> 0
A12: =+'TOTAL GENERAL'!A12 -> 7.5 | C12: =+A12*B12 -> 0 | E12: =+'TOTAL GENERAL'!E12 -> 10 | F12: 15 | G12: =+E12*F12 -> 150 | K12: 50 | L12: 0 | M12: =+K12*L12 -> 0
A13: =+'TOTAL GENERAL'!A13 -> 8.75 | C13: =+A13*B13 -> 0 | E13: =+'TOTAL GENERAL'!E13 -> 12.5 | G13: =+E13*F13 -> 0 | M13: =+K13*L13 -> 0
A14: =+'TOTAL GENERAL'!A14 -> 10 | B14: 6 | C14: =+A14*B14 -> 60 | E14: =+'TOTAL GENERAL'!E14 -> 15 | G14: =+E14*F14 -> 0 | M14: =+K14*L14 -> 0
A15: =+'TOTAL GENERAL'!A15 -> 12 | C15: =+A15*B15 -> 0 | E15: =+'TOTAL GENERAL'!E15 -> 17.5 | G15: =+E15*F15 -> 0 | M15: =+K15*L15 -> 0
A16: =+'TOTAL GENERAL'!A16 -> 12.39 | C16: =+A16*B16 -> 0 | E16: =+'TOTAL GENERAL'!E16 -> 20 | F16: 3 | G16: =+E16*F16 -> 60 | M16: =+K16*L16 -> 0
A17: =+'TOTAL GENERAL'!A17 -> 12.4 | C17: =+A17*B17 -> 0 | E17: =+'TOTAL GENERAL'!E17 -> 24.79 | G17: =+E17*F17 -> 0 | M17: =+K17*L17 -> 0
A18: =+'TOTAL GENERAL'!A18 -> 12.5 | C18: =+A18*B18 -> 0 | E18: =+'TOTAL GENERAL'!E18 -> 25 | G18: =+E18*F18 -> 0 | M18: =+K18*L18 -> 0
A19: =+'TOTAL GENERAL'!A19 -> 12.88 | C19: =+A19*B19 -> 0 | E19: =+'TOTAL GENERAL'!E19 -> 30 | F19: 1 | G19: =+E19*F19 -> 30 | M19: =+K19*L19 -> 0
A20: =+'TOTAL GENERAL'!A20 -> 15 | C20: =+A20*B20 -> 0 | E20: =+'TOTAL GENERAL'!E20 -> 35 | G20: =+E20*F20 -> 0 | M20: =+K20*L20 -> 0
A21: =+'TOTAL GENERAL'!A21 -> 16 | C21: =+A21*B21 -> 0 | E21: =+'TOTAL GENERAL'!E21 -> 50 | G21: =+E21*F21 -> 0 | M21: =+K21*L21 -> 0
A22: =+'TOTAL GENERAL'!A22 -> 17.35 | C22: =+A22*B22 -> 0 | E22: =+'TOTAL GENERAL'!E24 -> 0 | G22: =+E22*F22 -> 0 | M22: =+K22*L22 -> 0
A23: =+'TOTAL GENERAL'!A23 -> 17.5 | C23: =+A23*B23 -> 0 | G23: =+E23*F23 -> 0 | M23: =+K23*L23 -> 0
A24: =+'TOTAL GENERAL'!A24 -> 18 | C24: =+A24*B24 -> 0 | G24: =+E24*F24 -> 0 | M24: =+K24*L24 -> 0
A25: =+'TOTAL GENERAL'!A25 -> 20 | C25: =+A25*B25 -> 0 | G25: =+E25*F25 -> 0 | M25: =+K25*L25 -> 0
A26: =+'TOTAL GENERAL'!A26 -> 24.79 | C26: =+A26*B26 -> 0 | G26: =+E26*F26 -> 0 | M26: =+K26*L26 -> 0
A27: =+'TOTAL GENERAL'!A27 -> 25 | C27: =+A27*B27 -> 0 | G27: =+E27*F27 -> 0 | M27: =+K27*L27 -> 0
A28: =+'TOTAL GENERAL'!A28 -> 30 | C28: =+A28*B28 -> 0 | M28: =+K28*L28 -> 0
A29: =+'TOTAL GENERAL'!A29 -> 35 | B29: 2 | C29: =+A29*B29 -> 70
A30: =+'TOTAL GENERAL'!A30 -> 40
A31: =+'TOTAL GENERAL'!A31 -> 50
A32: =+'TOTAL GENERAL'!A32 -> 59
A33: =+'TOTAL GENERAL'!A33 -> 60
A34: =+'TOTAL GENERAL'!A34 -> 100
A37: TOTAL | B37: =SUM(B4:B34) -> 14 | C37: =SUM(C4:C34) -> 160 | E37: TOTAL | F37: =SUM(F3:F27) -> 24 | G37: =SUM(G3:G27) -> 265 | I37: =C37+G37 -> 425 | K37: TOTAL | L37: =SUM(L4:L28) -> 0 | M37: =SUM(M4:M28) -> 0 | N37: =I37+M37 -> 425

Sheet 0775
A1: 775 | B1: ='0048'!B1 -> 41699 | E1: =+A1 -> 775 | F1: =+B1 -> 41699
A2: SODEXO | B2: Nombre | C2: TOTAL | E2: AWARDS | F2: Nombre | G2: TOTAL | K2: CHEQUES SHOPPING | L2: Nombre | M2: TOTAL
A3: =+'TOTAL GENERAL'!A3 -> 1 | E3: =+'TOTAL GENERAL'!E3 -> 0.6 | G3: =+E3*F3 -> 0
A4: =+'TOTAL GENERAL'!A4 -> 1.28 | C4: =+A4*B4 -> 0 | E4: =+'TOTAL GENERAL'!E4 -> 1 | G4: =+E4*F4 -> 0 | K4: 5 | L4: 0 | M4: =+K4*L4 -> 0
A5: =+'TOTAL GENERAL'!A5 -> 2 | C5: =+A5*B5 -> 0 | E5: =+'TOTAL GENERAL'!E5 -> 2 | F5: 1 | G5: =+E5*F5 -> 2 | K5: 10 | L5: 0 | M5: =+K5*L5 -> 0
A6: 3.5 | C6: =+A6*B6 -> 0 | E6: =+'TOTAL GENERAL'!E6 -> 2.5 | G6: =+E6*F6 -> 0
A7: =+'TOTAL GENERAL'!A7 -> 4 | C7: =+A7*B7 -> 0 | E7: =+'TOTAL GENERAL'!E7 -> 3 | G7: =+E7*F7 -> 0 | K7: 12.5 | L7: 0 | M7: =+K7*L7 -> 0
A8: =+'TOTAL GENERAL'!A8 -> 4.2 | C8: =+A8*B8 -> 0 | E8: =+'TOTAL GENERAL'!E8 -> 4 | G8: =+E8*F8 -> 0 | K8: 15 | L8: 0 | M8: =+K8*L8 -> 0
A9: =+'TOTAL GENERAL'!A9 -> 5 | B9: =2+18 -> 20 | C9: =+A9*B9 -> 100 | E9: =+'TOTAL GENERAL'!E9 -> 5 | F9: 6 | G9: =+E9*F9 -> 30 | K9: 20 | L9: 0 | M9: =+K9*L9 -> 0
A10: =+'TOTAL GENERAL'!A10 -> 6.25 | C10: =+A10*B10 -> 0 | E10: =+'TOTAL GENERAL'!E10 -> 6 | G10: =+E10*F10 -> 0 | K10: 25 | L10: 0 | M10: =+K10*L10 -> 0
A11: =+'TOTAL GENERAL'!A11 -> 7 | C11: =+A11*B11 -> 0 | E11: =+'TOTAL GENERAL'!E11 -> 7 | G11: =+E11*F11 -> 0 | K11: 30 | L11: 0 | M11: =+K11*L11 -> 0
A12: =+'TOTAL GENERAL'!A12 -> 7.5 | C12: =+A12*B12 -> 0 | E12: =+'TOTAL GENERAL'!E12 -> 10 | F12: 4 | G12: =+E12*F12 -> 40 | K12: 35 | L12: 0 | M12: =+K12*L12 -> 0
A13: =+'TOTAL GENERAL'!A13 -> 8.75 | C13: =+A13*B13 -> 0 | E13: =+'TOTAL GENERAL'!E13 -> 12.5 | F13: 1 | G13: =+E13*F13 -> 12.5 | K13: 50 | L13: 0 | M13: =+K13*L13 -> 0
A14: =+'TOTAL GENERAL'!A14 -> 10 | C14: =+A14*B14 -> 0 | E14: =+'TOTAL GENERAL'!E14 -> 15 | G14: =+E14*F14 -> 0 | M14: =+K14*L14 -> 0
A15: =+'TOTAL GENERAL'!A15 -> 12 | C15: =+A15*B15 -> 0 | E15: =+'TOTAL GENERAL'!E15 -> 17.5 | G15: =+E15*F15 -> 0 | M15: =+K15*L15 -> 0
A16: =+'TOTAL GENERAL'!A16 -> 12.39 | C16: =+A16*B16 -> 0 | E16: =+'TOTAL GENERAL'!E16 -> 20 | G16: =+E16*F16 -> 0 | M16: =+K16*L16 -> 0
A17: =+'TOTAL GENERAL'!A17 -> 12.4 | C17: =+A17*B17 -> 0 | E17: =+'TOTAL GENERAL'!E17 -> 24.79 | G17: =+E17*F17 -> 0 | M17: =+K17*L17 -> 0
A18: =+'TOTAL GENERAL'!A18 -> 12.5 | C18: =+A18*B18 -> 0 | E18: =+'TOTAL GENERAL'!E18 -> 25 | G18: =+E18*F18 -> 0 | M18: =+K18*L18 -> 0
A19: =+'TOTAL GENERAL'!A19 -> 12.88 | C19: =+A19*B19 -> 0 | E19: =+'TOTAL GENERAL'!E19 -> 30 | G19: =+E19*F19 -> 0 | M19: =+K19*L19 -> 0
A20: =+'TOTAL GENERAL'!A20 -> 15 | B20: 2 | C20: =+A20*B20 -> 30 | E20: =+'TOTAL GENERAL'!E20 -> 35 | F20: 1 | G20: =+E20*F20 -> 35 | M20: =+K20*L20 -> 0
A21: =+'TOTAL GENERAL'!A21 -> 16 | C21: =+A21*B21 -> 0 | E21: =+'TOTAL GENERAL'!E21 -> 50 | G21: =+E21*F21 -> 0 | M21: =+K21*L21 -> 0
A22: =+'TOTAL GENERAL'!A22 -> 17.35 | C22: =+A22*B22 -> 0 | E22: =+'TOTAL GENERAL'!E24 -> 0 | G22: =+E22*F22 -> 0 | M22: =+K22*L22 -> 0
A23: =+'TOTAL GENERAL'!A23 -> 17.5 | C23: =+A23*B23 -> 0 | M23: =+K23*L23 -> 0
A24: =+'TOTAL GENERAL'!A24 -> 18 | C24: =+A24*B24 -> 0 | G24: =+E24*F24 -> 0 | M24: =+K24*L24 -> 0
A25: =+'TOTAL GENERAL'!A25 -> 20 | B25: =5+1 -> 6 | C25: =+A25*B25 -> 120 | G25: =+E25*F25 -> 0 | M25: =+K25*L25 -> 0
A26: =+'TOTAL GENERAL'!A26 -> 24.79 | C26: =+A26*B26 -> 0 | G26: =+E26*F26 -> 0 | M26: =+K26*L26 -> 0
A27: =+'TOTAL GENERAL'!A27 -> 25 | B27: 1 | C27: =+A27*B27 -> 25 | G27: =+E27*F27 -> 0 | M27: =+K27*L27 -> 0
A28: =+'TOTAL GENERAL'!A28 -> 30 | C28: =+A28*B28 -> 0 | G28: =+E28*F28 -> 0 | M28: =+K28*L28 -> 0
A29: =+'TOTAL GENERAL'!A29 -> 35 | C29: =+A29*B29 -> 0 | M29: =+K29*L29 -> 0
A30: =+'TOTAL GENERAL'!A30 -> 40 | C30: =+A30*B30 -> 0
A31: =+'TOTAL GENERAL'!A31 -> 50 | C31: =+A31*B31 -> 0
A32: =+'TOTAL GENERAL'!A32 -> 59
A33: =+'TOTAL GENERAL'!A33 -> 60
A34: =+'TOTAL GENERAL'!A34 -> 100
A38: TOTAL | B38: =SUM(B4:B31) -> 29 | C38: =SUM(C4:C31) -> 275 | E38: TOTAL | F38: =SUM(F3:F28) -> 13 | G38: =SUM(G3:G28) -> 119.5 | I38: =C38+G38 -> 394.5 | K38: TOTAL | L38: =SUM(L4:L29) -> 0 | M38: =SUM(M4:M29) -> 0 | N38: =I38+M38 -> 394.5

Sheet 0776
A1: 776 | B1: ='0048'!B1 -> 41699 | E1: =+A1 -> 776 | F1: =+B1 -> 41699
A2: SODEXO | B2: Nombre | C2: TOTAL | E2: AWARDS | F2: Nombre | G2: TOTAL | K2: CHEQUES SHOPPING | L2: Nombre | M2: TOTAL
A3: =+'TOTAL GENERAL'!A3 -> 1 | E3: =+'TOTAL GENERAL'!E3 -> 0.6 | G3: =+E3*F3 -> 0
A4: =+'TOTAL GENERAL'!A4 -> 1.28 | C4: =+A4*B4 -> 0 | E4: =+'TOTAL GENERAL'!E4 -> 1 | G4: =+E4*F4 -> 0 | K4: 5 | L4: 0 | M4: =+K4*L4 -> 0
A5: =+'TOTAL GENERAL'!A5 -> 2 | C5: =+A5*B5 -> 0 | E5: =+'TOTAL GENERAL'!E5 -> 2 | G5: =+E5*F5 -> 0 | K5: 10 | L5: 0 | M5: =+K5*L5 -> 0
A6: =+'TOTAL GENERAL'!A6 -> 3.5 | E6: =+'TOTAL GENERAL'!E6 -> 2.5 | G6: =+E6*F6 -> 0
A7: =+'TOTAL GENERAL'!A7 -> 4 | C7: =+A7*B7 -> 0 | E7: =+'TOTAL GENERAL'!E7 -> 3 | G7: =+E7*F7 -> 0 | K7: 12.5 | L7: 0 | M7: =+K7*L7 -> 0
A8: =+'TOTAL GENERAL'!A8 -> 4.2 | C8: =+A8*B8 -> 0 | E8: =+'TOTAL GENERAL'!E8 -> 4 | G8: =+E8*F8 -> 0 | K8: 15 | L8: 0 | M8: =+K8*L8 -> 0
A9: =+'TOTAL GENERAL'!A9 -> 5 | B9: 4 | C9: =+A9*B9 -> 20 | E9: =+'TOTAL GENERAL'!E9 -> 5 | G9: =+E9*F9 -> 0 | K9: 20 | L9: 0 | M9: =+K9*L9 -> 0
A10: =+'TOTAL GENERAL'!A10 -> 6.25 | C10: =+A10*B10 -> 0 | E10: =+'TOTAL GENERAL'!E10 -> 6 | G10: =+E10*F10 -> 0 | K10: 25 | L10: 0 | M10: =+K10*L10 -> 0
A11: =+'TOTAL GENERAL'!A11 -> 7 | C11: =+A11*B11 -> 0 | E11: =+'TOTAL GENERAL'!E11 -> 7 | G11: =+E11*F11 -> 0 | K11: 30 | L11: 0 | M11: =+K11*L11 -> 0
A12: =+'TOTAL GENERAL'!A12 -> 7.5 | C12: =+A12*B12 -> 0 | E12: =+'TOTAL GENERAL'!E12 -> 10 | G12: =+E12*F12 -> 0 | K12: 35 | L12: 0 | M12: =+K12*L12 -> 0
A13: =+'TOTAL GENERAL'!A13 -> 8.75 | C13: =+A13*B13 -> 0 | E13: =+'TOTAL GENERAL'!E13 -> 12.5 | F13: 11 | G13: =+E13*F13 -> 137.5 | K13: 50 | L13: 0 | M13: =+K13*L13 -> 0
A14: =+'TOTAL GENERAL'!A14 -> 10 | B14: 1 | C14: =+A14*B14 -> 10 | E14: =+'TOTAL GENERAL'!E14 -> 15 | G14: =+E14*F14 -> 0 | M14: =+K14*L14 -> 0
A15: =+'TOTAL GENERAL'!A15 -> 12 | C15: =+A15*B15 -> 0 | E15: =+'TOTAL GENERAL'!E15 -> 17.5 | G15: =+E15*F15 -> 0 | M15: =+K15*L15 -> 0
A16: =+'TOTAL GENERAL'!A16 -> 12.39 | C16: =+A16*B16 -> 0 | E16: =+'TOTAL GENERAL'!E16 -> 20 | G16: =+E16*F16 -> 0 | M16: =+K16*L16 -> 0
A17: =+'TOTAL GENERAL'!A17 -> 12.4 | C17: =+A17*B17 -> 0 | E17: =+'TOTAL GENERAL'!E17 -> 24.79 | G17: =+E17*F17 -> 0 | M17: =+K17*L17 -> 0
A18: =+'TOTAL GENERAL'!A18 -> 12.5 | C18: =+A18*B18 -> 0 | E18: =+'TOTAL GENERAL'!E18 -> 25 | G18: =+E18*F18 -> 0 | M18: =+K18*L18 -> 0
A19: =+'TOTAL GENERAL'!A19 -> 12.88 | C19: =+A19*B19 -> 0 | E19: =+'TOTAL GENERAL'!E19 -> 30 | G19: =+E19*F19 -> 0 | M19: =+K19*L19 -> 0
A20: =+'TOTAL GENERAL'!A20 -> 15 | C20: =+A20*B20 -> 0 | E20: =+'TOTAL GENERAL'!E20 -> 35 | G20: =+E20*F20 -> 0 | M20: =+K20*L20 -> 0
A21: =+'TOTAL GENERAL'!A21 -> 16 | C21: =+A21*B21 -> 0 | E21: =+'TOTAL GENERAL'!E21 -> 50 | F21: 1 | G21: =+E21*F21 -> 50 | M21: =+K21*L21 -> 0
A22: =+'TOTAL GENERAL'!A22 -> 17.35 | C22: =+A22*B22 -> 0 | E22: =+'TOTAL GENERAL'!E24 -> 0 | G22: =+E22*F22 -> 0 | M22: =+K22*L22 -> 0
A23: =+'TOTAL GENERAL'!A23 -> 17.5 | C23: =+A23*B23 -> 0 | G23: =+E23*F23 -> 0 | M23: =+K23*L23 -> 0
A24: =+'TOTAL GENERAL'!A24 -> 18 | C24: =+A24*B24 -> 0 | G24: =+E24*F24 -> 0 | M24: =+K24*L24 -> 0
A25: =+'TOTAL GENERAL'!A25 -> 20 | C25: =+A25*B25 -> 0 | G25: =+E25*F25 -> 0 | M25: =+K25*L25 -> 0
A26: =+'TOTAL GENERAL'!A26 -> 24.79 | C26: =+A26*B26 -> 0 | G26: =+E26*F26 -> 0 | M26: =+K26*L26 -> 0
A27: =+'TOTAL GENERAL'!A27 -> 25 | C27: =+A27*B27 -> 0 | G27: =+E27*F27 -> 0 | M27: =+K27*L27 -> 0
A28: =+'TOTAL GENERAL'!A28 -> 30 | C28: =+A28*B28 -> 0 | M28: =+K28*L28 -> 0
A29: =+'TOTAL GENERAL'!A29 -> 35 | B29: 1 | C29: =+A29*B29 -> 35 | M29: =+K29*L29 -> 0
A30: =+'TOTAL GENERAL'!A30 -> 40 | C30: =+A30*B30 -> 0
A31: =+'TOTAL GENERAL'!A31 -> 50 | C31: =+A31*B31 -> 0
A32: =+'TOTAL GENERAL'!A32 -> 59 | C32: =+A32*B32 -> 0
A33: =+'TOTAL GENERAL'!A33 -> 60 | C33: =+A33*B33 -> 0
A38: TOTAL | B38: =SUM(B4:B30) -> 6 | C38: =SUM(C4:C36) -> 65 | E38: TOTAL | F38: =SUM(F3:F27) -> 12 | G38: =SUM(G3:G27) -> 187.5 | I38: =C38+G38 -> 252.5 | K38: TOTAL | L38: =SUM(L4:L29) -> 0 | M38: =SUM(M4:M29) -> 0 | N38: =I38+M38 -> 252.5

Sheet 0786
A1: 786 | B1: ='0048'!B1 -> 41699 | E1: =+A1 -> 786 | F1: =+B1 -> 41699
A2: SODEXO | B2: Nombre | C2: TOTAL | E2: AWARDS | F2: Nombre | G2: TOTAL | K2: CHEQUES SHOPPING | L2: Nombre | M2: TOTAL
A3: =+'TOTAL GENERAL'!A3 -> 1 | E3: =+'TOTAL GENERAL'!E3 -> 0.6 | G3: =+E3*F3 -> 0
A4: =+'TOTAL GENERAL'!A4 -> 1.28 | C4: =+A4*B4 -> 0 | E4: =+'TOTAL GENERAL'!E4 -> 1 | G4: =+E4*F4 -> 0 | K4: 5 | L4: 0 | M4: =+K4*L4 -> 0
A5: =+'TOTAL GENERAL'!A5 -> 2 | E5: =+'TOTAL GENERAL'!E5 -> 2 | G5: =+E5*F5 -> 0 | K5: 10 | L5: 0 | M5: =+K5*L5 -> 0
A6: =+'TOTAL GENERAL'!A6 -> 3.5 | E6: =+'TOTAL GENERAL'!E6 -> 2.5 | G6: =+E6*F6 -> 0
A7: =+'TOTAL GENERAL'!A7 -> 4 | C7: =+A7*B7 -> 0 | E7: =+'TOTAL GENERAL'!E7 -> 3 | G7: =+E7*F7 -> 0 | K7: 12.5 | L7: 0 | M7: =+K7*L7 -> 0
A8: =+'TOTAL GENERAL'!A8 -> 4.2 | C8: =+A8*B8 -> 0 | E8: =+'TOTAL GENERAL'!E8 -> 4 | G8: =+E8*F8 -> 0 | K8: 15 | L8: 0 | M8: =+K8*L8 -> 0
A9: =+'TOTAL GENERAL'!A9 -> 5 | B9: 7 | C9: =+A9*B9 -> 35 | E9: =+'TOTAL GENERAL'!E9 -> 5 | G9: =+E9*F9 -> 0 | K9: 20 | L9: 0 | M9: =+K9*L9 -> 0
A10: =+'TOTAL GENERAL'!A10 -> 6.25 | C10: =+A10*B10 -> 0 | E10: =+'TOTAL GENERAL'!E10 -> 6 | G10: =+E10*F10 -> 0 | K10: 25 | L10: 0 | M10: =+K10*L10 -> 0
A11: =+'TOTAL GENERAL'!A11 -> 7 | C11: =+A11*B11 -> 0 | E11: =+'TOTAL GENERAL'!E11 -> 7 | G11: =+E11*F11 -> 0 | K11: 30 | L11: 0 | M11: =+K11*L11 -> 0
A12: =+'TOTAL GENERAL'!A12 -> 7.5 | C12: =+A12*B12 -> 0 | E12: =+'TOTAL GENERAL'!E12 -> 10 | F12: 2 | G12: =+E12*F12 -> 20 | K12: 35 | L12: 0 | M12: =+K12*L12 -> 0
A13: =+'TOTAL GENERAL'!A13 -> 8.75 | C13: =+A13*B13 -> 0 | E13: =+'TOTAL GENERAL'!E13 -> 12.5 | G13: =+E13*F13 -> 0 | K13: 50 | L13: 0 | M13: =+K13*L13 -> 0
A14: =+'TOTAL GENERAL'!A14 -> 10 | B14: 11 | C14: =+A14*B14 -> 110 | E14: =+'TOTAL GENERAL'!E14 -> 15 | G14: =+E14*F14 -> 0 | M14: =+K14*L14 -> 0
A15: =+'TOTAL GENERAL'!A15 -> 12 | C15: =+A15*B15 -> 0 | E15: =+'TOTAL GENERAL'!E15 -> 17.5 | G15: =+E15*F15 -> 0 | M15: =+K15*L15 -> 0
A16: =+'TOTAL GENERAL'!A16 -> 12.39 | C16: =+A16*B16 -> 0 | E16: =+'TOTAL GENERAL'!E16 -> 20 | G16: =+E16*F16 -> 0 | M16: =+K16*L16 -> 0
A17: =+'TOTAL GENERAL'!A17 -> 12.4 | C17: =+A17*B17 -> 0 | E17: =+'TOTAL GENERAL'!E17 -> 24.79 | G17: =+E17*F17 -> 0 | M17: =+K17*L17 -> 0
A18: =+'TOTAL GENERAL'!A18 -> 12.5 | C18: =+A18*B18 -> 0 | E18: =+'TOTAL GENERAL'!E18 -> 25 | F18: 1 | G18: =+E18*F18 -> 25 | M18: =+K18*L18 -> 0
A19: =+'TOTAL GENERAL'!A19 -> 12.88 | C19: =+A19*B19 -> 0 | E19: =+'TOTAL GENERAL'!E19 -> 30 | G19: =+E19*F19 -> 0 | M19: =+K19*L19 -> 0
A20: =+'TOTAL GENERAL'!A20 -> 15 | C20: =+A20*B20 -> 0 | E20: =+'TOTAL GENERAL'!E20 -> 35 | F20: 1 | G20: =+E20*F20 -> 35 | M20: =+K20*L20 -> 0
A21: =+'TOTAL GENERAL'!A21 -> 16 | C21: =+A21*B21 -> 0 | E21: =+'TOTAL GENERAL'!E21 -> 50 | G21: =+E21*F21 -> 0 | M21: =+K21*L21 -> 0
A22: =+'TOTAL GENERAL'!A22 -> 17.35 | C22: =+A22*B22 -> 0 | E22: =+'TOTAL GENERAL'!E22 -> 0 | G22: =+E22*F22 -> 0 | M22: =+K22*L22 -> 0
A23: =+'TOTAL GENERAL'!A23 -> 17.5 | C23: =+A23*B23 -> 0 | M23: =+K23*L23 -> 0
A24: =+'TOTAL GENERAL'!A24 -> 18 | C24: =+A24*B24 -> 0 | M24: =+K24*L24 -> 0
A25: =+'TOTAL GENERAL'!A25 -> 20 | C25: =+A25*B25 -> 0 | G25: =+E25*F25 -> 0 | M25: =+K25*L25 -> 0
A26: =+'TOTAL GENERAL'!A26 -> 24.79 | C26: =+A26*B26 -> 0 | G26: =+E26*F26 -> 0 | M26: =+K26*L26 -> 0
A27: =+'TOTAL GENERAL'!A27 -> 25 | C27: =+A27*B27 -> 0 | G27: =+E27*F27 -> 0 | M27: =+K27*L27 -> 0
A28: =+'TOTAL GENERAL'!A28 -> 30 | C28: =+A28*B28 -> 0 | G28: =+E28*F28 -> 0 | M28: =+K28*L28 -> 0
A29: =+'TOTAL GENERAL'!A29 -> 35 | C29: =+A29*B29 -> 0 | G29: =+E29*F29 -> 0 | M29: =+K29*L29 -> 0
A30: =+'TOTAL GENERAL'!A30 -> 40 | C30: =+A30*B30 -> 0
A31: =+'TOTAL GENERAL'!A31 -> 50 | C31: =+A31*B31 -> 0
A32: =+'TOTAL GENERAL'!A32 -> 59 | C32: =+A32*B32 -> 0
A33: =+'TOTAL GENERAL'!A33 -> 60
A34: =+'TOTAL GENERAL'!A34 -> 100
A38: TOTAL | B38: =SUM(B4:B32) -> 18 | C38: =SUM(C4:C32) -> 145 | E38: TOTAL | F38: =SUM(F3:F29) -> 4 | G38: =SUM(G3:G29) -> 80 | I38: =C38+G38 -> 225 | K38: TOTAL | L38: =SUM(L4:L29) -> 0 | M38: =SUM(M4:M29) -> 0 | N38: =I38+M38 -> 225

Sheet 369
A1: 369 | B1: ='0048'!B1 -> 41699 | E1: =+A1 -> 369 | F1: =+B1 -> 41699
A2: SODEXO | B2: Nombre | C2: TOTAL | E2: AWARDS | F2: Nombre | G2: TOTAL | K2: CHEQUES SHOPPING | L2: Nombre | M2: TOTAL
A3: =+'TOTAL GENERAL'!A3 -> 1 | E3: =+'TOTAL GENERAL'!E3 -> 0.6 | G3: =+E3*F3 -> 0
A4: =+'TOTAL GENERAL'!A4 -> 1.28 | C4: =+A4*B4 -> 0 | E4: =+'TOTAL GENERAL'!E4 -> 1 | G4: =+E4*F4 -> 0 | K4: 5 | L4: 0 | M4: =+K4*L4 -> 0
A5: =+'TOTAL GENERAL'!A5 -> 2 | C5: =+A5*B5 -> 0 | E5: =+'TOTAL GENERAL'!E5 -> 2 | G5: =+E5*F5 -> 0 | K5: 10 | L5: 0 | M5: =+K5*L5 -> 0
A6: =+'TOTAL GENERAL'!A6 -> 3.5 | E6: =+'TOTAL GENERAL'!E6 -> 2.5 | G6: =+E6*F6 -> 0
A7: =+'TOTAL GENERAL'!A7 -> 4 | C7: =+A7*B7 -> 0 | E7: =+'TOTAL GENERAL'!E7 -> 3 | G7: =+E7*F7 -> 0 | K7: 12.5 | L7: 0 | M7: =+K7*L7 -> 0
A8: =+'TOTAL GENERAL'!A8 -> 4.2 | C8: =+A8*B8 -> 0 | E8: =+'TOTAL GENERAL'!E8 -> 4 | G8: =+E8*F8 -> 0 | K8: 15 | L8: 0 | M8: =+K8*L8 -> 0
A9: =+'TOTAL GENERAL'!A9 -> 5 | C9: =+A9*B9 -> 0 | E9: =+'TOTAL GENERAL'!E9 -> 5 | F9: 9 | G9: =+E9*F9 -> 45 | K9: 20 | L9: 0 | M9: =+K9*L9 -> 0
A10: =+'TOTAL GENERAL'!A10 -> 6.25 | C10: =+A10*B10 -> 0 | E10: =+'TOTAL GENERAL'!E10 -> 6 | G10: =+E10*F10 -> 0 | K10: 25 | L10: 0 | M10: =+K10*L10 -> 0
A11: =+'TOTAL GENERAL'!A11 -> 7 | C11: =+A11*B11 -> 0 | E11: =+'TOTAL GENERAL'!E11 -> 7 | G11: =+E11*F11 -> 0 | K11: 30 | L11: 0 | M11: =+K11*L11 -> 0
A12: =+'TOTAL GENERAL'!A12 -> 7.5 | C12: =+A12*B12 -> 0 | E12: =+'TOTAL GENERAL'!E12 -> 10 | F12: 1 | G12: =+E12*F12 -> 10 | K12: 35 | L12: 0 | M12: =+K12*L12 -> 0
A13: =+'TOTAL GENERAL'!A13 -> 8.75 | C13: =+A13*B13 -> 0 | E13: =+'TOTAL GENERAL'!E13 -> 12.5 | G13: =+E13*F13 -> 0 | K13: 50 | L13: 0 | M13: =+K13*L13 -> 0
A14: =+'TOTAL GENERAL'!A14 -> 10 | C14: =+A14*B14 -> 0 | E14: =+'TOTAL GENERAL'!E14 -> 15 | G14: =+E14*F14 -> 0 | M14: =+K14*L14 -> 0
A15: =+'TOTAL GENERAL'!A15 -> 12 | C15: =+A15*B15 -> 0 | E15: =+'TOTAL GENERAL'!E15 -> 17.5 | G15: =+E15*F15 -> 0 | M15: =+K15*L15 -> 0
A16: =+'TOTAL GENERAL'!A16 -> 12.39 | C16: =+A16*B16 -> 0 | E16: =+'TOTAL GENERAL'!E16 -> 20 | G16: =+E16*F16 -> 0 | M16: =+K16*L16 -> 0
A17: =+'TOTAL GENERAL'!A17 -> 12.4 | C17: =+A17*B17 -> 0 | E17: =+'TOTAL GENERAL'!E17 -> 24.79 | G17: =+E17*F17 -> 0 | M17: =+K17*L17 -> 0
A18: =+'TOTAL GENERAL'!A18 -> 12.5 | C18: =+A18*B18 -> 0 | E18: =+'TOTAL GENERAL'!E18 -> 25 | F18: 1 | G18: =+E18*F18 -> 25 | M18: =+K18*L18 -> 0
A19: =+'TOTAL GENERAL'!A19 -> 12.88 | E19: =+'TOTAL GENERAL'!E19 -> 30 | G19: =+E19*F19 -> 0 | M19: =+K19*L19 -> 0
A20: =+'TOTAL GENERAL'!A20 -> 15 | C20: =+A20*B20 -> 0 | E20: =+'TOTAL GENERAL'!E20 -> 35 | G20: =+E20*F20 -> 0 | M20: =+K20*L20 -> 0
A21: =+'TOTAL GENERAL'!A21 -> 16 | C21: =+A21*B21 -> 0 | E21: =+'TOTAL GENERAL'!E21 -> 50 | G21: =+E21*F21 -> 0 | M21: =+K21*L21 -> 0
A22: =+'TOTAL GENERAL'!A22 -> 17.35 | C22: =+A22*B22 -> 0 | E22: =+'TOTAL GENERAL'!E24 -> 0 | G22: =+E22*F22 -> 0 | M22: =+K22*L22 -> 0
A23: =+'TOTAL GENERAL'!A23 -> 17.5 | C23: =+A23*B23 -> 0 | E23: =+'TOTAL GENERAL'!E25 -> 0 | G23: =+E23*F23 -> 0 | M23: =+K23*L23 -> 0
A24: =+'TOTAL GENERAL'!A24 -> 18 | C24: =+A24*B24 -> 0 | G24: =+E24*F24 -> 0 | M24: =+K24*L24 -> 0
A25: =+'TOTAL GENERAL'!A25 -> 20 | C25: =+A25*B25 -> 0 | G25: =+E25*F25 -> 0 | M25: =+K25*L25 -> 0
A26: =+'TOTAL GENERAL'!A26 -> 24.79 | C26: =+A26*B26 -> 0 | G26: =+E26*F26 -> 0 | M26: =+K26*L26 -> 0
A27: =+'TOTAL GENERAL'!A27 -> 25 | C27: =+A27*B27 -> 0 | G27: =+E27*F27 -> 0 | M27: =+K27*L27 -> 0
A28: =+'TOTAL GENERAL'!A28 -> 30 | C28: =+A28*B28 -> 0 | M28: =+K28*L28 -> 0
A29: =+'TOTAL GENERAL'!A29 -> 35 | C29: =+A29*B29 -> 0 | M29: =+K29*L29 -> 0
A30: =+'TOTAL GENERAL'!A30 -> 40 | C30: =+A30*B30 -> 0
A31: =+'TOTAL GENERAL'!A31 -> 50
A32: =+'TOTAL GENERAL'!A32 -> 59
A33: =+'TOTAL GENERAL'!A33 -> 60
A38: TOTAL | B38: =SUM(B4:B30) -> 0 | C38: =SUM(C4:C30) -> 0 | E38: TOTAL | F38: =SUM(F3:F27) -> 11 | G38: =SUM(G3:G27) -> 80 | I38: =C38+G38 -> 80 | K38: TOTAL | L38: =SUM(L4:L29) -> 0 | M38: =SUM(M4:M29) -> 0 | N38: =I38+M38 -> 80

Sheet 950
A1: 950 | B1: =+'0048'!B1 -> 41699 | E1: =+A1 -> 950 | F1: =+B1 -> 41699
A2: SODEXO | B2: Nombre | C2: TOTAL | E2: AWARDS | G2: TOTAL | K2: CHEQUES SHOPPING | L2: Nombre | M2: TOTAL
A3: =+'TOTAL GENERAL'!A3 -> 1 | E3: =+'TOTAL GENERAL'!E3 -> 0.6 | G3: =+E3*F3 -> 0
A4: =+'TOTAL GENERAL'!A4 -> 1.28 | C4: =+A4*B4 -> 0 | E4: =+'TOTAL GENERAL'!E4 -> 1 | G4: =+E4*F4 -> 0 | K4: 5 | L4: 0 | M4: =+K4*L4 -> 0
A5: =+'TOTAL GENERAL'!A5 -> 2 | C5: =+A5*B5 -> 0 | E5: =+'TOTAL GENERAL'!E5 -> 2 | G5: =+E5*F5 -> 0 | K5: 10 | L5: 0 | M5: =+K5*L5 -> 0
A6: =+'TOTAL GENERAL'!A6 -> 3.5 | E6: =+'TOTAL GENERAL'!E6 -> 2.5 | G6: =+E6*F6 -> 0
A7: =+'TOTAL GENERAL'!A7 -> 4 | C7: =+A7*B7 -> 0 | E7: =+'TOTAL GENERAL'!E7 -> 3 | G7: =+E7*F7 -> 0 | K7: 12.5 | L7: 0 | M7: =+K7*L7 -> 0
A8: =+'TOTAL GENERAL'!A8 -> 4.2 | C8: =+A8*B8 -> 0 | E8: =+'TOTAL GENERAL'!E8 -> 4 | G8: =+E8*F8 -> 0 | K8: 15 | L8: 0 | M8: =+K8*L8 -> 0
A9: =+'TOTAL GENERAL'!A9 -> 5 | C9: =+A9*B9 -> 0 | E9: =+'TOTAL GENERAL'!E9 -> 5 | G9: =+E9*F9 -> 0 | K9: 20 | L9: 0 | M9: =+K9*L9 -> 0
A10: =+'TOTAL GENERAL'!A10 -> 6.25 | C10: =+A10*B10 -> 0 | E10: =+'TOTAL GENERAL'!E10 -> 6 | G10: =+E10*F10 -> 0 | K10: 25 | L10: 0 | M10: =+K10*L10 -> 0
A11: =+'TOTAL GENERAL'!A11 -> 7 | C11: =+A11*B11 -> 0 | E11: =+'TOTAL GENERAL'!E11 -> 7 | G11: =+E11*F11 -> 0 | K11: 30 | L11: 0 | M11: =+K11*L11 -> 0
A12: =+'TOTAL GENERAL'!A12 -> 7.5 | C12: =+A12*B12 -> 0 | E12: =+'TOTAL GENERAL'!E12 -> 10 | G12: =+E12*F12 -> 0 | K12: 35 | L12: 0 | M12: =+K12*L12 -> 0
A13: =+'TOTAL GENERAL'!A13 -> 8.75 | C13: =+A13*B13 -> 0 | E13: =+'TOTAL GENERAL'!E13 -> 12.5 | G13: =+E13*F13 -> 0 | K13: 50 | L13: 0 | M13: =+K13*L13 -> 0
A14: =+'TOTAL GENERAL'!A14 -> 10 | C14: =+A14*B14 -> 0 | E14: =+'TOTAL GENERAL'!E14 -> 15 | G14: =+E14*F14 -> 0 | M14: =+K14*L14 -> 0
A15: =+'TOTAL GENERAL'!A15 -> 12 | C15: =+A15*B15 -> 0 | E15: =+'TOTAL GENERAL'!E15 -> 17.5 | G15: =+E15*F15 -> 0 | M15: =+K15*L15 -> 0
A16: =+'TOTAL GENERAL'!A16 -> 12.39 | C16: =+A16*B16 -> 0 | E16: =+'TOTAL GENERAL'!E16 -> 20 | G16: =+E16*F16 -> 0 | M16: =+K16*L16 -> 0
A17: =+'TOTAL GENERAL'!A17 -> 12.4 | C17: =+A17*B17 -> 0 | E17: =+'TOTAL GENERAL'!E17 -> 24.79 | G17: =+E17*F17 -> 0 | M17: =+K17*L17 -> 0
A18: =+'TOTAL GENERAL'!A18 -> 12.5 | C18: =+A18*B18 -> 0 | E18: =+'TOTAL GENERAL'!E18 -> 25 | G18: =+E18*F18 -> 0 | M18: =+K18*L18 -> 0
A19: =+'TOTAL GENERAL'!A19 -> 12.88 | C19: =+A19*B19 -> 0 | E19: =+'TOTAL GENERAL'!E19 -> 30 | G19: =+E19*F19 -> 0 | M19: =+K19*L19 -> 0
A20: =+'TOTAL GENERAL'!A20 -> 15 | C20: =+A20*B20 -> 0 | E20: =+'TOTAL GENERAL'!E20 -> 35 | G20: =+E20*F20 -> 0 | M20: =+K20*L20 -> 0
A21: =+'TOTAL GENERAL'!A21 -> 16 | C21: =+A21*B21 -> 0 | E21: =+'TOTAL GENERAL'!E21 -> 50 | G21: =+E21*F21 -> 0 | M21: =+K21*L21 -> 0
A22: =+'TOTAL GENERAL'!A22 -> 17.35 | C22: =+A22*B22 -> 0 | M22: =+K22*L22 -> 0
A23: =+'TOTAL GENERAL'!A23 -> 17.5 | C23: =+A23*B23 -> 0 | M23: =+K23*L23 -> 0
A24: =+'TOTAL GENERAL'!A24 -> 18 | C24: =+A24*B24 -> 0 | G24: =+E24*F24 -> 0 | M24: =+K24*L24 -> 0
A25: =+'TOTAL GENERAL'!A25 -> 20 | C25: =+A25*B25 -> 0 | G25: =+E25*F25 -> 0 | M25: =+K25*L25 -> 0
A26: =+'TOTAL GENERAL'!A26 -> 24.79 | C26: =+A26*B26 -> 0 | G26: =+E26*F26 -> 0 | M26: =+K26*L26 -> 0
A27: =+'TOTAL GENERAL'!A27 -> 25 | C27: =+A27*B27 -> 0 | G27: =+E27*F27 -> 0 | M27: =+K27*L27 -> 0
A28: =+'TOTAL GENERAL'!A28 -> 30 | C28: =+A28*B28 -> 0 | G28: =+E28*F28 -> 0 | M28: =+K28*L28 -> 0
A29: =+'TOTAL GENERAL'!A29 -> 35 | C29: =+A29*B29 -> 0 | G29: =+E29*F29 -> 0 | M29: =+K29*L29 -> 0
A30: =+'TOTAL GENERAL'!A30 -> 40 | C30: =+A30*B30 -> 0
A31: =+'TOTAL GENERAL'!A31 -> 50 | C31: =+A31*B31 -> 0
A32: =+'TOTAL GENERAL'!A32 -> 59 | C32: =+A32*B32 -> 0
A33: =+'TOTAL GENERAL'!A33 -> 60 | C33: =+A33*B33 -> 0
A34: =+'TOTAL GENERAL'!A35 -> 0
A38: TOTAL | B38: =SUM(B4:B29) -> 0 | C38: =SUM(C4:C29) -> 0 | E38: TOTAL | F38: =SUM(F3:F29) -> 0 | G38: =SUM(G3:G29) -> 0 | I38: =C38+G38 -> 0 | K38: TOTAL | L38: =SUM(L4:L29) -> 0 | M38: =SUM(M4:M29) -> 0 | N38: =I38+M38 -> 0

Sheet 951
A1: 951 | B1: ='0048'!B1 -> 41699 | E1: =+A1 -> 951 | F1: =+B1 -> 41699
A2: SODEXO | B2: Nombre | C2: TOTAL | E2: AWARDS | F2: Nombre | G2: TOTAL | K2: CHEQUES SHOPPING | L2: Nombre | M2: TOTAL
A3: =+'TOTAL GENERAL'!A3 -> 1 | E3: =+'TOTAL GENERAL'!E3 -> 0.6
A4: =+'TOTAL GENERAL'!A4 -> 1.28 | B4: 0 | C4: =+A4*B4 -> 0 | E4: =+'TOTAL GENERAL'!E4 -> 1 | G4: =+E3*F4 -> 0 | K4: 5 | L4: 0 | M4: =+K4*L4 -> 0
A5: =+'TOTAL GENERAL'!A5 -> 2 | B5: 0 | C5: =+A5*B5 -> 0 | E5: =+'TOTAL GENERAL'!E5 -> 2 | G5: =+E4*F5 -> 0 | K5: 10 | L5: 0 | M5: =+K5*L5 -> 0
A6: =+'TOTAL GENERAL'!A6 -> 3.5 | B6: 0 | C6: =+A6*B6 -> 0 | E6: =+'TOTAL GENERAL'!E6 -> 2.5 | G6: =+E5*F6 -> 0 | K6: 12.5 | L6: 0 | M6: =+K6*L6 -> 0
A7: =+'TOTAL GENERAL'!A7 -> 4 | B7: 0 | C7: =+A7*B7 -> 0 | E7: =+'TOTAL GENERAL'!E7 -> 3 | G7: =+E6*F7 -> 0 | K7: 15 | L7: 0 | M7: =+K7*L7 -> 0
A8: =+'TOTAL GENERAL'!A8 -> 4.2 | B8: 0 | C8: =+A8*B8 -> 0 | E8: =+'TOTAL GENERAL'!E8 -> 4 | G8: =+E7*F8 -> 0 | K8: 20 | L8: 0 | M8: =+K8*L8 -> 0
A9: =+'TOTAL GENERAL'!A9 -> 5 | B9: 0 | C9: =+A9*B9 -> 0 | E9: =+'TOTAL GENERAL'!E9 -> 5 | F9: 11 | G9: =+E8*F9 -> 44 | K9: 25 | L9: 0 | M9: =+K9*L9 -> 0
A10: =+'TOTAL GENERAL'!A10 -> 6.25 | B10: 0 | C10: =+A10*B10 -> 0 | E10: =+'TOTAL GENERAL'!E10 -> 6 | G10: =+E9*F10 -> 0 | K10: 30 | L10: 0 | M10: =+K10*L10 -> 0
A11: =+'TOTAL GENERAL'!A11 -> 7 | B11: 0 | C11: =+A11*B11 -> 0 | E11: =+'TOTAL GENERAL'!E11 -> 7 | G11: =+E10*F11 -> 0 | K11: 35 | L11: 0 | M11: =+K11*L11 -> 0
A12: =+'TOTAL GENERAL'!A12 -> 7.5 | B12: 0 | C12: =+A12*B12 -> 0 | E12: =+'TOTAL GENERAL'!E12 -> 10 | F12: 3 | G12: =+E11*F12 -> 21 | K12: 50 | L12: 0 | M12: =+K12*L12 -> 0
A13: =+'TOTAL GENERAL'!A13 -> 8.75 | B13: 0 | C13: =+A13*B13 -> 0 | E13: =+'TOTAL GENERAL'!E13 -> 12.5 | G13: =+E12*F13 -> 0 | M13: =+K13*L13 -> 0
A14: =+'TOTAL GENERAL'!A14 -> 10 | B14: 0 | C14: =+A14*B14 -> 0 | E14: =+'TOTAL GENERAL'!E14 -> 15 | G14: =+E13*F14 -> 0 | M14: =+K14*L14 -> 0
A15: =+'TOTAL GENERAL'!A15 -> 12 | B15: 0 | C15: =+A15*B15 -> 0 | E15: =+'TOTAL GENERAL'!E15 -> 17.5 | G15: =+E14*F15 -> 0 | M15: =+K15*L15 -> 0
A16: =+'TOTAL GENERAL'!A16 -> 12.39 | C16: =+A16*B16 -> 0 | E16: =+'TOTAL GENERAL'!E16 -> 20 | F16: 1 | G16: =+E15*F16 -> 17.5 | M16: =+K16*L16 -> 0
A17: =+'TOTAL GENERAL'!A17 -> 12.4 | B17: 0 | C17: =+A17*B17 -> 0 | E17: =+'TOTAL GENERAL'!E17 -> 24.79 | G17: =+E16*F17 -> 0 | M17: =+K17*L17 -> 0
A18: =+'TOTAL GENERAL'!A18 -> 12.5 | E18: =+'TOTAL GENERAL'!E18 -> 25 | G18: =+E17*F18 -> 0 | M18: =+K18*L18 -> 0
A19: =+'TOTAL GENERAL'!A19 -> 12.88 | B19: 0 | C19: =+A19*B19 -> 0 | E19: =+'TOTAL GENERAL'!E19 -> 30 | G19: =+E18*F19 -> 0 | M19: =+K19*L19 -> 0
A20: =+'TOTAL GENERAL'!A20 -> 15 | B20: 0 | C20: =+A20*B20 -> 0 | E20: =+'TOTAL GENERAL'!E20 -> 35 | F20: 1 | G20: =+E19*F20 -> 30 | M20: =+K20*L20 -> 0
A21: =+'TOTAL GENERAL'!A21 -> 16 | B21: 0 | C21: =+A21*B21 -> 0 | E21: =+'TOTAL GENERAL'!E21 -> 50 | G21: =+E20*F21 -> 0 | M21: =+K21*L21 -> 0
A22: =+'TOTAL GENERAL'!A22 -> 17.35 | B22: 0 | C22: =+A22*B22 -> 0 | E22: =+'TOTAL GENERAL'!E22 -> 0 | G22: =+E21*F22 -> 0 | M22: =+K22*L22 -> 0
A23: =+'TOTAL GENERAL'!A23 -> 17.5 | B23: 0 | C23: =+A23*B23 -> 0 | G23: =+E22*F23 -> 0 | M23: =+K23*L23 -> 0
A24: =+'TOTAL GENERAL'!A24 -> 18 | B24: 0 | C24: =+A24*B24 -> 0 | G24: =+E23*F24 -> 0 | M24: =+K24*L24 -> 0
A25: =+'TOTAL GENERAL'!A25 -> 20 | B25: 0 | C25: =+A25*B25 -> 0 | G25: =+E24*F25 -> 0 | M25: =+K25*L25 -> 0
A26: =+'TOTAL GENERAL'!A26 -> 24.79 | B26: 0 | C26: =+A26*B26 -> 0 | G26: =+E25*F26 -> 0 | M26: =+K26*L26 -> 0
A27: =+'TOTAL GENERAL'!A27 -> 25 | B27: 0 | C27: =+A27*B27 -> 0 | G27: =+E26*F27 -> 0 | M27: =+K27*L27 -> 0
A28: =+'TOTAL GENERAL'!A28 -> 30 | B28: 0 | C28: =+A28*B28 -> 0 | G28: =+E27*F28 -> 0 | M28: =+K28*L28 -> 0
A29: =+'TOTAL GENERAL'!A29 -> 35 | B29: 0 | C29: =+A29*B29 -> 0
A30: =+'TOTAL GENERAL'!A30 -> 40 | B30: 0 | C30: =+A30*B30 -> 0
A31: =+'TOTAL GENERAL'!A31 -> 50
A32: =+'TOTAL GENERAL'!A32 -> 59
A33: =+'TOTAL GENERAL'!A33 -> 60
A34: =+'TOTAL GENERAL'!A34 -> 100
A37: TOTAL | B37: =SUM(B4:B30) -> 0 | C37: =SUM(C4:C30) -> 0 | E37: TOTAL | F37: =SUM(F4:F28) -> 16 | G37: =SUM(G4:G28) -> 112.5 | I37: =C37+G37 -> 112.5 | K37: TOTAL | L37: =SUM(L4:L28) -> 0 | M37: =SUM(M4:M28) -> 0 | N37: =I37+M37 -> 112.5

Sheet 952
A1: 952 | B1: ='0048'!B1 -> 41699 | E1: =+A1 -> 952 | F1: =+B1 -> 41699
A2: SODEXO | B2: Nombre | C2: TOTAL | E2: AWARDS | F2: Nombre | G2: TOTAL | K2: CHEQUES SHOPPING | L2: Nombre | M2: TOTAL
A3: =+'TOTAL GENERAL'!A3 -> 1 | E3: =+'TOTAL GENERAL'!E3 -> 0.6 | G3: =+E3*F3 -> 0
A4: =+'TOTAL GENERAL'!A4 -> 1.28 | C4: =+A4*B4 -> 0 | E4: =+'TOTAL GENERAL'!E4 -> 1 | F4: 1 | G4: =+E4*F4 -> 1 | K4: 5 | L4: 0 | M4: =+K4*L4 -> 0
A5: =+'TOTAL GENERAL'!A5 -> 2 | C5: =+A5*B5 -> 0 | E5: =+'TOTAL GENERAL'!E5 -> 2 | G5: =+E5*F5 -> 0 | K5: 10 | L5: 0 | M5: =+K5*L5 -> 0
A6: =+'TOTAL GENERAL'!A6 -> 3.5 | E6: =+'TOTAL GENERAL'!E6 -> 2.5 | G6: =+E6*F6 -> 0
A7: =+'TOTAL GENERAL'!A7 -> 4 | C7: =+A7*B7 -> 0 | E7: =+'TOTAL GENERAL'!E7 -> 3 | G7: =+E7*F7 -> 0 | K7: 12.5 | L7: 0 | M7: =+K7*L7 -> 0
A8: =+'TOTAL GENERAL'!A8 -> 4.2 | C8: =+A8*B8 -> 0 | E8: =+'TOTAL GENERAL'!E8 -> 4 | G8: =+E8*F8 -> 0 | K8: 15 | L8: 0 | M8: =+K8*L8 -> 0
A9: =+'TOTAL GENERAL'!A9 -> 5 | B9: 1 | C9: =+A9*B9 -> 5 | E9: =+'TOTAL GENERAL'!E9 -> 5 | F9: 1 | G9: =+E9*F9 -> 5 | K9: 20 | L9: 0 | M9: =+K9*L9 -> 0
A10: =+'TOTAL GENERAL'!A10 -> 6.25 | C10: =+A10*B10 -> 0 | E10: =+'TOTAL GENERAL'!E10 -> 6 | G10: =+E10*F10 -> 0 | K10: 25 | L10: 0 | M10: =+K10*L10 -> 0
A11: =+'TOTAL GENERAL'!A11 -> 7 | C11: =+A11*B11 -> 0 | E11: =+'TOTAL GENERAL'!E11 -> 7 | G11: =+E11*F11 -> 0 | K11: 30 | L11: 0 | M11: =+K11*L11 -> 0
A12: =+'TOTAL GENERAL'!A12 -> 7.5 | C12: =+A12*B12 -> 0 | E12: =+'TOTAL GENERAL'!E12 -> 10 | G12: =+E12*F12 -> 0 | K12: 35 | L12: 0 | M12: =+K12*L12 -> 0
A13: =+'TOTAL GENERAL'!A13 -> 8.75 | C13: =+A13*B13 -> 0 | E13: =+'TOTAL GENERAL'!E13 -> 12.5 | G13: =+E13*F13 -> 0 | K13: 50 | L13: 0 | M13: =+K13*L13 -> 0
A14: =+'TOTAL GENERAL'!A14 -> 10 | C14: =+A14*B14 -> 0 | E14: =+'TOTAL GENERAL'!E14 -> 15 | G14: =+E14*F14 -> 0 | M14: =+K14*L14 -> 0
A15: =+'TOTAL GENERAL'!A15 -> 12 | C15: =+A15*B15 -> 0 | E15: =+'TOTAL GENERAL'!E15 -> 17.5 | F15: 6 | G15: =+E15*F15 -> 105 | M15: =+K15*L15 -> 0
A16: =+'TOTAL GENERAL'!A16 -> 12.39 | C16: =+A16*B16 -> 0 | E16: =+'TOTAL GENERAL'!E16 -> 20 | F16: 1 | G16: =+E16*F16 -> 20 | M16: =+K16*L16 -> 0
A17: =+'TOTAL GENERAL'!A17 -> 12.4 | C17: =+A17*B17 -> 0 | E17: =+'TOTAL GENERAL'!E17 -> 24.79 | G17: =+E17*F17 -> 0 | M17: =+K17*L17 -> 0
A18: =+'TOTAL GENERAL'!A18 -> 12.5 | C18: =+A18*B18 -> 0 | E18: =+'TOTAL GENERAL'!E18 -> 25 | F18: 1 | G18: =+E18*F18 -> 25 | M18: =+K18*L18 -> 0
A19: =+'TOTAL GENERAL'!A19 -> 12.88 | C19: =+A19*B19 -> 0 | E19: =+'TOTAL GENERAL'!E19 -> 30 | G19: =+E19*F19 -> 0 | M19: =+K19*L19 -> 0
A20: =+'TOTAL GENERAL'!A20 -> 15 | C20: =+A20*B20 -> 0 | E20: =+'TOTAL GENERAL'!E20 -> 35 | G20: =+E20*F20 -> 0 | M20: =+K20*L20 -> 0
A21: =+'TOTAL GENERAL'!A21 -> 16 | C21: =+A21*B21 -> 0 | E21: =+'TOTAL GENERAL'!E21 -> 50 | G21: =+E21*F21 -> 0 | M21: =+K21*L21 -> 0
A22: =+'TOTAL GENERAL'!A22 -> 17.35 | C22: =+A22*B22 -> 0 | M22: =+K22*L22 -> 0
A23: =+'TOTAL GENERAL'!A23 -> 17.5 | C23: =+A23*B23 -> 0 | G23: =+E23*F23 -> 0 | M23: =+K23*L23 -> 0
A24: =+'TOTAL GENERAL'!A24 -> 18 | C24: =+A24*B24 -> 0 | G24: =+E24*F24 -> 0 | M24: =+K24*L24 -> 0
A25: =+'TOTAL GENERAL'!A25 -> 20 | B25: 1 | C25: =+A25*B25 -> 20 | G25: =+E25*F25 -> 0 | M25: =+K25*L25 -> 0
A26: =+'TOTAL GENERAL'!A26 -> 24.79 | C26: =+A26*B26 -> 0 | G26: =+E26*F26 -> 0 | M26: =+K26*L26 -> 0
A27: =+'TOTAL GENERAL'!A27 -> 25 | C27: =+A27*B27 -> 0 | G27: =+E27*F27 -> 0 | M27: =+K27*L27 -> 0
A28: =+'TOTAL GENERAL'!A28 -> 30 | C28: =+A28*B28 -> 0 | G28: =+E28*F28 -> 0 | M28: =+K28*L28 -> 0
A29: =+'TOTAL GENERAL'!A29 -> 35 | C29: =+A29*B29 -> 0 | M29: =+K29*L29 -> 0
A30: =+'TOTAL GENERAL'!A30 -> 40
A31: =+'TOTAL GENERAL'!A31 -> 50
A32: =+'TOTAL GENERAL'!A32 -> 59
A33: =+'TOTAL GENERAL'!A33 -> 60
A34: =+'TOTAL GENERAL'!A35 -> 0
A38: TOTAL | B38: =SUM(B4:B29) -> 2 | C38: =SUM(C4:C29) -> 25 | E38: TOTAL | F38: =SUM(F3:F28) -> 10 | G38: =SUM(G3:G28) -> 156 | I38: =C38+G38 -> 181 | K38: TOTAL | L38: =SUM(L4:L29) -> 0 | M38: =SUM(M4:M29) -> 0 | N38: =I38+M38 -> 181

Sheet 953
A1: 953 | B1: 41334 | E1: =+A1 -> 953 | F1: =+B1 -> 41334
A2: SODEXO | B2: Nombre | C2: TOTAL | E2: AWARDS | F2: Nombre | G2: TOTAL | K2: CHEQUES SHOPPING | L2: Nombre | M2: TOTAL
A3: 1 | B3: 0 | C3: =+A3*B3 -> 0 | E3: 0.5 | F3: 0 | G3: =+E3*F3 -> 0 | K3: 5 | L3: 0 | M3: =+K3*L3 -> 0
A4: 3 | B4: 0 | C4: =+A4*B4 -> 0 | E4: 1 | F4: 0 | G4: =+E4*F4 -> 0 | K4: 10 | L4: 0 | M4: =+K4*L4 -> 0
A5: 5 | B5: 0 | C5: =+A5*B5 -> 0 | E5: 2 | F5: 0 | G5: =+E5*F5 -> 0 | K5: 12.5 | L5: 0 | M5: =+K5*L5 -> 0
A6: 7 | B6: 0 | C6: =+A6*B6 -> 0 | E6: 2.5 | F6: 0 | G6: =+E6*F6 -> 0 | K6: 15 | L6: 0 | M6: =+K6*L6 -> 0
A7: 7.5 | B7: 0 | C7: =+A7*B7 -> 0 | E7: 3 | F7: 0 | G7: =+E7*F7 -> 0 | K7: 20 | L7: 0 | M7: =+K7*L7 -> 0
A8: 8.75 | B8: 0 | C8: =+A8*B8 -> 0 | E8: 4 | F8: 0 | G8: =+E8*F8 -> 0 | K8: 25 | L8: 0 | M8: =+K8*L8 -> 0
A9: 10 | B9: 0 | C9: =+A9*B9 -> 0 | E9: 5 | F9: 0 | G9: =+E9*F9 -> 0 | K9: 30 | L9: 0 | M9: =+K9*L9 -> 0
A10: 12 | B10: 0 | C10: =+A10*B10 -> 0 | E10: 6 | F10: 0 | G10: =+E10*F10 -> 0 | K10: 35 | L10: 0 | M10: =+K10*L10 -> 0
A11: 12.39 | B11: 0 | C11: =+A11*B11 -> 0 | E11: 7 | F11: 0 | G11: =+E11*F11 -> 0 | K11: 50 | L11: 0 | M11: =+K11*L11 -> 0
A12: 12.5 | B12: 0 | C12: =+A12*B12 -> 0 | E12: 10 | F12: 0 | G12: =+E12*F12 -> 0 | M12: =+K12*L12 -> 0
A13: 15 | B13: 0 | C13: =+A13*B13 -> 0 | E13: 12.5 | F13: 0 | G13: =+E13*F13 -> 0 | M13: =+K13*L13 -> 0
A14: 17.5 | B14: 0 | C14: =+A14*B14 -> 0 | E14: 15 | F14: 0 | G14: =+E14*F14 -> 0 | M14: =+K14*L14 -> 0
A15: 18 | B15: 0 | C15: =+A15*B15 -> 0 | E15: 17.5 | F15: 0 | G15: =+E15*F15 -> 0 | M15: =+K15*L15 -> 0
A16: 20 | B16: 0 | C16: =+A16*B16 -> 0 | E16: 20 | F16: 0 | G16: =+E16*F16 -> 0 | M16: =+K16*L16 -> 0
A17: 24.79 | B17: 0 | C17: =+A17*B17 -> 0 | E17: 24.79 | F17: 0 | G17: =+E17*F17 -> 0 | M17: =+K17*L17 -> 0
A18: 25 | B18: 0 | C18: =+A18*B18 -> 0 | E18: 25 | F18: 0 | G18: =+E18*F18 -> 0 | M18: =+K18*L18 -> 0
A19: 30 | B19: 0 | C19: =+A19*B19 -> 0 | E19: 30 | F19: 0 | G19: =+E19*F19 -> 0 | M19: =+K19*L19 -> 0
A20: 35 | B20: 0 | C20: =+A20*B20 -> 0 | E20: 35 | F20: 0 | G20: =+E20*F20 -> 0 | M20: =+K20*L20 -> 0
A21: 40 | B21: 0 | C21: =+A21*B21 -> 0 | E21: 50 | F21: 0 | G21: =+E21*F21 -> 0 | M21: =+K21*L21 -> 0
A22: 50 | B22: 0 | C22: =+A22*B22 -> 0 | F22: 0 | G22: =+E22*F22 -> 0 | M22: =+K22*L22 -> 0
A23: 59 | B23: 0 | C23: =+A23*B23 -> 0 | F23: 0 | G23: =+E23*F23 -> 0 | M23: =+K23*L23 -> 0
A24: 60 | B24: 0 | C24: =+A24*B24 -> 0 | F24: 0 | G24: =+E24*F24 -> 0 | M24: =+K24*L24 -> 0
A25: 16 | B25: 0 | C25: =+A25*B25 -> 0 | F25: 0 | G25: =+E25*F25 -> 0 | M25: =+K25*L25 -> 0
A26: 4.2 | B26: 0 | C26: =+A26*B26 -> 0 | F26: 0 | G26: =+E26*F26 -> 0 | M26: =+K26*L26 -> 0
A27: 6.25 | B27: 0 | C27: =+A27*B27 -> 0 | F27: 0 | G27: =+E27*F27 -> 0 | M27: =+K27*L27 -> 0
A28: TOTAL | B28: =SUM(B3:B27) -> 0 | C28: =SUM(C3:C27) -> 0 | E28: TOTAL | F28: =SUM(F3:F27) -> 0 | G28: =SUM(G3:G27) -> 0 | I28: =C28+G28 -> 0 | K28: TOTAL | L28: =SUM(L3:L27) -> 0 | M28: =SUM(M3:M27) -> 0 | N28: =I28+M28 -> 0

Sheet 981
A1: 981 | B1: ='0048'!B1 -> 41699 | E1: =+A1 -> 981 | F1: =+B1 -> 41699
A2: SODEXO | B2: Nombre | C2: TOTAL | E2: AWARDS | F2: Nombre | G2: TOTAL | K2: CHEQUES SHOPPING | L2: Nombre | M2: TOTAL
A3: =+'TOTAL GENERAL'!A3 -> 1 | E3: =+'TOTAL GENERAL'!E3 -> 0.6 | G3: =+E3*F3 -> 0
A4: =+'TOTAL GENERAL'!A4 -> 1.28 | C4: =+A4*B4 -> 0 | E4: =+'TOTAL GENERAL'!E4 -> 1 | G4: =+E4*F4 -> 0 | K4: 5 | L4: 0 | M4: =+K4*L4 -> 0
A5: =+'TOTAL GENERAL'!A5 -> 2 | C5: =+A5*B5 -> 0 | E5: =+'TOTAL GENERAL'!E5 -> 2 | G5: =+E5*F5 -> 0 | K5: 10 | L5: 0 | M5: =+K5*L5 -> 0
A6: =+'TOTAL GENERAL'!A6 -> 3.5 | C6: =+A6*B6 -> 0 | E6: =+'TOTAL GENERAL'!E6 -> 2.5 | G6: =+E6*F6 -> 0
A7: =+'TOTAL GENERAL'!A7 -> 4 | C7: =+A7*B7 -> 0 | E7: =+'TOTAL GENERAL'!E7 -> 3 | G7: =+E7*F7 -> 0 | K7: 12.5 | L7: 0 | M7: =+K7*L7 -> 0
A8: =+'TOTAL GENERAL'!A8 -> 4.2 | C8: =+A8*B8 -> 0 | E8: =+'TOTAL GENERAL'!E8 -> 4 | G8: =+E8*F8 -> 0 | K8: 15 | L8: 0 | M8: =+K8*L8 -> 0
A9: =+'TOTAL GENERAL'!A9 -> 5 | C9: =+A9*B9 -> 0 | E9: =+'TOTAL GENERAL'!E9 -> 5 | G9: =+E9*F9 -> 0 | K9: 20 | L9: 0 | M9: =+K9*L9 -> 0
A10: =+'TOTAL GENERAL'!A10 -> 6.25 | C10: =+A10*B10 -> 0 | E10: =+'TOTAL GENERAL'!E10 -> 6 | G10: =+E10*F10 -> 0 | K10: 25 | L10: 0 | M10: =+K10*L10 -> 0
A11: =+'TOTAL GENERAL'!A11 -> 7 | C11: =+A11*B11 -> 0 | E11: =+'TOTAL GENERAL'!E11 -> 7 | G11: =+E11*F11 -> 0 | K11: 30 | L11: 0 | M11: =+K11*L11 -> 0
A12: =+'TOTAL GENERAL'!A12 -> 7.5 | C12: =+A12*B12 -> 0 | E12: =+'TOTAL GENERAL'!E12 -> 10 | G12: =+E12*F12 -> 0 | K12: 35 | L12: 0 | M12: =+K12*L12 -> 0
A13: =+'TOTAL GENERAL'!A13 -> 8.75 | C13: =+A13*B13 -> 0 | E13: =+'TOTAL GENERAL'!E13 -> 12.5 | G13: =+E13*F13 -> 0 | K13: 50 | L13: 0 | M13: =+K13*L13 -> 0
A14: =+'TOTAL GENERAL'!A14 -> 10 | C14: =+A14*B14 -> 0 | E14: =+'TOTAL GENERAL'!E14 -> 15 | G14: =+E14*F14 -> 0 | M14: =+K14*L14 -> 0
A15: =+'TOTAL GENERAL'!A15 -> 12 | C15: =+A15*B15 -> 0 | E15: =+'TOTAL GENERAL'!E15 -> 17.5 | G15: =+E15*F15 -> 0 | M15: =+K15*L15 -> 0
A16: =+'TOTAL GENERAL'!A16 -> 12.39 | C16: =+A16*B16 -> 0 | E16: =+'TOTAL GENERAL'!E16 -> 20 | G16: =+E16*F16 -> 0 | M16: =+K16*L16 -> 0
A17: =+'TOTAL GENERAL'!A17 -> 12.4 | C17: =+A17*B17 -> 0 | E17: =+'TOTAL GENERAL'!E17 -> 24.79 | G17: =+E17*F17 -> 0 | M17: =+K17*L17 -> 0
A18: =+'TOTAL GENERAL'!A18 -> 12.5 | C18: =+A18*B18 -> 0 | E18: =+'TOTAL GENERAL'!E18 -> 25 | G18: =+E18*F18 -> 0 | M18: =+K18*L18 -> 0
A19: =+'TOTAL GENERAL'!A19 -> 12.88 | E19: =+'TOTAL GENERAL'!E19 -> 30 | G19: =+E19*F19 -> 0 | M19: =+K19*L19 -> 0
A20: =+'TOTAL GENERAL'!A20 -> 15 | C20: =+A20*B20 -> 0 | E20: =+'TOTAL GENERAL'!E20 -> 35 | G20: =+E20*F20 -> 0 | M20: =+K20*L20 -> 0
A21: =+'TOTAL GENERAL'!A21 -> 16 | C21: =+A21*B21 -> 0 | E21: =+'TOTAL GENERAL'!E21 -> 50 | G21: =+E21*F21 -> 0 | M21: =+K21*L21 -> 0
A22: =+'TOTAL GENERAL'!A22 -> 17.35 | C22: =+A22*B22 -> 0 | E22: =+'TOTAL GENERAL'!E24 -> 0 | G22: =+E22*F22 -> 0 | M22: =+K22*L22 -> 0
A23: =+'TOTAL GENERAL'!A23 -> 17.5 | C23: =+A23*B23 -> 0 | M23: =+K23*L23 -> 0
A24: =+'TOTAL GENERAL'!A24 -> 18 | C24: =+A24*B24 -> 0 | G24: =+E24*F24 -> 0 | M24: =+K24*L24 -> 0
A25: =+'TOTAL GENERAL'!A25 -> 20 | C25: =+A25*B25 -> 0 | G25: =+E25*F25 -> 0 | M25: =+K25*L25 -> 0
A26: =+'TOTAL GENERAL'!A26 -> 24.79 | C26: =+A26*B26 -> 0 | G26: =+E26*F26 -> 0 | M26: =+K26*L26 -> 0
A27: =+'TOTAL GENERAL'!A27 -> 25 | C27: =+A27*B27 -> 0 | G27: =+E27*F27 -> 0 | M27: =+K27*L27 -> 0
A28: =+'TOTAL GENERAL'!A28 -> 30 | C28: =+A28*B28 -> 0 | G28: =+E28*F28 -> 0 | M28: =+K28*L28 -> 0
A29: =+'TOTAL GENERAL'!A29 -> 35 | C29: =+A29*B29 -> 0 | M29: =+K29*L29 -> 0
A30: =+'TOTAL GENERAL'!A30 -> 40 | C30: =+A30*B30 -> 0
A31: =+'TOTAL GENERAL'!A31 -> 50 | C31: =+A31*B31 -> 0
A32: =+'TOTAL GENERAL'!A32 -> 59 | C32: =+A32*B32 -> 0
A33: =+'TOTAL GENERAL'!A33 -> 60
A38: TOTAL | B38: =SUM(B4:B32) -> 0 | C38: =SUM(C4:C32) -> 0 | E38: TOTAL | F38: =SUM(F3:F28) -> 0 | G38: =SUM(G3:G28) -> 0 | I38: =C38+G38 -> 0 | K38: TOTAL | L38: =SUM(L4:L29) -> 0 | M38: =SUM(M4:M29) -> 0 | N38: =I38+M38 -> 0

Sheet 993
A1: 993 | B1: ='0048'!B1 -> 41699 | E1: =+A1 -> 993 | F1: =+B1 -> 41699
A2: SODEXO | B2: Nombre | C2: TOTAL | E2: AWARDS | F2: Nombre | G2: TOTAL | K2: CHEQUES SHOPPING | L2: Nombre | M2: TOTAL
A3: =+'TOTAL GENERAL'!A3 -> 1 | E3: =+'TOTAL GENERAL'!E3 -> 0.6 | G3: =+E3*F3 -> 0
A4: =+'TOTAL GENERAL'!A4 -> 1.28 | C4: =+A4*B4 -> 0 | E4: =+'TOTAL GENERAL'!E4 -> 1 | G4: =+E4*F4 -> 0 | K4: 5 | L4: 0 | M4: =+K4*L4 -> 0
A5: =+'TOTAL GENERAL'!A5 -> 2 | C5: =+A5*B5 -> 0 | E5: =+'TOTAL GENERAL'!E5 -> 2 | G5: =+E5*F5 -> 0 | K5: 10 | L5: 0 | M5: =+K5*L5 -> 0
A6: =+'TOTAL GENERAL'!A6 -> 3.5 | E6: =+'TOTAL GENERAL'!E6 -> 2.5 | G6: =+E6*F6 -> 0
A7: =+'TOTAL GENERAL'!A7 -> 4 | C7: =+A7*B7 -> 0 | E7: =+'TOTAL GENERAL'!E7 -> 3 | G7: =+E7*F7 -> 0 | K7: 12.5 | L7: 0 | M7: =+K7*L7 -> 0
A8: =+'TOTAL GENERAL'!A8 -> 4.2 | C8: =+A8*B8 -> 0 | E8: =+'TOTAL GENERAL'!E8 -> 4 | F8: 1 | G8: =+E8*F8 -> 4 | K8: 15 | L8: 0 | M8: =+K8*L8 -> 0
A9: =+'TOTAL GENERAL'!A9 -> 5 | C9: =+A9*B9 -> 0 | E9: =+'TOTAL GENERAL'!E9 -> 5 | G9: =+E9*F9 -> 0 | K9: 20 | L9: 0 | M9: =+K9*L9 -> 0
A10: =+'TOTAL GENERAL'!A10 -> 6.25 | C10: =+A10*B10 -> 0 | E10: =+'TOTAL GENERAL'!E10 -> 6 | G10: =+E10*F10 -> 0 | K10: 25 | L10: 0 | M10: =+K10*L10 -> 0
A11: =+'TOTAL GENERAL'!A11 -> 7 | C11: =+A11*B11 -> 0 | E11: =+'TOTAL GENERAL'!E11 -> 7 | G11: =+E11*F11 -> 0 | K11: 30 | L11: 0 | M11: =+K11*L11 -> 0
A12: =+'TOTAL GENERAL'!A12 -> 7.5 | C12: =+A12*B12 -> 0 | E12: =+'TOTAL GENERAL'!E12 -> 10 | F12: 5 | G12: =+E12*F12 -> 50 | K12: 35 | L12: 0 | M12: =+K12*L12 -> 0
A13: =+'TOTAL GENERAL'!A13 -> 8.75 | C13: =+A13*B13 -> 0 | E13: =+'TOTAL GENERAL'!E13 -> 12.5 | G13: =+E13*F13 -> 0 | K13: 50 | L13: 0 | M13: =+K13*L13 -> 0
A14: =+'TOTAL GENERAL'!A14 -> 10 | C14: =+A14*B14 -> 0 | E14: =+'TOTAL GENERAL'!E14 -> 15 | G14: =+E14*F14 -> 0 | M14: =+K14*L14 -> 0
A15: =+'TOTAL GENERAL'!A15 -> 12 | C15: =+A15*B15 -> 0 | E15: =+'TOTAL GENERAL'!E15 -> 17.5 | G15: =+E15*F15 -> 0 | M15: =+K15*L15 -> 0
A16: =+'TOTAL GENERAL'!A16 -> 12.39 | C16: =+A16*B16 -> 0 | E16: =+'TOTAL GENERAL'!E16 -> 20 | G16: =+E16*F16 -> 0 | M16: =+K16*L16 -> 0
A17: =+'TOTAL GENERAL'!A17 -> 12.4 | C17: =+A17*B17 -> 0 | E17: =+'TOTAL GENERAL'!E17 -> 24.79 | G17: =+E17*F17 -> 0 | M17: =+K17*L17 -> 0
A18: =+'TOTAL GENERAL'!A18 -> 12.5 | C18: =+A18*B18 -> 0 | E18: =+'TOTAL GENERAL'!E18 -> 25 | F18: 1 | G18: =+E18*F18 -> 25 | M18: =+K18*L18 -> 0
A19: =+'TOTAL GENERAL'!A19 -> 12.88 | E19: =+'TOTAL GENERAL'!E19 -> 30 | G19: =+E19*F19 -> 0 | M19: =+K19*L19 -> 0
A20: =+'TOTAL GENERAL'!A20 -> 15 | C20: =+A20*B20 -> 0 | E20: =+'TOTAL GENERAL'!E20 -> 35 | G20: =+E20*F20 -> 0 | M20: =+K20*L20 -> 0
A21: =+'TOTAL GENERAL'!A21 -> 16 | C21: =+A21*B21 -> 0 | E21: =+'TOTAL GENERAL'!E21 -> 50 | G21: =+E21*F21 -> 0 | M21: =+K21*L21 -> 0
A22: =+'TOTAL GENERAL'!A22 -> 17.35 | C22: =+A22*B22 -> 0 | G22: =+E22*F22 -> 0 | M22: =+K22*L22 -> 0
A23: =+'TOTAL GENERAL'!A23 -> 17.5 | C23: =+A23*B23 -> 0 | G23: =+E23*F23 -> 0 | M23: =+K23*L23 -> 0
A24: =+'TOTAL GENERAL'!A24 -> 18 | C24: =+A24*B24 -> 0 | G24: =+E24*F24 -> 0 | M24: =+K24*L24 -> 0
A25: =+'TOTAL GENERAL'!A25 -> 20 | C25: =+A25*B25 -> 0 | G25: =+E25*F25 -> 0 | M25: =+K25*L25 -> 0
A26: =+'TOTAL GENERAL'!A26 -> 24.79 | C26: =+A26*B26 -> 0 | G26: =+E26*F26 -> 0 | M26: =+K26*L26 -> 0
A27: =+'TOTAL GENERAL'!A27 -> 25 | C27: =+A27*B27 -> 0 | G27: =+E27*F27 -> 0 | M27: =+K27*L27 -> 0
A28: =+'TOTAL GENERAL'!A28 -> 30 | C28: =+A28*B28 -> 0 | M28: =+K28*L28 -> 0
A29: =+'TOTAL GENERAL'!A29 -> 35 | C29: =+A29*B29 -> 0 | M29: =+K29*L29 -> 0
A30: =+'TOTAL GENERAL'!A30 -> 40 | C30: =+A30*B30 -> 0
A31: =+'TOTAL GENERAL'!A31 -> 50
A32: =+'TOTAL GENERAL'!A32 -> 59
A33: =+'TOTAL GENERAL'!A33 -> 60
A34: =+'TOTAL GENERAL'!A34 -> 100
A38: TOTAL | B38: =SUM(B4:B30) -> 0 | C38: =SUM(C4:C30) -> 0 | E38: TOTAL | F38: =SUM(F3:F27) -> 7 | G38: =SUM(G3:G27) -> 79 | I38: =C38+G38 -> 79 | K38: TOTAL | L38: =SUM(L4:L29) -> 0 | M38: =SUM(M4:M29) -> 0 | N38: =I38+M38 -> 79

Sheet AUTRES
A1: AUTRES | B1: ='0048'!B1 -> 41699 | E1: =+A1 -> AUTRES | F1: =+B1 -> 41699
A2: SODEXO | B2: Nombre | C2: TOTAL | E2: AWARDS | F2: Nombre | G2: TOTAL | K2: CHEQUES SHOPPING | L2: Nombre | M2: TOTAL
A3: 1 | B3: 0 | C3: =+A3*B3 -> 0 | E3: 0.5 | F3: 0 | G3: =+E3*F3 -> 0 | K3: 5 | L3: 0 | M3: =+K3*L3 -> 0
A4: 3 | B4: 0 | C4: =+A4*B4 -> 0 | E4: 1 | F4: 0 | G4: =+E4*F4 -> 0 | K4: 10 | L4: 0 | M4: =+K4*L4 -> 0
A5: 5 | B5: 0 | C5: =+A5*B5 -> 0 | E5: 2 | F5: 0 | G5: =+E5*F5 -> 0 | K5: 12.5 | L5: 0 | M5: =+K5*L5 -> 0
A6: 7 | B6: 0 | C6: =+A6*B6 -> 0 | E6: 2.5 | F6: 0 | G6: =+E6*F6 -> 0 | K6: 15 | L6: 0 | M6: =+K6*L6 -> 0
A7: 7.5 | B7: 0 | C7: =+A7*B7 -> 0 | E7: 3 | F7: 0 | G7: =+E7*F7 -> 0 | K7: 20 | L7: 0 | M7: =+K7*L7 -> 0
A8: 8.75 | B8: 0 | C8: =+A8*B8 -> 0 | E8: 4 | F8: 0 | G8: =+E8*F8 -> 0 | K8: 25 | L8: 0 | M8: =+K8*L8 -> 0
A9: 10 | B9: 0 | C9: =+A9*B9 -> 0 | E9: 5 | F9: 0 | G9: =+E9*F9 -> 0 | K9: 30 | L9: 0 | M9: =+K9*L9 -> 0
A10: 12 | B10: 0 | C10: =+A10*B10 -> 0 | E10: 6 | F10: 0 | G10: =+E10*F10 -> 0 | K10: 35 | L10: 0 | M10: =+K10*L10 -> 0
A11: 12.39 | B11: 0 | C11: =+A11*B11 -> 0 | E11: 7 | F11: 0 | G11: =+E11*F11 -> 0 | K11: 50 | L11: 0 | M11: =+K11*L11 -> 0
A12: 12.5 | B12: 0 | C12: =+A12*B12 -> 0 | E12: 10 | F12: 0 | G12: =+E12*F12 -> 0 | M12: =+K12*L12 -> 0
A13: 15 | B13: 0 | C13: =+A13*B13 -> 0 | E13: 12.5 | F13: 0 | G13: =+E13*F13 -> 0 | M13: =+K13*L13 -> 0
A14: 17.5 | B14: 0 | C14: =+A14*B14 -> 0 | E14: 15 | F14: 0 | G14: =+E14*F14 -> 0 | M14: =+K14*L14 -> 0
A15: 18 | B15: 0 | C15: =+A15*B15 -> 0 | E15: 17.5 | F15: 0 | G15: =+E15*F15 -> 0 | M15: =+K15*L15 -> 0
A16: 20 | B16: 0 | C16: =+A16*B16 -> 0 | E16: 20 | F16: 0 | G16: =+E16*F16 -> 0 | M16: =+K16*L16 -> 0
A17: 24.79 | B17: 0 | C17: =+A17*B17 -> 0 | E17: 24.79 | F17: 0 | G17: =+E17*F17 -> 0 | M17: =+K17*L17 -> 0
A18: 25 | B18: 0 | C18: =+A18*B18 -> 0 | E18: 25 | F18: 0 | G18: =+E18*F18 -> 0 | M18: =+K18*L18 -> 0
A19: 30 | B19: 0 | C19: =+A19*B19 -> 0 | E19: 30 | F19: 0 | G19: =+E19*F19 -> 0 | M19: =+K19*L19 -> 0
A20: 35 | B20: 0 | C20: =+A20*B20 -> 0 | E20: 35 | F20: 0 | G20: =+E20*F20 -> 0 | M20: =+K20*L20 -> 0
A21: 40 | B21: 0 | C21: =+A21*B21 -> 0 | E21: 50 | F21: 0 | G21: =+E21*F21 -> 0 | M21: =+K21*L21 -> 0
A22: 50 | B22: 0 | C22: =+A22*B22 -> 0 | F22: 0 | G22: =+E22*F22 -> 0 | M22: =+K22*L22 -> 0
A23: 59 | B23: 0 | C23: =+A23*B23 -> 0 | F23: 0 | G23: =+E23*F23 -> 0 | M23: =+K23*L23 -> 0
A24: 60 | B24: 0 | C24: =+A24*B24 -> 0 | F24: 0 | G24: =+E24*F24 -> 0 | M24: =+K24*L24 -> 0
A25: 16 | B25: 0 | C25: =+A25*B25 -> 0 | F25: 0 | G25: =+E25*F25 -> 0 | M25: =+K25*L25 -> 0
A26: 4.2 | B26: 0 | C26: =+A26*B26 -> 0 | F26: 0 | G26: =+E26*F26 -> 0 | M26: =+K26*L26 -> 0
A27: 6.25 | B27: 0 | C27: =+A27*B27 -> 0 | F27: 0 | G27: =+E27*F27 -> 0 | M27: =+K27*L27 -> 0
A28: TOTAL | B28: =SUM(B3:B27) -> 0 | C28: =SUM(C3:C27) -> 0 | E28: TOTAL | F28: =SUM(F3:F27) -> 0 | G28: =SUM(G3:G27) -> 0 | I28: =C28+G28 -> 0 | K28: TOTAL | L28: =SUM(L3:L27) -> 0 | M28: =SUM(M3:M27) -> 0 | N28: =I28+M28 -> 0

Sheet TOTAL GENERAL
A1: 101 | B1: ='0048'!B1 -> 41699 | E1: =+A1 -> 101 | F1: =+B1 -> 41699
A2: SODEXO | B2: Nombre | C2: TOTAL | E2: AWARDS | F2: Nombre | G2: TOTAL | K2: CHEQUES SHOPPING | L2: Nombre | M2: TOTAL
A3: 1 | B3: =SUM('0048:AUTRES'!B3) -> 0 | C3: =+A3*B3 -> 0 | E3: 0.6 | F3: =SUM('0048:AUTRES'!F3) -> 0 | G3: =+E3*F3 -> 0
A4: 1.28 | B4: =SUM('0048:AUTRES'!B4) -> 0 | C4: =+A4*B4 -> 0 | E4: 1 | F4: =SUM('0048:AUTRES'!F4) -> 1 | G4: =+E4*F4 -> 1 | K4: 5 | L4: =SUM('0048:AUTRES'!L3) -> 0 | M4: =+K4*L4 -> 0
A5: 2 | B5: =SUM('0048:AUTRES'!B5) -> 0 | C5: =+A5*B5 -> 0 | E5: 2 | F5: =SUM('0048:AUTRES'!F5) -> 1 | G5: =+E5*F5 -> 2
A6: 3.5 | B6: =SUM('0048:AUTRES'!B6) -> 0 | C6: =+A6*B6 -> 0 | E6: 2.5 | F6: =SUM('0048:AUTRES'!F6) -> 0 | G6: =+E6*F6 -> 0
A7: 4 | B7: =SUM('0048:AUTRES'!B7) -> 0 | C7: =+A7*B7 -> 0 | E7: 3 | F7: =SUM('0048:AUTRES'!F7) -> 0 | G7: =+E7*F7 -> 0 | K7: 10 | L7: =SUM('0048:AUTRES'!L4) -> 0 | M7: =+K7*L7 -> 0
A8: 4.2 | B8: =SUM('0048:AUTRES'!B8) -> 0 | C8: =+A8*B8 -> 0 | E8: 4 | F8: =SUM('0048:AUTRES'!F8) -> 1 | G8: =+E8*F8 -> 4 | K8: 12.5 | L8: =SUM('0048:AUTRES'!L5) -> 0 | M8: =+K8*L8 -> 0
A9: 5 | B9: =SUM('0048:AUTRES'!B9) -> 43 | C9: =+A9*B9 -> 215 | E9: 5 | F9: =SUM('0048:AUTRES'!F9) -> 35 | G9: =+E9*F9 -> 175 | K9: 15 | L9: =SUM('0048:AUTRES'!L6) -> 0 | M9: =+K9*L9 -> 0
A10: 6.25 | B10: =SUM('0048:AUTRES'!B10) -> 0 | C10: =+A10*B10 -> 0 | E10: 6 | F10: =SUM('0048:AUTRES'!F10) -> 0 | G10: =+E10*F10 -> 0 | K10: 20 | L10: =SUM('0048:AUTRES'!L7) -> 0 | M10: =+K10*L10 -> 0
A11: 7 | B11: =SUM('0048:AUTRES'!B11) -> 0 | C11: =+A11*B11 -> 0 | E11: 7 | F11: =SUM('0048:AUTRES'!F11) -> 0 | G11: =+E11*F11 -> 0 | K11: 25 | L11: =SUM('0048:AUTRES'!L8) -> 0 | M11: =+K11*L11 -> 0
A12: 7.5 | B12: =SUM('0048:AUTRES'!B12) -> 0 | C12: =+A12*B12 -> 0 | E12: 10 | F12: =SUM('0048:AUTRES'!F12) -> 33 | G12: =+E12*F12 -> 330 | K12: 30 | L12: =SUM('0048:AUTRES'!L9) -> 0 | M12: =+K12*L12 -> 0
A13: 8.75 | B13: =SUM('0048:AUTRES'!B13) -> 0 | C13: =+A13*B13 -> 0 | E13: 12.5 | F13: =SUM('0048:AUTRES'!F13) -> 12 | G13: =+E13*F13 -> 150 | K13: 35 | L13: =SUM('0048:AUTRES'!L10) -> 0 | M13: =+K13*L13 -> 0
A14: 10 | B14: =SUM('0048:AUTRES'!B14) -> 26 | C14: =+A14*B14 -> 260 | E14: 15 | F14: =SUM('0048:AUTRES'!F14) -> 0 | G14: =+E14*F14 -> 0 | K14: 50 | L14: =SUM('0048:AUTRES'!L11) -> 0 | M14: =+K14*L14 -> 0
A15: 12 | B15: =SUM('0048:AUTRES'!B15) -> 0 | C15: =+A15*B15 -> 0 | E15: 17.5 | F15: =SUM('0048:AUTRES'!F15) -> 8 | G15: =+E15*F15 -> 140 | M15: =+K15*L15 -> 0
A16: 12.39 | B16: =SUM('0048:AUTRES'!B16) -> 0 | C16: =+A16*B16 -> 0 | E16: 20 | F16: =SUM('0048:AUTRES'!F16) -> 5 | G16: =+E16*F16 -> 100 | M16: =+K16*L16 -> 0
A17: 12.4 | B17: =SUM('0048:AUTRES'!B17) -> 0 | C17: =+A17*B17 -> 0 | E17: 24.79 | F17: =SUM('0048:AUTRES'!F17) -> 0 | G17: =+E17*F17 -> 0
A18: 12.5 | B18: =SUM('0048:AUTRES'!B18) -> 0 | C18: =+A18*B18 -> 0 | E18: 25 | F18: =SUM('0048:AUTRES'!F18) -> 6 | G18: =+E18*F18 -> 150 | M18: =+K18*L18 -> 0
A19: 12.88 | B19: =SUM('0048:AUTRES'!B19) -> 0 | C19: =+A19*B19 -> 0 | E19: 30 | F19: =SUM('0048:AUTRES'!F19) -> 1 | G19: =+E19*F19 -> 30
A20: 15 | B20: =SUM('0048:AUTRES'!B20) -> 3 | C20: =+A20*B20 -> 45 | E20: 35 | F20: =SUM('0048:AUTRES'!F20) -> 4 | G20: =+E20*F20 -> 140 | M20: =+K20*L20 -> 0
A21: 16 | B21: =SUM('0048:AUTRES'!B21) -> 0 | C21: =+A21*B21 -> 0 | E21: 50 | F21: =SUM('0048:AUTRES'!F21) -> 1 | G21: =+E21*F21 -> 50 | M21: =+K21*L21 -> 0
A22: 17.35 | B22: =SUM('0048:AUTRES'!B22) -> 0 | C22: =+A22*B22 -> 0
A23: 17.5 | B23: =SUM('0048:AUTRES'!B23) -> 0 | C23: =+A23*B23 -> 0 | M23: =+K23*L23 -> 0
A24: 18 | B24: =SUM('0048:AUTRES'!B24) -> 0 | C24: =+A24*B24 -> 0 | M24: =+K24*L24 -> 0
A25: 20 | B25: =SUM('0048:AUTRES'!B25) -> 7 | C25: =+A25*B25 -> 140 | M25: =+K25*L25 -> 0
A26: 24.79 | B26: =SUM('0048:AUTRES'!B26) -> 0 | C26: =+A26*B26 -> 0 | M26: =+K26*L26 -> 0
A27: 25 | B27: =SUM('0048:AUTRES'!B27) -> 2 | C27: =+A27*B27 -> 50 | M27: =+K27*L27 -> 0
A28: 30 | B28: =SUM('0048:AUTRES'!B28) -> 0 | C28: =+A28*B28 -> 0 | M28: =+K28*L28 -> 0
A29: 35 | B29: =SUM('0048:AUTRES'!B29) -> 5 | C29: =+A29*B29 -> 175 | M29: =+K29*L29 -> 0
A30: 40 | B30: =SUM('0048:AUTRES'!B30) -> 0 | C30: =+A30*B30 -> 0 | M30: =+K30*L30 -> 0
A31: 50 | B31: =SUM('0048:AUTRES'!B31) -> 0 | C31: =+A31*B31 -> 0 | M31: =+K31*L31 -> 0
A32: 59 | B32: =SUM('0048:AUTRES'!B32) -> 0 | C32: =+A32*B32 -> 0 | M32: =+K32*L32 -> 0
A33: 60 | B33: =SUM('0048:AUTRES'!B33) -> 0 | C33: =+A33*B33 -> 0 | M33: =+K33*L33 -> 0
A34: 100 | B34: =SUM('0048:AUTRES'!B34) -> 0 | C34: =+A34*B34 -> 0
A36: TOTAL | B36: =SUM(B4:B35) -> 86 | C36: =SUM(C4:C34) -> 885 | E36: TOTAL | F36: =SUM(F3:F33) -> 108 | G36: =SUM(G3:G33) -> 1272 | I36: =C36+G36 -> 2157 | K36: TOTAL | L36: =SUM(L4:L33) -> 0 | M36: =SUM(M4:M33) -> 0 | N36: =I36+M36 -> 2157

Sheet PREPA OD
A1: CC | B1: CG | C1: CGS | D1: MONTANT | E1: CCP | F1: ORDRE | G1: TVA | H1: AFFECTATION | I1: TEXTE | J1: S/L | K1: CCP
A2: 50 | B2: 577000014 | D2: =+'0048'!C38+'0048'!G38 -> 0 | I2: OD REMBOURSEMENT CHEQUES AWARDS/SODEXO 311013 | K2: 48
A3: 50 | B3: 577000014 | D3: =+'0065'!C38+'0065'!G38 -> 0 | I3: OD REMBOURSEMENT CHEQUES AWARDS/SODEXO 311013 | K3: 65
A4: 50 | B4: 577000014 | D4: =+'0728'!C38+'0728'!G38 -> 85 | I4: OD REMBOURSEMENT CHEQUES AWARDS/SODEXO 311013 | K4: 728
A5: 50 | B5: 577000014 | D5: =+'0737'!C37+'0737'!G37 -> 295 | I5: OD REMBOURSEMENT CHEQUES AWARDS/SODEXO 311013 | K5: 737
A6: 50 | B6: 577000014 | D6: =SUM('0752'!$C$37+'0752'!G37) -> 425 | I6: OD REMBOURSEMENT CHEQUES AWARDS/SODEXO 311013 | K6: 752
A7: 50 | B7: 577000014 | D7: =+'0775'!C38+'0775'!G38 -> 394.5 | I7: OD REMBOURSEMENT CHEQUES AWARDS/SODEXO 311013 | K7: 775
A8: 50 | B8: 577000014 | D8: =+'0776'!C38+'0776'!G38 -> 252.5 | I8: OD REMBOURSEMENT CHEQUES AWARDS/SODEXO 311013 | K8: 776
A9: 50 | B9: 577000014 | D9: =+'0786'!C38+'0786'!G38 -> 225 | I9: OD REMBOURSEMENT CHEQUES AWARDS/SODEXO 311013 | K9: 786
A10: 50 | B10: 577000014 | D10: =+#REF!+#REF! -> #REF! | I10: OD REMBOURSEMENT CHEQUES AWARDS/SODEXO 311013 | K10: 1122
A11: 50 | B11: 577000014 | D11: =+#REF!+#REF! -> #REF! | I11: OD REMBOURSEMENT CHEQUES AWARDS/SODEXO 311013 | K11: 1187
A12: 50 | B12: 577000014 | D12: =+#REF!+#REF! -> #REF! | I12: OD REMBOURSEMENT CHEQUES AWARDS/SODEXO 311013 | K12: 1188
A13: 50 | B13: 577000014 | D13: =+#REF!+#REF! -> #REF! | I13: OD REMBOURSEMENT CHEQUES AWARDS/SODEXO 311013 | K13: 1190
A14: 50 | B14: 577000014 | D14: =+#REF!+#REF! -> #REF! | I14: OD REMBOURSEMENT CHEQUES AWARDS/SODEXO 311013 | K14: 1321
A15: 50 | B15: 577000014 | D15: =+#REF!+#REF! -> #REF! | I15: OD REMBOURSEMENT CHEQUES AWARDS/SODEXO 311013 | K15: 1425
A16: 50 | B16: 577000014 | D16: =+#REF!+#REF! -> #REF! | I16: OD REMBOURSEMENT CHEQUES AWARDS/SODEXO 311013 | K16: 1621
A17: 50 | B17: 577000014 | D17: =+#REF!+#REF! -> #REF! | I17: OD REMBOURSEMENT CHEQUES AWARDS/SODEXO 311013 | K17: 1650
A18: 50 | B18: 577000014 | D18: =+#REF!+#REF! -> #REF! | I18: OD REMBOURSEMENT CHEQUES AWARDS/SODEXO 311013 | K18: 1725
A19: 50 | B19: 577000014 | D19: =+#REF!+#REF! -> #REF! | I19: OD REMBOURSEMENT CHEQUES AWARDS/SODEXO 311013 | K19: 1733
A20: 50 | B20: 577000014 | D20: =+#REF!+#REF! -> #REF! | I20: OD REMBOURSEMENT CHEQUES AWARDS/SODEXO 311013 | K20: 1734
A21: 50 | B21: 577000014 | D21: =+#REF!+#REF! -> #REF! | I21: OD REMBOURSEMENT CHEQUES AWARDS/SODEXO 311013 | K21: 1736
... A35: 50 | B35: 577000014 | D35: =+#REF!+#REF! -> #REF! | I35: OD REMBOURSEMENT CHEQUES AWARDS/SODEXO 311013 | K35: 186
A36: 50 | B36: 577000014 | D36: =+'369'!$C$38+'369'!G38 -> 80 | I36: OD REMBOURSEMENT CHEQUES AWARDS/SODEXO 311013 | K36: 369
A37: 50 | B37: 577000014 | D37: =+#REF!+#REF! -> #REF! | I37: OD REMBOURSEMENT CHEQUES AWARDS/SODEXO 311013 | K37: 910
A38: 50 | B38: 577000014 | D38: =+#REF!+#REF! -> #REF! | I38: OD REMBOURSEMENT CHEQUES AWARDS/SODEXO 311013 | K38: 921
A39: 50 | B39: 577000014 | D39: =+#REF!+#REF! -> #REF! | I39: OD REMBOURSEMENT CHEQUES AWARDS/SODEXO 311013 | K39: 947
A40: 50 | B40: 577000014 | D40: =+'950'!$C$38+'950'!G38 -> 0 | I40: OD REMBOURSEMENT CHEQUES AWARDS/SODEXO 311013 | K40: 950
A41: 50 | B41: 577000014 | D41: =+'951'!$C$37+'951'!G37 -> 112.5 | I41: OD REMBOURSEMENT CHEQUES AWARDS/SODEXO 311013 | K41: 951
A42: 50 | B42: 577000014 | D42: =+'952'!$C$38+'952'!G38 -> 181 | I42: OD REMBOURSEMENT CHEQUES AWARDS/SODEXO 311013 | K42: 952
A43: 50 | B43: 577000014 | D43: =+'981'!$C$38+'981'!G38 -> 0 | I43: OD REMBOURSEMENT CHEQUES AWARDS/SODEXO 311013 | K43: 981
A44: 50 | B44: 577000014 | D44: =+'993'!$C$38+'993'!G38 -> 79 | I44: OD REMBOURSEMENT CHEQUES AWARDS/SODEXO 311013 | K44: 993
A45: 50 | B45: 577000014 | D45: =+#REF!+#REF! -> #REF! | I45: OD REMBOURSEMENT CHEQUES AWARDS/SODEXO 311013 | K45: 1821
A46: 50 | B46: 577000014 | D46: =+#REF!+#REF! -> #REF! | I46: OD REMBOURSEMENT CHEQUES AWARDS/SODEXO 311013 | K46: 2024
A47: 50 | B47: 577000014 | D47: =+#REF!+#REF! -> #REF! | I47: OD REMBOURSEMENT CHEQUES AWARDS/SODEXO 311013 | K47: 2192
A48: 50 | B48: 577000014 | D48: =SUM(#REF!+#REF!) -> #REF! | I48: OD REMBOURSEMENT CHEQUES AWARDS/SODEXO 311013 | K48: 2544
A49: 50 | B49: 577000014 | D49: =+AUTRES!$C$28+AUTRES!G28 -> 0 | I49: OD REMBOURSEMENT CHEQUES AWARDS/SODEXO 311013 | K49: S101000002
A50: 40 | B50: 577000014 | D50: =SUM(D2:D49) -> #REF! | I50: OD REMBOURSEMENT CHEQUES AWARDS/SODEXO 311013 | K50: S101000002

Sheet EXPORT SAP
A1: EXPORT | B1: SAP | C1: REEL | E1: DIFFERENCE | G1: CHEQUES SHOPPING | H1: DIFF
A2: 48 | B2: 90 | C2: =+'PREPA OD'!D2 -> 0 | E2: =+B2-C2 -> 90 | G2: =+'0048'!M36 -> 0 | H2: =+E2-G2 -> 90 | I2: BONS SHOPPING 01/2013
A3: 65 | B3: 160 | C3: =+'PREPA OD'!D3 -> 0 | E3: =+B3-C3 -> 160 | G3: 0 | H3: =+E3-G3 -> 160
A4: 186 | B4: 35 | C4: =+'PREPA OD'!D35 -> #REF! | E4: =+B4-C4 -> #REF! | G4: 0 | H4: =+E4-G4 -> #REF!
A5: 369 | B5: 40 | C5: =+'PREPA OD'!D36 -> 80 | E5: =+B5-C5 -> -40 | G5: 0 | H5: =+E5-G5 -> -40
A6: 728 | B6: 110 | C6: =+'PREPA OD'!D4 -> 85 | E6: =+B6-C6 -> 25 | G6: 0 | H6: =+E6-G6 -> 25
A7: 737 | B7: 550 | C7: =+'PREPA OD'!D5 -> 295 | E7: =+B7-C7 -> 255 | G7: 0 | H7: =+E7-G7 -> 255
A8: 752 | B8: 464.58 | C8: =+'PREPA OD'!D6 -> 425 | E8: =+B8-C8 -> 39.58 | G8: 0 | H8: =+E8-G8 -> 39.58 | I8: Peut-être mois précédent ????
A9: 775 | B9: =1849.9 -> 1849.9 | C9: =+'PREPA OD'!D7 -> 394.5 | E9: =+B9-C9 -> 1455.4 | G9: 0 | H9: =+E9-G9 -> 1455.4 | I9: bons shopping 1580
A10: 776 | B10: 227.5 | C10: =+'PREPA OD'!D8 -> 252.5 | E10: =+B10-C10 -> -25 | G10: 0 | H10: =+E10-G10 -> -25
A11: 786 | B11: 65 | C11: =+'PREPA OD'!D9 -> 225 | E11: =+B11-C11 -> -160 | G11: 0 | H11: =+E11-G11 -> -160
A12: 910 | B12: 35 | C12: =+'PREPA OD'!D37 -> #REF! | E12: =+B12-C12 -> #REF! | G12: 0 | H12: =+E12-G12 -> #REF!
A13: 921 | B13: 13 | C13: =+'PREPA OD'!D38 -> #REF! | E13: =+B13-C13 -> #REF! | G13: 0 | H13: =+E13-G13 -> #REF!
A14: 947 | B14: 140 | C14: =+'PREPA OD'!D39 -> #REF! | E14: =+B14-C14 -> #REF! | G14: 0 | H14: =+E14-G14 -> #REF!
A15: 950 | B15: 70 | C15: =+'PREPA OD'!D40 -> 0 | E15: =+B15-C15 -> 70 | G15: 0 | H15: =+E15-G15 -> 70
A16: 951 | B16: 170 | C16: =+'PREPA OD'!D41 -> 112.5 | E16: =+B16-C16 -> 57.5 | G16: 0 | H16: =+E16-G16 -> 57.5
A17: 952 | B17: 117.5 | C17: =+'PREPA OD'!D42 -> 181 | E17: =+B17-C17 -> -63.5 | G17: 0 | H17: =+E17-G17 -> -63.5
A18: 981 | B18: 0 | C18: =+'PREPA OD'!D43 -> 0 | E18: =+B18-C18 -> 0 | G18: 0 | H18: =+E18-G18 -> 0
A19: 993 | B19: 169 | C19: =+'PREPA OD'!D44 -> 79 | E19: =+B19-C19 -> 90 | G19: 0 | H19: =+E19-G19 -> 90
A20: 1122 | B20: 135 | C20: =+'PREPA OD'!D10 -> #REF! | E20: =+B20-C20 -> #REF! | G20: 0 | H20: =+E20-G20 -> #REF!
A21: 1187 | B21: 387 | C21: =+'PREPA OD'!D11 -> #REF! | E21: =+B21-C21 -> #REF! | G21: 0 | H21: =+E21-G21 -> #REF!
A22: 1188 | B22: 160 | C22: =+'PREPA OD'!D12 -> #REF! | E22: =+B22-C22 -> #REF! | G22: 0 | H22: =+E22-G22 -> #REF!
A23: 1190 | B23: 349 | C23: =+'PREPA OD'!D13 -> #REF! | E23: =+B23-C23 -> #REF! | G23: 0 | H23: =+E23-G23 -> #REF!
A24: 1321 | B24: 207.5 | C24: =+'PREPA OD'!D14 -> #REF! | E24: =+B24-C24 -> #REF! | G24: 0 | H24: =+E24-G24 -> #REF!
A25: 1425 | B25: 340 | C25: =+'PREPA OD'!D15 -> #REF! | E25: =+B25-C25 -> #REF! | G25: 0 | H25: =+E25-G25 -> #REF!
A26: 1621 | B26: 300 | C26: =+'PREPA OD'!D16 -> #REF! | E26: =+B26-C26 -> #REF! | G26: 0 | H26: =+E26-G26 -> #REF!
A27: 1650 | B27: 85 | C27: =+'PREPA OD'!D17 -> #REF! | E27: =+B27-C27 -> #REF! | G27: 0 | H27: =+E27-G27 -> #REF!
A28: 1725 | B28: 124 | C28: =+'PREPA OD'!D18 -> #REF! | E28: =+B28-C28 -> #REF! | G28: 0 | H28: =+E28-G28 -> #REF! | I28: Peut-être mois précédent ????
A29: 1733 | B29: 85 | C29: =+'PREPA OD'!D19 -> #REF! | E29: =+B29-C29 -> #REF! | G29: 0 | H29: =+E29-G29 -> #REF!
A30: 1734 | B30: 40 | C30: =+'PREPA OD'!D20 -> #REF! | E30: =+B30-C30 -> #REF! | G30: 0 | H30: =+E30-G30 -> #REF!
A31: 1736 | B31: 75.78 | C31: =+'PREPA OD'!D21 -> #REF! | E31: =+B31-C31 -> #REF! | G31: 0 | H31: =+E31-G31 -> #REF!
A32: 1737 | B32: 60 | C32: =+'PREPA OD'!D22 -> #REF! | E32: =+B32-C32 -> #REF! | G32: 0 | H32: =+E32-G32 -> #REF!
A33: 1821 | B33: 180 | C33: =+'PREPA OD'!D45 -> #REF! | E33: =+B33-C33 -> #REF! | G33: 0 | H33: =+E33-G33 -> #REF! | I33: PAS RECU LES CHEQUES / VU AVEC MAGDA / LE MAG ENVOI 22/04
A34: 2024 | B34: 107.5 | C34: =+'PREPA OD'!D46 -> #REF! | E34: =+B34-C34 -> #REF! | G34: 0 | H34: =+E34-G34 -> #REF!
A35: 2102 | B35: 410 | C35: =+'PREPA OD'!D23 -> #REF! | E35: =+B35-C35 -> #REF! | G35: 0 | H35: =+E35-G35 -> #REF!
A36: 2142 | B36: 237.5 | C36: =+'PREPA OD'!D24 -> #REF! | E36: =+B36-C36 -> #REF! | G36: 0 | H36: =+E36-G36 -> #REF!
A37: 2145 | B37: 160 | C37: =+'PREPA OD'!D25 -> #REF! | E37: =+B37-C37 -> #REF! | G37: 0 | H37: =+E37-G37 -> #REF!
A38: 2192 | B38: 0 | C38: =+'PREPA OD'!D47 -> #REF! | E38: =+B38-C38 -> #REF! | G38: 0 | H38: =+E38-G38 -> #REF!
A39: 2254 | B39: 875 | C39: =+'PREPA OD'!D26 -> #REF! | E39: =+B39-C39 -> #REF! | G39: 0 | H39: =+E39-G39 -> #REF! | I39: bons shoppng 675
A40: 2544 | B40: 245 | C40: =+'PREPA OD'!D48 -> #REF! | E40: =+B40-C40 -> #REF! | G40: 0 | H40: =+E40-G40 -> #REF!
A41: 3016 | B41: 70 | C41: =+'PREPA OD'!D27 -> #REF! | E41: =+B41-C41 -> #REF! | G41: 0 | H41: =+E41-G41 -> #REF!
A42: 3017 | B42: 85 | C42: =+'PREPA OD'!D28 -> #REF! | E42: =+B42-C42 -> #REF! | G42: 0 | H42: =+E42-G42 -> #REF!
A43: 3047 | B43: 217.5 | C43: =+'PREPA OD'!D29 -> #REF! | E43: =+B43-C43 -> #REF! | G43: 0 | H43: =+E43-G43 -> #REF!
A44: 3053 | B44: 235 | C44: =+'PREPA OD'!D30 -> #REF! | E44: =+B44-C44 -> #REF! | G44: 0 | H44: =+E44-G44 -> #REF! | I44: 35€ 21/02/2013
A45: 3066 | B45: 180 | C45: =+'PREPA OD'!D31 -> #REF! | E45: =+B45-C45 -> #REF! | G45: 0 | H45: =+E45-G45 -> #REF!
A46: 3067 | B46: 202.5 | C46: =+'PREPA OD'!D32 -> #REF! | E46: =+B46-C46 -> #REF! | G46: 0 | H46: =+E46-G46 -> #REF!
A47: 3080 | B47: 285 | C47: =+'PREPA OD'!D33 -> #REF! | E47: =+B47-C47 -> #REF! | G47: 0 | H47: =+E47-G47 -> #REF!
A48: 3081 | B48: 99.9 | C48: =+'PREPA OD'!D34 -> #REF! | E48: =+B48-C48 -> #REF! | G48: 0 | H48: =+E48-G48 -> #REF!
G51: - = +
G52: +=-

Sheet Sheet1
