Workbook

Sheet Tableur
B1: Filtres | C1: Sexe | D1: Rôle
C2: Femme | D2: Animateur
C4: Inconnu | D4: Jamais | E4: Rarement | F4: Parfois | G4: Souvent | H4: Tous les jours | J4: DECALE
B5: Connectivité - [Email] | C5: =COUNTIFS(OFFSET(Base!$D:$D,0,$J5),Tableur!C$4,Base!$B:$B,Tableur!$C$2,Base!$C:$C,Tableur!$D$2) -> 0 | D5: =COUNTIFS(OFFSET(Base!$D:$D,0,$J5),Tableur!D$4,Base!$B:$B,Tableur!$C$2,Base!$C:$C,Tableur!$D$2) -> 0 | E5: =COUNTIFS(OFFSET(Base!$D:$D,0,$J5),Tableur!E$4,Base!$B:$B,Tableur!$C$2,Base!$C:$C,Tableur!$D$2) -> 0 | F5: =COUNTIFS(OFFSET(Base!$D:$D,0,$J5),Tableur!F$4,Base!$B:$B,Tableur!$C$2,Base!$C:$C,Tableur!$D$2) -> 0 | G5: =COUNTIFS(OFFSET(Base!$D:$D,0,$J5),Tableur!G$4,Base!$B:$B,Tableur!$C$2,Base!$C:$C,Tableur!$D$2) -> 1 | H5: =COUNTIFS(OFFSET(Base!$D:$D,0,$J5),Tableur!H$4,Base!$B:$B,Tableur!$C$2,Base!$C:$C,Tableur!$D$2) -> 4 | J5: 0
B6: connectivité - [Facebook] | C6: =COUNTIFS(OFFSET(Base!$D:$D,0,$J6),Tableur!C$4,Base!$B:$B,Tableur!$C$2,Base!$C:$C,Tableur!$D$2) -> 0 | D6: =COUNTIFS(OFFSET(Base!$D:$D,0,$J6),Tableur!D$4,Base!$B:$B,Tableur!$C$2,Base!$C:$C,Tableur!$D$2) -> 0 | E6: =COUNTIFS(OFFSET(Base!$D:$D,0,$J6),Tableur!E$4,Base!$B:$B,Tableur!$C$2,Base!$C:$C,Tableur!$D$2) -> 0 | F6: =COUNTIFS(OFFSET(Base!$D:$D,0,$J6),Tableur!F$4,Base!$B:$B,Tableur!$C$2,Base!$C:$C,Tableur!$D$2) -> 1 | G6: =COUNTIFS(OFFSET(Base!$D:$D,0,$J6),Tableur!G$4,Base!$B:$B,Tableur!$C$2,Base!$C:$C,Tableur!$D$2) -> 0 | H6: =COUNTIFS(OFFSET(Base!$D:$D,0,$J6),Tableur!H$4,Base!$B:$B,Tableur!$C$2,Base!$C:$C,Tableur!$D$2) -> 4 | J6: 1
B7: connectivité - [Doodle] | C7: =COUNTIFS(OFFSET(Base!$D:$D,0,$J7),Tableur!C$4,Base!$B:$B,Tableur!$C$2,Base!$C:$C,Tableur!$D$2) -> 0 | D7: =COUNTIFS(OFFSET(Base!$D:$D,0,$J7),Tableur!D$4,Base!$B:$B,Tableur!$C$2,Base!$C:$C,Tableur!$D$2) -> 0 | E7: =COUNTIFS(OFFSET(Base!$D:$D,0,$J7),Tableur!E$4,Base!$B:$B,Tableur!$C$2,Base!$C:$C,Tableur!$D$2) -> 2 | F7: =COUNTIFS(OFFSET(Base!$D:$D,0,$J7),Tableur!F$4,Base!$B:$B,Tableur!$C$2,Base!$C:$C,Tableur!$D$2) -> 1 | G7: =COUNTIFS(OFFSET(Base!$D:$D,0,$J7),Tableur!G$4,Base!$B:$B,Tableur!$C$2,Base!$C:$C,Tableur!$D$2) -> 2 | H7: =COUNTIFS(OFFSET(Base!$D:$D,0,$J7),Tableur!H$4,Base!$B:$B,Tableur!$C$2,Base!$C:$C,Tableur!$D$2) -> 0 | J7: 2
B8: connectivité - [Instagram] | C8: =COUNTIFS(OFFSET(Base!$D:$D,0,$J8),Tableur!C$4,Base!$B:$B,Tableur!$C$2,Base!$C:$C,Tableur!$D$2) -> 3 | D8: =COUNTIFS(OFFSET(Base!$D:$D,0,$J8),Tableur!D$4,Base!$B:$B,Tableur!$C$2,Base!$C:$C,Tableur!$D$2) -> 2 | E8: =COUNTIFS(OFFSET(Base!$D:$D,0,$J8),Tableur!E$4,Base!$B:$B,Tableur!$C$2,Base!$C:$C,Tableur!$D$2) -> 0 | F8: =COUNTIFS(OFFSET(Base!$D:$D,0,$J8),Tableur!F$4,Base!$B:$B,Tableur!$C$2,Base!$C:$C,Tableur!$D$2) -> 0 | G8: =COUNTIFS(OFFSET(Base!$D:$D,0,$J8),Tableur!G$4,Base!$B:$B,Tableur!$C$2,Base!$C:$C,Tableur!$D$2) -> 0 | H8: =COUNTIFS(OFFSET(Base!$D:$D,0,$J8),Tableur!H$4,Base!$B:$B,Tableur!$C$2,Base!$C:$C,Tableur!$D$2) -> 0 | J8: 3
B9: connectivité - [Whatsapp] | C9: =COUNTIFS(OFFSET(Base!$D:$D,0,$J9),Tableur!C$4,Base!$B:$B,Tableur!$C$2,Base!$C:$C,Tableur!$D$2) -> 1 | D9: =COUNTIFS(OFFSET(Base!$D:$D,0,$J9),Tableur!D$4,Base!$B:$B,Tableur!$C$2,Base!$C:$C,Tableur!$D$2) -> 3 | E9: =COUNTIFS(OFFSET(Base!$D:$D,0,$J9),Tableur!E$4,Base!$B:$B,Tableur!$C$2,Base!$C:$C,Tableur!$D$2) -> 0 | F9: =COUNTIFS(OFFSET(Base!$D:$D,0,$J9),Tableur!F$4,Base!$B:$B,Tableur!$C$2,Base!$C:$C,Tableur!$D$2) -> 0 | G9: =COUNTIFS(OFFSET(Base!$D:$D,0,$J9),Tableur!G$4,Base!$B:$B,Tableur!$C$2,Base!$C:$C,Tableur!$D$2) -> 1 | H9: =COUNTIFS(OFFSET(Base!$D:$D,0,$J9),Tableur!H$4,Base!$B:$B,Tableur!$C$2,Base!$C:$C,Tableur!$D$2) -> 0 | J9: 4

Sheet Base
B2: Sexe | C2: Rôle | D2: Connectivité - [Email] | E2: connectivité - [Facebook] | F2: connectivité - [Doodle] | G2: connectivité - [Instagram] | H2: connectivité - [Whatsapp] | I2: connectivité - [Snapchat] | J2: connectivité - [LinkedIn] | K2: connectivité - [Skype]
B3: Femme | C3: Animateur | D3: Souvent | E3: Parfois | F3: Rarement | G3: Inconnu | H3: Jamais | I3: Inconnu | J3: Jamais | K3: Parfois
B4: Femme | C4: Responsable | D4: Souvent | E4: Souvent | F4: Parfois | G4: Jamais | H4: Jamais | I4: Jamais | J4: Jamais | K4: Rarement
B5: Femme | C5: Animateur | D5: Tous les jours | E5: Tous les jours | F5: Souvent | G5: Inconnu | H5: Inconnu | I5: Inconnu | J5: Inconnu | K5: Rarement
B6: Homme | C6: Responsable | D6: Tous les jours | E6: Tous les jours | F6: Parfois | G6: Jamais | H6: Rarement | I6: Jamais | J6: Parfois | K6: Parfois
B7: Femme | C7: Animateur | D7: Tous les jours | E7: Tous les jours | F7: Rarement | G7: Jamais | H7: Jamais | I7: Tous les jours | J7: Jamais | K7: Souvent
B8: Femme | C8: Responsable | D8: Tous les jours | E8: Tous les jours | F8: Souvent | G8: Jamais | H8: Jamais | I8: Jamais | J8: Parfois | K8: Rarement
B9: Femme | C9: Animateur | D9: Tous les jours | E9: Tous les jours | F9: Parfois | G9: Jamais | H9: Souvent | I9: Jamais | J9: Jamais | K9: Rarement
B10: Homme | C10: Responsable | D10: Tous les jours | E10: Souvent | F10: Parfois | G10: Jamais | H10: Parfois | I10: Jamais | J10: Tous les jours | K10: Rarement
B11: Homme | C11: Animateur | D11: Tous les jours | E11: Jamais | F11: Parfois | G11: Jamais | H11: Jamais | I11: Jamais | J11: Rarement | K11: Parfois
B12: Femme | C12: Responsable | D12: Tous les jours | E12: Jamais | F12: Souvent | G12: Jamais | H12: Souvent | I12: Jamais | J12: Jamais | K12: Rarement
B13: Femme | C13: Animateur | D13: Tous les jours | E13: Tous les jours | F13: Souvent | G13: Inconnu | H13: Jamais | I13: Jamais | J13: Jamais | K13: Parfois
B14: Femme | C14: Responsable | D14: Tous les jours | E14: Jamais | F14: Souvent | G14: Jamais | H14: Parfois | I14: Jamais | J14: Jamais | K14: Tous les jours

Sheet Listes
B3: Liste1 | C3: Liste2
B4: Femme | C4: Animateur
B5: Homme | C5: Responsable
