Workbook
Name AM: Parametre!$Y$2:$Y$6
Name An_Ref: Parametre!$I$2
Name debut_mois: OFFSET(Parametre!$P$2,,,COUNTA(Parametre!$P:$P),1)
Name Feries: OFFSET(Parametre!$K$2,,,COUNTA(Parametre!$K:$K),1)
Name fin_mois: OFFSET(Parametre!$Q$2,,,COUNTA(Parametre!$Q:$Q),1)
Name Initiales: OFFSET(Parametre!$C$2,,,COUNTA(Parametre!$C:$C),1)
Name M: Parametre!$X$2:$X$6
Name Nb_AS: Parametre!$C$12
Name paques: Parametre!$K$3
Name Ponts: OFFSET(Parametre!$N$2,,,COUNTA(Parametre!$N:$N),1)
Name Vacances: OFFSET(Parametre!$L$2,,,COUNTA(Parametre!$L:$L),1)

Sheet Calendrier
A1: =An_Ref -> 2015 | E1: Racapitulatif Annuel
B4: =DATE(An_Ref,1,1) -> 42005 | E4: =DATE(An_Ref,2,1) -> 42036 | H4: =DATE(An_Ref,3,1) -> 42064 | K4: =DATE(An_Ref,4,1) -> 42095 | N4: =DATE(An_Ref,5,1) -> 42125 | Q4: =DATE(An_Ref,6,1) -> 42156 | T4: =DATE(An_Ref,7,1) -> 42186 | W4: =DATE(An_Ref,8,1) -> 42217 | Z4: =DATE(An_Ref,9,1) -> 42248 | AC4: =DATE(An_Ref,10,1) -> 42278 | AF4: =DATE(An_Ref,11,1) -> 42309 | AI4: =DATE(An_Ref,12,1) -> 42339
C5: M | D5: AM | F5: M | G5: AM | I5: M | J5: AM | L5: M | M5: AM | O5: M | P5: AM | R5: M | S5: AM | U5: M | V5: AM | X5: M | Y5: AM | AA5: M | AB5: AM | AD5: M | AE5: AM | AG5: M | AH5: AM | AJ5: M | AK5: AM
B6: =DATE($A$1,COLUMN()-1,ROW()-5) -> 42005 | C6: =JANVIER!B3 -> 0 | D6: =JANVIER!C3 -> 0 | E6: =DATE($A$1,COLUMN()-3,ROW()-5) -> 42036 | F6: =FEVRIER!B3 -> 0 | G6: =FEVRIER!C3 -> 0 | H6: =DATE($A$1,COLUMN()-5,ROW()-5) -> 42064 | I6: =MARS!B3 -> 0 | J6: =MARS!C3 -> 0 | K6: =DATE($A$1,COLUMN()-7,ROW()-5) -> 42095 | L6: =AVRIL!B3 -> 0 | N6: =DATE($A$1,COLUMN()-9,ROW()-5) -> 42125 | Q6: =DATE($A$1,COLUMN()-11,ROW()-5) -> 42156 | T6: =DATE($A$1,COLUMN()-13,ROW()-5) -> 42186 | W6: =DATE($A$1,COLUMN()-15,ROW()-5) -> 42217 | Z6: =DATE($A$1,COLUMN()-17,ROW()-5) -> 42248 | AC6: =DATE($A$1,COLUMN()-19,ROW()-5) -> 42278 | AF6: =DATE($A$1,COLUMN()-21,ROW()-5) -> 42309 | AI6: =DATE($A$1,COLUMN()-23,ROW()-5) -> 42339
B7: =DATE($A$1,COLUMN()-1,ROW()-5) -> 42006 | C7: =JANVIER!B4 -> 0 | D7: =JANVIER!C4 -> 0 | E7: =DATE($A$1,COLUMN()-3,ROW()-5) -> 42037 | F7: =FEVRIER!B4 -> 0 | G7: =FEVRIER!C4 -> 0 | H7: =DATE($A$1,COLUMN()-5,ROW()-5) -> 42065 | I7: =MARS!B4 -> 0 | J7: =MARS!C4 -> 0 | K7: =DATE($A$1,COLUMN()-7,ROW()-5) -> 42096 | N7: =DATE($A$1,COLUMN()-9,ROW()-5) -> 42126 | Q7: =DATE($A$1,COLUMN()-11,ROW()-5) -> 42157 | T7: =DATE($A$1,COLUMN()-13,ROW()-5) -> 42187 | W7: =DATE($A$1,COLUMN()-15,ROW()-5) -> 42218 | Z7: =DATE($A$1,COLUMN()-17,ROW()-5) -> 42249 | AC7: =DATE($A$1,COLUMN()-19,ROW()-5) -> 42279 | AF7: =DATE($A$1,COLUMN()-21,ROW()-5) -> 42310 | AI7: =DATE($A$1,COLUMN()-23,ROW()-5) -> 42340
B8: =DATE($A$1,COLUMN()-1,ROW()-5) -> 42007 | C8: =JANVIER!B5 -> 0 | D8: =JANVIER!C5 -> 0 | E8: =DATE($A$1,COLUMN()-3,ROW()-5) -> 42038 | F8: =FEVRIER!B5 -> 0 | G8: =FEVRIER!C5 -> 0 | H8: =DATE($A$1,COLUMN()-5,ROW()-5) -> 42066 | I8: =MARS!B5 -> 0 | J8: =MARS!C5 -> 0 | K8: =DATE($A$1,COLUMN()-7,ROW()-5) -> 42097 | N8: =DATE($A$1,COLUMN()-9,ROW()-5) -> 42127 | Q8: =DATE($A$1,COLUMN()-11,ROW()-5) -> 42158 | T8: =DATE($A$1,COLUMN()-13,ROW()-5) -> 42188 | W8: =DATE($A$1,COLUMN()-15,ROW()-5) -> 42219 | Z8: =DATE($A$1,COLUMN()-17,ROW()-5) -> 42250 | AC8: =DATE($A$1,COLUMN()-19,ROW()-5) -> 42280 | AF8: =DATE($A$1,COLUMN()-21,ROW()-5) -> 42311 | AI8: =DATE($A$1,COLUMN()-23,ROW()-5) -> 42341
B9: =DATE($A$1,COLUMN()-1,ROW()-5) -> 42008 | C9: =JANVIER!B6 -> 0 | D9: =JANVIER!C6 -> 0 | E9: =DATE($A$1,COLUMN()-3,ROW()-5) -> 42039 | F9: =FEVRIER!B6 -> 0 | G9: =FEVRIER!C6 -> 0 | H9: =DATE($A$1,COLUMN()-5,ROW()-5) -> 42067 | I9: =MARS!B6 -> 0 | J9: =MARS!C6 -> 0 | K9: =DATE($A$1,COLUMN()-7,ROW()-5) -> 42098 | N9: =DATE($A$1,COLUMN()-9,ROW()-5) -> 42128 | Q9: =DATE($A$1,COLUMN()-11,ROW()-5) -> 42159 | T9: =DATE($A$1,COLUMN()-13,ROW()-5) -> 42189 | W9: =DATE($A$1,COLUMN()-15,ROW()-5) -> 42220 | Z9: =DATE($A$1,COLUMN()-17,ROW()-5) -> 42251 | AC9: =DATE($A$1,COLUMN()-19,ROW()-5) -> 42281 | AF9: =DATE($A$1,COLUMN()-21,ROW()-5) -> 42312 | AI9: =DATE($A$1,COLUMN()-23,ROW()-5) -> 42342
B10: =DATE($A$1,COLUMN()-1,ROW()-5) -> 42009 | C10: =JANVIER!B7 -> 0 | D10: =JANVIER!C7 -> 0 | E10: =DATE($A$1,COLUMN()-3,ROW()-5) -> 42040 | F10: =FEVRIER!B7 -> 0 | G10: =FEVRIER!C7 -> 0 | H10: =DATE($A$1,COLUMN()-5,ROW()-5) -> 42068 | I10: =MARS!B7 -> 0 | J10: =MARS!C7 -> 0 | K10: =DATE($A$1,COLUMN()-7,ROW()-5) -> 42099 | N10: =DATE($A$1,COLUMN()-9,ROW()-5) -> 42129 | Q10: =DATE($A$1,COLUMN()-11,ROW()-5) -> 42160 | T10: =DATE($A$1,COLUMN()-13,ROW()-5) -> 42190 | W10: =DATE($A$1,COLUMN()-15,ROW()-5) -> 42221 | Z10: =DATE($A$1,COLUMN()-17,ROW()-5) -> 42252 | AC10: =DATE($A$1,COLUMN()-19,ROW()-5) -> 42282 | AF10: =DATE($A$1,COLUMN()-21,ROW()-5) -> 42313 | AI10: =DATE($A$1,COLUMN()-23,ROW()-5) -> 42343
B11: =DATE($A$1,COLUMN()-1,ROW()-5) -> 42010 | C11: =JANVIER!B8 -> 0 | D11: =JANVIER!C8 -> 0 | E11: =DATE($A$1,COLUMN()-3,ROW()-5) -> 42041 | F11: =FEVRIER!B8 -> 0 | G11: =FEVRIER!C8 -> 0 | H11: =DATE($A$1,COLUMN()-5,ROW()-5) -> 42069 | I11: =MARS!B8 -> 0 | J11: =MARS!C8 -> 0 | K11: =DATE($A$1,COLUMN()-7,ROW()-5) -> 42100 | N11: =DATE($A$1,COLUMN()-9,ROW()-5) -> 42130 | Q11: =DATE($A$1,COLUMN()-11,ROW()-5) -> 42161 | T11: =DATE($A$1,COLUMN()-13,ROW()-5) -> 42191 | W11: =DATE($A$1,COLUMN()-15,ROW()-5) -> 42222 | Z11: =DATE($A$1,COLUMN()-17,ROW()-5) -> 42253 | AC11: =DATE($A$1,COLUMN()-19,ROW()-5) -> 42283 | AF11: =DATE($A$1,COLUMN()-21,ROW()-5) -> 42314 | AI11: =DATE($A$1,COLUMN()-23,ROW()-5) -> 42344
B12: =DATE($A$1,COLUMN()-1,ROW()-5) -> 42011 | C12: =JANVIER!B9 -> 0 | D12: =JANVIER!C9 -> 0 | E12: =DATE($A$1,COLUMN()-3,ROW()-5) -> 42042 | F12: =FEVRIER!B9 -> 0 | G12: =FEVRIER!C9 -> 0 | H12: =DATE($A$1,COLUMN()-5,ROW()-5) -> 42070 | I12: =MARS!B9 -> 0 | J12: =MARS!C9 -> 0 | K12: =DATE($A$1,COLUMN()-7,ROW()-5) -> 42101 | N12: =DATE($A$1,COLUMN()-9,ROW()-5) -> 42131 | Q12: =DATE($A$1,COLUMN()-11,ROW()-5) -> 42162 | T12: =DATE($A$1,COLUMN()-13,ROW()-5) -> 42192 | W12: =DATE($A$1,COLUMN()-15,ROW()-5) -> 42223 | Z12: =DATE($A$1,COLUMN()-17,ROW()-5) -> 42254 | AC12: =DATE($A$1,COLUMN()-19,ROW()-5) -> 42284 | AF12: =DATE($A$1,COLUMN()-21,ROW()-5) -> 42315 | AI12: =DATE($A$1,COLUMN()-23,ROW()-5) -> 42345
B13: =DATE($A$1,COLUMN()-1,ROW()-5) -> 42012 | C13: =JANVIER!B10 -> 0 | D13: =JANVIER!C10 -> 0 | E13: =DATE($A$1,COLUMN()-3,ROW()-5) -> 42043 | F13: =FEVRIER!B10 -> 0 | G13: =FEVRIER!C10 -> 0 | H13: =DATE($A$1,COLUMN()-5,ROW()-5) -> 42071 | I13: =MARS!B10 -> 0 | J13: =MARS!C10 -> 0 | K13: =DATE($A$1,COLUMN()-7,ROW()-5) -> 42102 | N13: =DATE($A$1,COLUMN()-9,ROW()-5) -> 42132 | Q13: =DATE($A$1,COLUMN()-11,ROW()-5) -> 42163 | T13: =DATE($A$1,COLUMN()-13,ROW()-5) -> 42193 | W13: =DATE($A$1,COLUMN()-15,ROW()-5) -> 42224 | Z13: =DATE($A$1,COLUMN()-17,ROW()-5) -> 42255 | AC13: =DATE($A$1,COLUMN()-19,ROW()-5) -> 42285 | AF13: =DATE($A$1,COLUMN()-21,ROW()-5) -> 42316 | AI13: =DATE($A$1,COLUMN()-23,ROW()-5) -> 42346
B14: =DATE($A$1,COLUMN()-1,ROW()-5) -> 42013 | C14: =JANVIER!B11 -> 0 | D14: =JANVIER!C11 -> 0 | E14: =DATE($A$1,COLUMN()-3,ROW()-5) -> 42044 | F14: =FEVRIER!B11 -> 0 | G14: =FEVRIER!C11 -> 0 | H14: =DATE($A$1,COLUMN()-5,ROW()-5) -> 42072 | I14: =MARS!B11 -> 0 | J14: =MARS!C11 -> 0 | K14: =DATE($A$1,COLUMN()-7,ROW()-5) -> 42103 | N14: =DATE($A$1,COLUMN()-9,ROW()-5) -> 42133 | Q14: =DATE($A$1,COLUMN()-11,ROW()-5) -> 42164 | T14: =DATE($A$1,COLUMN()-13,ROW()-5) -> 42194 | W14: =DATE($A$1,COLUMN()-15,ROW()-5) -> 42225 | Z14: =DATE($A$1,COLUMN()-17,ROW()-5) -> 42256 | AC14: =DATE($A$1,COLUMN()-19,ROW()-5) -> 42286 | AF14: =DATE($A$1,COLUMN()-21,ROW()-5) -> 42317 | AI14: =DATE($A$1,COLUMN()-23,ROW()-5) -> 42347
B15: =DATE($A$1,COLUMN()-1,ROW()-5) -> 42014 | C15: =JANVIER!B12 -> 0 | D15: =JANVIER!C12 -> 0 | E15: =DATE($A$1,COLUMN()-3,ROW()-5) -> 42045 | F15: =FEVRIER!B12 -> 0 | G15: =FEVRIER!C12 -> 0 | H15: =DATE($A$1,COLUMN()-5,ROW()-5) -> 42073 | I15: =MARS!B12 -> 0 | J15: =MARS!C12 -> 0 | K15: =DATE($A$1,COLUMN()-7,ROW()-5) -> 42104 | N15: =DATE($A$1,COLUMN()-9,ROW()-5) -> 42134 | Q15: =DATE($A$1,COLUMN()-11,ROW()-5) -> 42165 | T15: =DATE($A$1,COLUMN()-13,ROW()-5) -> 42195 | W15: =DATE($A$1,COLUMN()-15,ROW()-5) -> 42226 | Z15: =DATE($A$1,COLUMN()-17,ROW()-5) -> 42257 | AC15: =DATE($A$1,COLUMN()-19,ROW()-5) -> 42287 | AF15: =DATE($A$1,COLUMN()-21,ROW()-5) -> 42318 | AI15: =DATE($A$1,COLUMN()-23,ROW()-5) -> 42348
B16: =DATE($A$1,COLUMN()-1,ROW()-5) -> 42015 | C16: =JANVIER!B13 -> 0 | D16: =JANVIER!C13 -> 0 | E16: =DATE($A$1,COLUMN()-3,ROW()-5) -> 42046 | F16: =FEVRIER!B13 -> 0 | G16: =FEVRIER!C13 -> 0 | H16: =DATE($A$1,COLUMN()-5,ROW()-5) -> 42074 | I16: =MARS!B13 -> 0 | J16: =MARS!C13 -> 0 | K16: =DATE($A$1,COLUMN()-7,ROW()-5) -> 42105 | N16: =DATE($A$1,COLUMN()-9,ROW()-5) -> 42135 | Q16: =DATE($A$1,COLUMN()-11,ROW()-5) -> 42166 | T16: =DATE($A$1,COLUMN()-13,ROW()-5) -> 42196 | W16: =DATE($A$1,COLUMN()-15,ROW()-5) -> 42227 | Z16: =DATE($A$1,COLUMN()-17,ROW()-5) -> 42258 | AC16: =DATE($A$1,COLUMN()-19,ROW()-5) -> 42288 | AF16: =DATE($A$1,COLUMN()-21,ROW()-5) -> 42319 | AI16: =DATE($A$1,COLUMN()-23,ROW()-5) -> 42349
B17: =DATE($A$1,COLUMN()-1,ROW()-5) -> 42016 | C17: =JANVIER!B14 -> 0 | D17: =JANVIER!C14 -> 0 | E17: =DATE($A$1,COLUMN()-3,ROW()-5) -> 42047 | F17: =FEVRIER!B14 -> 0 | G17: =FEVRIER!C14 -> 0 | H17: =DATE($A$1,COLUMN()-5,ROW()-5) -> 42075 | I17: =MARS!B14 -> 0 | J17: =MARS!C14 -> 0 | K17: =DATE($A$1,COLUMN()-7,ROW()-5) -> 42106 | N17: =DATE($A$1,COLUMN()-9,ROW()-5) -> 42136 | Q17: =DATE($A$1,COLUMN()-11,ROW()-5) -> 42167 | T17: =DATE($A$1,COLUMN()-13,ROW()-5) -> 42197 | W17: =DATE($A$1,COLUMN()-15,ROW()-5) -> 42228 | Z17: =DATE($A$1,COLUMN()-17,ROW()-5) -> 42259 | AC17: =DATE($A$1,COLUMN()-19,ROW()-5) -> 42289 | AF17: =DATE($A$1,COLUMN()-21,ROW()-5) -> 42320 | AI17: =DATE($A$1,COLUMN()-23,ROW()-5) -> 42350
B18: =DATE($A$1,COLUMN()-1,ROW()-5) -> 42017 | C18: =JANVIER!B15 -> 0 | D18: =JANVIER!C15 -> 0 | E18: =DATE($A$1,COLUMN()-3,ROW()-5) -> 42048 | F18: =FEVRIER!B15 -> 0 | G18: =FEVRIER!C15 -> 0 | H18: =DATE($A$1,COLUMN()-5,ROW()-5) -> 42076 | I18: =MARS!B15 -> 0 | J18: =MARS!C15 -> 0 | K18: =DATE($A$1,COLUMN()-7,ROW()-5) -> 42107 | N18: =DATE($A$1,COLUMN()-9,ROW()-5) -> 42137 | Q18: =DATE($A$1,COLUMN()-11,ROW()-5) -> 42168 | T18: =DATE($A$1,COLUMN()-13,ROW()-5) -> 42198 | W18: =DATE($A$1,COLUMN()-15,ROW()-5) -> 42229 | Z18: =DATE($A$1,COLUMN()-17,ROW()-5) -> 42260 | AC18: =DATE($A$1,COLUMN()-19,ROW()-5) -> 42290 | AF18: =DATE($A$1,COLUMN()-21,ROW()-5) -> 42321 | AI18: =DATE($A$1,COLUMN()-23,ROW()-5) -> 42351
... B33: =DATE($A$1,COLUMN()-1,ROW()-5) -> 42032 | C33: =JANVIER!B30 -> 0 | D33: =JANVIER!C30 -> 0 | E33: =DATE($A$1,COLUMN()-3,ROW()-5) -> 42063 | F33: =FEVRIER!B30 -> 0 | G33: =FEVRIER!C30 -> 0 | H33: =DATE($A$1,COLUMN()-5,ROW()-5) -> 42091 | I33: =MARS!B30 -> 0 | J33: =MARS!C30 -> 0 | K33: =DATE($A$1,COLUMN()-7,ROW()-5) -> 42122 | N33: =DATE($A$1,COLUMN()-9,ROW()-5) -> 42152 | Q33: =DATE($A$1,COLUMN()-11,ROW()-5) -> 42183 | T33: =DATE($A$1,COLUMN()-13,ROW()-5) -> 42213 | W33: =DATE($A$1,COLUMN()-15,ROW()-5) -> 42244 | Z33: =DATE($A$1,COLUMN()-17,ROW()-5) -> 42275 | AC33: =DATE($A$1,COLUMN()-19,ROW()-5) -> 42305 | AF33: =DATE($A$1,COLUMN()-21,ROW()-5) -> 42336 | AI33: =DATE($A$1,COLUMN()-23,ROW()-5) -> 42366
B34: =DATE($A$1,COLUMN()-1,ROW()-5) -> 42033 | C34: =JANVIER!B31 -> 0 | D34: =JANVIER!C31 -> 0 | E34: =IF(MONTH(DATE($A$1,COLUMN()-3,ROW()-5))=2,DATE($A$1,COLUMN()-3,ROW()-5),"") | F34: =FEVRIER!B31 -> 0 | G34: =FEVRIER!C31 -> 0 | H34: =DATE($A$1,COLUMN()-5,ROW()-5) -> 42092 | I34: =MARS!B31 -> 0 | J34: =MARS!C31 -> 0 | K34: =DATE($A$1,COLUMN()-7,ROW()-5) -> 42123 | N34: =DATE($A$1,COLUMN()-9,ROW()-5) -> 42153 | Q34: =DATE($A$1,COLUMN()-11,ROW()-5) -> 42184 | T34: =DATE($A$1,COLUMN()-13,ROW()-5) -> 42214 | W34: =DATE($A$1,COLUMN()-15,ROW()-5) -> 42245 | Z34: =DATE($A$1,COLUMN()-17,ROW()-5) -> 42276 | AC34: =DATE($A$1,COLUMN()-19,ROW()-5) -> 42306 | AF34: =DATE($A$1,COLUMN()-21,ROW()-5) -> 42337 | AI34: =DATE($A$1,COLUMN()-23,ROW()-5) -> 42367
B35: =DATE($A$1,COLUMN()-1,ROW()-5) -> 42034 | C35: =JANVIER!B32 -> 0 | D35: =JANVIER!C32 -> 0 | E35: =IF(MONTH(DATE($A$1,COLUMN()-3,ROW()-5))=2,DATE($A$1,COLUMN()-3,ROW()-5),"") | F35: =FEVRIER!B32 -> 0 | G35: =FEVRIER!C32 -> 0 | H35: =DATE($A$1,COLUMN()-5,ROW()-5) -> 42093 | I35: =MARS!B32 -> 0 | J35: =MARS!C32 -> 0 | K35: =DATE($A$1,COLUMN()-7,ROW()-5) -> 42124 | N35: =DATE($A$1,COLUMN()-9,ROW()-5) -> 42154 | Q35: =DATE($A$1,COLUMN()-11,ROW()-5) -> 42185 | T35: =DATE($A$1,COLUMN()-13,ROW()-5) -> 42215 | W35: =DATE($A$1,COLUMN()-15,ROW()-5) -> 42246 | Z35: =DATE($A$1,COLUMN()-17,ROW()-5) -> 42277 | AC35: =DATE($A$1,COLUMN()-19,ROW()-5) -> 42307 | AF35: =DATE($A$1,COLUMN()-21,ROW()-5) -> 42338 | AI35: =DATE($A$1,COLUMN()-23,ROW()-5) -> 42368
B36: =DATE($A$1,COLUMN()-1,ROW()-5) -> 42035 | C36: =JANVIER!B33 -> 0 | D36: =JANVIER!C33 -> 0 | E36: =IF(MONTH(DATE($A$1,COLUMN()-3,ROW()-5))=2,DATE($A$1,COLUMN()-3,ROW()-5),"") | F36: =FEVRIER!B33 -> 0 | G36: =FEVRIER!C33 -> 0 | H36: =DATE($A$1,COLUMN()-5,ROW()-5) -> 42094 | I36: =MARS!B33 -> 0 | J36: =MARS!C33 -> 0 | N36: =DATE($A$1,COLUMN()-9,ROW()-5) -> 42155 | T36: =DATE($A$1,COLUMN()-13,ROW()-5) -> 42216 | W36: =DATE($A$1,COLUMN()-15,ROW()-5) -> 42247 | AC36: =DATE($A$1,COLUMN()-19,ROW()-5) -> 42308 | AI36: =DATE($A$1,COLUMN()-23,ROW()-5) -> 42369

Sheet JANVIER
A1: JOUR
A2: =MID(CELL("nomfichier",B1),FIND("]",CELL("nomfichier",B1))+1,LEN(CELL("nomfichier",B1))-FIND("]",CELL("nomfichier",B1))) -> JANVIER | B2: MATIN | C2: APRES-MIDI
A3: =Calendrier!B6 -> 42005
A4: =Calendrier!B7 -> 42006
A5: =Calendrier!B8 -> 42007
A6: =Calendrier!B9 -> 42008
A7: =Calendrier!B10 -> 42009
A8: =Calendrier!B11 -> 42010
A9: =Calendrier!B12 -> 42011
A10: =Calendrier!B13 -> 42012
A11: =Calendrier!B14 -> 42013
A12: =Calendrier!B15 -> 42014
A13: =Calendrier!B16 -> 42015
A14: =Calendrier!B17 -> 42016
... A33: =Calendrier!B36 -> 42035

Sheet FEVRIER
A1: JOUR
A2: =MID(CELL("nomfichier",B1),FIND("]",CELL("nomfichier",B1))+1,LEN(CELL("nomfichier",B1))-FIND("]",CELL("nomfichier",B1))) -> FEVRIER | B2: MATIN | C2: APRES-MIDI
A3: =Calendrier!E6 -> 42036
A4: =Calendrier!E7 -> 42037 | F4: Recopier le resulat obtenu par la feuille Resulat sur cette feuille
A5: =Calendrier!E8 -> 42038
A6: =Calendrier!E9 -> 42039
A7: =Calendrier!E10 -> 42040
A8: =Calendrier!E11 -> 42041
A9: =Calendrier!E12 -> 42042
A10: =Calendrier!E13 -> 42043
A11: =Calendrier!E14 -> 42044
A12: =Calendrier!E15 -> 42045
A13: =Calendrier!E16 -> 42046
A14: =Calendrier!E17 -> 42047
A15: =Calendrier!E18 -> 42048
A16: =Calendrier!E19 -> 42049
... A31: =Calendrier!E34

Sheet MARS
A1: JOUR
A2: =MID(CELL("nomfichier",B1),FIND("]",CELL("nomfichier",B1))+1,LEN(CELL("nomfichier",B1))-FIND("]",CELL("nomfichier",B1))) -> MARS | B2: MATIN | C2: APRES-MIDI
A3: =Calendrier!H6 -> 42064
A4: =Calendrier!H7 -> 42065 | F4: Recopier le resulat obtenu par la feuille Resulat sur cette feuille
A5: =Calendrier!H8 -> 42066
A6: =Calendrier!H9 -> 42067
A7: =Calendrier!H10 -> 42068
A8: =Calendrier!H11 -> 42069
A9: =Calendrier!H12 -> 42070
A10: =Calendrier!H13 -> 42071
A11: =Calendrier!H14 -> 42072
A12: =Calendrier!H15 -> 42073
A13: =Calendrier!H16 -> 42074
A14: =Calendrier!H17 -> 42075
A15: =Calendrier!H18 -> 42076
A16: =Calendrier!H19 -> 42077
... A33: =Calendrier!H36 -> 42094

Sheet AVRIL
A1: JOUR
A2: =MID(CELL("nomfichier",B1),FIND("]",CELL("nomfichier",B1))+1,LEN(CELL("nomfichier",B1))-FIND("]",CELL("nomfichier",B1))) -> AVRIL | B2: MATIN | C2: APRES-MIDI
A3: =Calendrier!K6 -> 42095
A4: =Calendrier!K7 -> 42096 | F4: Recopier le resulat obtenu par la feuille Resulat sur cette feuille
A5: =Calendrier!K8 -> 42097
A6: =Calendrier!K9 -> 42098
A7: =Calendrier!K10 -> 42099
A8: =Calendrier!K11 -> 42100
A9: =Calendrier!K12 -> 42101
A10: =Calendrier!K13 -> 42102
A11: =Calendrier!K14 -> 42103
A12: =Calendrier!K15 -> 42104
A13: =Calendrier!K16 -> 42105
A14: =Calendrier!K17 -> 42106
A15: =Calendrier!K18 -> 42107
A16: =Calendrier!K19 -> 42108
... A32: =Calendrier!K35 -> 42124

Sheet MAI
A1: JOUR
A2: =MID(CELL("nomfichier",B1),FIND("]",CELL("nomfichier",B1))+1,LEN(CELL("nomfichier",B1))-FIND("]",CELL("nomfichier",B1))) -> MAI | B2: MATIN | C2: APRES-MIDI
A3: =Calendrier!N6 -> 42125
A4: =Calendrier!N7 -> 42126 | F4: Recopier le resulat obtenu par la feuille Resulat sur cette feuille
A5: =Calendrier!N8 -> 42127
A6: =Calendrier!N9 -> 42128
A7: =Calendrier!N10 -> 42129
A8: =Calendrier!N11 -> 42130
A9: =Calendrier!N12 -> 42131
A10: =Calendrier!N13 -> 42132
A11: =Calendrier!N14 -> 42133
A12: =Calendrier!N15 -> 42134
A13: =Calendrier!N16 -> 42135
A14: =Calendrier!N17 -> 42136
A15: =Calendrier!N18 -> 42137
A16: =Calendrier!N19 -> 42138
... A33: =Calendrier!N36 -> 42155

Sheet JUIN
A1: JOUR
A2: =MID(CELL("nomfichier",B1),FIND("]",CELL("nomfichier",B1))+1,LEN(CELL("nomfichier",B1))-FIND("]",CELL("nomfichier",B1))) -> JUIN | B2: MATIN | C2: APRES-MIDI
A3: =Calendrier!Q6 -> 42156
A4: =Calendrier!Q7 -> 42157 | F4: Recopier le resulat obtenu par la feuille Resulat sur cette feuille
A5: =Calendrier!Q8 -> 42158
A6: =Calendrier!Q9 -> 42159
A7: =Calendrier!Q10 -> 42160
A8: =Calendrier!Q11 -> 42161
A9: =Calendrier!Q12 -> 42162
A10: =Calendrier!Q13 -> 42163
A11: =Calendrier!Q14 -> 42164
A12: =Calendrier!Q15 -> 42165
A13: =Calendrier!Q16 -> 42166
A14: =Calendrier!Q17 -> 42167
A15: =Calendrier!Q18 -> 42168
A16: =Calendrier!Q19 -> 42169
... A32: =Calendrier!Q35 -> 42185

Sheet JUILLET
A1: JOUR
A2: =MID(CELL("nomfichier",B1),FIND("]",CELL("nomfichier",B1))+1,LEN(CELL("nomfichier",B1))-FIND("]",CELL("nomfichier",B1))) -> JUILLET | B2: MATIN | C2: APRES-MIDI
A3: =Calendrier!T6 -> 42186
A4: =Calendrier!T7 -> 42187 | F4: Recopier le resulat obtenu par la feuille Resulat sur cette feuille
A5: =Calendrier!T8 -> 42188
A6: =Calendrier!T9 -> 42189
A7: =Calendrier!T10 -> 42190
A8: =Calendrier!T11 -> 42191
A9: =Calendrier!T12 -> 42192
A10: =Calendrier!T13 -> 42193
A11: =Calendrier!T14 -> 42194
A12: =Calendrier!T15 -> 42195
A13: =Calendrier!T16 -> 42196
A14: =Calendrier!T17 -> 42197
A15: =Calendrier!T18 -> 42198
A16: =Calendrier!T19 -> 42199
... A33: =Calendrier!T36 -> 42216

Sheet AOUT
A1: JOUR
A2: =MID(CELL("nomfichier",B1),FIND("]",CELL("nomfichier",B1))+1,LEN(CELL("nomfichier",B1))-FIND("]",CELL("nomfichier",B1))) -> AOUT | B2: MATIN | C2: APRES-MIDI
A3: =Calendrier!W6 -> 42217
A4: =Calendrier!W7 -> 42218 | F4: Recopier le resulat obtenu par la feuille Resulat sur cette feuille
A5: =Calendrier!W8 -> 42219
A6: =Calendrier!W9 -> 42220
A7: =Calendrier!W10 -> 42221
A8: =Calendrier!W11 -> 42222
A9: =Calendrier!W12 -> 42223
A10: =Calendrier!W13 -> 42224
A11: =Calendrier!W14 -> 42225
A12: =Calendrier!W15 -> 42226
A13: =Calendrier!W16 -> 42227
A14: =Calendrier!W17 -> 42228
A15: =Calendrier!W18 -> 42229
A16: =Calendrier!W19 -> 42230
... A33: =Calendrier!W36 -> 42247

Sheet SEPTEMBRE
A1: JOUR
A2: =MID(CELL("nomfichier",B1),FIND("]",CELL("nomfichier",B1))+1,LEN(CELL("nomfichier",B1))-FIND("]",CELL("nomfichier",B1))) -> SEPTEMBRE | B2: MATIN | C2: APRES-MIDI
A3: =Calendrier!Z6 -> 42248
A4: =Calendrier!Z7 -> 42249 | F4: Recopier le resulat obtenu par la feuille Resulat sur cette feuille
A5: =Calendrier!Z8 -> 42250
A6: =Calendrier!Z9 -> 42251
A7: =Calendrier!Z10 -> 42252
A8: =Calendrier!Z11 -> 42253
A9: =Calendrier!Z12 -> 42254
A10: =Calendrier!Z13 -> 42255
A11: =Calendrier!Z14 -> 42256
A12: =Calendrier!Z15 -> 42257
A13: =Calendrier!Z16 -> 42258
A14: =Calendrier!Z17 -> 42259
A15: =Calendrier!Z18 -> 42260
A16: =Calendrier!Z19 -> 42261
... A32: =Calendrier!Z35 -> 42277

Sheet OCTOBRE
A1: JOUR
A2: =MID(CELL("nomfichier",B1),FIND("]",CELL("nomfichier",B1))+1,LEN(CELL("nomfichier",B1))-FIND("]",CELL("nomfichier",B1))) -> OCTOBRE | B2: MATIN | C2: APRES-MIDI
A3: =Calendrier!AC6 -> 42278
A4: =Calendrier!AC7 -> 42279 | F4: Recopier le resulat obtenu par la feuille Resulat sur cette feuille
A5: =Calendrier!AC8 -> 42280
A6: =Calendrier!AC9 -> 42281
A7: =Calendrier!AC10 -> 42282
A8: =Calendrier!AC11 -> 42283
A9: =Calendrier!AC12 -> 42284
A10: =Calendrier!AC13 -> 42285
A11: =Calendrier!AC14 -> 42286
A12: =Calendrier!AC15 -> 42287
A13: =Calendrier!AC16 -> 42288
A14: =Calendrier!AC17 -> 42289
A15: =Calendrier!AC18 -> 42290
A16: =Calendrier!AC19 -> 42291
... A33: =Calendrier!AC36 -> 42308

Sheet NOVEMBRE
A1: JOUR
A2: =MID(CELL("nomfichier",B1),FIND("]",CELL("nomfichier",B1))+1,LEN(CELL("nomfichier",B1))-FIND("]",CELL("nomfichier",B1))) -> NOVEMBRE | B2: MATIN | C2: APRES-MIDI
A3: =Calendrier!AF6 -> 42309
A4: =Calendrier!AF7 -> 42310 | F4: Recopier le resulat obtenu par la feuille Resulat sur cette feuille
A5: =Calendrier!AF8 -> 42311
A6: =Calendrier!AF9 -> 42312
A7: =Calendrier!AF10 -> 42313
A8: =Calendrier!AF11 -> 42314
A9: =Calendrier!AF12 -> 42315
A10: =Calendrier!AF13 -> 42316
A11: =Calendrier!AF14 -> 42317
A12: =Calendrier!AF15 -> 42318
A13: =Calendrier!AF16 -> 42319
A14: =Calendrier!AF17 -> 42320
A15: =Calendrier!AF18 -> 42321
A16: =Calendrier!AF19 -> 42322
... A32: =Calendrier!AF35 -> 42338

Sheet DECEMBRE
A1: JOUR
A2: =MID(CELL("nomfichier",B1),FIND("]",CELL("nomfichier",B1))+1,LEN(CELL("nomfichier",B1))-FIND("]",CELL("nomfichier",B1))) -> DECEMBRE | B2: MATIN | C2: APRES-MIDI
A3: =Calendrier!AI6 -> 42339
A4: =Calendrier!AI7 -> 42340 | F4: Recopier le resulat obtenu par la feuille Resulat sur cette feuille
A5: =Calendrier!AI8 -> 42341
A6: =Calendrier!AI9 -> 42342
A7: =Calendrier!AI10 -> 42343
A8: =Calendrier!AI11 -> 42344
A9: =Calendrier!AI12 -> 42345
A10: =Calendrier!AI13 -> 42346
A11: =Calendrier!AI14 -> 42347
A12: =Calendrier!AI15 -> 42348
A13: =Calendrier!AI16 -> 42349
A14: =Calendrier!AI17 -> 42350
A15: =Calendrier!AI18 -> 42351
A16: =Calendrier!AI19 -> 42352
... A33: =Calendrier!AI36 -> 42369

Sheet Resultat
A1: =DATE(An_Ref,A3,1) -> 42339 | D1: JOUR | E1: AS Monplaisir | G1: Annuel | H1: =An_Ref -> 2015
B2: 1
A3: 12 | B3: 2 | C3: =WEEKNUM(D3) -> 49 | D3: =DATE(An_Ref,$A$3,B2) -> 42339 | E3: =IF(D3="","",IF(OR(WEEKDAY(D3,2)=6,WEEKDAY(D3,2)=7,AND(COUNTIF(Feries,$D3)>0,$D3<>"")),"",VLOOKUP(RANDBETWEEN(1,Nb_AS),Parametre!$A$2:$C$11,3,FALSE))) -> AMT | F3: =IF(D3="","",IF(OR(WEEKDAY(D3,2)=6,WEEKDAY(D3,2)=7,AND(COUNTIF(Feries,$D3)>0,$D3<>""),WEEKDAY(D3,2)=4),"",VLOOKUP(RANDBETWEEN(1,Nb_AS),Parametre!$A$2:$C$11,3,FALSE))) -> LEBD | H3: =Parametre!D2 -> 3
A4: =VLOOKUP(A3,Parametre!O2:U13,6,FALSE) -> 17 | B4: 3 | C4: =WEEKNUM(D4) -> 49 | D4: =DATE(An_Ref,$A$3,B3) -> 42340 | E4: =IF(D4="","",IF(OR(WEEKDAY(D4,2)=6,WEEKDAY(D4,2)=7,AND(COUNTIF(Feries,$D4)>0,$D4<>"")),"",VLOOKUP(RANDBETWEEN(1,Nb_AS),Parametre!$A$2:$C$11,3,FALSE))) -> VD | F4: =IF(D4="","",IF(OR(WEEKDAY(D4,2)=6,WEEKDAY(D4,2)=7,AND(COUNTIF(Feries,$D4)>0,$D4<>""),WEEKDAY(D4,2)=4),"",VLOOKUP(RANDBETWEEN(1,Nb_AS),Parametre!$A$2:$C$11,3,FALSE))) -> AMT | H4: =Parametre!D3 -> 2
A5: =VLOOKUP(A3,Parametre!O2:U13,5,FALSE) -> 39 | B5: 4 | C5: =WEEKNUM(D5) -> 49 | D5: =DATE(An_Ref,$A$3,B4) -> 42341 | E5: =IF(D5="","",IF(OR(WEEKDAY(D5,2)=6,WEEKDAY(D5,2)=7,AND(COUNTIF(Feries,$D5)>0,$D5<>"")),"",VLOOKUP(RANDBETWEEN(1,Nb_AS),Parametre!$A$2:$C$11,3,FALSE))) -> JJ | F5: =IF(D5="","",IF(OR(WEEKDAY(D5,2)=6,WEEKDAY(D5,2)=7,AND(COUNTIF(Feries,$D5)>0,$D5<>""),WEEKDAY(D5,2)=4),"",VLOOKUP(RANDBETWEEN(1,Nb_AS),Parametre!$A$2:$C$11,3,FALSE))) | H5: =Parametre!D4 -> 4
B6: 5 | C6: =WEEKNUM(D6) -> 49 | D6: =DATE(An_Ref,$A$3,B5) -> 42342 | E6: =IF(D6="","",IF(OR(WEEKDAY(D6,2)=6,WEEKDAY(D6,2)=7,AND(COUNTIF(Feries,$D6)>0,$D6<>"")),"",VLOOKUP(RANDBETWEEN(1,Nb_AS),Parametre!$A$2:$C$11,3,FALSE))) -> SJ | F6: =IF(D6="","",IF(OR(WEEKDAY(D6,2)=6,WEEKDAY(D6,2)=7,AND(COUNTIF(Feries,$D6)>0,$D6<>""),WEEKDAY(D6,2)=4),"",VLOOKUP(RANDBETWEEN(1,Nb_AS),Parametre!$A$2:$C$11,3,FALSE))) -> PF | H6: =Parametre!D5 -> 3
B7: 6 | C7: =WEEKNUM(D7) -> 49 | D7: =DATE(An_Ref,$A$3,B6) -> 42343 | E7: =IF(D7="","",IF(OR(WEEKDAY(D7,2)=6,WEEKDAY(D7,2)=7,AND(COUNTIF(Feries,$D7)>0,$D7<>"")),"",VLOOKUP(RANDBETWEEN(1,Nb_AS),Parametre!$A$2:$C$11,3,FALSE))) | F7: =IF(D7="","",IF(OR(WEEKDAY(D7,2)=6,WEEKDAY(D7,2)=7,AND(COUNTIF(Feries,$D7)>0,$D7<>""),WEEKDAY(D7,2)=4),"",VLOOKUP(RANDBETWEEN(1,Nb_AS),Parametre!$A$2:$C$11,3,FALSE))) | H7: =Parametre!D6 -> 5
B8: 7 | C8: =WEEKNUM(D8) -> 50 | D8: =DATE(An_Ref,$A$3,B7) -> 42344 | E8: =IF(D8="","",IF(OR(WEEKDAY(D8,2)=6,WEEKDAY(D8,2)=7,AND(COUNTIF(Feries,$D8)>0,$D8<>"")),"",VLOOKUP(RANDBETWEEN(1,Nb_AS),Parametre!$A$2:$C$11,3,FALSE))) | F8: =IF(D8="","",IF(OR(WEEKDAY(D8,2)=6,WEEKDAY(D8,2)=7,AND(COUNTIF(Feries,$D8)>0,$D8<>""),WEEKDAY(D8,2)=4),"",VLOOKUP(RANDBETWEEN(1,Nb_AS),Parametre!$A$2:$C$11,3,FALSE))) | H8: =Parametre!D7 -> 3
B9: 8 | C9: =WEEKNUM(D9) -> 50 | D9: =DATE(An_Ref,$A$3,B8) -> 42345 | E9: =IF(D9="","",IF(OR(WEEKDAY(D9,2)=6,WEEKDAY(D9,2)=7,AND(COUNTIF(Feries,$D9)>0,$D9<>"")),"",VLOOKUP(RANDBETWEEN(1,Nb_AS),Parametre!$A$2:$C$11,3,FALSE))) -> AMT | F9: =IF(D9="","",IF(OR(WEEKDAY(D9,2)=6,WEEKDAY(D9,2)=7,AND(COUNTIF(Feries,$D9)>0,$D9<>""),WEEKDAY(D9,2)=4),"",VLOOKUP(RANDBETWEEN(1,Nb_AS),Parametre!$A$2:$C$11,3,FALSE))) -> PF | H9: =Parametre!D8 -> 6
B10: 9 | C10: =WEEKNUM(D10) -> 50 | D10: =DATE(An_Ref,$A$3,B9) -> 42346 | E10: =IF(D10="","",IF(OR(WEEKDAY(D10,2)=6,WEEKDAY(D10,2)=7,AND(COUNTIF(Feries,$D10)>0,$D10<>"")),"",VLOOKUP(RANDBETWEEN(1,Nb_AS),Parametre!$A$2:$C$11,3,FALSE))) -> PF | F10: =IF(D10="","",IF(OR(WEEKDAY(D10,2)=6,WEEKDAY(D10,2)=7,AND(COUNTIF(Feries,$D10)>0,$D10<>""),WEEKDAY(D10,2)=4),"",VLOOKUP(RANDBETWEEN(1,Nb_AS),Parametre!$A$2:$C$11,3,FALSE))) -> EB | H10: =Parametre!D9 -> 4
B11: 10 | C11: =WEEKNUM(D11) -> 50 | D11: =DATE(An_Ref,$A$3,B10) -> 42347 | E11: =IF(D11="","",IF(OR(WEEKDAY(D11,2)=6,WEEKDAY(D11,2)=7,AND(COUNTIF(Feries,$D11)>0,$D11<>"")),"",VLOOKUP(RANDBETWEEN(1,Nb_AS),Parametre!$A$2:$C$11,3,FALSE))) -> KC | F11: =IF(D11="","",IF(OR(WEEKDAY(D11,2)=6,WEEKDAY(D11,2)=7,AND(COUNTIF(Feries,$D11)>0,$D11<>""),WEEKDAY(D11,2)=4),"",VLOOKUP(RANDBETWEEN(1,Nb_AS),Parametre!$A$2:$C$11,3,FALSE))) -> AMT | H11: =Parametre!D10 -> 4
B12: 11 | C12: =WEEKNUM(D12) -> 50 | D12: =DATE(An_Ref,$A$3,B11) -> 42348 | E12: =IF(D12="","",IF(OR(WEEKDAY(D12,2)=6,WEEKDAY(D12,2)=7,AND(COUNTIF(Feries,$D12)>0,$D12<>"")),"",VLOOKUP(RANDBETWEEN(1,Nb_AS),Parametre!$A$2:$C$11,3,FALSE))) -> NA | F12: =IF(D12="","",IF(OR(WEEKDAY(D12,2)=6,WEEKDAY(D12,2)=7,AND(COUNTIF(Feries,$D12)>0,$D12<>""),WEEKDAY(D12,2)=4),"",VLOOKUP(RANDBETWEEN(1,Nb_AS),Parametre!$A$2:$C$11,3,FALSE))) | H12: =Parametre!D11 -> 5
B13: 12 | C13: =WEEKNUM(D13) -> 50 | D13: =DATE(An_Ref,$A$3,B12) -> 42349 | E13: =IF(D13="","",IF(OR(WEEKDAY(D13,2)=6,WEEKDAY(D13,2)=7,AND(COUNTIF(Feries,$D13)>0,$D13<>"")),"",VLOOKUP(RANDBETWEEN(1,Nb_AS),Parametre!$A$2:$C$11,3,FALSE))) -> AMT | F13: =IF(D13="","",IF(OR(WEEKDAY(D13,2)=6,WEEKDAY(D13,2)=7,AND(COUNTIF(Feries,$D13)>0,$D13<>""),WEEKDAY(D13,2)=4),"",VLOOKUP(RANDBETWEEN(1,Nb_AS),Parametre!$A$2:$C$11,3,FALSE))) -> PF | H13: =SUM(H3:H12) -> 39
B14: 13 | C14: =WEEKNUM(D14) -> 50 | D14: =DATE(An_Ref,$A$3,B13) -> 42350 | E14: =IF(D14="","",IF(OR(WEEKDAY(D14,2)=6,WEEKDAY(D14,2)=7,AND(COUNTIF(Feries,$D14)>0,$D14<>"")),"",VLOOKUP(RANDBETWEEN(1,Nb_AS),Parametre!$A$2:$C$11,3,FALSE))) | F14: =IF(D14="","",IF(OR(WEEKDAY(D14,2)=6,WEEKDAY(D14,2)=7,AND(COUNTIF(Feries,$D14)>0,$D14<>""),WEEKDAY(D14,2)=4),"",VLOOKUP(RANDBETWEEN(1,Nb_AS),Parametre!$A$2:$C$11,3,FALSE)))
B15: 14 | C15: =WEEKNUM(D15) -> 51 | D15: =DATE(An_Ref,$A$3,B14) -> 42351 | E15: =IF(D15="","",IF(OR(WEEKDAY(D15,2)=6,WEEKDAY(D15,2)=7,AND(COUNTIF(Feries,$D15)>0,$D15<>"")),"",VLOOKUP(RANDBETWEEN(1,Nb_AS),Parametre!$A$2:$C$11,3,FALSE))) | F15: =IF(D15="","",IF(OR(WEEKDAY(D15,2)=6,WEEKDAY(D15,2)=7,AND(COUNTIF(Feries,$D15)>0,$D15<>""),WEEKDAY(D15,2)=4),"",VLOOKUP(RANDBETWEEN(1,Nb_AS),Parametre!$A$2:$C$11,3,FALSE)))
B16: 15 | C16: =WEEKNUM(D16) -> 51 | D16: =DATE(An_Ref,$A$3,B15) -> 42352 | E16: =IF(D16="","",IF(OR(WEEKDAY(D16,2)=6,WEEKDAY(D16,2)=7,AND(COUNTIF(Feries,$D16)>0,$D16<>"")),"",VLOOKUP(RANDBETWEEN(1,Nb_AS),Parametre!$A$2:$C$11,3,FALSE))) -> VD | F16: =IF(D16="","",IF(OR(WEEKDAY(D16,2)=6,WEEKDAY(D16,2)=7,AND(COUNTIF(Feries,$D16)>0,$D16<>""),WEEKDAY(D16,2)=4),"",VLOOKUP(RANDBETWEEN(1,Nb_AS),Parametre!$A$2:$C$11,3,FALSE))) -> LEBD
B17: 16 | C17: =WEEKNUM(D17) -> 51 | D17: =DATE(An_Ref,$A$3,B16) -> 42353 | E17: =IF(D17="","",IF(OR(WEEKDAY(D17,2)=6,WEEKDAY(D17,2)=7,AND(COUNTIF(Feries,$D17)>0,$D17<>"")),"",VLOOKUP(RANDBETWEEN(1,Nb_AS),Parametre!$A$2:$C$11,3,FALSE))) -> SC | F17: =IF(D17="","",IF(OR(WEEKDAY(D17,2)=6,WEEKDAY(D17,2)=7,AND(COUNTIF(Feries,$D17)>0,$D17<>""),WEEKDAY(D17,2)=4),"",VLOOKUP(RANDBETWEEN(1,Nb_AS),Parametre!$A$2:$C$11,3,FALSE))) -> SC
B18: 17 | C18: =WEEKNUM(D18) -> 51 | D18: =DATE(An_Ref,$A$3,B17) -> 42354 | E18: =IF(D18="","",IF(OR(WEEKDAY(D18,2)=6,WEEKDAY(D18,2)=7,AND(COUNTIF(Feries,$D18)>0,$D18<>"")),"",VLOOKUP(RANDBETWEEN(1,Nb_AS),Parametre!$A$2:$C$11,3,FALSE))) -> NA | F18: =IF(D18="","",IF(OR(WEEKDAY(D18,2)=6,WEEKDAY(D18,2)=7,AND(COUNTIF(Feries,$D18)>0,$D18<>""),WEEKDAY(D18,2)=4),"",VLOOKUP(RANDBETWEEN(1,Nb_AS),Parametre!$A$2:$C$11,3,FALSE))) -> VD
B19: 18 | C19: =WEEKNUM(D19) -> 51 | D19: =DATE(An_Ref,$A$3,B18) -> 42355 | E19: =IF(D19="","",IF(OR(WEEKDAY(D19,2)=6,WEEKDAY(D19,2)=7,AND(COUNTIF(Feries,$D19)>0,$D19<>"")),"",VLOOKUP(RANDBETWEEN(1,Nb_AS),Parametre!$A$2:$C$11,3,FALSE))) -> VD | F19: =IF(D19="","",IF(OR(WEEKDAY(D19,2)=6,WEEKDAY(D19,2)=7,AND(COUNTIF(Feries,$D19)>0,$D19<>""),WEEKDAY(D19,2)=4),"",VLOOKUP(RANDBETWEEN(1,Nb_AS),Parametre!$A$2:$C$11,3,FALSE)))
B20: 19 | C20: =WEEKNUM(D20) -> 51 | D20: =DATE(An_Ref,$A$3,B19) -> 42356 | E20: =IF(D20="","",IF(OR(WEEKDAY(D20,2)=6,WEEKDAY(D20,2)=7,AND(COUNTIF(Feries,$D20)>0,$D20<>"")),"",VLOOKUP(RANDBETWEEN(1,Nb_AS),Parametre!$A$2:$C$11,3,FALSE))) -> EB | F20: =IF(D20="","",IF(OR(WEEKDAY(D20,2)=6,WEEKDAY(D20,2)=7,AND(COUNTIF(Feries,$D20)>0,$D20<>""),WEEKDAY(D20,2)=4),"",VLOOKUP(RANDBETWEEN(1,Nb_AS),Parametre!$A$2:$C$11,3,FALSE))) -> NA
B21: 20 | C21: =WEEKNUM(D21) -> 51 | D21: =DATE(An_Ref,$A$3,B20) -> 42357 | E21: =IF(D21="","",IF(OR(WEEKDAY(D21,2)=6,WEEKDAY(D21,2)=7,AND(COUNTIF(Feries,$D21)>0,$D21<>"")),"",VLOOKUP(RANDBETWEEN(1,Nb_AS),Parametre!$A$2:$C$11,3,FALSE))) | F21: =IF(D21="","",IF(OR(WEEKDAY(D21,2)=6,WEEKDAY(D21,2)=7,AND(COUNTIF(Feries,$D21)>0,$D21<>""),WEEKDAY(D21,2)=4),"",VLOOKUP(RANDBETWEEN(1,Nb_AS),Parametre!$A$2:$C$11,3,FALSE)))
B22: 21 | C22: =WEEKNUM(D22) -> 52 | D22: =DATE(An_Ref,$A$3,B21) -> 42358 | E22: =IF(D22="","",IF(OR(WEEKDAY(D22,2)=6,WEEKDAY(D22,2)=7,AND(COUNTIF(Feries,$D22)>0,$D22<>"")),"",VLOOKUP(RANDBETWEEN(1,Nb_AS),Parametre!$A$2:$C$11,3,FALSE))) | F22: =IF(D22="","",IF(OR(WEEKDAY(D22,2)=6,WEEKDAY(D22,2)=7,AND(COUNTIF(Feries,$D22)>0,$D22<>""),WEEKDAY(D22,2)=4),"",VLOOKUP(RANDBETWEEN(1,Nb_AS),Parametre!$A$2:$C$11,3,FALSE)))
B23: 22 | C23: =WEEKNUM(D23) -> 52 | D23: =DATE(An_Ref,$A$3,B22) -> 42359 | E23: =IF(D23="","",IF(OR(WEEKDAY(D23,2)=6,WEEKDAY(D23,2)=7,AND(COUNTIF(Feries,$D23)>0,$D23<>"")),"",VLOOKUP(RANDBETWEEN(1,Nb_AS),Parametre!$A$2:$C$11,3,FALSE))) -> SC | F23: =IF(D23="","",IF(OR(WEEKDAY(D23,2)=6,WEEKDAY(D23,2)=7,AND(COUNTIF(Feries,$D23)>0,$D23<>""),WEEKDAY(D23,2)=4),"",VLOOKUP(RANDBETWEEN(1,Nb_AS),Parametre!$A$2:$C$11,3,FALSE))) -> SJ
B24: 23 | C24: =WEEKNUM(D24) -> 52 | D24: =DATE(An_Ref,$A$3,B23) -> 42360 | E24: =IF(D24="","",IF(OR(WEEKDAY(D24,2)=6,WEEKDAY(D24,2)=7,AND(COUNTIF(Feries,$D24)>0,$D24<>"")),"",VLOOKUP(RANDBETWEEN(1,Nb_AS),Parametre!$A$2:$C$11,3,FALSE))) -> SC | F24: =IF(D24="","",IF(OR(WEEKDAY(D24,2)=6,WEEKDAY(D24,2)=7,AND(COUNTIF(Feries,$D24)>0,$D24<>""),WEEKDAY(D24,2)=4),"",VLOOKUP(RANDBETWEEN(1,Nb_AS),Parametre!$A$2:$C$11,3,FALSE))) -> JJ
B25: 24 | C25: =WEEKNUM(D25) -> 52 | D25: =DATE(An_Ref,$A$3,B24) -> 42361 | E25: =IF(D25="","",IF(OR(WEEKDAY(D25,2)=6,WEEKDAY(D25,2)=7,AND(COUNTIF(Feries,$D25)>0,$D25<>"")),"",VLOOKUP(RANDBETWEEN(1,Nb_AS),Parametre!$A$2:$C$11,3,FALSE))) -> PF | F25: =IF(D25="","",IF(OR(WEEKDAY(D25,2)=6,WEEKDAY(D25,2)=7,AND(COUNTIF(Feries,$D25)>0,$D25<>""),WEEKDAY(D25,2)=4),"",VLOOKUP(RANDBETWEEN(1,Nb_AS),Parametre!$A$2:$C$11,3,FALSE))) -> PF
... B29: 28 | C29: =WEEKNUM(D29) -> 53 | D29: =DATE(An_Ref,$A$3,B28) -> 42365 | E29: =IF(D29="","",IF(OR(WEEKDAY(D29,2)=6,WEEKDAY(D29,2)=7,AND(COUNTIF(Feries,$D29)>0,$D29<>"")),"",VLOOKUP(RANDBETWEEN(1,Nb_AS),Parametre!$A$2:$C$11,3,FALSE))) | F29: =IF(D29="","",IF(OR(WEEKDAY(D29,2)=6,WEEKDAY(D29,2)=7,AND(COUNTIF(Feries,$D29)>0,$D29<>""),WEEKDAY(D29,2)=4),"",VLOOKUP(RANDBETWEEN(1,Nb_AS),Parametre!$A$2:$C$11,3,FALSE)))
B30: 29 | C30: =WEEKNUM(D30) -> 53 | D30: =D29+1 -> 42366 | E30: =IF(D30="","",IF(OR(WEEKDAY(D30,2)=6,WEEKDAY(D30,2)=7,AND(COUNTIF(Feries,$D30)>0,$D30<>"")),"",VLOOKUP(RANDBETWEEN(1,Nb_AS),Parametre!$A$2:$C$11,3,FALSE))) -> KC | F30: =IF(D30="","",IF(OR(WEEKDAY(D30,2)=6,WEEKDAY(D30,2)=7,AND(COUNTIF(Feries,$D30)>0,$D30<>""),WEEKDAY(D30,2)=4),"",VLOOKUP(RANDBETWEEN(1,Nb_AS),Parametre!$A$2:$C$11,3,FALSE))) -> SJ
B31: 30 | C31: =WEEKNUM(D31) -> 53 | D31: =IF(VLOOKUP(A3,Parametre!O2:Q13,3,FALSE)=D30,"",D30+1) -> 42367 | E31: =IF(D31="","",IF(OR(WEEKDAY(D31,2)=6,WEEKDAY(D31,2)=7,AND(COUNTIF(Feries,$D31)>0,$D31<>"")),"",VLOOKUP(RANDBETWEEN(1,Nb_AS),Parametre!$A$2:$C$11,3,FALSE))) -> JJ | F31: =IF(D31="","",IF(OR(WEEKDAY(D31,2)=6,WEEKDAY(D31,2)=7,AND(COUNTIF(Feries,$D31)>0,$D31<>""),WEEKDAY(D31,2)=4),"",VLOOKUP(RANDBETWEEN(1,Nb_AS),Parametre!$A$2:$C$11,3,FALSE))) -> VD | G31: Le reset a gerer manuellemet
B32: 31 | C32: =WEEKNUM(D32) -> 53 | D32: =IF(D31="","",IF(VLOOKUP(A3,Parametre!O2:Q13,3,FALSE)=D31,"",D31+1)) -> 42368 | E32: =IF(D32="","",IF(OR(WEEKDAY(D32,2)=6,WEEKDAY(D32,2)=7,AND(COUNTIF(Feries,$D32)>0,$D32<>"")),"",VLOOKUP(RANDBETWEEN(1,Nb_AS),Parametre!$A$2:$C$11,3,FALSE))) -> KC | F32: =IF(D32="","",IF(OR(WEEKDAY(D32,2)=6,WEEKDAY(D32,2)=7,AND(COUNTIF(Feries,$D32)>0,$D32<>""),WEEKDAY(D32,2)=4),"",VLOOKUP(RANDBETWEEN(1,Nb_AS),Parametre!$A$2:$C$11,3,FALSE))) -> LEBD
B33: 32 | C33: =WEEKNUM(D33) -> 53 | D33: =IF(D32="","",IF(VLOOKUP(A3,Parametre!O2:Q13,3,FALSE)=D32,"",D32+1)) -> 42369 | E33: =IF(D33="","",IF(OR(WEEKDAY(D33,2)=6,WEEKDAY(D33,2)=7,AND(COUNTIF(Feries,$D33)>0,$D33<>"")),"",VLOOKUP(RANDBETWEEN(1,Nb_AS),Parametre!$A$2:$C$11,3,FALSE))) -> JJ | F33: =IF(D33="","",IF(OR(WEEKDAY(D33,2)=6,WEEKDAY(D33,2)=7,AND(COUNTIF(Feries,$D33)>0,$D33<>""),WEEKDAY(D33,2)=4),"",VLOOKUP(RANDBETWEEN(1,Nb_AS),Parametre!$A$2:$C$11,3,FALSE)))

Sheet Resultat 2
A1: =DATE(An_Ref,A3,1) -> 42278 | D1: JOUR | G1: Annuel | H1: =An_Ref -> 2015
B2: 1 | I2: 4
A3: 10 | B3: 2 | C3: =WEEKNUM(D3) -> 40 | D3: =DATE(An_Ref,$A$3,B2) -> 42278 | E3: NA
A4: =VLOOKUP(A3,Parametre!O2:U13,6,FALSE) -> 17 | B4: 3 | C4: =WEEKNUM(D4) -> 40 | D4: =DATE(An_Ref,$A$3,B3) -> 42279 | E4: EB | F4: SC
A5: =VLOOKUP(A3,Parametre!O2:U13,5,FALSE) -> 39 | B5: 4 | C5: =WEEKNUM(D5) -> 40 | D5: =DATE(An_Ref,$A$3,B4) -> 42280
B6: 5 | C6: =WEEKNUM(D6) -> 41 | D6: =DATE(An_Ref,$A$3,B5) -> 42281
B7: 6 | C7: =WEEKNUM(D7) -> 41 | D7: =DATE(An_Ref,$A$3,B6) -> 42282 | E7: KC | F7: VD
B8: 7 | C8: =WEEKNUM(D8) -> 41 | D8: =DATE(An_Ref,$A$3,B7) -> 42283 | E8: LEBD | F8: PF
B9: 8 | C9: =WEEKNUM(D9) -> 41 | D9: =DATE(An_Ref,$A$3,B8) -> 42284 | E9: SJ | F9: JJ
B10: 9 | C10: =WEEKNUM(D10) -> 41 | D10: =DATE(An_Ref,$A$3,B9) -> 42285 | E10: AMT
B11: 10 | C11: =WEEKNUM(D11) -> 41 | D11: =DATE(An_Ref,$A$3,B10) -> 42286 | E11: NA | F11: EB
B12: 11 | C12: =WEEKNUM(D12) -> 41 | D12: =DATE(An_Ref,$A$3,B11) -> 42287
B13: 12 | C13: =WEEKNUM(D13) -> 42 | D13: =DATE(An_Ref,$A$3,B12) -> 42288
B14: 13 | C14: =WEEKNUM(D14) -> 42 | D14: =DATE(An_Ref,$A$3,B13) -> 42289 | E14: SC | F14: KC
B15: 14 | C15: =WEEKNUM(D15) -> 42 | D15: =DATE(An_Ref,$A$3,B14) -> 42290 | E15: VD | F15: LEBD | G15: =COUNTIF($E$3:$F$33,H15) -> 4 | H15: NA | I15: 4
B16: 15 | C16: =WEEKNUM(D16) -> 42 | D16: =DATE(An_Ref,$A$3,B15) -> 42291 | E16: PF | F16: SJ | G16: =COUNTIF($E$3:$F$33,H16) -> 3 | H16: EB | I16: 3
B17: 16 | C17: =WEEKNUM(D17) -> 42 | D17: =DATE(An_Ref,$A$3,B16) -> 42292 | E17: JJ | G17: =COUNTIF($E$3:$F$33,H17) -> 3 | H17: SC | I17: 3
B18: 17 | C18: =WEEKNUM(D18) -> 42 | D18: =DATE(An_Ref,$A$3,B17) -> 42293 | E18: AMT | F18: NA | G18: =COUNTIF($E$3:$F$33,H18) -> 4 | H18: KC | I18: 4
B19: 18 | C19: =WEEKNUM(D19) -> 42 | D19: =DATE(An_Ref,$A$3,B18) -> 42294 | G19: =COUNTIF($E$3:$F$33,H19) -> 4 | H19: VD | I19: 4
B20: 19 | C20: =WEEKNUM(D20) -> 43 | D20: =DATE(An_Ref,$A$3,B19) -> 42295 | G20: =COUNTIF($E$3:$F$33,H20) -> 3 | H20: LEBD | I20: 3
B21: 20 | C21: =WEEKNUM(D21) -> 43 | D21: =DATE(An_Ref,$A$3,B20) -> 42296 | E21: EB | F21: SC | G21: =COUNTIF($E$3:$F$33,H21) -> 3 | H21: PF | I21: 3
B22: 21 | C22: =WEEKNUM(D22) -> 43 | D22: =DATE(An_Ref,$A$3,B21) -> 42297 | E22: KC | F22: VD | G22: =COUNTIF($E$3:$F$33,H22) -> 4 | H22: SJ | I22: 4
B23: 22 | C23: =WEEKNUM(D23) -> 43 | D23: =DATE(An_Ref,$A$3,B22) -> 42298 | E23: LEBD | F23: PF | G23: =COUNTIF($E$3:$F$33,H23) -> 4 | H23: JJ | I23: 4
B24: 23 | C24: =WEEKNUM(D24) -> 43 | D24: =DATE(An_Ref,$A$3,B23) -> 42299 | E24: SJ | G24: =COUNTIF($E$3:$F$33,H24) -> 4 | H24: AMT | I24: 4
B25: 24 | C25: =WEEKNUM(D25) -> 43 | D25: =DATE(An_Ref,$A$3,B24) -> 42300 | E25: JJ | F25: AMT
B26: 25 | C26: =WEEKNUM(D26) -> 43 | D26: =DATE(An_Ref,$A$3,B25) -> 42301
B27: 26 | C27: =WEEKNUM(D27) -> 44 | D27: =DATE(An_Ref,$A$3,B26) -> 42302
B28: 27 | C28: =WEEKNUM(D28) -> 44 | D28: =DATE(An_Ref,$A$3,B27) -> 42303 | E28: NA | F28: KC
B29: 28 | C29: =WEEKNUM(D29) -> 44 | D29: =DATE(An_Ref,$A$3,B28) -> 42304 | E29: VD | F29: SJ
B30: 29 | C30: =WEEKNUM(D30) -> 44 | D30: =D29+1 -> 42305 | E30: JJ | F30: AMT
B31: 30 | C31: =WEEKNUM(D31) -> 44 | D31: =IF(VLOOKUP(A3,Parametre!O2:Q13,3,FALSE)=D30,"",D30+1) -> 42306 | G31: Le reset a gerer manuellemet
B32: 31 | C32: =WEEKNUM(D32) -> 44 | D32: =IF(D31="","",IF(VLOOKUP(A3,Parametre!O2:Q13,3,FALSE)=D31,"",D31+1)) -> 42307
B33: 32 | C33: =WEEKNUM(D33) -> 44 | D33: =IF(D32="","",IF(VLOOKUP(A3,Parametre!O2:Q13,3,FALSE)=D32,"",D32+1)) -> 42308

Sheet Resultat 3
A1: =DATE(An_Ref,A3,1) -> 42309 | D1: JOUR | G1: Annuel | H1: =An_Ref -> 2015
B2: 1
A3: 11 | B3: 2 | C3: =WEEKNUM(D3) -> 45 | D3: =DATE(An_Ref,$A$3,B2) -> 42309
A4: =VLOOKUP(A3,Parametre!O2:U13,6,FALSE) -> 20 | B4: 3 | C4: =WEEKNUM(D4) -> 45 | D4: =DATE(An_Ref,$A$3,B3) -> 42310 | E4: NA | F4: EB
A5: =VLOOKUP(A3,Parametre!O2:U13,5,FALSE) -> 40 | B5: 4 | C5: =WEEKNUM(D5) -> 45 | D5: =DATE(An_Ref,$A$3,B4) -> 42311 | E5: SC | F5: KC
B6: 5 | C6: =WEEKNUM(D6) -> 45 | D6: =DATE(An_Ref,$A$3,B5) -> 42312 | E6: VD | F6: LEBD
B7: 6 | C7: =WEEKNUM(D7) -> 45 | D7: =DATE(An_Ref,$A$3,B6) -> 42313 | E7: PF
B8: 7 | C8: =WEEKNUM(D8) -> 45 | D8: =DATE(An_Ref,$A$3,B7) -> 42314 | E8: SJ | F8: JJ
B9: 8 | C9: =WEEKNUM(D9) -> 45 | D9: =DATE(An_Ref,$A$3,B8) -> 42315
B10: 9 | C10: =WEEKNUM(D10) -> 46 | D10: =DATE(An_Ref,$A$3,B9) -> 42316
B11: 10 | C11: =WEEKNUM(D11) -> 46 | D11: =DATE(An_Ref,$A$3,B10) -> 42317 | E11: AMT | F11: NA
B12: 11 | C12: =WEEKNUM(D12) -> 46 | D12: =DATE(An_Ref,$A$3,B11) -> 42318 | E12: EB | F12: SC
B13: 12 | C13: =WEEKNUM(D13) -> 46 | D13: =DATE(An_Ref,$A$3,B12) -> 42319 | H13: =COUNTIF($E$3:$F$33,I13) -> 4 | I13: NA | J13: 4
B14: 13 | C14: =WEEKNUM(D14) -> 46 | D14: =DATE(An_Ref,$A$3,B13) -> 42320 | E14: KC | H14: =COUNTIF($E$3:$F$33,I14) -> 3 | I14: EB | J14: 3
B15: 14 | C15: =WEEKNUM(D15) -> 46 | D15: =DATE(An_Ref,$A$3,B14) -> 42321 | E15: VD | F15: LEBD | H15: =COUNTIF($E$3:$F$33,I15) -> 3 | I15: SC | J15: 3
B16: 15 | C16: =WEEKNUM(D16) -> 46 | D16: =DATE(An_Ref,$A$3,B15) -> 42322 | H16: =COUNTIF($E$3:$F$33,I16) -> 4 | I16: KC | J16: 4
B17: 16 | C17: =WEEKNUM(D17) -> 47 | D17: =DATE(An_Ref,$A$3,B16) -> 42323 | H17: =COUNTIF($E$3:$F$33,I17) -> 4 | I17: VD | J17: 4
B18: 17 | C18: =WEEKNUM(D18) -> 47 | D18: =DATE(An_Ref,$A$3,B17) -> 42324 | E18: PF | F18: SJ | H18: =COUNTIF($E$3:$F$33,I18) -> 3 | I18: LEBD | J18: 3
B19: 18 | C19: =WEEKNUM(D19) -> 47 | D19: =DATE(An_Ref,$A$3,B18) -> 42325 | E19: JJ | F19: AMT | H19: =COUNTIF($E$3:$F$33,I19) -> 3 | I19: PF | J19: 3
B20: 19 | C20: =WEEKNUM(D20) -> 47 | D20: =DATE(An_Ref,$A$3,B19) -> 42326 | E20: NA | F20: EB | H20: =COUNTIF($E$3:$F$33,I20) -> 4 | I20: SJ | J20: 4
B21: 20 | C21: =WEEKNUM(D21) -> 47 | D21: =DATE(An_Ref,$A$3,B20) -> 42327 | E21: SC | H21: =COUNTIF($E$3:$F$33,I21) -> 4 | I21: JJ | J21: 4
B22: 21 | C22: =WEEKNUM(D22) -> 47 | D22: =DATE(An_Ref,$A$3,B21) -> 42328 | E22: KC | F22: VD | H22: =COUNTIF($E$3:$F$33,I22) -> 4 | I22: AMT | J22: 4
B23: 22 | C23: =WEEKNUM(D23) -> 47 | D23: =DATE(An_Ref,$A$3,B22) -> 42329
B24: 23 | C24: =WEEKNUM(D24) -> 48 | D24: =DATE(An_Ref,$A$3,B23) -> 42330
B25: 24 | C25: =WEEKNUM(D25) -> 48 | D25: =DATE(An_Ref,$A$3,B24) -> 42331 | E25: LEBD | F25: PF
B26: 25 | C26: =WEEKNUM(D26) -> 48 | D26: =DATE(An_Ref,$A$3,B25) -> 42332 | E26: SJ | F26: JJ
B27: 26 | C27: =WEEKNUM(D27) -> 48 | D27: =DATE(An_Ref,$A$3,B26) -> 42333 | E27: AMT | F27: NA
B28: 27 | C28: =WEEKNUM(D28) -> 48 | D28: =DATE(An_Ref,$A$3,B27) -> 42334 | E28: KC
B29: 28 | C29: =WEEKNUM(D29) -> 48 | D29: =DATE(An_Ref,$A$3,B28) -> 42335 | E29: VD | F29: SJ
B30: 29 | C30: =WEEKNUM(D30) -> 48 | D30: =D29+1 -> 42336
B31: 30 | C31: =WEEKNUM(D31) -> 49 | D31: =IF(VLOOKUP(A3,Parametre!O2:Q13,3,FALSE)=D30,"",D30+1) -> 42337 | G31: Le reset a gerer manuellemet
B32: 31 | C32: =WEEKNUM(D32) -> 49 | D32: =IF(D31="","",IF(VLOOKUP(A3,Parametre!O2:Q13,3,FALSE)=D31,"",D31+1)) -> 42338 | E32: JJ | F32: AMT
B33: 32 | C33: =WEEKNUM(D33) -> #VALUE! | D33: =IF(D32="","",IF(VLOOKUP(A3,Parametre!O2:Q13,3,FALSE)=D32,"",D32+1))

Sheet Parametre
A1: Numero | B1: NOM - PRENOM | C1: Initiales | D1: Nb perm | E1: AIO | F1: Temps Partiel | G1: jour TP | H1: Nb 1/2 journées | I1: Année | J1: Jours | K1: Fériés | L1: Vacances | M1: Mois | N1: Ponts | O1: Mois | P1: Début mois | Q1: Fin de mois | R1: Nb_Jr Vac / Mois | S1: Nb total Jour ouvre / Mois * 2 | T1: Nb jour ouvrée AIO | U1: Nb jour ouvrée AIO | V1: Reste
A2: 1 | B2: Personne 1 | C2: NA | D2: =COUNTIF(Resultat!$E$3:$F$33,C2) -> 3 | E2: =Resultat!$A$5*Parametre!F2/Parametre!$C$12 -> 3.9 | F2: 1 | H2: =ROUNDUP(Resultat!$A$4*Parametre!F2*2,0) -> 34 | I2: 2015 | J2: Nouvel An | K2: =DATE(An_Ref,1,1) -> 42005 | L2: 42005 | M2: =IF(L2="","",MONTH(L2)) -> 1 | N2: 42139 | O2: 1 | P2: =DATE(An_Ref,1,1) -> 42005 | Q2: =EOMONTH(P2,0) -> 42035 | R2: =COUNTIF(M:M,O2) -> 4 | S2: =IF(R2>=24,NETWORKDAYS(P2,Q2,Feries)*2-10,IF(R2>=10,NETWORKDAYS(P2,Q2,Feries)*2-5,NETWORKDAYS(P2,Q2,Feries)*2)) -> 42 | T2: =IF(R2>=24,NETWORKDAYS($P2,$Q2,Feries)-10,IF(R2>=10,NETWORKDAYS($P2,$Q2,Feries)-5,NETWORKDAYS($P2,$Q2,Feries))) -> 21 | U2: =NETWORKDAYS($P2,$Q2,Feries) -> 21 | V2: 5
A3: 2 | B3: Personne 2 | C3: EB | D3: =COUNTIF(Resultat!$E$3:$F$33,C3) -> 2 | E3: =Resultat!$A$5*Parametre!F3/Parametre!$C$12 -> 3.12 | F3: 0.8 | G3: Mercredi | H3: =ROUNDUP(Resultat!$A$4*Parametre!F3*2,0) -> 28 | J3: Pâques | K3: =ROUND(DATE(An_Ref,4,MOD(234-11*MOD(An_Ref,19),30))/7,0)*7-6 -> 42099 | L3: 42006 | M3: =IF(L3="","",MONTH(L3)) -> 1 | N3: 42198 | O3: 2 | P3: =DATE(An_Ref,2,1) -> 42036 | Q3: =EOMONTH(P3,0) -> 42063 | R3: =COUNTIF(M:M,O3) -> 16 | S3: =IF(R3>=24,NETWORKDAYS(P3,Q3,Feries)*2-10,IF(R3>=10,NETWORKDAYS(P3,Q3,Feries)*2-5,NETWORKDAYS(P3,Q3,Feries)*2)) -> 35 | T3: =IF(R3>=24,NETWORKDAYS($P3,$Q3,Feries)-10,IF(R3>=10,NETWORKDAYS($P3,$Q3,Feries)-5,NETWORKDAYS($P3,$Q3,Feries))) -> 15 | U3: =NETWORKDAYS($P3,$Q3,Feries) -> 20
A4: 3 | B4: Personne 3 | C4: SC | D4: =COUNTIF(Resultat!$E$3:$F$33,C4) -> 4 | E4: =Resultat!$A$5*Parametre!F4/Parametre!$C$12 -> 3.12 | F4: 0.8 | G4: Vendredi | H4: =ROUNDUP(Resultat!$A$4*Parametre!F4*2,0) -> 28 | J4: Lundi de Pâques | K4: =paques+1 -> 42100 | L4: 42007 | M4: =IF(L4="","",MONTH(L4)) -> 1 | O4: 3 | P4: =DATE(An_Ref,3,1) -> 42064 | Q4: =EOMONTH(P4,0) -> 42094 | R4: =COUNTIF(M:M,O4) -> 0 | S4: =IF(R4>=24,NETWORKDAYS(P4,Q4,Feries)*2-10,IF(R4>=10,NETWORKDAYS(P4,Q4,Feries)*2-5,NETWORKDAYS(P4,Q4,Feries)*2)) -> 44 | T4: =IF(R4>=24,NETWORKDAYS($P4,$Q4,Feries)-10,IF(R4>=10,NETWORKDAYS($P4,$Q4,Feries)-5,NETWORKDAYS($P4,$Q4,Feries))) -> 22 | U4: =NETWORKDAYS($P4,$Q4,Feries) -> 22
A5: 4 | B5: Personne 4 | C5: KC | D5: =COUNTIF(Resultat!$E$3:$F$33,C5) -> 3 | E5: =Resultat!$A$5*Parametre!F5/Parametre!$C$12 -> 3.9 | F5: 1 | H5: =ROUNDUP(Resultat!$A$4*Parametre!F5*2,0) -> 34 | J5: Fête du travail | K5: =DATE(An_Ref,5,1) -> 42125 | L5: 42008 | M5: =IF(L5="","",MONTH(L5)) -> 1 | O5: 4 | P5: =DATE(An_Ref,4,1) -> 42095 | Q5: =EOMONTH(P5,0) -> 42124 | R5: =COUNTIF(M:M,O5) -> 16 | S5: =IF(R5>=24,NETWORKDAYS(P5,Q5,Feries)*2-10,IF(R5>=10,NETWORKDAYS(P5,Q5,Feries)*2-5,NETWORKDAYS(P5,Q5,Feries)*2)) -> 37 | T5: =IF(R5>=24,NETWORKDAYS($P5,$Q5,Feries)-10,IF(R5>=10,NETWORKDAYS($P5,$Q5,Feries)-5,NETWORKDAYS($P5,$Q5,Feries))) -> 16 | U5: =NETWORKDAYS($P5,$Q5,Feries) -> 21
A6: 5 | B6: Personne 5 | C6: VD | D6: =COUNTIF(Resultat!$E$3:$F$33,C6) -> 5 | E6: =Resultat!$A$5*Parametre!F6/Parametre!$C$12 -> 3.9 | F6: 1 | H6: =ROUNDUP(Resultat!$A$4*Parametre!F6*2,0) -> 34 | J6: Victoire 1945 | K6: =DATE(An_Ref,5,8) -> 42132 | L6: 42042 | M6: =IF(L6="","",MONTH(L6)) -> 2 | O6: 5 | P6: =DATE(An_Ref,5,1) -> 42125 | Q6: =EOMONTH(P6,0) -> 42155 | R6: =COUNTIF(M:M,O6) -> 0 | S6: =IF(R6>=24,NETWORKDAYS(P6,Q6,Feries)*2-10,IF(R6>=10,NETWORKDAYS(P6,Q6,Feries)*2-5,NETWORKDAYS(P6,Q6,Feries)*2)) -> 32 | T6: =IF(R6>=24,NETWORKDAYS($P6,$Q6,Feries)-10,IF(R6>=10,NETWORKDAYS($P6,$Q6,Feries)-5,NETWORKDAYS($P6,$Q6,Feries))) -> 16 | U6: =NETWORKDAYS($P6,$Q6,Feries) -> 16
A7: 6 | B7: Personne 6 | C7: LEBD | D7: =COUNTIF(Resultat!$E$3:$F$33,C7) -> 3 | E7: =Resultat!$A$5*Parametre!F7/Parametre!$C$12 -> 3.12 | F7: 0.8 | G7: Vendredi | H7: =ROUNDUP(Resultat!$A$4*Parametre!F7*2,0) -> 28 | J7: Ascension | K7: =paques+39 -> 42138 | L7: 42043 | M7: =IF(L7="","",MONTH(L7)) -> 2 | O7: 6 | P7: =DATE(An_Ref,6,1) -> 42156 | Q7: =EOMONTH(P7,0) -> 42185 | R7: =COUNTIF(M:M,O7) -> 0 | S7: =IF(R7>=24,NETWORKDAYS(P7,Q7,Feries)*2-10,IF(R7>=10,NETWORKDAYS(P7,Q7,Feries)*2-5,NETWORKDAYS(P7,Q7,Feries)*2)) -> 44 | T7: =IF(R7>=24,NETWORKDAYS($P7,$Q7,Feries)-10,IF(R7>=10,NETWORKDAYS($P7,$Q7,Feries)-5,NETWORKDAYS($P7,$Q7,Feries))) -> 22 | U7: =NETWORKDAYS($P7,$Q7,Feries) -> 22
A8: 7 | B8: Personne 7 | C8: PF | D8: =COUNTIF(Resultat!$E$3:$F$33,C8) -> 6 | E8: =Resultat!$A$5*Parametre!F8/Parametre!$C$12 -> 3.12 | F8: 0.8 | G8: Lundi | H8: =ROUNDUP(Resultat!$A$4*Parametre!F8*2,0) -> 28 | J8: Pentecôte | K8: =paques+49 -> 42148 | L8: 42044 | M8: =IF(L8="","",MONTH(L8)) -> 2 | O8: 7 | P8: =DATE(An_Ref,7,1) -> 42186 | Q8: =EOMONTH(P8,0) -> 42216 | R8: =COUNTIF(M:M,O8) -> 28 | S8: =IF(R8>=24,NETWORKDAYS(P8,Q8,Feries)*2-10,IF(R8>=10,NETWORKDAYS(P8,Q8,Feries)*2-5,NETWORKDAYS(P8,Q8,Feries)*2)) -> 32 | T8: =IF(R8>=24,NETWORKDAYS($P8,$Q8,Feries)-10,IF(R8>=10,NETWORKDAYS($P8,$Q8,Feries)-5,NETWORKDAYS($P8,$Q8,Feries))) -> 11 | U8: =NETWORKDAYS($P8,$Q8,Feries) -> 21
A9: 8 | B9: Personne 8 | C9: SJ | D9: =COUNTIF(Resultat!$E$3:$F$33,C9) -> 4 | E9: =Resultat!$A$5*Parametre!F9/Parametre!$C$12 -> 3.9 | F9: 1 | H9: =ROUNDUP(Resultat!$A$4*Parametre!F9*2,0) -> 34 | J9: Lundi de Pentecôte | K9: =paques+50 -> 42149 | L9: 42045 | M9: =IF(L9="","",MONTH(L9)) -> 2 | O9: 8 | P9: =DATE(An_Ref,8,1) -> 42217 | Q9: =EOMONTH(P9,0) -> 42247 | R9: =COUNTIF(M:M,O9) -> 30 | S9: =IF(R9>=24,NETWORKDAYS(P9,Q9,Feries)*2-10,IF(R9>=10,NETWORKDAYS(P9,Q9,Feries)*2-5,NETWORKDAYS(P9,Q9,Feries)*2)) -> 32 | T9: =IF(R9>=24,NETWORKDAYS($P9,$Q9,Feries)-10,IF(R9>=10,NETWORKDAYS($P9,$Q9,Feries)-5,NETWORKDAYS($P9,$Q9,Feries))) -> 11 | U9: =NETWORKDAYS($P9,$Q9,Feries) -> 21
A10: 9 | B10: Personne 9 | C10: JJ | D10: =COUNTIF(Resultat!$E$3:$F$33,C10) -> 4 | E10: =Resultat!$A$5*Parametre!F10/Parametre!$C$12 -> 3.9 | F10: 1 | H10: =ROUNDUP(Resultat!$A$4*Parametre!F10*2,0) -> 34 | J10: Fête Nationale | K10: =DATE(An_Ref,7,14) -> 42199 | L10: 42046 | M10: =IF(L10="","",MONTH(L10)) -> 2 | O10: 9 | P10: =DATE(An_Ref,9,1) -> 42248 | Q10: =EOMONTH(P10,0) -> 42277 | R10: =COUNTIF(M:M,O10) -> 0 | S10: =IF(R10>=24,NETWORKDAYS(P10,Q10,Feries)*2-10,IF(R10>=10,NETWORKDAYS(P10,Q10,Feries)*2-5,NETWORKDAYS(P10,Q10,Feries)*2)) -> 44 | T10: =IF(R10>=24,NETWORKDAYS($P10,$Q10,Feries)-10,IF(R10>=10,NETWORKDAYS($P10,$Q10,Feries)-5,NETWORKDAYS($P10,$Q10,Feries))) -> 22 | U10: =NETWORKDAYS($P10,$Q10,Feries) -> 22
A11: 10 | B11: Personne 10 | C11: AMT | D11: =COUNTIF(Resultat!$E$3:$F$33,C11) -> 5 | E11: =Resultat!$A$5*Parametre!F11/Parametre!$C$12 -> 3.9 | F11: 1 | H11: =ROUNDUP(Resultat!$A$4*Parametre!F11*2,0) -> 34 | J11: Assomption | K11: =DATE(An_Ref,8,15) -> 42231 | L11: 42047 | M11: =IF(L11="","",MONTH(L11)) -> 2 | O11: 10 | P11: =DATE(An_Ref,10,1) -> 42278 | Q11: =EOMONTH(P11,0) -> 42308 | R11: =COUNTIF(M:M,O11) -> 15 | S11: =IF(R11>=24,NETWORKDAYS(P11,Q11,Feries)*2-10,IF(R11>=10,NETWORKDAYS(P11,Q11,Feries)*2-5,NETWORKDAYS(P11,Q11,Feries)*2)) -> 39 | T11: =IF(R11>=24,NETWORKDAYS($P11,$Q11,Feries)-10,IF(R11>=10,NETWORKDAYS($P11,$Q11,Feries)-5,NETWORKDAYS($P11,$Q11,Feries))) -> 17 | U11: =NETWORKDAYS($P11,$Q11,Feries) -> 22
C12: =COUNTA(B2:B11) -> 10 | J12: Toussaint | K12: =DATE(An_Ref,11,1) -> 42309 | L12: 42048 | M12: =IF(L12="","",MONTH(L12)) -> 2 | O12: 11 | P12: =DATE(An_Ref,11,1) -> 42309 | Q12: =EOMONTH(P12,0) -> 42338 | R12: =COUNTIF(M:M,O12) -> 1 | S12: =IF(R12>=24,NETWORKDAYS(P12,Q12,Feries)*2-10,IF(R12>=10,NETWORKDAYS(P12,Q12,Feries)*2-5,NETWORKDAYS(P12,Q12,Feries)*2)) -> 40 | T12: =IF(R12>=24,NETWORKDAYS($P12,$Q12,Feries)-10,IF(R12>=10,NETWORKDAYS($P12,$Q12,Feries)-5,NETWORKDAYS($P12,$Q12,Feries))) -> 20 | U12: =NETWORKDAYS($P12,$Q12,Feries) -> 20
J13: Armistice | K13: =DATE(An_Ref,11,11) -> 42319 | L13: 42049 | M13: =IF(L13="","",MONTH(L13)) -> 2 | O13: 12 | P13: =DATE(An_Ref,12,1) -> 42339 | Q13: =EOMONTH(P13,0) -> 42369 | R13: =COUNTIF(M:M,O13) -> 13 | S13: =IF(R13>=24,NETWORKDAYS(P13,Q13,Feries)*2-10,IF(R13>=10,NETWORKDAYS(P13,Q13,Feries)*2-5,NETWORKDAYS(P13,Q13,Feries)*2)) -> 39 | T13: =IF(R13>=24,NETWORKDAYS($P13,$Q13,Feries)-10,IF(R13>=10,NETWORKDAYS($P13,$Q13,Feries)-5,NETWORKDAYS($P13,$Q13,Feries))) -> 17 | U13: =NETWORKDAYS($P13,$Q13,Feries) -> 22
J14: Noël | K14: =DATE(An_Ref,12,25) -> 42363 | L14: 42050 | M14: =IF(L14="","",MONTH(L14)) -> 2
L15: 42051 | M15: =IF(L15="","",MONTH(L15)) -> 2
K16: =N2 -> 42139 | L16: 42052 | M16: =IF(L16="","",MONTH(L16)) -> 2
K17: =N3 -> 42198 | L17: 42053 | M17: =IF(L17="","",MONTH(L17)) -> 2
K18: =N4 -> 0 | L18: 42054 | M18: =IF(L18="","",MONTH(L18)) -> 2
K19: =N5 -> 0 | L19: 42055 | M19: =IF(L19="","",MONTH(L19)) -> 2
K20: =N6 -> 0 | L20: 42056 | M20: =IF(L20="","",MONTH(L20)) -> 2
L21: 42057 | M21: =IF(L21="","",MONTH(L21)) -> 2
L22: 42105 | M22: =IF(L22="","",MONTH(L22)) -> 4
L23: 42106 | M23: =IF(L23="","",MONTH(L23)) -> 4
L24: 42107 | M24: =IF(L24="","",MONTH(L24)) -> 4
L25: 42108 | M25: =IF(L25="","",MONTH(L25)) -> 4
L26: 42109 | M26: =IF(L26="","",MONTH(L26)) -> 4
L27: 42110 | M27: =IF(L27="","",MONTH(L27)) -> 4
L28: 42111 | M28: =IF(L28="","",MONTH(L28)) -> 4
L29: 42112 | M29: =IF(L29="","",MONTH(L29)) -> 4
L30: 42113 | M30: =IF(L30="","",MONTH(L30)) -> 4
L31: 42114 | M31: =IF(L31="","",MONTH(L31)) -> 4
L32: 42115 | M32: =IF(L32="","",MONTH(L32)) -> 4
... L124: 42369 | M124: =IF(L124="","",MONTH(L124)) -> 12
M125: =IF(L125="","",MONTH(L125))
M126: =IF(L126="","",MONTH(L126))
M127: =IF(L127="","",MONTH(L127))
M128: =IF(L128="","",MONTH(L128))
M129: =IF(L129="","",MONTH(L129))
M130: =IF(L130="","",MONTH(L130))
M131: =IF(L131="","",MONTH(L131))
M132: =IF(L132="","",MONTH(L132))
M133: =IF(L133="","",MONTH(L133))
M134: =IF(L134="","",MONTH(L134))
M135: =IF(L135="","",MONTH(L135))
M136: =IF(L136="","",MONTH(L136))
... M140: =IF(L140="","",MONTH(L140))

Sheet Calcul
B2: 1- On va faire un tri croissant des pointage en excluant le 0 :
B3: 2-
B4: (Pointage_Pro!$T4=1;Pointage_Pro!L4;SI(ET(Pointage_Pro!W4<2;Pointage_Pro!T4=2);Pointage_Pro!L4;SI(ET(Pointage_Pro!W4<2;Pointage_Pro!T4=3);Pointage_Pro!M4;SI(Pointage_Pro!W4=2;Pointage_Pro!N4;SI(Pointage_Pro!W4=3;Pointage_Pro!O4;Pointage_Pro!P4)))))
B6: Rechercer compteur par rapport à la personne
B7: SI(Pointage_Pro!W3<2;Pointage_Pro!V3;SI(Pointage_Pro!W4<Pointage_Pro!W4;Pointage_Pro!V4;SI(Pointage_Pro!W5<2;Pointage_Pro!V5;SI(Pointage_Pro!W6<2;Pointage_Pro!V6;SI(Pointage_Pro!W7<2;Pointage_Pro!V7;SI(Pointage_Pro!W8<2;Pointage_Pro!V8;SI(Pointage_Pro!W9<2;Pointage_Pro!V9;SI(Pointage_Pro!W10<2;Pointage_Pro!V10;SI(Pointage_Pro!W11<2;Pointage_Pro!V11;SI(Pointage_Pro!W12<2;Pointage_Pro!V12;SI(Pointage_Pro!W13<2;Pointage_Pro!V13;Pointage_Pro!V14)))))))))))
B10: Rechercher 1er AS avec compter <2
B11: SI(Pointage_Pro!$T3=1;Pointage_Pro!L3;SI(Pointage_Pro!T3=0;"";RECHERCHEH(Parametre!$L$2;Pointage_Pro!L3:R3;1;FAUX)))
B16: 1er si
B17: SI(Pointage_Pro!L3="";"";SI(Pointage_Pro!$T3=1;Pointage_Pro!L3,
B18: 2eme si
B19: SI(Pointage_Pro!T3=2;SI(RECHERCHEV(Pointage_Pro!L3;Pointage_Pro!$W$3:$Y$14;3;0)<Creneau;Pointage_Pro!L3;SI(RECHERCHEV(Pointage_Pro!M3;Pointage_Pro!$W$3:$Y$14;3;0)<Creneau;Pointage_Pro!M3;"")))))
B20: 3eme si
B22: SI(Pointage_Pro!S3=0;"";SI(Pointage_Pro!S3=1;Pointage_Pro!D3;SI(Pointage_Pro!S3=2;SI(RECHERCHEV(Pointage_Pro!D3;Pointage_Pro!$W$3:$Y$14;3;0)<Creneau;Pointage_Pro!D3;SI(RECHERCHEV(Pointage_Pro!E3;Pointage_Pro!$W$3:$Y$14;3;0)<Creneau;Pointage_Pro!E3;""));SI(Pointage_Pro!S3=3;SI(RECHERCHEV(Pointage_Pro!D3;Pointage_Pro!$W$3:$Y$14;3;0)<Creneau;Pointage_Pro!D3;SI(RECHERCHEV(Pointage_Pro!E3;Pointage_Pro!$W$3:$Y$14;3;0)<Creneau;Pointage_Pro!E3;SI(RECHERCHEV(Pointage_Pro!F3;Pointage_Pro!$W$3:$Y$14;3;0)<Creneau;Pointage_Pro!F3;"")));SI(Pointage_Pro!S3=4;SI(RECHERCHEV(Pointage_Pro!D3;Pointage_Pro!$W$3:$Y$14;3;0)<Creneau;Pointage_Pro!D3;SI(RECHERCHEV(Pointage_Pro!E3;Pointage_Pro!$W$3:$Y$14;3;0)<Creneau;Pointage_Pro!E3;SI(RECHERCHEV(Pointage_Pro!F3;Pointage_Pro!$W$3:$Y$14;3;0)<Creneau;Pointage_Pro!F3;SI(RECHERCHEV(Pointage_Pro!G3;Pointage_Pro!$W$3:$Y$14;3;0)<Creneau;Pointage_Pro!G3;""))));SI(Pointage_Pro!S3=5;SI(RECHERCHEV(Pointage_Pro!D3;Pointage_Pro!$W$3:$Y$14;3;0)<Creneau;Pointage_Pro!D3;SI(RECHERCHEV(Pointage_Pro!E3;Pointage_Pro!$W$3:$Y$14;3;0)<Creneau;Pointage_Pro!E3;SI(RECHERCHEV(Pointage_Pro!F3;Pointage_Pro!$W$3:$Y$14;3;0)<Creneau;Pointage_Pro!F3;SI(RECHERCHEV(Pointage_Pro!G3;Pointage_Pro!$W$3:$Y$14;3;0)<Creneau;Pointage_Pro!G3;SI(RECHERCHEV(Pointage_Pro!H3;Pointage_Pro!$W$3:$Y$14;3;0)<Creneau;Pointage_Pro!H3;"")))));SI(Pointage_Pro!S3=6;SI(RECHERCHEV(Pointage_Pro!D3;Pointage_Pro!$W$3:$Y$14;3;0)<Creneau;Pointage_Pro!D3;SI(RECHERCHEV(Pointage_Pro!E3;Pointage_Pro!$W$3:$Y$14;3;0)<Creneau;Pointage_Pro!E3;SI(RECHERCHEV(Pointage_Pro!F3;Pointage_Pro!$W$3:$Y$14;3;0)<Creneau;Pointage_Pro!F3;SI(RECHERCHEV(Pointage_Pro!G3;Pointage_Pro!$W$3:$Y$14;3;0)<Creneau;Pointage_Pro!G3;SI(RECHERCHEV(Pointage_Pro!H3;Pointage_Pro!$W$3:$Y$14;3;0)<Creneau;Pointage_Pro!H3;SI(RECHERCHEV(Pointage_Pro!I3;Pointage_Pro!$W$3:$Y$14;3;0)<Creneau;Pointage_Pro!I3;""))))));SI(Pointage_Pro!S3=7;SI(RECHERCHEV(Pointage_Pro!D3;Pointage_Pro!$W$3:$Y$14;3;0)<Creneau;Pointage_Pro!D3;SI(RECHERCHEV(Pointage_Pro!E3;Pointage_Pro!$W$3:$Y$14;3;0)<Creneau;Pointage_Pro!E3;SI(RECHERCHEV(Pointage_Pro!F3;Pointage_Pro!$W$3:$Y$14;3;0)<Creneau;Pointage_Pro!F3;SI(RECHERCHEV(Pointage_Pro!G3;Pointage_Pro!$W$3:$Y$14;3;0)<Creneau;Pointage_Pro!G3;SI(RECHERCHEV(Pointage_Pro!H3;Pointage_Pro!$W$3:$Y$14;3;0)<Creneau;Pointage_Pro!H3;SI(RECHERCHEV(Pointage_Pro!I3;Pointage_Pro!$W$3:$Y$14;3;0)<Creneau;Pointage_Pro!I3;SI(RECHERCHEV(Pointage_Pro!J3;Pointage_Pro!$W$3:$Y$14;3;0)<Creneau;Pointage_Pro!J3;"")))))))))))))))
