Workbook

Sheet Population mère
A1: SIREN | B1: Raison Sociale | C1: Département | D1: Effectif | E1: Tranche | F1: N° tranche | G1: Aléatoire | H1: Rang nombre aléatoire | I1: 1 - 9 | J1: 10 - 49 | K1: 50 - 249 | L1: 250 et plus | M1: 1 - 9 | N1: 10 - 49 | O1: 50 - 249 | P1: 250 et plus | Q1: Maxi | R1: Ok
A2: 123 | B2: Entreprise 1 | C2: 1 | D2: 267 | E2: =IF(AND(D2>=0,D2<10),"1 - 9",IF(AND(D2>9,D2<50),"10 - 49",IF(AND(D2>49,D2<250),"50 - 249","250 et plus"))) -> 250 et plus | F2: =IF(E2="1 - 9",1,IF(E2="10 - 49",2,IF(E2="50 - 249",3,IF(E2="250 et plus",4,"Erreur")))) -> 4 | G2: =RAND() -> 0.17806378 | H2: =RANK(G2,G:G) -> 6 | I2: =IF(E2=$I$1,H2,0) -> 0 | J2: =IF($J$1=E2,H2,0) -> 0 | K2: =IF(E2=$K$1,H2,0) -> 0 | L2: =IF(E2=$L$1,H2,0) -> 6 | M2: =IF(I2<>0,RANK(I2,$I$2:$I$65535),0) -> 0 | N2: =IF(J2<>0,RANK(J2,$J$2:$J$65535),0) -> 0 | O2: =IF(K2<>0,RANK(K2,$K$2:$K$65535),0) -> 0 | P2: =IF(L2<>0,RANK(L2,$L$2:$L$65535),0) -> 1 | Q2: =VLOOKUP(C2,'Critères d''échantillonnage'!$C$5:$G$99,F2+1,FALSE) -> 1 | R2: =IF(SUM(M2:P2)<=Q2,1,0) -> 1
A3: 456 | B3: Entreprise 2 | C3: 2 | D3: 289 | E3: =IF(AND(D3>=0,D3<10),"1 - 9",IF(AND(D3>9,D3<50),"10 - 49",IF(AND(D3>49,D3<250),"50 - 249","250 et plus"))) -> 250 et plus | F3: =IF(E3="1 - 9",1,IF(E3="10 - 49",2,IF(E3="50 - 249",3,IF(E3="250 et plus",4,"Erreur")))) -> 4 | G3: =RAND() -> 0.83196418 | H3: =RANK(G3,G:G) -> 2 | I3: =IF(E3=$I$1,H3,0) -> 0 | J3: =IF($J$1=E3,H3,0) -> 0 | K3: =IF(E3=$K$1,H3,0) -> 0 | L3: =IF(E3=$L$1,H3,0) -> 2 | M3: =IF(I3<>0,RANK(I3,$I$2:$I$65535),0) -> 0 | N3: =IF(J3<>0,RANK(J3,$J$2:$J$65535),0) -> 0 | O3: =IF(K3<>0,RANK(K3,$K$2:$K$65535),0) -> 0 | P3: =IF(L3<>0,RANK(L3,$L$2:$L$65535),0) -> 3 | Q3: =VLOOKUP(C3,'Critères d''échantillonnage'!$C$5:$G$99,F3+1,FALSE) -> 3 | R3: =IF(SUM(M3:P3)<=Q3,1,0) -> 1
A4: 789 | B4: Entreprise 3 | C4: 3 | D4: 267 | E4: =IF(AND(D4>=0,D4<10),"1 - 9",IF(AND(D4>9,D4<50),"10 - 49",IF(AND(D4>49,D4<250),"50 - 249","250 et plus"))) -> 250 et plus | F4: =IF(E4="1 - 9",1,IF(E4="10 - 49",2,IF(E4="50 - 249",3,IF(E4="250 et plus",4,"Erreur")))) -> 4 | G4: =RAND() -> 0.25393954 | H4: =RANK(G4,G:G) -> 5 | I4: =IF(E4=$I$1,H4,0) -> 0 | J4: =IF($J$1=E4,H4,0) -> 0 | K4: =IF(E4=$K$1,H4,0) -> 0 | L4: =IF(E4=$L$1,H4,0) -> 5 | M4: =IF(I4<>0,RANK(I4,$I$2:$I$65535),0) -> 0 | N4: =IF(J4<>0,RANK(J4,$J$2:$J$65535),0) -> 0 | O4: =IF(K4<>0,RANK(K4,$K$2:$K$65535),0) -> 0 | P4: =IF(L4<>0,RANK(L4,$L$2:$L$65535),0) -> 2 | Q4: =VLOOKUP(C4,'Critères d''échantillonnage'!$C$5:$G$99,F4+1,FALSE) -> 1 | R4: =IF(SUM(M4:P4)<=Q4,1,0) -> 0
A5: 1011 | B5: Entreprise 4 | C5: 2 | D5: 52 | E5: =IF(AND(D5>=0,D5<10),"1 - 9",IF(AND(D5>9,D5<50),"10 - 49",IF(AND(D5>49,D5<250),"50 - 249","250 et plus"))) -> 50 - 249 | F5: =IF(E5="1 - 9",1,IF(E5="10 - 49",2,IF(E5="50 - 249",3,IF(E5="250 et plus",4,"Erreur")))) -> 3 | G5: =RAND() -> 0.54225576 | H5: =RANK(G5,G:G) -> 3 | I5: =IF(E5=$I$1,H5,0) -> 0 | J5: =IF($J$1=E5,H5,0) -> 0 | K5: =IF(E5=$K$1,H5,0) -> 3 | L5: =IF(E5=$L$1,H5,0) -> 0 | M5: =IF(I5<>0,RANK(I5,$I$2:$I$65535),0) -> 0 | N5: =IF(J5<>0,RANK(J5,$J$2:$J$65535),0) -> 0 | O5: =IF(K5<>0,RANK(K5,$K$2:$K$65535),0) -> 1 | P5: =IF(L5<>0,RANK(L5,$L$2:$L$65535),0) -> 0 | Q5: =VLOOKUP(C5,'Critères d''échantillonnage'!$C$5:$G$99,F5+1,FALSE) -> 9 | R5: =IF(SUM(M5:P5)<=Q5,1,0) -> 1
A6: 1213 | B6: Entreprise 5 | C6: 2 | D6: 283 | E6: =IF(AND(D6>=0,D6<10),"1 - 9",IF(AND(D6>9,D6<50),"10 - 49",IF(AND(D6>49,D6<250),"50 - 249","250 et plus"))) -> 250 et plus | F6: =IF(E6="1 - 9",1,IF(E6="10 - 49",2,IF(E6="50 - 249",3,IF(E6="250 et plus",4,"Erreur")))) -> 4 | G6: =RAND() -> 0.92059632 | H6: =RANK(G6,G:G) -> 1 | I6: =IF(E6=$I$1,H6,0) -> 0 | J6: =IF($J$1=E6,H6,0) -> 0 | K6: =IF(E6=$K$1,H6,0) -> 0 | L6: =IF(E6=$L$1,H6,0) -> 1 | M6: =IF(I6<>0,RANK(I6,$I$2:$I$65535),0) -> 0 | N6: =IF(J6<>0,RANK(J6,$J$2:$J$65535),0) -> 0 | O6: =IF(K6<>0,RANK(K6,$K$2:$K$65535),0) -> 0 | P6: =IF(L6<>0,RANK(L6,$L$2:$L$65535),0) -> 4 | Q6: =VLOOKUP(C6,'Critères d''échantillonnage'!$C$5:$G$99,F6+1,FALSE) -> 3 | R6: =IF(SUM(M6:P6)<=Q6,1,0) -> 0
A7: 1415 | B7: Entreprise 6 | C7: 2 | D7: 29 | E7: =IF(AND(D7>=0,D7<10),"1 - 9",IF(AND(D7>9,D7<50),"10 - 49",IF(AND(D7>49,D7<250),"50 - 249","250 et plus"))) -> 10 - 49 | F7: =IF(E7="1 - 9",1,IF(E7="10 - 49",2,IF(E7="50 - 249",3,IF(E7="250 et plus",4,"Erreur")))) -> 2 | G7: =RAND() -> 0.50367454 | H7: =RANK(G7,G:G) -> 4 | I7: =IF(E7=$I$1,H7,0) -> 0 | J7: =IF($J$1=E7,H7,0) -> 4 | K7: =IF(E7=$K$1,H7,0) -> 0 | L7: =IF(E7=$L$1,H7,0) -> 0 | M7: =IF(I7<>0,RANK(I7,$I$2:$I$65535),0) -> 0 | N7: =IF(J7<>0,RANK(J7,$J$2:$J$65535),0) -> 1 | O7: =IF(K7<>0,RANK(K7,$K$2:$K$65535),0) -> 0 | P7: =IF(L7<>0,RANK(L7,$L$2:$L$65535),0) -> 0 | Q7: =VLOOKUP(C7,'Critères d''échantillonnage'!$C$5:$G$99,F7+1,FALSE) -> 8 | R7: =IF(SUM(M7:P7)<=Q7,1,0) -> 1

Sheet Critères d'échantillonnage
A1: Définition des critères d'échantillonnage
D3: Taille d'entreprises
D4: 1 - 9 | E4: 10 - 49 | F4: 50 - 249 | G4: 250 et plus | I4: Total
B5: Départements | C5: 1 | D5: 2 | E5: 3 | F5: 4 | G5: 1 | I5: =SUM(D5:G5) -> 10
C6: 2 | D6: 7 | E6: 8 | F6: 9 | G6: 3 | I6: =SUM(D6:G6) -> 27
C7: 3 | D7: 1 | E7: 12 | F7: 4 | G7: 1 | I7: =SUM(D7:G7) -> 18
C8: 4 | I8: =SUM(D8:G8) -> 0
C9: 5 | I9: =SUM(D9:G9) -> 0
C10: 6 | I10: =SUM(D10:G10) -> 0
C11: 7 | I11: =SUM(D11:G11) -> 0
C12: 8 | I12: =SUM(D12:G12) -> 0
C13: 9 | I13: =SUM(D13:G13) -> 0
C14: 10 | I14: =SUM(D14:G14) -> 0
C15: 11 | I15: =SUM(D15:G15) -> 0
C16: 12 | I16: =SUM(D16:G16) -> 0
C17: 13 | I17: =SUM(D17:G17) -> 0
C18: 14 | I18: =SUM(D18:G18) -> 0
C19: 15 | I19: =SUM(D19:G19) -> 0
... C99: 95 | I99: =SUM(D99:G99) -> 0
I100: =SUM(I5:I99) -> 55
C101: Total | D101: =SUM(D5:D99) -> 10 | E101: =SUM(E5:E99) -> 23 | F101: =SUM(F5:F99) -> 17 | G101: =SUM(G5:G99) -> 5 | I101: =SUM(D101:H101) -> 55

Sheet Echantillonnage
A1: Ok | B1: 1
A3: Étiquettes de lignes
A4: 456
A5: 789
A6: 1011
A7: 1415
A8: Total général
