Workbook

Sheet ADRESSES
A1: N° | B1: Voie | C1: Adresse | E1: Etat Negociation | F1: Nb logements | G1: Propriétaire | H1: Info proprio | I1: Info proprio | J1: Adresse propriétaire | K1: Nom Syndic | L1: Interlocuteur Uni | M1: Nom contact Syndic | N1: Prenom Contact Syndic | O1: N° Tel. Contact Syndic | P1: N° Mobile Contact Syndic | Q1: Attente | R1: Date AG
A2: 1 | B2: RUE | C2: Mulsant | D2: 1 RUE Mulsant | E2: SYNDIC NON IDENTIFIE | F2: 26 | G2: MAISON D'ACCUEIL ET DE LOISIRS | H2: GINET | I2: 0 | J2: $PÀ1$2Á0À9220$9$2$9$2Àë1BRUE MULSANTÀ423ê ROANNEÈ42ê451$ASS
A3: 1 | B3: RUE | C3: Bayard | D3: 1 RUE Bayard | E3: SYNDIC NON IDENTIFIE | F3: 24 | G3: NOELAS 11/BAYARD 1/3/5/ LES TERRASSES DE MARINE | H3: GINET | J3: $PÀ1$2Á7ÀFê1$2$2$9$2$SCI LES TERRASSES DE MARINE$ê78 CHE DES SEPT DENIERSÀ312ê TOULOUSEÈ42ê451$
A4: 1 | B4: ALL | C4: Chanteclair | D4: 1 ALL Chanteclair | E4: SYNDIC NON IDENTIFIE | F4: 23 | G4: ROANNE HABITAT | H4: GINET | I4: 0 | J4: $PÀ1$2ÀHLM$5À7371$2$2$9$2$CENTRE ADMINISTRATIF P. PILLET$ì PL DE L HOTEL DE VILLEÀ423ê ROANNEÈ42ê451$OHLM
A5: 1 | B5: RUE | C5: Mulsant | D5: 1 RUE Mulsant | E5: SYNDIC NON IDENTIFIE | F5: 20 | G5: MAISON D'ACCUEIL ET DE LOISIRS | H5: GINET | I5: 0 | J5: $PÀ1$2Á0À9220$9$2$9$2Àë1BRUE MULSANTÀ423ê ROANNEÈ42ê451$ASS
A6: 1 | B6: RUE | C6: Pablo Neruda | D6: 1 RUE Pablo Neruda | E6: SYNDIC NON IDENTIFIE | F6: 19 | G6: GINET | H6: GINET | I6: #N/A | J6: #N/A
A7: 1 | B7: RUE | C7: Beaulieu | D7: 1 RUE Beaulieu | E7: SYNDIC NON IDENTIFIE | F7: 17 | G7: #N/A | H7: GINET | I7: #N/A | J7: #N/A
A8: 1 | B8: RUE | C8: de Sully | D8: 1 RUE de Sully | E8: EN COURS | F8: 15 | G8: GRAND SULLY RES COP | H8: GINET | I8: 0 | J8: $PÀ1$2Á7ÀFê1$9$4$9$2ÀBP 133À42332 ROANNE CEDEXÈ42ê451$
A9: 1 | B9: RUE | C9: François Poutignat | D9: 1 RUE François Poutignat | E9: SYNDIC NON IDENTIFIE | F9: 15 | G9: #N/A | H9: GINET | I9: #N/A | J9: #N/A
A10: 1 | B10: RUE | C10: d Aiguilly | D10: 1 RUE d Aiguilly | E10: SYNDIC NON IDENTIFIE | F10: 14 | G10: ROANNE HABITAT | H10: GINET | I10: #N/A | J10: #N/A
A11: 1 | B11: PL | C11: Gauguin | D11: 1 PL Gauguin | E11: SYNDIC NON IDENTIFIE | F11: 13 | G11: ROANNE HABITAT | H11: GINET | I11: #N/A | J11: #N/A
A12: 1 | B12: RUE | C12: de Clermont | D12: 1 RUE de Clermont | E12: NON LANCE | F12: 12 | G12: REIG/ULYSSE | H12: GINET | I12: SANTORO/ILONA | J12: SANTORO
A13: 1 | B13: AV | C13: Gambetta | D13: 1 AV Gambetta | E13: SYNDIC NON IDENTIFIE | F13: 12 | G13: GAMBETTA 1 /3 ET 2/4 RUE EMILE NOIROT LES COP/ DE L IMMEUBLE | J13: $PÀ1$2Á7ÀFê1$9$2$9$2Àë3 AV GAMBETTAÀ423ê ROANNEÈ42ê451$
A14: 1 | B14: RUE | C14: Benoit Malon | D14: 1 RUE Benoit Malon | E14: SYNDIC NON IDENTIFIE | F14: 11 | G14: #N/A | H14: #N/A | I14: #N/A | J14: #N/A
A15: 1 | B15: RUE | C15: Jean Jaures | D15: 1 RUE Jean Jaures | E15: SYNDIC NON IDENTIFIE | F15: 11 | G15: JEAN JAURES 1 COP | H15: GONINDARD/ALBERT ANTONY HENRI | I15: GONINDARD | J15: 0

Sheet GINET
A2: GINET | B2: =IFERROR(INDIRECT("ADRESSES!G"&SMALL(IF($A$2=ADRESSES!$H$2:$H$15,ROW(ADRESSES!$H$2:$H$15)),ROW(A1)),1),"") -> MAISON D'ACCUEIL ET DE LOISIRS | C2: =IFERROR(INDIRECT("ADRESSES!H"&SMALL(IF($A$2=ADRESSES!$H$2:$H$15,ROW(ADRESSES!$H$2:$H$15)),ROW(B1)),1),"") -> GINET | D2: =IFERROR(INDIRECT("ADRESSES!I"&SMALL(IF($A$2=ADRESSES!$H$2:$H$15,ROW(ADRESSES!$H$2:$H$15)),ROW(C1)),1),"") -> 0 | E2: =IFERROR(INDIRECT("ADRESSES!J"&SMALL(IF($A$2=ADRESSES!$H$2:$H$15,ROW(ADRESSES!$H$2:$H$15)),ROW(D1)),1),"") -> $PÀ1$2Á0À9220$9$2$9$2Àë1BRUE MULSANTÀ423ê ROANNEÈ42ê451$ASS
A3: GINET | B3: =IFERROR(INDIRECT("ADRESSES!G"&SMALL(IF($A$2=ADRESSES!$H$2:$H$15,ROW(ADRESSES!$H$2:$H$15)),ROW(A2)),1),"") | C3: =IFERROR(INDIRECT("ADRESSES!H"&SMALL(IF($A$2=ADRESSES!$H$2:$H$15,ROW(ADRESSES!$H$2:$H$15)),ROW(B2)),1),"") | D3: =IFERROR(INDIRECT("ADRESSES!I"&SMALL(IF($A$2=ADRESSES!$H$2:$H$15,ROW(ADRESSES!$H$2:$H$15)),ROW(C2)),1),"") | E3: =IFERROR(INDIRECT("ADRESSES!J"&SMALL(IF($A$2=ADRESSES!$H$2:$H$15,ROW(ADRESSES!$H$2:$H$15)),ROW(D2)),1),"")
A4: GINET | B4: =IFERROR(INDIRECT("ADRESSES!G"&SMALL(IF($A$2=ADRESSES!$H$2:$H$15,ROW(ADRESSES!$H$2:$H$15)),ROW(A3)),1),"") | C4: =IFERROR(INDIRECT("ADRESSES!H"&SMALL(IF($A$2=ADRESSES!$H$2:$H$15,ROW(ADRESSES!$H$2:$H$15)),ROW(B3)),1),"") | D4: =IFERROR(INDIRECT("ADRESSES!I"&SMALL(IF($A$2=ADRESSES!$H$2:$H$15,ROW(ADRESSES!$H$2:$H$15)),ROW(C3)),1),"") | E4: =IFERROR(INDIRECT("ADRESSES!J"&SMALL(IF($A$2=ADRESSES!$H$2:$H$15,ROW(ADRESSES!$H$2:$H$15)),ROW(D3)),1),"")
A5: GINET | B5: =IFERROR(INDIRECT("ADRESSES!G"&SMALL(IF($A$2=ADRESSES!$H$2:$H$15,ROW(ADRESSES!$H$2:$H$15)),ROW(A4)),1),"") | C5: =IFERROR(INDIRECT("ADRESSES!H"&SMALL(IF($A$2=ADRESSES!$H$2:$H$15,ROW(ADRESSES!$H$2:$H$15)),ROW(B4)),1),"") | D5: =IFERROR(INDIRECT("ADRESSES!I"&SMALL(IF($A$2=ADRESSES!$H$2:$H$15,ROW(ADRESSES!$H$2:$H$15)),ROW(C4)),1),"") | E5: =IFERROR(INDIRECT("ADRESSES!J"&SMALL(IF($A$2=ADRESSES!$H$2:$H$15,ROW(ADRESSES!$H$2:$H$15)),ROW(D4)),1),"")
A6: GINET | B6: =IFERROR(INDIRECT("ADRESSES!G"&SMALL(IF($A$2=ADRESSES!$H$2:$H$15,ROW(ADRESSES!$H$2:$H$15)),ROW(A5)),1),"") | C6: =IFERROR(INDIRECT("ADRESSES!H"&SMALL(IF($A$2=ADRESSES!$H$2:$H$15,ROW(ADRESSES!$H$2:$H$15)),ROW(B5)),1),"") | D6: =IFERROR(INDIRECT("ADRESSES!I"&SMALL(IF($A$2=ADRESSES!$H$2:$H$15,ROW(ADRESSES!$H$2:$H$15)),ROW(C5)),1),"") | E6: =IFERROR(INDIRECT("ADRESSES!J"&SMALL(IF($A$2=ADRESSES!$H$2:$H$15,ROW(ADRESSES!$H$2:$H$15)),ROW(D5)),1),"")
A7: GINET | B7: =IFERROR(INDIRECT("ADRESSES!G"&SMALL(IF($A$2=ADRESSES!$H$2:$H$15,ROW(ADRESSES!$H$2:$H$15)),ROW(A6)),1),"") | C7: =IFERROR(INDIRECT("ADRESSES!H"&SMALL(IF($A$2=ADRESSES!$H$2:$H$15,ROW(ADRESSES!$H$2:$H$15)),ROW(B6)),1),"") | D7: =IFERROR(INDIRECT("ADRESSES!I"&SMALL(IF($A$2=ADRESSES!$H$2:$H$15,ROW(ADRESSES!$H$2:$H$15)),ROW(C6)),1),"") | E7: =IFERROR(INDIRECT("ADRESSES!J"&SMALL(IF($A$2=ADRESSES!$H$2:$H$15,ROW(ADRESSES!$H$2:$H$15)),ROW(D6)),1),"")
A8: GINET | B8: =IFERROR(INDIRECT("ADRESSES!G"&SMALL(IF($A$2=ADRESSES!$H$2:$H$15,ROW(ADRESSES!$H$2:$H$15)),ROW(A7)),1),"") | C8: =IFERROR(INDIRECT("ADRESSES!H"&SMALL(IF($A$2=ADRESSES!$H$2:$H$15,ROW(ADRESSES!$H$2:$H$15)),ROW(B7)),1),"") | D8: =IFERROR(INDIRECT("ADRESSES!I"&SMALL(IF($A$2=ADRESSES!$H$2:$H$15,ROW(ADRESSES!$H$2:$H$15)),ROW(C7)),1),"") | E8: =IFERROR(INDIRECT("ADRESSES!J"&SMALL(IF($A$2=ADRESSES!$H$2:$H$15,ROW(ADRESSES!$H$2:$H$15)),ROW(D7)),1),"")
A9: GINET | B9: =IFERROR(INDIRECT("ADRESSES!G"&SMALL(IF($A$2=ADRESSES!$H$2:$H$15,ROW(ADRESSES!$H$2:$H$15)),ROW(A8)),1),"") | C9: =IFERROR(INDIRECT("ADRESSES!H"&SMALL(IF($A$2=ADRESSES!$H$2:$H$15,ROW(ADRESSES!$H$2:$H$15)),ROW(B8)),1),"") | D9: =IFERROR(INDIRECT("ADRESSES!I"&SMALL(IF($A$2=ADRESSES!$H$2:$H$15,ROW(ADRESSES!$H$2:$H$15)),ROW(C8)),1),"") | E9: =IFERROR(INDIRECT("ADRESSES!J"&SMALL(IF($A$2=ADRESSES!$H$2:$H$15,ROW(ADRESSES!$H$2:$H$15)),ROW(D8)),1),"")
A10: GINET | B10: =IFERROR(INDIRECT("ADRESSES!G"&SMALL(IF($A$2=ADRESSES!$H$2:$H$15,ROW(ADRESSES!$H$2:$H$15)),ROW(A9)),1),"") | C10: =IFERROR(INDIRECT("ADRESSES!H"&SMALL(IF($A$2=ADRESSES!$H$2:$H$15,ROW(ADRESSES!$H$2:$H$15)),ROW(B9)),1),"") | D10: =IFERROR(INDIRECT("ADRESSES!I"&SMALL(IF($A$2=ADRESSES!$H$2:$H$15,ROW(ADRESSES!$H$2:$H$15)),ROW(C9)),1),"") | E10: =IFERROR(INDIRECT("ADRESSES!J"&SMALL(IF($A$2=ADRESSES!$H$2:$H$15,ROW(ADRESSES!$H$2:$H$15)),ROW(D9)),1),"")
A11: GINET | B11: =IFERROR(INDIRECT("ADRESSES!G"&SMALL(IF($A$2=ADRESSES!$H$2:$H$15,ROW(ADRESSES!$H$2:$H$15)),ROW(A10)),1),"") | C11: =IFERROR(INDIRECT("ADRESSES!H"&SMALL(IF($A$2=ADRESSES!$H$2:$H$15,ROW(ADRESSES!$H$2:$H$15)),ROW(B10)),1),"") | D11: =IFERROR(INDIRECT("ADRESSES!I"&SMALL(IF($A$2=ADRESSES!$H$2:$H$15,ROW(ADRESSES!$H$2:$H$15)),ROW(C10)),1),"") | E11: =IFERROR(INDIRECT("ADRESSES!J"&SMALL(IF($A$2=ADRESSES!$H$2:$H$15,ROW(ADRESSES!$H$2:$H$15)),ROW(D10)),1),"")
A12: GINET | B12: =IFERROR(INDIRECT("ADRESSES!G"&SMALL(IF($A$2=ADRESSES!$H$2:$H$15,ROW(ADRESSES!$H$2:$H$15)),ROW(A11)),1),"") | C12: =IFERROR(INDIRECT("ADRESSES!H"&SMALL(IF($A$2=ADRESSES!$H$2:$H$15,ROW(ADRESSES!$H$2:$H$15)),ROW(B11)),1),"") | D12: =IFERROR(INDIRECT("ADRESSES!I"&SMALL(IF($A$2=ADRESSES!$H$2:$H$15,ROW(ADRESSES!$H$2:$H$15)),ROW(C11)),1),"") | E12: =IFERROR(INDIRECT("ADRESSES!J"&SMALL(IF($A$2=ADRESSES!$H$2:$H$15,ROW(ADRESSES!$H$2:$H$15)),ROW(D11)),1),"")
A13: GINET | B13: =IFERROR(INDIRECT("ADRESSES!G"&SMALL(IF($A$2=ADRESSES!$H$2:$H$15,ROW(ADRESSES!$H$2:$H$15)),ROW(A12)),1),"") | C13: =IFERROR(INDIRECT("ADRESSES!H"&SMALL(IF($A$2=ADRESSES!$H$2:$H$15,ROW(ADRESSES!$H$2:$H$15)),ROW(B12)),1),"") | D13: =IFERROR(INDIRECT("ADRESSES!I"&SMALL(IF($A$2=ADRESSES!$H$2:$H$15,ROW(ADRESSES!$H$2:$H$15)),ROW(C12)),1),"") | E13: =IFERROR(INDIRECT("ADRESSES!J"&SMALL(IF($A$2=ADRESSES!$H$2:$H$15,ROW(ADRESSES!$H$2:$H$15)),ROW(D12)),1),"")
... A15: GINET | B15: =IFERROR(INDIRECT("ADRESSES!G"&SMALL(IF($A$2=ADRESSES!$H$2:$H$15,ROW(ADRESSES!$H$2:$H$15)),ROW(A14)),1),"") | C15: =IFERROR(INDIRECT("ADRESSES!H"&SMALL(IF($A$2=ADRESSES!$H$2:$H$15,ROW(ADRESSES!$H$2:$H$15)),ROW(B14)),1),"") | D15: =IFERROR(INDIRECT("ADRESSES!I"&SMALL(IF($A$2=ADRESSES!$H$2:$H$15,ROW(ADRESSES!$H$2:$H$15)),ROW(C14)),1),"") | E15: =IFERROR(INDIRECT("ADRESSES!J"&SMALL(IF($A$2=ADRESSES!$H$2:$H$15,ROW(ADRESSES!$H$2:$H$15)),ROW(D14)),1),"")
B18: J'ai copié ta formule de B2 sur la meme ligne en changeant la colonne de recherche pour avoir les infos de plusieurs colonnes.
B19: Quand je recopie la formule B2 en dessous (en tirant du coin de la cellule, la formule ne fonctionne pas sur les lignes du dessous. Ou est le problème ?

Sheet DUGOURD
A2: DUGOURD | B2: =VLOOKUP(DUGOURD!A2,ADRESSES!A2:R15,7,FALSE) -> #N/A

Sheet COP
A2: COP | B2: =VLOOKUP(COP!A2,ADRESSES!A2:R15,7,FALSE) -> #N/A
