Workbook

Sheet RAPPORT
A4: =TODAY() -> 41776 | E4: gestion de loyer
A5: APP. | B5: Pièces | D5: PRÉNOM/NOM | E5: NUMÉRO | F5: Bail Début | G5: À | H5: Bail Fin | I5: Prix par mois | J5: Aug. Future mois/prix | L5: 41821 | M5: 41852 | N5: 41883 | O5: 41913 | P5: 41944 | Q5: 41974 | R5: 42005 | S5: 42036 | T5: 42064 | U5: 42095 | V5: 42125 | W5: 42156 | Z5: COMMENTAIRES
A6: Colonne1 | B6: Colonne2 | C6: Colonne3 | D6: Colonne4 | E6: Colonne5 | F6: Colonne6 | G6: Colonne7 | H6: Colonne8 | I6: Colonne9 | J6: Colonne10 | K6: Colonne11 | L6: Colonne12 | M6: Colonne13 | N6: Colonne14 | O6: Colonne15 | P6: Colonne16 | Q6: Colonne17 | R6: Colonne18 | S6: Colonne19 | T6: Colonne20 | U6: Colonne21 | V6: Colonne22 | W6: Colonne23
A7: 101 | B7: 4 | C7: 1/2 | G7: À
A8: 102 | C8: 1/2 | G8: À
A9: 103 | C9: 1/2 | G9: À
A10: 104 | C10: 1/2 | G10: À
A11: 105 | C11: 1/2 | G11: À
A12: 106 | C12: 1/2 | G12: À
A13: 107 | C13: 1/2 | G13: À
A14: 108 | C14: 1/2 | G14: À
A15: 109 | C15: 1/2 | G15: À
A16: 201 | C16: 1/2 | G16: À
A17: 202 | C17: 1/2 | G17: À
A18: 203 | C18: 1/2 | G18: À
A19: 204 | C19: 1/2 | G19: À
... A60: 609 | C60: 1/2 | G60: À

Sheet BILLAN
A1: BILAN
A2: dates | B2: reçu par le locataire | C2: ÉCART | D2: TOTAL PAR MOIS
A3: 41821 | B3: =SUM(RAPPORT!L7:L60) -> 0 | C3: =SUM(RAPPORT!I7:I60)-B3 -> 0 | D3: =B3-C3 -> 0
A4: 41852 | B4: =SUM(RAPPORT!M7:M60) -> 0 | C4: =SUM(RAPPORT!I7:I60)-B4 -> 0 | D4: =B4-C4 -> 0
A5: 41883 | B5: =SUM(RAPPORT!N7:N60) -> 0 | C5: =SUM(RAPPORT!I7:I60)-B5 -> 0 | D5: =B5-C5 -> 0
A6: 41913 | B6: =SUM(RAPPORT!O7:O60) -> 0 | C6: =SUM(RAPPORT!I7:I60)-B6 -> 0 | D6: =B6-C6 -> 0
A7: 41944 | B7: =SUM(RAPPORT!P7:P60) -> 0 | C7: =SUM(RAPPORT!I7:I60)-B7 -> 0 | D7: =B7-C7 -> 0
A8: 41974 | B8: =SUM(RAPPORT!Q7:Q60) -> 0 | C8: =SUM(RAPPORT!I7:I60)-B8 -> 0 | D8: =B8-C8 -> 0
A9: 42005 | B9: =SUM(RAPPORT!R7:R60) -> 0 | C9: =SUM(RAPPORT!I7:I60)-B9 -> 0 | D9: =B9-C9 -> 0
A10: 42036 | B10: =SUM(RAPPORT!S7:S60) -> 0 | C10: =SUM(RAPPORT!I7:I60)-B10 -> 0 | D10: =B10-C10 -> 0
A11: 42064 | B11: =SUM(RAPPORT!T7:T60) -> 0 | C11: =SUM(RAPPORT!I7:I60)-B11 -> 0 | D11: =B11-C11 -> 0
A12: 42095 | B12: =SUM(RAPPORT!U7:U60) -> 0 | C12: =SUM(RAPPORT!I7:I60)-B12 -> 0 | D12: =B12-C12 -> 0
A13: 42125 | B13: =SUM(RAPPORT!V7:V60) -> 0 | C13: =SUM(RAPPORT!I7:I60)-B13 -> 0 | D13: =B13-C13 -> 0
A14: 42156 | B14: =SUM(RAPPORT!W7:W60) -> 0 | C14: =SUM(RAPPORT!I7:I60)-B14 -> 0 | D14: =B14-C14 -> 0
A15: TOTAL ANNÉE | B15: =SUM(B3:B14) -> 0

Sheet Feuil3
