Workbook

Sheet Informations Générales
A1: =TODAY() -> 41779
D2: Suivi des opérations
C3: NUM | D3: OPERATION | E3: DPT | F3: TYPE | G3: NB LGT | H3: PLS | I3: PLUS | J3: PLAI | K3: SHON/ SDP | L3: SHAB | M3: PRIX (EN €/M² SHAB HT) | N3: NOTAIRE | O3: PROMOTEUR/ VENDEUR | P3: DERNIER DEL EN DATE | Q3: PROMESSE DE VENTE/ DE BAIL/ CONTRAT DE RESERVATION | R3: PC/PA/ AUTRES DOCS | T3: AVIS DOMAINES | V3: FM | W3: AA/OS | X3: LIVRAISON
R4: DEPOT | S4: OBTENTION | T4: DEPOT | U4: OBTENTION
A5: 1 | C5: 25 | D5: Opération 1 | E5: 18 | F5: VEFA | G5: 8 | H5: 8 | I5: 0 | J5: 0 | K5: 0 | L5: 350 | M5: 1995 | O5: BOUYGUES | P5: 41163 | Q5: 41255 | T5: 41304 | U5: 41327 | V5: 41388 | W5: 41437 | X5: 42005
A6: =A5+1 -> 2 | C6: 46 | D6: Opération 2 | E6: 18 | F6: VEFA | G6: 12 | H6: 0 | I6: 9 | J6: 3 | L6: 747.42 | M6: 1915.28 | O6: BOUYGUES | P6: 40939 | Q6: 41273 | T6: 41220 | U6: 41247 | V6: 41250 | W6: 41256 | X6: 30/06/2014
A7: =A6+1 -> 3 | C7: 954 | D7: Opération 3 | E7: 18 | F7: VEFA | G7: 20 | H7: 0 | I7: 16 | J7: 4 | L7: 1 497,48 | M7: 1 773.29 | O7: BOUYGUES | P7: 41191 | Q7: 41311 | T7: 41319 | U7: 41340 | V7: 41596 | W7: 41606 | X7: 2E T 2015
A8: =A7+1 -> 4 | C8: 657 | D8: Opération 4 | E8: 18 | F8: VEFA | G8: 32 | H8: 0 | I8: 23 | J8: 9 | L8: 2 019,50 | M8: 1960 | O8: BOUYGUES | P8: 41197 | Q8: 41339 | T8: 41568 | U8: 41584 | V8: 41575 | W8: 41621 | X8: 3e T 2015
A9: =A8+1 -> 5 | C9: 2 | D9: Opération 5 | E9: 18 | F9: VEFA | G9: 12 | H9: 0 | I9: 9 | J9: 3 | L9: 695.88 | M9: 1720 | O9: BOUYGUES | P9: 41611 | Q9: 41698 | W9: 2e T 2015 | X9: 1er T 2017
A10: =A9+1 -> 6 | C10: 114 | D10: Opération 6 | E10: 18 | F10: VEFA | G10: 18 | H10: 0 | I10: 15 | J10: 3 | O10: BOUYGUES | W10: 2e T 2015 | X10: 4e T 2016
G11: =SUM(G5:G10) -> 102
D12: Légende :
D13: Opérations livrées
D14: Opérations en chantier
D15: Opérations en montage
D16: Opération en développement

Sheet Opération 1
A1: 9 | B1: ="N° "&'Informations Générales'!C5 -> N° 25 | C1: ='Informations Générales'!D5&" ("&'Informations Générales'!E5&")" -> Opération 1 (18) | J1: =TODAY() -> 41779
B5: Informations générales :
B7: Opération en | C7: ='Informations Générales'!F5 -> VEFA | F7: ='Informations Générales'!G5 -> 8 | G7: logements dont | H7: ='Informations Générales'!H5&" PLS" -> 8 PLS | I7: ='Informations Générales'!I5&" PLUS" -> 0 PLUS | J7: ='Informations Générales'!J5&" PLAI" -> 0 PLAI
B9: SHON/SDP : | D9: ='Informations Générales'!K5 -> 0 | E9: SHAB : | F9: ='Informations Générales'!L5 -> 350 | G9: m² | H9: SHAB/Lgt : | I9: =F9/F7 -> 43.75
H10: SHON/Lgt : | I10: =IF(D9/F7=0,"inconnu",D9/F7) -> inconnu
B11: Prix de vente/Prix de revient (SHAB) : | D11: ='Informations Générales'!M5 -> 1995 | E11: €/m² HT | H11: Prix/Lgt : | I11: =D11*I9 -> 87281.25 | J11: € HT
B13: DEL en cours/à venir : | D13: =IF('Informations Générales'!P5=DATE(1900,1,0),"en attente",('Informations Générales'!P5)) -> 41163 | E13: FM en cours/à venir : | F13: =IF('Informations Générales'!V5=DATE(1900,1,0),"en attente",('Informations Générales'!V5)) -> 41388
B15: Commentaires sur DEL / Evolution des DEL :
B20: Urbanisme :
B22: Date dépôt PC/PA/Autres docs : | D22: =IF('Informations Générales'!R5=DATE(1900,1,0),"en attente",('Informations Générales'!R5)) -> en attente | E22: Date Obtention: | F22: =IF('Informations Générales'!S5=DATE(1900,1,0),"en attente",('Informations Générales'!S5)) -> en attente | H22: Date de Purge : | I22: =IF(F22="en attente","en attente",F22+60) -> en attente
B24: Commentaires sur PC/PCM:
B29: Service des domaines :
B31: Date de la demande: | D31: =IF('Informations Générales'!T5=DATE(1900,1,0),"en attente",('Informations Générales'!T5)) -> 41304 | E31: Date du retour : | F31: =IF('Informations Générales'!U5=DATE(1900,1,0),"en attente",('Informations Générales'!U5)) -> 41327
B33: Acquisition :
B35: Promoteur/ Vendeur : | D35: ='Informations Générales'!O5 -> BOUYGUES
B36: Délégation de pouvoir :
B37: Date signature contrat de réservation: | D37: =IF('Informations Générales'!Q5=DATE(1900,1,0),"en attente",('Informations Générales'!Q5)) -> 41255
B38: Date d'échéance :
B39: Levée des conditions suspensives : | E39: Garantie des prêts : | F39: =IF(#REF!=DATE(1900,1,0),"en attente",(#REF!)) -> #REF! | H39: Autres :
B40: Date signature acte authentique: | D40: =IF('Informations Générales'!W5=DATE(1900,1,0),"en attente",('Informations Générales'!W5)) -> 41437
B42: Commentaires :
B47: Attribution :
B49: Réservation des logements : | D49: CIL : | E49: =#REF! -> #REF! | F49: Sub :
B50: Logements restants à attribuer :
B52: Financement :
D53: Demande | F53: Obtention | I53: Montant
B54: Convention APL :
B55: Garantie des prêts : | D55: =IF(#REF!=DATE(1900,1,0),"en attente",(#REF!)) -> #REF! | F55: =IF(#REF!=DATE(1900,1,0),"en attente",(#REF!)) -> #REF!
B56: Financements Etat : | D56: =IF(#REF!=DATE(1900,1,0),"en attente",(#REF!)) -> #REF! | F56: =IF(#REF!=DATE(1900,1,0),"en attente",(#REF!)) -> #REF! | J56: =#REF! -> #REF!
B57: Financements région | D57: =IF(#REF!=DATE(1900,1,0),"en attente",(#REF!)) -> #REF! | F57: =IF(#REF!=DATE(1900,1,0),"en attente",(#REF!)) -> #REF! | J57: =#REF! -> #REF!
B58: Financements CG | D58: =IF(#REF!=DATE(1900,1,0),"en attente",(#REF!)) -> #REF! | F58: =IF(#REF!=DATE(1900,1,0),"en attente",(#REF!)) -> #REF! | J58: =#REF! -> #REF!
B59: Finacement commune | D59: =IF(#REF!=DATE(1900,1,0),"en attente",(#REF!)) -> #REF! | F59: =IF(#REF!=DATE(1900,1,0),"en attente",(#REF!)) -> #REF! | J59: =#REF! -> #REF!
B60: Financement 1% | J60: =#REF! -> #REF!
I61: Total Subv | J61: =J56+J57+J58+J59+J60 -> #REF!
B62: Prêts CDC/Banque privée : | D62: =IF(#REF!=DATE(1900,1,0),"en attente",(#REF!)) -> #REF! | F62: =IF(#REF!=DATE(1900,1,0),"en attente",(#REF!)) -> #REF! | J62: =#REF! -> #REF!
B63: Prêt 1% : | J63: =#REF! -> #REF!
I64: Total prêts | J64: =J62+J63 -> #REF!
B66: Commentaires financements :
B71: Travaux et livraison:
B73: Signature OS :
B74: Convocation OPR :
B75: Date prévue de livraison : | D75: =IF('Informations Générales'!X5=DATE(1900,1,0),"en attente",('Informations Générales'!X5)) -> 42005
B76: PV levée des réserves
B77: Dossier de commercialisation :
B79: Commentaires livraison :

Sheet Opération 2
B1: ="N° "&'Informations Générales'!C6 -> N° 46 | C1: ='Informations Générales'!D6&" ("&'Informations Générales'!E6&")" -> Opération 2 (18) | J1: =TODAY() -> 41779
B5: Informations générales :
B7: Opération en | C7: ='Informations Générales'!F6 -> VEFA | F7: ='Informations Générales'!G6 -> 12 | G7: logements dont | H7: ='Informations Générales'!H6&" PLS" -> 0 PLS | I7: ='Informations Générales'!I6&" PLUS" -> 9 PLUS | J7: ='Informations Générales'!J6&" PLAI" -> 3 PLAI
B9: SHON/SDP : | D9: ='Informations Générales'!K6 -> 0 | E9: SHAB : | F9: ='Informations Générales'!L6 -> 747.42 | G9: m² | H9: SHAB/Lgt : | I9: =F9/F7 -> 62.285
H10: SHON/Lgt : | I10: =IF(D9/F7=0,"inconnu",D9/F7) -> inconnu
B11: Prix de vente/Prix de revient (SHAB) : | D11: ='Informations Générales'!M6 -> 1915.28 | E11: €/m² HT | H11: Prix/Lgt : | I11: =D11*I9 -> 119293.21 | J11: € HT
B13: DEL en cours/à venir : | D13: =IF('Informations Générales'!P6=DATE(1900,1,0),"en attente",('Informations Générales'!P6)) -> 40939 | E13: FM en cours/à venir : | F13: =IF('Informations Générales'!V6=DATE(1900,1,0),"en attente",('Informations Générales'!V6)) -> 41250
B15: Commentaires sur DEL / Evolution des DEL :
B20: Urbanisme :
B22: Date dépôt PC/PA/Autres docs : | D22: =IF('Informations Générales'!R6=DATE(1900,1,0),"en attente",('Informations Générales'!R6)) -> en attente | E22: Date Obtention: | F22: =IF('Informations Générales'!S6=DATE(1900,1,0),"en attente",('Informations Générales'!S6)) -> en attente | H22: Date de Purge : | I22: =IF(F22="en attente","en attente",F22+60) -> en attente
B24: Commentaires sur PC/PCM:
B29: Service des domaines :
B31: Date de la demande: | D31: =IF('Informations Générales'!T6=DATE(1900,1,0),"en attente",('Informations Générales'!T6)) -> 41220 | E31: Date du retour : | F31: =IF('Informations Générales'!U6=DATE(1900,1,0),"en attente",('Informations Générales'!U6)) -> 41247
B33: Acquisition :
B35: Promoteur/ Vendeur : | D35: ='Informations Générales'!O6 -> BOUYGUES
B36: Délégation de pouvoir :
B37: Date signature contrat de réservation: | D37: =IF('Informations Générales'!Q6=DATE(1900,1,0),"en attente",('Informations Générales'!Q6)) -> 41273
B38: Date d'échéance :
B39: Levée des conditions suspensives : | E39: Garantie des prêts : | F39: =IF(#REF!=DATE(1900,1,0),"en attente",(#REF!)) -> #REF! | H39: Autres :
B40: Date signature acte authentique: | D40: =IF('Informations Générales'!W6=DATE(1900,1,0),"en attente",('Informations Générales'!W6)) -> 41256
B42: Commentaires :
B47: Attribution :
B49: Réservation des logements : | D49: CIL : | E49: =#REF! -> #REF! | F49: Sub :
B50: Logements restants à attribuer :
B52: Financement :
D53: Demande | F53: Obtention | I53: Montant
B54: Convention APL :
B55: Garantie des prêts : | D55: =IF(#REF!=DATE(1900,1,0),"en attente",(#REF!)) -> #REF! | F55: =IF(#REF!=DATE(1900,1,0),"en attente",(#REF!)) -> #REF!
B56: Financements Etat : | D56: =IF(#REF!=DATE(1900,1,0),"en attente",(#REF!)) -> #REF! | F56: =IF(#REF!=DATE(1900,1,0),"en attente",(#REF!)) -> #REF! | J56: =#REF! -> #REF!
B57: Financements région | D57: =IF(#REF!=DATE(1900,1,0),"en attente",(#REF!)) -> #REF! | F57: =IF(#REF!=DATE(1900,1,0),"en attente",(#REF!)) -> #REF! | J57: =#REF! -> #REF!
B58: Financements CG | D58: =IF(#REF!=DATE(1900,1,0),"en attente",(#REF!)) -> #REF! | F58: =IF(#REF!=DATE(1900,1,0),"en attente",(#REF!)) -> #REF! | J58: =#REF! -> #REF!
B59: Finacement commune | D59: =IF(#REF!=DATE(1900,1,0),"en attente",(#REF!)) -> #REF! | F59: =IF(#REF!=DATE(1900,1,0),"en attente",(#REF!)) -> #REF! | J59: =#REF! -> #REF!
B60: Financement 1% | J60: =#REF! -> #REF!
I61: Total Subv | J61: =J56+J57+J58+J59+J60 -> #REF!
B62: Prêts CDC/Banque privée : | D62: =IF(#REF!=DATE(1900,1,0),"en attente",(#REF!)) -> #REF! | F62: =IF(#REF!=DATE(1900,1,0),"en attente",(#REF!)) -> #REF! | J62: =#REF! -> #REF!
B63: Prêt 1% : | J63: =#REF! -> #REF!
I64: Total prêts | J64: =J62+J63 -> #REF!
B66: Commentaires financements :
B71: Travaux et livraison:
B73: Signature OS :
B74: Convocation OPR :
B75: Date prévue de livraison : | D75: =IF('Informations Générales'!X5=DATE(1900,1,0),"en attente",('Informations Générales'!X5)) -> 42005
B76: PV levée des réserves
B77: Dossier de commercialisation :
B79: Commentaires livraison :
