Workbook
Name PRODUITS: OFFSET(Produits!$A$2,0,0,COUNTA(Produits!$A:$A)-1)

Sheet Commandes fournitures
A1: Liste de fournitures
A3: Lien pour accéder au site de commandes :
A4: cliquer ici
A6: PRODUITS | B6: REFERENCES
B7: =VLOOKUP(A7,Produits!A:B,2,FALSE) -> #N/A
B8: =VLOOKUP(A8,Produits!A:B,2,FALSE) -> #N/A
B9: =VLOOKUP(A9,Produits!A:B,2,FALSE) -> #N/A
B10: =VLOOKUP(A10,Produits!A:B,2,FALSE) -> #N/A
B11: =VLOOKUP(A11,Produits!A:B,2,FALSE) -> #N/A
B12: =VLOOKUP(A12,Produits!A:B,2,FALSE) -> #N/A
B13: =VLOOKUP(A13,Produits!A:B,2,FALSE) -> #N/A
B14: =VLOOKUP(A14,Produits!A:B,2,FALSE) -> #N/A
B15: =VLOOKUP(A15,Produits!A:B,2,FALSE) -> #N/A
B16: =VLOOKUP(A16,Produits!A:B,2,FALSE) -> #N/A
B17: =VLOOKUP(A17,Produits!A:B,2,FALSE) -> #N/A
B18: =VLOOKUP(A18,Produits!A:B,2,FALSE) -> #N/A
... B1296: =VLOOKUP(A1296,Produits!A:B,2,FALSE) -> #N/A

Sheet Suivi commandes fournitures
A1: Suivi de commandes fournitures
A2: Commande : Oui / Non | B2: Montant | C2: Date de commande | D2: Date de réception
A3: Oui
A4: Non
A5: Oui

Sheet Produits
A1: Agrafe et agrafeuses
A2: Agrafe 26/8+ - 8,5 mm - boîte de 5000 | B2: 454326 | G2: Oui
A3: Agrafeuse de bureau - capacité 25 feuilles | B3: 1256534 | G3: Non
A4: Pince agrafeuse Rapid K1 - capacité 50 feuilles - chromée | B4: 101577
A5: Bloc-notes
A6: Bloc-notes Lyreco - A4 - perforé - 160 pages - blanc quadrillé | B6: 1494489
A7: Bloc-notes Lyreco - A5 - 200 pages - blanc quadrillé | B7: 105319
A8: Bloc-notes Lyreco - A6 - 200 pages - blanc quadrillé | B8: 105308
A9: Brosses
A10: Brosse pour tableaux blancs | B10: 3347782
A11: Cahiers
A12: Cahier spirale Clairefontaine Linicolor A4 - 180 pages - seyès | B12: 4632955
A13: Cahier spirale Clairefontaine Linicolor A4 - 180 pages - seyès | B13: 4632955
A14: Cahier spirale Conquérant Sept A4 - 180 pages - seyès | B14: 455717
A15: Cahier spirale Lyreco A5+ - 160 pages - quadrillé | B15: 3336044
A16: Cahier spirale Lyreco A5+ - 160 pages - quadrillé | B16: 3336044
A17: Cahier spirale Lyreco Budget A4 - 160 pages - quadrillé | B17: 3336066
A18: Cahier spirale Lyreco Budget A4 - 160 pages - quadrillé | B18: 3336066
A19: Cahier spirale Oxford A5 - 180 pages - quadrillé | B19: 2529237
A20: Calculatrice
A21: Calculatrice Lyreco - 12 chiffres | B21: 3343391
A22: Chemises
A23: Chemise 3 rabats Lyreco - par 25 | B23: 459367
A24: Chemise coin Lyreco A4 - transparente - par 100 | B24: 318166
A25: Accessoires bureau
A26: Ciseaux Lyreco - ambidextres - bouts pointus - 17 cm | B26: 125579
A27: Gomme Staedtler 525 | B27: 4180576
A28: Règle plate - plastique - 30 cm | B28: 463577
A29: Ruban adhésif invisible Scotch - 12 rouleaux + 2 offerts | B29: 3339099
A30: Taille-crayon avec réserve - 2 trous | B30: 316557
A31: Classeurs
A32: Classeur à levier Lyreco - dos 4,5 cm - lot de 10 | B32: 319193
A33: Classeur à levier Lyreco - dos 8 cm - lot de 10 | B33: 319171
A34: Clef USB
A35: Clé USB - 32 Go - noire - pack de 5 | B35: 9091162
A36: Clé USB - 8 Go - noire - pack de 10 | B36: 8125208
A37: Colle
A38: Colle bâton - 4 dont 1 offert | B38: 4978037
A39: Roller de colle - jetable | B39: 126276
A40: Correcteur
...
