Workbook
Name PRODUITS: OFFSET(Produits!$A$2,0,0,COUNTA(Produits!$A:$A)-1)

Sheet Commandes fournitures
A1: Liste de fournitures
A3: Lien pour accéder au site de commandes :
A4: cliquer ici
A6: PRODUITS | B6: REFERENCES
B7: =VLOOKUP(A7,Produits!A:B,2,FALSE) -> #N/A
B8: =VLOOKUP(A8,Produits!A:B,2,FALSE) -> #N/A
B9: =VLOOKUP(A9,Produits!A:B,2,FALSE) -> #N/A
B10: =VLOOKUP(A10,Produits!A:B,2,FALSE) -> #N/A
B11: =VLOOKUP(A11,Produits!A:B,2,FALSE) -> #N/A
B12: =VLOOKUP(A12,Produits!A:B,2,FALSE) -> #N/A
B13: =VLOOKUP(A13,Produits!A:B,2,FALSE) -> #N/A
B14: =VLOOKUP(A14,Produits!A:B,2,FALSE) -> #N/A
B15: =VLOOKUP(A15,Produits!A:B,2,FALSE) -> #N/A
B16: =VLOOKUP(A16,Produits!A:B,2,FALSE) -> #N/A
B17: =VLOOKUP(A17,Produits!A:B,2,FALSE) -> #N/A
B18: =VLOOKUP(A18,Produits!A:B,2,FALSE) -> #N/A
... B1296: =VLOOKUP(A1296,Produits!A:B,2,FALSE) -> #N/A

Sheet Suivi commandes fournitures
A1: Suivi de commandes fournitures
A2: Commande : Oui / Non | B2: Montant | C2: Date de commande | D2: Date de réception
A3: Oui
A4: Non
A5: Oui

Sheet Produits
A1: Agrafe et agrafeuses
A2: Agrafe 26/8+ - 8,5 mm - boîte de 5000 | B2: 454326 | G2: Oui
A3: Agrafeuse de bureau - capacité 25 feuilles | B3: 1256534 | G3: Non
A4: Pince agrafeuse Rapid K1 - capacité 50 feuilles - chromée | B4: 101577
A5: Bloc-notes
A6: Bloc-notes Lyreco - A4 - perforé - 160 pages - blanc quadrillé | B6: 1494489
A7: Bloc-notes Lyreco - A5 - 200 pages - blanc quadrillé | B7: 105319
A8: Bloc-notes Lyreco - A6 - 200 pages - blanc quadrillé | B8: 105308
A9: Brosses
A10: Brosse pour tableaux blancs | B10: 3347782
A11: Cahiers
A12: Cahier spirale Clairefontaine Linicolor A4 - 180 pages - seyès | B12: 4632955
A13: Cahier spirale Clairefontaine Linicolor A4 - 180 pages - seyès | B13: 4632955
A14: Cahier spirale Conquérant Sept A4 - 180 pages - seyès | B14: 455717
A15: Cahier spirale Lyreco A5+ - 160 pages - quadrillé | B15: 3336044
A16: Cahier spirale Lyreco A5+ - 160 pages - quadrillé | B16: 3336044
A17: Cahier spirale Lyreco Budget A4 - 160 pages - quadrillé | B17: 3336066
A18: Cahier spirale Lyreco Budget A4 - 160 pages - quadrillé | B18: 3336066
A19: Cahier spirale Oxford A5 - 180 pages - quadrillé | B19: 2529237
A20: Calculatrice
A21: Calculatrice Lyreco - 12 chiffres | B21: 3343391
A22: Chemises
A23: Chemise 3 rabats Lyreco - par 25 | B23: 459367
A24: Chemise coin Lyreco A4 - transparente - par 100 | B24: 318166
A25: Accessoires bureau
A26: Ciseaux Lyreco - ambidextres - bouts pointus - 17 cm | B26: 125579
A27: Gomme Staedtler 525 | B27: 4180576
A28: Règle plate - plastique - 30 cm | B28: 463577
A29: Ruban adhésif invisible Scotch - 12 rouleaux + 2 offerts | B29: 3339099
A30: Taille-crayon avec réserve - 2 trous | B30: 316557
A31: Classeurs
A32: Classeur à levier Lyreco - dos 4,5 cm - lot de 10 | B32: 319193
A33: Classeur à levier Lyreco - dos 8 cm - lot de 10 | B33: 319171
A34: Clef USB
A35: Clé USB - 32 Go - noire - pack de 5 | B35: 9091162
A36: Clé USB - 8 Go - noire - pack de 10 | B36: 8125208
A37: Colle
A38: Colle bâton - 4 dont 1 offert | B38: 4978037
A39: Roller de colle - jetable | B39: 126276
A40: Correcteur
A41: Correcteur liquide Tipp-Ex | B41: 139839
A42: Roller de correction Tipp-Ex Easy Correct - 12 m x 4,2 mm - par 20 | B42: 5421133
A43: Couvertures et accessoires reliure
A44: Couverture reliure A4 - carte rigide grain cuir - ivoire - par 100 | B44: 105206
A45: Couverture reliure A4 - PVC 15/100e - transparente - par 100 | B45: 119818
A46: Peigne à relier Lyreco en plastique - 10 mm - blanc - par 100 | B46: 105057
A47: Peigne à relier Lyreco en plastique - 10 mm - noir - par 100 | B47: 105068
A48: Crayons à papier
A49: Crayon à papier - HB - boîte de 12 | B49: 126994
A50: Porte-mines Bic Matic ecolutions - 0,7 mm - embout gomme - boîte de 50 | B50: 4561879
A51: Stylos et feutres
A52: Feutre Papermate Flair Original - pointe moyenne - bleu | B52: 491073
A53: Feutre Papermate Flair Original - pointe moyenne - noir | B53: 466748
A54: Feutre Papermate Flair Original - pointe moyenne - noir | B54: 466748
A55: Feutre Papermate Flair Original - pointe moyenne - rouge | B55: 491084
A56: Pack avantage Bic cristal 90+10 offerts bleu | B56: 5421053
A57: Pack avantage Bic cristal 90+10 offerts noir | B57: 5421075
A58: Stylo bille Bic 4 couleurs Original - pointe moyenne | B58: 130965
A59: Stylo bille Bic Cristal - pointe moyenne - rouge | B59: 130021
A60: Stylo encre gel - rétractable - pointe moyenne - bleu | B60: 1865163
A61: Stylo encre gel - rétractable - pointe moyenne - noir | B61: 1865152
A62: Feuillets repositionnables et post-it
A63: Feuillet repositionnable plastifié - 4 blocs | B63: 2797346
A64: Index double face permanent- paquet de 24 | B64: 1236067
A65: Index repositionnable - paquet de 48 | B65: 3140685
A66: Marque-pages Post-it distributeur - 4 x 35 feuilles | B66: 1473033
A67: Notes Post-it Super Sticky - 47,6 x 47,6 mm - Miami - 12 blocs x 90 feuilles | B67: 9404302
A68: Notes Post-it Super Sticky - 76 x 76 mm - assortis - 24 blocs x 90 feuilles | B68: 7150301
A69: Notes Post-it Super Sticky - 76 x 76 mm - jaunes - 16 blocs x 90 feuilles | B69: 6814786
A70: Intercalaires
A71: Intercalaire Lyreco A4 - carte blanche - 12 touches | B71: 1491593
A72: Intercalaire Lyreco A4 - carte blanche - 6 touches | B72: 1491571
A73: Intercalaire Lyreco A4 - carte lustrée - 12 touches | B73: 119977
A74: Intercalaire Lyreco A4 - carte lustrée - 6 touches | B74: 119955
A75: Marqueurs permanents et velleda
A76: Marqueur permanent Lyreco - pointe ogive moyenne - noir | B76: 151158
A77: Marqueur tableau blanc Velleda - pointe ogive moyenne - bleu | B77: 1345279
A78: Marqueur tableau blanc Velleda - pointe ogive moyenne - noir | B78: 1345257
A79: Pochettes et sous-chemise
A80: Pochette coins A4 - coloris assortis - par 100 | B80: 9623401
A81: Pochette de plastification -A4 - par 100 | B81: 842998
A82: Pochette perforée Lyreco A4 - PP cristal 8/100e - par 100 | B82: 317881
A83: Sous-chemise Lyreco - coloris assortis - paquet de 250 | B83: 1187136
A84: Sous-chemise Lyreco - coloris assortis - paquet de 250 | B84: 1187136
A85: Enveloppe
A86: Pochette kraft armé Gascofil 229 x 324 - 130 g siliconée soufflet 50 mm - par 50 | B86: 2201645
A87: Surligneurs
A88: Surligneur Stabilo Boss Original - bleu néon | B88: 149355
A89: Surligneur Stabilo Boss Original - bleu néon | B89: 149355
A90: Surligneur Stabilo Boss Original - coloris assortis - pochette de 4 | B90: 149333
A91: Surligneur Stabilo Boss Original - coloris assortis - pochette de 4 | B91: 149333
A92: Surligneur Stabilo Boss Original - jaune néon | B92: 149218
A93: Surligneur Stabilo Boss Original - jaune néon | B93: 149218
A94: Surligneur Stabilo Boss Original - orange néon | B94: 149377
A95: Surligneur Stabilo Boss Original - orange néon | B95: 149377
A96: Surligneur Stabilo Boss Original - vert néon | B96: 149231
A97: Surligneur Stabilo Boss Original - vert néon | B97: 149231
A98: Autre
A99: Repose-pieds Fellowes standard - ajustable - 2 hauteurs | B99: 1903883
