Workbook

Sheet Feuil1
A1: juin | B1: 04:00 à 5:00 | C1: 05:00 à 6:00 | D1: 06:00 à 7:00 | E1: 07:00 à 8:00 | F1: 08:00 à 9:00 | G1: 09:00 à 10:00 | H1: 10:00 à 11:00 | I1: 11:00 à 12:00 | J1: 12:00 à 13:00 | K1: 13:00 à 14:00 | L1: 14:00 à 15:00 | M1: 15:00 à 16:00 | N1: 16:00 à 17:00 | O1: 17:00 à 18:00 | P1: 18:00 à 19:00 | Q1: 19:00 à 20:00 | R1: 20:00 à 21:00 | S1: 21:00 à 22:00 | T1: 22:00 à 23:00 | U1: 23:00 à 00:00 | W1: janvier | X1: 05:00 à 6:00 | Y1: 06:00 à 7:00 | Z1: 07:00 à 8:00 | AA1: 08:00 à 9:00 | AB1: 09:00 à 10:00 | AC1: 10:00 à 11:00 | AD1: 11:00 à 12:00 | AE1: 12:00 à 13:00 | AF1: 13:00 à 14:00 | AG1: 14:00 à 15:00 | AH1: 15:00 à 16:00 | AI1: 16:00 à 17:00 | AJ1: 17:00 à 18:00 | AK1: 18:00 à 19:00 | AL1: 19:00 à 20:00 | AM1: 20:00 à 21:00 | AN1: 21:00 à 22:00 | AO1: 22:00 à 23:00 | AP1: 23:00 à 00:00
A2: lun | B2: =RANDBETWEEN(12,100) -> 42 | C2: =RANDBETWEEN(12,100) -> 15 | D2: =RANDBETWEEN(12,100) -> 91 | E2: =RANDBETWEEN(12,100) -> 17 | F2: =RANDBETWEEN(12,100) -> 49 | G2: =RANDBETWEEN(12,100) -> 50 | H2: =RANDBETWEEN(12,100) -> 14 | I2: =RANDBETWEEN(12,100) -> 66 | ... U2: =RANDBETWEEN(12,100) -> 24
A3: mar | B3: =RANDBETWEEN(12,100) -> 22 | C3: =RANDBETWEEN(12,100) -> 78 | D3: =RANDBETWEEN(12,100) -> 51 | E3: =RANDBETWEEN(12,100) -> 89 | F3: =RANDBETWEEN(12,100) -> 54 | G3: =RANDBETWEEN(12,100) -> 21 | H3: =RANDBETWEEN(12,100) -> 66 | I3: =RANDBETWEEN(12,100) -> 54 | ... U3: =RANDBETWEEN(12,100) -> 31
A4: mer | B4: =RANDBETWEEN(12,100) -> 40 | C4: =RANDBETWEEN(12,100) -> 91 | D4: =RANDBETWEEN(12,100) -> 46 | E4: =RANDBETWEEN(12,100) -> 28 | F4: =RANDBETWEEN(12,100) -> 61 | G4: =RANDBETWEEN(12,100) -> 47 | H4: =RANDBETWEEN(12,100) -> 42 | I4: =RANDBETWEEN(12,100) -> 45 | ... U4: =RANDBETWEEN(12,100) -> 93
A5: jeu | B5: =RANDBETWEEN(12,100) -> 42 | C5: =RANDBETWEEN(12,100) -> 53 | D5: =RANDBETWEEN(12,100) -> 63 | E5: =RANDBETWEEN(12,100) -> 93 | F5: =RANDBETWEEN(12,100) -> 91 | G5: =RANDBETWEEN(12,100) -> 72 | H5: =RANDBETWEEN(12,100) -> 30 | I5: =RANDBETWEEN(12,100) -> 50 | ... U5: =RANDBETWEEN(12,100) -> 25
A6: ven | B6: =RANDBETWEEN(12,100) -> 15 | C6: =RANDBETWEEN(12,100) -> 67 | D6: =RANDBETWEEN(12,100) -> 16 | E6: =RANDBETWEEN(12,100) -> 14 | F6: =RANDBETWEEN(12,100) -> 49 | G6: =RANDBETWEEN(12,100) -> 48 | H6: =RANDBETWEEN(12,100) -> 31 | I6: =RANDBETWEEN(12,100) -> 23 | ... U6: =RANDBETWEEN(12,100) -> 63
A7: sam | B7: =RANDBETWEEN(12,100) -> 37 | C7: =RANDBETWEEN(12,100) -> 71 | D7: =RANDBETWEEN(12,100) -> 96 | E7: =RANDBETWEEN(12,100) -> 68 | F7: =RANDBETWEEN(12,100) -> 84 | G7: =RANDBETWEEN(12,100) -> 46 | H7: =RANDBETWEEN(12,100) -> 33 | I7: =RANDBETWEEN(12,100) -> 32 | ... U7: =RANDBETWEEN(12,100) -> 55
A8: dim | B8: =RANDBETWEEN(12,100) -> 14 | C8: =RANDBETWEEN(12,100) -> 69 | D8: =RANDBETWEEN(12,100) -> 50 | E8: =RANDBETWEEN(12,100) -> 89 | F8: =RANDBETWEEN(12,100) -> 95 | G8: =RANDBETWEEN(12,100) -> 41 | H8: =RANDBETWEEN(12,100) -> 75 | I8: =RANDBETWEEN(12,100) -> 44 | ... U8: =RANDBETWEEN(12,100) -> 12
D21: =INDEX(A1:U8,2,MAX(A2:U2)) -> #REF!

Sheet Feuil2
A1: 43617 | B1: tranches horaires les plus chargées (1 à 4)
A3: lun | B3: =IFERROR(INDEX(Feuil1!$B$1:$U$1,1,MATCH(LARGE(Feuil1!$B2:$U2,1),Feuil1!$B2:$U2,0)),"") -> 20:00 à 21:00 | C3: =IFERROR(INDEX(Feuil1!$B$1:$U$1,1,MATCH(LARGE(Feuil1!$B2:$U2,2),Feuil1!$B2:$U2,0)),"") -> 19:00 à 20:00 | D3: =IFERROR(INDEX(Feuil1!$B$1:$U$1,1,MATCH(LARGE(Feuil1!$B2:$U2,3),Feuil1!$B2:$U2,0)),"") -> 13:00 à 14:00 | E3: =IFERROR(INDEX(Feuil1!$B$1:$U$1,1,MATCH(LARGE(Feuil1!$B2:$U2,4),Feuil1!$B2:$U2,0)),"") -> 13:00 à 14:00
A4: mar | B4: =IFERROR(INDEX(Feuil1!$B$1:$U$1,1,MATCH(LARGE(Feuil1!$B3:$U3,1),Feuil1!$B3:$U3,0)),"") -> 17:00 à 18:00 | C4: =IFERROR(INDEX(Feuil1!$B$1:$U$1,1,MATCH(LARGE(Feuil1!$B3:$U3,2),Feuil1!$B3:$U3,0)),"") -> 14:00 à 15:00 | D4: =IFERROR(INDEX(Feuil1!$B$1:$U$1,1,MATCH(LARGE(Feuil1!$B3:$U3,3),Feuil1!$B3:$U3,0)),"") -> 07:00 à 8:00 | E4: =IFERROR(INDEX(Feuil1!$B$1:$U$1,1,MATCH(LARGE(Feuil1!$B3:$U3,4),Feuil1!$B3:$U3,0)),"") -> 18:00 à 19:00
A5: mer | B5: =IFERROR(INDEX(Feuil1!$B$1:$U$1,1,MATCH(LARGE(Feuil1!$B4:$U4,1),Feuil1!$B4:$U4,0)),"") -> 23:00 à 00:00 | C5: =IFERROR(INDEX(Feuil1!$B$1:$U$1,1,MATCH(LARGE(Feuil1!$B4:$U4,2),Feuil1!$B4:$U4,0)),"") -> 05:00 à 6:00 | D5: =IFERROR(INDEX(Feuil1!$B$1:$U$1,1,MATCH(LARGE(Feuil1!$B4:$U4,3),Feuil1!$B4:$U4,0)),"") -> 22:00 à 23:00 | E5: =IFERROR(INDEX(Feuil1!$B$1:$U$1,1,MATCH(LARGE(Feuil1!$B4:$U4,4),Feuil1!$B4:$U4,0)),"") -> 16:00 à 17:00
A6: jeu | B6: =IFERROR(INDEX(Feuil1!$B$1:$U$1,1,MATCH(LARGE(Feuil1!$B5:$U5,1),Feuil1!$B5:$U5,0)),"") -> 18:00 à 19:00 | C6: =IFERROR(INDEX(Feuil1!$B$1:$U$1,1,MATCH(LARGE(Feuil1!$B5:$U5,2),Feuil1!$B5:$U5,0)),"") -> 18:00 à 19:00 | D6: =IFERROR(INDEX(Feuil1!$B$1:$U$1,1,MATCH(LARGE(Feuil1!$B5:$U5,3),Feuil1!$B5:$U5,0)),"") -> 13:00 à 14:00 | E6: =IFERROR(INDEX(Feuil1!$B$1:$U$1,1,MATCH(LARGE(Feuil1!$B5:$U5,4),Feuil1!$B5:$U5,0)),"") -> 12:00 à 13:00
A7: ven | B7: =IFERROR(INDEX(Feuil1!$B$1:$U$1,1,MATCH(LARGE(Feuil1!$B6:$U6,1),Feuil1!$B6:$U6,0)),"") -> 20:00 à 21:00 | C7: =IFERROR(INDEX(Feuil1!$B$1:$U$1,1,MATCH(LARGE(Feuil1!$B6:$U6,2),Feuil1!$B6:$U6,0)),"") -> 19:00 à 20:00 | D7: =IFERROR(INDEX(Feuil1!$B$1:$U$1,1,MATCH(LARGE(Feuil1!$B6:$U6,3),Feuil1!$B6:$U6,0)),"") -> 15:00 à 16:00 | E7: =IFERROR(INDEX(Feuil1!$B$1:$U$1,1,MATCH(LARGE(Feuil1!$B6:$U6,4),Feuil1!$B6:$U6,0)),"") -> 17:00 à 18:00
A8: sam | B8: =IFERROR(INDEX(Feuil1!$B$1:$U$1,1,MATCH(LARGE(Feuil1!$B7:$U7,1),Feuil1!$B7:$U7,0)),"") -> 21:00 à 22:00 | C8: =IFERROR(INDEX(Feuil1!$B$1:$U$1,1,MATCH(LARGE(Feuil1!$B7:$U7,2),Feuil1!$B7:$U7,0)),"") -> 06:00 à 7:00 | D8: =IFERROR(INDEX(Feuil1!$B$1:$U$1,1,MATCH(LARGE(Feuil1!$B7:$U7,3),Feuil1!$B7:$U7,0)),"") -> 15:00 à 16:00 | E8: =IFERROR(INDEX(Feuil1!$B$1:$U$1,1,MATCH(LARGE(Feuil1!$B7:$U7,4),Feuil1!$B7:$U7,0)),"") -> 20:00 à 21:00
A9: dim | B9: =IFERROR(INDEX(Feuil1!$B$1:$U$1,1,MATCH(LARGE(Feuil1!$B8:$U8,1),Feuil1!$B8:$U8,0)),"") -> 08:00 à 9:00 | C9: =IFERROR(INDEX(Feuil1!$B$1:$U$1,1,MATCH(LARGE(Feuil1!$B8:$U8,2),Feuil1!$B8:$U8,0)),"") -> 18:00 à 19:00 | D9: =IFERROR(INDEX(Feuil1!$B$1:$U$1,1,MATCH(LARGE(Feuil1!$B8:$U8,3),Feuil1!$B8:$U8,0)),"") -> 17:00 à 18:00 | E9: =IFERROR(INDEX(Feuil1!$B$1:$U$1,1,MATCH(LARGE(Feuil1!$B8:$U8,4),Feuil1!$B8:$U8,0)),"") -> 07:00 à 8:00
A14: lun
A15: mar
A16: mer
A17: jeu
A18: ven
A19: sam
A20: dim

Sheet Feuil3
