Workbook
Name SAINT_EXUPERY: #REF!

Sheet bilan
A2: ='001'!A5 -> 1 | B2: =IF('001'!C5=0,"",'001'!C5) -> 21 | C2: ='001'!D3 -> ccc | D2: ='001'!D5 -> 90 | E2: ='001'!E18 -> 216.62388
A3: ='002'!A5 -> 2 | B3: =IF('002'!C5=0,"",'002'!C5) | C3: ='002'!D3 -> qsdq | D3: ='002'!D5 -> 93 | E3: ='002'!E18 -> 223.84467
A4: ='003'!A5 -> 3 | B4: =IF('003'!C5=0,"",'003'!C5) | C4: ='003'!D3 -> qfqf | D4: ='003'!D5 -> 90 | E4: ='003'!E18 -> 216.62388
A5: ='004'!A5 -> 4 | B5: =IF('004'!C5=0,"",'004'!C5) | C5: ='004'!D3 -> vsvsv | D5: ='004'!D5 -> 45 | E5: ='004'!E18 -> 108.31194

Sheet 001
A1: VOS REFERENCES
D3: ccc
A5: 1 | C5: 21 | D5: 90
E9: 200000
E10: 6232
E11: =E9/E10 -> 32.092426
E12: =E11*$D$5 -> 2888.3184
E14: =2500*74 -> 185000
E15: 6232
E16: =E14/E15 -> 29.685494
E18: =E12-(E16*$D$5) -> 216.62388
B22: =28.94/1000 -> 0.02894 | C22: =B22*$E$18 -> 6.269095 | D22: =C22-($E$18/(3*12)) -> 0.25176508 | E22: =D22*12 -> 3.021181
B23: =17.94/1000 -> 0.01794 | C23: =B23*$E$18 -> 3.8862323 | D23: =C23-($E$18/(5*12)) -> 0.2758344 | E23: =D23*12 -> 3.3100128
B24: =13.24/1000 -> 0.01324 | C24: =B24*$E$18 -> 2.8681001 | D24: =C24-($E$18/(7*12)) -> 0.28924445 | E24: =D24*12 -> 3.4709334
B25: =9.72/1000 -> 0.00972 | C25: =B25*$E$18 -> 2.1055841 | D25: =C25-($E$18/(10*12)) -> 0.30038511 | E25: =D25*12 -> 3.6046213
E29: 143000
E30: 10077
E31: =E29/E30 -> 14.190731
E32: =E31*$D$5 -> 1277.1658

Sheet 002
A1: VOS REFERENCES
D3: qsdq
A5: 2 | D5: 93
E9: 200000
E10: 6232
E11: =E9/E10 -> 32.092426
E12: =E11*$D$5 -> 2984.5956
E14: =2500*74 -> 185000
E15: 6232
E16: =E14/E15 -> 29.685494
E18: =E12-(E16*$D$5) -> 223.84467
B22: =28.94/1000 -> 0.02894 | C22: =B22*$E$18 -> 6.4780648 | D22: =C22-($E$18/(3*12)) -> 0.26015725 | E22: =D22*12 -> 3.121887
B23: =17.94/1000 -> 0.01794 | C23: =B23*$E$18 -> 4.0157734 | D23: =C23-($E$18/(5*12)) -> 0.28502888 | E23: =D23*12 -> 3.4203466
B24: =13.24/1000 -> 0.01324 | C24: =B24*$E$18 -> 2.9637035 | D24: =C24-($E$18/(7*12)) -> 0.29888593 | E24: =D24*12 -> 3.5866312
B25: =9.72/1000 -> 0.00972 | C25: =B25*$E$18 -> 2.1757702 | D25: =C25-($E$18/(10*12)) -> 0.31039795 | E25: =D25*12 -> 3.7247754
E29: 143000
E30: 10077
E31: =E29/E30 -> 14.190731
E32: =E31*$D$5 -> 1319.738

Sheet 003
A1: VOS REFERENCES
D3: qfqf
A5: 3 | D5: 90
E9: 200000
E10: 6232
E11: =E9/E10 -> 32.092426
E12: =E11*$D$5 -> 2888.3184
E14: =2500*74 -> 185000
E15: 6232
E16: =E14/E15 -> 29.685494
E18: =E12-(E16*$D$5) -> 216.62388
B22: =28.94/1000 -> 0.02894 | C22: =B22*$E$18 -> 6.269095 | D22: =C22-($E$18/(3*12)) -> 0.25176508 | E22: =D22*12 -> 3.021181
B23: =17.94/1000 -> 0.01794 | C23: =B23*$E$18 -> 3.8862323 | D23: =C23-($E$18/(5*12)) -> 0.2758344 | E23: =D23*12 -> 3.3100128
B24: =13.24/1000 -> 0.01324 | C24: =B24*$E$18 -> 2.8681001 | D24: =C24-($E$18/(7*12)) -> 0.28924445 | E24: =D24*12 -> 3.4709334
B25: =9.72/1000 -> 0.00972 | C25: =B25*$E$18 -> 2.1055841 | D25: =C25-($E$18/(10*12)) -> 0.30038511 | E25: =D25*12 -> 3.6046213
E29: 143000
E30: 10077
E31: =E29/E30 -> 14.190731
E32: =E31*$D$5 -> 1277.1658

Sheet 004
A1: VOS REFERENCES
D3: vsvsv
A5: 4 | D5: 45
E9: 200000
E10: 6232
E11: =E9/E10 -> 32.092426
E12: =E11*$D$5 -> 1444.1592
E14: =2500*74 -> 185000
E15: 6232
E16: =E14/E15 -> 29.685494
E18: =E12-(E16*$D$5) -> 108.31194
B22: =28.94/1000 -> 0.02894 | C22: =B22*$E$18 -> 3.1345475 | D22: =C22-($E$18/(3*12)) -> 0.12588254 | E22: =D22*12 -> 1.5105905
B23: =17.94/1000 -> 0.01794 | C23: =B23*$E$18 -> 1.9431162 | D23: =C23-($E$18/(5*12)) -> 0.1379172 | E23: =D23*12 -> 1.6550064
B24: =13.24/1000 -> 0.01324 | C24: =B24*$E$18 -> 1.4340501 | D24: =C24-($E$18/(7*12)) -> 0.14462223 | E24: =D24*12 -> 1.7354667
B25: =9.72/1000 -> 0.00972 | C25: =B25*$E$18 -> 1.052792 | D25: =C25-($E$18/(10*12)) -> 0.15019255 | E25: =D25*12 -> 1.8023107
E29: 143000
E30: 10077
E31: =E29/E30 -> 14.190731
E32: =E31*$D$5 -> 638.58291
