Workbook

Sheet Sem1
B1: C01 | C1: C01 | D1: C03 | E1: C03 | F1: C03 | G1: C03 | H1: C03 | I1: C03 | J1: C03 | K1: C03 | L1: C03 | M1: C04 | N1: C04 | O1: C04 | P1: C04 | Q1: C04 | R1: C04 | S1: C04 | T1: C04 | U1: C04 | V1: C04 | W1: C04 | X1: C04 | Y1: C04 | Z1: C04 | AA1: C04 | AB1: C04 | AC1: C04 | AD1: C04 | AE1: C04 | AF1: C04 | AG1: C06 | AH1: C06 | AI1: C06 | AJ1: C06 | AK1: C06 | AL1: C06 | AM1: C06 | AN1: C06 | AO1: C07 | AP1: C07 | AQ1: C08 | AR1: C08 | AS1: C08 | AT1: C08 | AU1: C08 | AV1: C08 | AW1: C08 | AX1: C08 | AY1: C08 | AZ1: Ce | BA1: Ce | BB1: C09 | BC1: C09 | BD1: C09 | BE1: C09 | BF1: C09 | BG1: C09 | BH1: C09 | BI1: C09 | BJ1: C09 | BK1: C09 | BL1: C09 | BM1: C09 | BN1: C09 | BO1: C09 | BP1: C09 | BQ1: C09 | BR1: C09 | BS1: C10 | BT1: C10 | BU1: C10 | BV1: C10 | BW1: C10 | BX1: C10 | BY1: C10 | BZ1: C11 | CA1: C11 | CB1: C11 | CC1: C11
A2: A | B2: - | C2: 3 | D2: 3 | E2: - | F2: 2 | G2: - | H2: 3 | I2: 3 | J2: - | K2: 3 | L2: - | M2: 1 | N2: - | O2: 3 | P2: - | Q2: - | R2: 0 | S2: - | T2: 3 | U2: - | V2: - | W2: 3 | X2: - | Y2: 3 | Z2: 0 | AA2: - | AB2: 0 | AC2: - | AD2: 2 | AE2: - | AF2: - | AG2: 3 | AH2: - | AI2: 0 | AJ2: - | AK2: - | AL2: 3 | AM2: 0 | AN2: - | AO2: 1 | AP2: - | AQ2: 2 | AR2: - | AS2: - | AT2: - | AU2: - | AV2: 3 | AW2: 3 | AX2: - | AY2: - | AZ2: 3 | BA2: - | BB2: 2 | BC2: - | BD2: 4 | BE2: 3 | BF2: 2 | BG2: - | BH2: 0 | BI2: - | BJ2: 4 | BK2: 3 | BL2: - | BM2: 0 | BN2: - | BO2: 3 | BP2: - | BQ2: 0 | BR2: - | BS2: - | BT2: 2 | BU2: - | BV2: - | BW2: 0 | BX2: - | BY2: - | BZ2: - | CA2: 1 | CB2: - | CC2: 1
A3: B | B3: - | C3: 3 | D3: 3 | E3: - | F3: 3 | G3: - | H3: 3 | I3: 2 | J3: - | K3: 3 | L3: - | M3: 1 | N3: - | O3: 3 | P3: - | Q3: - | R3: 2 | S3: - | T3: 3 | U3: - | V3: - | W3: 3 | X3: - | Y3: 3 | Z3: 2 | AA3: - | AB3: 2 | AC3: - | AD3: 2 | AE3: - | AF3: - | AG3: 3 | AH3: - | AI3: 2 | AJ3: - | AK3: - | AL3: 3 | AM3: 2 | AN3: - | AO3: 4 | AP3: - | AQ3: 3 | AR3: - | AS3: - | AT3: - | AU3: - | AV3: 4 | AW3: 3 | AX3: - | AY3: - | AZ3: 3 | BA3: - | BB3: 3 | BC3: - | BD3: 4 | BE3: 3 | BF3: 3 | BG3: - | BH3: 2 | BI3: - | BJ3: 3 | BK3: 3 | BL3: - | BM3: 2 | BN3: - | BO3: 3 | BP3: - | BQ3: 2 | BR3: - | BS3: - | BT3: 3 | BU3: - | BV3: - | BW3: 2 | BX3: - | BY3: - | BZ3: - | CA3: 4 | CB3: - | CC3: 1
A4: C | B4: - | C4: 4 | D4: 3 | E4: - | F4: 3 | G4: - | H4: 3 | I4: 2 | J4: - | K4: 3 | L4: - | M4: 2 | N4: - | O4: 3 | P4: - | Q4: - | R4: 3 | S4: - | T4: 4 | U4: - | V4: - | W4: 2 | X4: - | Y4: 3 | Z4: 3 | AA4: - | AB4: 3 | AC4: - | AD4: 3 | AE4: - | AF4: - | AG4: 4 | AH4: - | AI4: 3 | AJ4: - | AK4: - | AL4: 3 | AM4: 3 | AN4: - | AO4: 4 | AP4: - | AQ4: 3 | AR4: - | AS4: - | AT4: - | AU4: - | AV4: 3 | AW4: 4 | AX4: - | AY4: - | AZ4: 3 | BA4: - | BB4: 2 | BC4: - | BD4: 4 | BE4: 4 | BF4: 2 | BG4: - | BH4: 3 | BI4: - | BJ4: 4 | BK4: 3 | BL4: - | BM4: 2 | BN4: - | BO4: 3 | BP4: - | BQ4: 3 | BR4: - | BS4: - | BT4: 2 | BU4: - | BV4: - | BW4: 2 | BX4: - | BY4: - | BZ4: - | CA4: 4 | CB4: - | CC4: 4
A5: D | B5: - | C5: 3 | D5: 2 | E5: - | F5: 2 | G5: - | H5: 3 | I5: 2 | J5: - | K5: 3 | L5: - | M5: 1 | N5: - | O5: 3 | P5: - | Q5: - | R5: 3 | S5: - | T5: 2 | U5: - | V5: - | W5: 2 | X5: - | Y5: 3 | Z5: 3 | AA5: - | AB5: 2 | AC5: - | AD5: 2 | AE5: - | AF5: - | AG5: 2 | AH5: - | AI5: 2 | AJ5: - | AK5: - | AL5: 4 | AM5: 3 | AN5: - | AO5: 0 | AP5: - | AQ5: 2 | AR5: - | AS5: - | AT5: - | AU5: - | AV5: 3 | AW5: 2 | AX5: - | AY5: - | AZ5: 3 | BA5: - | BB5: 2 | BC5: - | BD5: 0 | BE5: 0 | BF5: 2 | BG5: - | BH5: 3 | BI5: - | BJ5: 0 | BK5: 3 | BL5: - | BM5: 2 | BN5: - | BO5: 3 | BP5: - | BQ5: 3 | BR5: - | BS5: - | BT5: 2 | BU5: - | BV5: - | BW5: 3 | BX5: - | BY5: - | BZ5: - | CA5: 1 | CB5: - | CC5: 1
A6: E | B6: - | C6: 3 | D6: 3 | E6: - | F6: 2 | G6: - | H6: 3 | I6: 3 | J6: - | K6: 3 | L6: - | M6: 2 | N6: - | O6: 3 | P6: - | Q6: - | R6: 3 | S6: - | T6: 2 | U6: - | V6: - | W6: 2 | X6: - | Y6: 3 | Z6: 3 | AA6: - | AB6: 3 | AC6: - | AD6: 2 | AE6: - | AF6: - | AG6: 3 | AH6: - | AI6: 3 | AJ6: - | AK6: - | AL6: 4 | AM6: 3 | AN6: - | AO6: 4 | AP6: - | AQ6: 2 | AR6: - | AS6: - | AT6: - | AU6: - | AV6: 4 | AW6: 2 | AX6: - | AY6: - | AZ6: 3 | BA6: - | BB6: 2 | BC6: - | BD6: 3 | BE6: 4 | BF6: 2 | BG6: - | BH6: 3 | BI6: - | BJ6: 4 | BK6: 3 | BL6: - | BM6: 3 | BN6: - | BO6: 3 | BP6: - | BQ6: 3 | BR6: - | BS6: - | BT6: 2 | BU6: - | BV6: - | BW6: 3 | BX6: - | BY6: - | BZ6: - | CA6: 4 | CB6: - | CC6: 4
A7: F | B7: - | C7: 3 | D7: 3 | E7: - | F7: 3 | G7: - | H7: 3 | I7: 4 | J7: - | K7: 3 | L7: - | M7: 2 | N7: - | O7: 3 | P7: - | Q7: - | R7: 3 | S7: - | T7: 4 | U7: - | V7: - | W7: 4 | X7: - | Y7: 4 | Z7: 3 | AA7: - | AB7: 3 | AC7: - | AD7: 3 | AE7: - | AF7: - | AG7: 4 | AH7: - | AI7: 3 | AJ7: - | AK7: - | AL7: 4 | AM7: 3 | AN7: - | AO7: 4 | AP7: - | AQ7: 4 | AR7: - | AS7: - | AT7: - | AU7: - | AV7: 4 | AW7: 4 | AX7: - | AY7: - | AZ7: 4 | BA7: - | BB7: 4 | BC7: - | BD7: 4 | BE7: 4 | BF7: 4 | BG7: - | BH7: 3 | BI7: - | BJ7: 4 | BK7: 3 | BL7: - | BM7: 3 | BN7: - | BO7: 3 | BP7: - | BQ7: 3 | BR7: - | BS7: - | BT7: 4 | BU7: - | BV7: - | BW7: 3 | BX7: - | BY7: - | BZ7: - | CA7: 4 | CB7: - | CC7: 4
A8: G | B8: - | C8: 4 | D8: 4 | E8: - | F8: 3 | G8: - | H8: 3 | I8: 4 | J8: - | K8: 3 | L8: - | M8: 1 | N8: - | O8: 4 | P8: - | Q8: - | R8: 3 | S8: - | T8: 3 | U8: - | V8: - | W8: 3 | X8: - | Y8: 4 | Z8: 3 | AA8: - | AB8: 3 | AC8: - | AD8: 3 | AE8: - | AF8: - | AG8: 3 | AH8: - | AI8: 3 | AJ8: - | AK8: - | AL8: 4 | AM8: 3 | AN8: - | AO8: 3 | AP8: - | AQ8: 2 | AR8: - | AS8: - | AT8: - | AU8: - | AV8: 2 | AW8: 3 | AX8: - | AY8: - | AZ8: 3 | BA8: - | BB8: 3 | BC8: - | BD8: 3 | BE8: 2 | BF8: 3 | BG8: - | BH8: 3 | BI8: - | BJ8: 3 | BK8: 4 | BL8: - | BM8: 3 | BN8: - | BO8: 4 | BP8: - | BQ8: 3 | BR8: - | BS8: - | BT8: 3 | BU8: - | BV8: - | BW8: 3 | BX8: - | BY8: - | BZ8: - | CA8: 1 | CB8: - | CC8: 1
A9: H | B9: - | C9: 3 | D9: 4 | E9: - | F9: 2 | G9: - | H9: 1 | I9: 2 | J9: - | K9: 3 | L9: - | M9: 1 | N9: - | O9: 4 | P9: - | Q9: - | R9: 2 | S9: - | T9: 3 | U9: - | V9: - | W9: 2 | X9: - | Y9: 3 | Z9: 2 | AA9: - | AB9: 3 | AC9: - | AD9: 3 | AE9: - | AF9: - | AG9: 3 | AH9: - | AI9: 3 | AJ9: - | AK9: - | AL9: 3 | AM9: 3 | AN9: - | AO9: 4 | AP9: - | AQ9: 2 | AR9: - | AS9: - | AT9: - | AU9: - | AV9: 1 | AW9: 3 | AX9: - | AY9: - | AZ9: 2 | BA9: - | BB9: 2 | BC9: - | BD9: 3 | BE9: 3 | BF9: 2 | BG9: - | BH9: 3 | BI9: - | BJ9: 3 | BK9: 4 | BL9: - | BM9: 3 | BN9: - | BO9: 4 | BP9: - | BQ9: 2 | BR9: - | BS9: - | BT9: 2 | BU9: - | BV9: - | BW9: 2 | BX9: - | BY9: - | BZ9: - | CA9: 1 | CB9: - | CC9: 1
A10: I | B10: - | C10: 3 | D10: 2 | E10: - | F10: 2 | G10: - | H10: 3 | I10: 3 | J10: - | K10: 3 | L10: - | M10: 2 | N10: - | O10: 3 | P10: - | Q10: - | R10: 2 | S10: - | T10: 2 | U10: - | V10: - | W10: 3 | X10: - | Y10: 3 | Z10: 2 | AA10: - | AB10: 2 | AC10: - | AD10: 2 | AE10: - | AF10: - | AG10: 2 | AH10: - | AI10: 3 | AJ10: - | AK10: - | AL10: 3 | AM10: 2 | AN10: - | AO10: 0 | AP10: - | AQ10: 2 | AR10: - | AS10: - | AT10: - | AU10: - | AV10: 3 | AW10: 2 | AX10: - | AY10: - | AZ10: 2 | BA10: - | BB10: 2 | BC10: - | BD10: 0 | BE10: 0 | BF10: 2 | BG10: - | BH10: 2 | BI10: - | BJ10: 0 | BK10: 3 | BL10: - | BM10: 2 | BN10: - | BO10: 3 | BP10: - | BQ10: 2 | BR10: - | BS10: - | BT10: 2 | BU10: - | BV10: - | BW10: 2 | BX10: - | BY10: - | BZ10: - | CA10: 2 | CB10: - | CC10: 2
A11: J | B11: - | C11: 3 | D11: 3 | E11: - | F11: 2 | G11: - | H11: 3 | I11: 3 | J11: - | K11: 3 | L11: - | M11: 2 | N11: - | O11: 3 | P11: - | Q11: - | R11: 3 | S11: - | T11: 2 | U11: - | V11: - | W11: 3 | X11: - | Y11: 3 | Z11: 3 | AA11: - | AB11: 2 | AC11: - | AD11: 3 | AE11: - | AF11: - | AG11: 3 | AH11: - | AI11: 2 | AJ11: - | AK11: - | AL11: 3 | AM11: 3 | AN11: - | AO11: 1 | AP11: - | AQ11: 2 | AR11: - | AS11: - | AT11: - | AU11: - | AV11: 4 | AW11: 2 | AX11: - | AY11: - | AZ11: 3 | BA11: - | BB11: 2 | BC11: - | BD11: 2 | BE11: 2 | BF11: 2 | BG11: - | BH11: 3 | BI11: - | BJ11: 4 | BK11: 3 | BL11: - | BM11: 3 | BN11: - | BO11: 3 | BP11: - | BQ11: 2 | BR11: - | BS11: - | BT11: 2 | BU11: - | BV11: - | BW11: 2 | BX11: - | BY11: - | BZ11: - | CA11: 3 | CB11: - | CC11: 4
A12: K | B12: - | C12: 3 | D12: 3 | E12: - | F12: 2 | G12: - | H12: 3 | I12: 1 | J12: - | K12: 3 | L12: - | M12: 1 | N12: - | O12: 3 | P12: - | Q12: - | R12: 1 | S12: - | T12: 2 | U12: - | V12: - | W12: 2 | X12: - | Y12: 3 | Z12: 1 | AA12: - | AB12: 1 | AC12: - | AD12: 3 | AE12: - | AF12: - | AG12: 2 | AH12: - | AI12: 1 | AJ12: - | AK12: - | AL12: 1 | AM12: 2 | AN12: - | AO12: 0 | AP12: - | AQ12: 2 | AR12: - | AS12: - | AT12: - | AU12: - | AV12: 1 | AW12: 2 | AX12: - | AY12: - | AZ12: 3 | BA12: - | BB12: 2 | BC12: - | BD12: 0 | BE12: 0 | BF12: 2 | BG12: - | BH12: 2 | BI12: - | BJ12: 0 | BK12: 3 | BL12: - | BM12: 2 | BN12: - | BO12: 3 | BP12: - | BQ12: 2 | BR12: - | BS12: - | BT12: 2 | BU12: - | BV12: - | BW12: 2 | BX12: - | BY12: - | BZ12: - | CA12: 1 | CB12: - | CC12: 1
A13: L | B13: - | C13: 3 | D13: 3 | E13: - | F13: 2 | G13: - | H13: 3 | I13: 2 | J13: - | K13: 3 | L13: - | M13: 2 | N13: - | O13: 3 | P13: - | Q13: - | R13: 3 | S13: - | T13: 3 | U13: - | V13: - | W13: 2 | X13: - | Y13: 3 | Z13: 3 | AA13: - | AB13: 3 | AC13: - | AD13: 2 | AE13: - | AF13: - | AG13: 2 | AH13: - | AI13: 3 | AJ13: - | AK13: - | AL13: 3 | AM13: 3 | AN13: - | AO13: 4 | AP13: - | AQ13: 2 | AR13: - | AS13: - | AT13: - | AU13: - | AV13: 4 | AW13: 3 | AX13: - | AY13: - | AZ13: 3 | BA13: - | BB13: 2 | BC13: - | BD13: 4 | BE13: 4 | BF13: 2 | BG13: - | BH13: 3 | BI13: - | BJ13: 4 | BK13: 3 | BL13: - | BM13: 3 | BN13: - | BO13: 3 | BP13: - | BQ13: 3 | BR13: - | BS13: - | BT13: 2 | BU13: - | BV13: - | BW13: 3 | BX13: - | BY13: - | BZ13: - | CA13: 4 | CB13: - | CC13: 4
A14: M | B14: - | C14: - | D14: - | E14: 3 | F14: - | G14: 3 | H14: - | I14: - | J14: 0 | K14: - | L14: 3 | M14: - | N14: 2 | O14: - | P14: 3 | Q14: 0 | R14: - | S14: 2 | T14: - | U14: 2 | V14: 3 | W14: - | X14: 2 | Y14: - | Z14: - | AA14: 3 | AB14: - | AC14: 2 | AD14: - | AE14: 2 | AF14: - | AG14: - | AH14: 2 | AI14: - | AJ14: 2 | AK14: 4 | AL14: - | AM14: - | AN14: 2 | AO14: - | AP14: 0 | AQ14: - | AR14: 2 | AS14: 3 | AT14: - | AU14: 2 | AV14: - | AW14: - | AX14: 2 | AY14: 3 | AZ14: - | BA14: 4 | BB14: - | BC14: 2 | BD14: - | BE14: - | BF14: - | BG14: 2 | BH14: - | BI14: 2 | BJ14: - | BK14: - | BL14: 3 | BM14: - | BN14: 2 | BO14: - | BP14: 3 | BQ14: - | BR14: 2 | BS14: 0 | BT14: - | BU14: 2 | BV14: 0 | BW14: - | BX14: 2 | BY14: 0 | BZ14: 1 | CA14: - | CB14: 1 | CC14: -
A15: N | B15: - | C15: - | D15: - | E15: 3 | F15: - | G15: 3 | H15: - | I15: - | J15: 0 | K15: - | L15: 3 | M15: - | N15: 2 | O15: - | P15: 3 | Q15: 0 | R15: - | S15: 2 | T15: - | U15: 2 | V15: 3 | W15: - | X15: 3 | Y15: - | Z15: - | AA15: 3 | AB15: - | AC15: 3 | AD15: - | AE15: 2 | AF15: - | AG15: - | AH15: 2 | AI15: - | AJ15: 3 | AK15: 3 | AL15: - | AM15: - | AN15: 3 | AO15: - | AP15: 4 | AQ15: - | AR15: 2 | AS15: 4 | AT15: - | AU15: 2 | AV15: - | AW15: - | AX15: 2 | AY15: 3 | AZ15: - | BA15: 4 | BB15: - | BC15: 2 | BD15: - | BE15: - | BF15: - | BG15: 3 | BH15: - | BI15: 3 | BJ15: - | BK15: - | BL15: 3 | BM15: - | BN15: 3 | BO15: - | BP15: 3 | BQ15: - | BR15: 2 | BS15: 3 | BT15: - | BU15: 3 | BV15: 2 | BW15: - | BX15: 2 | BY15: 3 | BZ15: 4 | CA15: - | CB15: 4 | CC15: -
A16: O | B16: - | C16: - | D16: - | E16: 3 | F16: - | G16: 3 | H16: - | I16: - | J16: 0 | K16: - | L16: 3 | M16: - | N16: 3 | O16: - | P16: 3 | Q16: 0 | R16: - | S16: 2 | T16: - | U16: 3 | V16: 3 | W16: - | X16: 3 | Y16: - | Z16: - | AA16: 2 | AB16: - | AC16: 2 | AD16: - | AE16: 3 | AF16: - | AG16: - | AH16: 2 | AI16: - | AJ16: 3 | AK16: 4 | AL16: - | AM16: - | AN16: 2 | AO16: - | AP16: 4 | AQ16: - | AR16: 3 | AS16: 4 | AT16: - | AU16: 2 | AV16: - | AW16: - | AX16: 3 | AY16: 3 | AZ16: - | BA16: 4 | BB16: - | BC16: 3 | BD16: - | BE16: - | BF16: - | BG16: 3 | BH16: - | BI16: 2 | BJ16: - | BK16: - | BL16: 3 | BM16: - | BN16: 2 | BO16: - | BP16: 3 | BQ16: - | BR16: 2 | BS16: 4 | BT16: - | BU16: 3 | BV16: 3 | BW16: - | BX16: 2 | BY16: 4 | BZ16: 4 | CA16: - | CB16: 4 | CC16: -
A17: P | B17: - | C17: - | D17: - | E17: 3 | F17: - | G17: 3 | H17: - | I17: - | J17: 0 | K17: - | L17: 3 | M17: - | N17: 1 | O17: - | P17: 3 | Q17: 0 | R17: - | S17: 1 | T17: - | U17: 1 | V17: 3 | W17: - | X17: 4 | Y17: - | Z17: - | AA17: 1 | AB17: - | AC17: 1 | AD17: - | AE17: 2 | AF17: - | AG17: - | AH17: 1 | AI17: - | AJ17: 1 | AK17: 0 | AL17: - | AM17: - | AN17: 1 | AO17: - | AP17: 4 | AQ17: - | AR17: 4 | AS17: 0 | AT17: - | AU17: 2 | AV17: - | AW17: - | AX17: 1 | AY17: 3 | AZ17: - | BA17: 4 | BB17: - | BC17: 4 | BD17: - | BE17: - | BF17: - | BG17: 4 | BH17: - | BI17: 1 | BJ17: - | BK17: - | BL17: 3 | BM17: - | BN17: 1 | BO17: - | BP17: 3 | BQ17: - | BR17: 1 | BS17: 4 | BT17: - | BU17: 4 | BV17: 4 | BW17: - | BX17: 1 | BY17: 4 | BZ17: 0 | CA17: - | CB17: 0 | CC17: -
A18: Q | B18: - | C18: - | D18: - | E18: 0 | F18: - | G18: 3 | H18: - | I18: - | J18: 0 | K18: - | L18: 3 | M18: - | N18: 1 | O18: - | P18: 0 | Q18: 0 | R18: - | S18: 2 | T18: - | U18: 1 | V18: 3 | W18: - | X18: 3 | Y18: - | Z18: - | AA18: 1 | AB18: - | AC18: 1 | AD18: - | AE18: 0 | AF18: - | AG18: - | AH18: 1 | AI18: - | AJ18: 1 | AK18: 1 | AL18: - | AM18: - | AN18: 1 | AO18: - | AP18: 0 | AQ18: - | AR18: 2 | AS18: 1 | AT18: - | AU18: 2 | AV18: - | AW18: - | AX18: 1 | AY18: 3 | AZ18: - | BA18: 4 | BB18: - | BC18: 2 | BD18: - | BE18: - | BF18: - | BG18: 3 | BH18: - | BI18: 1 | BJ18: - | BK18: - | BL18: 0 | BM18: - | BN18: 1 | BO18: - | BP18: 0 | BQ18: - | BR18: 1 | BS18: 0 | BT18: - | BU18: 3 | BV18: 0 | BW18: - | BX18: 1 | BY18: 0 | BZ18: 1 | CA18: - | CB18: 1 | CC18: -
A19: R | B19: - | C19: - | D19: - | E19: 3 | F19: - | G19: 3 | H19: - | I19: - | J19: 0 | K19: - | L19: 3 | M19: - | N19: 2 | O19: - | P19: 3 | Q19: 0 | R19: - | S19: 2 | T19: - | U19: 1 | V19: 3 | W19: - | X19: 2 | Y19: - | Z19: - | AA19: 2 | AB19: - | AC19: 2 | AD19: - | AE19: 3 | AF19: - | AG19: - | AH19: 1 | AI19: - | AJ19: 2 | AK19: 3 | AL19: - | AM19: - | AN19: 2 | AO19: - | AP19: 1 | AQ19: - | AR19: 2 | AS19: 4 | AT19: - | AU19: 2 | AV19: - | AW19: - | AX19: 1 | AY19: 3 | AZ19: - | BA19: 4 | BB19: - | BC19: 2 | BD19: - | BE19: - | BF19: - | BG19: 2 | BH19: - | BI19: 2 | BJ19: - | BK19: - | BL19: 3 | BM19: - | BN19: 2 | BO19: - | BP19: 3 | BQ19: - | BR19: 2 | BS19: 3 | BT19: - | BU19: 2 | BV19: 1 | BW19: - | BX19: 2 | BY19: 3 | BZ19: 3 | CA19: - | CB19: 1 | CC19: -
A20: S | B20: - | C20: - | D20: - | E20: 3 | F20: - | G20: 3 | H20: - | I20: - | J20: 0 | K20: - | L20: 3 | M20: - | N20: 2 | O20: - | P20: 3 | Q20: 0 | R20: - | S20: 2 | T20: - | U20: 2 | V20: 3 | W20: - | X20: 0 | Y20: - | Z20: - | AA20: 2 | AB20: - | AC20: 2 | AD20: - | AE20: 2 | AF20: - | AG20: - | AH20: 2 | AI20: - | AJ20: 2 | AK20: 4 | AL20: - | AM20: - | AN20: 3 | AO20: - | AP20: 4 | AQ20: - | AR20: 0 | AS20: 4 | AT20: - | AU20: 2 | AV20: - | AW20: - | AX20: 2 | AY20: 3 | AZ20: - | BA20: 4 | BB20: - | BC20: 0 | BD20: - | BE20: - | BF20: - | BG20: 0 | BH20: - | BI20: 2 | BJ20: - | BK20: - | BL20: 3 | BM20: - | BN20: 2 | BO20: - | BP20: 3 | BQ20: - | BR20: 2 | BS20: 4 | BT20: - | BU20: 0 | BV20: 3 | BW20: - | BX20: 2 | BY20: 4 | BZ20: 3 | CA20: - | CB20: 1 | CC20: -
A21: T | B21: - | C21: - | D21: - | E21: 3 | F21: - | G21: 3 | H21: - | I21: - | J21: 0 | K21: - | L21: 3 | M21: - | N21: 2 | O21: - | P21: 3 | Q21: 0 | R21: - | S21: 2 | T21: - | U21: 2 | V21: 3 | W21: - | X21: 2 | Y21: - | Z21: - | AA21: 2 | AB21: - | AC21: 2 | AD21: - | AE21: 2 | AF21: - | AG21: - | AH21: 3 | AI21: - | AJ21: 2 | AK21: 0 | AL21: - | AM21: - | AN21: 2 | AO21: - | AP21: 4 | AQ21: - | AR21: 2 | AS21: 0 | AT21: - | AU21: 2 | AV21: - | AW21: - | AX21: 3 | AY21: 3 | AZ21: - | BA21: 4 | BB21: - | BC21: 2 | BD21: - | BE21: - | BF21: - | BG21: 2 | BH21: - | BI21: 2 | BJ21: - | BK21: - | BL21: 3 | BM21: - | BN21: 2 | BO21: - | BP21: 3 | BQ21: - | BR21: 2 | BS21: 3 | BT21: - | BU21: 2 | BV21: 2 | BW21: - | BX21: 2 | BY21: 4 | BZ21: 0 | CA21: - | CB21: 0 | CC21: -
A22: U | B22: - | C22: - | D22: - | E22: 3 | F22: - | G22: 3 | H22: - | I22: - | J22: 0 | K22: - | L22: 3 | M22: - | N22: 3 | O22: - | P22: 3 | Q22: 0 | R22: - | S22: 2 | T22: - | U22: 4 | V22: 3 | W22: - | X22: 4 | Y22: - | Z22: - | AA22: 2 | AB22: - | AC22: 2 | AD22: - | AE22: 2 | AF22: - | AG22: - | AH22: 4 | AI22: - | AJ22: 2 | AK22: 3 | AL22: - | AM22: - | AN22: 2 | AO22: - | AP22: 4 | AQ22: - | AR22: 4 | AS22: 4 | AT22: - | AU22: 2 | AV22: - | AW22: - | AX22: 4 | AY22: 3 | AZ22: - | BA22: 4 | BB22: - | BC22: 4 | BD22: - | BE22: - | BF22: - | BG22: 4 | BH22: - | BI22: 2 | BJ22: - | BK22: - | BL22: 3 | BM22: - | BN22: 2 | BO22: - | BP22: 3 | BQ22: - | BR22: 2 | BS22: 4 | BT22: - | BU22: 4 | BV22: 3 | BW22: - | BX22: 2 | BY22: 4 | BZ22: 4 | CA22: - | CB22: 4 | CC22: -
A23: V | B23: - | C23: - | D23: - | E23: 3 | F23: - | G23: 3 | H23: - | I23: - | J23: 0 | K23: - | L23: 3 | M23: - | N23: 2 | O23: - | P23: 3 | Q23: 0 | R23: - | S23: 2 | T23: - | U23: 2 | V23: 3 | W23: - | X23: 4 | Y23: - | Z23: - | AA23: 2 | AB23: - | AC23: 2 | AD23: - | AE23: 2 | AF23: - | AG23: - | AH23: 2 | AI23: - | AJ23: 2 | AK23: 4 | AL23: - | AM23: - | AN23: 2 | AO23: - | AP23: 4 | AQ23: - | AR23: 4 | AS23: 3 | AT23: - | AU23: 2 | AV23: - | AW23: - | AX23: 2 | AY23: 3 | AZ23: - | BA23: 4 | BB23: - | BC23: 4 | BD23: - | BE23: - | BF23: - | BG23: 4 | BH23: - | BI23: 2 | BJ23: - | BK23: - | BL23: 3 | BM23: - | BN23: 2 | BO23: - | BP23: 3 | BQ23: - | BR23: 2 | BS23: 3 | BT23: - | BU23: 4 | BV23: 2 | BW23: - | BX23: 2 | BY23: 4 | BZ23: 4 | CA23: - | CB23: 3 | CC23: -
A24: W | B24: - | C24: - | D24: - | E24: 3 | F24: - | G24: 3 | H24: - | I24: - | J24: 0 | K24: - | L24: 3 | M24: - | N24: 2 | O24: - | P24: 3 | Q24: 0 | R24: - | S24: 2 | T24: - | U24: 1 | V24: 3 | W24: - | X24: 2 | Y24: - | Z24: - | AA24: 2 | AB24: - | AC24: 2 | AD24: - | AE24: 2 | AF24: - | AG24: - | AH24: 1 | AI24: - | AJ24: 2 | AK24: 3 | AL24: - | AM24: - | AN24: 2 | AO24: - | AP24: 4 | AQ24: - | AR24: 2 | AS24: 4 | AT24: - | AU24: 2 | AV24: - | AW24: - | AX24: 1 | AY24: 3 | AZ24: - | BA24: 4 | BB24: - | BC24: 2 | BD24: - | BE24: - | BF24: - | BG24: 2 | BH24: - | BI24: 2 | BJ24: - | BK24: - | BL24: 3 | BM24: - | BN24: 2 | BO24: - | BP24: 3 | BQ24: - | BR24: 2 | BS24: 4 | BT24: - | BU24: 2 | BV24: 4 | BW24: - | BX24: 2 | BY24: 3 | BZ24: 1 | CA24: - | CB24: 1 | CC24: -
A25: X | B25: - | C25: - | D25: - | E25: 3 | F25: - | G25: 3 | H25: - | I25: - | J25: 0 | K25: - | L25: 3 | M25: - | N25: 3 | O25: - | P25: 3 | Q25: 0 | R25: - | S25: 3 | T25: - | U25: 4 | V25: 3 | W25: - | X25: 3 | Y25: - | Z25: - | AA25: 3 | AB25: - | AC25: 3 | AD25: - | AE25: 2 | AF25: - | AG25: - | AH25: 4 | AI25: - | AJ25: 3 | AK25: 3 | AL25: - | AM25: - | AN25: 3 | AO25: - | AP25: 4 | AQ25: - | AR25: 3 | AS25: 3 | AT25: - | AU25: 2 | AV25: - | AW25: - | AX25: 4 | AY25: 3 | AZ25: - | BA25: 4 | BB25: - | BC25: 3 | BD25: - | BE25: - | BF25: - | BG25: 3 | BH25: - | BI25: 3 | BJ25: - | BK25: - | BL25: 3 | BM25: - | BN25: 2 | BO25: - | BP25: 3 | BQ25: - | BR25: 2 | BS25: 3 | BT25: - | BU25: 3 | BV25: 3 | BW25: - | BX25: 3 | BY25: 4 | BZ25: 4 | CA25: - | CB25: 4 | CC25: -

Sheet bilan
A1: Nom | B1: C01 | C1: C02 | D1: C03 | E1: C04 | F1: C05 | G1: C06 | H1: C07 | I1: C08 | J1: C09 | K1: C10 | L1: C11
A2: ='Sem1'!A2 -> A | B2: =IFERROR(AVERAGEIFS('Sem1'!$B2:$CC2,'Sem1'!$B$1:$CC$1,Tableau2[[#Headers],[C01]]),"") -> 3 | C2: =IFERROR(AVERAGEIFS('Sem1'!$B2:$CC2,'Sem1'!$B$1:$CC$1,Tableau2[[#Headers],[C02]]),"") | D2: =IFERROR(AVERAGEIFS('Sem1'!$B2:$CC2,'Sem1'!$B$1:$CC$1,Tableau2[[#Headers],[C03]]),"") -> 2.8 | E2: =IFERROR(AVERAGEIFS('Sem1'!$B2:$CC2,'Sem1'!$B$1:$CC$1,Tableau2[[#Headers],[C04]]),"") -> 1.6666667 | F2: =IFERROR(AVERAGEIFS('Sem1'!$B2:$CC2,'Sem1'!$B$1:$CC$1,Tableau2[[#Headers],[C05]]),"") | G2: =IFERROR(AVERAGEIFS('Sem1'!$B2:$CC2,'Sem1'!$B$1:$CC$1,Tableau2[[#Headers],[C06]]),"") -> 1.5 | H2: =IFERROR(AVERAGEIFS('Sem1'!$B2:$CC2,'Sem1'!$B$1:$CC$1,Tableau2[[#Headers],[C07]]),"") -> 1 | I2: =IFERROR(AVERAGEIFS('Sem1'!$B2:$CC2,'Sem1'!$B$1:$CC$1,Tableau2[[#Headers],[C08]]),"") -> 2.6666667 | J2: =IFERROR(AVERAGEIFS('Sem1'!$B2:$CC2,'Sem1'!$B$1:$CC$1,Tableau2[[#Headers],[C09]]),"") -> 2.1 | K2: =IFERROR(AVERAGEIFS('Sem1'!$B2:$CC2,'Sem1'!$B$1:$CC$1,Tableau2[[#Headers],[C10]]),"") -> 1 | L2: =IFERROR(AVERAGEIFS('Sem1'!$B2:$CC2,'Sem1'!$B$1:$CC$1,Tableau2[[#Headers],[C11]]),"") -> 1
A3: ='Sem1'!A3 -> B | B3: =IFERROR(AVERAGEIFS('Sem1'!$B3:$CC3,'Sem1'!$B$1:$CC$1,Tableau2[[#Headers],[C01]]),"") -> 3 | C3: =IFERROR(AVERAGEIFS('Sem1'!$B3:$CC3,'Sem1'!$B$1:$CC$1,Tableau2[[#Headers],[C02]]),"") | D3: =IFERROR(AVERAGEIFS('Sem1'!$B3:$CC3,'Sem1'!$B$1:$CC$1,Tableau2[[#Headers],[C03]]),"") -> 2.8 | E3: =IFERROR(AVERAGEIFS('Sem1'!$B3:$CC3,'Sem1'!$B$1:$CC$1,Tableau2[[#Headers],[C04]]),"") -> 2.3333333 | F3: =IFERROR(AVERAGEIFS('Sem1'!$B3:$CC3,'Sem1'!$B$1:$CC$1,Tableau2[[#Headers],[C05]]),"") | G3: =IFERROR(AVERAGEIFS('Sem1'!$B3:$CC3,'Sem1'!$B$1:$CC$1,Tableau2[[#Headers],[C06]]),"") -> 2.5 | H3: =IFERROR(AVERAGEIFS('Sem1'!$B3:$CC3,'Sem1'!$B$1:$CC$1,Tableau2[[#Headers],[C07]]),"") -> 4 | I3: =IFERROR(AVERAGEIFS('Sem1'!$B3:$CC3,'Sem1'!$B$1:$CC$1,Tableau2[[#Headers],[C08]]),"") -> 3.3333333 | J3: =IFERROR(AVERAGEIFS('Sem1'!$B3:$CC3,'Sem1'!$B$1:$CC$1,Tableau2[[#Headers],[C09]]),"") -> 2.8 | K3: =IFERROR(AVERAGEIFS('Sem1'!$B3:$CC3,'Sem1'!$B$1:$CC$1,Tableau2[[#Headers],[C10]]),"") -> 2.5 | L3: =IFERROR(AVERAGEIFS('Sem1'!$B3:$CC3,'Sem1'!$B$1:$CC$1,Tableau2[[#Headers],[C11]]),"") -> 2.5
A4: ='Sem1'!A4 -> C | B4: =IFERROR(AVERAGEIFS('Sem1'!$B4:$CC4,'Sem1'!$B$1:$CC$1,Tableau2[[#Headers],[C01]]),"") -> 4 | C4: =IFERROR(AVERAGEIFS('Sem1'!$B4:$CC4,'Sem1'!$B$1:$CC$1,Tableau2[[#Headers],[C02]]),"") | D4: =IFERROR(AVERAGEIFS('Sem1'!$B4:$CC4,'Sem1'!$B$1:$CC$1,Tableau2[[#Headers],[C03]]),"") -> 2.8 | E4: =IFERROR(AVERAGEIFS('Sem1'!$B4:$CC4,'Sem1'!$B$1:$CC$1,Tableau2[[#Headers],[C04]]),"") -> 2.8888889 | F4: =IFERROR(AVERAGEIFS('Sem1'!$B4:$CC4,'Sem1'!$B$1:$CC$1,Tableau2[[#Headers],[C05]]),"") | G4: =IFERROR(AVERAGEIFS('Sem1'!$B4:$CC4,'Sem1'!$B$1:$CC$1,Tableau2[[#Headers],[C06]]),"") -> 3.25 | H4: =IFERROR(AVERAGEIFS('Sem1'!$B4:$CC4,'Sem1'!$B$1:$CC$1,Tableau2[[#Headers],[C07]]),"") -> 4 | I4: =IFERROR(AVERAGEIFS('Sem1'!$B4:$CC4,'Sem1'!$B$1:$CC$1,Tableau2[[#Headers],[C08]]),"") -> 3.3333333 | J4: =IFERROR(AVERAGEIFS('Sem1'!$B4:$CC4,'Sem1'!$B$1:$CC$1,Tableau2[[#Headers],[C09]]),"") -> 3 | K4: =IFERROR(AVERAGEIFS('Sem1'!$B4:$CC4,'Sem1'!$B$1:$CC$1,Tableau2[[#Headers],[C10]]),"") -> 2 | L4: =IFERROR(AVERAGEIFS('Sem1'!$B4:$CC4,'Sem1'!$B$1:$CC$1,Tableau2[[#Headers],[C11]]),"") -> 4
A5: ='Sem1'!A5 -> D | B5: =IFERROR(AVERAGEIFS('Sem1'!$B5:$CC5,'Sem1'!$B$1:$CC$1,Tableau2[[#Headers],[C01]]),"") -> 3 | C5: =IFERROR(AVERAGEIFS('Sem1'!$B5:$CC5,'Sem1'!$B$1:$CC$1,Tableau2[[#Headers],[C02]]),"") | D5: =IFERROR(AVERAGEIFS('Sem1'!$B5:$CC5,'Sem1'!$B$1:$CC$1,Tableau2[[#Headers],[C03]]),"") -> 2.4 | E5: =IFERROR(AVERAGEIFS('Sem1'!$B5:$CC5,'Sem1'!$B$1:$CC$1,Tableau2[[#Headers],[C04]]),"") -> 2.3333333 | F5: =IFERROR(AVERAGEIFS('Sem1'!$B5:$CC5,'Sem1'!$B$1:$CC$1,Tableau2[[#Headers],[C05]]),"") | G5: =IFERROR(AVERAGEIFS('Sem1'!$B5:$CC5,'Sem1'!$B$1:$CC$1,Tableau2[[#Headers],[C06]]),"") -> 2.75 | H5: =IFERROR(AVERAGEIFS('Sem1'!$B5:$CC5,'Sem1'!$B$1:$CC$1,Tableau2[[#Headers],[C07]]),"") -> 0 | I5: =IFERROR(AVERAGEIFS('Sem1'!$B5:$CC5,'Sem1'!$B$1:$CC$1,Tableau2[[#Headers],[C08]]),"") -> 2.3333333 | J5: =IFERROR(AVERAGEIFS('Sem1'!$B5:$CC5,'Sem1'!$B$1:$CC$1,Tableau2[[#Headers],[C09]]),"") -> 1.8 | K5: =IFERROR(AVERAGEIFS('Sem1'!$B5:$CC5,'Sem1'!$B$1:$CC$1,Tableau2[[#Headers],[C10]]),"") -> 2.5 | L5: =IFERROR(AVERAGEIFS('Sem1'!$B5:$CC5,'Sem1'!$B$1:$CC$1,Tableau2[[#Headers],[C11]]),"") -> 1
A6: ='Sem1'!A6 -> E | B6: =IFERROR(AVERAGEIFS('Sem1'!$B6:$CC6,'Sem1'!$B$1:$CC$1,Tableau2[[#Headers],[C01]]),"") -> 3 | C6: =IFERROR(AVERAGEIFS('Sem1'!$B6:$CC6,'Sem1'!$B$1:$CC$1,Tableau2[[#Headers],[C02]]),"") | D6: =IFERROR(AVERAGEIFS('Sem1'!$B6:$CC6,'Sem1'!$B$1:$CC$1,Tableau2[[#Headers],[C03]]),"") -> 2.8 | E6: =IFERROR(AVERAGEIFS('Sem1'!$B6:$CC6,'Sem1'!$B$1:$CC$1,Tableau2[[#Headers],[C04]]),"") -> 2.5555556 | F6: =IFERROR(AVERAGEIFS('Sem1'!$B6:$CC6,'Sem1'!$B$1:$CC$1,Tableau2[[#Headers],[C05]]),"") | G6: =IFERROR(AVERAGEIFS('Sem1'!$B6:$CC6,'Sem1'!$B$1:$CC$1,Tableau2[[#Headers],[C06]]),"") -> 3.25 | H6: =IFERROR(AVERAGEIFS('Sem1'!$B6:$CC6,'Sem1'!$B$1:$CC$1,Tableau2[[#Headers],[C07]]),"") -> 4 | I6: =IFERROR(AVERAGEIFS('Sem1'!$B6:$CC6,'Sem1'!$B$1:$CC$1,Tableau2[[#Headers],[C08]]),"") -> 2.6666667 | J6: =IFERROR(AVERAGEIFS('Sem1'!$B6:$CC6,'Sem1'!$B$1:$CC$1,Tableau2[[#Headers],[C09]]),"") -> 3 | K6: =IFERROR(AVERAGEIFS('Sem1'!$B6:$CC6,'Sem1'!$B$1:$CC$1,Tableau2[[#Headers],[C10]]),"") -> 2.5 | L6: =IFERROR(AVERAGEIFS('Sem1'!$B6:$CC6,'Sem1'!$B$1:$CC$1,Tableau2[[#Headers],[C11]]),"") -> 4
A7: ='Sem1'!A7 -> F | B7: =IFERROR(AVERAGEIFS('Sem1'!$B7:$CC7,'Sem1'!$B$1:$CC$1,Tableau2[[#Headers],[C01]]),"") -> 3 | C7: =IFERROR(AVERAGEIFS('Sem1'!$B7:$CC7,'Sem1'!$B$1:$CC$1,Tableau2[[#Headers],[C02]]),"") | D7: =IFERROR(AVERAGEIFS('Sem1'!$B7:$CC7,'Sem1'!$B$1:$CC$1,Tableau2[[#Headers],[C03]]),"") -> 3.2 | E7: =IFERROR(AVERAGEIFS('Sem1'!$B7:$CC7,'Sem1'!$B$1:$CC$1,Tableau2[[#Headers],[C04]]),"") -> 3.2222222 | F7: =IFERROR(AVERAGEIFS('Sem1'!$B7:$CC7,'Sem1'!$B$1:$CC$1,Tableau2[[#Headers],[C05]]),"") | G7: =IFERROR(AVERAGEIFS('Sem1'!$B7:$CC7,'Sem1'!$B$1:$CC$1,Tableau2[[#Headers],[C06]]),"") -> 3.5 | H7: =IFERROR(AVERAGEIFS('Sem1'!$B7:$CC7,'Sem1'!$B$1:$CC$1,Tableau2[[#Headers],[C07]]),"") -> 4 | I7: =IFERROR(AVERAGEIFS('Sem1'!$B7:$CC7,'Sem1'!$B$1:$CC$1,Tableau2[[#Headers],[C08]]),"") -> 4 | J7: =IFERROR(AVERAGEIFS('Sem1'!$B7:$CC7,'Sem1'!$B$1:$CC$1,Tableau2[[#Headers],[C09]]),"") -> 3.5 | K7: =IFERROR(AVERAGEIFS('Sem1'!$B7:$CC7,'Sem1'!$B$1:$CC$1,Tableau2[[#Headers],[C10]]),"") -> 3.5 | L7: =IFERROR(AVERAGEIFS('Sem1'!$B7:$CC7,'Sem1'!$B$1:$CC$1,Tableau2[[#Headers],[C11]]),"") -> 4
A8: ='Sem1'!A8 -> G | B8: =IFERROR(AVERAGEIFS('Sem1'!$B8:$CC8,'Sem1'!$B$1:$CC$1,Tableau2[[#Headers],[C01]]),"") -> 4 | C8: =IFERROR(AVERAGEIFS('Sem1'!$B8:$CC8,'Sem1'!$B$1:$CC$1,Tableau2[[#Headers],[C02]]),"") | D8: =IFERROR(AVERAGEIFS('Sem1'!$B8:$CC8,'Sem1'!$B$1:$CC$1,Tableau2[[#Headers],[C03]]),"") -> 3.4 | E8: =IFERROR(AVERAGEIFS('Sem1'!$B8:$CC8,'Sem1'!$B$1:$CC$1,Tableau2[[#Headers],[C04]]),"") -> 3 | F8: =IFERROR(AVERAGEIFS('Sem1'!$B8:$CC8,'Sem1'!$B$1:$CC$1,Tableau2[[#Headers],[C05]]),"") | G8: =IFERROR(AVERAGEIFS('Sem1'!$B8:$CC8,'Sem1'!$B$1:$CC$1,Tableau2[[#Headers],[C06]]),"") -> 3.25 | H8: =IFERROR(AVERAGEIFS('Sem1'!$B8:$CC8,'Sem1'!$B$1:$CC$1,Tableau2[[#Headers],[C07]]),"") -> 3 | I8: =IFERROR(AVERAGEIFS('Sem1'!$B8:$CC8,'Sem1'!$B$1:$CC$1,Tableau2[[#Headers],[C08]]),"") -> 2.3333333 | J8: =IFERROR(AVERAGEIFS('Sem1'!$B8:$CC8,'Sem1'!$B$1:$CC$1,Tableau2[[#Headers],[C09]]),"") -> 3.1 | K8: =IFERROR(AVERAGEIFS('Sem1'!$B8:$CC8,'Sem1'!$B$1:$CC$1,Tableau2[[#Headers],[C10]]),"") -> 3 | L8: =IFERROR(AVERAGEIFS('Sem1'!$B8:$CC8,'Sem1'!$B$1:$CC$1,Tableau2[[#Headers],[C11]]),"") -> 1
A9: ='Sem1'!A9 -> H | B9: =IFERROR(AVERAGEIFS('Sem1'!$B9:$CC9,'Sem1'!$B$1:$CC$1,Tableau2[[#Headers],[C01]]),"") -> 3 | C9: =IFERROR(AVERAGEIFS('Sem1'!$B9:$CC9,'Sem1'!$B$1:$CC$1,Tableau2[[#Headers],[C02]]),"") | D9: =IFERROR(AVERAGEIFS('Sem1'!$B9:$CC9,'Sem1'!$B$1:$CC$1,Tableau2[[#Headers],[C03]]),"") -> 2.4 | E9: =IFERROR(AVERAGEIFS('Sem1'!$B9:$CC9,'Sem1'!$B$1:$CC$1,Tableau2[[#Headers],[C04]]),"") -> 2.5555556 | F9: =IFERROR(AVERAGEIFS('Sem1'!$B9:$CC9,'Sem1'!$B$1:$CC$1,Tableau2[[#Headers],[C05]]),"") | G9: =IFERROR(AVERAGEIFS('Sem1'!$B9:$CC9,'Sem1'!$B$1:$CC$1,Tableau2[[#Headers],[C06]]),"") -> 3 | H9: =IFERROR(AVERAGEIFS('Sem1'!$B9:$CC9,'Sem1'!$B$1:$CC$1,Tableau2[[#Headers],[C07]]),"") -> 4 | I9: =IFERROR(AVERAGEIFS('Sem1'!$B9:$CC9,'Sem1'!$B$1:$CC$1,Tableau2[[#Headers],[C08]]),"") -> 2 | J9: =IFERROR(AVERAGEIFS('Sem1'!$B9:$CC9,'Sem1'!$B$1:$CC$1,Tableau2[[#Headers],[C09]]),"") -> 2.9 | K9: =IFERROR(AVERAGEIFS('Sem1'!$B9:$CC9,'Sem1'!$B$1:$CC$1,Tableau2[[#Headers],[C10]]),"") -> 2 | L9: =IFERROR(AVERAGEIFS('Sem1'!$B9:$CC9,'Sem1'!$B$1:$CC$1,Tableau2[[#Headers],[C11]]),"") -> 1
A10: ='Sem1'!A10 -> I | B10: =IFERROR(AVERAGEIFS('Sem1'!$B10:$CC10,'Sem1'!$B$1:$CC$1,Tableau2[[#Headers],[C01]]),"") -> 3 | C10: =IFERROR(AVERAGEIFS('Sem1'!$B10:$CC10,'Sem1'!$B$1:$CC$1,Tableau2[[#Headers],[C02]]),"") | D10: =IFERROR(AVERAGEIFS('Sem1'!$B10:$CC10,'Sem1'!$B$1:$CC$1,Tableau2[[#Headers],[C03]]),"") -> 2.6 | E10: =IFERROR(AVERAGEIFS('Sem1'!$B10:$CC10,'Sem1'!$B$1:$CC$1,Tableau2[[#Headers],[C04]]),"") -> 2.3333333 | F10: =IFERROR(AVERAGEIFS('Sem1'!$B10:$CC10,'Sem1'!$B$1:$CC$1,Tableau2[[#Headers],[C05]]),"") | G10: =IFERROR(AVERAGEIFS('Sem1'!$B10:$CC10,'Sem1'!$B$1:$CC$1,Tableau2[[#Headers],[C06]]),"") -> 2.5 | H10: =IFERROR(AVERAGEIFS('Sem1'!$B10:$CC10,'Sem1'!$B$1:$CC$1,Tableau2[[#Headers],[C07]]),"") -> 0 | I10: =IFERROR(AVERAGEIFS('Sem1'!$B10:$CC10,'Sem1'!$B$1:$CC$1,Tableau2[[#Headers],[C08]]),"") -> 2.3333333 | J10: =IFERROR(AVERAGEIFS('Sem1'!$B10:$CC10,'Sem1'!$B$1:$CC$1,Tableau2[[#Headers],[C09]]),"") -> 1.6 | K10: =IFERROR(AVERAGEIFS('Sem1'!$B10:$CC10,'Sem1'!$B$1:$CC$1,Tableau2[[#Headers],[C10]]),"") -> 2 | L10: =IFERROR(AVERAGEIFS('Sem1'!$B10:$CC10,'Sem1'!$B$1:$CC$1,Tableau2[[#Headers],[C11]]),"") -> 2
A11: ='Sem1'!A11 -> J | B11: =IFERROR(AVERAGEIFS('Sem1'!$B11:$CC11,'Sem1'!$B$1:$CC$1,Tableau2[[#Headers],[C01]]),"") -> 3 | C11: =IFERROR(AVERAGEIFS('Sem1'!$B11:$CC11,'Sem1'!$B$1:$CC$1,Tableau2[[#Headers],[C02]]),"") | D11: =IFERROR(AVERAGEIFS('Sem1'!$B11:$CC11,'Sem1'!$B$1:$CC$1,Tableau2[[#Headers],[C03]]),"") -> 2.8 | E11: =IFERROR(AVERAGEIFS('Sem1'!$B11:$CC11,'Sem1'!$B$1:$CC$1,Tableau2[[#Headers],[C04]]),"") -> 2.6666667 | F11: =IFERROR(AVERAGEIFS('Sem1'!$B11:$CC11,'Sem1'!$B$1:$CC$1,Tableau2[[#Headers],[C05]]),"") | G11: =IFERROR(AVERAGEIFS('Sem1'!$B11:$CC11,'Sem1'!$B$1:$CC$1,Tableau2[[#Headers],[C06]]),"") -> 2.75 | H11: =IFERROR(AVERAGEIFS('Sem1'!$B11:$CC11,'Sem1'!$B$1:$CC$1,Tableau2[[#Headers],[C07]]),"") -> 1 | I11: =IFERROR(AVERAGEIFS('Sem1'!$B11:$CC11,'Sem1'!$B$1:$CC$1,Tableau2[[#Headers],[C08]]),"") -> 2.6666667 | J11: =IFERROR(AVERAGEIFS('Sem1'!$B11:$CC11,'Sem1'!$B$1:$CC$1,Tableau2[[#Headers],[C09]]),"") -> 2.6 | K11: =IFERROR(AVERAGEIFS('Sem1'!$B11:$CC11,'Sem1'!$B$1:$CC$1,Tableau2[[#Headers],[C10]]),"") -> 2 | L11: =IFERROR(AVERAGEIFS('Sem1'!$B11:$CC11,'Sem1'!$B$1:$CC$1,Tableau2[[#Headers],[C11]]),"") -> 3.5
A12: ='Sem1'!A12 -> K | B12: =IFERROR(AVERAGEIFS('Sem1'!$B12:$CC12,'Sem1'!$B$1:$CC$1,Tableau2[[#Headers],[C01]]),"") -> 3 | C12: =IFERROR(AVERAGEIFS('Sem1'!$B12:$CC12,'Sem1'!$B$1:$CC$1,Tableau2[[#Headers],[C02]]),"") | D12: =IFERROR(AVERAGEIFS('Sem1'!$B12:$CC12,'Sem1'!$B$1:$CC$1,Tableau2[[#Headers],[C03]]),"") -> 2.4 | E12: =IFERROR(AVERAGEIFS('Sem1'!$B12:$CC12,'Sem1'!$B$1:$CC$1,Tableau2[[#Headers],[C04]]),"") -> 1.8888889 | F12: =IFERROR(AVERAGEIFS('Sem1'!$B12:$CC12,'Sem1'!$B$1:$CC$1,Tableau2[[#Headers],[C05]]),"") | G12: =IFERROR(AVERAGEIFS('Sem1'!$B12:$CC12,'Sem1'!$B$1:$CC$1,Tableau2[[#Headers],[C06]]),"") -> 1.5 | H12: =IFERROR(AVERAGEIFS('Sem1'!$B12:$CC12,'Sem1'!$B$1:$CC$1,Tableau2[[#Headers],[C07]]),"") -> 0 | I12: =IFERROR(AVERAGEIFS('Sem1'!$B12:$CC12,'Sem1'!$B$1:$CC$1,Tableau2[[#Headers],[C08]]),"") -> 1.6666667 | J12: =IFERROR(AVERAGEIFS('Sem1'!$B12:$CC12,'Sem1'!$B$1:$CC$1,Tableau2[[#Headers],[C09]]),"") -> 1.6 | K12: =IFERROR(AVERAGEIFS('Sem1'!$B12:$CC12,'Sem1'!$B$1:$CC$1,Tableau2[[#Headers],[C10]]),"") -> 2 | L12: =IFERROR(AVERAGEIFS('Sem1'!$B12:$CC12,'Sem1'!$B$1:$CC$1,Tableau2[[#Headers],[C11]]),"") -> 1
A13: ='Sem1'!A13 -> L | B13: =IFERROR(AVERAGEIFS('Sem1'!$B13:$CC13,'Sem1'!$B$1:$CC$1,Tableau2[[#Headers],[C01]]),"") -> 3 | C13: =IFERROR(AVERAGEIFS('Sem1'!$B13:$CC13,'Sem1'!$B$1:$CC$1,Tableau2[[#Headers],[C02]]),"") | D13: =IFERROR(AVERAGEIFS('Sem1'!$B13:$CC13,'Sem1'!$B$1:$CC$1,Tableau2[[#Headers],[C03]]),"") -> 2.6 | E13: =IFERROR(AVERAGEIFS('Sem1'!$B13:$CC13,'Sem1'!$B$1:$CC$1,Tableau2[[#Headers],[C04]]),"") -> 2.6666667 | F13: =IFERROR(AVERAGEIFS('Sem1'!$B13:$CC13,'Sem1'!$B$1:$CC$1,Tableau2[[#Headers],[C05]]),"") | G13: =IFERROR(AVERAGEIFS('Sem1'!$B13:$CC13,'Sem1'!$B$1:$CC$1,Tableau2[[#Headers],[C06]]),"") -> 2.75 | H13: =IFERROR(AVERAGEIFS('Sem1'!$B13:$CC13,'Sem1'!$B$1:$CC$1,Tableau2[[#Headers],[C07]]),"") -> 4 | I13: =IFERROR(AVERAGEIFS('Sem1'!$B13:$CC13,'Sem1'!$B$1:$CC$1,Tableau2[[#Headers],[C08]]),"") -> 3 | J13: =IFERROR(AVERAGEIFS('Sem1'!$B13:$CC13,'Sem1'!$B$1:$CC$1,Tableau2[[#Headers],[C09]]),"") -> 3.1 | K13: =IFERROR(AVERAGEIFS('Sem1'!$B13:$CC13,'Sem1'!$B$1:$CC$1,Tableau2[[#Headers],[C10]]),"") -> 2.5 | L13: =IFERROR(AVERAGEIFS('Sem1'!$B13:$CC13,'Sem1'!$B$1:$CC$1,Tableau2[[#Headers],[C11]]),"") -> 4
... A25: ='Sem1'!A25 -> X | B25: =IFERROR(AVERAGEIFS('Sem1'!$B25:$CC25,'Sem1'!$B$1:$CC$1,Tableau2[[#Headers],[C01]]),"") | C25: =IFERROR(AVERAGEIFS('Sem1'!$B25:$CC25,'Sem1'!$B$1:$CC$1,Tableau2[[#Headers],[C02]]),"") | D25: =IFERROR(AVERAGEIFS('Sem1'!$B25:$CC25,'Sem1'!$B$1:$CC$1,Tableau2[[#Headers],[C03]]),"") -> 2.25 | E25: =IFERROR(AVERAGEIFS('Sem1'!$B25:$CC25,'Sem1'!$B$1:$CC$1,Tableau2[[#Headers],[C04]]),"") -> 2.7 | F25: =IFERROR(AVERAGEIFS('Sem1'!$B25:$CC25,'Sem1'!$B$1:$CC$1,Tableau2[[#Headers],[C05]]),"") | G25: =IFERROR(AVERAGEIFS('Sem1'!$B25:$CC25,'Sem1'!$B$1:$CC$1,Tableau2[[#Headers],[C06]]),"") -> 3.25 | H25: =IFERROR(AVERAGEIFS('Sem1'!$B25:$CC25,'Sem1'!$B$1:$CC$1,Tableau2[[#Headers],[C07]]),"") -> 4 | I25: =IFERROR(AVERAGEIFS('Sem1'!$B25:$CC25,'Sem1'!$B$1:$CC$1,Tableau2[[#Headers],[C08]]),"") -> 3 | J25: =IFERROR(AVERAGEIFS('Sem1'!$B25:$CC25,'Sem1'!$B$1:$CC$1,Tableau2[[#Headers],[C09]]),"") -> 2.7142857 | K25: =IFERROR(AVERAGEIFS('Sem1'!$B25:$CC25,'Sem1'!$B$1:$CC$1,Tableau2[[#Headers],[C10]]),"") -> 3.2 | L25: =IFERROR(AVERAGEIFS('Sem1'!$B25:$CC25,'Sem1'!$B$1:$CC$1,Tableau2[[#Headers],[C11]]),"") -> 4
