Workbook

Sheet Feuil1
B2: Entrepreneur 1 | F2: Entrepreneur 2 | J2: Entrepreneur 3 | N2: Entrepreneur 4 | R2: Entrepreneur 5 | V2: Entrepreneur 6 | Z2: Entrepreneur 7 | AD2: Entrepreneur 8 | AH2: Entrepreneur 9 | AL2: Entrepreneur 10 | AP2: Entrepreneur 11 | AT2: Entrepreneur 12 | AX2: Entrepreneur 13 | BB2: Entrepreneur 14 | BF2: Entrepreneur 15
A3: article | B3: Quantité | C3: Prix Unitaire | D3: Total | F3: Quantité | G3: Prix Unitaire | H3: Total | J3: Quantité | K3: Prix Unitaire | L3: Total | N3: Quantité | O3: Prix Unitaire | P3: Total | R3: Quantité | S3: Prix Unitaire | T3: Total | V3: Quantité | W3: Prix Unitaire | X3: Total | Z3: Quantité | AA3: Prix Unitaire | AB3: Total | AD3: Quantité | AE3: Prix Unitaire | AF3: Total | AH3: Quantité | AI3: Prix Unitaire | AJ3: Total | AL3: Quantité | AM3: Prix Unitaire | AN3: Total | AP3: Quantité | AQ3: Prix Unitaire | AR3: Total | AT3: Quantité | AU3: Prix Unitaire | AV3: Total | AX3: Quantité | AY3: Prix Unitaire | AZ3: Total | BB3: Quantité | BC3: Prix Unitaire | BD3: Total | BF3: Quantité | BG3: Prix Unitaire | BH3: Total | BJ3: moyenne*coef
A4: toto | B4: 12 | C4: 10 | D4: =B4*C4 -> 120 | F4: 12 | G4: 15 | H4: =F4*G4 -> 180 | J4: 12 | K4: 20 | L4: =J4*K4 -> 240 | N4: 12 | O4: 30 | P4: =N4*O4 -> 360 | R4: 12 | S4: 40 | T4: =R4*S4 -> 480 | V4: 12 | W4: 50 | X4: =V4*W4 -> 600 | Z4: 12 | AA4: 10 | AB4: =Z4*AA4 -> 120 | AD4: 12 | AE4: 15 | AF4: =AD4*AE4 -> 180 | AH4: 12 | AI4: 20 | AJ4: =AH4*AI4 -> 240 | AL4: 12 | AM4: 30 | AN4: =AL4*AM4 -> 360 | AP4: 12 | AQ4: 40 | AR4: =AP4*AQ4 -> 480 | AT4: 12 | AU4: 50 | AV4: =AT4*AU4 -> 600 | AX4: 12 | AY4: 30 | AZ4: =AX4*AY4 -> 360 | BB4: 12 | BC4: 40 | BD4: =BB4*BC4 -> 480 | BF4: 12 | BG4: 50 | BH4: =BF4*BG4 -> 600 | BJ4: =Feuil2!U4 -> 25.5
A5: toz | B5: 20 | C5: 5 | D5: =B5*C5 -> 100 | F5: 20 | G5: 10 | H5: =F5*G5 -> 200 | J5: 20 | K5: 15 | L5: =J5*K5 -> 300 | N5: 20 | O5: 20 | P5: =N5*O5 -> 400 | R5: 20 | S5: 25 | T5: =R5*S5 -> 500 | V5: 20 | W5: 30 | X5: =V5*W5 -> 600 | Z5: 20 | AA5: 5 | AB5: =Z5*AA5 -> 100 | AD5: 20 | AE5: 10 | AF5: =AD5*AE5 -> 200 | AH5: 20 | AI5: 15 | AJ5: =AH5*AI5 -> 300 | AL5: 20 | AM5: 20 | AN5: =AL5*AM5 -> 400 | AP5: 20 | AQ5: 25 | AR5: =AP5*AQ5 -> 500 | AT5: 20 | AU5: 30 | AV5: =AT5*AU5 -> 600 | AX5: 20 | AY5: 20 | AZ5: =AX5*AY5 -> 400 | BB5: 20 | BC5: 25 | BD5: =BB5*BC5 -> 500 | BF5: 20 | BG5: 30 | BH5: =BF5*BG5 -> 600 | BJ5: =Feuil2!U5 -> 16.346154
A6: tata | B6: 2 | C6: 6 | D6: =B6*C6 -> 12 | F6: 2 | G6: 11 | H6: =F6*G6 -> 22 | J6: 2 | K6: 16 | L6: =J6*K6 -> 32 | N6: 2 | O6: 21 | P6: =N6*O6 -> 42 | R6: 2 | S6: 26 | T6: =R6*S6 -> 52 | V6: 2 | W6: 31 | X6: =V6*W6 -> 62 | Z6: 2 | AA6: 6 | AB6: =Z6*AA6 -> 12 | AD6: 2 | AE6: 11 | AF6: =AD6*AE6 -> 22 | AH6: 2 | AI6: 16 | AJ6: =AH6*AI6 -> 32 | AL6: 2 | AM6: 21 | AN6: =AL6*AM6 -> 42 | AP6: 2 | AQ6: 26 | AR6: =AP6*AQ6 -> 52 | AT6: 2 | AU6: 31 | AV6: =AT6*AU6 -> 62 | AX6: 2 | AY6: 21 | AZ6: =AX6*AY6 -> 42 | BB6: 2 | BC6: 26 | BD6: =BB6*BC6 -> 52 | BF6: 2 | BG6: 31 | BH6: =BF6*BG6 -> 62 | BJ6: =Feuil2!U6 -> 17.196154
D7: =B7*C7 -> 0 | H7: =F7*G7 -> 0 | L7: =J7*K7 -> 0 | P7: =N7*O7 -> 0 | T7: =R7*S7 -> 0 | X7: =V7*W7 -> 0 | AB7: =Z7*AA7 -> 0 | AF7: =AD7*AE7 -> 0 | AJ7: =AH7*AI7 -> 0 | AN7: =AL7*AM7 -> 0 | AR7: =AP7*AQ7 -> 0 | AV7: =AT7*AU7 -> 0 | AZ7: =AX7*AY7 -> 0 | BD7: =BB7*BC7 -> 0 | BH7: =BF7*BG7 -> 0 | BJ7: =Feuil2!U7 -> 0
D8: =B8*C8 -> 0 | H8: =F8*G8 -> 0 | L8: =J8*K8 -> 0 | P8: =N8*O8 -> 0 | T8: =R8*S8 -> 0 | X8: =V8*W8 -> 0 | AB8: =Z8*AA8 -> 0 | AF8: =AD8*AE8 -> 0 | AJ8: =AH8*AI8 -> 0 | AN8: =AL8*AM8 -> 0 | AR8: =AP8*AQ8 -> 0 | AV8: =AT8*AU8 -> 0 | AZ8: =AX8*AY8 -> 0 | BD8: =BB8*BC8 -> 0 | BH8: =BF8*BG8 -> 0 | BJ8: =Feuil2!U8 -> 0
D9: =B9*C9 -> 0 | H9: =F9*G9 -> 0 | L9: =J9*K9 -> 0 | P9: =N9*O9 -> 0 | T9: =R9*S9 -> 0 | X9: =V9*W9 -> 0 | AB9: =Z9*AA9 -> 0 | AF9: =AD9*AE9 -> 0 | AJ9: =AH9*AI9 -> 0 | AN9: =AL9*AM9 -> 0 | AR9: =AP9*AQ9 -> 0 | AV9: =AT9*AU9 -> 0 | AZ9: =AX9*AY9 -> 0 | BD9: =BB9*BC9 -> 0 | BH9: =BF9*BG9 -> 0 | BJ9: =Feuil2!U9 -> 0
D10: =B10*C10 -> 0 | H10: =F10*G10 -> 0 | L10: =J10*K10 -> 0 | P10: =N10*O10 -> 0 | T10: =R10*S10 -> 0 | X10: =V10*W10 -> 0 | AB10: =Z10*AA10 -> 0 | AF10: =AD10*AE10 -> 0 | AJ10: =AH10*AI10 -> 0 | AN10: =AL10*AM10 -> 0 | AR10: =AP10*AQ10 -> 0 | AV10: =AT10*AU10 -> 0 | AZ10: =AX10*AY10 -> 0 | BD10: =BB10*BC10 -> 0 | BH10: =BF10*BG10 -> 0 | BJ10: =Feuil2!U10 -> 0
D11: =B11*C11 -> 0 | H11: =F11*G11 -> 0 | L11: =J11*K11 -> 0 | P11: =N11*O11 -> 0 | T11: =R11*S11 -> 0 | X11: =V11*W11 -> 0 | AB11: =Z11*AA11 -> 0 | AF11: =AD11*AE11 -> 0 | AJ11: =AH11*AI11 -> 0 | AN11: =AL11*AM11 -> 0 | AR11: =AP11*AQ11 -> 0 | AV11: =AT11*AU11 -> 0 | AZ11: =AX11*AY11 -> 0 | BD11: =BB11*BC11 -> 0 | BH11: =BF11*BG11 -> 0 | BJ11: =Feuil2!U11 -> 0
D12: =B12*C12 -> 0 | H12: =F12*G12 -> 0 | L12: =J12*K12 -> 0 | P12: =N12*O12 -> 0 | T12: =R12*S12 -> 0 | X12: =V12*W12 -> 0 | AB12: =Z12*AA12 -> 0 | AF12: =AD12*AE12 -> 0 | AJ12: =AH12*AI12 -> 0 | AN12: =AL12*AM12 -> 0 | AR12: =AP12*AQ12 -> 0 | AV12: =AT12*AU12 -> 0 | AZ12: =AX12*AY12 -> 0 | BD12: =BB12*BC12 -> 0 | BH12: =BF12*BG12 -> 0 | BJ12: =Feuil2!U12 -> 0
D13: =B13*C13 -> 0 | H13: =F13*G13 -> 0 | L13: =J13*K13 -> 0 | P13: =N13*O13 -> 0 | T13: =R13*S13 -> 0 | X13: =V13*W13 -> 0 | AB13: =Z13*AA13 -> 0 | AF13: =AD13*AE13 -> 0 | AJ13: =AH13*AI13 -> 0 | AN13: =AL13*AM13 -> 0 | AR13: =AP13*AQ13 -> 0 | AV13: =AT13*AU13 -> 0 | AZ13: =AX13*AY13 -> 0 | BD13: =BB13*BC13 -> 0 | BH13: =BF13*BG13 -> 0 | BJ13: =Feuil2!U13 -> 0
D14: =B14*C14 -> 0 | H14: =F14*G14 -> 0 | L14: =J14*K14 -> 0 | P14: =N14*O14 -> 0 | T14: =R14*S14 -> 0 | X14: =V14*W14 -> 0 | AB14: =Z14*AA14 -> 0 | AF14: =AD14*AE14 -> 0 | AJ14: =AH14*AI14 -> 0 | AN14: =AL14*AM14 -> 0 | AR14: =AP14*AQ14 -> 0 | AV14: =AT14*AU14 -> 0 | AZ14: =AX14*AY14 -> 0 | BD14: =BB14*BC14 -> 0 | BH14: =BF14*BG14 -> 0 | BJ14: =Feuil2!U14 -> 0
D15: =B15*C15 -> 0 | H15: =F15*G15 -> 0 | L15: =J15*K15 -> 0 | P15: =N15*O15 -> 0 | T15: =R15*S15 -> 0 | X15: =V15*W15 -> 0 | AB15: =Z15*AA15 -> 0 | AF15: =AD15*AE15 -> 0 | AJ15: =AH15*AI15 -> 0 | AN15: =AL15*AM15 -> 0 | AR15: =AP15*AQ15 -> 0 | AV15: =AT15*AU15 -> 0 | AZ15: =AX15*AY15 -> 0 | BD15: =BB15*BC15 -> 0 | BH15: =BF15*BG15 -> 0 | BJ15: =Feuil2!U15 -> 0
D16: =B16*C16 -> 0 | H16: =F16*G16 -> 0 | L16: =J16*K16 -> 0 | P16: =N16*O16 -> 0 | T16: =R16*S16 -> 0 | X16: =V16*W16 -> 0 | AB16: =Z16*AA16 -> 0 | AF16: =AD16*AE16 -> 0 | AJ16: =AH16*AI16 -> 0 | AN16: =AL16*AM16 -> 0 | AR16: =AP16*AQ16 -> 0 | AV16: =AT16*AU16 -> 0 | AZ16: =AX16*AY16 -> 0 | BD16: =BB16*BC16 -> 0 | BH16: =BF16*BG16 -> 0 | BJ16: =Feuil2!U16 -> 0
D17: =B17*C17 -> 0 | H17: =F17*G17 -> 0 | AB17: =Z17*AA17 -> 0 | AF17: =AD17*AE17 -> 0 | BJ17: =Feuil2!U17 -> 0
D18: =B18*C18 -> 0 | H18: =F18*G18 -> 0 | AB18: =Z18*AA18 -> 0 | AF18: =AD18*AE18 -> 0 | BJ18: =Feuil2!U18 -> 0
BJ19: =Feuil2!U19 -> 0
BJ20: =Feuil2!U20 -> 0
BJ21: =Feuil2!U21 -> 0
BJ22: =Feuil2!U22 -> 0
BJ23: =Feuil2!U23 -> 0
BJ24: =Feuil2!U24 -> 0
BJ25: =Feuil2!U25 -> 0
BJ26: =Feuil2!U26 -> 0
BJ27: =Feuil2!U27 -> 0
BJ28: =Feuil2!U28 -> 0
BJ29: =Feuil2!U29 -> 0
BJ30: =Feuil2!U30 -> 0
BJ31: =Feuil2!U31 -> 0

Sheet Feuil2
U1: coef
B2: entrepreneur | U2: 0.85
A3: Article | B3: 1 | C3: 2 | D3: 3 | E3: 4 | F3: 5 | G3: 6 | H3: 7 | I3: 8 | J3: 9 | K3: 10 | L3: 11 | M3: 12 | N3: 13 | O3: 14 | P3: 15 | R3: min | S3: max | T3: moyenne
A4: =Feuil1!$A4 -> toto | B4: =IF(OFFSET(Feuil1!$C4,,4*($B$3-1),1)<>0,OFFSET(Feuil1!$C4,,4*($B$3-1),1),"") -> 10 | C4: =IF(OFFSET(Feuil1!$C4,,4*($C$3-1),1)<>0,OFFSET(Feuil1!$C4,,4*($C$3-1),1),"") -> 15 | D4: =IF(OFFSET(Feuil1!$C4,,4*($D$3-1),1)<>0,OFFSET(Feuil1!$C4,,4*($D$3-1),1),"") -> 20 | E4: =IF(OFFSET(Feuil1!$C4,,4*($E$3-1),1)<>0,OFFSET(Feuil1!$C4,,4*($E$3-1),1),"") -> 30 | F4: =IF(OFFSET(Feuil1!$C4,,4*($F$3-1),1)<>0,OFFSET(Feuil1!$C4,,4*($F$3-1),1),"") -> 40 | G4: =IF(OFFSET(Feuil1!$C4,,4*($G$3-1),1)<>0,OFFSET(Feuil1!$C4,,4*($G$3-1),1),"") -> 50 | H4: =IF(OFFSET(Feuil1!$C4,,4*($H$3-1),1)<>0,OFFSET(Feuil1!$C4,,4*($H$3-1),1),"") -> 10 | I4: =IF(OFFSET(Feuil1!$C4,,4*($I$3-1),1)<>0,OFFSET(Feuil1!$C4,,4*($I$3-1),1),"") -> 15 | J4: =IF(OFFSET(Feuil1!$C4,,4*($J$3-1),1)<>0,OFFSET(Feuil1!$C4,,4*($J$3-1),1),"") -> 20 | K4: =IF(OFFSET(Feuil1!$C4,,4*($K$3-1),1)<>0,OFFSET(Feuil1!$C4,,4*($K$3-1),1),"") -> 30 | L4: =IF(OFFSET(Feuil1!$C4,,4*($L$3-1),1)<>0,OFFSET(Feuil1!$C4,,4*($L$3-1),1),"") -> 40 | M4: =IF(OFFSET(Feuil1!$C4,,4*($M$3-1),1)<>0,OFFSET(Feuil1!$C4,,4*($M$3-1),1),"") -> 50 | N4: =IF(OFFSET(Feuil1!$C4,,4*($N$3-1),1)<>0,OFFSET(Feuil1!$C4,,4*($N$3-1),1),"") -> 30 | O4: =IF(OFFSET(Feuil1!$C4,,4*($O$3-1),1)<>0,OFFSET(Feuil1!$C4,,4*($O$3-1),1),"") -> 40 | P4: =IF(OFFSET(Feuil1!$C4,,4*($P$3-1),1)<>0,OFFSET(Feuil1!$C4,,4*($P$3-1),1),"") -> 50 | R4: =MIN(B4:P4) -> 10 | S4: =MAX(B4:P4) -> 50 | T4: =(SUM(B4:P4)-S4-R4)/(COUNT(B4:P4)-2) -> 30 | U4: =T4*$U$2 -> 25.5
A5: =Feuil1!$A5 -> toz | B5: =IF(OFFSET(Feuil1!$C5,,4*($B$3-1),1)<>0,OFFSET(Feuil1!$C5,,4*($B$3-1),1),"") -> 5 | C5: =IF(OFFSET(Feuil1!$C5,,4*($C$3-1),1)<>0,OFFSET(Feuil1!$C5,,4*($C$3-1),1),"") -> 10 | D5: =IF(OFFSET(Feuil1!$C5,,4*($D$3-1),1)<>0,OFFSET(Feuil1!$C5,,4*($D$3-1),1),"") -> 15 | E5: =IF(OFFSET(Feuil1!$C5,,4*($E$3-1),1)<>0,OFFSET(Feuil1!$C5,,4*($E$3-1),1),"") -> 20 | F5: =IF(OFFSET(Feuil1!$C5,,4*($F$3-1),1)<>0,OFFSET(Feuil1!$C5,,4*($F$3-1),1),"") -> 25 | G5: =IF(OFFSET(Feuil1!$C5,,4*($G$3-1),1)<>0,OFFSET(Feuil1!$C5,,4*($G$3-1),1),"") -> 30 | H5: =IF(OFFSET(Feuil1!$C5,,4*($H$3-1),1)<>0,OFFSET(Feuil1!$C5,,4*($H$3-1),1),"") -> 5 | I5: =IF(OFFSET(Feuil1!$C5,,4*($I$3-1),1)<>0,OFFSET(Feuil1!$C5,,4*($I$3-1),1),"") -> 10 | J5: =IF(OFFSET(Feuil1!$C5,,4*($J$3-1),1)<>0,OFFSET(Feuil1!$C5,,4*($J$3-1),1),"") -> 15 | K5: =IF(OFFSET(Feuil1!$C5,,4*($K$3-1),1)<>0,OFFSET(Feuil1!$C5,,4*($K$3-1),1),"") -> 20 | L5: =IF(OFFSET(Feuil1!$C5,,4*($L$3-1),1)<>0,OFFSET(Feuil1!$C5,,4*($L$3-1),1),"") -> 25 | M5: =IF(OFFSET(Feuil1!$C5,,4*($M$3-1),1)<>0,OFFSET(Feuil1!$C5,,4*($M$3-1),1),"") -> 30 | N5: =IF(OFFSET(Feuil1!$C5,,4*($N$3-1),1)<>0,OFFSET(Feuil1!$C5,,4*($N$3-1),1),"") -> 20 | O5: =IF(OFFSET(Feuil1!$C5,,4*($O$3-1),1)<>0,OFFSET(Feuil1!$C5,,4*($O$3-1),1),"") -> 25 | P5: =IF(OFFSET(Feuil1!$C5,,4*($P$3-1),1)<>0,OFFSET(Feuil1!$C5,,4*($P$3-1),1),"") -> 30 | R5: =MIN(B5:P5) -> 5 | S5: =MAX(B5:P5) -> 30 | T5: =(SUM(B5:P5)-S5-R5)/(COUNT(B5:P5)-2) -> 19.230769 | U5: =T5*$U$2 -> 16.346154
A6: =Feuil1!$A6 -> tata | B6: =IF(OFFSET(Feuil1!$C6,,4*($B$3-1),1)<>0,OFFSET(Feuil1!$C6,,4*($B$3-1),1),"") -> 6 | C6: =IF(OFFSET(Feuil1!$C6,,4*($C$3-1),1)<>0,OFFSET(Feuil1!$C6,,4*($C$3-1),1),"") -> 11 | D6: =IF(OFFSET(Feuil1!$C6,,4*($D$3-1),1)<>0,OFFSET(Feuil1!$C6,,4*($D$3-1),1),"") -> 16 | E6: =IF(OFFSET(Feuil1!$C6,,4*($E$3-1),1)<>0,OFFSET(Feuil1!$C6,,4*($E$3-1),1),"") -> 21 | F6: =IF(OFFSET(Feuil1!$C6,,4*($F$3-1),1)<>0,OFFSET(Feuil1!$C6,,4*($F$3-1),1),"") -> 26 | G6: =IF(OFFSET(Feuil1!$C6,,4*($G$3-1),1)<>0,OFFSET(Feuil1!$C6,,4*($G$3-1),1),"") -> 31 | H6: =IF(OFFSET(Feuil1!$C6,,4*($H$3-1),1)<>0,OFFSET(Feuil1!$C6,,4*($H$3-1),1),"") -> 6 | I6: =IF(OFFSET(Feuil1!$C6,,4*($I$3-1),1)<>0,OFFSET(Feuil1!$C6,,4*($I$3-1),1),"") -> 11 | J6: =IF(OFFSET(Feuil1!$C6,,4*($J$3-1),1)<>0,OFFSET(Feuil1!$C6,,4*($J$3-1),1),"") -> 16 | K6: =IF(OFFSET(Feuil1!$C6,,4*($K$3-1),1)<>0,OFFSET(Feuil1!$C6,,4*($K$3-1),1),"") -> 21 | L6: =IF(OFFSET(Feuil1!$C6,,4*($L$3-1),1)<>0,OFFSET(Feuil1!$C6,,4*($L$3-1),1),"") -> 26 | M6: =IF(OFFSET(Feuil1!$C6,,4*($M$3-1),1)<>0,OFFSET(Feuil1!$C6,,4*($M$3-1),1),"") -> 31 | N6: =IF(OFFSET(Feuil1!$C6,,4*($N$3-1),1)<>0,OFFSET(Feuil1!$C6,,4*($N$3-1),1),"") -> 21 | O6: =IF(OFFSET(Feuil1!$C6,,4*($O$3-1),1)<>0,OFFSET(Feuil1!$C6,,4*($O$3-1),1),"") -> 26 | P6: =IF(OFFSET(Feuil1!$C6,,4*($P$3-1),1)<>0,OFFSET(Feuil1!$C6,,4*($P$3-1),1),"") -> 31 | R6: =MIN(B6:P6) -> 6 | S6: =MAX(B6:P6) -> 31 | T6: =(SUM(B6:P6)-S6-R6)/(COUNT(B6:P6)-2) -> 20.230769 | U6: =T6*$U$2 -> 17.196154
A7: =Feuil1!$A7 -> 0 | B7: =IF(OFFSET(Feuil1!$C7,,4*($B$3-1),1)<>0,OFFSET(Feuil1!$C7,,4*($B$3-1),1),"") | C7: =IF(OFFSET(Feuil1!$C7,,4*($C$3-1),1)<>0,OFFSET(Feuil1!$C7,,4*($C$3-1),1),"") | D7: =IF(OFFSET(Feuil1!$C7,,4*($D$3-1),1)<>0,OFFSET(Feuil1!$C7,,4*($D$3-1),1),"") | E7: =IF(OFFSET(Feuil1!$C7,,4*($E$3-1),1)<>0,OFFSET(Feuil1!$C7,,4*($E$3-1),1),"") | F7: =IF(OFFSET(Feuil1!$C7,,4*($F$3-1),1)<>0,OFFSET(Feuil1!$C7,,4*($F$3-1),1),"") | G7: =IF(OFFSET(Feuil1!$C7,,4*($G$3-1),1)<>0,OFFSET(Feuil1!$C7,,4*($G$3-1),1),"") | H7: =IF(OFFSET(Feuil1!$C7,,4*($H$3-1),1)<>0,OFFSET(Feuil1!$C7,,4*($H$3-1),1),"") | I7: =IF(OFFSET(Feuil1!$C7,,4*($I$3-1),1)<>0,OFFSET(Feuil1!$C7,,4*($I$3-1),1),"") | J7: =IF(OFFSET(Feuil1!$C7,,4*($J$3-1),1)<>0,OFFSET(Feuil1!$C7,,4*($J$3-1),1),"") | K7: =IF(OFFSET(Feuil1!$C7,,4*($K$3-1),1)<>0,OFFSET(Feuil1!$C7,,4*($K$3-1),1),"") | L7: =IF(OFFSET(Feuil1!$C7,,4*($L$3-1),1)<>0,OFFSET(Feuil1!$C7,,4*($L$3-1),1),"") | M7: =IF(OFFSET(Feuil1!$C7,,4*($M$3-1),1)<>0,OFFSET(Feuil1!$C7,,4*($M$3-1),1),"") | N7: =IF(OFFSET(Feuil1!$C7,,4*($N$3-1),1)<>0,OFFSET(Feuil1!$C7,,4*($N$3-1),1),"") | O7: =IF(OFFSET(Feuil1!$C7,,4*($O$3-1),1)<>0,OFFSET(Feuil1!$C7,,4*($O$3-1),1),"") | P7: =IF(OFFSET(Feuil1!$C7,,4*($P$3-1),1)<>0,OFFSET(Feuil1!$C7,,4*($P$3-1),1),"") | R7: =MIN(B7:P7) -> 0 | S7: =MAX(B7:P7) -> 0 | T7: =(SUM(B7:P7)-S7-R7)/(COUNT(B7:P7)-2) -> 0 | U7: =T7*$U$2 -> 0
A8: =Feuil1!$A8 -> 0 | B8: =IF(OFFSET(Feuil1!$C8,,4*($B$3-1),1)<>0,OFFSET(Feuil1!$C8,,4*($B$3-1),1),"") | C8: =IF(OFFSET(Feuil1!$C8,,4*($C$3-1),1)<>0,OFFSET(Feuil1!$C8,,4*($C$3-1),1),"") | D8: =IF(OFFSET(Feuil1!$C8,,4*($D$3-1),1)<>0,OFFSET(Feuil1!$C8,,4*($D$3-1),1),"") | E8: =IF(OFFSET(Feuil1!$C8,,4*($E$3-1),1)<>0,OFFSET(Feuil1!$C8,,4*($E$3-1),1),"") | F8: =IF(OFFSET(Feuil1!$C8,,4*($F$3-1),1)<>0,OFFSET(Feuil1!$C8,,4*($F$3-1),1),"") | G8: =IF(OFFSET(Feuil1!$C8,,4*($G$3-1),1)<>0,OFFSET(Feuil1!$C8,,4*($G$3-1),1),"") | H8: =IF(OFFSET(Feuil1!$C8,,4*($H$3-1),1)<>0,OFFSET(Feuil1!$C8,,4*($H$3-1),1),"") | I8: =IF(OFFSET(Feuil1!$C8,,4*($I$3-1),1)<>0,OFFSET(Feuil1!$C8,,4*($I$3-1),1),"") | J8: =IF(OFFSET(Feuil1!$C8,,4*($J$3-1),1)<>0,OFFSET(Feuil1!$C8,,4*($J$3-1),1),"") | K8: =IF(OFFSET(Feuil1!$C8,,4*($K$3-1),1)<>0,OFFSET(Feuil1!$C8,,4*($K$3-1),1),"") | L8: =IF(OFFSET(Feuil1!$C8,,4*($L$3-1),1)<>0,OFFSET(Feuil1!$C8,,4*($L$3-1),1),"") | M8: =IF(OFFSET(Feuil1!$C8,,4*($M$3-1),1)<>0,OFFSET(Feuil1!$C8,,4*($M$3-1),1),"") | N8: =IF(OFFSET(Feuil1!$C8,,4*($N$3-1),1)<>0,OFFSET(Feuil1!$C8,,4*($N$3-1),1),"") | O8: =IF(OFFSET(Feuil1!$C8,,4*($O$3-1),1)<>0,OFFSET(Feuil1!$C8,,4*($O$3-1),1),"") | P8: =IF(OFFSET(Feuil1!$C8,,4*($P$3-1),1)<>0,OFFSET(Feuil1!$C8,,4*($P$3-1),1),"") | R8: =MIN(B8:P8) -> 0 | S8: =MAX(B8:P8) -> 0 | T8: =(SUM(B8:P8)-S8-R8)/(COUNT(B8:P8)-2) -> 0 | U8: =T8*$U$2 -> 0
A9: =Feuil1!$A9 -> 0 | B9: =IF(OFFSET(Feuil1!$C9,,4*($B$3-1),1)<>0,OFFSET(Feuil1!$C9,,4*($B$3-1),1),"") | C9: =IF(OFFSET(Feuil1!$C9,,4*($C$3-1),1)<>0,OFFSET(Feuil1!$C9,,4*($C$3-1),1),"") | D9: =IF(OFFSET(Feuil1!$C9,,4*($D$3-1),1)<>0,OFFSET(Feuil1!$C9,,4*($D$3-1),1),"") | E9: =IF(OFFSET(Feuil1!$C9,,4*($E$3-1),1)<>0,OFFSET(Feuil1!$C9,,4*($E$3-1),1),"") | F9: =IF(OFFSET(Feuil1!$C9,,4*($F$3-1),1)<>0,OFFSET(Feuil1!$C9,,4*($F$3-1),1),"") | G9: =IF(OFFSET(Feuil1!$C9,,4*($G$3-1),1)<>0,OFFSET(Feuil1!$C9,,4*($G$3-1),1),"") | H9: =IF(OFFSET(Feuil1!$C9,,4*($H$3-1),1)<>0,OFFSET(Feuil1!$C9,,4*($H$3-1),1),"") | I9: =IF(OFFSET(Feuil1!$C9,,4*($I$3-1),1)<>0,OFFSET(Feuil1!$C9,,4*($I$3-1),1),"") | J9: =IF(OFFSET(Feuil1!$C9,,4*($J$3-1),1)<>0,OFFSET(Feuil1!$C9,,4*($J$3-1),1),"") | K9: =IF(OFFSET(Feuil1!$C9,,4*($K$3-1),1)<>0,OFFSET(Feuil1!$C9,,4*($K$3-1),1),"") | L9: =IF(OFFSET(Feuil1!$C9,,4*($L$3-1),1)<>0,OFFSET(Feuil1!$C9,,4*($L$3-1),1),"") | M9: =IF(OFFSET(Feuil1!$C9,,4*($M$3-1),1)<>0,OFFSET(Feuil1!$C9,,4*($M$3-1),1),"") | N9: =IF(OFFSET(Feuil1!$C9,,4*($N$3-1),1)<>0,OFFSET(Feuil1!$C9,,4*($N$3-1),1),"") | O9: =IF(OFFSET(Feuil1!$C9,,4*($O$3-1),1)<>0,OFFSET(Feuil1!$C9,,4*($O$3-1),1),"") | P9: =IF(OFFSET(Feuil1!$C9,,4*($P$3-1),1)<>0,OFFSET(Feuil1!$C9,,4*($P$3-1),1),"") | R9: =MIN(B9:P9) -> 0 | S9: =MAX(B9:P9) -> 0 | T9: =(SUM(B9:P9)-S9-R9)/(COUNT(B9:P9)-2) -> 0 | U9: =T9*$U$2 -> 0
A10: =Feuil1!$A10 -> 0 | B10: =IF(OFFSET(Feuil1!$C10,,4*($B$3-1),1)<>0,OFFSET(Feuil1!$C10,,4*($B$3-1),1),"") | C10: =IF(OFFSET(Feuil1!$C10,,4*($C$3-1),1)<>0,OFFSET(Feuil1!$C10,,4*($C$3-1),1),"") | D10: =IF(OFFSET(Feuil1!$C10,,4*($D$3-1),1)<>0,OFFSET(Feuil1!$C10,,4*($D$3-1),1),"") | E10: =IF(OFFSET(Feuil1!$C10,,4*($E$3-1),1)<>0,OFFSET(Feuil1!$C10,,4*($E$3-1),1),"") | F10: =IF(OFFSET(Feuil1!$C10,,4*($F$3-1),1)<>0,OFFSET(Feuil1!$C10,,4*($F$3-1),1),"") | G10: =IF(OFFSET(Feuil1!$C10,,4*($G$3-1),1)<>0,OFFSET(Feuil1!$C10,,4*($G$3-1),1),"") | H10: =IF(OFFSET(Feuil1!$C10,,4*($H$3-1),1)<>0,OFFSET(Feuil1!$C10,,4*($H$3-1),1),"") | I10: =IF(OFFSET(Feuil1!$C10,,4*($I$3-1),1)<>0,OFFSET(Feuil1!$C10,,4*($I$3-1),1),"") | J10: =IF(OFFSET(Feuil1!$C10,,4*($J$3-1),1)<>0,OFFSET(Feuil1!$C10,,4*($J$3-1),1),"") | K10: =IF(OFFSET(Feuil1!$C10,,4*($K$3-1),1)<>0,OFFSET(Feuil1!$C10,,4*($K$3-1),1),"") | L10: =IF(OFFSET(Feuil1!$C10,,4*($L$3-1),1)<>0,OFFSET(Feuil1!$C10,,4*($L$3-1),1),"") | M10: =IF(OFFSET(Feuil1!$C10,,4*($M$3-1),1)<>0,OFFSET(Feuil1!$C10,,4*($M$3-1),1),"") | N10: =IF(OFFSET(Feuil1!$C10,,4*($N$3-1),1)<>0,OFFSET(Feuil1!$C10,,4*($N$3-1),1),"") | O10: =IF(OFFSET(Feuil1!$C10,,4*($O$3-1),1)<>0,OFFSET(Feuil1!$C10,,4*($O$3-1),1),"") | P10: =IF(OFFSET(Feuil1!$C10,,4*($P$3-1),1)<>0,OFFSET(Feuil1!$C10,,4*($P$3-1),1),"") | R10: =MIN(B10:P10) -> 0 | S10: =MAX(B10:P10) -> 0 | T10: =(SUM(B10:P10)-S10-R10)/(COUNT(B10:P10)-2) -> 0 | U10: =T10*$U$2 -> 0
A11: =Feuil1!$A11 -> 0 | B11: =IF(OFFSET(Feuil1!$C11,,4*($B$3-1),1)<>0,OFFSET(Feuil1!$C11,,4*($B$3-1),1),"") | C11: =IF(OFFSET(Feuil1!$C11,,4*($C$3-1),1)<>0,OFFSET(Feuil1!$C11,,4*($C$3-1),1),"") | D11: =IF(OFFSET(Feuil1!$C11,,4*($D$3-1),1)<>0,OFFSET(Feuil1!$C11,,4*($D$3-1),1),"") | E11: =IF(OFFSET(Feuil1!$C11,,4*($E$3-1),1)<>0,OFFSET(Feuil1!$C11,,4*($E$3-1),1),"") | F11: =IF(OFFSET(Feuil1!$C11,,4*($F$3-1),1)<>0,OFFSET(Feuil1!$C11,,4*($F$3-1),1),"") | G11: =IF(OFFSET(Feuil1!$C11,,4*($G$3-1),1)<>0,OFFSET(Feuil1!$C11,,4*($G$3-1),1),"") | H11: =IF(OFFSET(Feuil1!$C11,,4*($H$3-1),1)<>0,OFFSET(Feuil1!$C11,,4*($H$3-1),1),"") | I11: =IF(OFFSET(Feuil1!$C11,,4*($I$3-1),1)<>0,OFFSET(Feuil1!$C11,,4*($I$3-1),1),"") | J11: =IF(OFFSET(Feuil1!$C11,,4*($J$3-1),1)<>0,OFFSET(Feuil1!$C11,,4*($J$3-1),1),"") | K11: =IF(OFFSET(Feuil1!$C11,,4*($K$3-1),1)<>0,OFFSET(Feuil1!$C11,,4*($K$3-1),1),"") | L11: =IF(OFFSET(Feuil1!$C11,,4*($L$3-1),1)<>0,OFFSET(Feuil1!$C11,,4*($L$3-1),1),"") | M11: =IF(OFFSET(Feuil1!$C11,,4*($M$3-1),1)<>0,OFFSET(Feuil1!$C11,,4*($M$3-1),1),"") | N11: =IF(OFFSET(Feuil1!$C11,,4*($N$3-1),1)<>0,OFFSET(Feuil1!$C11,,4*($N$3-1),1),"") | O11: =IF(OFFSET(Feuil1!$C11,,4*($O$3-1),1)<>0,OFFSET(Feuil1!$C11,,4*($O$3-1),1),"") | P11: =IF(OFFSET(Feuil1!$C11,,4*($P$3-1),1)<>0,OFFSET(Feuil1!$C11,,4*($P$3-1),1),"") | R11: =MIN(B11:P11) -> 0 | S11: =MAX(B11:P11) -> 0 | T11: =(SUM(B11:P11)-S11-R11)/(COUNT(B11:P11)-2) -> 0 | U11: =T11*$U$2 -> 0
