Workbook

Sheet Summary
A1: Evolution des ressources DCPR
A2: TOP PERFORMANCE : Réalisation ≥ 100 % des objectifs
A3: Agence | B3: 41639 | C3: 41670 | D3: Fin Mars/t1 | E3: 30 Avril | F3: 09 Mai | G3: Objectif Fin Mai | H3: Réal.% | I3: Tendance | J3: Zone
A4: Siège | B4: 10613045869 | C4: 13197508075 | D4: 14915331883 | E4: 14054558155 | F4: 14213927289 | G4: =B4+(334000000*5) -> 12283045869 | H4: =((F4*100)/G4)/100 -> 1.1571989 | I4: ↗ | J4: =VLOOKUP(A4,Agences!$A$3:$B$21,2,0) -> Gauche
A5: Koutiala | B5: 658029030 | C5: 507778442 | D5: 588893543 | E5: 789137691 | F5: 905627297 | G5: =B5+(41667000*5) -> 866364030 | H5: =((F5*100)/G5)/100 -> 1.0453196 | I5: ↗ | J5: =VLOOKUP(A5,Agences!$A$3:$B$21,2,0) -> Région
A6: PERFORMANCE MOYENNE : 80 % ≤ Réalisation ≤ 100 % des objectifs
A8: Agence | B8: 41639 | C8: 41670 | D8: Fin Mars/t1 | E8: 30 Avril | F8: 09 Mai | G8: Objectif Fin Fev | H8: Réal.% | I8: Tendance
A9: Aéroport | B9: 1058632206 | C9: 1165503820 | D9: 1110069945 | E9: 1027811060 | F9: 1228749826 | G9: =B9+(41667000*5) -> 1266967206 | H9: =((F9*100)/G9)/100 -> 0.96983554 | I9: ↗ | J9: =VLOOKUP(A9,Agences!$A$3:$B$21,2,0) -> Droite
A10: Ségou | B10: 379933676 | C10: 327599180 | D10: 358276411 | E10: 346916309 | F10: 479123148 | G10: =B10+(29167000*5) -> 525768676 | H10: =((F10*100)/G10)/100 -> 0.91128127 | I10: ↗ | J10: =VLOOKUP(A10,Agences!$A$3:$B$21,2,0) -> Région
A11: Faladiè | B11: 7086412756 | C11: 6773453910 | D11: 6798131064 | E11: 7373849222 | F11: 7229701788 | G11: =B11+(187500000*5) -> 8023912756 | H11: =((F11*100)/G11)/100 -> 0.90101949 | I11: ↘ | J11: =VLOOKUP(A11,Agences!$A$3:$B$21,2,0) -> Droite
A12: Gdcm | B12: 802610869 | C12: 1031965187 | D12: 885967610 | E12: 834972843 | F12: 826864202 | G12: =B12+(33334000*5) -> 969280869 | H12: =((F12*100)/G12)/100 -> 0.85306976 | I12: ↘ | J12: =VLOOKUP(A12,Agences!$A$3:$B$21,2,0) -> Gauche
A13: Gao | B13: 572099768 | C13: 652178763 | D13: 541762249 | E13: 597503766 | F13: 641166592 | G13: =B13+(37500000*5) -> 759599768 | H13: =((F13*100)/G13)/100 -> 0.84408477 | I13: ↗ | J13: =VLOOKUP(A13,Agences!$A$3:$B$21,2,0) -> Région
A14: Sikasso | B14: 931798366 | C14: 1075207039 | D14: 905974816 | E14: 860140895 | F14: 935663043 | G14: =B14+(41667000*5) -> 1140133366 | H14: =((F14*100)/G14)/100 -> 0.82066105 | I14: ↗ | J14: =VLOOKUP(A14,Agences!$A$3:$B$21,2,0) -> Région
A15: Tabakoto | B15: 532061281 | C15: 567262197 | D15: 609501769 | E15: 534856748 | F15: 517575115 | G15: =B15+(20840000*5) -> 636261281 | H15: =((F15*100)/G15)/100 -> 0.81346316 | I15: ↘ | J15: =VLOOKUP(A15,Agences!$A$3:$B$21,2,0) -> Région
A16: FAIBLE PERFORMANCE : 60 % ≤ Réalisation ≤ 80 % des objectifs
A18: Agence | B18: Dec.12 | C18: 30 Mars/T1 | F18: 14 Juin | H18: Réal.% | I18: Tendance | J18: =VLOOKUP(A18,Agences!$A$3:$B$21,2,0) -> #N/A
A19: Agence | B19: 41639 | C19: 41670 | D19: Fin Mars/t1 | E19: 30 Avril | F19: 09 Mai | G19: Objectif Fin Fev | H19: Réal.% | I19: Tendance
A20: Mopti | B20: 909850554 | C20: 828774754 | D20: 679272816 | E20: 772885421 | F20: 851741362 | G20: =B20+(37500000*5) -> 1097350554 | H20: =((F20*100)/G20)/100 -> 0.77617983 | I20: ↗ | J20: =VLOOKUP(A20,Agences!$A$3:$B$21,2,0) -> Région
A21: Baco Djicoroni | B21: 1213980667 | C21: 1085004109 | D21: 1043138754 | E21: 1058692636 | F21: 1135466614 | G21: =B21+(50000000*5) -> 1463980667 | H21: =((F21*100)/G21)/100 -> 0.77560219 | I21: ↗ | J21: =VLOOKUP(A21,Agences!$A$3:$B$21,2,0) -> Droite
A22: Kalaban Koro | B22: 259017488 | C22: 276131789 | D22: 335575211 | E22: 384311632 | F22: 317388369 | G22: =B22+(33340000*5) -> 425717488 | H22: =((F22*100)/G22)/100 -> 0.74553754 | I22: ↘ | J22: =VLOOKUP(A22,Agences!$A$3:$B$21,2,0) -> Droite
A23: Amandine | B23: 1164980406 | C23: 1003898870 | D23: 1016784662 | E23: 950069702 | F23: 1011146426 | G23: =B23+(41667000*5) -> 1373315406 | H23: =((F23*100)/G23)/100 -> 0.73628128 | I23: ↗ | J23: =VLOOKUP(A23,Agences!$A$3:$B$21,2,0) -> Droite
A24: Kayes | B24: 1252657027 | C24: 1376658462 | D24: 925303564 | E24: 1041875771 | F24: 1142180937 | G24: =B24+(62500000*5) -> 1565157027 | H24: =((F24*100)/G24)/100 -> 0.72975485 | I24: ↘ | J24: =VLOOKUP(A24,Agences!$A$3:$B$21,2,0) -> Région
A25: Bozola | B25: 2351446570 | C25: 1892632741 | D25: 2540859488 | E25: 2233640693 | F25: 2057278431 | G25: =B25+(104167000*5) -> 2872281570 | H25: =((F25*100)/G25)/100 -> 0.71625235 | I25: ↘ | J25: =VLOOKUP(A25,Agences!$A$3:$B$21,2,0) -> Gauche
A26: Sahel Vert | B26: 3769942655 | C26: 3926205339 | D26: 3795421675 | E26: 3119795534 | F26: 3037039518 | G26: =B26+(104167000*5) -> 4290777655 | H26: =((F26*100)/G26)/100 -> 0.70780631 | I26: ↘ | J26: =VLOOKUP(A26,Agences!$A$3:$B$21,2,0) -> Gauche
A27: Ibiza | B27: 1389460785 | C27: 1286118391 | D27: 1091944292 | E27: 1056546708 | F27: 1137967583 | G27: =B27+(50000000*5) -> 1639460785 | H27: =((F27*100)/G27)/100 -> 0.69411089 | I27: ↗ | J27: =VLOOKUP(A27,Agences!$A$3:$B$21,2,0) -> Gauche
A28: Djélibougou | B28: 1142685923 | C28: 1173049234 | D28: 927733827 | E28: 907188310 | F28: 958278069 | G28: =B28+(62500000*5) -> 1455185923 | H28: =((F28*100)/G28)/100 -> 0.65852621 | I28: ↗ | J28: =VLOOKUP(A28,Agences!$A$3:$B$21,2,0) -> Gauche
A29: PERFORMANCE MEDIOCRE: 0 % ≤ Réalisation ≤ 60 % des objectifs
A31: Agence | B31: 41639 | C31: 41670 | D31: ` | E31: 30 Avril | F31: 09 Mai | G31: Objectif Fin Fev | H31: Réal.% | I31: Tendance
A32: Bittar | B32: 6075732383 | C32: 6120537862 | D32: 4324970976 | E32: 3995147867 | F32: 3697933680 | G32: =B32+(83334000*5) -> 6492402383 | H32: =((F32*100)/G32)/100 -> 0.56957863 | I32: ↘ | J32: =VLOOKUP(A32,Agences!$A$3:$B$21,2,0) -> Droite
A34: Total | B34: =B4+B9+B26+B12+B15+B25+B11+B28+B14+B22+B24+B23+B20+B27+B5+B21+B32+B13+B10 -> 42164378279 | C34: =C4+C9+C26+C12+C15+C25+C11+C28+C14+C22+C24+C23+C20+C27+C5+C21+C32+C13+C10 -> 44267468164 | D34: =D4+D9+D26+D12+D15+D25+D11+D28+D14+D22+D24+D23+D20+D27+D5+D21+D32+D13+D10 -> 43394914555 | E34: =E4+E9+E26+E12+E15+E25+E11+E28+E14+E22+E24+E23+E20+E27+E5+E21+E32+E13+E10 -> 41939900963 | F34: =F4+F9+F26+F12+F15+F25+F11+F28+F14+F22+F24+F23+F20+F27+F5+F21+F32+F13+F10 -> 42324819289 | G34: =G4+G9+G26+G12+G15+G25+G11+G28+G14+G22+G24+G23+G20+G27+G5+G21+G32+G13+G10 -> 49146963279 | H34: =((F34*100)/G34)/100 -> 0.8611889
H40: `

Sheet Rive droite
A1: Evolution des ressources DCPR
A2: TOP PERFORMANCE : Réalisation ≥ 100 % des objectifs
A3: Agence | B3: 41639 | C3: 41670 | D3: Fin Mars/t1 | E3: 30 Avril | F3: 09 Mai | G3: Objectif Fin Mai | H3: Réal.% | I3: Contribution Mensuelle | J3: Tendance | K3: Fin DEC 2014 | L3: Réal.% | M3: Zone
A4: Koutiala | B4: 658029030 | C4: 507778442 | D4: 588893543 | E4: 789137691 | F4: 905627297 | G4: =B4+(41667000*5) -> 866364030 | H4: =((F4*100)/G4)/100 -> 1.0453196 | I4: =F4-E4 -> 116489606 | J4: ↗ | K4: =B4+500000000 -> 1158029030 | L4: =((F4*100)/K4)/100 -> 0.78204196 | M4: Région
A5: PERFORMANCE MOYENNE : 80 % ≤ Réalisation ≤ 100 % des objectifs
A7: Agence | B7: 41639 | C7: 41670 | D7: Fin Mars/t1 | E7: 30 Avril | F7: 09 Mai | G7: Objectif Fin Fev | H7: Réal.% | I7: Contribution Mensuelle | J7: Tendance | K7: Fin DEC 2014 | L7: Réal.% | M7: Zone
A8: Aéroport | B8: 1058632206 | C8: 1165503820 | D8: 1110069945 | E8: 1027811060 | F8: 1228749826 | G8: =B8+(41667000*5) -> 1266967206 | H8: =((F8*100)/G8)/100 -> 0.96983554 | I8: =F8-E8 -> 200938766 | J8: ↗ | K8: =B8+500000000 -> 1558632206 | L8: =((F8*100)/K8)/100 -> 0.78835136 | M8: Droite
A9: Faladiè | B9: 7086412756 | C9: 6773453910 | D9: 6798131064 | E9: 7373849222 | F9: 7229701788 | G9: =B9+(187500000*5) -> 8023912756 | H9: =((F9*100)/G9)/100 -> 0.90101949 | I9: =F9-E9 -> -144147434 | J9: ↘ | K9: =B9+2250000000 -> 9336412756 | L9: =((F9*100)/K9)/100 -> 0.77435542 | M9: Droite
A10: Sikasso | B10: 931798366 | C10: 1075207039 | D10: 905974816 | E10: 860140895 | F10: 935663043 | G10: =B10+(41667000*5) -> 1140133366 | H10: =((F10*100)/G10)/100 -> 0.82066105 | I10: =F10-E10 -> 75522148 | J10: ↗ | K10: =B10+500000000 -> 1431798366 | L10: =((F10*100)/K10)/100 -> 0.65348799 | M10: Région
A11: Tabakoto | B11: 532061281 | C11: 567262197 | D11: 609501769 | E11: 534856748 | F11: 517575115 | G11: =B11+(20840000*5) -> 636261281 | H11: =((F11*100)/G11)/100 -> 0.81346316 | I11: =F11-E11 -> -17281633 | J11: ↘ | K11: =B11+250000000 -> 782061281 | L11: =((F11*100)/K11)/100 -> 0.6618089 | M11: Région
A12: FAIBLE PERFORMANCE : 60 % ≤ Réalisation ≤ 80 % des objectifs
A14: Agence | B14: Dec.12 | C14: 30 Mars/T1 | F14: 14 Juin | H14: Réal.% | I14: Contribution Mensuelle | J14: Tendance | K14: Fin DEC 2013 | L14: Réal.% | M14: Zone
A15: Agence | B15: 41639 | C15: 41670 | D15: Fin Mars/t1 | E15: 30 Avril | F15: 09 Mai | G15: Objectif Fin Fev | H15: Réal.% | I15: Contribution Mensuelle | J15: Tendance | K15: Fin DEC 2014 | L15: Réal.% | M15: Zone
A16: Baco Djicoroni | B16: 1213980667 | C16: 1085004109 | D16: 1043138754 | E16: 1058692636 | F16: 1135466614 | G16: =B16+(50000000*5) -> 1463980667 | H16: =((F16*100)/G16)/100 -> 0.77560219 | I16: =F16-E16 -> 76773978 | J16: ↗ | K16: =B16+600000000 -> 1813980667 | L16: =((F16*100)/K16)/100 -> 0.62595299 | M16: Droite
A17: Kalaban Koro | B17: 259017488 | C17: 276131789 | D17: 335575211 | E17: 384311632 | F17: 317388369 | G17: =B17+(33340000*5) -> 425717488 | H17: =((F17*100)/G17)/100 -> 0.74553754 | I17: =F17-E17 -> -66923263 | J17: ↘ | K17: =B17+400000000 -> 659017488 | L17: =((F17*100)/K17)/100 -> 0.48160842 | M17: Droite
A18: Amandine | B18: 1164980406 | C18: 1003898870 | D18: 1016784662 | E18: 950069702 | F18: 1011146426 | G18: =B18+(41667000*5) -> 1373315406 | H18: =((F18*100)/G18)/100 -> 0.73628128 | I18: =F18-E18 -> 61076724 | J18: ↗ | K18: =B18+600000000 -> 1764980406 | L18: =((F18*100)/K18)/100 -> 0.57289385 | M18: Droite
A19: Kayes | B19: 1252657027 | C19: 1376658462 | D19: 925303564 | E19: 1041875771 | F19: 1142180937 | G19: =B19+(62500000*5) -> 1565157027 | H19: =((F19*100)/G19)/100 -> 0.72975485 | I19: =F19-E19 -> 100305166 | J19: ↘ | K19: =B19+750000000 -> 2002657027 | L19: =((F19*100)/K19)/100 -> 0.57033277 | M19: Région
A20: PERFORMANCE MEDIOCRE: 0 % ≤ Réalisation ≤ 60 % des objectifs
A22: Agence | B22: 41639 | C22: 41670 | D22: ` | E22: 30 Avril | F22: 09 Mai | G22: Objectif Fin Fev | H22: Réal.% | I22: Contribution Mensuelle | J22: Tendance | K22: Fin DEC 2014 | L22: Réal.% | M22: Zone
A23: Bittar | B23: 6075732383 | C23: 6120537862 | D23: 4324970976 | E23: 3995147867 | F23: 3697933680 | G23: =B23+(83334000*5) -> 6492402383 | H23: =((F23*100)/G23)/100 -> 0.56957863 | I23: =F23-E23 -> -297214187 | J23: ↘ | K23: =B23+1000000000 -> 7075732383 | L23: =((F23*100)/K23)/100 -> 0.52262204 | M23: Droite
A25: Total | B25: =B4+B8+B9+B10+B11+B16+B17+B18+B19+B23 -> 20233301610 | C25: =C4+C8+C9+C10+C11+C16+C17+C18+C19+C23 -> 19951436500 | D25: =D4+D8+D9+D10+D11+D16+D17+D18+D19+D23 -> 17658344304 | E25: =E4+E8+E9+E10+E11+E16+E17+E18+E19+E23 -> 18015893224 | F25: =F4+F8+F9+F10+F11+F16+F17+F18+F19+F23 -> 18121433095 | G25: =G4+G8+G9+G10+G11+G16+G17+G18+G19+G23 -> 23254211610 | H25: =((F25*100)/G25)/100 -> 0.77927532 | I25: =I4+I8+I9+I10+I11+I16+I17+I18+I19+I23 -> 105539871 | K25: =K4+K8+K9+K10+K11+K16+K17+K18+K19+K23 -> 27583301610 | L25: =((F25*100)/G25)/100 -> 0.77927532
H30: `

Sheet Rive Gauche
A1: Evolution des ressources DCPR
A2: TOP PERFORMANCE : Réalisation ≥ 100 % des objectifs
A3: Agence | B3: 41639 | C3: 41670 | D3: Fin Mars/t1 | E3: 30 Avril | F3: 09 Mai | G3: Objectif Fin Mai | H3: Réal.% | I3: Contribution Mensuelle | J3: Tendance | K3: Fin DEC 2014 | L3: Réal.% | M3: Zone
A4: Siège | B4: 10613045869 | C4: 13197508075 | D4: 14915331883 | E4: 14054558155 | F4: 14213927289 | G4: =B4+(334000000*5) -> 12283045869 | H4: =((F4*100)/G4)/100 -> 1.1571989 | I4: =F4-E4 -> 159369134 | J4: ↗ | K4: =B4+4000000000 -> 14613045869 | L4: =((F4*100)/K4)/100 -> 0.97268752 | M4: Gauche
A5: PERFORMANCE MOYENNE : 80 % ≤ Réalisation ≤ 100 % des objectifs
A7: Agence | B7: 41639 | C7: 41670 | D7: Fin Mars/t1 | E7: 30 Avril | F7: 09 Mai | G7: Objectif Fin Fev | H7: Réal.% | I7: Contribution Mensuelle | J7: Tendance | K7: Fin DEC 2014 | L7: Réal.% | M7: Zone
A8: Ségou | B8: 379933676 | C8: 327599180 | D8: 358276411 | E8: 346916309 | F8: 479123148 | G8: =B8+(29167000*5) -> 525768676 | H8: =((F8*100)/G8)/100 -> 0.91128127 | I8: =F8-E8 -> 132206839 | J8: ↗ | K8: =B8+350000000 -> 729933676 | L8: =((F8*100)/K8)/100 -> 0.65639272 | M8: Région
A9: Gdcm | B9: 802610869 | C9: 1031965187 | D9: 885967610 | E9: 834972843 | F9: 826864202 | G9: =B9+(33334000*5) -> 969280869 | H9: =((F9*100)/G9)/100 -> 0.85306976 | I9: =F9-E9 -> -8108641 | J9: ↘ | K9: =B9+400000000 -> 1202610869 | L9: =((F9*100)/K9)/100 -> 0.68755757 | M9: Gauche
A10: Gao | B10: 572099768 | C10: 652178763 | D10: 541762249 | E10: 597503766 | F10: 641166592 | G10: =B10+(37500000*5) -> 759599768 | H10: =((F10*100)/G10)/100 -> 0.84408477 | I10: =F10-E10 -> 43662826 | J10: ↗ | K10: =B10 -> 572099768 | L10: =((F10*100)/K10)/100 -> 1.1207251 | M10: Région
A11: FAIBLE PERFORMANCE : 60 % ≤ Réalisation ≤ 80 % des objectifs
A13: Agence | B13: Dec.12 | C13: 30 Mars/T1 | F13: 14 Juin | H13: Réal.% | I13: Contribution Mensuelle | J13: Tendance | K13: Fin DEC 2013 | L13: Réal.% | M13: Zone
A14: Agence | B14: 41639 | C14: 41670 | D14: Fin Mars/t1 | E14: 30 Avril | F14: 09 Mai | G14: Objectif Fin Fev | H14: Réal.% | I14: Contribution Mensuelle | J14: Tendance | K14: Fin DEC 2014 | L14: Réal.% | M14: Zone
A15: Mopti | B15: 909850554 | C15: 828774754 | D15: 679272816 | E15: 772885421 | F15: 851741362 | G15: =B15+(37500000*5) -> 1097350554 | H15: =((F15*100)/G15)/100 -> 0.77617983 | I15: =F15-E15 -> 78855941 | J15: ↗ | K15: =B15+450000000 -> 1359850554 | L15: =((F15*100)/K15)/100 -> 0.62634924 | M15: Région
A16: Bozola | B16: 2351446570 | C16: 1892632741 | D16: 2540859488 | E16: 2233640693 | F16: 2057278431 | G16: =B16+(104167000*5) -> 2872281570 | H16: =((F16*100)/G16)/100 -> 0.71625235 | I16: =F16-E16 -> -176362262 | J16: ↘ | K16: =B16+1250000000 -> 3601446570 | L16: =((F16*100)/K16)/100 -> 0.57123669 | M16: Gauche
A17: Sahel Vert | B17: 3769942655 | C17: 3926205339 | D17: 3795421675 | E17: 3119795534 | F17: 3037039518 | G17: =B17+(104167000*5) -> 4290777655 | H17: =((F17*100)/G17)/100 -> 0.70780631 | I17: =F17-E17 -> -82756016 | J17: ↘ | K17: =B17+1250000000 -> 5019942655 | L17: =((F17*100)/K17)/100 -> 0.60499486 | M17: Gauche
A18: Ibiza | B18: 1389460785 | C18: 1286118391 | D18: 1091944292 | E18: 1056546708 | F18: 1137967583 | G18: =B18+(50000000*5) -> 1639460785 | H18: =((F18*100)/G18)/100 -> 0.69411089 | I18: =F18-E18 -> 81420875 | J18: ↗ | K18: =B18+600000000 -> 1989460785 | L18: =((F18*100)/K18)/100 -> 0.571998 | M18: Gauche
A19: Djélibougou | B19: 1142685923 | C19: 1173049234 | D19: 927733827 | E19: 907188310 | F19: 958278069 | G19: =B19+(62500000*5) -> 1455185923 | H19: =((F19*100)/G19)/100 -> 0.65852621 | I19: =F19-E19 -> 51089759 | J19: ↗ | K19: =B19+750000000 -> 1892685923 | L19: =((F19*100)/K19)/100 -> 0.50630591 | M19: Gauche
A20: PERFORMANCE MEDIOCRE: 0 % ≤ Réalisation ≤ 60 % des objectifs
A22: Agence | B22: 41639 | C22: 41670 | D22: ` | E22: 30 Avril | F22: 09 Mai | G22: Objectif Fin Fev | H22: Réal.% | I22: Contribution Mensuelle | J22: Tendance | K22: Fin DEC 2014 | L22: Réal.% | M22: Zone
A24: Total | B24: =B4+B8+B9+B10+B15+B16+B17+B18+B19 -> 21931076669 | C24: =C4+C8+C9+C10+C15+C16+C17+C18+C19 -> 24316031664 | D24: =D4+D8+D9+D10+D15+D16+D17+D18+D19 -> 25736570251 | E24: =E4+E8+E9+E10+E15+E16+E17+E18+E19 -> 23924007739 | F24: =F4+F8+F9+F10+F15+F16+F17+F18+F19 -> 24203386194 | G24: =G4+G8+G9+G10+G15+G16+G17+G18+G19 -> 25892751669 | H24: =((F24*100)/G24)/100 -> 0.93475527 | I24: =I4+I8+I9+I10+I15+I16+I17+I18+I19 -> 279378455 | J24: =J4+J8+J9+J10+J15+J16+J17+J18+J19 -> #VALUE! | K24: =K4+K8+K9+K10+K15+K16+K17+K18+K19 -> 30981076669 | L24: =((F24*100)/K24)/100 -> 0.78123128
H30: `

Sheet Agences
A2: Agence | B2: Zone
A3: Siège | B3: Gauche
A4: Koutiala | B4: Région
A5: Aéroport | B5: Droite
A6: Ségou | B6: Région
A7: Faladiè | B7: Droite
A8: Gdcm | B8: Gauche
A9: Gao | B9: Région
A10: Sikasso | B10: Région
A11: Tabakoto | B11: Région
A12: Mopti | B12: Région
A13: Baco Djicoroni | B13: Droite
... A21: Bittar | B21: Droite
