Workbook
Name Listinscrits: OFFSET('Seeding 40'!$A$8,,,COUNTA('Seeding 40'!$B$8:$B$87),2)
Name S: MOD(VALUE(SUBSTITUTE(series!XFD1,".",REPT("0",5-LEN(series!XFD1)))),1000)

Sheet Seeding 40
A1: LONGEVILLE SURF CLUB
B2: BUD BUD CONTEST
B4: Discipline | C4: Catégorie | D4: Public
B5: SURF | C5: OPEN | D5: HOMMES
A7: N° ORDRE | B7: NOM/PRENOM | C7: CLUB | D7: REGLEMENT
A8: 1 | B8: a
A9: 2 | B9: b
A10: 3 | B10: c
A11: 4 | B11: d
A12: 5 | B12: e
A13: 6 | B13: f
A14: 7 | B14: g
A15: 8 | B15: h
A16: 9 | B16: i
A17: 10 | B17: j
A18: 11 | B18: k
A19: 12 | B19: l
... A47: 40 | B47: ao
A48: 41
A49: 42
A50: 43
A51: 44
A52: 45
A53: 46
A54: 47
A55: 48
A56: 49
A57: 50
A58: 51
A59: 52
... A87: 80

Sheet series
B1: ='Seeding 40'!B2 -> BUD BUD CONTEST
F2: Discipline | J2: Catégorie | N2: Public
A3: tour 1 | F3: ='Seeding 40'!B5 -> SURF | J3: ='Seeding 40'!C5 -> OPEN | N3: ='Seeding 40'!D5 -> HOMMES
A5: série 1 | E5: série 2 | I5: série 3 | M5: série 4
A6: seed | B6: noms prénoms | C6: Clt | E6: seed | F6: noms prénoms | G6: Clt | I6: seed | J6: noms prénoms | K6: Clt | M6: seed | N6: noms prénoms | O6: Clt
A7: 4 | B7: =T(VLOOKUP(A7,Listinscrits,2,FALSE)) -> d | C7: 1 | E7: 3 | F7: =T(VLOOKUP(E7,Listinscrits,2,FALSE)) -> c | G7: 3 | I7: 2 | J7: =T(VLOOKUP(I7,Listinscrits,2,FALSE)) -> b | K7: 1 | M7: 1 | N7: =T(VLOOKUP(M7,Listinscrits,2,FALSE)) -> a | O7: 5
A8: 6 | B8: =T(VLOOKUP(A8,Listinscrits,2,FALSE)) -> f | C8: 2 | E8: 5 | F8: =T(VLOOKUP(E8,Listinscrits,2,FALSE)) -> e | G8: 2 | I8: 8 | J8: =T(VLOOKUP(I8,Listinscrits,2,FALSE)) -> h | K8: 2 | M8: 7 | N8: =T(VLOOKUP(M8,Listinscrits,2,FALSE)) -> g | O8: 4
A9: 9 | B9: =T(VLOOKUP(A9,Listinscrits,2,FALSE)) -> i | C9: 3 | E9: 10 | F9: =T(VLOOKUP(E9,Listinscrits,2,FALSE)) -> j | G9: 1 | I9: 11 | J9: =T(VLOOKUP(I9,Listinscrits,2,FALSE)) -> k | K9: 3 | M9: 12 | N9: =T(VLOOKUP(M9,Listinscrits,2,FALSE)) -> l | O9: 3
A10: 16 | B10: =T(VLOOKUP(A10,Listinscrits,2,FALSE)) -> p | C10: 4 | E10: 15 | F10: =T(VLOOKUP(E10,Listinscrits,2,FALSE)) -> o | G10: 5 | I10: 14 | J10: =T(VLOOKUP(I10,Listinscrits,2,FALSE)) -> n | K10: 4 | M10: 13 | N10: =T(VLOOKUP(M10,Listinscrits,2,FALSE)) -> m | O10: 2
A11: 40 | B11: =T(VLOOKUP(A11,Listinscrits,2,FALSE)) -> ao | C11: 5 | E11: 39 | F11: =T(VLOOKUP(E11,Listinscrits,2,FALSE)) -> an | G11: 4 | I11: 38 | J11: =T(VLOOKUP(I11,Listinscrits,2,FALSE)) -> am | K11: 5 | M11: 37 | N11: =T(VLOOKUP(M11,Listinscrits,2,FALSE)) -> al | O11: 1
A14: série 5 | E14: série 6 | I14: série 7 | M14: série 8
A15: seed | B15: noms prénoms | C15: Clt | E15: seed | F15: noms prénoms | G15: Clt | I15: seed | J15: noms prénoms | K15: Clt | M15: seed | N15: noms prénoms | O15: Clt
A16: 20 | B16: =T(VLOOKUP(A16,Listinscrits,2,FALSE)) -> u | C16: 1 | E16: 19 | F16: =T(VLOOKUP(E16,Listinscrits,2,FALSE)) -> t | G16: 2 | I16: 18 | J16: =T(VLOOKUP(I16,Listinscrits,2,FALSE)) -> s | K16: 5 | M16: 17 | N16: =T(VLOOKUP(M16,Listinscrits,2,FALSE)) -> r | O16: 4
A17: 22 | B17: =T(VLOOKUP(A17,Listinscrits,2,FALSE)) -> w | C17: 2 | E17: 21 | F17: =T(VLOOKUP(E17,Listinscrits,2,FALSE)) -> v | G17: 3 | I17: 24 | J17: =T(VLOOKUP(I17,Listinscrits,2,FALSE)) -> y | K17: 1 | M17: 23 | N17: =T(VLOOKUP(M17,Listinscrits,2,FALSE)) -> x | O17: 2
A18: 25 | B18: =T(VLOOKUP(A18,Listinscrits,2,FALSE)) -> z | C18: 3 | E18: 26 | F18: =T(VLOOKUP(E18,Listinscrits,2,FALSE)) -> aa | G18: 5 | I18: 27 | J18: =T(VLOOKUP(I18,Listinscrits,2,FALSE)) -> ab | K18: 2 | M18: 28 | N18: =T(VLOOKUP(M18,Listinscrits,2,FALSE)) -> ac | O18: 1
A19: 32 | B19: =T(VLOOKUP(A19,Listinscrits,2,FALSE)) -> ag | C19: 4 | E19: 31 | F19: =T(VLOOKUP(E19,Listinscrits,2,FALSE)) -> af | G19: 4 | I19: 30 | J19: =T(VLOOKUP(I19,Listinscrits,2,FALSE)) -> ae | K19: 4 | M19: 29 | N19: =T(VLOOKUP(M19,Listinscrits,2,FALSE)) -> ad | O19: 5
A20: 36 | B20: =T(VLOOKUP(A20,Listinscrits,2,FALSE)) -> ak | C20: 5 | E20: 35 | F20: =T(VLOOKUP(E20,Listinscrits,2,FALSE)) -> aj | G20: 1 | I20: 34 | J20: =T(VLOOKUP(I20,Listinscrits,2,FALSE)) -> ai | K20: 3 | M20: 33 | N20: =T(VLOOKUP(M20,Listinscrits,2,FALSE)) -> ah | O20: 3
A23: série 9 | E23: série 10 | I23: série 11 | M23: série 12
A24: seed | B24: noms prénoms | C24: Clt | E24: seed | F24: noms prénoms | G24: Clt | I24: seed | J24: noms prénoms | K24: Clt | M24: seed | N24: noms prénoms | O24: Clt
B25: =T(VLOOKUP(A25,Listinscrits,2,FALSE)) -> #N/A | C25: 2 | F25: =T(VLOOKUP(E25,Listinscrits,2,FALSE)) -> #N/A | G25: 3 | J25: =T(VLOOKUP(I25,Listinscrits,2,FALSE)) -> #N/A | K25: 2 | N25: =T(VLOOKUP(M25,Listinscrits,2,FALSE)) -> #N/A | O25: 2
B26: =T(VLOOKUP(A26,Listinscrits,2,FALSE)) -> #N/A | C26: 1 | F26: =T(VLOOKUP(E26,Listinscrits,2,FALSE)) -> #N/A | G26: 1 | J26: =T(VLOOKUP(I26,Listinscrits,2,FALSE)) -> #N/A | K26: 4 | N26: =T(VLOOKUP(M26,Listinscrits,2,FALSE)) -> #N/A | O26: 5
B27: =T(VLOOKUP(A27,Listinscrits,2,FALSE)) -> #N/A | C27: 3 | F27: =T(VLOOKUP(E27,Listinscrits,2,FALSE)) -> #N/A | G27: 2 | J27: =T(VLOOKUP(I27,Listinscrits,2,FALSE)) -> #N/A | K27: 5 | N27: =T(VLOOKUP(M27,Listinscrits,2,FALSE)) -> #N/A | O27: 4
B28: =T(VLOOKUP(A28,Listinscrits,2,FALSE)) -> #N/A | C28: 4 | F28: =T(VLOOKUP(E28,Listinscrits,2,FALSE)) -> #N/A | G28: 5 | J28: =T(VLOOKUP(I28,Listinscrits,2,FALSE)) -> #N/A | K28: 1 | N28: =T(VLOOKUP(M28,Listinscrits,2,FALSE)) -> #N/A | O28: 1
B29: =T(VLOOKUP(A29,Listinscrits,2,FALSE)) -> #N/A | C29: 5 | F29: =T(VLOOKUP(E29,Listinscrits,2,FALSE)) -> #N/A | G29: 4 | J29: =T(VLOOKUP(I29,Listinscrits,2,FALSE)) -> #N/A | K29: 3 | N29: =T(VLOOKUP(M29,Listinscrits,2,FALSE)) -> #N/A | O29: 3
A32: série13 | E32: série14 | I32: série 15 | M32: série 16
A33: seed | B33: noms prénoms | C33: Clt | E33: seed | F33: noms prénoms | G33: Clt | I33: seed | J33: noms prénoms | K33: Clt | M33: seed | N33: noms prénoms | O33: Clt
B34: =T(VLOOKUP(A34,Listinscrits,2,FALSE)) -> #N/A | C34: 4 | F34: =T(VLOOKUP(E34,Listinscrits,2,FALSE)) -> #N/A | G34: 5 | J34: =T(VLOOKUP(I34,Listinscrits,2,FALSE)) -> #N/A | K34: 3 | N34: =T(VLOOKUP(M34,Listinscrits,2,FALSE)) -> #N/A | O34: 4
B35: =T(VLOOKUP(A35,Listinscrits,2,FALSE)) -> #N/A | C35: 2 | F35: =T(VLOOKUP(E35,Listinscrits,2,FALSE)) -> #N/A | G35: 2 | J35: =T(VLOOKUP(I35,Listinscrits,2,FALSE)) -> #N/A | K35: 2 | N35: =T(VLOOKUP(M35,Listinscrits,2,FALSE)) -> #N/A | O35: 5
B36: =T(VLOOKUP(A36,Listinscrits,2,FALSE)) -> #N/A | C36: 1 | F36: =T(VLOOKUP(E36,Listinscrits,2,FALSE)) -> #N/A | G36: 1 | J36: =T(VLOOKUP(I36,Listinscrits,2,FALSE)) -> #N/A | K36: 4 | N36: =T(VLOOKUP(M36,Listinscrits,2,FALSE)) -> #N/A | O36: 2
B37: =T(VLOOKUP(A37,Listinscrits,2,FALSE)) -> #N/A | C37: 3 | F37: =T(VLOOKUP(E37,Listinscrits,2,FALSE)) -> #N/A | G37: 3 | J37: =T(VLOOKUP(I37,Listinscrits,2,FALSE)) -> #N/A | K37: 5 | N37: =T(VLOOKUP(M37,Listinscrits,2,FALSE)) -> #N/A | O37: 1
B38: =T(VLOOKUP(A38,Listinscrits,2,FALSE)) -> #N/A | C38: 5 | F38: =T(VLOOKUP(E38,Listinscrits,2,FALSE)) -> #N/A | G38: 4 | J38: =T(VLOOKUP(I38,Listinscrits,2,FALSE)) -> #N/A | K38: 1 | N38: =T(VLOOKUP(M38,Listinscrits,2,FALSE)) -> #N/A | O38: 3
A41: tour 2 | B41: 1/4 FINALES
A43: série 17 | E43: série 18 | I43: série 19 | M43: série 20
A44: seed | B44: noms prénoms | C44: Clt | E44: seed | F44: noms prénoms | G44: Clt | I44: seed | J44: noms prénoms | K44: Clt | M44: seed | N44: noms prénoms | O44: Clt
A45: 1.1 | B45: =OFFSET(INDIRECT(ADDRESS(INT((S-1)/4)*9+6,MOD(S-1,4)*4+2)),MATCH(VALUE(LEFT(A45,1)),INDIRECT(ADDRESS(INT((S-1)/4)*9+7,MOD(S-1,4)*4+3)&":"&ADDRESS(INT((S-1)/4)*9+11,MOD(S-1,4)*4+3)),0),) -> d | C45: 1 | E45: 1.3 | F45: =OFFSET(INDIRECT(ADDRESS(INT((S-1)/4)*9+6,MOD(S-1,4)*4+2)),MATCH(VALUE(LEFT(E45,1)),INDIRECT(ADDRESS(INT((S-1)/4)*9+7,MOD(S-1,4)*4+3)&":"&ADDRESS(INT((S-1)/4)*9+11,MOD(S-1,4)*4+3)),0),) -> b | G45: 4 | I45: 1.5 | J45: =OFFSET(INDIRECT(ADDRESS(INT((S-1)/4)*9+6,MOD(S-1,4)*4+2)),MATCH(VALUE(LEFT(I45,1)),INDIRECT(ADDRESS(INT((S-1)/4)*9+7,MOD(S-1,4)*4+3)&":"&ADDRESS(INT((S-1)/4)*9+11,MOD(S-1,4)*4+3)),0),) -> u | K45: 2 | M45: 1.7 | N45: =OFFSET(INDIRECT(ADDRESS(INT((S-1)/4)*9+6,MOD(S-1,4)*4+2)),MATCH(VALUE(LEFT(M45,1)),INDIRECT(ADDRESS(INT((S-1)/4)*9+7,MOD(S-1,4)*4+3)&":"&ADDRESS(INT((S-1)/4)*9+11,MOD(S-1,4)*4+3)),0),) -> y | O45: 4
A46: 2.3 | B46: =OFFSET(INDIRECT(ADDRESS(INT((S-1)/4)*9+6,MOD(S-1,4)*4+2)),MATCH(VALUE(LEFT(A46,1)),INDIRECT(ADDRESS(INT((S-1)/4)*9+7,MOD(S-1,4)*4+3)&":"&ADDRESS(INT((S-1)/4)*9+11,MOD(S-1,4)*4+3)),0),) -> h | C46: 3 | E46: 2.1 | F46: =OFFSET(INDIRECT(ADDRESS(INT((S-1)/4)*9+6,MOD(S-1,4)*4+2)),MATCH(VALUE(LEFT(E46,1)),INDIRECT(ADDRESS(INT((S-1)/4)*9+7,MOD(S-1,4)*4+3)&":"&ADDRESS(INT((S-1)/4)*9+11,MOD(S-1,4)*4+3)),0),) -> f | G46: 2 | I46: 2.7 | J46: =OFFSET(INDIRECT(ADDRESS(INT((S-1)/4)*9+6,MOD(S-1,4)*4+2)),MATCH(VALUE(LEFT(I46,1)),INDIRECT(ADDRESS(INT((S-1)/4)*9+7,MOD(S-1,4)*4+3)&":"&ADDRESS(INT((S-1)/4)*9+11,MOD(S-1,4)*4+3)),0),) -> ab | K46: 3 | M46: 2.5 | N46: =OFFSET(INDIRECT(ADDRESS(INT((S-1)/4)*9+6,MOD(S-1,4)*4+2)),MATCH(VALUE(LEFT(M46,1)),INDIRECT(ADDRESS(INT((S-1)/4)*9+7,MOD(S-1,4)*4+3)&":"&ADDRESS(INT((S-1)/4)*9+11,MOD(S-1,4)*4+3)),0),) -> w | O46: 3
A47: 1.2 | B47: =OFFSET(INDIRECT(ADDRESS(INT((S-1)/4)*9+6,MOD(S-1,4)*4+2)),MATCH(VALUE(LEFT(A47,1)),INDIRECT(ADDRESS(INT((S-1)/4)*9+7,MOD(S-1,4)*4+3)&":"&ADDRESS(INT((S-1)/4)*9+11,MOD(S-1,4)*4+3)),0),) -> j | C47: 2 | E47: 1.4 | F47: =OFFSET(INDIRECT(ADDRESS(INT((S-1)/4)*9+6,MOD(S-1,4)*4+2)),MATCH(VALUE(LEFT(E47,1)),INDIRECT(ADDRESS(INT((S-1)/4)*9+7,MOD(S-1,4)*4+3)&":"&ADDRESS(INT((S-1)/4)*9+11,MOD(S-1,4)*4+3)),0),) -> al | G47: 3 | I47: 1.6 | J47: =OFFSET(INDIRECT(ADDRESS(INT((S-1)/4)*9+6,MOD(S-1,4)*4+2)),MATCH(VALUE(LEFT(I47,1)),INDIRECT(ADDRESS(INT((S-1)/4)*9+7,MOD(S-1,4)*4+3)&":"&ADDRESS(INT((S-1)/4)*9+11,MOD(S-1,4)*4+3)),0),) -> aj | K47: 4 | M47: 1.8 | N47: =OFFSET(INDIRECT(ADDRESS(INT((S-1)/4)*9+6,MOD(S-1,4)*4+2)),MATCH(VALUE(LEFT(M47,1)),INDIRECT(ADDRESS(INT((S-1)/4)*9+7,MOD(S-1,4)*4+3)&":"&ADDRESS(INT((S-1)/4)*9+11,MOD(S-1,4)*4+3)),0),) -> ac | O47: 2
A48: 2.4 | B48: =OFFSET(INDIRECT(ADDRESS(INT((S-1)/4)*9+6,MOD(S-1,4)*4+2)),MATCH(VALUE(LEFT(A48,1)),INDIRECT(ADDRESS(INT((S-1)/4)*9+7,MOD(S-1,4)*4+3)&":"&ADDRESS(INT((S-1)/4)*9+11,MOD(S-1,4)*4+3)),0),) -> m | C48: 4 | E48: 2.2 | F48: =OFFSET(INDIRECT(ADDRESS(INT((S-1)/4)*9+6,MOD(S-1,4)*4+2)),MATCH(VALUE(LEFT(E48,1)),INDIRECT(ADDRESS(INT((S-1)/4)*9+7,MOD(S-1,4)*4+3)&":"&ADDRESS(INT((S-1)/4)*9+11,MOD(S-1,4)*4+3)),0),) -> e | G48: 1 | I48: 2.8 | J48: =OFFSET(INDIRECT(ADDRESS(INT((S-1)/4)*9+6,MOD(S-1,4)*4+2)),MATCH(VALUE(LEFT(I48,1)),INDIRECT(ADDRESS(INT((S-1)/4)*9+7,MOD(S-1,4)*4+3)&":"&ADDRESS(INT((S-1)/4)*9+11,MOD(S-1,4)*4+3)),0),) -> x | K48: 1 | M48: 2.6 | N48: =OFFSET(INDIRECT(ADDRESS(INT((S-1)/4)*9+6,MOD(S-1,4)*4+2)),MATCH(VALUE(LEFT(M48,1)),INDIRECT(ADDRESS(INT((S-1)/4)*9+7,MOD(S-1,4)*4+3)&":"&ADDRESS(INT((S-1)/4)*9+11,MOD(S-1,4)*4+3)),0),) -> t | O48: 1
A51: série 21 | E51: série 22 | I51: série 23 | M51: série 24
A52: seed | B52: noms prénoms | C52: Clt | E52: seed | F52: noms prénoms | G52: Clt | I52: seed | J52: noms prénoms | K52: Clt | M52: seed | N52: noms prénoms | O52: Clt
A53: 1.9 | B53: =OFFSET(INDIRECT(ADDRESS(INT((S-1)/4)*9+6,MOD(S-1,4)*4+2)),MATCH(VALUE(LEFT(A53,1)),INDIRECT(ADDRESS(INT((S-1)/4)*9+7,MOD(S-1,4)*4+3)&":"&ADDRESS(INT((S-1)/4)*9+11,MOD(S-1,4)*4+3)),0),) -> #N/A | C53: 2 | E53: 1.11 | F53: =OFFSET(INDIRECT(ADDRESS(INT((S-1)/4)*9+6,MOD(S-1,4)*4+2)),MATCH(VALUE(LEFT(E53,1)),INDIRECT(ADDRESS(INT((S-1)/4)*9+7,MOD(S-1,4)*4+3)&":"&ADDRESS(INT((S-1)/4)*9+11,MOD(S-1,4)*4+3)),0),) -> #N/A | G53: 1 | I53: 1.13 | J53: =OFFSET(INDIRECT(ADDRESS(INT((S-1)/4)*9+6,MOD(S-1,4)*4+2)),MATCH(VALUE(LEFT(I53,1)),INDIRECT(ADDRESS(INT((S-1)/4)*9+7,MOD(S-1,4)*4+3)&":"&ADDRESS(INT((S-1)/4)*9+11,MOD(S-1,4)*4+3)),0),) -> #N/A | K53: 4 | M53: 1.15 | N53: =OFFSET(INDIRECT(ADDRESS(INT((S-1)/4)*9+6,MOD(S-1,4)*4+2)),MATCH(VALUE(LEFT(M53,1)),INDIRECT(ADDRESS(INT((S-1)/4)*9+7,MOD(S-1,4)*4+3)&":"&ADDRESS(INT((S-1)/4)*9+11,MOD(S-1,4)*4+3)),0),) -> #N/A | O53: 2
A54: 2.11 | B54: =OFFSET(INDIRECT(ADDRESS(INT((S-1)/4)*9+6,MOD(S-1,4)*4+2)),MATCH(VALUE(LEFT(A54,1)),INDIRECT(ADDRESS(INT((S-1)/4)*9+7,MOD(S-1,4)*4+3)&":"&ADDRESS(INT((S-1)/4)*9+11,MOD(S-1,4)*4+3)),0),) -> #N/A | C54: 4 | E54: 2.9 | F54: =OFFSET(INDIRECT(ADDRESS(INT((S-1)/4)*9+6,MOD(S-1,4)*4+2)),MATCH(VALUE(LEFT(E54,1)),INDIRECT(ADDRESS(INT((S-1)/4)*9+7,MOD(S-1,4)*4+3)&":"&ADDRESS(INT((S-1)/4)*9+11,MOD(S-1,4)*4+3)),0),) -> #N/A | G54: 3 | I54: 2.15 | J54: =OFFSET(INDIRECT(ADDRESS(INT((S-1)/4)*9+6,MOD(S-1,4)*4+2)),MATCH(VALUE(LEFT(I54,1)),INDIRECT(ADDRESS(INT((S-1)/4)*9+7,MOD(S-1,4)*4+3)&":"&ADDRESS(INT((S-1)/4)*9+11,MOD(S-1,4)*4+3)),0),) -> #N/A | K54: 1 | M54: 2.13 | N54: =OFFSET(INDIRECT(ADDRESS(INT((S-1)/4)*9+6,MOD(S-1,4)*4+2)),MATCH(VALUE(LEFT(M54,1)),INDIRECT(ADDRESS(INT((S-1)/4)*9+7,MOD(S-1,4)*4+3)&":"&ADDRESS(INT((S-1)/4)*9+11,MOD(S-1,4)*4+3)),0),) -> #N/A | O54: 3
A55: 1.10 | B55: =OFFSET(INDIRECT(ADDRESS(INT((S-1)/4)*9+6,MOD(S-1,4)*4+2)),MATCH(VALUE(LEFT(A55,1)),INDIRECT(ADDRESS(INT((S-1)/4)*9+7,MOD(S-1,4)*4+3)&":"&ADDRESS(INT((S-1)/4)*9+11,MOD(S-1,4)*4+3)),0),) -> #N/A | C55: 3 | E55: 1.12 | F55: =OFFSET(INDIRECT(ADDRESS(INT((S-1)/4)*9+6,MOD(S-1,4)*4+2)),MATCH(VALUE(LEFT(E55,1)),INDIRECT(ADDRESS(INT((S-1)/4)*9+7,MOD(S-1,4)*4+3)&":"&ADDRESS(INT((S-1)/4)*9+11,MOD(S-1,4)*4+3)),0),) -> #N/A | G55: 4 | I55: 1.14 | J55: =OFFSET(INDIRECT(ADDRESS(INT((S-1)/4)*9+6,MOD(S-1,4)*4+2)),MATCH(VALUE(LEFT(I55,1)),INDIRECT(ADDRESS(INT((S-1)/4)*9+7,MOD(S-1,4)*4+3)&":"&ADDRESS(INT((S-1)/4)*9+11,MOD(S-1,4)*4+3)),0),) -> #N/A | K55: 2 | M55: 1.16 | N55: =OFFSET(INDIRECT(ADDRESS(INT((S-1)/4)*9+6,MOD(S-1,4)*4+2)),MATCH(VALUE(LEFT(M55,1)),INDIRECT(ADDRESS(INT((S-1)/4)*9+7,MOD(S-1,4)*4+3)&":"&ADDRESS(INT((S-1)/4)*9+11,MOD(S-1,4)*4+3)),0),) -> #N/A | O55: 1
A56: 2.12 | B56: =OFFSET(INDIRECT(ADDRESS(INT((S-1)/4)*9+6,MOD(S-1,4)*4+2)),MATCH(VALUE(LEFT(A56,1)),INDIRECT(ADDRESS(INT((S-1)/4)*9+7,MOD(S-1,4)*4+3)&":"&ADDRESS(INT((S-1)/4)*9+11,MOD(S-1,4)*4+3)),0),) -> #N/A | C56: 1 | E56: 2.10 | F56: =OFFSET(INDIRECT(ADDRESS(INT((S-1)/4)*9+6,MOD(S-1,4)*4+2)),MATCH(VALUE(LEFT(E56,1)),INDIRECT(ADDRESS(INT((S-1)/4)*9+7,MOD(S-1,4)*4+3)&":"&ADDRESS(INT((S-1)/4)*9+11,MOD(S-1,4)*4+3)),0),) -> #N/A | G56: 2 | I56: 2.16 | J56: =OFFSET(INDIRECT(ADDRESS(INT((S-1)/4)*9+6,MOD(S-1,4)*4+2)),MATCH(VALUE(LEFT(I56,1)),INDIRECT(ADDRESS(INT((S-1)/4)*9+7,MOD(S-1,4)*4+3)&":"&ADDRESS(INT((S-1)/4)*9+11,MOD(S-1,4)*4+3)),0),) -> #N/A | K56: 3 | M56: 2.14 | N56: =OFFSET(INDIRECT(ADDRESS(INT((S-1)/4)*9+6,MOD(S-1,4)*4+2)),MATCH(VALUE(LEFT(M56,1)),INDIRECT(ADDRESS(INT((S-1)/4)*9+7,MOD(S-1,4)*4+3)&":"&ADDRESS(INT((S-1)/4)*9+11,MOD(S-1,4)*4+3)),0),) -> #N/A | O56: 4
A59: Tour 3 1/2 FINALES
A61: série 25 | E61: série 26 | I61: série 27 | M61: série 28
A62: seed | B62: noms prénoms | C62: Clt | E62: seed | F62: noms prénoms | G62: Clt | I62: seed | J62: noms prénoms | K62: Clt | M62: seed | N62: noms prénoms | O62: Clt
A63: 1.17 | B63: =OFFSET(INDIRECT(ADDRESS((INT((S-1)/4)+1)*8+4,MOD(S-1,4)*4+2)),MATCH(VALUE(LEFT(A63,1)),INDIRECT(ADDRESS((INT((S-1)/4)+1)*8+5,MOD(S-1,4)*4+3)&":"&ADDRESS((INT((S-1)/4)+1)*8+8,MOD(S-1,4)*4+3)),0),) -> d | C63: 1 | E63: 1.19 | F63: =OFFSET(INDIRECT(ADDRESS((INT((S-1)/4)+1)*8+4,MOD(S-1,4)*4+2)),MATCH(VALUE(LEFT(E63,1)),INDIRECT(ADDRESS((INT((S-1)/4)+1)*8+5,MOD(S-1,4)*4+3)&":"&ADDRESS((INT((S-1)/4)+1)*8+8,MOD(S-1,4)*4+3)),0),) -> x | G63: 2 | I63: 1.21 | J63: =OFFSET(INDIRECT(ADDRESS((INT((S-1)/4)+1)*8+4,MOD(S-1,4)*4+2)),MATCH(VALUE(LEFT(I63,1)),INDIRECT(ADDRESS((INT((S-1)/4)+1)*8+5,MOD(S-1,4)*4+3)&":"&ADDRESS((INT((S-1)/4)+1)*8+8,MOD(S-1,4)*4+3)),0),) -> #N/A | M63: 1.23 | N63: =OFFSET(INDIRECT(ADDRESS((INT((S-1)/4)+1)*8+4,MOD(S-1,4)*4+2)),MATCH(VALUE(LEFT(M63,1)),INDIRECT(ADDRESS((INT((S-1)/4)+1)*8+5,MOD(S-1,4)*4+3)&":"&ADDRESS((INT((S-1)/4)+1)*8+8,MOD(S-1,4)*4+3)),0),) -> #N/A
A64: 2.19 | B64: =OFFSET(INDIRECT(ADDRESS((INT((S-1)/4)+1)*8+4,MOD(S-1,4)*4+2)),MATCH(VALUE(LEFT(A64,1)),INDIRECT(ADDRESS((INT((S-1)/4)+1)*8+5,MOD(S-1,4)*4+3)&":"&ADDRESS((INT((S-1)/4)+1)*8+8,MOD(S-1,4)*4+3)),0),) -> u | C64: 4 | E64: 2.17 | F64: =OFFSET(INDIRECT(ADDRESS((INT((S-1)/4)+1)*8+4,MOD(S-1,4)*4+2)),MATCH(VALUE(LEFT(E64,1)),INDIRECT(ADDRESS((INT((S-1)/4)+1)*8+5,MOD(S-1,4)*4+3)&":"&ADDRESS((INT((S-1)/4)+1)*8+8,MOD(S-1,4)*4+3)),0),) -> j | G64: 3 | I64: 2.23 | J64: =OFFSET(INDIRECT(ADDRESS((INT((S-1)/4)+1)*8+4,MOD(S-1,4)*4+2)),MATCH(VALUE(LEFT(I64,1)),INDIRECT(ADDRESS((INT((S-1)/4)+1)*8+5,MOD(S-1,4)*4+3)&":"&ADDRESS((INT((S-1)/4)+1)*8+8,MOD(S-1,4)*4+3)),0),) -> #N/A | M64: 2.21 | N64: =OFFSET(INDIRECT(ADDRESS((INT((S-1)/4)+1)*8+4,MOD(S-1,4)*4+2)),MATCH(VALUE(LEFT(M64,1)),INDIRECT(ADDRESS((INT((S-1)/4)+1)*8+5,MOD(S-1,4)*4+3)&":"&ADDRESS((INT((S-1)/4)+1)*8+8,MOD(S-1,4)*4+3)),0),) -> #N/A
A65: 1.18 | B65: =OFFSET(INDIRECT(ADDRESS((INT((S-1)/4)+1)*8+4,MOD(S-1,4)*4+2)),MATCH(VALUE(LEFT(A65,1)),INDIRECT(ADDRESS((INT((S-1)/4)+1)*8+5,MOD(S-1,4)*4+3)&":"&ADDRESS((INT((S-1)/4)+1)*8+8,MOD(S-1,4)*4+3)),0),) -> e | C65: 2 | E65: 1.20 | F65: =OFFSET(INDIRECT(ADDRESS((INT((S-1)/4)+1)*8+4,MOD(S-1,4)*4+2)),MATCH(VALUE(LEFT(E65,1)),INDIRECT(ADDRESS((INT((S-1)/4)+1)*8+5,MOD(S-1,4)*4+3)&":"&ADDRESS((INT((S-1)/4)+1)*8+8,MOD(S-1,4)*4+3)),0),) -> t | G65: 4 | I65: 1.22 | J65: =OFFSET(INDIRECT(ADDRESS((INT((S-1)/4)+1)*8+4,MOD(S-1,4)*4+2)),MATCH(VALUE(LEFT(I65,1)),INDIRECT(ADDRESS((INT((S-1)/4)+1)*8+5,MOD(S-1,4)*4+3)&":"&ADDRESS((INT((S-1)/4)+1)*8+8,MOD(S-1,4)*4+3)),0),) -> #N/A | M65: 1.24 | N65: =OFFSET(INDIRECT(ADDRESS((INT((S-1)/4)+1)*8+4,MOD(S-1,4)*4+2)),MATCH(VALUE(LEFT(M65,1)),INDIRECT(ADDRESS((INT((S-1)/4)+1)*8+5,MOD(S-1,4)*4+3)&":"&ADDRESS((INT((S-1)/4)+1)*8+8,MOD(S-1,4)*4+3)),0),) -> #N/A
A66: 2.20 | B66: =OFFSET(INDIRECT(ADDRESS((INT((S-1)/4)+1)*8+4,MOD(S-1,4)*4+2)),MATCH(VALUE(LEFT(A66,1)),INDIRECT(ADDRESS((INT((S-1)/4)+1)*8+5,MOD(S-1,4)*4+3)&":"&ADDRESS((INT((S-1)/4)+1)*8+8,MOD(S-1,4)*4+3)),0),) -> ac | C66: 3 | E66: 2.18 | F66: =OFFSET(INDIRECT(ADDRESS((INT((S-1)/4)+1)*8+4,MOD(S-1,4)*4+2)),MATCH(VALUE(LEFT(E66,1)),INDIRECT(ADDRESS((INT((S-1)/4)+1)*8+5,MOD(S-1,4)*4+3)&":"&ADDRESS((INT((S-1)/4)+1)*8+8,MOD(S-1,4)*4+3)),0),) -> f | G66: 1 | I66: 2.24 | J66: =OFFSET(INDIRECT(ADDRESS((INT((S-1)/4)+1)*8+4,MOD(S-1,4)*4+2)),MATCH(VALUE(LEFT(I66,1)),INDIRECT(ADDRESS((INT((S-1)/4)+1)*8+5,MOD(S-1,4)*4+3)&":"&ADDRESS((INT((S-1)/4)+1)*8+8,MOD(S-1,4)*4+3)),0),) -> #N/A | M66: 2.22 | N66: =OFFSET(INDIRECT(ADDRESS((INT((S-1)/4)+1)*8+4,MOD(S-1,4)*4+2)),MATCH(VALUE(LEFT(M66,1)),INDIRECT(ADDRESS((INT((S-1)/4)+1)*8+5,MOD(S-1,4)*4+3)&":"&ADDRESS((INT((S-1)/4)+1)*8+8,MOD(S-1,4)*4+3)),0),) -> #N/A
A69: Tour 4 FINALE
A71: série 29 | E71: série 30
A72: seed | B72: noms prénoms | C72: Clt | E72: seed | F72: noms prénoms | G72: Clt
A73: 1.25 | B73: =OFFSET(INDIRECT(ADDRESS(INT((S-1)/4)*10+2,MOD(S-1,4)*4+2)),MATCH(VALUE(LEFT(A73,1)),INDIRECT(ADDRESS(INT((S-1)/4)*10+3,MOD(S-1,4)*4+3)&":"&ADDRESS(INT((S-1)/4)*10+6,MOD(S-1,4)*4+3)),0),) -> d | C73: 3 | E73: 1.27 | F73: =OFFSET(INDIRECT(ADDRESS(INT((S-1)/4)*10+2,MOD(S-1,4)*4+2)),MATCH(VALUE(LEFT(E73,1)),INDIRECT(ADDRESS(INT((S-1)/4)*10+3,MOD(S-1,4)*4+3)&":"&ADDRESS(INT((S-1)/4)*10+6,MOD(S-1,4)*4+3)),0),) -> #N/A
A74: 2.25 | B74: =OFFSET(INDIRECT(ADDRESS(INT((S-1)/4)*10+2,MOD(S-1,4)*4+2)),MATCH(VALUE(LEFT(A74,1)),INDIRECT(ADDRESS(INT((S-1)/4)*10+3,MOD(S-1,4)*4+3)&":"&ADDRESS(INT((S-1)/4)*10+6,MOD(S-1,4)*4+3)),0),) -> e | C74: 1 | E74: 2.28 | F74: =OFFSET(INDIRECT(ADDRESS(INT((S-1)/4)*10+2,MOD(S-1,4)*4+2)),MATCH(VALUE(LEFT(E74,1)),INDIRECT(ADDRESS(INT((S-1)/4)*10+3,MOD(S-1,4)*4+3)&":"&ADDRESS(INT((S-1)/4)*10+6,MOD(S-1,4)*4+3)),0),) -> #N/A
A75: 1.26 | B75: =OFFSET(INDIRECT(ADDRESS(INT((S-1)/4)*10+2,MOD(S-1,4)*4+2)),MATCH(VALUE(LEFT(A75,1)),INDIRECT(ADDRESS(INT((S-1)/4)*10+3,MOD(S-1,4)*4+3)&":"&ADDRESS(INT((S-1)/4)*10+6,MOD(S-1,4)*4+3)),0),) -> f | C75: 4 | E75: 1.28 | F75: =OFFSET(INDIRECT(ADDRESS(INT((S-1)/4)*10+2,MOD(S-1,4)*4+2)),MATCH(VALUE(LEFT(E75,1)),INDIRECT(ADDRESS(INT((S-1)/4)*10+3,MOD(S-1,4)*4+3)&":"&ADDRESS(INT((S-1)/4)*10+6,MOD(S-1,4)*4+3)),0),) -> #N/A
A76: 2.26 | B76: =OFFSET(INDIRECT(ADDRESS(INT((S-1)/4)*10+2,MOD(S-1,4)*4+2)),MATCH(VALUE(LEFT(A76,1)),INDIRECT(ADDRESS(INT((S-1)/4)*10+3,MOD(S-1,4)*4+3)&":"&ADDRESS(INT((S-1)/4)*10+6,MOD(S-1,4)*4+3)),0),) -> x | C76: 2 | E76: 2.27 | F76: =OFFSET(INDIRECT(ADDRESS(INT((S-1)/4)*10+2,MOD(S-1,4)*4+2)),MATCH(VALUE(LEFT(E76,1)),INDIRECT(ADDRESS(INT((S-1)/4)*10+3,MOD(S-1,4)*4+3)&":"&ADDRESS(INT((S-1)/4)*10+6,MOD(S-1,4)*4+3)),0),) -> #N/A
A79: Tour 5 FINALES
A81: série 31
A82: seed | B82: noms prénoms | C82: Clt
A83: 1.29 | B83: =OFFSET(INDIRECT(ADDRESS(INT((S-1)/4)*10+2,MOD(S-1,4)*4+2)),MATCH(VALUE(LEFT(A83,1)),INDIRECT(ADDRESS(INT((S-1)/4)*10+3,MOD(S-1,4)*4+3)&":"&ADDRESS(INT((S-1)/4)*10+6,MOD(S-1,4)*4+3)),0),) -> e | C83: 3
A84: 2.29 | B84: =OFFSET(INDIRECT(ADDRESS(INT((S-1)/4)*10+2,MOD(S-1,4)*4+2)),MATCH(VALUE(LEFT(A84,1)),INDIRECT(ADDRESS(INT((S-1)/4)*10+3,MOD(S-1,4)*4+3)&":"&ADDRESS(INT((S-1)/4)*10+6,MOD(S-1,4)*4+3)),0),) -> x | C84: 2
A85: 1.30 | B85: =OFFSET(INDIRECT(ADDRESS(INT((S-1)/4)*10+2,MOD(S-1,4)*4+2)),MATCH(VALUE(LEFT(A85,1)),INDIRECT(ADDRESS(INT((S-1)/4)*10+3,MOD(S-1,4)*4+3)&":"&ADDRESS(INT((S-1)/4)*10+6,MOD(S-1,4)*4+3)),0),) -> #N/A | C85: 1
A86: 2.30 | B86: =OFFSET(INDIRECT(ADDRESS(INT((S-1)/4)*10+2,MOD(S-1,4)*4+2)),MATCH(VALUE(LEFT(A86,1)),INDIRECT(ADDRESS(INT((S-1)/4)*10+3,MOD(S-1,4)*4+3)&":"&ADDRESS(INT((S-1)/4)*10+6,MOD(S-1,4)*4+3)),0),) -> #N/A | C86: 4

Sheet Resultats
B1: ='Seeding 40'!B2 -> BUD BUD CONTEST
B2: Discipline | F2: Catégorie | J2: Public
A3: tour 1 | B3: ='Seeding 40'!B5 -> SURF | F3: ='Seeding 40'!C5 -> OPEN | J3: ='Seeding 40'!D5 -> HOMMES
A5: série 1 | E5: série 2 | I5: série 3 | M5: série 4
A6: Clt | B6: noms prénoms | E6: Clt | F6: noms prénoms | I6: Clt | J6: noms prénoms | M6: Clt | N6: noms prénoms
A7: 1 | B7: =IFERROR(OFFSET(INDIRECT(ADDRESS(INT((ROW()-3)/9)*9+6,COLUMN(),1,,"series")),MATCH(A7,INDIRECT(ADDRESS(INT((ROW()-3)/9)*9+7,COLUMN()+1,1,,"series")&":"&ADDRESS(INT((ROW()-3)/9)*9+11,COLUMN()+1,1)),0),),"") -> d | E7: 1 | F7: =IFERROR(OFFSET(INDIRECT(ADDRESS(INT((ROW()-3)/9)*9+6,COLUMN(),1,,"series")),MATCH(E7,INDIRECT(ADDRESS(INT((ROW()-3)/9)*9+7,COLUMN()+1,1,,"series")&":"&ADDRESS(INT((ROW()-3)/9)*9+11,COLUMN()+1,1)),0),),"") -> j | I7: 1 | J7: =IFERROR(OFFSET(INDIRECT(ADDRESS(INT((ROW()-3)/9)*9+6,COLUMN(),1,,"series")),MATCH(I7,INDIRECT(ADDRESS(INT((ROW()-3)/9)*9+7,COLUMN()+1,1,,"series")&":"&ADDRESS(INT((ROW()-3)/9)*9+11,COLUMN()+1,1)),0),),"") -> b | M7: 1 | N7: =IFERROR(OFFSET(INDIRECT(ADDRESS(INT((ROW()-3)/9)*9+6,COLUMN(),1,,"series")),MATCH(M7,INDIRECT(ADDRESS(INT((ROW()-3)/9)*9+7,COLUMN()+1,1,,"series")&":"&ADDRESS(INT((ROW()-3)/9)*9+11,COLUMN()+1,1)),0),),"") -> al
A8: 2 | B8: =IFERROR(OFFSET(INDIRECT(ADDRESS(INT((ROW()-3)/9)*9+6,COLUMN(),1,,"series")),MATCH(A8,INDIRECT(ADDRESS(INT((ROW()-3)/9)*9+7,COLUMN()+1,1,,"series")&":"&ADDRESS(INT((ROW()-3)/9)*9+11,COLUMN()+1,1)),0),),"") -> f | E8: 2 | F8: =IFERROR(OFFSET(INDIRECT(ADDRESS(INT((ROW()-3)/9)*9+6,COLUMN(),1,,"series")),MATCH(E8,INDIRECT(ADDRESS(INT((ROW()-3)/9)*9+7,COLUMN()+1,1,,"series")&":"&ADDRESS(INT((ROW()-3)/9)*9+11,COLUMN()+1,1)),0),),"") -> e | I8: 2 | J8: =IFERROR(OFFSET(INDIRECT(ADDRESS(INT((ROW()-3)/9)*9+6,COLUMN(),1,,"series")),MATCH(I8,INDIRECT(ADDRESS(INT((ROW()-3)/9)*9+7,COLUMN()+1,1,,"series")&":"&ADDRESS(INT((ROW()-3)/9)*9+11,COLUMN()+1,1)),0),),"") -> h | M8: 2 | N8: =IFERROR(OFFSET(INDIRECT(ADDRESS(INT((ROW()-3)/9)*9+6,COLUMN(),1,,"series")),MATCH(M8,INDIRECT(ADDRESS(INT((ROW()-3)/9)*9+7,COLUMN()+1,1,,"series")&":"&ADDRESS(INT((ROW()-3)/9)*9+11,COLUMN()+1,1)),0),),"") -> m
A9: 3 | B9: =IFERROR(OFFSET(INDIRECT(ADDRESS(INT((ROW()-3)/9)*9+6,COLUMN(),1,,"series")),MATCH(A9,INDIRECT(ADDRESS(INT((ROW()-3)/9)*9+7,COLUMN()+1,1,,"series")&":"&ADDRESS(INT((ROW()-3)/9)*9+11,COLUMN()+1,1)),0),),"") -> i | E9: 3 | F9: =IFERROR(OFFSET(INDIRECT(ADDRESS(INT((ROW()-3)/9)*9+6,COLUMN(),1,,"series")),MATCH(E9,INDIRECT(ADDRESS(INT((ROW()-3)/9)*9+7,COLUMN()+1,1,,"series")&":"&ADDRESS(INT((ROW()-3)/9)*9+11,COLUMN()+1,1)),0),),"") -> c | I9: 3 | J9: =IFERROR(OFFSET(INDIRECT(ADDRESS(INT((ROW()-3)/9)*9+6,COLUMN(),1,,"series")),MATCH(I9,INDIRECT(ADDRESS(INT((ROW()-3)/9)*9+7,COLUMN()+1,1,,"series")&":"&ADDRESS(INT((ROW()-3)/9)*9+11,COLUMN()+1,1)),0),),"") -> k | M9: 3 | N9: =IFERROR(OFFSET(INDIRECT(ADDRESS(INT((ROW()-3)/9)*9+6,COLUMN(),1,,"series")),MATCH(M9,INDIRECT(ADDRESS(INT((ROW()-3)/9)*9+7,COLUMN()+1,1,,"series")&":"&ADDRESS(INT((ROW()-3)/9)*9+11,COLUMN()+1,1)),0),),"") -> l
A10: 4 | B10: =IFERROR(OFFSET(INDIRECT(ADDRESS(INT((ROW()-3)/9)*9+6,COLUMN(),1,,"series")),MATCH(A10,INDIRECT(ADDRESS(INT((ROW()-3)/9)*9+7,COLUMN()+1,1,,"series")&":"&ADDRESS(INT((ROW()-3)/9)*9+11,COLUMN()+1,1)),0),),"") -> p | E10: 4 | F10: =IFERROR(OFFSET(INDIRECT(ADDRESS(INT((ROW()-3)/9)*9+6,COLUMN(),1,,"series")),MATCH(E10,INDIRECT(ADDRESS(INT((ROW()-3)/9)*9+7,COLUMN()+1,1,,"series")&":"&ADDRESS(INT((ROW()-3)/9)*9+11,COLUMN()+1,1)),0),),"") -> an | I10: 4 | J10: =IFERROR(OFFSET(INDIRECT(ADDRESS(INT((ROW()-3)/9)*9+6,COLUMN(),1,,"series")),MATCH(I10,INDIRECT(ADDRESS(INT((ROW()-3)/9)*9+7,COLUMN()+1,1,,"series")&":"&ADDRESS(INT((ROW()-3)/9)*9+11,COLUMN()+1,1)),0),),"") -> n | M10: 4 | N10: =IFERROR(OFFSET(INDIRECT(ADDRESS(INT((ROW()-3)/9)*9+6,COLUMN(),1,,"series")),MATCH(M10,INDIRECT(ADDRESS(INT((ROW()-3)/9)*9+7,COLUMN()+1,1,,"series")&":"&ADDRESS(INT((ROW()-3)/9)*9+11,COLUMN()+1,1)),0),),"") -> g
A11: 5 | B11: =IFERROR(OFFSET(INDIRECT(ADDRESS(INT((ROW()-3)/9)*9+6,COLUMN(),1,,"series")),MATCH(A11,INDIRECT(ADDRESS(INT((ROW()-3)/9)*9+7,COLUMN()+1,1,,"series")&":"&ADDRESS(INT((ROW()-3)/9)*9+11,COLUMN()+1,1)),0),),"") -> ao | E11: 5 | F11: =IFERROR(OFFSET(INDIRECT(ADDRESS(INT((ROW()-3)/9)*9+6,COLUMN(),1,,"series")),MATCH(E11,INDIRECT(ADDRESS(INT((ROW()-3)/9)*9+7,COLUMN()+1,1,,"series")&":"&ADDRESS(INT((ROW()-3)/9)*9+11,COLUMN()+1,1)),0),),"") -> o | I11: 5 | J11: =IFERROR(OFFSET(INDIRECT(ADDRESS(INT((ROW()-3)/9)*9+6,COLUMN(),1,,"series")),MATCH(I11,INDIRECT(ADDRESS(INT((ROW()-3)/9)*9+7,COLUMN()+1,1,,"series")&":"&ADDRESS(INT((ROW()-3)/9)*9+11,COLUMN()+1,1)),0),),"") -> am | M11: 5 | N11: =IFERROR(OFFSET(INDIRECT(ADDRESS(INT((ROW()-3)/9)*9+6,COLUMN(),1,,"series")),MATCH(M11,INDIRECT(ADDRESS(INT((ROW()-3)/9)*9+7,COLUMN()+1,1,,"series")&":"&ADDRESS(INT((ROW()-3)/9)*9+11,COLUMN()+1,1)),0),),"") -> a
A14: série 5 | E14: série 6 | I14: série 7 | M14: série 8
A15: Clt | B15: noms prénoms | E15: Clt | F15: noms prénoms | I15: Clt | J15: noms prénoms | M15: Clt | N15: noms prénoms
A16: 1 | B16: =IFERROR(OFFSET(INDIRECT(ADDRESS(INT((ROW()-3)/9)*9+6,COLUMN(),1,,"series")),MATCH(A16,INDIRECT(ADDRESS(INT((ROW()-3)/9)*9+7,COLUMN()+1,1,,"series")&":"&ADDRESS(INT((ROW()-3)/9)*9+11,COLUMN()+1,1)),0),),"") -> u | E16: 1 | F16: =IFERROR(OFFSET(INDIRECT(ADDRESS(INT((ROW()-3)/9)*9+6,COLUMN(),1,,"series")),MATCH(E16,INDIRECT(ADDRESS(INT((ROW()-3)/9)*9+7,COLUMN()+1,1,,"series")&":"&ADDRESS(INT((ROW()-3)/9)*9+11,COLUMN()+1,1)),0),),"") -> aj | I16: 1 | J16: =IFERROR(OFFSET(INDIRECT(ADDRESS(INT((ROW()-3)/9)*9+6,COLUMN(),1,,"series")),MATCH(I16,INDIRECT(ADDRESS(INT((ROW()-3)/9)*9+7,COLUMN()+1,1,,"series")&":"&ADDRESS(INT((ROW()-3)/9)*9+11,COLUMN()+1,1)),0),),"") -> y | M16: 1 | N16: =IFERROR(OFFSET(INDIRECT(ADDRESS(INT((ROW()-3)/9)*9+6,COLUMN(),1,,"series")),MATCH(M16,INDIRECT(ADDRESS(INT((ROW()-3)/9)*9+7,COLUMN()+1,1,,"series")&":"&ADDRESS(INT((ROW()-3)/9)*9+11,COLUMN()+1,1)),0),),"") -> ac
A17: 2 | B17: =IFERROR(OFFSET(INDIRECT(ADDRESS(INT((ROW()-3)/9)*9+6,COLUMN(),1,,"series")),MATCH(A17,INDIRECT(ADDRESS(INT((ROW()-3)/9)*9+7,COLUMN()+1,1,,"series")&":"&ADDRESS(INT((ROW()-3)/9)*9+11,COLUMN()+1,1)),0),),"") -> w | E17: 2 | F17: =IFERROR(OFFSET(INDIRECT(ADDRESS(INT((ROW()-3)/9)*9+6,COLUMN(),1,,"series")),MATCH(E17,INDIRECT(ADDRESS(INT((ROW()-3)/9)*9+7,COLUMN()+1,1,,"series")&":"&ADDRESS(INT((ROW()-3)/9)*9+11,COLUMN()+1,1)),0),),"") -> t | I17: 2 | J17: =IFERROR(OFFSET(INDIRECT(ADDRESS(INT((ROW()-3)/9)*9+6,COLUMN(),1,,"series")),MATCH(I17,INDIRECT(ADDRESS(INT((ROW()-3)/9)*9+7,COLUMN()+1,1,,"series")&":"&ADDRESS(INT((ROW()-3)/9)*9+11,COLUMN()+1,1)),0),),"") -> ab | M17: 2 | N17: =IFERROR(OFFSET(INDIRECT(ADDRESS(INT((ROW()-3)/9)*9+6,COLUMN(),1,,"series")),MATCH(M17,INDIRECT(ADDRESS(INT((ROW()-3)/9)*9+7,COLUMN()+1,1,,"series")&":"&ADDRESS(INT((ROW()-3)/9)*9+11,COLUMN()+1,1)),0),),"") -> x
A18: 3 | B18: =IFERROR(OFFSET(INDIRECT(ADDRESS(INT((ROW()-3)/9)*9+6,COLUMN(),1,,"series")),MATCH(A18,INDIRECT(ADDRESS(INT((ROW()-3)/9)*9+7,COLUMN()+1,1,,"series")&":"&ADDRESS(INT((ROW()-3)/9)*9+11,COLUMN()+1,1)),0),),"") -> z | E18: 3 | F18: =IFERROR(OFFSET(INDIRECT(ADDRESS(INT((ROW()-3)/9)*9+6,COLUMN(),1,,"series")),MATCH(E18,INDIRECT(ADDRESS(INT((ROW()-3)/9)*9+7,COLUMN()+1,1,,"series")&":"&ADDRESS(INT((ROW()-3)/9)*9+11,COLUMN()+1,1)),0),),"") -> v | I18: 3 | J18: =IFERROR(OFFSET(INDIRECT(ADDRESS(INT((ROW()-3)/9)*9+6,COLUMN(),1,,"series")),MATCH(I18,INDIRECT(ADDRESS(INT((ROW()-3)/9)*9+7,COLUMN()+1,1,,"series")&":"&ADDRESS(INT((ROW()-3)/9)*9+11,COLUMN()+1,1)),0),),"") -> ai | M18: 3 | N18: =IFERROR(OFFSET(INDIRECT(ADDRESS(INT((ROW()-3)/9)*9+6,COLUMN(),1,,"series")),MATCH(M18,INDIRECT(ADDRESS(INT((ROW()-3)/9)*9+7,COLUMN()+1,1,,"series")&":"&ADDRESS(INT((ROW()-3)/9)*9+11,COLUMN()+1,1)),0),),"") -> ah
A19: 4 | B19: =IFERROR(OFFSET(INDIRECT(ADDRESS(INT((ROW()-3)/9)*9+6,COLUMN(),1,,"series")),MATCH(A19,INDIRECT(ADDRESS(INT((ROW()-3)/9)*9+7,COLUMN()+1,1,,"series")&":"&ADDRESS(INT((ROW()-3)/9)*9+11,COLUMN()+1,1)),0),),"") -> ag | E19: 4 | F19: =IFERROR(OFFSET(INDIRECT(ADDRESS(INT((ROW()-3)/9)*9+6,COLUMN(),1,,"series")),MATCH(E19,INDIRECT(ADDRESS(INT((ROW()-3)/9)*9+7,COLUMN()+1,1,,"series")&":"&ADDRESS(INT((ROW()-3)/9)*9+11,COLUMN()+1,1)),0),),"") -> af | I19: 4 | J19: =IFERROR(OFFSET(INDIRECT(ADDRESS(INT((ROW()-3)/9)*9+6,COLUMN(),1,,"series")),MATCH(I19,INDIRECT(ADDRESS(INT((ROW()-3)/9)*9+7,COLUMN()+1,1,,"series")&":"&ADDRESS(INT((ROW()-3)/9)*9+11,COLUMN()+1,1)),0),),"") -> ae | M19: 4 | N19: =IFERROR(OFFSET(INDIRECT(ADDRESS(INT((ROW()-3)/9)*9+6,COLUMN(),1,,"series")),MATCH(M19,INDIRECT(ADDRESS(INT((ROW()-3)/9)*9+7,COLUMN()+1,1,,"series")&":"&ADDRESS(INT((ROW()-3)/9)*9+11,COLUMN()+1,1)),0),),"") -> r
A20: 5 | B20: =IFERROR(OFFSET(INDIRECT(ADDRESS(INT((ROW()-3)/9)*9+6,COLUMN(),1,,"series")),MATCH(A20,INDIRECT(ADDRESS(INT((ROW()-3)/9)*9+7,COLUMN()+1,1,,"series")&":"&ADDRESS(INT((ROW()-3)/9)*9+11,COLUMN()+1,1)),0),),"") -> ak | E20: 5 | F20: =IFERROR(OFFSET(INDIRECT(ADDRESS(INT((ROW()-3)/9)*9+6,COLUMN(),1,,"series")),MATCH(E20,INDIRECT(ADDRESS(INT((ROW()-3)/9)*9+7,COLUMN()+1,1,,"series")&":"&ADDRESS(INT((ROW()-3)/9)*9+11,COLUMN()+1,1)),0),),"") -> aa | I20: 5 | J20: =IFERROR(OFFSET(INDIRECT(ADDRESS(INT((ROW()-3)/9)*9+6,COLUMN(),1,,"series")),MATCH(I20,INDIRECT(ADDRESS(INT((ROW()-3)/9)*9+7,COLUMN()+1,1,,"series")&":"&ADDRESS(INT((ROW()-3)/9)*9+11,COLUMN()+1,1)),0),),"") -> s | M20: 5 | N20: =IFERROR(OFFSET(INDIRECT(ADDRESS(INT((ROW()-3)/9)*9+6,COLUMN(),1,,"series")),MATCH(M20,INDIRECT(ADDRESS(INT((ROW()-3)/9)*9+7,COLUMN()+1,1,,"series")&":"&ADDRESS(INT((ROW()-3)/9)*9+11,COLUMN()+1,1)),0),),"") -> ad
A23: série 9 | E23: série 10 | I23: série 11 | M23: série 12
A24: Clt | B24: noms prénoms | E24: Clt | F24: noms prénoms | I24: Clt | J24: noms prénoms | M24: Clt | N24: noms prénoms
A25: 1 | B25: =IFERROR(OFFSET(INDIRECT(ADDRESS(INT((ROW()-3)/9)*9+6,COLUMN(),1,,"series")),MATCH(A25,INDIRECT(ADDRESS(INT((ROW()-3)/9)*9+7,COLUMN()+1,1,,"series")&":"&ADDRESS(INT((ROW()-3)/9)*9+11,COLUMN()+1,1)),0),),"") | E25: 1 | F25: =IFERROR(OFFSET(INDIRECT(ADDRESS(INT((ROW()-3)/9)*9+6,COLUMN(),1,,"series")),MATCH(E25,INDIRECT(ADDRESS(INT((ROW()-3)/9)*9+7,COLUMN()+1,1,,"series")&":"&ADDRESS(INT((ROW()-3)/9)*9+11,COLUMN()+1,1)),0),),"") | I25: 1 | J25: =IFERROR(OFFSET(INDIRECT(ADDRESS(INT((ROW()-3)/9)*9+6,COLUMN(),1,,"series")),MATCH(I25,INDIRECT(ADDRESS(INT((ROW()-3)/9)*9+7,COLUMN()+1,1,,"series")&":"&ADDRESS(INT((ROW()-3)/9)*9+11,COLUMN()+1,1)),0),),"") | M25: 1 | N25: =IFERROR(OFFSET(INDIRECT(ADDRESS(INT((ROW()-3)/9)*9+6,COLUMN(),1,,"series")),MATCH(M25,INDIRECT(ADDRESS(INT((ROW()-3)/9)*9+7,COLUMN()+1,1,,"series")&":"&ADDRESS(INT((ROW()-3)/9)*9+11,COLUMN()+1,1)),0),),"")
A26: 2 | B26: =IFERROR(OFFSET(INDIRECT(ADDRESS(INT((ROW()-3)/9)*9+6,COLUMN(),1,,"series")),MATCH(A26,INDIRECT(ADDRESS(INT((ROW()-3)/9)*9+7,COLUMN()+1,1,,"series")&":"&ADDRESS(INT((ROW()-3)/9)*9+11,COLUMN()+1,1)),0),),"") | E26: 2 | F26: =IFERROR(OFFSET(INDIRECT(ADDRESS(INT((ROW()-3)/9)*9+6,COLUMN(),1,,"series")),MATCH(E26,INDIRECT(ADDRESS(INT((ROW()-3)/9)*9+7,COLUMN()+1,1,,"series")&":"&ADDRESS(INT((ROW()-3)/9)*9+11,COLUMN()+1,1)),0),),"") | I26: 2 | J26: =IFERROR(OFFSET(INDIRECT(ADDRESS(INT((ROW()-3)/9)*9+6,COLUMN(),1,,"series")),MATCH(I26,INDIRECT(ADDRESS(INT((ROW()-3)/9)*9+7,COLUMN()+1,1,,"series")&":"&ADDRESS(INT((ROW()-3)/9)*9+11,COLUMN()+1,1)),0),),"") | M26: 2 | N26: =IFERROR(OFFSET(INDIRECT(ADDRESS(INT((ROW()-3)/9)*9+6,COLUMN(),1,,"series")),MATCH(M26,INDIRECT(ADDRESS(INT((ROW()-3)/9)*9+7,COLUMN()+1,1,,"series")&":"&ADDRESS(INT((ROW()-3)/9)*9+11,COLUMN()+1,1)),0),),"")
A27: 3 | B27: =IFERROR(OFFSET(INDIRECT(ADDRESS(INT((ROW()-3)/9)*9+6,COLUMN(),1,,"series")),MATCH(A27,INDIRECT(ADDRESS(INT((ROW()-3)/9)*9+7,COLUMN()+1,1,,"series")&":"&ADDRESS(INT((ROW()-3)/9)*9+11,COLUMN()+1,1)),0),),"") | E27: 3 | F27: =IFERROR(OFFSET(INDIRECT(ADDRESS(INT((ROW()-3)/9)*9+6,COLUMN(),1,,"series")),MATCH(E27,INDIRECT(ADDRESS(INT((ROW()-3)/9)*9+7,COLUMN()+1,1,,"series")&":"&ADDRESS(INT((ROW()-3)/9)*9+11,COLUMN()+1,1)),0),),"") | I27: 3 | J27: =IFERROR(OFFSET(INDIRECT(ADDRESS(INT((ROW()-3)/9)*9+6,COLUMN(),1,,"series")),MATCH(I27,INDIRECT(ADDRESS(INT((ROW()-3)/9)*9+7,COLUMN()+1,1,,"series")&":"&ADDRESS(INT((ROW()-3)/9)*9+11,COLUMN()+1,1)),0),),"") | M27: 3 | N27: =IFERROR(OFFSET(INDIRECT(ADDRESS(INT((ROW()-3)/9)*9+6,COLUMN(),1,,"series")),MATCH(M27,INDIRECT(ADDRESS(INT((ROW()-3)/9)*9+7,COLUMN()+1,1,,"series")&":"&ADDRESS(INT((ROW()-3)/9)*9+11,COLUMN()+1,1)),0),),"")
A28: 4 | B28: =IFERROR(OFFSET(INDIRECT(ADDRESS(INT((ROW()-3)/9)*9+6,COLUMN(),1,,"series")),MATCH(A28,INDIRECT(ADDRESS(INT((ROW()-3)/9)*9+7,COLUMN()+1,1,,"series")&":"&ADDRESS(INT((ROW()-3)/9)*9+11,COLUMN()+1,1)),0),),"") | E28: 4 | F28: =IFERROR(OFFSET(INDIRECT(ADDRESS(INT((ROW()-3)/9)*9+6,COLUMN(),1,,"series")),MATCH(E28,INDIRECT(ADDRESS(INT((ROW()-3)/9)*9+7,COLUMN()+1,1,,"series")&":"&ADDRESS(INT((ROW()-3)/9)*9+11,COLUMN()+1,1)),0),),"") | I28: 4 | J28: =IFERROR(OFFSET(INDIRECT(ADDRESS(INT((ROW()-3)/9)*9+6,COLUMN(),1,,"series")),MATCH(I28,INDIRECT(ADDRESS(INT((ROW()-3)/9)*9+7,COLUMN()+1,1,,"series")&":"&ADDRESS(INT((ROW()-3)/9)*9+11,COLUMN()+1,1)),0),),"") | M28: 4 | N28: =IFERROR(OFFSET(INDIRECT(ADDRESS(INT((ROW()-3)/9)*9+6,COLUMN(),1,,"series")),MATCH(M28,INDIRECT(ADDRESS(INT((ROW()-3)/9)*9+7,COLUMN()+1,1,,"series")&":"&ADDRESS(INT((ROW()-3)/9)*9+11,COLUMN()+1,1)),0),),"")
A29: 5 | B29: =IFERROR(OFFSET(INDIRECT(ADDRESS(INT((ROW()-3)/9)*9+6,COLUMN(),1,,"series")),MATCH(A29,INDIRECT(ADDRESS(INT((ROW()-3)/9)*9+7,COLUMN()+1,1,,"series")&":"&ADDRESS(INT((ROW()-3)/9)*9+11,COLUMN()+1,1)),0),),"") | E29: 5 | F29: =IFERROR(OFFSET(INDIRECT(ADDRESS(INT((ROW()-3)/9)*9+6,COLUMN(),1,,"series")),MATCH(E29,INDIRECT(ADDRESS(INT((ROW()-3)/9)*9+7,COLUMN()+1,1,,"series")&":"&ADDRESS(INT((ROW()-3)/9)*9+11,COLUMN()+1,1)),0),),"") | I29: 5 | J29: =IFERROR(OFFSET(INDIRECT(ADDRESS(INT((ROW()-3)/9)*9+6,COLUMN(),1,,"series")),MATCH(I29,INDIRECT(ADDRESS(INT((ROW()-3)/9)*9+7,COLUMN()+1,1,,"series")&":"&ADDRESS(INT((ROW()-3)/9)*9+11,COLUMN()+1,1)),0),),"") | M29: 5 | N29: =IFERROR(OFFSET(INDIRECT(ADDRESS(INT((ROW()-3)/9)*9+6,COLUMN(),1,,"series")),MATCH(M29,INDIRECT(ADDRESS(INT((ROW()-3)/9)*9+7,COLUMN()+1,1,,"series")&":"&ADDRESS(INT((ROW()-3)/9)*9+11,COLUMN()+1,1)),0),),"")
A32: série 13 | E32: série 14 | I32: série 15 | M32: série 16
A33: Clt | B33: noms prénoms | E33: Clt | F33: noms prénoms | I33: Clt | J33: noms prénoms | M33: Clt | N33: noms prénoms
A34: 1 | B34: =IFERROR(OFFSET(INDIRECT(ADDRESS(INT((ROW()-3)/9)*9+6,COLUMN(),1,,"series")),MATCH(A34,INDIRECT(ADDRESS(INT((ROW()-3)/9)*9+7,COLUMN()+1,1,,"series")&":"&ADDRESS(INT((ROW()-3)/9)*9+11,COLUMN()+1,1)),0),),"") | E34: 1 | F34: =IFERROR(OFFSET(INDIRECT(ADDRESS(INT((ROW()-3)/9)*9+6,COLUMN(),1,,"series")),MATCH(E34,INDIRECT(ADDRESS(INT((ROW()-3)/9)*9+7,COLUMN()+1,1,,"series")&":"&ADDRESS(INT((ROW()-3)/9)*9+11,COLUMN()+1,1)),0),),"") | I34: 1 | J34: =IFERROR(OFFSET(INDIRECT(ADDRESS(INT((ROW()-3)/9)*9+6,COLUMN(),1,,"series")),MATCH(I34,INDIRECT(ADDRESS(INT((ROW()-3)/9)*9+7,COLUMN()+1,1,,"series")&":"&ADDRESS(INT((ROW()-3)/9)*9+11,COLUMN()+1,1)),0),),"") | M34: 1 | N34: =IFERROR(OFFSET(INDIRECT(ADDRESS(INT((ROW()-3)/9)*9+6,COLUMN(),1,,"series")),MATCH(M34,INDIRECT(ADDRESS(INT((ROW()-3)/9)*9+7,COLUMN()+1,1,,"series")&":"&ADDRESS(INT((ROW()-3)/9)*9+11,COLUMN()+1,1)),0),),"")
A35: 2 | B35: =IFERROR(OFFSET(INDIRECT(ADDRESS(INT((ROW()-3)/9)*9+6,COLUMN(),1,,"series")),MATCH(A35,INDIRECT(ADDRESS(INT((ROW()-3)/9)*9+7,COLUMN()+1,1,,"series")&":"&ADDRESS(INT((ROW()-3)/9)*9+11,COLUMN()+1,1)),0),),"") | E35: 2 | F35: =IFERROR(OFFSET(INDIRECT(ADDRESS(INT((ROW()-3)/9)*9+6,COLUMN(),1,,"series")),MATCH(E35,INDIRECT(ADDRESS(INT((ROW()-3)/9)*9+7,COLUMN()+1,1,,"series")&":"&ADDRESS(INT((ROW()-3)/9)*9+11,COLUMN()+1,1)),0),),"") | I35: 2 | J35: =IFERROR(OFFSET(INDIRECT(ADDRESS(INT((ROW()-3)/9)*9+6,COLUMN(),1,,"series")),MATCH(I35,INDIRECT(ADDRESS(INT((ROW()-3)/9)*9+7,COLUMN()+1,1,,"series")&":"&ADDRESS(INT((ROW()-3)/9)*9+11,COLUMN()+1,1)),0),),"") | M35: 2 | N35: =IFERROR(OFFSET(INDIRECT(ADDRESS(INT((ROW()-3)/9)*9+6,COLUMN(),1,,"series")),MATCH(M35,INDIRECT(ADDRESS(INT((ROW()-3)/9)*9+7,COLUMN()+1,1,,"series")&":"&ADDRESS(INT((ROW()-3)/9)*9+11,COLUMN()+1,1)),0),),"")
A36: 3 | B36: =IFERROR(OFFSET(INDIRECT(ADDRESS(INT((ROW()-3)/9)*9+6,COLUMN(),1,,"series")),MATCH(A36,INDIRECT(ADDRESS(INT((ROW()-3)/9)*9+7,COLUMN()+1,1,,"series")&":"&ADDRESS(INT((ROW()-3)/9)*9+11,COLUMN()+1,1)),0),),"") | E36: 3 | F36: =IFERROR(OFFSET(INDIRECT(ADDRESS(INT((ROW()-3)/9)*9+6,COLUMN(),1,,"series")),MATCH(E36,INDIRECT(ADDRESS(INT((ROW()-3)/9)*9+7,COLUMN()+1,1,,"series")&":"&ADDRESS(INT((ROW()-3)/9)*9+11,COLUMN()+1,1)),0),),"") | I36: 3 | J36: =IFERROR(OFFSET(INDIRECT(ADDRESS(INT((ROW()-3)/9)*9+6,COLUMN(),1,,"series")),MATCH(I36,INDIRECT(ADDRESS(INT((ROW()-3)/9)*9+7,COLUMN()+1,1,,"series")&":"&ADDRESS(INT((ROW()-3)/9)*9+11,COLUMN()+1,1)),0),),"") | M36: 3 | N36: =IFERROR(OFFSET(INDIRECT(ADDRESS(INT((ROW()-3)/9)*9+6,COLUMN(),1,,"series")),MATCH(M36,INDIRECT(ADDRESS(INT((ROW()-3)/9)*9+7,COLUMN()+1,1,,"series")&":"&ADDRESS(INT((ROW()-3)/9)*9+11,COLUMN()+1,1)),0),),"")
A37: 4 | B37: =IFERROR(OFFSET(INDIRECT(ADDRESS(INT((ROW()-3)/9)*9+6,COLUMN(),1,,"series")),MATCH(A37,INDIRECT(ADDRESS(INT((ROW()-3)/9)*9+7,COLUMN()+1,1,,"series")&":"&ADDRESS(INT((ROW()-3)/9)*9+11,COLUMN()+1,1)),0),),"") | E37: 4 | F37: =IFERROR(OFFSET(INDIRECT(ADDRESS(INT((ROW()-3)/9)*9+6,COLUMN(),1,,"series")),MATCH(E37,INDIRECT(ADDRESS(INT((ROW()-3)/9)*9+7,COLUMN()+1,1,,"series")&":"&ADDRESS(INT((ROW()-3)/9)*9+11,COLUMN()+1,1)),0),),"") | I37: 4 | J37: =IFERROR(OFFSET(INDIRECT(ADDRESS(INT((ROW()-3)/9)*9+6,COLUMN(),1,,"series")),MATCH(I37,INDIRECT(ADDRESS(INT((ROW()-3)/9)*9+7,COLUMN()+1,1,,"series")&":"&ADDRESS(INT((ROW()-3)/9)*9+11,COLUMN()+1,1)),0),),"") | M37: 4 | N37: =IFERROR(OFFSET(INDIRECT(ADDRESS(INT((ROW()-3)/9)*9+6,COLUMN(),1,,"series")),MATCH(M37,INDIRECT(ADDRESS(INT((ROW()-3)/9)*9+7,COLUMN()+1,1,,"series")&":"&ADDRESS(INT((ROW()-3)/9)*9+11,COLUMN()+1,1)),0),),"")
A38: 5 | B38: =IFERROR(OFFSET(INDIRECT(ADDRESS(INT((ROW()-3)/9)*9+6,COLUMN(),1,,"series")),MATCH(A38,INDIRECT(ADDRESS(INT((ROW()-3)/9)*9+7,COLUMN()+1,1,,"series")&":"&ADDRESS(INT((ROW()-3)/9)*9+11,COLUMN()+1,1)),0),),"") | E38: 5 | F38: =IFERROR(OFFSET(INDIRECT(ADDRESS(INT((ROW()-3)/9)*9+6,COLUMN(),1,,"series")),MATCH(E38,INDIRECT(ADDRESS(INT((ROW()-3)/9)*9+7,COLUMN()+1,1,,"series")&":"&ADDRESS(INT((ROW()-3)/9)*9+11,COLUMN()+1,1)),0),),"") | I38: 5 | J38: =IFERROR(OFFSET(INDIRECT(ADDRESS(INT((ROW()-3)/9)*9+6,COLUMN(),1,,"series")),MATCH(I38,INDIRECT(ADDRESS(INT((ROW()-3)/9)*9+7,COLUMN()+1,1,,"series")&":"&ADDRESS(INT((ROW()-3)/9)*9+11,COLUMN()+1,1)),0),),"") | M38: 5 | N38: =IFERROR(OFFSET(INDIRECT(ADDRESS(INT((ROW()-3)/9)*9+6,COLUMN(),1,,"series")),MATCH(M38,INDIRECT(ADDRESS(INT((ROW()-3)/9)*9+7,COLUMN()+1,1,,"series")&":"&ADDRESS(INT((ROW()-3)/9)*9+11,COLUMN()+1,1)),0),),"")
A41: Tour 2 1/8 FINALES
A43: série 17 | E43: série 18 | I43: série 19 | M43: série 20
A44: Clt | B44: noms prénoms | E44: Clt | F44: noms prénoms | I44: Clt | J44: noms prénoms | M44: Clt | N44: noms prénoms
A45: 1 | B45: =IFERROR(OFFSET(INDIRECT(ADDRESS(INT((ROW()-1)/8)*8+4,COLUMN(),1,,"series")),MATCH(A45,INDIRECT(ADDRESS(INT((ROW()-1)/8)*8+5,COLUMN()+1,1,,"series")&":"&ADDRESS(INT((ROW()-1)/8)*8+8,COLUMN()+1,1)),0),),"") -> d | E45: 1 | F45: =IFERROR(OFFSET(INDIRECT(ADDRESS(INT((ROW()-1)/8)*8+4,COLUMN(),1,,"series")),MATCH(E45,INDIRECT(ADDRESS(INT((ROW()-1)/8)*8+5,COLUMN()+1,1,,"series")&":"&ADDRESS(INT((ROW()-1)/8)*8+8,COLUMN()+1,1)),0),),"") -> e | I45: 1 | J45: =IFERROR(OFFSET(INDIRECT(ADDRESS(INT((ROW()-1)/8)*8+4,COLUMN(),1,,"series")),MATCH(I45,INDIRECT(ADDRESS(INT((ROW()-1)/8)*8+5,COLUMN()+1,1,,"series")&":"&ADDRESS(INT((ROW()-1)/8)*8+8,COLUMN()+1,1)),0),),"") -> x | M45: 1 | N45: =IFERROR(OFFSET(INDIRECT(ADDRESS(INT((ROW()-1)/8)*8+4,COLUMN(),1,,"series")),MATCH(M45,INDIRECT(ADDRESS(INT((ROW()-1)/8)*8+5,COLUMN()+1,1,,"series")&":"&ADDRESS(INT((ROW()-1)/8)*8+8,COLUMN()+1,1)),0),),"") -> t
A46: 2 | B46: =IFERROR(OFFSET(INDIRECT(ADDRESS(INT((ROW()-1)/8)*8+4,COLUMN(),1,,"series")),MATCH(A46,INDIRECT(ADDRESS(INT((ROW()-1)/8)*8+5,COLUMN()+1,1,,"series")&":"&ADDRESS(INT((ROW()-1)/8)*8+8,COLUMN()+1,1)),0),),"") -> j | E46: 2 | F46: =IFERROR(OFFSET(INDIRECT(ADDRESS(INT((ROW()-1)/8)*8+4,COLUMN(),1,,"series")),MATCH(E46,INDIRECT(ADDRESS(INT((ROW()-1)/8)*8+5,COLUMN()+1,1,,"series")&":"&ADDRESS(INT((ROW()-1)/8)*8+8,COLUMN()+1,1)),0),),"") -> f | I46: 2 | J46: =IFERROR(OFFSET(INDIRECT(ADDRESS(INT((ROW()-1)/8)*8+4,COLUMN(),1,,"series")),MATCH(I46,INDIRECT(ADDRESS(INT((ROW()-1)/8)*8+5,COLUMN()+1,1,,"series")&":"&ADDRESS(INT((ROW()-1)/8)*8+8,COLUMN()+1,1)),0),),"") -> u | M46: 2 | N46: =IFERROR(OFFSET(INDIRECT(ADDRESS(INT((ROW()-1)/8)*8+4,COLUMN(),1,,"series")),MATCH(M46,INDIRECT(ADDRESS(INT((ROW()-1)/8)*8+5,COLUMN()+1,1,,"series")&":"&ADDRESS(INT((ROW()-1)/8)*8+8,COLUMN()+1,1)),0),),"") -> ac
A47: 3 | B47: =IFERROR(OFFSET(INDIRECT(ADDRESS(INT((ROW()-1)/8)*8+4,COLUMN(),1,,"series")),MATCH(A47,INDIRECT(ADDRESS(INT((ROW()-1)/8)*8+5,COLUMN()+1,1,,"series")&":"&ADDRESS(INT((ROW()-1)/8)*8+8,COLUMN()+1,1)),0),),"") -> h | E47: 3 | F47: =IFERROR(OFFSET(INDIRECT(ADDRESS(INT((ROW()-1)/8)*8+4,COLUMN(),1,,"series")),MATCH(E47,INDIRECT(ADDRESS(INT((ROW()-1)/8)*8+5,COLUMN()+1,1,,"series")&":"&ADDRESS(INT((ROW()-1)/8)*8+8,COLUMN()+1,1)),0),),"") -> al | I47: 3 | J47: =IFERROR(OFFSET(INDIRECT(ADDRESS(INT((ROW()-1)/8)*8+4,COLUMN(),1,,"series")),MATCH(I47,INDIRECT(ADDRESS(INT((ROW()-1)/8)*8+5,COLUMN()+1,1,,"series")&":"&ADDRESS(INT((ROW()-1)/8)*8+8,COLUMN()+1,1)),0),),"") -> ab | M47: 3 | N47: =IFERROR(OFFSET(INDIRECT(ADDRESS(INT((ROW()-1)/8)*8+4,COLUMN(),1,,"series")),MATCH(M47,INDIRECT(ADDRESS(INT((ROW()-1)/8)*8+5,COLUMN()+1,1,,"series")&":"&ADDRESS(INT((ROW()-1)/8)*8+8,COLUMN()+1,1)),0),),"") -> w
A48: 4 | B48: =IFERROR(OFFSET(INDIRECT(ADDRESS(INT((ROW()-1)/8)*8+4,COLUMN(),1,,"series")),MATCH(A48,INDIRECT(ADDRESS(INT((ROW()-1)/8)*8+5,COLUMN()+1,1,,"series")&":"&ADDRESS(INT((ROW()-1)/8)*8+8,COLUMN()+1,1)),0),),"") -> m | E48: 4 | F48: =IFERROR(OFFSET(INDIRECT(ADDRESS(INT((ROW()-1)/8)*8+4,COLUMN(),1,,"series")),MATCH(E48,INDIRECT(ADDRESS(INT((ROW()-1)/8)*8+5,COLUMN()+1,1,,"series")&":"&ADDRESS(INT((ROW()-1)/8)*8+8,COLUMN()+1,1)),0),),"") -> b | I48: 4 | J48: =IFERROR(OFFSET(INDIRECT(ADDRESS(INT((ROW()-1)/8)*8+4,COLUMN(),1,,"series")),MATCH(I48,INDIRECT(ADDRESS(INT((ROW()-1)/8)*8+5,COLUMN()+1,1,,"series")&":"&ADDRESS(INT((ROW()-1)/8)*8+8,COLUMN()+1,1)),0),),"") -> aj | M48: 4 | N48: =IFERROR(OFFSET(INDIRECT(ADDRESS(INT((ROW()-1)/8)*8+4,COLUMN(),1,,"series")),MATCH(M48,INDIRECT(ADDRESS(INT((ROW()-1)/8)*8+5,COLUMN()+1,1,,"series")&":"&ADDRESS(INT((ROW()-1)/8)*8+8,COLUMN()+1,1)),0),),"") -> y
A51: série 21 | E51: série 22 | I51: série 23 | M51: série 24
A52: Clt | B52: noms prénoms | E52: Clt | F52: noms prénoms | I52: Clt | J52: noms prénoms | M52: Clt | N52: noms prénoms
A53: 1 | B53: =IFERROR(OFFSET(INDIRECT(ADDRESS(INT((ROW()-1)/8)*8+4,COLUMN(),1,,"series")),MATCH(A53,INDIRECT(ADDRESS(INT((ROW()-1)/8)*8+5,COLUMN()+1,1,,"series")&":"&ADDRESS(INT((ROW()-1)/8)*8+8,COLUMN()+1,1)),0),),"") | E53: 1 | F53: =IFERROR(OFFSET(INDIRECT(ADDRESS(INT((ROW()-1)/8)*8+4,COLUMN(),1,,"series")),MATCH(E53,INDIRECT(ADDRESS(INT((ROW()-1)/8)*8+5,COLUMN()+1,1,,"series")&":"&ADDRESS(INT((ROW()-1)/8)*8+8,COLUMN()+1,1)),0),),"") | I53: 1 | J53: =IFERROR(OFFSET(INDIRECT(ADDRESS(INT((ROW()-1)/8)*8+4,COLUMN(),1,,"series")),MATCH(I53,INDIRECT(ADDRESS(INT((ROW()-1)/8)*8+5,COLUMN()+1,1,,"series")&":"&ADDRESS(INT((ROW()-1)/8)*8+8,COLUMN()+1,1)),0),),"") | M53: 1 | N53: =IFERROR(OFFSET(INDIRECT(ADDRESS(INT((ROW()-1)/8)*8+4,COLUMN(),1,,"series")),MATCH(M53,INDIRECT(ADDRESS(INT((ROW()-1)/8)*8+5,COLUMN()+1,1,,"series")&":"&ADDRESS(INT((ROW()-1)/8)*8+8,COLUMN()+1,1)),0),),"")
A54: 2 | B54: =IFERROR(OFFSET(INDIRECT(ADDRESS(INT((ROW()-1)/8)*8+4,COLUMN(),1,,"series")),MATCH(A54,INDIRECT(ADDRESS(INT((ROW()-1)/8)*8+5,COLUMN()+1,1,,"series")&":"&ADDRESS(INT((ROW()-1)/8)*8+8,COLUMN()+1,1)),0),),"") | E54: 2 | F54: =IFERROR(OFFSET(INDIRECT(ADDRESS(INT((ROW()-1)/8)*8+4,COLUMN(),1,,"series")),MATCH(E54,INDIRECT(ADDRESS(INT((ROW()-1)/8)*8+5,COLUMN()+1,1,,"series")&":"&ADDRESS(INT((ROW()-1)/8)*8+8,COLUMN()+1,1)),0),),"") | I54: 2 | J54: =IFERROR(OFFSET(INDIRECT(ADDRESS(INT((ROW()-1)/8)*8+4,COLUMN(),1,,"series")),MATCH(I54,INDIRECT(ADDRESS(INT((ROW()-1)/8)*8+5,COLUMN()+1,1,,"series")&":"&ADDRESS(INT((ROW()-1)/8)*8+8,COLUMN()+1,1)),0),),"") | M54: 2 | N54: =IFERROR(OFFSET(INDIRECT(ADDRESS(INT((ROW()-1)/8)*8+4,COLUMN(),1,,"series")),MATCH(M54,INDIRECT(ADDRESS(INT((ROW()-1)/8)*8+5,COLUMN()+1,1,,"series")&":"&ADDRESS(INT((ROW()-1)/8)*8+8,COLUMN()+1,1)),0),),"")
A55: 3 | B55: =IFERROR(OFFSET(INDIRECT(ADDRESS(INT((ROW()-1)/8)*8+4,COLUMN(),1,,"series")),MATCH(A55,INDIRECT(ADDRESS(INT((ROW()-1)/8)*8+5,COLUMN()+1,1,,"series")&":"&ADDRESS(INT((ROW()-1)/8)*8+8,COLUMN()+1,1)),0),),"") | E55: 3 | F55: =IFERROR(OFFSET(INDIRECT(ADDRESS(INT((ROW()-1)/8)*8+4,COLUMN(),1,,"series")),MATCH(E55,INDIRECT(ADDRESS(INT((ROW()-1)/8)*8+5,COLUMN()+1,1,,"series")&":"&ADDRESS(INT((ROW()-1)/8)*8+8,COLUMN()+1,1)),0),),"") | I55: 3 | J55: =IFERROR(OFFSET(INDIRECT(ADDRESS(INT((ROW()-1)/8)*8+4,COLUMN(),1,,"series")),MATCH(I55,INDIRECT(ADDRESS(INT((ROW()-1)/8)*8+5,COLUMN()+1,1,,"series")&":"&ADDRESS(INT((ROW()-1)/8)*8+8,COLUMN()+1,1)),0),),"") | M55: 3 | N55: =IFERROR(OFFSET(INDIRECT(ADDRESS(INT((ROW()-1)/8)*8+4,COLUMN(),1,,"series")),MATCH(M55,INDIRECT(ADDRESS(INT((ROW()-1)/8)*8+5,COLUMN()+1,1,,"series")&":"&ADDRESS(INT((ROW()-1)/8)*8+8,COLUMN()+1,1)),0),),"")
A56: 4 | B56: =IFERROR(OFFSET(INDIRECT(ADDRESS(INT((ROW()-1)/8)*8+4,COLUMN(),1,,"series")),MATCH(A56,INDIRECT(ADDRESS(INT((ROW()-1)/8)*8+5,COLUMN()+1,1,,"series")&":"&ADDRESS(INT((ROW()-1)/8)*8+8,COLUMN()+1,1)),0),),"") | E56: 4 | F56: =IFERROR(OFFSET(INDIRECT(ADDRESS(INT((ROW()-1)/8)*8+4,COLUMN(),1,,"series")),MATCH(E56,INDIRECT(ADDRESS(INT((ROW()-1)/8)*8+5,COLUMN()+1,1,,"series")&":"&ADDRESS(INT((ROW()-1)/8)*8+8,COLUMN()+1,1)),0),),"") | I56: 4 | J56: =IFERROR(OFFSET(INDIRECT(ADDRESS(INT((ROW()-1)/8)*8+4,COLUMN(),1,,"series")),MATCH(I56,INDIRECT(ADDRESS(INT((ROW()-1)/8)*8+5,COLUMN()+1,1,,"series")&":"&ADDRESS(INT((ROW()-1)/8)*8+8,COLUMN()+1,1)),0),),"") | M56: 4 | N56: =IFERROR(OFFSET(INDIRECT(ADDRESS(INT((ROW()-1)/8)*8+4,COLUMN(),1,,"series")),MATCH(M56,INDIRECT(ADDRESS(INT((ROW()-1)/8)*8+5,COLUMN()+1,1,,"series")&":"&ADDRESS(INT((ROW()-1)/8)*8+8,COLUMN()+1,1)),0),),"")
A59: Tour 3 1/4 FINALES
A61: série 25 | E61: série 26 | I61: série 27 | M61: série 28
A62: Clt | B62: noms prénoms | E62: Clt | F62: noms prénoms | I62: Clt | J62: noms prénoms | M62: Clt | N62: noms prénoms
A63: 1 | B63: =IFERROR(OFFSET(INDIRECT(ADDRESS(INT(ROW()/10)*10+2,COLUMN(),1,,"series")),MATCH(A63,INDIRECT(ADDRESS(INT(ROW()/10)*10+3,COLUMN()+1,1,,"series")&":"&ADDRESS(INT(ROW()/10)*10+6,COLUMN()+1,1)),0),),"") -> d | E63: 1 | F63: =IFERROR(OFFSET(INDIRECT(ADDRESS(INT(ROW()/10)*10+2,COLUMN(),1,,"series")),MATCH(E63,INDIRECT(ADDRESS(INT(ROW()/10)*10+3,COLUMN()+1,1,,"series")&":"&ADDRESS(INT(ROW()/10)*10+6,COLUMN()+1,1)),0),),"") -> f | I63: 1 | J63: =IFERROR(OFFSET(INDIRECT(ADDRESS(INT(ROW()/10)*10+2,COLUMN(),1,,"series")),MATCH(I63,INDIRECT(ADDRESS(INT(ROW()/10)*10+3,COLUMN()+1,1,,"series")&":"&ADDRESS(INT(ROW()/10)*10+6,COLUMN()+1,1)),0),),"") | M63: 1 | N63: =IFERROR(OFFSET(INDIRECT(ADDRESS(INT(ROW()/10)*10+2,COLUMN(),1,,"series")),MATCH(M63,INDIRECT(ADDRESS(INT(ROW()/10)*10+3,COLUMN()+1,1,,"series")&":"&ADDRESS(INT(ROW()/10)*10+6,COLUMN()+1,1)),0),),"")
A64: 2 | B64: =IFERROR(OFFSET(INDIRECT(ADDRESS(INT(ROW()/10)*10+2,COLUMN(),1,,"series")),MATCH(A64,INDIRECT(ADDRESS(INT(ROW()/10)*10+3,COLUMN()+1,1,,"series")&":"&ADDRESS(INT(ROW()/10)*10+6,COLUMN()+1,1)),0),),"") -> e | E64: 2 | F64: =IFERROR(OFFSET(INDIRECT(ADDRESS(INT(ROW()/10)*10+2,COLUMN(),1,,"series")),MATCH(E64,INDIRECT(ADDRESS(INT(ROW()/10)*10+3,COLUMN()+1,1,,"series")&":"&ADDRESS(INT(ROW()/10)*10+6,COLUMN()+1,1)),0),),"") -> x | I64: 2 | J64: =IFERROR(OFFSET(INDIRECT(ADDRESS(INT(ROW()/10)*10+2,COLUMN(),1,,"series")),MATCH(I64,INDIRECT(ADDRESS(INT(ROW()/10)*10+3,COLUMN()+1,1,,"series")&":"&ADDRESS(INT(ROW()/10)*10+6,COLUMN()+1,1)),0),),"") | M64: 2 | N64: =IFERROR(OFFSET(INDIRECT(ADDRESS(INT(ROW()/10)*10+2,COLUMN(),1,,"series")),MATCH(M64,INDIRECT(ADDRESS(INT(ROW()/10)*10+3,COLUMN()+1,1,,"series")&":"&ADDRESS(INT(ROW()/10)*10+6,COLUMN()+1,1)),0),),"")
A65: 3 | B65: =IFERROR(OFFSET(INDIRECT(ADDRESS(INT(ROW()/10)*10+2,COLUMN(),1,,"series")),MATCH(A65,INDIRECT(ADDRESS(INT(ROW()/10)*10+3,COLUMN()+1,1,,"series")&":"&ADDRESS(INT(ROW()/10)*10+6,COLUMN()+1,1)),0),),"") -> ac | E65: 3 | F65: =IFERROR(OFFSET(INDIRECT(ADDRESS(INT(ROW()/10)*10+2,COLUMN(),1,,"series")),MATCH(E65,INDIRECT(ADDRESS(INT(ROW()/10)*10+3,COLUMN()+1,1,,"series")&":"&ADDRESS(INT(ROW()/10)*10+6,COLUMN()+1,1)),0),),"") -> j | I65: 3 | J65: =IFERROR(OFFSET(INDIRECT(ADDRESS(INT(ROW()/10)*10+2,COLUMN(),1,,"series")),MATCH(I65,INDIRECT(ADDRESS(INT(ROW()/10)*10+3,COLUMN()+1,1,,"series")&":"&ADDRESS(INT(ROW()/10)*10+6,COLUMN()+1,1)),0),),"") | M65: 3 | N65: =IFERROR(OFFSET(INDIRECT(ADDRESS(INT(ROW()/10)*10+2,COLUMN(),1,,"series")),MATCH(M65,INDIRECT(ADDRESS(INT(ROW()/10)*10+3,COLUMN()+1,1,,"series")&":"&ADDRESS(INT(ROW()/10)*10+6,COLUMN()+1,1)),0),),"")
A66: 4 | B66: =IFERROR(OFFSET(INDIRECT(ADDRESS(INT(ROW()/10)*10+2,COLUMN(),1,,"series")),MATCH(A66,INDIRECT(ADDRESS(INT(ROW()/10)*10+3,COLUMN()+1,1,,"series")&":"&ADDRESS(INT(ROW()/10)*10+6,COLUMN()+1,1)),0),),"") -> u | E66: 4 | F66: =IFERROR(OFFSET(INDIRECT(ADDRESS(INT(ROW()/10)*10+2,COLUMN(),1,,"series")),MATCH(E66,INDIRECT(ADDRESS(INT(ROW()/10)*10+3,COLUMN()+1,1,,"series")&":"&ADDRESS(INT(ROW()/10)*10+6,COLUMN()+1,1)),0),),"") -> t | I66: 4 | J66: =IFERROR(OFFSET(INDIRECT(ADDRESS(INT(ROW()/10)*10+2,COLUMN(),1,,"series")),MATCH(I66,INDIRECT(ADDRESS(INT(ROW()/10)*10+3,COLUMN()+1,1,,"series")&":"&ADDRESS(INT(ROW()/10)*10+6,COLUMN()+1,1)),0),),"") | M66: 4 | N66: =IFERROR(OFFSET(INDIRECT(ADDRESS(INT(ROW()/10)*10+2,COLUMN(),1,,"series")),MATCH(M66,INDIRECT(ADDRESS(INT(ROW()/10)*10+3,COLUMN()+1,1,,"series")&":"&ADDRESS(INT(ROW()/10)*10+6,COLUMN()+1,1)),0),),"")
A69: Tour 4 1/2 FINALES
A71: série 29 | E71: série 30
A72: Clt | B72: noms prénoms | E72: Clt | F72: noms prénoms
A73: 1 | B73: =IFERROR(OFFSET(INDIRECT(ADDRESS(INT(ROW()/10)*10+2,COLUMN(),1,,"series")),MATCH(A73,INDIRECT(ADDRESS(INT(ROW()/10)*10+3,COLUMN()+1,1,,"series")&":"&ADDRESS(INT(ROW()/10)*10+6,COLUMN()+1,1)),0),),"") -> e | E73: 1 | F73: =IFERROR(OFFSET(INDIRECT(ADDRESS(INT(ROW()/10)*10+2,COLUMN(),1,,"series")),MATCH(E73,INDIRECT(ADDRESS(INT(ROW()/10)*10+3,COLUMN()+1,1,,"series")&":"&ADDRESS(INT(ROW()/10)*10+6,COLUMN()+1,1)),0),),"")
A74: 2 | B74: =IFERROR(OFFSET(INDIRECT(ADDRESS(INT(ROW()/10)*10+2,COLUMN(),1,,"series")),MATCH(A74,INDIRECT(ADDRESS(INT(ROW()/10)*10+3,COLUMN()+1,1,,"series")&":"&ADDRESS(INT(ROW()/10)*10+6,COLUMN()+1,1)),0),),"") -> x | E74: 2 | F74: =IFERROR(OFFSET(INDIRECT(ADDRESS(INT(ROW()/10)*10+2,COLUMN(),1,,"series")),MATCH(E74,INDIRECT(ADDRESS(INT(ROW()/10)*10+3,COLUMN()+1,1,,"series")&":"&ADDRESS(INT(ROW()/10)*10+6,COLUMN()+1,1)),0),),"")
A75: 3 | B75: =IFERROR(OFFSET(INDIRECT(ADDRESS(INT(ROW()/10)*10+2,COLUMN(),1,,"series")),MATCH(A75,INDIRECT(ADDRESS(INT(ROW()/10)*10+3,COLUMN()+1,1,,"series")&":"&ADDRESS(INT(ROW()/10)*10+6,COLUMN()+1,1)),0),),"") -> d | E75: 3 | F75: =IFERROR(OFFSET(INDIRECT(ADDRESS(INT(ROW()/10)*10+2,COLUMN(),1,,"series")),MATCH(E75,INDIRECT(ADDRESS(INT(ROW()/10)*10+3,COLUMN()+1,1,,"series")&":"&ADDRESS(INT(ROW()/10)*10+6,COLUMN()+1,1)),0),),"")
A76: 4 | B76: =IFERROR(OFFSET(INDIRECT(ADDRESS(INT(ROW()/10)*10+2,COLUMN(),1,,"series")),MATCH(A76,INDIRECT(ADDRESS(INT(ROW()/10)*10+3,COLUMN()+1,1,,"series")&":"&ADDRESS(INT(ROW()/10)*10+6,COLUMN()+1,1)),0),),"") -> f | E76: 4 | F76: =IFERROR(OFFSET(INDIRECT(ADDRESS(INT(ROW()/10)*10+2,COLUMN(),1,,"series")),MATCH(E76,INDIRECT(ADDRESS(INT(ROW()/10)*10+3,COLUMN()+1,1,,"series")&":"&ADDRESS(INT(ROW()/10)*10+6,COLUMN()+1,1)),0),),"")
A79: Tour 5 FINALE
A81: série 31
A82: Clt | B82: noms prénoms
A83: 1 | B83: =IFERROR(OFFSET(INDIRECT(ADDRESS(INT(ROW()/10)*10+2,COLUMN(),1,,"series")),MATCH(A83,INDIRECT(ADDRESS(INT(ROW()/10)*10+3,COLUMN()+1,1,,"series")&":"&ADDRESS(INT(ROW()/10)*10+6,COLUMN()+1,1)),0),),"")
A84: 2 | B84: =IFERROR(OFFSET(INDIRECT(ADDRESS(INT(ROW()/10)*10+2,COLUMN(),1,,"series")),MATCH(A84,INDIRECT(ADDRESS(INT(ROW()/10)*10+3,COLUMN()+1,1,,"series")&":"&ADDRESS(INT(ROW()/10)*10+6,COLUMN()+1,1)),0),),"") -> x
A85: 3 | B85: =IFERROR(OFFSET(INDIRECT(ADDRESS(INT(ROW()/10)*10+2,COLUMN(),1,,"series")),MATCH(A85,INDIRECT(ADDRESS(INT(ROW()/10)*10+3,COLUMN()+1,1,,"series")&":"&ADDRESS(INT(ROW()/10)*10+6,COLUMN()+1,1)),0),),"") -> e
A86: 4 | B86: =IFERROR(OFFSET(INDIRECT(ADDRESS(INT(ROW()/10)*10+2,COLUMN(),1,,"series")),MATCH(A86,INDIRECT(ADDRESS(INT(ROW()/10)*10+3,COLUMN()+1,1,,"series")&":"&ADDRESS(INT(ROW()/10)*10+6,COLUMN()+1,1)),0),),"")

Sheet Feuil2

Sheet Feuil3
