Workbook

Sheet Feuil1
C4: Nb de licences pratiquant dans le club | E4: Année 1 | F4: Année 2 | H4: Année 3 | I4: tarif licence avant quota | J4: tarif licence remisée | M4: EXEMPLE
A5: TRANCHE 1 | C5: N est entre 100 et 199 | E5: N+10% | F5: N+20% | H5: N+30% | I5: 28 | J5: 20 | L5: CLUB à 100 licences en année N de référence
A6: TRANCHE 2 | C6: N est entre 200 et 299 | J6: 17 | L6: N+1 = N+ 10% donc 110 licences à 28€ ( tarif normal ) et de la 111ème et plus à 20 euros.
A7: TRANCHE 3 | C7: N est entre 300 et 399 | J7: 14 | L7: N+2 = N + 20% donc 120 licences à 28€.....................................121ème et plus à 20 euros.
A8: TRANCHE 4 | C8: N est entre 400 et 499 | J8: 12 | L8: N+3 = N + 30% donc 130 licences à 28 € .......................................131ème et plus 20 euros.
A9: TRANCHE 5 | C9: N est supérieur à 500 | J9: 8
C12: formule en clair | E12: par tranches
A13: Simulations | B13: Si NBR lic 2016 est sup à NBR lic 2015X1,10 alors Prix = NBR lice 2015X1,10 par le tarif Normal, plus le supplément à tarif reduit de la tranche N
B14: Si NBR lic 2016 n'est pas sup à 2015X1,1, alors Tarif normal
A15: Tranches
A16: CluB | B16: Base de calcul | E16: prix licences 2016 | H16: prix licences 2017
A17: NBR licences année N | B17: Nbr réel de licences | C17: Prix licences 2015 | D17: NBR LIC | E17: contrat 10% | F17: SANS contrat base 2015 | G17: NBR lic | H17: contrat 20% | I17: SANS contrat base 2015
A18: 100 | B18: 115 | C18: =$I$5*B18 -> 3220 | D18: 130 | E18: =IF(D18>(B18*1.1),(B18*$I$5)+(D18-B18)*J5,D18*$I$5) -> 3520 | F18: =D18*$I$5 -> 3640 | G18: 150 | H18: =IF(G18>(B18*1.2),(B18*$I$5)+(G18-B18)*J5,G18*$I$5) -> 3920 | I18: =G18*$I$5 -> 4200
A19: 200 | B19: 220 | C19: =$I$5*B19 -> 6160 | D19: 250 | E19: =IF(D19>(B19*1.1),(B19*$I$5)+(D19-B19)*J6,D19*$I$5) -> 6670 | F19: =D19*$I$5 -> 7000 | G19: 270 | H19: =IF(G19>(B19*1.2),(B19*$I$5)+(G19-B19)*J6,G19*$I$5) -> 7010 | I19: =G19*$I$5 -> 7560
A20: 300 | B20: 334 | C20: =$I$5*300+(B20-300)*6 -> 8604 | D20: 370 | E20: =IF(D20>(B20*1.1),(B20*$I$5)+(D20-B20)*J7,D20*$I$5) -> 9856 | F20: =$I$5*300+(D20-300)*6 -> 8820 | G20: 400 | H20: =IF(G20>(B20*1.2),(B20*$I$5)+(G20-B20)*J7,G20*$I$5) -> 11200 | I20: =G20*$I$5 -> 11200
A21: 400 | B21: 416 | C21: =$I$5*300+(B21-300)*6 -> 9096 | D21: 480 | E21: =IF(D21>(B21*1.1),(B21*$I$5)+(D21-B21)*J8,D21*$I$5) -> 12416 | F21: =$I$5*300+(D21-300)*6 -> 9480 | G21: 550 | H21: =IF(G21>(B21*1.2),(B21*$I$5)+(G21-B21)*J8,G21*$I$5) -> 13256 | I21: =$I$5*300+(G21-300)*6 -> 9900
A22: 500 | B22: 555 | C22: =$I$5*300+(B22-300)*6 -> 9930 | D22: 590 | E22: =(500*$I$5)+(D22-500)*$J$9 -> 14720 | F22: =$I$5*300+(D22-300)*6 -> 10140 | G22: 610 | H22: =(500*$I$5)+(G22-500)*$J$9 -> 14880 | I22: =$I$5*300+(G22-300)*6 -> 10260 | J22: Le contrat ne concerne pas les plus de 500, seule l'augmentation de la licence réduite et le plafond relevé à 500 s'appliquent
A23: 600 | B23: 630 | C23: =$I$5*300+(B23-300)*6 -> 10380 | D23: 690 | E23: =(500*$I$5)+(D23-500)*$J$9 -> 15520 | F23: =$I$5*300+(D23-300)*6 -> 10740 | G23: 800 | H23: =(500*$I$5)+(G23-500)*$J$9 -> 16400 | I23: =$I$5*300+(G23-300)*6 -> 11400
A24: 700 | B24: 750 | C24: =$I$5*300+(B24-300)*6 -> 11100 | D24: 830 | E24: =(500*$I$5)+(D24-500)*$J$9 -> 16640 | F24: =$I$5*300+(D24-300)*6 -> 11580 | G24: 950 | H24: =(500*$I$5)+(G24-500)*$J$9 -> 17600 | I24: =$I$5*300+(G24-300)*6 -> 12300
A25: 800 | B25: 810 | C25: =$I$5*300+(B25-300)*6 -> 11460 | D25: 910 | E25: =(500*$I$5)+(D25-500)*$J$9 -> 17280 | F25: =$I$5*300+(D25-300)*6 -> 12060 | G25: 1000 | H25: =(500*$I$5)+(G25-500)*$J$9 -> 18000 | I25: =$I$5*300+(G25-300)*6 -> 12600
A26: 900 | B26: 918 | C26: =$I$5*300+(B26-300)*6 -> 12108 | D26: 1000 | E26: =(500*$I$5)+(D26-500)*$J$9 -> 18000 | F26: =$I$5*300+(D26-300)*6 -> 12600 | G26: 1200 | H26: =(500*$I$5)+(G26-500)*$J$9 -> 19600 | I26: =$I$5*300+(G26-300)*6 -> 13800
A27: 1000 | B27: 1130 | C27: =$I$5*300+(B27-300)*6 -> 13380 | D27: 1200 | E27: =(500*$I$5)+(D27-500)*$J$9 -> 19600 | F27: =$I$5*300+(D27-300)*6 -> 13800 | G27: 1400 | H27: =(500*$I$5)+(G27-500)*$J$9 -> 21200 | I27: =$I$5*300+(G27-300)*6 -> 15000
B28: variable | D28: variable
A30: Commentaires | C30: cela fonctionne bien jusqu'à la tranche des 400, mais plus après | G30: Gain Club si contrat rempli, environ

Sheet calcul paniers
C4: Nb de licences pratiquant dans le club | F4: Année 1 | G4: Année 2 | I4: Année 3 | J4: tarif licence avant quota | K4: tarif licence remisée | N4: EXEMPLE
A5: TRANCHE 1 | C5: N est entre 100 et 199 | F5: N+10% | G5: N+20% | I5: N+30% | J5: 28 | K5: 20 | M5: CLUB à 100 licences en année N de référence
A6: TRANCHE 2 | C6: N est entre 200 et 299 | K6: 17 | M6: N+1 = N+ 10% donc 110 licences à 28€ ( tarif normal ) et de la 111ème et plus à 20 euros.
A7: TRANCHE 3 | C7: N est entre 300 et 399 | K7: 14 | M7: N+2 = N + 20% donc 120 licences à 28€.....................................121ème et plus à 20 euros.
A8: TRANCHE 4 | C8: N est entre 400 et 499 | K8: 12 | M8: N+3 = N + 30% donc 130 licences à 28 € .......................................131ème et plus 20 euros.
A9: TRANCHE 5 | C9: N est supérieur à 500 | K9: 8
C12: formule en clair | F12: par tranches
A13: Simulations | B13: Si NBR lic 2016 est sup à NBR lic 2015X1,10 alors Prix = NBR lice 2015X1,10 par le tarif Normal, plus le supplément à tarif reduit de la tranche N
B14: Si NBR lic 2016 n'est pas sup à 2015X1,1, alors Tarif normal
A15: Tranches
A16: CluB | B16: Base de calcul | D16: OPTION 1 | F16: prix licences 2016 | I16: prix licences 2017
A17: NBR licences année N | B17: Nbr réel de licences | C17: Prix licences 2015 | D17: PRIX LICENCES 2016 | E17: NBR LIC | F17: contrat 10% | G17: SANS contrat base 2015 | H17: Gain Club | I17: NBR lic | J17: contrat 20% | K17: SANS contrat base 2015 | L17: Gain Club
A18: 100 | B18: =Feuil1!B18 -> 115 | C18: =Feuil1!C18 -> 3220 | D18: =B18*30 -> 3450 | E18: =Feuil1!D18 -> 130 | F18: =Feuil1!E18 -> 3520 | G18: =Feuil1!F18 -> 3640 | H18: =1-(F18/G18) -> 0.032967033 | I18: =Feuil1!G18 -> 150 | J18: =Feuil1!H18 -> 3920 | K18: =Feuil1!I18 -> 4200 | L18: =1-(J18/K18) -> 0.066666667
A19: 200 | B19: =Feuil1!B19 -> 220 | C19: =Feuil1!C19 -> 6160 | D19: =B19*30 -> 6600 | E19: =Feuil1!D19 -> 250 | F19: =Feuil1!E19 -> 6670 | G19: =Feuil1!F19 -> 7000 | H19: =1-(F19/G19) -> 0.047142857 | I19: =Feuil1!G19 -> 270 | J19: =Feuil1!H19 -> 7010 | K19: =Feuil1!I19 -> 7560 | L19: =1-(J19/K19) -> 0.072751323
A20: 300 | B20: =Feuil1!B20 -> 334 | C20: =Feuil1!C20 -> 8604 | D20: =300*30+(B20-300)*8 -> 9272 | E20: =Feuil1!D20 -> 370 | F20: =Feuil1!E20 -> 9856 | G20: =300*$J$5+(E20-300)*$K$9 -> 8960 | H20: =1-(F20/G20) -> -0.1 | I20: =Feuil1!G20 -> 400 | J20: =Feuil1!H20 -> 11200 | K20: =Feuil1!I20 -> 11200 | L20: =1-(J20/K20) -> 0
A21: 400 | B21: =Feuil1!B21 -> 416 | C21: =Feuil1!C21 -> 9096 | D21: =300*30+(B21-300)*8 -> 9928 | E21: =Feuil1!D21 -> 480 | F21: =Feuil1!E21 -> 12416 | G21: =300*$J$5+(E21-300)*$K$9 -> 9840 | H21: =1-(F21/G21) -> -0.26178862 | I21: =Feuil1!G21 -> 550 | J21: =Feuil1!H21 -> 13256 | K21: =Feuil1!I21 -> 9900 | L21: =1-(J21/K21) -> -0.3389899
A22: 500 | B22: =Feuil1!B22 -> 555 | C22: =Feuil1!C22 -> 9930 | D22: =300*30+(B22-300)*8 -> 11040 | E22: =Feuil1!D22 -> 590 | F22: =Feuil1!E22 -> 14720 | G22: =300*$J$5+(E22-300)*$K$9 -> 10720 | H22: =1-(F22/G22) -> -0.37313433 | I22: =Feuil1!G22 -> 610 | J22: =Feuil1!H22 -> 14880 | K22: =Feuil1!I22 -> 10260 | L22: =1-(J22/K22) -> -0.4502924
A23: 600 | B23: =Feuil1!B23 -> 630 | C23: =Feuil1!C23 -> 10380 | D23: =300*30+(B23-300)*8 -> 11640 | E23: =Feuil1!D23 -> 690 | F23: =Feuil1!E23 -> 15520 | G23: =300*$J$5+(E23-300)*$K$9 -> 11520 | H23: =1-(F23/G23) -> -0.34722222 | I23: =Feuil1!G23 -> 800 | J23: =Feuil1!H23 -> 16400 | K23: =Feuil1!I23 -> 11400 | L23: =1-(J23/K23) -> -0.43859649
A24: 700 | B24: =Feuil1!B24 -> 750 | C24: =Feuil1!C24 -> 11100 | D24: =300*30+(B24-300)*8 -> 12600 | E24: =Feuil1!D24 -> 830 | F24: =Feuil1!E24 -> 16640 | G24: =300*$J$5+(E24-300)*$K$9 -> 12640 | H24: =1-(F24/G24) -> -0.3164557 | I24: =Feuil1!G24 -> 950 | J24: =Feuil1!H24 -> 17600 | K24: =Feuil1!I24 -> 12300 | L24: =1-(J24/K24) -> -0.43089431 | M24: Le contrat ne concerne pas les plus de 500, seule l'augmentation de la licence réduite et le plafond relevé à 500 s'appliquent
A25: 800 | B25: =Feuil1!B25 -> 810 | C25: =Feuil1!C25 -> 11460 | D25: =300*30+(B25-300)*8 -> 13080 | E25: =Feuil1!D25 -> 910 | F25: =Feuil1!E25 -> 17280 | G25: =300*$J$5+(E25-300)*$K$9 -> 13280 | H25: =1-(F25/G25) -> -0.30120482 | I25: =Feuil1!G25 -> 1000 | J25: =Feuil1!H25 -> 18000 | K25: =Feuil1!I25 -> 12600 | L25: =1-(J25/K25) -> -0.42857143
A26: 900 | B26: =Feuil1!B26 -> 918 | C26: =Feuil1!C26 -> 12108 | D26: =300*30+(B26-300)*8 -> 13944 | E26: =Feuil1!D26 -> 1000 | F26: =Feuil1!E26 -> 18000 | G26: =300*$J$5+(E26-300)*$K$9 -> 14000 | H26: =1-(F26/G26) -> -0.28571429 | I26: =Feuil1!G26 -> 1200 | J26: =Feuil1!H26 -> 19600 | K26: =Feuil1!I26 -> 13800 | L26: =1-(J26/K26) -> -0.42028986
A27: 1000 | B27: =Feuil1!B27 -> 1130 | C27: =Feuil1!C27 -> 13380 | D27: =300*30+(B27-300)*8 -> 15640 | E27: =Feuil1!D27 -> 1200 | F27: =Feuil1!E27 -> 19600 | G27: =300*$J$5+(E27-300)*$K$9 -> 15600 | H27: =1-(F27/G27) -> -0.25641026 | I27: =Feuil1!G27 -> 1400 | J27: =Feuil1!H27 -> 21200 | K27: =Feuil1!I27 -> 15000 | L27: =1-(J27/K27) -> -0.41333333
B28: variable | E28: variable
E29: FFS
A30: Commentaires | C30: cela fonctionne bien jusqu'à la tranche des 400, mais plus après | H30: Gain Club si contrat rempli, environ
B31: Le panier "fonds utilisation Club"
B32: pour tous les clubs dont le compte "licences" fait apparaître une augmentation, apreès déduction de l'augmentation de la licence réduite
B33: Un pannier est créé, à hauteur de 50% du reliquat. Ce panier sera utilisable pour:
A34: PANIER 1 | B34: organiser une compétition régionale (championnat, coupe) à hauteur de 25% du panier | H34: sur l'année N+2, sur la base des produits N+1
A35: PANIER 2 | B35: Organiser une compétition nationale (coupe de France, maider…) à hauteur de 50% du panier
A36: PANIER 3 | B36: acquerir une visibilité sur la boutique "label club" à hauteur de 25%
A38: OPTION 1 | C38: des exemples
A39: LICENCE SPORT 30 | B39: TRANCHE N | C39: NBR licences 2016 | D39: COUT 2016 | E39: PU LIC | F39: COUT 2015 | G39: PANIER 1 | H39: PANIER 2 | J39: PANIER 3
A40: LICENCE REDUITE 8 | B40: 300 | C40: =Feuil1!D20 -> 370 | D40: =Feuil1!E20 -> 9856 | E40: =D40/C40 -> 26.637838 | F40: =G20 -> 8960 | G40: =(D40-F40)/2*0.25 -> 112 | H40: =G40*2 -> 224 | J40: =G40 -> 112
B41: 400 | C41: =Feuil1!D21 -> 480 | D41: =Feuil1!E21 -> 12416 | E41: =D41/C41 -> 25.866667 | F41: =G21 -> 9840 | G41: =(D41-F41)/2*0.25 -> 322 | H41: =G41*2 -> 644 | J41: =G41 -> 322
B42: 500 | C42: =Feuil1!D22 -> 590 | D42: =Feuil1!E22 -> 14720 | E42: =D42/C42 -> 24.949153 | F42: =G22 -> 10720 | G42: =(D42-F42)/2*0.25 -> 500 | H42: =G42*2 -> 1000 | J42: =G42 -> 500
B43: 600 | C43: =Feuil1!D23 -> 690 | D43: =Feuil1!E23 -> 15520 | E43: =D43/C43 -> 22.492754 | F43: =G23 -> 11520 | G43: =(D43-F43)/2*0.25 -> 500 | H43: =G43*2 -> 1000 | J43: =G43 -> 500
B44: 700 | C44: =Feuil1!D24 -> 830 | D44: =Feuil1!E24 -> 16640 | E44: =D44/C44 -> 20.048193 | F44: =G24 -> 12640 | G44: =(D44-F44)/2*0.25 -> 500 | H44: =G44*2 -> 1000 | J44: =G44 -> 500
B45: 800 | C45: =Feuil1!D25 -> 910 | D45: =Feuil1!E25 -> 17280 | E45: =D45/C45 -> 18.989011 | F45: =G25 -> 13280 | G45: =(D45-F45)/2*0.25 -> 500 | H45: =G45*2 -> 1000 | J45: =G45 -> 500
B46: 900 | C46: =Feuil1!D26 -> 1000 | D46: =Feuil1!E26 -> 18000 | E46: =D46/C46 -> 18 | F46: =G26 -> 14000 | G46: =(D46-F46)/2*0.25 -> 500 | H46: =G46*2 -> 1000 | J46: =G46 -> 500
...

Sheet Feuil2
