Workbook
Name ABSENTEISME: PARAMETRES!$C$35:$C$94
Name ACCIDENT: PARAMETRES!$K$2:$K$33
Name ANCIENNETE: PARAMETRES!$H$2:$H$26
Name ANNEE: PARAMETRES!$D$62:$D$68
Name ANNÉES: PARAMETRES!$D$53:$D$59
Name CATEGORIE: PARAMETRES!$E$18:$E$20
Name CERL: PARAMETRES!$C$27:$C$33
Name CERTIF: PARAMETRES!$B$57:$B$63
Name CLASSE: PARAMETRES!$E$37:$E$56
Name DECHARGE: PARAMETRES!$B$39:$B$45
Name DEPARTEMENT: PARAMETRES!$F$2:$F$103
Name DEVISE: PARAMETRES!$A$63:$A$68
Name DIPLOME: PARAMETRES!$E$23:$E$29
Name DIPLOMEPRO: PARAMETRES!$E$32:$E$34
Name DIRECTEUR: PARAMETRES!$A$23:$A$25
Name DISCIP: PARAMETRES!$J$16:$J$22
Name DISCIPLINE: PARAMETRES!$C$17:$C$25
Name DOMAINE: PARAMETRES!$B$48:$B$54
Name ECHELON: PARAMETRES!$D$25:$D$38
Name ECOLE: PARAMETRES!$B$34:$B$36
Name ETABLISSEMENT: PARAMETRES!$E$2:$E$15
Name FIE: PARAMETRES!$A$42:$A$46
Name FONCT: PARAMETRES!$A$49:$A$60
Name FONCTION: PARAMETRES!$A$28:$A$32
Name FORMATION: PARAMETRES!$G$2:$G$103
Name HEURES: PARAMETRES!$I$2:$I$46
Name HORAIRE: PARAMETRES!$D$18:$D$23
Name LENSEI: PARAMETRES!$H$41:$H$44
Name MUTUALISATEUR: PARAMETRES!$B$2:$B$20
Name NOMBRE: PARAMETRES!$J$2:$J$13
Name OUINON: PARAMETRES!$C$13:$C$14
Name OUINONM: PARAMETRES!$J$24:$J$26
Name PAYS: PARAMETRES!$C$2:$C$7
Name PE: PARAMETRES!$B$23:$B$31
Name PRF: PARAMETRES!$D$41:$D$49
Name PS: PARAMETRES!$H$47:$H$55
Name SALLE: PARAMETRES!$L$2:$L$46
Name SEXE: PARAMETRES!$C$10:$C$11
Name STATUT: PARAMETRES!$A$35:$A$39
Name TPENSEI: PARAMETRES!$H$29:$H$38
Name VILLE: PARAMETRES!$D$2:$D$11
Name VOYAGE: PARAMETRES!$H$47:$H$54
Name ZONE: PARAMETRES!$A$2:$A$20

Sheet PRÉSENTATION
D2: IEN | E2: Claudie Ricci
D3: ZONE FC | E3: AMSUD
D4: Et. mutualisateur | E4: LOUIS PASTEUR - BOGOTA
A5: PAYS | B5: COLOMBIE
A6: VILLE | B6: BOGOTA
A7: ÉTABLISSEMENT | B7: LYCÉE LOUIS PASTEUR | D7: Actualisé le : | E7: =TODAY() -> 41766
A9: ADRESSE | B9: Calle 87 n°7-77
A10: TÉLÉPHONE ACCUEIL | B10: (571) 278 70 55
A11: FAX | B11: (571) 616 25 83 | E11: Date : | F11: =TODAY() -> 41766
A12: SITE WEB | B12: http://www.lfbogota.com/ | E12: Horaires
A13: CATÉGORIE | B13: CONVENTIONNE | E13: L - M - J | F13: Me - Ve | G13: Pause méridienne
D14: Maternelle | E14: 7h30 - 13h | F14: 7h30 - 12h | G14: OUI | H14: NON
A15: Proviseur | B15: Françoise Valière | C15: proviseur@lfbogota.com | D15: Élémentaire | E15: 7h30 - 14h30 | F15: 7h30 - 11h30 | G15: OUI | H15: NON
A17: Directeur maternelle | B17: Jean-Pierre Agati | C17: directeurmaternelle@lfbogota.com | D17: Nombre d'heures de présence élève
A18: N° TÉL. PORT. DIRECTEUR | B18: 0057 313 277 2852 | D18: Maternelle | E18: 25h30
A19: Directeur élémentaire | B19: Laurent Casañas | C19: directeurprimaire@lfbogota.com | D19: Élémentaire | E19: 26h
A20: N° TÉL. PORT. DIRECTEUR | B20: 0057 321 263 7675
A21: EMFE | B21: Jean-Michel Jacquemont | C21: conseillerprimaire@lfbogota.com | E21: Enseignants | F21: Autre personnel | G21: Élèves | H21: Divisions
D22: Maternelle | E22: =ENSEIGNANTS!B71 -> 20 | F22: =#REF! -> #REF! | G22: =#REF! -> #REF! | H22: =#REF! -> #REF!
A23: Secrétariat primaire | B23: Garviñe Eloizaga - Assistante direct° | C23: secret-primaire@lfbogota.com | D23: Élémentaire | E23: =ENSEIGNANTS!B79 -> 37 | F23: =#REF! -> #REF! | G23: =#REF! -> #REF! | H23: =#REF! -> #REF! | I23: Moy./cl.
B24: Astrid Velasco - Secrétaire élémentaire | D24: PRIMAIRE | E24: =ENSEIGNANTS!B87 -> 59 | F24: =#REF! -> #REF! | G24: =SUM(G22:G23) -> #REF! | H24: =#REF! -> #REF! | I24: =#REF! -> #REF!
B25: Martha Muñoz - Secrétaire maternelle | D25: Total École | E25: =E24+F24 -> #REF!
F26: Total Lycée | G26: =#REF! -> #REF!
A27: PROJET D'ÉCOLE | B27: 2012-2016 | C27: En lien avec le projet d'établissement | D27: OUI
A28: AXE 1 : | B28: Maîtrise des langues et bicculturalisme
A29: AXE 2 : | B29: Évaluation et dispositifs d'accompagnement vers la réussite
A30: AXE 3 : | B30: Actions éducatives en faveur de l'intégration, du bien-être et du respect des règles
A31: AXE TRANSVERSAL 1 : | B31: Vers l'école du socle - Mise en oeuvre des textes de référence (MEN - AEFE - projet de zone)
A32: AXE TRANSVERSAL 2 : | B32: Développement des technologies multimédias au service des pratiques pédagogiques
A33: AXE TRANSVERSAL 3 : | B33: Améliorer la communication
A34: AXE TRANSVERSAL 4 : | B34: Formation des personnels

Sheet ENSEIGNANTS
B1: PERSONNELS ENSEIGNANTS ECOLE PRIMAIRE - Fiche de renseignements IEN
B2: TABLEAU CONCERNANT UNIQUEMENT LES ENSEIGNANTS CHARGÉS DE CLASSE (expatriés, résidents et recrutés locaux) DONT DIRECTEUR | AF2: Formation
B3: Nom de l'enseignant | C3: Prénom | D3: Sexe | E3: Date de naissance | F3: Âge | G3: Diplôme universitaire | H3: Diplôme professionnel FR | I3: Date de titularisation pour les titulaires FR | J3: AGS | K3: Fonction | L3: Ecole | M3: Discipline enseignée | N3: Temps de travail | O3: Décharge | P3: Travail extérieur | Q3: Date de prise de fonction dans l'établissement | R3: AG | S3: Dépt. de rat. | T3: Statut | U3: Échelon PE | V3: Date de promotion | W3: Dernière inspection / visite IEN | X3: > à | Y3: Note | Z3: Dernière visite CPAIEN | AA3: > à | AB3: Dernière visite EMFE | AC3: > à | AD3: Dernière visite DIRECTEUR | AE3: > à | AF3: Initiale d'enseignement | AG3: PRF | AH3: Interne | AI3: Externe | AJ3: Total journées de formation depuis 2005 | AK3: Dont stages PRF MDL | AL3: Dont stages PRF MATHS | AM3: Dont stages PRF SCIENCES | AN3: Dont stages PRF LANGUES | AO3: Dont stages PRF HG-EC | AP3: Dont stages PRF TICE | AQ3: Dont stages PRF AUTRE | AR3: Date dernier stage PRF | AS3: > à | AT3: Absentéisme | AU3: Journées d'enseignement perdues | AV3: Maîtrise du FR | AW3: Maîtrise de l'ESP ou du BRE | AX3: Peut enseigner l'anglais | AY3: C2I2E | AZ3: Classe d'exercice | BA3: Ancienneté sur niveau | BB3: Nom de l'enseignant
B4: EXEMPLE | C4: IEN | D4: M | E4: 24789 | F4: =(PRÉSENTATION!$F$11-E4)/365 -> 46.512329 | G4: MASTER 2 - PRO | H4: CAFIPEMF | I4: 39692 | J4: =((PRÉSENTATION!$F$11-I4)/365) -> 5.6821918 | K4: Enseignant | L4: ELEMENTAIRE | M4: FR | N4: Plein temps | O4: Sans | P4: NON | Q4: 40422 | R4: =(PRÉSENTATION!$F$11-Q4)/365 -> 3.6821918 | S4: 15 | T4: Résident | U4: 7 | V4: 41579 | W4: 40280 | X4: =(PRÉSENTATION!$F$11-W4)/365 -> 4.0712329 | Y4: 12.5 | Z4: 41011 | AA4: =(PRÉSENTATION!$F$11-Z4)/365 -> 2.0684932 | AB4: 41376 | AC4: =(PRÉSENTATION!$F$11-AB4)/365 -> 1.0684932 | AD4: 40929 | AE4: =(PRÉSENTATION!$F$11-AD4)/365 -> 2.2931507 | AF4: IUFM | AG4: 5 | AH4: 0.5 | AI4: 0 | AJ4: =SUM(AG4:AI4) -> 5.5 | AK4: 0 | AL4: 1 | AM4: 0 | AN4: 0 | AO4: 1 | AP4: 1 | AQ4: 0 | AR4: 41620 | AS4: =(PRÉSENTATION!$F$11-AR4)/365 -> 0.4 | AT4: 2.5 | AU4: 0 | AV4: C2 | AW4: C1 | AX4: NON | AY4: OUI | AZ4: CE1 | BA4: 3 | BB4: =B4 -> EXEMPLE
A5: 1 | B5: AGATI | C5: JEAN-PIERRE | D5: M | E5: 21840 | F5: =(PRÉSENTATION!$F$11-E5)/365 -> 54.591781 | G5: BAC+2 | H5: CAFIPEMF | I5: 30317 | J5: =((PRÉSENTATION!$F$11-I5)/365) -> 31.367123 | K5: Directeur | L5: MATERNELLE | N5: Plein temps | O5: 1 | P5: NON | Q5: 41153 | R5: =(PRÉSENTATION!$F$11-Q5)/365 -> 1.6794521 | S5: 60 | T5: Expatrié | U5: 7 HC | V5: 41518 | W5: 40869 | X5: =(PRÉSENTATION!$F$11-W5)/365 -> 2.4575342 | Y5: 20 | AA5: =(PRÉSENTATION!$F$11-Z5)/365 -> 114.4274 | AC5: =(PRÉSENTATION!$F$11-AB5)/365 -> 114.4274 | AE5: =(PRÉSENTATION!$F$11-AD5)/365 -> 114.4274 | AF5: IUFM | AJ5: =SUM(AG5:AI5) -> 0 | AS5: =(PRÉSENTATION!$F$11-AR5)/365 -> 114.4274 | AZ5: Autre | BB5: =B5 -> AGATI
A6: 2 | B6: BADOLLE | C6: STEPHANE | D6: M | E6: 27933 | F6: =(PRÉSENTATION!$F$11-E6)/365 -> 37.89863 | G6: LICENCE | I6: 38961 | J6: =((PRÉSENTATION!$F$11-I6)/365) -> 7.6849315 | K6: Enseignant | L6: MATERNELLE | M6: FR | N6: Plein temps | O6: Sans | P6: NON | Q6: 40422 | R6: =(PRÉSENTATION!$F$11-Q6)/365 -> 3.6821918 | S6: 973 | T6: Résident | U6: 6 | V6: 40422 | W6: 41775 | X6: =(PRÉSENTATION!$F$11-W6)/365 -> -0.024657534 | Y6: 15 | Z6: 39421 | AA6: =(PRÉSENTATION!$F$11-Z6)/365 -> 6.4246575 | AC6: =(PRÉSENTATION!$F$11-AB6)/365 -> 114.4274 | AE6: =(PRÉSENTATION!$F$11-AD6)/365 -> 114.4274 | AF6: IUFM | AJ6: =SUM(AG6:AI6) -> 0 | AS6: =(PRÉSENTATION!$F$11-AR6)/365 -> 114.4274 | AV6: LANGUE MATER | AX6: NON | AY6: NON | AZ6: MS | BA6: 4 | BB6: =B6 -> BADOLLE
A7: 3 | B7: BECERRA | C7: CATHERINE | D7: F | E7: 20470 | F7: =(PRÉSENTATION!$F$11-E7)/365 -> 58.345205 | G7: MASTER 2 - PRO | J7: =((PRÉSENTATION!$F$11-I7)/365) -> 114.4274 | K7: Enseignant | L7: ELEMENTAIRE | M7: FR | N7: Plein temps | O7: Sans | P7: NON | R7: =(PRÉSENTATION!$F$11-Q7)/365 -> 114.4274 | T7: RL | W7: 39393 | X7: =(PRÉSENTATION!$F$11-W7)/365 -> 6.5013699 | AA7: =(PRÉSENTATION!$F$11-Z7)/365 -> 114.4274 | AC7: =(PRÉSENTATION!$F$11-AB7)/365 -> 114.4274 | AE7: =(PRÉSENTATION!$F$11-AD7)/365 -> 114.4274 | AF7: Sans | AJ7: =SUM(AG7:AI7) -> 0 | AS7: =(PRÉSENTATION!$F$11-AR7)/365 -> 114.4274 | AV7: LANGUE MATER | AW7: C2 | AX7: NON | AY7: NON | AZ7: CM2 | BA7: 3 | BB7: =B7 -> BECERRA
A8: 4 | B8: BENAZETH-GUILLAUME | C8: CATHERINE | D8: F | E8: 24819 | F8: =(PRÉSENTATION!$F$11-E8)/365 -> 46.430137 | G8: LICENCE | I8: 35309 | J8: =((PRÉSENTATION!$F$11-I8)/365) -> 17.690411 | K8: Enseignant | L8: ELEMENTAIRE | M8: FR | N8: Plein temps | O8: Sans | P8: NON | Q8: 41518 | R8: =(PRÉSENTATION!$F$11-Q8)/365 -> 0.67945205 | S8: 31 | T8: Résident | U8: 10 | V8: 41068 | W8: 40969 | X8: =(PRÉSENTATION!$F$11-W8)/365 -> 2.1835616 | Y8: 19.75 | AA8: =(PRÉSENTATION!$F$11-Z8)/365 -> 114.4274 | AC8: =(PRÉSENTATION!$F$11-AB8)/365 -> 114.4274 | AE8: =(PRÉSENTATION!$F$11-AD8)/365 -> 114.4274 | AF8: IUFM | AJ8: =SUM(AG8:AI8) -> 0 | AS8: =(PRÉSENTATION!$F$11-AR8)/365 -> 114.4274 | AV8: LANGUE MATER | AX8: NON | AY8: OUI | AZ8: CP | BA8: 2 | BB8: =B8 -> BENAZETH-GUILLAUME
A9: 5 | B9: BOTERO | C9: PATRICIA | D9: F | E9: 24135 | F9: =(PRÉSENTATION!$F$11-E9)/365 -> 48.30411 | G9: LICENCE | J9: =((PRÉSENTATION!$F$11-I9)/365) -> 114.4274 | K9: Enseignant | L9: ELEMENTAIRE | M9: ESP | N9: Plein temps | O9: Sans | P9: NON | Q9: 37265 | R9: =(PRÉSENTATION!$F$11-Q9)/365 -> 12.331507 | T9: RL | W9: 38139 | X9: =(PRÉSENTATION!$F$11-W9)/365 -> 9.9369863 | AA9: =(PRÉSENTATION!$F$11-Z9)/365 -> 114.4274 | AB9: 40664 | AC9: =(PRÉSENTATION!$F$11-AB9)/365 -> 3.0191781 | AE9: =(PRÉSENTATION!$F$11-AD9)/365 -> 114.4274 | AF9: Diplôme d'enseignement local | AJ9: =SUM(AG9:AI9) -> 0 | AS9: =(PRÉSENTATION!$F$11-AR9)/365 -> 114.4274 | AV9: B1 | AW9: LANGUE MATER | AX9: NON | AY9: NON | AZ9: PLUSIEURS | BB9: =B9 -> BOTERO
A10: 6 | B10: BOUDIAS | C10: CHRISTOPHE | D10: M | E10: 30005 | F10: =(PRÉSENTATION!$F$11-E10)/365 -> 32.221918 | G10: LICENCE | I10: 39326 | J10: =((PRÉSENTATION!$F$11-I10)/365) -> 6.6849315 | K10: Enseignant | L10: ELEMENTAIRE | M10: FR | N10: Plein temps | O10: Sans | P10: NON | Q10: 40932 | R10: =(PRÉSENTATION!$F$11-Q10)/365 -> 2.2849315 | S10: 83 | T10: Résident | U10: 4 | V10: 39326 | W10: 40923 | X10: =(PRÉSENTATION!$F$11-W10)/365 -> 2.309589 | AA10: =(PRÉSENTATION!$F$11-Z10)/365 -> 114.4274 | AC10: =(PRÉSENTATION!$F$11-AB10)/365 -> 114.4274 | AE10: =(PRÉSENTATION!$F$11-AD10)/365 -> 114.4274 | AF10: IUFM | AJ10: =SUM(AG10:AI10) -> 0 | AS10: =(PRÉSENTATION!$F$11-AR10)/365 -> 114.4274 | AV10: LANGUE MATER | AW10: C1 | AX10: NON | AY10: NON | AZ10: CE1 | BA10: 2 | BB10: =B10 -> BOUDIAS
A11: 7 | B11: CACHET | C11: OLIVIER | D11: M | E11: 24593 | F11: =(PRÉSENTATION!$F$11-E11)/365 -> 47.049315 | G11: MASTER 2 - RECH | I11: 35309 | J11: =((PRÉSENTATION!$F$11-I11)/365) -> 17.690411 | K11: Enseignant | L11: MATERNELLE | M11: FR | N11: 0.5 | O11: Sans | P11: NON | Q11: 38961 | R11: =(PRÉSENTATION!$F$11-Q11)/365 -> 7.6849315 | S11: 69 | T11: Résident | U11: 10 | V11: 41254 | W11: 40303 | X11: =(PRÉSENTATION!$F$11-W11)/365 -> 4.0082192 | Y11: 16.5 | Z11: 38991 | AA11: =(PRÉSENTATION!$F$11-Z11)/365 -> 7.6027397 | AC11: =(PRÉSENTATION!$F$11-AB11)/365 -> 114.4274 | AE11: =(PRÉSENTATION!$F$11-AD11)/365 -> 114.4274 | AF11: IUFM | AJ11: =SUM(AG11:AI11) -> 0 | AS11: =(PRÉSENTATION!$F$11-AR11)/365 -> 114.4274 | AV11: LANGUE MATER | AW11: C1 | AX11: NON | AY11: NON | AZ11: GS | BA11: 1 | BB11: =B11 -> CACHET
A12: 8 | B12: CANSADO | C12: AURELIE | D12: F | E12: 30115 | F12: =(PRÉSENTATION!$F$11-E12)/365 -> 31.920548 | G12: LICENCE | I12: 38596 | J12: =((PRÉSENTATION!$F$11-I12)/365) -> 8.6849315 | K12: Enseignant | L12: MATERNELLE | M12: FR | N12: Plein temps | O12: Sans | P12: NON | Q12: 40787 | R12: =(PRÉSENTATION!$F$11-Q12)/365 -> 2.6821918 | S12: 73 | T12: Résident | U12: 6 | V12: 40603 | W12: 40493 | X12: =(PRÉSENTATION!$F$11-W12)/365 -> 3.4876712 | Y12: 14 | Z12: 40664 | AA12: =(PRÉSENTATION!$F$11-Z12)/365 -> 3.0191781 | AC12: =(PRÉSENTATION!$F$11-AB12)/365 -> 114.4274 | AE12: =(PRÉSENTATION!$F$11-AD12)/365 -> 114.4274 | AF12: IUFM | AJ12: =SUM(AG12:AI12) -> 0 | AS12: =(PRÉSENTATION!$F$11-AR12)/365 -> 114.4274 | AV12: LANGUE MATER | AX12: NON | AY12: NON | AZ12: MS | BA12: 3 | BB12: =B12 -> CANSADO
A13: 9 | B13: CANTILLO | C13: PATRICIA | D13: F | E13: 21650 | F13: =(PRÉSENTATION!$F$11-E13)/365 -> 55.112329 | G13: BAC | J13: =((PRÉSENTATION!$F$11-I13)/365) -> 114.4274 | K13: Enseignant | L13: MATERNELLE | M13: FR | N13: Plein temps | O13: Sans | P13: NON | Q13: 34215 | R13: =(PRÉSENTATION!$F$11-Q13)/365 -> 20.687671 | T13: RL | X13: =(PRÉSENTATION!$F$11-W13)/365 -> 114.4274 | Z13: 41214 | AA13: =(PRÉSENTATION!$F$11-Z13)/365 -> 1.5123288 | AC13: =(PRÉSENTATION!$F$11-AB13)/365 -> 114.4274 | AE13: =(PRÉSENTATION!$F$11-AD13)/365 -> 114.4274 | AF13: Sans | AJ13: =SUM(AG13:AI13) -> 0 | AS13: =(PRÉSENTATION!$F$11-AR13)/365 -> 114.4274 | AV13: C2 | AW13: LANGUE MATER | AX13: NON | AY13: NON | AZ13: GS | BA13: 2 | BB13: =B13 -> CANTILLO
A14: 10 | B14: CASAÑAS | C14: LAURENT | D14: M | E14: 25885 | F14: =(PRÉSENTATION!$F$11-E14)/365 -> 43.509589 | G14: LICENCE | H14: CAFIPEMF | I14: 35674 | J14: =((PRÉSENTATION!$F$11-I14)/365) -> 16.690411 | K14: Directeur | L14: ELEMENTAIRE | N14: Plein temps | O14: 1 | P14: NON | Q14: 40787 | R14: =(PRÉSENTATION!$F$11-Q14)/365 -> 2.6821918 | S14: 94 | T14: Expatrié | U14: 10 | V14: 41214 | W14: 40722 | X14: =(PRÉSENTATION!$F$11-W14)/365 -> 2.860274 | Y14: 19.75 | AA14: =(PRÉSENTATION!$F$11-Z14)/365 -> 114.4274 | AC14: =(PRÉSENTATION!$F$11-AB14)/365 -> 114.4274 | AE14: =(PRÉSENTATION!$F$11-AD14)/365 -> 114.4274 | AF14: IUFM | AJ14: =SUM(AG14:AI14) -> 0 | AS14: =(PRÉSENTATION!$F$11-AR14)/365 -> 114.4274 | AV14: LANGUE MATER | AW14: C1 | AX14: NON | AY14: NON | BB14: =B14 -> CASAÑAS
A15: 11 | B15: CASAUX | C15: PHILIPPE | D15: M | E15: 30365 | F15: =(PRÉSENTATION!$F$11-E15)/365 -> 31.235616 | G15: MASTER 2 - PRO | J15: =((PRÉSENTATION!$F$11-I15)/365) -> 114.4274 | K15: Enseignant | L15: ELEMENTAIRE | M15: FR | N15: Plein temps | O15: Sans | P15: NON | Q15: 41153 | R15: =(PRÉSENTATION!$F$11-Q15)/365 -> 1.6794521 | T15: RL | X15: =(PRÉSENTATION!$F$11-W15)/365 -> 114.4274 | AA15: =(PRÉSENTATION!$F$11-Z15)/365 -> 114.4274 | AB15: 41671 | AC15: =(PRÉSENTATION!$F$11-AB15)/365 -> 0.26027397 | AD15: 41699 | AE15: =(PRÉSENTATION!$F$11-AD15)/365 -> 0.18356164 | AF15: AEM | AJ15: =SUM(AG15:AI15) -> 0 | AS15: =(PRÉSENTATION!$F$11-AR15)/365 -> 114.4274 | AV15: LANGUE MATER | AW15: C1 | AX15: NON | AY15: NON | AZ15: CM1 | BA15: 1 | BB15: =B15 -> CASAUX
A16: 12 | B16: CAVELIER | C16: PAULA | D16: F | E16: 26265 | F16: =(PRÉSENTATION!$F$11-E16)/365 -> 42.468493 | G16: LICENCE | J16: =((PRÉSENTATION!$F$11-I16)/365) -> 114.4274 | K16: Enseignant | L16: MATERNELLE | M16: FR | N16: Plein temps | O16: Sans | P16: NON | Q16: 36780 | R16: =(PRÉSENTATION!$F$11-Q16)/365 -> 13.660274 | T16: RL | W16: 40980 | X16: =(PRÉSENTATION!$F$11-W16)/365 -> 2.1534247 | Z16: 41395 | AA16: =(PRÉSENTATION!$F$11-Z16)/365 -> 1.0164384 | AC16: =(PRÉSENTATION!$F$11-AB16)/365 -> 114.4274 | AE16: =(PRÉSENTATION!$F$11-AD16)/365 -> 114.4274 | AF16: Sans | AJ16: =SUM(AG16:AI16) -> 0 | AS16: =(PRÉSENTATION!$F$11-AR16)/365 -> 114.4274 | AV16: LANGUE MATER | AW16: C2 | AX16: NON | AY16: NON | AZ16: MS | BA16: 4 | BB16: =B16 -> CAVELIER
A17: 13 | B17: CEPEDA | C17: CAROLINA | D17: F | E17: 29488 | F17: =(PRÉSENTATION!$F$11-E17)/365 -> 33.638356 | G17: BAC | J17: =((PRÉSENTATION!$F$11-I17)/365) -> 114.4274 | K17: Enseignant | L17: MATERNELLE | M17: FR | N17: Plein temps | O17: Sans | P17: NON | Q17: 39692 | R17: =(PRÉSENTATION!$F$11-Q17)/365 -> 5.6821918 | T17: RL | X17: =(PRÉSENTATION!$F$11-W17)/365 -> 114.4274 | AA17: =(PRÉSENTATION!$F$11-Z17)/365 -> 114.4274 | AB17: 40197 | AC17: =(PRÉSENTATION!$F$11-AB17)/365 -> 4.2986301 | AE17: =(PRÉSENTATION!$F$11-AD17)/365 -> 114.4274 | AF17: Sans | AJ17: =SUM(AG17:AI17) -> 0 | AS17: =(PRÉSENTATION!$F$11-AR17)/365 -> 114.4274 | AV17: C1 | AW17: LANGUE MATER | AX17: NON | AY17: NON | AZ17: PS | BA17: 2 | BB17: =B17 -> CEPEDA
A18: 14 | B18: CHARROTTON | C18: VINCENT | D18: M | E18: 27810 | F18: =(PRÉSENTATION!$F$11-E18)/365 -> 38.235616 | G18: LICENCE | J18: =((PRÉSENTATION!$F$11-I18)/365) -> 114.4274 | K18: Enseignant | L18: ELEMENTAIRE | M18: FR | N18: Plein temps | O18: Sans | P18: NON | Q18: 41518 | R18: =(PRÉSENTATION!$F$11-Q18)/365 -> 0.67945205 | T18: RL | X18: =(PRÉSENTATION!$F$11-W18)/365 -> 114.4274 | AA18: =(PRÉSENTATION!$F$11-Z18)/365 -> 114.4274 | AB18: 41671 | AC18: =(PRÉSENTATION!$F$11-AB18)/365 -> 0.26027397 | AD18: 41708 | AE18: =(PRÉSENTATION!$F$11-AD18)/365 -> 0.15890411 | AF18: AEM | AJ18: =SUM(AG18:AI18) -> 0 | AS18: =(PRÉSENTATION!$F$11-AR18)/365 -> 114.4274 | AV18: LANGUE MATER | AW18: C1 | AX18: NON | AY18: NON | AZ18: CE1 | BA18: 1 | BB18: =B18 -> CHARROTTON
A19: 15 | B19: CHAVES | C19: MARIAPAZ | D19: F | E19: 32646 | F19: =(PRÉSENTATION!$F$11-E19)/365 -> 24.986301 | G19: LICENCE | J19: =((PRÉSENTATION!$F$11-I19)/365) -> 114.4274 | K19: Enseignant | L19: ELEMENTAIRE | M19: ESP | N19: Plein temps | O19: Sans | P19: NON | R19: =(PRÉSENTATION!$F$11-Q19)/365 -> 114.4274 | T19: RL | X19: =(PRÉSENTATION!$F$11-W19)/365 -> 114.4274 | Z19: 40664 | AA19: =(PRÉSENTATION!$F$11-Z19)/365 -> 3.0191781 | AC19: =(PRÉSENTATION!$F$11-AB19)/365 -> 114.4274 | AE19: =(PRÉSENTATION!$F$11-AD19)/365 -> 114.4274 | AF19: Diplôme d'enseignement local | AJ19: =SUM(AG19:AI19) -> 0 | AS19: =(PRÉSENTATION!$F$11-AR19)/365 -> 114.4274 | AV19: A2 | AW19: LANGUE MATER | AX19: NON | AY19: NON | AZ19: PLUSIEURS | BB19: =B19 -> CHAVES
A20: 16 | B20: DES GROTTES | C20: JACQUES | D20: M | E20: 18477 | F20: =(PRÉSENTATION!$F$11-E20)/365 -> 63.805479 | G20: LICENCE | J20: =((PRÉSENTATION!$F$11-I20)/365) -> 114.4274 | K20: Enseignant | L20: ELEMENTAIRE | M20: FR | N20: Plein temps | O20: Sans | P20: NON | Q20: 35309 | R20: =(PRÉSENTATION!$F$11-Q20)/365 -> 17.690411 | T20: RL | W20: 39762 | X20: =(PRÉSENTATION!$F$11-W20)/365 -> 5.490411 | AA20: =(PRÉSENTATION!$F$11-Z20)/365 -> 114.4274 | AB20: 39874 | AC20: =(PRÉSENTATION!$F$11-AB20)/365 -> 5.1835616 | AE20: =(PRÉSENTATION!$F$11-AD20)/365 -> 114.4274 | AF20: Sans | AJ20: =SUM(AG20:AI20) -> 0 | AS20: =(PRÉSENTATION!$F$11-AR20)/365 -> 114.4274 | AV20: LANGUE MATER | AW20: C2 | AX20: NON | AY20: NON | AZ20: CM2 | BA20: 3 | BB20: =B20 -> DES GROTTES
A21: 17 | B21: DIAZ BELTRAN | C21: GINNA LIZETH | D21: F | E21: 30382 | F21: =(PRÉSENTATION!$F$11-E21)/365 -> 31.189041 | G21: LICENCE | J21: =((PRÉSENTATION!$F$11-I21)/365) -> 114.4274 | K21: Enseignant | L21: ELEMENTAIRE | M21: ESP | N21: Plein temps | O21: Sans | P21: NON | Q21: 41155 | R21: =(PRÉSENTATION!$F$11-Q21)/365 -> 1.6739726 | T21: RL | X21: =(PRÉSENTATION!$F$11-W21)/365 -> 114.4274 | AA21: =(PRÉSENTATION!$F$11-Z21)/365 -> 114.4274 | AC21: =(PRÉSENTATION!$F$11-AB21)/365 -> 114.4274 | AE21: =(PRÉSENTATION!$F$11-AD21)/365 -> 114.4274 | AF21: Diplôme d'enseignement local | AJ21: =SUM(AG21:AI21) -> 0 | AS21: =(PRÉSENTATION!$F$11-AR21)/365 -> 114.4274 | AV21: A2 | AW21: LANGUE MATER | AX21: NON | AY21: NON | AZ21: PLUSIEURS | BB21: =B21 -> DIAZ BELTRAN
A22: 18 | B22: DUDIT | C22: JOEL | D22: M | E22: 21630 | F22: =(PRÉSENTATION!$F$11-E22)/365 -> 55.167123 | G22: LICENCE | I22: 37135 | J22: =((PRÉSENTATION!$F$11-I22)/365) -> 12.687671 | K22: Enseignant | L22: ELEMENTAIRE | M22: FR | N22: Plein temps | O22: Heure syndicale | P22: NON | Q22: 37865 | R22: =(PRÉSENTATION!$F$11-Q22)/365 -> 10.687671 | S22: 973 | T22: Résident | U22: 8 | V22: 41334 | W22: 40982 | X22: =(PRÉSENTATION!$F$11-W22)/365 -> 2.1479452 | Y22: 15.5 | AA22: =(PRÉSENTATION!$F$11-Z22)/365 -> 114.4274 | AC22: =(PRÉSENTATION!$F$11-AB22)/365 -> 114.4274 | AE22: =(PRÉSENTATION!$F$11-AD22)/365 -> 114.4274 | AF22: IUFM | AJ22: =SUM(AG22:AI22) -> 0 | AS22: =(PRÉSENTATION!$F$11-AR22)/365 -> 114.4274 | AV22: LANGUE MATER | AW22: C1 | AX22: NON | AY22: NON | AZ22: CM2 | BA22: 7 | BB22: =B22 -> DUDIT
A23: 19 | B23: GREZE | C23: MICHEL | D23: M | E23: 22382 | F23: =(PRÉSENTATION!$F$11-E23)/365 -> 53.106849 | G23: LICENCE | I23: 31229 | J23: =((PRÉSENTATION!$F$11-I23)/365) -> 28.868493 | K23: Enseignant | L23: MATERNELLE | M23: FR | N23: Plein temps | O23: Sans | P23: NON | Q23: 34578 | R23: =(PRÉSENTATION!$F$11-Q23)/365 -> 19.693151 | S23: 92 | T23: Résident | U23: 11 | V23: 41426 | W23: 40872 | X23: =(PRÉSENTATION!$F$11-W23)/365 -> 2.4493151 | Y23: 19.5 | AA23: =(PRÉSENTATION!$F$11-Z23)/365 -> 114.4274 | AC23: =(PRÉSENTATION!$F$11-AB23)/365 -> 114.4274 | AE23: =(PRÉSENTATION!$F$11-AD23)/365 -> 114.4274 | AF23: IUFM | AJ23: =SUM(AG23:AI23) -> 0 | AS23: =(PRÉSENTATION!$F$11-AR23)/365 -> 114.4274 | AV23: LANGUE MATER | AW23: C1 | AX23: NON | AY23: NON | AZ23: GS | BA23: 10 | BB23: =B23 -> GREZE
A24: 20 | B24: HAUSS | C24: JEAN-PHILIPPE | D24: M | E24: 25095 | F24: =(PRÉSENTATION!$F$11-E24)/365 -> 45.673973 | G24: MASTER 1 | I24: 37500 | J24: =((PRÉSENTATION!$F$11-I24)/365) -> 11.687671 | K24: Enseignant | L24: ELEMENTAIRE | M24: FR | N24: Plein temps | O24: Sans | P24: NON | Q24: 39326 | R24: =(PRÉSENTATION!$F$11-Q24)/365 -> 6.6849315 | S24: 92 | T24: Résident | U24: 8 | V24: 40861 | W24: 40590 | X24: =(PRÉSENTATION!$F$11-W24)/365 -> 3.2219178 | Y24: 16 | Z24: 38113 | AA24: =(PRÉSENTATION!$F$11-Z24)/365 -> 10.008219 | AC24: =(PRÉSENTATION!$F$11-AB24)/365 -> 114.4274 | AE24: =(PRÉSENTATION!$F$11-AD24)/365 -> 114.4274 | AF24: IUFM | AJ24: =SUM(AG24:AI24) -> 0 | AS24: =(PRÉSENTATION!$F$11-AR24)/365 -> 114.4274 | AV24: LANGUE MATER | AW24: C1 | AX24: OUI | AY24: NON | AZ24: CM2 | BA24: 7 | BB24: =B24 -> HAUSS
A25: 21 | B25: JACQUEMONT | C25: JEAN-MICHEL | D25: M | E25: 21937 | F25: =(PRÉSENTATION!$F$11-E25)/365 -> 54.326027 | G25: BAC+2 | H25: CAFIPEMF | I25: 28512 | J25: =((PRÉSENTATION!$F$11-I25)/365) -> 36.312329 | K25: EMFE | L25: ELEMENTAIRE | M25: FR | N25: Plein temps | O25: 0.5 | P25: NON | Q25: 40422 | R25: =(PRÉSENTATION!$F$11-Q25)/365 -> 3.6821918 | S25: 38 | T25: Expatrié | U25: 10 | V25: 40422 | W25: 40200 | X25: =(PRÉSENTATION!$F$11-W25)/365 -> 4.290411 | Y25: 19.6 | AA25: =(PRÉSENTATION!$F$11-Z25)/365 -> 114.4274 | AC25: =(PRÉSENTATION!$F$11-AB25)/365 -> 114.4274 | AE25: =(PRÉSENTATION!$F$11-AD25)/365 -> 114.4274 | AF25: IUFM | AJ25: =SUM(AG25:AI25) -> 0 | AS25: =(PRÉSENTATION!$F$11-AR25)/365 -> 114.4274 | AV25: LANGUE MATER | AW25: C1 | AX25: OUI | AY25: NON | AZ25: CE1 | BA25: 3 | BB25: =B25 -> JACQUEMONT
A26: 22 | B26: JAFFRES | C26: VINCENT | D26: M | E26: 26591 | F26: =(PRÉSENTATION!$F$11-E26)/365 -> 41.575342 | G26: MASTER 1 | I26: 37135 | J26: =((PRÉSENTATION!$F$11-I26)/365) -> 12.687671 | K26: Enseignant | L26: MATERNELLE | M26: FR | N26: Plein temps | O26: Sans | P26: NON | Q26: 40787 | R26: =(PRÉSENTATION!$F$11-Q26)/365 -> 2.6821918 | S26: 93 | T26: Résident | U26: 8 | V26: 40727 | W26: 41311 | X26: =(PRÉSENTATION!$F$11-W26)/365 -> 1.2465753 | Y26: 17.5 | AA26: =(PRÉSENTATION!$F$11-Z26)/365 -> 114.4274 | AC26: =(PRÉSENTATION!$F$11-AB26)/365 -> 114.4274 | AE26: =(PRÉSENTATION!$F$11-AD26)/365 -> 114.4274 | AF26: IUFM | AJ26: =SUM(AG26:AI26) -> 0 | AS26: =(PRÉSENTATION!$F$11-AR26)/365 -> 114.4274 | AV26: LANGUE MATER | AW26: C1 | AX26: NON | AY26: NON | AZ26: MS | BA26: 3 | BB26: =B26 -> JAFFRES
A27: 23 | B27: LAFITTE | C27: EMMANUELLE | D27: F | E27: 26784 | F27: =(PRÉSENTATION!$F$11-E27)/365 -> 41.046575 | G27: LICENCE | I27: 36404 | J27: =((PRÉSENTATION!$F$11-I27)/365) -> 14.690411 | K27: Enseignant | L27: ELEMENTAIRE | M27: FR | N27: Plein temps | O27: Sans | P27: NON | Q27: 38596 | R27: =(PRÉSENTATION!$F$11-Q27)/365 -> 8.6849315 | S27: 45 | T27: Résident | U27: 9 | V27: 41505 | W27: 40304 | X27: =(PRÉSENTATION!$F$11-W27)/365 -> 4.0054795 | Y27: 16 | AA27: =(PRÉSENTATION!$F$11-Z27)/365 -> 114.4274 | AC27: =(PRÉSENTATION!$F$11-AB27)/365 -> 114.4274 | AE27: =(PRÉSENTATION!$F$11-AD27)/365 -> 114.4274 | AF27: IUFM | AJ27: =SUM(AG27:AI27) -> 0 | AS27: =(PRÉSENTATION!$F$11-AR27)/365 -> 114.4274 | AV27: LANGUE MATER | AW27: C1 | AX27: NON | AY27: NON | AZ27: CM1 | BA27: 4 | BB27: =B27 -> LAFITTE
A28: 24 | B28: LAIR | C28: GUENAELLE | D28: F | E28: 27766 | F28: =(PRÉSENTATION!$F$11-E28)/365 -> 38.356164 | G28: LICENCE | I28: 36770 | J28: =((PRÉSENTATION!$F$11-I28)/365) -> 13.687671 | K28: Enseignant | L28: MATERNELLE | M28: FR | N28: Plein temps | O28: Sans | P28: NON | Q28: 38596 | R28: =(PRÉSENTATION!$F$11-Q28)/365 -> 8.6849315 | S28: 30 | T28: Résident | U28: 8 | V28: 40638 | W28: 40330 | X28: =(PRÉSENTATION!$F$11-W28)/365 -> 3.9342466 | Y28: 16.75 | AA28: =(PRÉSENTATION!$F$11-Z28)/365 -> 114.4274 | AB28: 40081 | AC28: =(PRÉSENTATION!$F$11-AB28)/365 -> 4.6164384 | AE28: =(PRÉSENTATION!$F$11-AD28)/365 -> 114.4274 | AF28: IUFM | AJ28: =SUM(AG28:AI28) -> 0 | AS28: =(PRÉSENTATION!$F$11-AR28)/365 -> 114.4274 | AV28: LANGUE MATER | AW28: B2 | AX28: NON | AY28: NON | AZ28: GS | BA28: 6 | BB28: =B28 -> LAIR
A29: 25 | B29: LASSELIN | C29: JEROME | D29: M | E29: 29897 | F29: =(PRÉSENTATION!$F$11-E29)/365 -> 32.517808 | G29: LICENCE | J29: =((PRÉSENTATION!$F$11-I29)/365) -> 114.4274 | K29: Enseignant | L29: ELEMENTAIRE | M29: FR | N29: Plein temps | O29: Sans | P29: NON | Q29: 39692 | R29: =(PRÉSENTATION!$F$11-Q29)/365 -> 5.6821918 | T29: RL | X29: =(PRÉSENTATION!$F$11-W29)/365 -> 114.4274 | Z29: 41395 | AA29: =(PRÉSENTATION!$F$11-Z29)/365 -> 1.0164384 | AC29: =(PRÉSENTATION!$F$11-AB29)/365 -> 114.4274 | AE29: =(PRÉSENTATION!$F$11-AD29)/365 -> 114.4274 | AF29: Sans | AJ29: =SUM(AG29:AI29) -> 0 | AS29: =(PRÉSENTATION!$F$11-AR29)/365 -> 114.4274 | AV29: LANGUE MATER | AW29: C1 | AX29: NON | AY29: NON | AZ29: CM1 | BA29: 3 | BB29: =B29 -> LASSELIN
A30: 26 | B30: LE BLEVEC | C30: FABIENNE | D30: F | E30: 26410 | F30: =(PRÉSENTATION!$F$11-E30)/365 -> 42.071233 | G30: LICENCE | I30: 35309 | J30: =((PRÉSENTATION!$F$11-I30)/365) -> 17.690411 | K30: Enseignant | L30: ELEMENTAIRE | M30: FR | N30: Plein temps | O30: Sans | P30: NON | Q30: 37137 | R30: =(PRÉSENTATION!$F$11-Q30)/365 -> 12.682192 | S30: 21 | T30: Résident | U30: 10 | V30: 41000 | W30: 40589 | X30: =(PRÉSENTATION!$F$11-W30)/365 -> 3.2246575 | Y30: 18 | Z30: 35348 | AA30: =(PRÉSENTATION!$F$11-Z30)/365 -> 17.583562 | AC30: =(PRÉSENTATION!$F$11-AB30)/365 -> 114.4274 | AE30: =(PRÉSENTATION!$F$11-AD30)/365 -> 114.4274 | AF30: IUFM | AJ30: =SUM(AG30:AI30) -> 0 | AS30: =(PRÉSENTATION!$F$11-AR30)/365 -> 114.4274 | AV30: LANGUE MATER | AW30: C1 | AX30: NON | AY30: NON | AZ30: CM1 | BA30: 6 | BB30: =B30 -> LE BLEVEC
A31: 27 | B31: LE GUYADER | C31: MORGANE | D31: F | E31: 31134 | F31: =(PRÉSENTATION!$F$11-E31)/365 -> 29.128767 | G31: MASTER 2 - RECH | J31: =((PRÉSENTATION!$F$11-I31)/365) -> 114.4274 | K31: Enseignant | L31: PRIMAIRE | M31: FR | N31: Plein temps | O31: Sans | P31: NON | Q31: 41518 | R31: =(PRÉSENTATION!$F$11-Q31)/365 -> 0.67945205 | T31: RL | W31: 41612 | X31: =(PRÉSENTATION!$F$11-W31)/365 -> 0.42191781 | AA31: =(PRÉSENTATION!$F$11-Z31)/365 -> 114.4274 | AB31: 41528 | AC31: =(PRÉSENTATION!$F$11-AB31)/365 -> 0.65205479 | AE31: =(PRÉSENTATION!$F$11-AD31)/365 -> 114.4274 | AF31: AEM | AJ31: =SUM(AG31:AI31) -> 0 | AS31: =(PRÉSENTATION!$F$11-AR31)/365 -> 114.4274 | AV31: LANGUE MATER | AW31: C1 | AX31: NON | AY31: NON | AZ31: Autre | BB31: =B31 -> LE GUYADER
A32: 28 | B32: LOUZANNE | C32: SEBASTIEN | D32: M | E32: 25983 | F32: =(PRÉSENTATION!$F$11-E32)/365 -> 43.241096 | G32: LICENCE | J32: =((PRÉSENTATION!$F$11-I32)/365) -> 114.4274 | K32: Enseignant | L32: ELEMENTAIRE | M32: FR | N32: Plein temps | O32: Sans | P32: NON | Q32: 36411 | R32: =(PRÉSENTATION!$F$11-Q32)/365 -> 14.671233 | T32: RL | W32: 39765 | X32: =(PRÉSENTATION!$F$11-W32)/365 -> 5.4821918 | AA32: =(PRÉSENTATION!$F$11-Z32)/365 -> 114.4274 | AB32: 39493 | AC32: =(PRÉSENTATION!$F$11-AB32)/365 -> 6.2273973 | AE32: =(PRÉSENTATION!$F$11-AD32)/365 -> 114.4274 | AF32: AEM | AJ32: =SUM(AG32:AI32) -> 0 | AS32: =(PRÉSENTATION!$F$11-AR32)/365 -> 114.4274 | AV32: LANGUE MATER | AW32: C1 | AX32: OUI | AY32: NON | AZ32: CE2 | BA32: 14 | BB32: =B32 -> LOUZANNE
A33: 29 | B33: MAESTRI | C33: LYDIA | D33: F | E33: 28690 | F33: =(PRÉSENTATION!$F$11-E33)/365 -> 35.824658 | G33: MASTER 2 - PRO | J33: =((PRÉSENTATION!$F$11-I33)/365) -> 114.4274 | K33: Enseignant | L33: ELEMENTAIRE | M33: FR | N33: Plein temps | O33: Sans | P33: NON | Q33: 40787 | R33: =(PRÉSENTATION!$F$11-Q33)/365 -> 2.6821918 | T33: RL | X33: =(PRÉSENTATION!$F$11-W33)/365 -> 114.4274 | Z33: 40952 | AA33: =(PRÉSENTATION!$F$11-Z33)/365 -> 2.230137 | AC33: =(PRÉSENTATION!$F$11-AB33)/365 -> 114.4274 | AE33: =(PRÉSENTATION!$F$11-AD33)/365 -> 114.4274 | AF33: AEM | AJ33: =SUM(AG33:AI33) -> 0 | AS33: =(PRÉSENTATION!$F$11-AR33)/365 -> 114.4274 | AV33: LANGUE MATER | AW33: C1 | AX33: NON | AY33: NON | AZ33: CE1 | BA33: 3 | BB33: =B33 -> MAESTRI
A34: 30 | B34: MARTINEZ | C34: CLAUDIA | D34: F | E34: 26164 | F34: =(PRÉSENTATION!$F$11-E34)/365 -> 42.745205 | G34: MASTER 1 | J34: =((PRÉSENTATION!$F$11-I34)/365) -> 114.4274 | K34: Enseignant | L34: ELEMENTAIRE | M34: FR | N34: Plein temps | O34: Sans | P34: NON | Q34: 37137 | R34: =(PRÉSENTATION!$F$11-Q34)/365 -> 12.682192 | T34: RL | W34: 39731 | X34: =(PRÉSENTATION!$F$11-W34)/365 -> 5.5753425 | AA34: =(PRÉSENTATION!$F$11-Z34)/365 -> 114.4274 | AB34: 40672 | AC34: =(PRÉSENTATION!$F$11-AB34)/365 -> 2.9972603 | AE34: =(PRÉSENTATION!$F$11-AD34)/365 -> 114.4274 | AF34: Sans | AJ34: =SUM(AG34:AI34) -> 0 | AS34: =(PRÉSENTATION!$F$11-AR34)/365 -> 114.4274 | AV34: C2 | AW34: LANGUE MATER | AX34: NON | AY34: NON | AZ34: CE2 | BA34: 4 | BB34: =B34 -> MARTINEZ
A35: 31 | B35: MARTINEZ | C35: GLORIA | D35: F | E35: 24198 | F35: =(PRÉSENTATION!$F$11-E35)/365 -> 48.131507 | G35: MASTER 1 | J35: =((PRÉSENTATION!$F$11-I35)/365) -> 114.4274 | K35: Enseignant | L35: MATERNELLE | M35: ESP | N35: Plein temps | O35: Sans | P35: NON | Q35: 38961 | R35: =(PRÉSENTATION!$F$11-Q35)/365 -> 7.6849315 | T35: RL | X35: =(PRÉSENTATION!$F$11-W35)/365 -> 114.4274 | AA35: =(PRÉSENTATION!$F$11-Z35)/365 -> 114.4274 | AB35: 40616 | AC35: =(PRÉSENTATION!$F$11-AB35)/365 -> 3.1506849 | AE35: =(PRÉSENTATION!$F$11-AD35)/365 -> 114.4274 | AF35: Diplôme d'enseignement local | AJ35: =SUM(AG35:AI35) -> 0 | AS35: =(PRÉSENTATION!$F$11-AR35)/365 -> 114.4274 | AV35: A1 | AW35: LANGUE MATER | AX35: NON | AY35: NON | AZ35: MS | BB35: =B35 -> MARTINEZ
A36: 32 | B36: MATHIS | C36: CHRISTINE | D36: F | E36: 21933 | F36: =(PRÉSENTATION!$F$11-E36)/365 -> 54.336986 | G36: MASTER 1 | I36: 36039 | J36: =((PRÉSENTATION!$F$11-I36)/365) -> 15.690411 | K36: Enseignant | L36: ELEMENTAIRE | M36: FR | N36: Plein temps | O36: Sans | P36: NON | Q36: 40422 | R36: =(PRÉSENTATION!$F$11-Q36)/365 -> 3.6821918 | S36: 68 | T36: Résident | U36: 10 | V36: 38585 | W36: 40591 | X36: =(PRÉSENTATION!$F$11-W36)/365 -> 3.2191781 | Y36: 17.5 | AA36: =(PRÉSENTATION!$F$11-Z36)/365 -> 114.4274 | AB36: 40558 | AC36: =(PRÉSENTATION!$F$11-AB36)/365 -> 3.309589 | AE36: =(PRÉSENTATION!$F$11-AD36)/365 -> 114.4274 | AF36: IUFM | AJ36: =SUM(AG36:AI36) -> 0 | AS36: =(PRÉSENTATION!$F$11-AR36)/365 -> 114.4274 | AV36: LANGUE MATER | AW36: C1 | AX36: OUI | AY36: NON | AZ36: CE1 | BA36: 4 | BB36: =B36 -> MATHIS
A37: 33 | B37: MATTANA | C37: ANTOINE | D37: M | E37: 23631 | F37: =(PRÉSENTATION!$F$11-E37)/365 -> 49.684932 | G37: MASTER 1 | I37: 34578 | J37: =((PRÉSENTATION!$F$11-I37)/365) -> 19.693151 | K37: Enseignant | L37: ELEMENTAIRE | M37: FR | N37: Plein temps | O37: Sans | P37: NON | Q37: 35674 | R37: =(PRÉSENTATION!$F$11-Q37)/365 -> 16.690411 | S37: 62 | T37: Résident | U37: 11 | V37: 40884 | W37: 41309 | X37: =(PRÉSENTATION!$F$11-W37)/365 -> 1.2520548 | Y37: 18.5 | AA37: =(PRÉSENTATION!$F$11-Z37)/365 -> 114.4274 | AC37: =(PRÉSENTATION!$F$11-AB37)/365 -> 114.4274 | AE37: =(PRÉSENTATION!$F$11-AD37)/365 -> 114.4274 | AF37: IUFM | AJ37: =SUM(AG37:AI37) -> 0 | AS37: =(PRÉSENTATION!$F$11-AR37)/365 -> 114.4274 | AV37: LANGUE MATER | AW37: C1 | AX37: NON | AY37: NON | AZ37: CM2 | BA37: 1 | BB37: =B37 -> MATTANA
A38: 34 | B38: MAZUIR | C38: EVE | D38: F | E38: 28634 | F38: =(PRÉSENTATION!$F$11-E38)/365 -> 35.978082 | G38: LICENCE | H38: CAPA-SH | I38: 39995 | J38: =((PRÉSENTATION!$F$11-I38)/365) -> 4.8520548 | K38: Enseignant | L38: ELEMENTAIRE | M38: FR | N38: Plein temps | O38: Sans | P38: NON | Q38: 41518 | R38: =(PRÉSENTATION!$F$11-Q38)/365 -> 0.67945205 | S38: 6 | T38: Résident | U38: 4 | W38: 40726 | X38: =(PRÉSENTATION!$F$11-W38)/365 -> 2.8493151 | Y38: 13 | Z38: 40584 | AA38: =(PRÉSENTATION!$F$11-Z38)/365 -> 3.2383562 | AC38: =(PRÉSENTATION!$F$11-AB38)/365 -> 114.4274 | AE38: =(PRÉSENTATION!$F$11-AD38)/365 -> 114.4274 | AF38: IUFM | AJ38: =SUM(AG38:AI38) -> 0 | AS38: =(PRÉSENTATION!$F$11-AR38)/365 -> 114.4274 | AV38: LANGUE MATER | AW38: B1 | AX38: OUI | AY38: NON | AZ38: CP | BA38: 1 | BB38: =B38 -> MAZUIR
A39: 35 | B39: MEDINA | C39: ERIKA | D39: F | E39: 23876 | F39: =(PRÉSENTATION!$F$11-E39)/365 -> 49.013699 | G39: MASTER 2 - PRO | J39: =((PRÉSENTATION!$F$11-I39)/365) -> 114.4274 | K39: Enseignant | L39: MATERNELLE | M39: FR | N39: Plein temps | O39: Sans | P39: NON | Q39: 37264 | R39: =(PRÉSENTATION!$F$11-Q39)/365 -> 12.334247 | T39: RL | W39: 41003 | X39: =(PRÉSENTATION!$F$11-W39)/365 -> 2.090411 | AA39: =(PRÉSENTATION!$F$11-Z39)/365 -> 114.4274 | AB39: 40494 | AC39: =(PRÉSENTATION!$F$11-AB39)/365 -> 3.4849315 | AE39: =(PRÉSENTATION!$F$11-AD39)/365 -> 114.4274 | AF39: Sans | AJ39: =SUM(AG39:AI39) -> 0 | AS39: =(PRÉSENTATION!$F$11-AR39)/365 -> 114.4274 | AV39: C1 | AW39: LANGUE MATER | AX39: NON | AY39: NON | AZ39: GS | BA39: 4 | BB39: =B39 -> MEDINA
A40: 36 | B40: MEJIA LOPEZ | C40: CATALINA | D40: F | E40: 27471 | F40: =(PRÉSENTATION!$F$11-E40)/365 -> 39.164384 | G40: MASTER 2 - PRO | J40: =((PRÉSENTATION!$F$11-I40)/365) -> 114.4274 | K40: Enseignant | L40: ELEMENTAIRE | M40: MUS | N40: Plein temps | O40: Sans | P40: NON | Q40: 40422 | R40: =(PRÉSENTATION!$F$11-Q40)/365 -> 3.6821918 | T40: RL | X40: =(PRÉSENTATION!$F$11-W40)/365 -> 114.4274 | AA40: =(PRÉSENTATION!$F$11-Z40)/365 -> 114.4274 | AB40: 40943 | AC40: =(PRÉSENTATION!$F$11-AB40)/365 -> 2.2547945 | AE40: =(PRÉSENTATION!$F$11-AD40)/365 -> 114.4274 | AF40: Diplôme d'enseignement local | AJ40: =SUM(AG40:AI40) -> 0 | AS40: =(PRÉSENTATION!$F$11-AR40)/365 -> 114.4274 | AV40: A1 | AW40: LANGUE MATER | AX40: NON | AY40: NON | AZ40: PLUSIEURS | BA40: 4 | BB40: =B40 -> MEJIA LOPEZ
...

Sheet PARAMETRES
A1: ZONE | B1: MUTUALISATEUR | C1: PAYS | D1: VILLE | E1: ETABLISSEMENT | F1: Dépt | G1: FORMATION | H1: ANCIENNETÉ | I1: HEURES | J1: NOMBRE | K1: ACCIDENT | L1: SALLES
A2: AFRIQUE CENTRALE | B2: LA FONTAINE - NIAMEY | C2: BRESIL | D2: ASSOMPTION | E2: COLLEGE JULES VERNE | F2: 1 | G2: 0 | H2: 1 | I2: 45 | J2: 0 | K2: 0 | L2: 1
A3: AFRIQUE OCCIDENTALE | B3: JEAN MERMOZ - DAKAR | C3: COLOMBIE | D3: BOGOTA | E3: ECOLE FRANÇAISE NATAL | F3: 2 | G3: 0.3 | H3: 2 | I3: 44 | J3: 1 | K3: 1 | L3: 2
A4: AFRIQUE ORIENTALE | B4: GUEBRE-MARIAM - ADDIS ABEBA | C4: COSTA-RICA | D4: BRASILIA | E4: ECOLE JOSEPH DE JUSSIEU | F4: 3 | G4: 0.5 | H4: 3 | I4: 43 | J4: 2 | K4: 2 | L4: 3
A5: AFRIQUE AUSTRALE ET OCEAN INDIEN | B5: JULES VERNES - JOHANNESBURG | C5: EQUATEUR | D5: CALI | E5: ECOLE RENAULT | F5: 4 | G5: 1 | H5: 4 | I5: 42 | J5: 3 | K5: 3 | L5: 4
A6: AMCECA | B6: ANTOINE ET CONSUELO DE ST EXUPERY - EL SALVADOR | C6: PARAGUAY | D6: CARACAS | E6: LYCÉE FRANÇAIS DE CARACAS | F6: 5 | G6: 2 | H6: 5 | I6: 41 | J6: 4 | K6: 4 | L6: 5
A7: AMERIQUE DU NORD | B7: CLAUDEL - OTTAWA | C7: VENEZUELA | D7: CIUDAD DEL ESTE | E7: LYCÉE FRANÇAIS DE PEREIRA | F7: 6 | G7: 3 | H7: 6 | I7: 40 | J7: 5 | K7: 5 | L7: 6
A8: AMSUD | B8: LOUIS PASTEUR - BOGOTA | D8: CUENCA | E8: LYCÉE FRANCO-COSTARICIEN | F8: 7 | G8: 4 | H8: 7 | I8: 39 | J8: 6 | K8: 6 | L8: 7
A9: AMSUCA | B9: JEAN MERMOZ - BUENOS AIRES | C9: SEXE | D9: CURUTIBA | E9: LYCÉE LA CONDAMINE | F9: 8 | G9: 5 | H9: 8 | I9: 38 | J9: 7 | K9: 7 | L9: 8
A10: ASIE PACIFIQUE | B10: INTERNATIONAL - PEKIN | C10: M | D10: NATAL | E10: LYCÉE LOUIS PASTEUR | F10: 9 | G10: 6 | H10: 9 | I10: 37 | J10: 8 | K10: 8 | L10: 9
A11: EUROPE CENTRALE | B11: JEAN RENOIR - MUNICH | C11: F | D11: PEREIRA | E11: LYCÉE MARCEL PAGNOL | F11: 10 | G11: 7 | H11: 10 | I11: 36 | J11: 9 | K11: 9 | L11: 10
A12: EUROPE DU NORD OUEST | B12: JEAN MONNET - BRUXELLES | D12: ASSOMPTION | E12: LYCÉE MOLIERE | F12: 11 | G12: 8 | H12: 11 | I12: 35 | J12: 10 | K12: 10 | L12: 11
A13: EUROPE DU SUD EST | B13: CHATEAUBRIAND - ROME | C13: OUI | D13: BOGOTA | E13: LYCÉE PASTEUR | F13: 12 | G13: 9 | H13: 12 | I13: 34 | J13: > 10 | K13: 11 | L13: 12
A14: EUROPE IBERIQUE | B14: LF - BARCELONE | C14: NON | D14: BRASILIA | E14: LYCÉE PAUL VALERY | F14: 13 | G14: 10 | H14: 13 | I14: 33 | K14: 12 | L14: 13
A15: EUROPE ORIENTALE ET SCANDINAVIE | B15: LF - PRAGUE | D15: CALI | E15: LYCÉEE FRANÇOIS MITTERRAND | F15: 14 | G15: 11 | H15: 14 | I15: 32 | J15: DISCIP | K15: 13 | L15: 14
A16: MADAGASCAR COMORES | B16: LF TANANARIVE | C16: DISCIPLINE | F16: 15 | G16: 12 | H16: 15 | I16: 31 | J16: ESP | K16: 14 | L16: 15
A17: MAGHREB EST - MAGHREK | B17: PIERRE-MENDES-France - TUNIS | C17: FR | D17: HORAIRE | E17: CATEGORIE | F17: 16 | G17: 13 | H17: 16 | I17: 30 | J17: BRE | K17: 15 | L17: 16
A18: MAROC | B18: DESCARTES - RABAT | C18: ESP | D18: Plein temps | E18: CONVENTIONNE | F18: 17 | G18: 14 | H18: 17 | I18: 29 | J18: ANGL | K18: 16 | L18: 17
A19: MOYEN ORIENT ET PENINSULE INDIENNE | B19: LOUIS-MASSIGNON - ABU DHABI | C19: BRE | D19: 0.75 | E19: GESTION DIRECTE | F19: 18 | G19: 15 | H19: 18 | I19: 28 | J19: MUS | K19: 17 | L19: 18
A20: PROCHE ORIENT | B20: FRANCO-LIBANAIS - BEYROUTH | C20: ANGL | D20: 0.5 | E20: HOMOLOGUE | F20: 19 | G20: 16 | H20: 19 | I20: 27 | J20: EPS | K20: 18 | L20: 19
C21: MUS | D21: 0.25 | F21: 20 | G21: 17 | H21: 20 | I21: 26 | J21: ARTS VISUELS | K21: 19 | L21: 20
A22: DIRECTEUR | B22: PE | C22: EPS | D22: Disponibilité | E22: DIPLÔME uni | F22: 21 | G22: 18 | H22: 21 | I22: 25 | J22: AUTRE | K22: 20 | L22: 21
A23: Directeur maternelle | B23: AXE 1 : | C23: CAL | D23: Autre | E23: BAC | F23: 22 | G23: 19 | H23: 22 | I23: 24 | K23: 21 | L23: 22
A24: Directeur élémentaire | B24: AXE 2 : | C24: ARTS VISUELS | D24: ECHELON | E24: BAC+2 | F24: 23 | G24: 20 | H24: 23 | I24: 23 | J24: OUI | K24: 22 | L24: 23
A25: Directeur primaire | B25: AXE 3 : | C25: AUTRE | D25: 4 | E25: LICENCE | F25: 24 | G25: 21 | H25: 24 | I25: 22 | J25: NON | K25: 23 | L25: 24
B26: AXE 4 : | C26: CERL | D26: 5 | E26: MASTER 1 | F26: 25 | G26: 22 | H26: 25 | I26: 21 | J26: MUTUALISE | K26: 24 | L26: 25
A27: FONCTION | B27: AXE 5 : | C27: A1 | D27: 6 | E27: MASTER 2 - PRO | F27: 26 | G27: 23 | I27: 20 | K27: 25 | L27: 26
A28: Adjoint au Directeur | B28: AXE TRANSVERSAL 1 : | C28: A2 | D28: 7 | E28: MASTER 2 - RECH | F28: 27 | G28: 24 | H28: TPENSEI | I28: 19 | K28: 26 | L28: 27
A29: Directeur | B29: AXE TRANSVERSAL 2 : | C29: B1 | D29: 8 | E29: DOCTORAT | F29: 28 | G29: 25 | H29: 0.5 | I29: 18 | K29: 27 | L29: 28
A30: EMFE | B30: AXE TRANSVERSAL 3 : | C30: B2 | D30: 9 | F30: 29 | G30: 26 | H30: 1 | I30: 17 | K30: 28 | L30: 29
A31: Enseignant | B31: AXE TRANSVERSAL 4 : | C31: C1 | D31: 10 | E31: DIPLÔME pro | F31: 30 | G31: 27 | H31: 1.5 | I31: 16 | K31: 29 | L31: 30
A32: Remplaçant | C32: C2 | D32: 11 | E32: CAFIPEMF | F32: 31 | G32: 28 | H32: 2 | I32: 15 | K32: 30 | L32: 31
B33: ECOLE | C33: LANGUE MATER | D33: 2 HC | E33: CAPSAIS | F33: 32 | G33: 29 | H33: 2.5 | I33: 14 | K33: > 30 | L33: 32
A34: STATUT | B34: MATERNELLE | C34: ABSENTEISME | D34: 3 HC | E34: CAPA-SH | F34: 33 | G34: 30 | H34: 3 | I34: 13 | L34: 33
A35: RL | B35: ELEMENTAIRE | C35: 0 | D35: 4 HC | F35: 34 | G35: 31 | H35: 3.5 | I35: 12 | L35: 34
A36: Résident | B36: PRIMAIRE | C36: 0.5 | D36: 5 HC | E36: CLASSE | F36: 35 | G36: 32 | H36: 4 | I36: 11 | L36: 35
A37: TNR | C37: 1 | D37: 6 HC | E37: TPS | F37: 36 | G37: 33 | H37: 4.5 | I37: 10 | L37: 36
A38: TNR privé | B38: DECHARGE | C38: 1.5 | D38: 7 HC | E38: PS | F38: 37 | G38: 34 | H38: 5 | I38: 9 | L38: 37
A39: Expatrié | B39: 0.25 | C39: 2 | E39: MS | F39: 38 | G39: 35 | I39: 8 | L39: 38
B40: 0.5 | C40: 2.5 | D40: PRF | E40: GS | F40: 39 | G40: 36 | H40: LENSEI | I40: 7 | L40: 39
...
